{"text_format":"2","workbook":"xlsx","n_sheets":13,"sheets":["Indice","B-1PESEM","B-2 PEI","B-3 FISICO","B-4 FINANCIERO","B-5 TAREAS","B-6 ARTIC TAREAS PLANES","Hoja1","Hoja2","Hoja3","Flujo Form","Flujo Eval","Hoja4"],"not_rendered":{"charts":0,"images":0,"macros":0,"external_links":0,"defined_names":14,"comments":2,"pivot_tables":0},"unopened":[],"bounds":{"document_bytes":16777216,"sheet_cells":100000,"run_cost":"one","rows_first":2000,"rows_last":500,"rows_between":2000,"halvings":0,"cell_chars":16384,"cell_head_chars":4096},"cells_cut":0,"cells_raw":0,"read":"whole","date_system":"1900"}

{"sheet":"Indice","index":0,"n_rows":5,"n_cols":2,"rows_kept":5,"cut":false,"hidden":false,"merged":[]}
["Matriz de Articulación de Planes","ANEXO B-1"]
["Matriz del Pla Estratégico Institucional","ANEXO B-2"]
["Matriz de Articulación del POI con Metas Física a nivel de Actividad","ANEXO B-3"]
["Matriz de Articulación del POI con Metas Financiaras a nivel de Actividad","ANEXO B-4"]
["Matriz de Articulación del POI con Metas Física y Financieras a nivel de Tareas","ANEXO B-5"]

{"sheet":"B-1PESEM","index":1,"n_rows":8,"n_cols":9,"rows_kept":8,"cut":false,"hidden":false,"merged":[[2,6,2,8],[0,0,0,8],[4,0,7,0],[4,1,7,1],[4,2,7,2],[6,5,7,5],[4,3,5,3],[4,4,5,4],[4,5,5,5],[2,0,2,2],[2,3,2,5],[1,0,1,8]]}
["Anexo B-1"]
["Matriz de Articulación de Planes"]
["Objetivo Estratégico Sectorial",null,null," Acción Estratégica Sectorial",null,null," Objetivo Estratégico Institucional"]
["Codigo","Enunciado","Indicador","Codigo","Enunciado","Indicador","Codigo","Enunciado","Indicador"]
["OES.02","Ampliar la cobertura de aseguramiento para la protección en salud de la población","Porcentaje de\nPoblación\nafiliada a un\nseguro de\nsalud","AES.02.01","Incrementar la cobertura de aseguramiento público de la población","Porcentaje de población afiliada al SIS ","OEI 1","Incrementar la cobertura de la población objetivo del SIS.","Porcentaje de asegurados al SIS que presentaron un reclamo por limitaciones de la cobertura del seguro."]
[{"$nulls":6},"OEI 2","Reducir los riesgos técnicos y financieros de la prestación de planes y productos para el asegurado ","Porcentaje de prestaciones de salud reportadas que resultaron ser financiados por el SIS"]
[null,null,null,"AES.02.02","Modernizar la gestión de los servicios de salud","Porcentaje de personas que acuden a establecimientos de salud y reciben servicios de salud ","OEI 3","Mejorar la gestión del financiamiento de las prestaciones aprobadas para la atención del asegurado a","Porcentaje de producción financiada con recursos administrados por el SIS respecto a la producción total valorizada."]
[null,null,null,"AES.02.03","Generar capacidades para el desarrollo e, implantación de tecnologías, investigacíón e información sanitaria.",null,"OEI 4","Mejorar la eficacia y eficiencia de los procesos de gestión institucional.","Porcentaje de procesos priorizados certificados en el marco del Sistema de Gestión de la Calidad."]

{"sheet":"B-2 PEI","index":2,"n_rows":18,"n_cols":14,"rows_kept":18,"cut":false,"hidden":false,"merged":[[0,0,0,13],[1,6,1,7],[1,8,1,9],[1,10,1,12],[1,13,2,13],[1,2,2,2],[1,3,2,3],[1,4,2,4],[1,5,2,5],[1,0,1,1]]}
["Anexo B-2\nMatriz del Plan Estratégico Institucional"]
["OEI/AEI",null,"Nombre del Indicador","Formula del Indicador","Fuente de Datos","Tipo de Indciador","Linea Base",null,"Valor actual",null,"Logros Esperados",null,null,"Responsable"]
["Codigo","Enunciado",{"$nulls":4},"Año","Valor","Año","Valor",2017,2018,2019]
["OEI 1","Incrementar la cobertura de la población objetivo del SIS.","Porcentaje de asegurados al SIS que presentaron un reclamo por limitaciones de la cobertura del seguro.","N° de reclamos relacionados a cobertura de seguro / Numero total de reclamos presentados.","Base de datos de las GMR y la GA.","Resultado",2015,"ND",2016,0.14799999999999999,0.15,0.12,0.1,"G A"]
["AEI 1.1","Afiliación al SIS incrementada en la población objetivo.","Porcentaje de población objetivo asegurada al SIS","N° de personas afiliadas al SIS / Total de población objetivo del SIS","Registro de afiliados al AUS. Base de datos SIS.","Producto",2015,0.76,2016,0.78,0.8,0.82,0.84,"G A"]
["AEI 1.2","Mecanismos de protección de derechos optimizados","Porcentaje de asegurados que consideran resuelta su solicitud de atención.","N° de asegurados encuestados que consideran resuelta su solicitud / Total de encuestados que realizan una solicitud.","Encuesta Nacional del asegurados en OAAs.","Producto",2015,"ND",2016,"ND",0.85,0.9,0.95,"G A"]
["OEI 2","Reducir los riesgos técnicos y financieros de la prestación de planes y productos para el asegurado ","Porcentaje de prestaciones de salud reportadas que resultaron ser financiados por el SIS","Prestaciones de salud financiadas por el SIS / Total deprestaciones de salud reportadas al SIS","Modulo SME, PCPP, BD SIASIS","Producto",2016,"ND",2016,"ND",0.97499999999999998,0.95499999999999996,0.92,"GNF"]
["AEI 2.1","Control técnico y financiero de las prestaciones médicas valorizadas incrementado a los establecimientos de salud.","Porcentaje de prestaciones médicas valorizadas con auditoria médica y financiera","N° de prest. médicas valorizadas con auditoria méd/financ / Total de prestaciones medicas valorizadas.","BD SIS","Producto",2016,"ND",2017,"ND",0.05,0.1,0.2,"GNF"]
["AEI 2.2","Auditoria médica y financiera optimizada a los establecimientos de salud.","Porcentaje de prestaciones médicas auditadas con observaciones","N° de prest. médicas auditadas con PCPP y Control recurrente con observación / Total de prestaciones medicas auditadas.","Base de datos SIS.","Producción",2016,"ND",2017,"ND",0.5,0.45,0.4,"GREP"]
["OEI 3","Mejorar la gestión del financiamiento de las prestaciones aprobadas para la atención del asegurado a","Porcentaje de producción financiada con recursos administrados por el SIS respecto a la producción total valorizada.","Producción financiada por recursos auditados por el ISIS / Producción total valorizada.","DB SIS, Informe GNF","Producto",2016,"ND",2017,"ND",0.8,0.9,1,"GNF"]
["AEI 3.1","Financiamiento del SIS incrementado por Recursos Directamente Recaudados.","Porcentaje de recursos administrados por el SIS que han sido recaudados directamente.","Recursos Directamente Recaudados / Recursos Administrados por el SIS","Base de datos del MEF. Reporte de tesorería del SIS.","Producto",2015,"ND",2016,3.0000000000000001E-3,0.01,0.04,0.06,"GNF"]
["AEI 3.2","Recursos del SIS transferidos orientados al financiamiento de reposición de medicamentos e insumos.","Porcentaje de los recursos transferidos por el SIS destinados a la reposición de medicamentos e insumos.","Recursos transferidos para reposición / Total de recursos transferidos.","BD SIS","Producto",2015,"ND",2016,0.59199999999999997,0.75,0.77,0.8,"GNF"]
["AEI 3.3","Mecanismos de compra de servicios de salud optimizados para la atención del asegurado al SIS.","Porcentaje de población SIS adscrita a los establecimientos de salud atendidos en atención primaria.","N° de atendidos en Atención Primaria / Total de asegurados SIS.","Base de datos del SIS","Producción",2015,"ND",2016,"ND",0.45,0.5,0.6,"GREP"]
["OEI 4","Mejorar la eficacia y eficiencia de los procesos de gestión institucional.","Porcentaje de procesos priorizados certificados en el marco del Sistema de Gestión de la Calidad.","N° de procesos priorizados con certificación ISO 9001 / Total de procesos priorizados","Certificación ISO 9001:2015","Resultado",2015,0,2016,0,0.3,0.7,0.9,"OGPPDO"]
["AEI 4.1","Fortalecer la organización orientado al desarrollo de las funciones de un asegurador público eficiente, eficaz y con un enfoque de procesos.","Porcentaje de procesos priorizados de nivel 3 implementados.","N° de proceso nivel 3 identificados y aprobados / Total de procesos identificados nivel 3.","Documentos resolutivos","Producto",2015,0,2016,0,0.5,0.8,0.9,"OGPPDO"]
["AEI 4.2","Mejorar la calidad y seguridad de los sistemas de información del SISI a través de su informatización e integración.","Porcentaje de sistemas de información informatizados e integrados.","N° de sistemas informáticos informatizados, integrados y/o mejorados / Total de sistemas de información identificados para ser Informatizados, integrados y/o mejorados","Plan operativo informatico.","Producto",2015,"ND",2016,"ND",0.3,0.4,0.6,"OGTI"]
["AEI 4.3","Fortalecer la comunicación estratégica institucional","Porcentaje de encuestados que reconocen al SIS como asegurador público.","N° de encuestados que reconocen al SIS como asegurador publico / Total de encuestados.","Encuesta de los asegurados del SIS","Resultado",2015,"ND",2016,"ND",0.4,0.42,0.44,"OGIIT"]
["AEI 4.4","Mejorar la satisfacción aboral del personal del SIS.","Índice de clima laboral.","Indice de clima laboral.","Encuesta de clima laboral.","Producto",2015,"ND",2016,"ND",0.6,0.65,0.7,"OGAR"]

{"sheet":"B-3 FISICO","index":3,"n_rows":701,"n_cols":19,"rows_kept":701,"cut":false,"hidden":false,"merged":[[0,0,0,18],[1,11,1,18],[2,11,2,18],[4,3,5,3],[4,4,5,4],[4,5,5,5],[4,6,4,17],[4,18,5,18],[4,0,5,2]]}
["ANEXO B-3  Matriz de Articulación del POI con Metas Física a nivel de Actividad"]
["Periodo PEI : 2017 - 2019",{"$nulls":10},"Nivel de Gobierno : E - GOBIERNO NACIONAL"]
["Sector : 11 - SALUD",{"$nulls":10},"Pliego : 135 - SEGURO INTEGRAL DE SALUD"]
["Unidad Ejecutora : 001091 - SEGURO INTEGRAL DE SALUD"]
["OEI/AEI/CC/ COD_AO",null,null,"DESCRIPCIÓN DE ACTIVIDAD OPERATIVA","U.M.","S/.","PROGRAMACION",{"$nulls":11},"Meta Fisica Anual"]
[{"$nulls":6},"ENE","FEB","MAR","ABR","MAY","JUN","JUL","AGO","SET","OCT","NOV","DIC"]
[null,"01.01 - JEFATURA"]
["OEI.04 Mejorar la eficacia y eficiencia de los procesos de gestión instituciona"]
[null,"AEI.04.01 Fortalecer la organización orientándola al desarrollo de las funciones de un asegurador público eficiente, eficaz y con enfoque de procesos."]
[null,null,"18AO110921692","Efectuar acciones diversas de gestión institucional","INFORME",{"$f":"+SUM('B-5 TAREAS'!E10:E13)","v":236708},{"$f":"+SUM('B-5 TAREAS'!F10:F13)","v":1},{"$f":"+SUM('B-5 TAREAS'!G10:G13)","v":2},{"$f":"+SUM('B-5 TAREAS'!H10:H13)","v":3},{"$f":"+SUM('B-5 TAREAS'!I10:I13)","v":1},{"$f":"+SUM('B-5 TAREAS'!J10:J13)","v":1},{"$f":"+SUM('B-5 TAREAS'!K10:K13)","v":3},{"$f":"+SUM('B-5 TAREAS'!L10:L13)","v":1},{"$f":"+SUM('B-5 TAREAS'!M10:M13)","v":1},{"$f":"+SUM('B-5 TAREAS'!N10:N13)","v":3},{"$f":"+SUM('B-5 TAREAS'!O10:O13)","v":1},{"$f":"+SUM('B-5 TAREAS'!P10:P13)","v":1},{"$f":"+SUM('B-5 TAREAS'!Q10:Q13)","v":5},{"$f":"SUM(G10:R10)","v":23}]
[null,"01.02.01 - SECRETARIA GENERAL"]
["OEI.04 Mejorar la eficacia y eficiencia de los procesos de gestión instituciona"]
[null,"AEI.04.01 Fortalecer la organización orientándola al desarrollo de las funciones de un asegurador público eficiente, eficaz y con enfoque de procesos."]
[null,null,"18AO110920381","Desarrollar acciones diversas de gestión","INFORME",{"$f":"+SUM('B-5 TAREAS'!E17:E21)","v":971697},{"$f":"+SUM('B-5 TAREAS'!F17:F21)","v":3576},{"$f":"+SUM('B-5 TAREAS'!G17:G21)","v":3576},{"$f":"+SUM('B-5 TAREAS'!H17:H21)","v":3578},{"$f":"+SUM('B-5 TAREAS'!I17:I21)","v":3576},{"$f":"+SUM('B-5 TAREAS'!J17:J21)","v":3577},{"$f":"+SUM('B-5 TAREAS'!K17:K21)","v":3578},{"$f":"+SUM('B-5 TAREAS'!L17:L21)","v":3577},{"$f":"+SUM('B-5 TAREAS'!M17:M21)","v":3576},{"$f":"+SUM('B-5 TAREAS'!N17:N21)","v":3578},{"$f":"+SUM('B-5 TAREAS'!O17:O21)","v":6502},{"$f":"+SUM('B-5 TAREAS'!P17:P21)","v":6502},{"$f":"+SUM('B-5 TAREAS'!Q17:Q21)","v":6502},{"$f":"SUM(G14:R14)","v":51698}]
[null,null,"18AO111149643","Hacer seguimiento a la ejecución del Plan de Integridad y Lucha anti corrupción","INFORME",{"$f":"+SUM('B-5 TAREAS'!E22:E31)","v":12960},{"$f":"+SUM('B-5 TAREAS'!F22:F31)","v":0},{"$f":"+SUM('B-5 TAREAS'!G22:G31)","v":0},{"$f":"+SUM('B-5 TAREAS'!H22:H31)","v":0},{"$f":"+SUM('B-5 TAREAS'!I22:I31)","v":0},{"$f":"+SUM('B-5 TAREAS'!J22:J31)","v":0},{"$f":"+SUM('B-5 TAREAS'!K22:K31)","v":0},{"$f":"+SUM('B-5 TAREAS'!L22:L31)","v":0},{"$f":"+SUM('B-5 TAREAS'!M22:M31)","v":0},{"$f":"+SUM('B-5 TAREAS'!N22:N31)","v":0},{"$f":"+SUM('B-5 TAREAS'!O22:O31)","v":1},{"$f":"+SUM('B-5 TAREAS'!P22:P31)","v":5},{"$f":"+SUM('B-5 TAREAS'!Q22:Q31)","v":10},{"$f":"SUM(G15:R15)","v":16}]
[null,null,"18AO110921680","Realizar acciones de gestión de gestión documentaria y archivo","INFORME",{"$f":"+SUM('B-5 TAREAS'!E32:E33)","v":242961.39805166941},{"$f":"+SUM('B-5 TAREAS'!F32:F33)","v":1},{"$f":"+SUM('B-5 TAREAS'!G32:G33)","v":1},{"$f":"+SUM('B-5 TAREAS'!H32:H33)","v":1},{"$f":"+SUM('B-5 TAREAS'!I32:I33)","v":1},{"$f":"+SUM('B-5 TAREAS'!J32:J33)","v":1},{"$f":"+SUM('B-5 TAREAS'!K32:K33)","v":1},{"$f":"+SUM('B-5 TAREAS'!L32:L33)","v":1},{"$f":"+SUM('B-5 TAREAS'!M32:M33)","v":1},{"$f":"+SUM('B-5 TAREAS'!N32:N33)","v":1},{"$f":"+SUM('B-5 TAREAS'!O32:O33)","v":0},{"$f":"+SUM('B-5 TAREAS'!P32:P33)","v":0},{"$f":"+SUM('B-5 TAREAS'!Q32:Q33)","v":0},{"$f":"SUM(G16:R16)","v":9}]
[null,"02.01 - ORGANO DE CONTROL INSTITUCIONAL"]
["OEI.04 Mejorar la eficacia y eficiencia de los procesos de gestión instituciona"]
[null,"AEI.04.01 Fortalecer la organización orientándola al desarrollo de las funciones de un asegurador público eficiente, eficaz y con enfoque de procesos."]
[null,null,"18AO111142739","Desarrollar el control institucional","INFORME",{"$f":"+SUM('B-5 TAREAS'!E37:E43)","v":79338},{"$f":"+SUM('B-5 TAREAS'!F37:F43)","v":3},{"$f":"+SUM('B-5 TAREAS'!G37:G43)","v":9},{"$f":"+SUM('B-5 TAREAS'!H37:H43)","v":5},{"$f":"+SUM('B-5 TAREAS'!I37:I43)","v":4},{"$f":"+SUM('B-5 TAREAS'!J37:J43)","v":9},{"$f":"+SUM('B-5 TAREAS'!K37:K43)","v":7},{"$f":"+SUM('B-5 TAREAS'!L37:L43)","v":4},{"$f":"+SUM('B-5 TAREAS'!M37:M43)","v":8},{"$f":"+SUM('B-5 TAREAS'!N37:N43)","v":5},{"$f":"+SUM('B-5 TAREAS'!O37:O43)","v":6},{"$f":"+SUM('B-5 TAREAS'!P37:P43)","v":9},{"$f":"+SUM('B-5 TAREAS'!Q37:Q43)","v":4},{"$f":"SUM(G20:R20)","v":73}]
[null,"03.01 - OFICINA GENERAL DE PLANEAMIENTO, PRESUPUESTO Y DESARROLLO ORGANIZACIONAL"]
["OEI.04 Mejorar la eficacia y eficiencia de los procesos de gestión instituciona"]
[null,"AEI.04.01 Fortalecer la organización orientándola al desarrollo de las funciones de un asegurador público eficiente, eficaz y con enfoque de procesos."]
[null,null,"18AO111141933","Coordinar, supervisar y evaluar el sistema de modernización de la gestión pública","INFORME",{"$f":"+SUM('B-5 TAREAS'!E47:E50)","v":104202.09339342971},{"$f":"+SUM('B-5 TAREAS'!F47:F50)","v":3},{"$f":"+SUM('B-5 TAREAS'!G47:G50)","v":4},{"$f":"+SUM('B-5 TAREAS'!H47:H50)","v":10},{"$f":"+SUM('B-5 TAREAS'!I47:I50)","v":6},{"$f":"+SUM('B-5 TAREAS'!J47:J50)","v":6},{"$f":"+SUM('B-5 TAREAS'!K47:K50)","v":13},{"$f":"+SUM('B-5 TAREAS'!L47:L50)","v":7},{"$f":"+SUM('B-5 TAREAS'!M47:M50)","v":3},{"$f":"+SUM('B-5 TAREAS'!N47:N50)","v":7},{"$f":"+SUM('B-5 TAREAS'!O47:O50)","v":7},{"$f":"+SUM('B-5 TAREAS'!P47:P50)","v":6},{"$f":"+SUM('B-5 TAREAS'!Q47:Q50)","v":6},{"$f":"SUM(G24:R24)","v":78}]
[null,null,"18AO111141936","Desarrollar el planeamiento institucional y gestión presupuestal","INFORME",{"$f":"+SUM('B-5 TAREAS'!E51:E58)","v":458051},{"$f":"+SUM('B-5 TAREAS'!F51:F58)","v":186},{"$f":"+SUM('B-5 TAREAS'!G51:G58)","v":189},{"$f":"+SUM('B-5 TAREAS'!H51:H58)","v":186},{"$f":"+SUM('B-5 TAREAS'!I51:I58)","v":190},{"$f":"+SUM('B-5 TAREAS'!J51:J58)","v":184},{"$f":"+SUM('B-5 TAREAS'!K51:K58)","v":187},{"$f":"+SUM('B-5 TAREAS'!L51:L58)","v":187},{"$f":"+SUM('B-5 TAREAS'!M51:M58)","v":189},{"$f":"+SUM('B-5 TAREAS'!N51:N58)","v":186},{"$f":"+SUM('B-5 TAREAS'!O51:O58)","v":191},{"$f":"+SUM('B-5 TAREAS'!P51:P58)","v":184},{"$f":"+SUM('B-5 TAREAS'!Q51:Q58)","v":191},{"$f":"SUM(G25:R25)","v":2250}]
[null,null,"18AO111141939","Realizar gestión del financiamiento con cooperantes","INFORME",{"$f":"+SUM('B-5 TAREAS'!E59:E62)","v":1585494},{"$f":"+SUM('B-5 TAREAS'!F59:F62)","v":0},{"$f":"+SUM('B-5 TAREAS'!G59:G62)","v":0},{"$f":"+SUM('B-5 TAREAS'!H59:H62)","v":0},{"$f":"+SUM('B-5 TAREAS'!I59:I62)","v":0},{"$f":"+SUM('B-5 TAREAS'!J59:J62)","v":0},{"$f":"+SUM('B-5 TAREAS'!K59:K62)","v":0},{"$f":"+SUM('B-5 TAREAS'!L59:L62)","v":2},{"$f":"+SUM('B-5 TAREAS'!M59:M62)","v":0},{"$f":"+SUM('B-5 TAREAS'!N59:N62)","v":1},{"$f":"+SUM('B-5 TAREAS'!O59:O62)","v":1},{"$f":"+SUM('B-5 TAREAS'!P59:P62)","v":1},{"$f":"+SUM('B-5 TAREAS'!Q59:Q62)","v":4},{"$f":"SUM(G26:R26)","v":9}]
[null,"03.02 - OFICINA GENERAL DE ASESORÍA JURÍDICA"]
["OEI.04 Mejorar la eficacia y eficiencia de los procesos de gestión instituciona"]
[null,"AEI.04.01 Fortalecer la organización orientándola al desarrollo de las funciones de un asegurador público eficiente, eficaz y con enfoque de procesos."]
[null,null,"18AO111142899","Brindar asesoramiento legal","INFORME",{"$f":"+SUM('B-5 TAREAS'!E66:E69)","v":476548},{"$f":"+SUM('B-5 TAREAS'!F66:F69)","v":63},{"$f":"+SUM('B-5 TAREAS'!G66:G69)","v":61},{"$f":"+SUM('B-5 TAREAS'!H66:H69)","v":65},{"$f":"+SUM('B-5 TAREAS'!I66:I69)","v":54},{"$f":"+SUM('B-5 TAREAS'!J66:J69)","v":58},{"$f":"+SUM('B-5 TAREAS'!K66:K69)","v":57},{"$f":"+SUM('B-5 TAREAS'!L66:L69)","v":56},{"$f":"+SUM('B-5 TAREAS'!M66:M69)","v":56},{"$f":"+SUM('B-5 TAREAS'!N66:N69)","v":54},{"$f":"+SUM('B-5 TAREAS'!O66:O69)","v":55},{"$f":"+SUM('B-5 TAREAS'!P66:P69)","v":55},{"$f":"+SUM('B-5 TAREAS'!Q66:Q69)","v":54},{"$f":"SUM(G30:R30)","v":688}]
[null,"04.01 - OFICINA GENERAL DE IMAGEN INSTITUCIONAL Y TRANSPARENCIA"]
["OEI.04 Mejorar la eficacia y eficiencia de los procesos de gestión instituciona"]
[null,"AEI.04.03 Fortalecer la comunicación estratégica institucional."]
[null,null,"18AO110920388","Fortalecimiento de la imagen institucional","INFORME",{"$f":"+SUM('B-5 TAREAS'!E73:E81)","v":1169727.2424321026},{"$f":"+SUM('B-5 TAREAS'!F73:F81)","v":1},{"$f":"+SUM('B-5 TAREAS'!G73:G81)","v":1},{"$f":"+SUM('B-5 TAREAS'!H73:H81)","v":1},{"$f":"+SUM('B-5 TAREAS'!I73:I81)","v":1},{"$f":"+SUM('B-5 TAREAS'!J73:J81)","v":2},{"$f":"+SUM('B-5 TAREAS'!K73:K81)","v":1},{"$f":"+SUM('B-5 TAREAS'!L73:L81)","v":1},{"$f":"+SUM('B-5 TAREAS'!M73:M81)","v":1},{"$f":"+SUM('B-5 TAREAS'!N73:N81)","v":1},{"$f":"+SUM('B-5 TAREAS'!O73:O81)","v":7},{"$f":"+SUM('B-5 TAREAS'!P73:P81)","v":7},{"$f":"+SUM('B-5 TAREAS'!Q73:Q81)","v":3},{"$f":"SUM(G34:R34)","v":27}]
[null,null,"18AO110920392","Gestión del acceso a la información pública y del portal de transparencia","INFORME",{"$f":"+SUM('B-5 TAREAS'!E82:E85)","v":731374.75756789732},{"$f":"+SUM('B-5 TAREAS'!F82:F85)","v":2},{"$f":"+SUM('B-5 TAREAS'!G82:G85)","v":2},{"$f":"+SUM('B-5 TAREAS'!H82:H85)","v":2},{"$f":"+SUM('B-5 TAREAS'!I82:I85)","v":2},{"$f":"+SUM('B-5 TAREAS'!J82:J85)","v":2},{"$f":"+SUM('B-5 TAREAS'!K82:K85)","v":2},{"$f":"+SUM('B-5 TAREAS'!L82:L85)","v":2},{"$f":"+SUM('B-5 TAREAS'!M82:M85)","v":2},{"$f":"+SUM('B-5 TAREAS'!N82:N85)","v":2},{"$f":"+SUM('B-5 TAREAS'!O82:O85)","v":4},{"$f":"+SUM('B-5 TAREAS'!P82:P85)","v":3},{"$f":"+SUM('B-5 TAREAS'!Q82:Q85)","v":3},{"$f":"SUM(G35:R35)","v":28}]
[null,"04.02.01 - OFICINA GENERAL DE ADMINISTRACIÓN DE RECURSOS"]
["OEI.04 Mejorar la eficacia y eficiencia de los procesos de gestión instituciona"]
[null,"AEI.04.01 Fortalecer la organización orientándola al desarrollo de las funciones de un asegurador público eficiente, eficaz y con enfoque de procesos."]
[null,null,"18AO111142901","Supervisar el cumplimiento de los sistemas administrativos a su cargo","INFORME",{"$f":"+SUM('B-5 TAREAS'!E89:E103)","v":627319},{"$f":"+SUM('B-5 TAREAS'!F89:F103)","v":4},{"$f":"+SUM('B-5 TAREAS'!G89:G103)","v":13},{"$f":"+SUM('B-5 TAREAS'!H89:H103)","v":11},{"$f":"+SUM('B-5 TAREAS'!I89:I103)","v":13},{"$f":"+SUM('B-5 TAREAS'!J89:J103)","v":8},{"$f":"+SUM('B-5 TAREAS'!K89:K103)","v":8},{"$f":"+SUM('B-5 TAREAS'!L89:L103)","v":9},{"$f":"+SUM('B-5 TAREAS'!M89:M103)","v":10},{"$f":"+SUM('B-5 TAREAS'!N89:N103)","v":9},{"$f":"+SUM('B-5 TAREAS'!O89:O103)","v":14},{"$f":"+SUM('B-5 TAREAS'!P89:P103)","v":23},{"$f":"+SUM('B-5 TAREAS'!Q89:Q103)","v":22},{"$f":"SUM(G39:R39)","v":144}]
[null,"04.02.02 - OFICINA DE ABASTECIMIENTO"]
["OEI.04 Mejorar la eficacia y eficiencia de los procesos de gestión instituciona"]
[null,"AEI.04.01 Fortalecer la organización orientándola al desarrollo de las funciones de un asegurador público eficiente, eficaz y con enfoque de procesos."]
[null,null,"18AO110920401","Realizar acciones de contratación de bienes y servicios","INFORME",{"$f":"+SUM('B-5 TAREAS'!E107:E117)","v":14825824},{"$f":"+SUM('B-5 TAREAS'!F107:F117)","v":4},{"$f":"+SUM('B-5 TAREAS'!G107:G117)","v":5},{"$f":"+SUM('B-5 TAREAS'!H107:H117)","v":5},{"$f":"+SUM('B-5 TAREAS'!I107:I117)","v":5},{"$f":"+SUM('B-5 TAREAS'!J107:J117)","v":4},{"$f":"+SUM('B-5 TAREAS'!K107:K117)","v":4},{"$f":"+SUM('B-5 TAREAS'!L107:L117)","v":5},{"$f":"+SUM('B-5 TAREAS'!M107:M117)","v":4},{"$f":"+SUM('B-5 TAREAS'!N107:N117)","v":4},{"$f":"+SUM('B-5 TAREAS'!O107:O117)","v":4},{"$f":"+SUM('B-5 TAREAS'!P107:P117)","v":6},{"$f":"+SUM('B-5 TAREAS'!Q107:Q117)","v":6},{"$f":"SUM(G43:R43)","v":56}]
[null,"04.02.03 - OFICINA DE GESTIÓN DE RECURSOS HUMANOS"]
["OEI.04 Mejorar la eficacia y eficiencia de los procesos de gestión instituciona"]
[null,"AEI.04.04 Mejorar la satisfacción laboral del personal del SIS."]
[null,null,"18AO110920421","Ejecutar las acciones de incorporacion de servidores","INFORME",{"$f":"+SUM('B-5 TAREAS'!E121:E127)","v":759335},{"$f":"+SUM('B-5 TAREAS'!F121:F127)","v":1},{"$f":"+SUM('B-5 TAREAS'!G121:G127)","v":2},{"$f":"+SUM('B-5 TAREAS'!H121:H127)","v":3},{"$f":"+SUM('B-5 TAREAS'!I121:I127)","v":2},{"$f":"+SUM('B-5 TAREAS'!J121:J127)","v":2},{"$f":"+SUM('B-5 TAREAS'!K121:K127)","v":3},{"$f":"+SUM('B-5 TAREAS'!L121:L127)","v":2},{"$f":"+SUM('B-5 TAREAS'!M121:M127)","v":2},{"$f":"+SUM('B-5 TAREAS'!N121:N127)","v":3},{"$f":"+SUM('B-5 TAREAS'!O121:O127)","v":5},{"$f":"+SUM('B-5 TAREAS'!P121:P127)","v":7},{"$f":"+SUM('B-5 TAREAS'!Q121:Q127)","v":6},{"$f":"SUM(G47:R47)","v":38}]
[null,null,"18AO111142904","Gestion de recursos cas - cap","INFORME",{"$f":"+SUM('B-5 TAREAS'!E128:E129)","v":61965516},{"$f":"+SUM('B-5 TAREAS'!F128:F129)","v":2},{"$f":"+SUM('B-5 TAREAS'!G128:G129)","v":2},{"$f":"+SUM('B-5 TAREAS'!H128:H129)","v":2},{"$f":"+SUM('B-5 TAREAS'!I128:I129)","v":2},{"$f":"+SUM('B-5 TAREAS'!J128:J129)","v":2},{"$f":"+SUM('B-5 TAREAS'!K128:K129)","v":2},{"$f":"+SUM('B-5 TAREAS'!L128:L129)","v":2},{"$f":"+SUM('B-5 TAREAS'!M128:M129)","v":2},{"$f":"+SUM('B-5 TAREAS'!N128:N129)","v":2},{"$f":"+SUM('B-5 TAREAS'!O128:O129)","v":2},{"$f":"+SUM('B-5 TAREAS'!P128:P129)","v":2},{"$f":"+SUM('B-5 TAREAS'!Q128:Q129)","v":2},{"$f":"SUM(G48:R48)","v":24}]
[null,"04.02.04 - OFICINA DE CONTABILIDAD"]
["OEI.04 Mejorar la eficacia y eficiencia de los procesos de gestión instituciona"]
[null,"AEI.04.01 Fortalecer la organización orientándola al desarrollo de las funciones de un asegurador público eficiente, eficaz y con enfoque de procesos."]
[null,null,"18AO110920537","Realizar la elaboración, analisis y emisión de los estados financieros y presupuestarios.","INFORME",{"$f":"+SUM('B-5 TAREAS'!E133:E139)","v":43568},{"$f":"+SUM('B-5 TAREAS'!F133:F139)","v":477},{"$f":"+SUM('B-5 TAREAS'!G133:G139)","v":666},{"$f":"+SUM('B-5 TAREAS'!H133:H139)","v":899},{"$f":"+SUM('B-5 TAREAS'!I133:I139)","v":986},{"$f":"+SUM('B-5 TAREAS'!J133:J139)","v":1166},{"$f":"+SUM('B-5 TAREAS'!K133:K139)","v":1572},{"$f":"+SUM('B-5 TAREAS'!L133:L139)","v":1007},{"$f":"+SUM('B-5 TAREAS'!M133:M139)","v":1007},{"$f":"+SUM('B-5 TAREAS'!N133:N139)","v":1225},{"$f":"+SUM('B-5 TAREAS'!O133:O139)","v":758},{"$f":"+SUM('B-5 TAREAS'!P133:P139)","v":720},{"$f":"+SUM('B-5 TAREAS'!Q133:Q139)","v":945},{"$f":"SUM(G52:R52)","v":11428}]
[null,"04.02.05 - OFICINA DE TESORERÍA"]
["OEI.04 Mejorar la eficacia y eficiencia de los procesos de gestión instituciona"]
[null,"AEI.04.01 Fortalecer la organización orientándola al desarrollo de las funciones de un asegurador público eficiente, eficaz y con enfoque de procesos."]
[null,null,"18AO111142907","Optimizar el control de los ingresos y egresos","INFORME",{"$f":"+SUM('B-5 TAREAS'!E143:E153)","v":1937189.0000000002},{"$f":"+SUM('B-5 TAREAS'!F143:F153)","v":973},{"$f":"+SUM('B-5 TAREAS'!G143:G153)","v":1176},{"$f":"+SUM('B-5 TAREAS'!H143:H153)","v":1330},{"$f":"+SUM('B-5 TAREAS'!I143:I153)","v":2284},{"$f":"+SUM('B-5 TAREAS'!J143:J153)","v":1809},{"$f":"+SUM('B-5 TAREAS'!K143:K153)","v":1712},{"$f":"+SUM('B-5 TAREAS'!L143:L153)","v":1013},{"$f":"+SUM('B-5 TAREAS'!M143:M153)","v":1462},{"$f":"+SUM('B-5 TAREAS'!N143:N153)","v":1464},{"$f":"+SUM('B-5 TAREAS'!O143:O153)","v":1158},{"$f":"+SUM('B-5 TAREAS'!P143:P153)","v":1158},{"$f":"+SUM('B-5 TAREAS'!Q143:Q153)","v":1210},{"$f":"SUM(G56:R56)","v":16749}]
[null,"04.03 - OFICINA GENERAL DE TECNOLOGÍA DE LA INFORMACIÓN"]
["OEI.04 Mejorar la eficacia y eficiencia de los procesos de gestión instituciona"]
[null,"AEI.04.02 Mejorar la calidad y seguridad de los sistemas de información del SIS, a través de su informatización e integración."]
[null,null,"18AO110920396","Elaboración, aprobación y ejecución del plan operativo informático","INFORME",{"$f":"+SUM('B-5 TAREAS'!E157:E174)","v":4534801},{"$f":"+SUM('B-5 TAREAS'!F157:F174)","v":3},{"$f":"+SUM('B-5 TAREAS'!G157:G174)","v":4},{"$f":"+SUM('B-5 TAREAS'!H157:H174)","v":5},{"$f":"+SUM('B-5 TAREAS'!I157:I174)","v":3},{"$f":"+SUM('B-5 TAREAS'!J157:J174)","v":5},{"$f":"+SUM('B-5 TAREAS'!K157:K174)","v":6},{"$f":"+SUM('B-5 TAREAS'!L157:L174)","v":5},{"$f":"+SUM('B-5 TAREAS'!M157:M174)","v":3},{"$f":"+SUM('B-5 TAREAS'!N157:N174)","v":5},{"$f":"+SUM('B-5 TAREAS'!O157:O174)","v":4},{"$f":"+SUM('B-5 TAREAS'!P157:P174)","v":10},{"$f":"+SUM('B-5 TAREAS'!Q157:Q174)","v":10},{"$f":"SUM(G60:R60)","v":63}]
[null,"05.01 - GERENCIA DEL ASEGURADO"]
["OEI.01 Incrementar la cobertura de la población objetivo del SIS"]
[null,"AEI.01.01 Afiliación al SIS incrementada en la población objetivo."]
[null,null,"18AO111142910","Conducción y supervisión de las acciones de afiliación","INFORME",{"$f":"+SUM('B-5 TAREAS'!E178:E185)","v":330554.52429901832},{"$f":"+SUM('B-5 TAREAS'!F178:F185)","v":4},{"$f":"+SUM('B-5 TAREAS'!G178:G185)","v":4},{"$f":"+SUM('B-5 TAREAS'!H178:H185)","v":4},{"$f":"+SUM('B-5 TAREAS'!I178:I185)","v":3},{"$f":"+SUM('B-5 TAREAS'!J178:J185)","v":3},{"$f":"+SUM('B-5 TAREAS'!K178:K185)","v":3},{"$f":"+SUM('B-5 TAREAS'!L178:L185)","v":3},{"$f":"+SUM('B-5 TAREAS'!M178:M185)","v":4},{"$f":"+SUM('B-5 TAREAS'!N178:N185)","v":4},{"$f":"+SUM('B-5 TAREAS'!O178:O185)","v":3},{"$f":"+SUM('B-5 TAREAS'!P178:P185)","v":6},{"$f":"+SUM('B-5 TAREAS'!Q178:Q185)","v":4},{"$f":"SUM(G64:R64)","v":45}]
[null,"AEI.01.02 Mecanismos de protección de derechos optimizados para los asegurados al SIS."]
[null,null,"18AO110920443","Promocion de los derechos y deberes del asegurado al sis y sus productos","INFORME",{"$f":"+SUM('B-5 TAREAS'!E187:E190)","v":353715.20580043067},{"$f":"+SUM('B-5 TAREAS'!F187:F190)","v":2},{"$f":"+SUM('B-5 TAREAS'!G187:G190)","v":2},{"$f":"+SUM('B-5 TAREAS'!H187:H190)","v":5},{"$f":"+SUM('B-5 TAREAS'!I187:I190)","v":2},{"$f":"+SUM('B-5 TAREAS'!J187:J190)","v":2},{"$f":"+SUM('B-5 TAREAS'!K187:K190)","v":8},{"$f":"+SUM('B-5 TAREAS'!L187:L190)","v":2},{"$f":"+SUM('B-5 TAREAS'!M187:M190)","v":2},{"$f":"+SUM('B-5 TAREAS'!N187:N190)","v":5},{"$f":"+SUM('B-5 TAREAS'!O187:O190)","v":7},{"$f":"+SUM('B-5 TAREAS'!P187:P190)","v":2},{"$f":"+SUM('B-5 TAREAS'!Q187:Q190)","v":3},{"$f":"SUM(G66:R66)","v":42}]
[null,null,"18AO111149595","Protección al asegurado SIS.","INFORME",{"$f":"+SUM('B-5 TAREAS'!E191:E193)","v":13067.49665818557},{"$f":"+SUM('B-5 TAREAS'!F191:F193)","v":0},{"$f":"+SUM('B-5 TAREAS'!G191:G193)","v":0},{"$f":"+SUM('B-5 TAREAS'!H191:H193)","v":0},{"$f":"+SUM('B-5 TAREAS'!I191:I193)","v":0},{"$f":"+SUM('B-5 TAREAS'!J191:J193)","v":0},{"$f":"+SUM('B-5 TAREAS'!K191:K193)","v":0},{"$f":"+SUM('B-5 TAREAS'!L191:L193)","v":0},{"$f":"+SUM('B-5 TAREAS'!M191:M193)","v":0},{"$f":"+SUM('B-5 TAREAS'!N191:N193)","v":0},{"$f":"+SUM('B-5 TAREAS'!O191:O193)","v":2},{"$f":"+SUM('B-5 TAREAS'!P191:P193)","v":2},{"$f":"+SUM('B-5 TAREAS'!Q191:Q193)","v":2},{"$f":"SUM(G67:R67)","v":6}]
[null,null,"18AO111149596","Atención al asegurado SIS","INFORME",{"$f":"+SUM('B-5 TAREAS'!E194:E197)","v":214118.77324236548},{"$f":"+SUM('B-5 TAREAS'!F194:F197)","v":0},{"$f":"+SUM('B-5 TAREAS'!G194:G197)","v":0},{"$f":"+SUM('B-5 TAREAS'!H194:H197)","v":0},{"$f":"+SUM('B-5 TAREAS'!I194:I197)","v":0},{"$f":"+SUM('B-5 TAREAS'!J194:J197)","v":0},{"$f":"+SUM('B-5 TAREAS'!K194:K197)","v":0},{"$f":"+SUM('B-5 TAREAS'!L194:L197)","v":0},{"$f":"+SUM('B-5 TAREAS'!M194:M197)","v":0},{"$f":"+SUM('B-5 TAREAS'!N194:N197)","v":0},{"$f":"+SUM('B-5 TAREAS'!O194:O197)","v":6},{"$f":"+SUM('B-5 TAREAS'!P194:P197)","v":10},{"$f":"+SUM('B-5 TAREAS'!Q194:Q197)","v":15},31]
[null,"05.02 - GERENCIA DE RIESGO Y EVALUACIÓN DE LAS PRESTACIONES"]
["OEI.02 Reducir los riesgos técnicos y financieros de la prestación de planes y productos para el asegurado al SIS."]
[null,"AEI.02.02 Auditoría Médica y Financiera Optimizada  a los Establecimientos de Salud"]
[null,null,"18AO111142911","Conducción de acciones de control tecnico","INFORME",{"$f":"+SUM('B-5 TAREAS'!E201:E207)","v":165279.68186226964},{"$f":"+SUM('B-5 TAREAS'!F201:F207)","v":2},{"$f":"+SUM('B-5 TAREAS'!G201:G207)","v":2},{"$f":"+SUM('B-5 TAREAS'!H201:H207)","v":2},{"$f":"+SUM('B-5 TAREAS'!I201:I207)","v":2},{"$f":"+SUM('B-5 TAREAS'!J201:J207)","v":2},{"$f":"+SUM('B-5 TAREAS'!K201:K207)","v":3},{"$f":"+SUM('B-5 TAREAS'!L201:L207)","v":4},{"$f":"+SUM('B-5 TAREAS'!M201:M207)","v":6},{"$f":"+SUM('B-5 TAREAS'!N201:N207)","v":7},{"$f":"+SUM('B-5 TAREAS'!O201:O207)","v":6},{"$f":"+SUM('B-5 TAREAS'!P201:P207)","v":11},{"$f":"+SUM('B-5 TAREAS'!Q201:Q207)","v":7},{"$f":"SUM(G72:R72)","v":54}]
[null,"AEI.03.03 Mecanismos de compra de servicios de salud optimizados para la atención del asegurado al SIS."]
[null,null,"18AO110920533","Desarrollar los modelos operacionales de los convenios o contratos aprobados.","INFORME",{"$f":"+SUM('B-5 TAREAS'!E209:E212)","v":163684.31813773038},{"$f":"+SUM('B-5 TAREAS'!F209:F212)","v":0},{"$f":"+SUM('B-5 TAREAS'!G209:G212)","v":0},{"$f":"+SUM('B-5 TAREAS'!H209:H212)","v":0},{"$f":"+SUM('B-5 TAREAS'!I209:I212)","v":0},{"$f":"+SUM('B-5 TAREAS'!J209:J212)","v":0},{"$f":"+SUM('B-5 TAREAS'!K209:K212)","v":0},{"$f":"+SUM('B-5 TAREAS'!L209:L212)","v":5},{"$f":"+SUM('B-5 TAREAS'!M209:M212)","v":4},{"$f":"+SUM('B-5 TAREAS'!N209:N212)","v":4},{"$f":"+SUM('B-5 TAREAS'!O209:O212)","v":5},{"$f":"+SUM('B-5 TAREAS'!P209:P212)","v":7},{"$f":"+SUM('B-5 TAREAS'!Q209:Q212)","v":6},{"$f":"SUM(G74:R74)","v":31}]
[null,"05.03 - GERENCIA DE NEGOCIOS Y FINANCIAMIENTO"]
["OEI.02 Reducir los riesgos técnicos y financieros de la prestación de planes y productos para el asegurado al SIS."]
[null,"AEI.02.01 Control técnico y financiero de las prestaciones médicas valorizadas incrementado a los establecimientos de salud."]
[null,null,"18AO111142912","Conducción de acciones de control financiero","INFORME",{"$f":"+SUM('B-5 TAREAS'!E216:E219)","v":266992.36034263938},{"$f":"+SUM('B-5 TAREAS'!F216:F219)","v":0},{"$f":"+SUM('B-5 TAREAS'!G216:G219)","v":0},{"$f":"+SUM('B-5 TAREAS'!H216:H219)","v":0},{"$f":"+SUM('B-5 TAREAS'!I216:I219)","v":0},{"$f":"+SUM('B-5 TAREAS'!J216:J219)","v":0},{"$f":"+SUM('B-5 TAREAS'!K216:K219)","v":1},{"$f":"+SUM('B-5 TAREAS'!L216:L219)","v":14},{"$f":"+SUM('B-5 TAREAS'!M216:M219)","v":11},{"$f":"+SUM('B-5 TAREAS'!N216:N219)","v":14},{"$f":"+SUM('B-5 TAREAS'!O216:O219)","v":12},{"$f":"+SUM('B-5 TAREAS'!P216:P219)","v":8},{"$f":"+SUM('B-5 TAREAS'!Q216:Q219)","v":5},{"$f":"SUM(G78:R78)","v":65}]
[null,"AEI.03.01 Financiamiento del SIS incrementado por los Recursos Directamente Recaudados"]
[null,null,"18AO111143139","Gestionar el riesgo corporativo","INFORME",{"$f":"+SUM('B-5 TAREAS'!E222:E227)","v":62854.520703053437},{"$f":"+SUM('B-5 TAREAS'!F222:F227)","v":1},{"$f":"+SUM('B-5 TAREAS'!G222:G227)","v":1},{"$f":"+SUM('B-5 TAREAS'!H222:H227)","v":1},{"$f":"+SUM('B-5 TAREAS'!I222:I227)","v":1},{"$f":"+SUM('B-5 TAREAS'!J222:J227)","v":1},{"$f":"+SUM('B-5 TAREAS'!K222:K227)","v":3},{"$f":"+SUM('B-5 TAREAS'!L222:L227)","v":0},{"$f":"+SUM('B-5 TAREAS'!M222:M227)","v":0},{"$f":"+SUM('B-5 TAREAS'!N222:N227)","v":2},{"$f":"+SUM('B-5 TAREAS'!O222:O227)","v":1},{"$f":"+SUM('B-5 TAREAS'!P222:P227)","v":2},{"$f":"+SUM('B-5 TAREAS'!Q222:Q227)","v":5},{"$f":"SUM(G80:R80)","v":18}]
[null,"AEI.03.02 Recursos del SIS transferidos orientados al financiamiento de reposición de medicamentos e insumos."]
[null,null,"18AO111142914","Administrar los fondos de aseguramiento en salud","INFORME",{"$f":"+SUM('B-5 TAREAS'!E229:E231)","v":1718225312},{"$f":"+SUM('B-5 TAREAS'!F229:F231)","v":3},{"$f":"+SUM('B-5 TAREAS'!G229:G231)","v":3},{"$f":"+SUM('B-5 TAREAS'!H229:H231)","v":3},{"$f":"+SUM('B-5 TAREAS'!I229:I231)","v":3},{"$f":"+SUM('B-5 TAREAS'!J229:J231)","v":3},{"$f":"+SUM('B-5 TAREAS'!K229:K231)","v":3},{"$f":"+SUM('B-5 TAREAS'!L229:L231)","v":30},{"$f":"+SUM('B-5 TAREAS'!M229:M231)","v":9},{"$f":"+SUM('B-5 TAREAS'!N229:N231)","v":3},{"$f":"+SUM('B-5 TAREAS'!O229:O231)","v":17},{"$f":"+SUM('B-5 TAREAS'!P229:P231)","v":7},{"$f":"+SUM('B-5 TAREAS'!Q229:Q231)","v":4},{"$f":"SUM(G82:R82)","v":88}]
[null,"AEI.03.03 Mecanismos de compra de servicios de salud optimizados para la atención del asegurado al SIS."]
[null,null,"18AO111142916","Control financiero de los expedientes administrativos y prestaciones económicas","INFORME",{"$f":"+SUM('B-5 TAREAS'!E233:E236)","v":69566498.321690202},{"$f":"+SUM('B-5 TAREAS'!F233:F236)","v":4},{"$f":"+SUM('B-5 TAREAS'!G233:G236)","v":4},{"$f":"+SUM('B-5 TAREAS'!H233:H236)","v":4},{"$f":"+SUM('B-5 TAREAS'!I233:I236)","v":4},{"$f":"+SUM('B-5 TAREAS'!J233:J236)","v":4},{"$f":"+SUM('B-5 TAREAS'!K233:K236)","v":4},{"$f":"+SUM('B-5 TAREAS'!L233:L236)","v":3},{"$f":"+SUM('B-5 TAREAS'!M233:M236)","v":0},{"$f":"+SUM('B-5 TAREAS'!N233:N236)","v":3},{"$f":"+SUM('B-5 TAREAS'!O233:O236)","v":3},{"$f":"+SUM('B-5 TAREAS'!P233:P236)","v":4},{"$f":"+SUM('B-5 TAREAS'!Q233:Q236)","v":4},{"$f":"SUM(G84:R84)","v":41}]
[null,"06.01 - GERENCIA MACRO REGIONAL NORTE"]
["OEI.01 Incrementar la cobertura de la población objetivo del SIS"]
[null,"AEI.01.01 Afiliación al SIS incrementada en la población objetivo."]
[null,null,"18AO111142917","Control y supervision a las udr en las acciones de afiliacion","INFORME",{"$f":"+SUM('B-5 TAREAS'!E240:E243)","v":13000},{"$f":"+SUM('B-5 TAREAS'!F240:F243)","v":0},{"$f":"+SUM('B-5 TAREAS'!G240:G243)","v":0},{"$f":"+SUM('B-5 TAREAS'!H240:H243)","v":0},{"$f":"+SUM('B-5 TAREAS'!I240:I243)","v":0},{"$f":"+SUM('B-5 TAREAS'!J240:J243)","v":0},{"$f":"+SUM('B-5 TAREAS'!K240:K243)","v":0},{"$f":"+SUM('B-5 TAREAS'!L240:L243)","v":1},{"$f":"+SUM('B-5 TAREAS'!M240:M243)","v":1},{"$f":"+SUM('B-5 TAREAS'!N240:N243)","v":2},{"$f":"+SUM('B-5 TAREAS'!O240:O243)","v":5},{"$f":"+SUM('B-5 TAREAS'!P240:P243)","v":3},{"$f":"+SUM('B-5 TAREAS'!Q240:Q243)","v":1},{"$f":"SUM(G88:R88)","v":13}]
["OEI.02 Reducir los riesgos técnicos y financieros de la prestación de planes y productos para el asegurado al SIS."]
[null,"AEI.02.01 Control técnico y financiero de las prestaciones médicas valorizadas incrementado a los establecimientos de salud."]
[null,null,"18AO111142918","Supervisión  y asistencia técnica a las audrs en las cciones de control técnico a prestaciones","INFORME",{"$f":"+SUM('B-5 TAREAS'!E246:E249)","v":64323.142857142855},{"$f":"+SUM('B-5 TAREAS'!F246:F249)","v":0},{"$f":"+SUM('B-5 TAREAS'!G246:G249)","v":0},{"$f":"+SUM('B-5 TAREAS'!H246:H249)","v":0},{"$f":"+SUM('B-5 TAREAS'!I246:I249)","v":0},{"$f":"+SUM('B-5 TAREAS'!J246:J249)","v":0},{"$f":"+SUM('B-5 TAREAS'!K246:K249)","v":0},{"$f":"+SUM('B-5 TAREAS'!L246:L249)","v":3},{"$f":"+SUM('B-5 TAREAS'!M246:M249)","v":2},{"$f":"+SUM('B-5 TAREAS'!N246:N249)","v":4},{"$f":"+SUM('B-5 TAREAS'!O246:O249)","v":4},{"$f":"+SUM('B-5 TAREAS'!P246:P249)","v":0},{"$f":"+SUM('B-5 TAREAS'!Q246:Q249)","v":0},{"$f":"SUM(G91:R91)","v":13}]
["OEI.03 Mejorar la gestión del financiamiento de las prestaciones aprobadas para la atención del asegurado al SIS."]
[null,"AEI.03.02 Recursos del SIS transferidos orientados al financiamiento de reposición de medicamentos e insumos."]
[null,null,"18AO111142919","Supervisión y asistencia técnica a las UDRs en el monitoreo, seguimiento y control de los recursos del SIS","INFORME",{"$f":"+SUM('B-5 TAREAS'!E252:E255)","v":61140.714285714283},{"$f":"+SUM('B-5 TAREAS'!F252:F255)","v":0},{"$f":"+SUM('B-5 TAREAS'!G252:G255)","v":0},{"$f":"+SUM('B-5 TAREAS'!H252:H255)","v":0},{"$f":"+SUM('B-5 TAREAS'!I252:I255)","v":0},{"$f":"+SUM('B-5 TAREAS'!J252:J255)","v":0},{"$f":"+SUM('B-5 TAREAS'!K252:K255)","v":0},{"$f":"+SUM('B-5 TAREAS'!L252:L255)","v":1},{"$f":"+SUM('B-5 TAREAS'!M252:M255)","v":2},{"$f":"+SUM('B-5 TAREAS'!N252:N255)","v":2},{"$f":"+SUM('B-5 TAREAS'!O252:O255)","v":4},{"$f":"+SUM('B-5 TAREAS'!P252:P255)","v":2},{"$f":"+SUM('B-5 TAREAS'!Q252:Q255)","v":0},{"$f":"SUM(G94:R94)","v":11}]
["OEI.04 Mejorar la eficacia y eficiencia de los procesos de gestión instituciona"]
[null,"AEI.04.01 Fortalecer la organización orientándola al desarrollo de las funciones de un asegurador público eficiente, eficaz y con enfoque de procesos."]
[null,null,"18AO110920454","Realizar acciones de coordinación en gestión.","INFORME",{"$f":"+SUM('B-5 TAREAS'!E258:E266)","v":104223.14285714287},{"$f":"+SUM('B-5 TAREAS'!F258:F266)","v":3},{"$f":"+SUM('B-5 TAREAS'!G258:G266)","v":3},{"$f":"+SUM('B-5 TAREAS'!H258:H266)","v":5},{"$f":"+SUM('B-5 TAREAS'!I258:I266)","v":3},{"$f":"+SUM('B-5 TAREAS'!J258:J266)","v":3},{"$f":"+SUM('B-5 TAREAS'!K258:K266)","v":7},{"$f":"+SUM('B-5 TAREAS'!L258:L266)","v":3},{"$f":"+SUM('B-5 TAREAS'!M258:M266)","v":3},{"$f":"+SUM('B-5 TAREAS'!N258:N266)","v":5},{"$f":"+SUM('B-5 TAREAS'!O258:O266)","v":4},{"$f":"+SUM('B-5 TAREAS'!P258:P266)","v":5},{"$f":"+SUM('B-5 TAREAS'!Q258:Q266)","v":6},{"$f":"SUM(G97:R97)","v":50}]
[null,"06.02 - UDR CAJAMARCA"]
["OEI.01 Incrementar la cobertura de la población objetivo del SIS"]
[null,"AEI.01.01 Afiliación al SIS incrementada en la población objetivo."]
[null,null,"18AO111143143","Realizar acciones de afiliación","INFORME",{"$f":"+SUM('B-5 TAREAS'!E270:E276)","v":9380.557088050904},{"$f":"+SUM('B-5 TAREAS'!F270:F276)","v":0},{"$f":"+SUM('B-5 TAREAS'!G270:G276)","v":0},{"$f":"+SUM('B-5 TAREAS'!H270:H276)","v":0},{"$f":"+SUM('B-5 TAREAS'!I270:I276)","v":0},{"$f":"+SUM('B-5 TAREAS'!J270:J276)","v":0},{"$f":"+SUM('B-5 TAREAS'!K270:K276)","v":0},{"$f":"+SUM('B-5 TAREAS'!L270:L276)","v":0},{"$f":"+SUM('B-5 TAREAS'!M270:M276)","v":2},{"$f":"+SUM('B-5 TAREAS'!N270:N276)","v":1},{"$f":"+SUM('B-5 TAREAS'!O270:O276)","v":6},{"$f":"+SUM('B-5 TAREAS'!P270:P276)","v":4},{"$f":"+SUM('B-5 TAREAS'!Q270:Q276)","v":5},{"$f":"SUM(G101:R101)","v":18}]
[null,"AEI.01.02 Mecanismos de protección de derechos optimizados para los asegurados al SIS."]
[null,null,"18AO111143144","Realizar acciones para mitigar riesgos de vulneración de derechos de los asegurados","INFORME",{"$f":"+SUM('B-5 TAREAS'!E278:E281)","v":5751.0620379900811},{"$f":"+SUM('B-5 TAREAS'!F278:F281)","v":0},{"$f":"+SUM('B-5 TAREAS'!G278:G281)","v":0},{"$f":"+SUM('B-5 TAREAS'!H278:H281)","v":0},{"$f":"+SUM('B-5 TAREAS'!I278:I281)","v":0},{"$f":"+SUM('B-5 TAREAS'!J278:J281)","v":0},{"$f":"+SUM('B-5 TAREAS'!K278:K281)","v":0},{"$f":"+SUM('B-5 TAREAS'!L278:L281)","v":2},{"$f":"+SUM('B-5 TAREAS'!M278:M281)","v":2},{"$f":"+SUM('B-5 TAREAS'!N278:N281)","v":3},{"$f":"+SUM('B-5 TAREAS'!O278:O281)","v":2},{"$f":"+SUM('B-5 TAREAS'!P278:P281)","v":2},{"$f":"+SUM('B-5 TAREAS'!Q278:Q281)","v":3},{"$f":"SUM(G103:R103)","v":14}]
["OEI.02 Reducir los riesgos técnicos y financieros de la prestación de planes y productos para el asegurado al SIS."]
[null,"AEI.02.01 Control técnico y financiero de las prestaciones médicas valorizadas incrementado a los establecimientos de salud."]
[null,null,"18AO111143145","Realizar el Control Técnico a las Prestaciones","INFORME",{"$f":"+SUM('B-5 TAREAS'!E284:E288)","v":13002.875531018997},{"$f":"+SUM('B-5 TAREAS'!F284:F288)","v":4},{"$f":"+SUM('B-5 TAREAS'!G284:G288)","v":4},{"$f":"+SUM('B-5 TAREAS'!H284:H288)","v":4},{"$f":"+SUM('B-5 TAREAS'!I284:I288)","v":4},{"$f":"+SUM('B-5 TAREAS'!J284:J288)","v":4},{"$f":"+SUM('B-5 TAREAS'!K284:K288)","v":5},{"$f":"+SUM('B-5 TAREAS'!L284:L288)","v":4},{"$f":"+SUM('B-5 TAREAS'!M284:M288)","v":4},{"$f":"+SUM('B-5 TAREAS'!N284:N288)","v":5},{"$f":"+SUM('B-5 TAREAS'!O284:O288)","v":3},{"$f":"+SUM('B-5 TAREAS'!P284:P288)","v":3},{"$f":"+SUM('B-5 TAREAS'!Q284:Q288)","v":5},{"$f":"SUM(G106:R106)","v":49}]
["OEI.03 Mejorar la gestión del financiamiento de las prestaciones aprobadas para la atención del asegurado al SIS."]
[null,"AEI.03.02 Recursos del SIS transferidos orientados al financiamiento de reposición de medicamentos e insumos."]
[null,null,"18AO111143147","Realizar la supervisión financiera alas UE","INFORME",{"$f":"+SUM('B-5 TAREAS'!E291:E294)","v":13200.958510339666},{"$f":"+SUM('B-5 TAREAS'!F291:F294)","v":2},{"$f":"+SUM('B-5 TAREAS'!G291:G294)","v":2},{"$f":"+SUM('B-5 TAREAS'!H291:H294)","v":2},{"$f":"+SUM('B-5 TAREAS'!I291:I294)","v":2},{"$f":"+SUM('B-5 TAREAS'!J291:J294)","v":2},{"$f":"+SUM('B-5 TAREAS'!K291:K294)","v":4},{"$f":"+SUM('B-5 TAREAS'!L291:L294)","v":2},{"$f":"+SUM('B-5 TAREAS'!M291:M294)","v":2},{"$f":"+SUM('B-5 TAREAS'!N291:N294)","v":3},{"$f":"+SUM('B-5 TAREAS'!O291:O294)","v":2},{"$f":"+SUM('B-5 TAREAS'!P291:P294)","v":2},{"$f":"+SUM('B-5 TAREAS'!Q291:Q294)","v":4},{"$f":"SUM(G109:R109)","v":29}]
[null,"AEI.03.03 Mecanismos de compra de servicios de salud optimizados para la atención del asegurado al SIS."]
[null,null,"18AO111143148","Implementar los acuerdos de convenios y/o contratos suscritos con las IPRESS","INFORME",{"$f":"+SUM('B-5 TAREAS'!E296:E301)","v":88700.546832600347},{"$f":"+SUM('B-5 TAREAS'!F296:F301)","v":0},{"$f":"+SUM('B-5 TAREAS'!G296:G301)","v":0},{"$f":"+SUM('B-5 TAREAS'!H296:H301)","v":0},{"$f":"+SUM('B-5 TAREAS'!I296:I301)","v":0},{"$f":"+SUM('B-5 TAREAS'!J296:J301)","v":0},{"$f":"+SUM('B-5 TAREAS'!K296:K301)","v":2},{"$f":"+SUM('B-5 TAREAS'!L296:L301)","v":0},{"$f":"+SUM('B-5 TAREAS'!M296:M301)","v":0},{"$f":"+SUM('B-5 TAREAS'!N296:N301)","v":0},{"$f":"+SUM('B-5 TAREAS'!O296:O301)","v":0},{"$f":"+SUM('B-5 TAREAS'!P296:P301)","v":1},{"$f":"+SUM('B-5 TAREAS'!Q296:Q301)","v":4},{"$f":"SUM(G111:R111)","v":7}]
[null,"06.03 - UDR CHOTA"]
["OEI.01 Incrementar la cobertura de la población objetivo del SIS"]
[null,"AEI.01.01 Afiliación al SIS incrementada en la población objetivo."]
[null,null,"18AO111142921","Realizar acciones de afiliación","INFORME",{"$f":"+SUM('B-5 TAREAS'!E305:E309)","v":0},{"$f":"+SUM('B-5 TAREAS'!F305:F309)","v":0},{"$f":"+SUM('B-5 TAREAS'!G305:G309)","v":0},{"$f":"+SUM('B-5 TAREAS'!H305:H309)","v":0},{"$f":"+SUM('B-5 TAREAS'!I305:I309)","v":0},{"$f":"+SUM('B-5 TAREAS'!J305:J309)","v":0},{"$f":"+SUM('B-5 TAREAS'!K305:K309)","v":0},{"$f":"+SUM('B-5 TAREAS'!L305:L309)","v":0},{"$f":"+SUM('B-5 TAREAS'!M305:M309)","v":2},{"$f":"+SUM('B-5 TAREAS'!N305:N309)","v":1},{"$f":"+SUM('B-5 TAREAS'!O305:O309)","v":5},{"$f":"+SUM('B-5 TAREAS'!P305:P309)","v":2},{"$f":"+SUM('B-5 TAREAS'!Q305:Q309)","v":3},{"$f":"SUM(G115:R115)","v":13}]
[null,"AEI.01.02 Mecanismos de protección de derechos optimizados para los asegurados al SIS."]
[null,null,"18AO111142923","Realizar acciones para mitigar riesgos de vulneración de derechos de los asegurados","INFORME",{"$f":"+SUM('B-5 TAREAS'!E311:E314)","v":5369.6223316912974},{"$f":"+SUM('B-5 TAREAS'!F311:F314)","v":0},{"$f":"+SUM('B-5 TAREAS'!G311:G314)","v":0},{"$f":"+SUM('B-5 TAREAS'!H311:H314)","v":0},{"$f":"+SUM('B-5 TAREAS'!I311:I314)","v":0},{"$f":"+SUM('B-5 TAREAS'!J311:J314)","v":0},{"$f":"+SUM('B-5 TAREAS'!K311:K314)","v":0},{"$f":"+SUM('B-5 TAREAS'!L311:L314)","v":2},{"$f":"+SUM('B-5 TAREAS'!M311:M314)","v":2},{"$f":"+SUM('B-5 TAREAS'!N311:N314)","v":3},{"$f":"+SUM('B-5 TAREAS'!O311:O314)","v":2},{"$f":"+SUM('B-5 TAREAS'!P311:P314)","v":2},{"$f":"+SUM('B-5 TAREAS'!Q311:Q314)","v":3},{"$f":"SUM(G117:R117)","v":14}]
["OEI.02 Reducir los riesgos técnicos y financieros de la prestación de planes y productos para el asegurado al SIS."]
[null,"AEI.02.01 Control técnico y financiero de las prestaciones médicas valorizadas incrementado a los establecimientos de salud."]
[null,null,"18AO111142924","Realzar el Control Técnico a las Prestaciones","INFORME",{"$f":"+SUM('B-5 TAREAS'!E317:E321)","v":5200},{"$f":"+SUM('B-5 TAREAS'!F317:F321)","v":4},{"$f":"+SUM('B-5 TAREAS'!G317:G321)","v":4},{"$f":"+SUM('B-5 TAREAS'!H317:H321)","v":4},{"$f":"+SUM('B-5 TAREAS'!I317:I321)","v":4},{"$f":"+SUM('B-5 TAREAS'!J317:J321)","v":4},{"$f":"+SUM('B-5 TAREAS'!K317:K321)","v":5},{"$f":"+SUM('B-5 TAREAS'!L317:L321)","v":4},{"$f":"+SUM('B-5 TAREAS'!M317:M321)","v":4},{"$f":"+SUM('B-5 TAREAS'!N317:N321)","v":5},{"$f":"+SUM('B-5 TAREAS'!O317:O321)","v":3},{"$f":"+SUM('B-5 TAREAS'!P317:P321)","v":3},{"$f":"+SUM('B-5 TAREAS'!Q317:Q321)","v":5},{"$f":"SUM(G120:R120)","v":49}]
["OEI.03 Mejorar la gestión del financiamiento de las prestaciones aprobadas para la atención del asegurado al SIS."]
[null,"AEI.03.02 Recursos del SIS transferidos orientados al financiamiento de reposición de medicamentos e insumos."]
[null,null,"18AO111142926","Realizar la supervisión financiera alas UE","INFORME",{"$f":"+SUM('B-5 TAREAS'!E324:E327)","v":10000},{"$f":"+SUM('B-5 TAREAS'!F324:F327)","v":2},{"$f":"+SUM('B-5 TAREAS'!G324:G327)","v":2},{"$f":"+SUM('B-5 TAREAS'!H324:H327)","v":2},{"$f":"+SUM('B-5 TAREAS'!I324:I327)","v":2},{"$f":"+SUM('B-5 TAREAS'!J324:J327)","v":2},{"$f":"+SUM('B-5 TAREAS'!K324:K327)","v":4},{"$f":"+SUM('B-5 TAREAS'!L324:L327)","v":2},{"$f":"+SUM('B-5 TAREAS'!M324:M327)","v":2},{"$f":"+SUM('B-5 TAREAS'!N324:N327)","v":3},{"$f":"+SUM('B-5 TAREAS'!O324:O327)","v":2},{"$f":"+SUM('B-5 TAREAS'!P324:P327)","v":2},{"$f":"+SUM('B-5 TAREAS'!Q324:Q327)","v":4},{"$f":"SUM(G123:R123)","v":29}]
[null,"AEI.03.03 Mecanismos de compra de servicios de salud optimizados para la atención del asegurado al SIS."]
[null,null,"18AO111142927","Implementar los acuerdos de convenios y/o contratos suscritos con las IPRESS","INFORME",{"$f":"+SUM('B-5 TAREAS'!E329:E333)","v":60032.377668308705},{"$f":"+SUM('B-5 TAREAS'!F329:F333)","v":0},{"$f":"+SUM('B-5 TAREAS'!G329:G333)","v":0},{"$f":"+SUM('B-5 TAREAS'!H329:H333)","v":0},{"$f":"+SUM('B-5 TAREAS'!I329:I333)","v":0},{"$f":"+SUM('B-5 TAREAS'!J329:J333)","v":0},{"$f":"+SUM('B-5 TAREAS'!K329:K333)","v":2},{"$f":"+SUM('B-5 TAREAS'!L329:L333)","v":1},{"$f":"+SUM('B-5 TAREAS'!M329:M333)","v":1},{"$f":"+SUM('B-5 TAREAS'!N329:N333)","v":1},{"$f":"+SUM('B-5 TAREAS'!O329:O333)","v":1},{"$f":"+SUM('B-5 TAREAS'!P329:P333)","v":2},{"$f":"+SUM('B-5 TAREAS'!Q329:Q333)","v":4},{"$f":"SUM(G125:R125)","v":12}]
[null,"06.04 - UDR CUTERVO"]
["OEI.01 Incrementar la cobertura de la población objetivo del SIS"]
[null,"AEI.01.01 Afiliación al SIS incrementada en la población objetivo."]
[null,null,"18AO111142928","Realizar acciones de afiliación","INFORME",{"$f":"+SUM('B-5 TAREAS'!E337:E340)","v":0},{"$f":"+SUM('B-5 TAREAS'!F337:F340)","v":0},{"$f":"+SUM('B-5 TAREAS'!G337:G340)","v":0},{"$f":"+SUM('B-5 TAREAS'!H337:H340)","v":0},{"$f":"+SUM('B-5 TAREAS'!I337:I340)","v":0},{"$f":"+SUM('B-5 TAREAS'!J337:J340)","v":0},{"$f":"+SUM('B-5 TAREAS'!K337:K340)","v":0},{"$f":"+SUM('B-5 TAREAS'!L337:L340)","v":0},{"$f":"+SUM('B-5 TAREAS'!M337:M340)","v":2},{"$f":"+SUM('B-5 TAREAS'!N337:N340)","v":1},{"$f":"+SUM('B-5 TAREAS'!O337:O340)","v":2},{"$f":"+SUM('B-5 TAREAS'!P337:P340)","v":2},{"$f":"+SUM('B-5 TAREAS'!Q337:Q340)","v":4},{"$f":"SUM(G129:R129)","v":11}]
[null,"AEI.01.02 Mecanismos de protección de derechos optimizados para los asegurados al SIS."]
[null,null,"18AO111142929","Realizar acciones para mitigar riesgos de vulneración de derechos de los asegurados","INFORME",{"$f":"+SUM('B-5 TAREAS'!E342:E345)","v":13700.207664715877},{"$f":"+SUM('B-5 TAREAS'!F342:F345)","v":0},{"$f":"+SUM('B-5 TAREAS'!G342:G345)","v":0},{"$f":"+SUM('B-5 TAREAS'!H342:H345)","v":0},{"$f":"+SUM('B-5 TAREAS'!I342:I345)","v":0},{"$f":"+SUM('B-5 TAREAS'!J342:J345)","v":0},{"$f":"+SUM('B-5 TAREAS'!K342:K345)","v":0},{"$f":"+SUM('B-5 TAREAS'!L342:L345)","v":2},{"$f":"+SUM('B-5 TAREAS'!M342:M345)","v":2},{"$f":"+SUM('B-5 TAREAS'!N342:N345)","v":3},{"$f":"+SUM('B-5 TAREAS'!O342:O345)","v":2},{"$f":"+SUM('B-5 TAREAS'!P342:P345)","v":2},{"$f":"+SUM('B-5 TAREAS'!Q342:Q345)","v":4},{"$f":"SUM(G131:R131)","v":15}]
["OEI.02 Reducir los riesgos técnicos y financieros de la prestación de planes y productos para el asegurado al SIS."]
[null,"AEI.02.01 Control técnico y financiero de las prestaciones médicas valorizadas incrementado a los establecimientos de salud."]
[null,null,"18AO111142930","Realzar el Control Técnico a las Prestaciones","INFORME",{"$f":"+SUM('B-5 TAREAS'!E348:E352)","v":11328.92014347744},{"$f":"+SUM('B-5 TAREAS'!F348:F352)","v":4},{"$f":"+SUM('B-5 TAREAS'!G348:G352)","v":4},{"$f":"+SUM('B-5 TAREAS'!H348:H352)","v":4},{"$f":"+SUM('B-5 TAREAS'!I348:I352)","v":4},{"$f":"+SUM('B-5 TAREAS'!J348:J352)","v":4},{"$f":"+SUM('B-5 TAREAS'!K348:K352)","v":5},{"$f":"+SUM('B-5 TAREAS'!L348:L352)","v":4},{"$f":"+SUM('B-5 TAREAS'!M348:M352)","v":4},{"$f":"+SUM('B-5 TAREAS'!N348:N352)","v":5},{"$f":"+SUM('B-5 TAREAS'!O348:O352)","v":4},{"$f":"+SUM('B-5 TAREAS'!P348:P352)","v":4},{"$f":"+SUM('B-5 TAREAS'!Q348:Q352)","v":5},{"$f":"SUM(G134:R134)","v":51}]
["OEI.03 Mejorar la gestión del financiamiento de las prestaciones aprobadas para la atención del asegurado al SIS."]
[null,"AEI.03.02 Recursos del SIS transferidos orientados al financiamiento de reposición de medicamentos e insumos."]
[null,null,"18AO111142931","Realizar la supervisión financiera alas UE","INFORME",{"$f":"+SUM('B-5 TAREAS'!E355:E358)","v":10000},{"$f":"+SUM('B-5 TAREAS'!F355:F358)","v":2},{"$f":"+SUM('B-5 TAREAS'!G355:G358)","v":2},{"$f":"+SUM('B-5 TAREAS'!H355:H358)","v":2},{"$f":"+SUM('B-5 TAREAS'!I355:I358)","v":2},{"$f":"+SUM('B-5 TAREAS'!J355:J358)","v":2},{"$f":"+SUM('B-5 TAREAS'!K355:K358)","v":4},{"$f":"+SUM('B-5 TAREAS'!L355:L358)","v":2},{"$f":"+SUM('B-5 TAREAS'!M355:M358)","v":2},{"$f":"+SUM('B-5 TAREAS'!N355:N358)","v":3},{"$f":"+SUM('B-5 TAREAS'!O355:O358)","v":1},{"$f":"+SUM('B-5 TAREAS'!P355:P358)","v":2},{"$f":"+SUM('B-5 TAREAS'!Q355:Q358)","v":2},{"$f":"SUM(G137:R137)","v":26}]
[null,"AEI.03.03 Mecanismos de compra de servicios de salud optimizados para la atención del asegurado al SIS."]
[null,null,"18AO111142932","Implementar los acuerdos de convenios y/o contratos suscritos con las IPRESS","INFORME",{"$f":"+SUM('B-5 TAREAS'!E360:E364)","v":57540.87219180668},{"$f":"+SUM('B-5 TAREAS'!F360:F364)","v":0},{"$f":"+SUM('B-5 TAREAS'!G360:G364)","v":0},{"$f":"+SUM('B-5 TAREAS'!H360:H364)","v":0},{"$f":"+SUM('B-5 TAREAS'!I360:I364)","v":0},{"$f":"+SUM('B-5 TAREAS'!J360:J364)","v":0},{"$f":"+SUM('B-5 TAREAS'!K360:K364)","v":2},{"$f":"+SUM('B-5 TAREAS'!L360:L364)","v":0},{"$f":"+SUM('B-5 TAREAS'!M360:M364)","v":0},{"$f":"+SUM('B-5 TAREAS'!N360:N364)","v":0},{"$f":"+SUM('B-5 TAREAS'!O360:O364)","v":0},{"$f":"+SUM('B-5 TAREAS'!P360:P364)","v":0},{"$f":"+SUM('B-5 TAREAS'!Q360:Q364)","v":5},{"$f":"SUM(G139:R139)","v":7}]
[null,"06.05 - UDR JAÉN"]
["OEI.01 Incrementar la cobertura de la población objetivo del SIS"]
[null,"AEI.01.01 Afiliación al SIS incrementada en la población objetivo."]
[null,null,"18AO111142933","Realizar acciones de afiliación","INFORME",{"$f":"+SUM('B-5 TAREAS'!E368:E371)","v":12402.309455075741},{"$f":"+SUM('B-5 TAREAS'!F368:F371)","v":0},{"$f":"+SUM('B-5 TAREAS'!G368:G371)","v":0},{"$f":"+SUM('B-5 TAREAS'!H368:H371)","v":0},{"$f":"+SUM('B-5 TAREAS'!I368:I371)","v":0},{"$f":"+SUM('B-5 TAREAS'!J368:J371)","v":0},{"$f":"+SUM('B-5 TAREAS'!K368:K371)","v":0},{"$f":"+SUM('B-5 TAREAS'!L368:L371)","v":0},{"$f":"+SUM('B-5 TAREAS'!M368:M371)","v":2},{"$f":"+SUM('B-5 TAREAS'!N368:N371)","v":1},{"$f":"+SUM('B-5 TAREAS'!O368:O371)","v":4},{"$f":"+SUM('B-5 TAREAS'!P368:P371)","v":2},{"$f":"+SUM('B-5 TAREAS'!Q368:Q371)","v":3},{"$f":"SUM(G143:R143)","v":12}]
[null,"AEI.01.02 Mecanismos de protección de derechos optimizados para los asegurados al SIS."]
[null,null,"18AO111142934","Realizar acciones para mitigar riesgos de vulneración de derechos de los asegurados","INFORME",{"$f":"+SUM('B-5 TAREAS'!E373:E376)","v":12402.309455075741},{"$f":"+SUM('B-5 TAREAS'!F373:F376)","v":0},{"$f":"+SUM('B-5 TAREAS'!G373:G376)","v":0},{"$f":"+SUM('B-5 TAREAS'!H373:H376)","v":0},{"$f":"+SUM('B-5 TAREAS'!I373:I376)","v":0},{"$f":"+SUM('B-5 TAREAS'!J373:J376)","v":0},{"$f":"+SUM('B-5 TAREAS'!K373:K376)","v":0},{"$f":"+SUM('B-5 TAREAS'!L373:L376)","v":2},{"$f":"+SUM('B-5 TAREAS'!M373:M376)","v":2},{"$f":"+SUM('B-5 TAREAS'!N373:N376)","v":3},{"$f":"+SUM('B-5 TAREAS'!O373:O376)","v":3},{"$f":"+SUM('B-5 TAREAS'!P373:P376)","v":3},{"$f":"+SUM('B-5 TAREAS'!Q373:Q376)","v":4},{"$f":"SUM(G145:R145)","v":17}]
["OEI.02 Reducir los riesgos técnicos y financieros de la prestación de planes y productos para el asegurado al SIS."]
[null,"AEI.02.01 Control técnico y financiero de las prestaciones médicas valorizadas incrementado a los establecimientos de salud."]
[null,null,"18AO111142935","Realzar el Control Técnico a las Prestaciones","INFORME",{"$f":"+SUM('B-5 TAREAS'!E379:E383)","v":10000},{"$f":"+SUM('B-5 TAREAS'!F379:F383)","v":4},{"$f":"+SUM('B-5 TAREAS'!G379:G383)","v":4},{"$f":"+SUM('B-5 TAREAS'!H379:H383)","v":4},{"$f":"+SUM('B-5 TAREAS'!I379:I383)","v":4},{"$f":"+SUM('B-5 TAREAS'!J379:J383)","v":4},{"$f":"+SUM('B-5 TAREAS'!K379:K383)","v":5},{"$f":"+SUM('B-5 TAREAS'!L379:L383)","v":4},{"$f":"+SUM('B-5 TAREAS'!M379:M383)","v":4},{"$f":"+SUM('B-5 TAREAS'!N379:N383)","v":5},{"$f":"+SUM('B-5 TAREAS'!O379:O383)","v":3},{"$f":"+SUM('B-5 TAREAS'!P379:P383)","v":3},{"$f":"+SUM('B-5 TAREAS'!Q379:Q383)","v":5},{"$f":"SUM(G148:R148)","v":49}]
["OEI.03 Mejorar la gestión del financiamiento de las prestaciones aprobadas para la atención del asegurado al SIS."]
[null,"AEI.03.02 Recursos del SIS transferidos orientados al financiamiento de reposición de medicamentos e insumos."]
[null,null,"18AO111142936","Realizar la supervisión financiera alas UE","INFORME",{"$f":"+SUM('B-5 TAREAS'!E386:E389)","v":4600},{"$f":"+SUM('B-5 TAREAS'!F386:F389)","v":2},{"$f":"+SUM('B-5 TAREAS'!G386:G389)","v":2},{"$f":"+SUM('B-5 TAREAS'!H386:H389)","v":2},{"$f":"+SUM('B-5 TAREAS'!I386:I389)","v":2},{"$f":"+SUM('B-5 TAREAS'!J386:J389)","v":2},{"$f":"+SUM('B-5 TAREAS'!K386:K389)","v":4},{"$f":"+SUM('B-5 TAREAS'!L386:L389)","v":2},{"$f":"+SUM('B-5 TAREAS'!M386:M389)","v":2},{"$f":"+SUM('B-5 TAREAS'!N386:N389)","v":3},{"$f":"+SUM('B-5 TAREAS'!O386:O389)","v":1},{"$f":"+SUM('B-5 TAREAS'!P386:P389)","v":1},{"$f":"+SUM('B-5 TAREAS'!Q386:Q389)","v":2},{"$f":"SUM(G151:R151)","v":25}]
[null,"AEI.03.03 Mecanismos de compra de servicios de salud optimizados para la atención del asegurado al SIS."]
[null,null,"18AO111142937","Implementar los acuerdos de convenios y/o contratos suscritos con las IPRESS","INFORME",{"$f":"+SUM('B-5 TAREAS'!E391:E395)","v":58541.381089848517},{"$f":"+SUM('B-5 TAREAS'!F391:F395)","v":0},{"$f":"+SUM('B-5 TAREAS'!G391:G395)","v":0},{"$f":"+SUM('B-5 TAREAS'!H391:H395)","v":0},{"$f":"+SUM('B-5 TAREAS'!I391:I395)","v":0},{"$f":"+SUM('B-5 TAREAS'!J391:J395)","v":0},{"$f":"+SUM('B-5 TAREAS'!K391:K395)","v":2},{"$f":"+SUM('B-5 TAREAS'!L391:L395)","v":0},{"$f":"+SUM('B-5 TAREAS'!M391:M395)","v":0},{"$f":"+SUM('B-5 TAREAS'!N391:N395)","v":0},{"$f":"+SUM('B-5 TAREAS'!O391:O395)","v":0},{"$f":"+SUM('B-5 TAREAS'!P391:P395)","v":1},{"$f":"+SUM('B-5 TAREAS'!Q391:Q395)","v":0},{"$f":"SUM(G153:R153)","v":3}]
[null,"06.06 - UDR LAMBAYEQUE"]
["OEI.01 Incrementar la cobertura de la población objetivo del SIS"]
[null,"AEI.01.01 Afiliación al SIS incrementada en la población objetivo."]
[null,null,"18AO111142938","Realizar acciones de afiliación","INFORME",{"$f":"+SUM('B-5 TAREAS'!E399:E402)","v":11481.203703703704},{"$f":"+SUM('B-5 TAREAS'!F399:F402)","v":0},{"$f":"+SUM('B-5 TAREAS'!G399:G402)","v":0},{"$f":"+SUM('B-5 TAREAS'!H399:H402)","v":0},{"$f":"+SUM('B-5 TAREAS'!I399:I402)","v":0},{"$f":"+SUM('B-5 TAREAS'!J399:J402)","v":0},{"$f":"+SUM('B-5 TAREAS'!K399:K402)","v":0},{"$f":"+SUM('B-5 TAREAS'!L399:L402)","v":0},{"$f":"+SUM('B-5 TAREAS'!M399:M402)","v":2},{"$f":"+SUM('B-5 TAREAS'!N399:N402)","v":1},{"$f":"+SUM('B-5 TAREAS'!O399:O402)","v":4},{"$f":"+SUM('B-5 TAREAS'!P399:P402)","v":1},{"$f":"+SUM('B-5 TAREAS'!Q399:Q402)","v":2},{"$f":"SUM(G157:R157)","v":10}]
[null,"AEI.01.02 Mecanismos de protección de derechos optimizados para los asegurados al SIS."]
[null,null,"18AO111142939","Realizar acciones para mitigar riesgos de vulneración de derechos de los asegurados","INFORME",{"$f":"+SUM('B-5 TAREAS'!E404:E407)","v":11481.203703703704},{"$f":"+SUM('B-5 TAREAS'!F404:F407)","v":0},{"$f":"+SUM('B-5 TAREAS'!G404:G407)","v":0},{"$f":"+SUM('B-5 TAREAS'!H404:H407)","v":0},{"$f":"+SUM('B-5 TAREAS'!I404:I407)","v":0},{"$f":"+SUM('B-5 TAREAS'!J404:J407)","v":0},{"$f":"+SUM('B-5 TAREAS'!K404:K407)","v":0},{"$f":"+SUM('B-5 TAREAS'!L404:L407)","v":2},{"$f":"+SUM('B-5 TAREAS'!M404:M407)","v":2},{"$f":"+SUM('B-5 TAREAS'!N404:N407)","v":3},{"$f":"+SUM('B-5 TAREAS'!O404:O407)","v":2},{"$f":"+SUM('B-5 TAREAS'!P404:P407)","v":2},{"$f":"+SUM('B-5 TAREAS'!Q404:Q407)","v":3},{"$f":"SUM(G159:R159)","v":14}]
["OEI.02 Reducir los riesgos técnicos y financieros de la prestación de planes y productos para el asegurado al SIS."]
[null,"AEI.02.01 Control técnico y financiero de las prestaciones médicas valorizadas incrementado a los establecimientos de salud."]
[null,null,"18AO111142940","Realzar el Control Técnico a las Prestaciones","INFORME",{"$f":"+SUM('B-5 TAREAS'!E410:E414)","v":26070.481481481482},{"$f":"+SUM('B-5 TAREAS'!F410:F414)","v":4},{"$f":"+SUM('B-5 TAREAS'!G410:G414)","v":4},{"$f":"+SUM('B-5 TAREAS'!H410:H414)","v":4},{"$f":"+SUM('B-5 TAREAS'!I410:I414)","v":4},{"$f":"+SUM('B-5 TAREAS'!J410:J414)","v":4},{"$f":"+SUM('B-5 TAREAS'!K410:K414)","v":5},{"$f":"+SUM('B-5 TAREAS'!L410:L414)","v":4},{"$f":"+SUM('B-5 TAREAS'!M410:M414)","v":4},{"$f":"+SUM('B-5 TAREAS'!N410:N414)","v":5},{"$f":"+SUM('B-5 TAREAS'!O410:O414)","v":3},{"$f":"+SUM('B-5 TAREAS'!P410:P414)","v":3},{"$f":"+SUM('B-5 TAREAS'!Q410:Q414)","v":5},{"$f":"SUM(G162:R162)","v":49}]
["OEI.03 Mejorar la gestión del financiamiento de las prestaciones aprobadas para la atención del asegurado al SIS."]
[null,"AEI.03.02 Recursos del SIS transferidos orientados al financiamiento de reposición de medicamentos e insumos."]
[null,null,"18AO111142941 ","Realizar la supervisión financiera alas UE","INFORME",{"$f":"+SUM('B-5 TAREAS'!E417:E420)","v":10000},{"$f":"+SUM('B-5 TAREAS'!F417:F420)","v":2},{"$f":"+SUM('B-5 TAREAS'!G417:G420)","v":2},{"$f":"+SUM('B-5 TAREAS'!H417:H420)","v":2},{"$f":"+SUM('B-5 TAREAS'!I417:I420)","v":2},{"$f":"+SUM('B-5 TAREAS'!J417:J420)","v":2},{"$f":"+SUM('B-5 TAREAS'!K417:K420)","v":4},{"$f":"+SUM('B-5 TAREAS'!L417:L420)","v":2},{"$f":"+SUM('B-5 TAREAS'!M417:M420)","v":2},{"$f":"+SUM('B-5 TAREAS'!N417:N420)","v":3},{"$f":"+SUM('B-5 TAREAS'!O417:O420)","v":2},{"$f":"+SUM('B-5 TAREAS'!P417:P420)","v":2},{"$f":"+SUM('B-5 TAREAS'!Q417:Q420)","v":4},{"$f":"SUM(G165:R165)","v":29}]
[null,"AEI.03.03 Mecanismos de compra de servicios de salud optimizados para la atención del asegurado al SIS."]
[null,null,"18AO111142942","Implementar los acuerdos de convenios y/o contratos suscritos con las IPRESS","INFORME",{"$f":"+SUM('B-5 TAREAS'!E422:E426)","v":96442.111111111109},{"$f":"+SUM('B-5 TAREAS'!F422:F426)","v":0},{"$f":"+SUM('B-5 TAREAS'!G422:G426)","v":0},{"$f":"+SUM('B-5 TAREAS'!H422:H426)","v":0},{"$f":"+SUM('B-5 TAREAS'!I422:I426)","v":0},{"$f":"+SUM('B-5 TAREAS'!J422:J426)","v":0},{"$f":"+SUM('B-5 TAREAS'!K422:K426)","v":2},{"$f":"+SUM('B-5 TAREAS'!L422:L426)","v":0},{"$f":"+SUM('B-5 TAREAS'!M422:M426)","v":0},{"$f":"+SUM('B-5 TAREAS'!N422:N426)","v":0},{"$f":"+SUM('B-5 TAREAS'!O422:O426)","v":0},{"$f":"+SUM('B-5 TAREAS'!P422:P426)","v":1},{"$f":"+SUM('B-5 TAREAS'!Q422:Q426)","v":4},{"$f":"SUM(G167:R167)","v":7}]
[null,"06.07 - UDR LA LIBERTAD"]
["OEI.01 Incrementar la cobertura de la población objetivo del SIS"]
[null,"AEI.01.01 Afiliación al SIS incrementada en la población objetivo."]
[null,null,"18AO111142944 ","Realizar acciones de afiliación","INFORME",{"$f":"+SUM('B-5 TAREAS'!E430:E433)","v":11207.994451800012},{"$f":"+SUM('B-5 TAREAS'!F430:F433)","v":0},{"$f":"+SUM('B-5 TAREAS'!G430:G433)","v":0},{"$f":"+SUM('B-5 TAREAS'!H430:H433)","v":0},{"$f":"+SUM('B-5 TAREAS'!I430:I433)","v":0},{"$f":"+SUM('B-5 TAREAS'!J430:J433)","v":0},{"$f":"+SUM('B-5 TAREAS'!K430:K433)","v":0},{"$f":"+SUM('B-5 TAREAS'!L430:L433)","v":0},{"$f":"+SUM('B-5 TAREAS'!M430:M433)","v":2},{"$f":"+SUM('B-5 TAREAS'!N430:N433)","v":1},{"$f":"+SUM('B-5 TAREAS'!O430:O433)","v":4},{"$f":"+SUM('B-5 TAREAS'!P430:P433)","v":1},{"$f":"+SUM('B-5 TAREAS'!Q430:Q433)","v":2},{"$f":"SUM(G171:R171)","v":10}]
[null,"AEI.01.02 Mecanismos de protección de derechos optimizados para los asegurados al SIS."]
[null,null,"18AO111142945","Realizar acciones para mitigar riesgos de vulneración de derechos de los asegurados","INFORME",{"$f":"+SUM('B-5 TAREAS'!E435:E440)","v":11207.994451800012},{"$f":"+SUM('B-5 TAREAS'!F435:F440)","v":0},{"$f":"+SUM('B-5 TAREAS'!G435:G440)","v":0},{"$f":"+SUM('B-5 TAREAS'!H435:H440)","v":0},{"$f":"+SUM('B-5 TAREAS'!I435:I440)","v":0},{"$f":"+SUM('B-5 TAREAS'!J435:J440)","v":0},{"$f":"+SUM('B-5 TAREAS'!K435:K440)","v":0},{"$f":"+SUM('B-5 TAREAS'!L435:L440)","v":2},{"$f":"+SUM('B-5 TAREAS'!M435:M440)","v":2},{"$f":"+SUM('B-5 TAREAS'!N435:N440)","v":3},{"$f":"+SUM('B-5 TAREAS'!O435:O440)","v":6},{"$f":"+SUM('B-5 TAREAS'!P435:P440)","v":6},{"$f":"+SUM('B-5 TAREAS'!Q435:Q440)","v":5},{"$f":"SUM(G173:R173)","v":24}]
["OEI.02 Reducir los riesgos técnicos y financieros de la prestación de planes y productos para el asegurado al SIS."]
[null,"AEI.02.01 Control técnico y financiero de las prestaciones médicas valorizadas incrementado a los establecimientos de salud."]
[null,null,"18AO111142946","Realzar el Control Técnico a las Prestaciones","INFORME",{"$f":"+SUM('B-5 TAREAS'!E443:E447)","v":34931.517558792009},{"$f":"+SUM('B-5 TAREAS'!F443:F447)","v":4},{"$f":"+SUM('B-5 TAREAS'!G443:G447)","v":4},{"$f":"+SUM('B-5 TAREAS'!H443:H447)","v":4},{"$f":"+SUM('B-5 TAREAS'!I443:I447)","v":4},{"$f":"+SUM('B-5 TAREAS'!J443:J447)","v":4},{"$f":"+SUM('B-5 TAREAS'!K443:K447)","v":5},{"$f":"+SUM('B-5 TAREAS'!L443:L447)","v":4},{"$f":"+SUM('B-5 TAREAS'!M443:M447)","v":4},{"$f":"+SUM('B-5 TAREAS'!N443:N447)","v":5},{"$f":"+SUM('B-5 TAREAS'!O443:O447)","v":3},{"$f":"+SUM('B-5 TAREAS'!P443:P447)","v":3},{"$f":"+SUM('B-5 TAREAS'!Q443:Q447)","v":5},{"$f":"SUM(G176:R176)","v":49}]
["OEI.03 Mejorar la gestión del financiamiento de las prestaciones aprobadas para la atención del asegurado al SIS."]
[null,"AEI.03.02 Recursos del SIS transferidos orientados al financiamiento de reposición de medicamentos e insumos."]
[null,null,"18AO111142947","Realizar la supervisión financiera alas UE","INFORME",{"$f":"+SUM('B-5 TAREAS'!E450:E453)","v":25000},{"$f":"+SUM('B-5 TAREAS'!F450:F453)","v":2},{"$f":"+SUM('B-5 TAREAS'!G450:G453)","v":2},{"$f":"+SUM('B-5 TAREAS'!H450:H453)","v":2},{"$f":"+SUM('B-5 TAREAS'!I450:I453)","v":2},{"$f":"+SUM('B-5 TAREAS'!J450:J453)","v":2},{"$f":"+SUM('B-5 TAREAS'!K450:K453)","v":4},{"$f":"+SUM('B-5 TAREAS'!L450:L453)","v":2},{"$f":"+SUM('B-5 TAREAS'!M450:M453)","v":2},{"$f":"+SUM('B-5 TAREAS'!N450:N453)","v":3},{"$f":"+SUM('B-5 TAREAS'!O450:O453)","v":3},{"$f":"+SUM('B-5 TAREAS'!P450:P453)","v":2},{"$f":"+SUM('B-5 TAREAS'!Q450:Q453)","v":4},{"$f":"SUM(G179:R179)","v":30}]
[null,"AEI.03.03 Mecanismos de compra de servicios de salud optimizados para la atención del asegurado al SIS."]
[null,null,"18AO111142948","Implementar los acuerdos de convenios y/o contratos suscritos con las IPRESS","INFORME",{"$f":"+SUM('B-5 TAREAS'!E455:E459)","v":114868.49353760797},{"$f":"+SUM('B-5 TAREAS'!F455:F459)","v":0},{"$f":"+SUM('B-5 TAREAS'!G455:G459)","v":0},{"$f":"+SUM('B-5 TAREAS'!H455:H459)","v":0},{"$f":"+SUM('B-5 TAREAS'!I455:I459)","v":0},{"$f":"+SUM('B-5 TAREAS'!J455:J459)","v":0},{"$f":"+SUM('B-5 TAREAS'!K455:K459)","v":2},{"$f":"+SUM('B-5 TAREAS'!L455:L459)","v":0},{"$f":"+SUM('B-5 TAREAS'!M455:M459)","v":0},{"$f":"+SUM('B-5 TAREAS'!N455:N459)","v":0},{"$f":"+SUM('B-5 TAREAS'!O455:O459)","v":0},{"$f":"+SUM('B-5 TAREAS'!P455:P459)","v":1},{"$f":"+SUM('B-5 TAREAS'!Q455:Q459)","v":4},{"$f":"SUM(G181:R181)","v":7}]
[null,"06.08 - UDR PIURA I"]
["OEI.01 Incrementar la cobertura de la población objetivo del SIS"]
[null,"AEI.01.01 Afiliación al SIS incrementada en la población objetivo."]
[null,null,"18AO111142949","Realizar acciones de afiliación","INFORME",{"$f":"+SUM('B-5 TAREAS'!E463:E466)","v":10411.2660944206},{"$f":"+SUM('B-5 TAREAS'!F463:F466)","v":0},{"$f":"+SUM('B-5 TAREAS'!G463:G466)","v":0},{"$f":"+SUM('B-5 TAREAS'!H463:H466)","v":0},{"$f":"+SUM('B-5 TAREAS'!I463:I466)","v":0},{"$f":"+SUM('B-5 TAREAS'!J463:J466)","v":0},{"$f":"+SUM('B-5 TAREAS'!K463:K466)","v":0},{"$f":"+SUM('B-5 TAREAS'!L463:L466)","v":0},{"$f":"+SUM('B-5 TAREAS'!M463:M466)","v":2},{"$f":"+SUM('B-5 TAREAS'!N463:N466)","v":1},{"$f":"+SUM('B-5 TAREAS'!O463:O466)","v":4},{"$f":"+SUM('B-5 TAREAS'!P463:P466)","v":1},{"$f":"+SUM('B-5 TAREAS'!Q463:Q466)","v":2},{"$f":"SUM(G185:R185)","v":10}]
[null,"AEI.01.02 Mecanismos de protección de derechos optimizados para los asegurados al SIS."]
[null,null,"18AO111142950","Realizar acciones para mitigar riesgos de vulneración de derechos de los asegurados","INFORME",{"$f":"+SUM('B-5 TAREAS'!E468:E471)","v":10411.2660944206},{"$f":"+SUM('B-5 TAREAS'!F468:F471)","v":0},{"$f":"+SUM('B-5 TAREAS'!G468:G471)","v":0},{"$f":"+SUM('B-5 TAREAS'!H468:H471)","v":0},{"$f":"+SUM('B-5 TAREAS'!I468:I471)","v":0},{"$f":"+SUM('B-5 TAREAS'!J468:J471)","v":0},{"$f":"+SUM('B-5 TAREAS'!K468:K471)","v":0},{"$f":"+SUM('B-5 TAREAS'!L468:L471)","v":2},{"$f":"+SUM('B-5 TAREAS'!M468:M471)","v":2},{"$f":"+SUM('B-5 TAREAS'!N468:N471)","v":3},{"$f":"+SUM('B-5 TAREAS'!O468:O471)","v":2},{"$f":"+SUM('B-5 TAREAS'!P468:P471)","v":2},{"$f":"+SUM('B-5 TAREAS'!Q468:Q471)","v":3},{"$f":"SUM(G187:R187)","v":14}]
["OEI.02 Reducir los riesgos técnicos y financieros de la prestación de planes y productos para el asegurado al SIS."]
[null,"AEI.02.01 Control técnico y financiero de las prestaciones médicas valorizadas incrementado a los establecimientos de salud."]
[null,null,"18AO111142951","Realzar el Control Técnico a las Prestaciones","INFORME",{"$f":"+SUM('B-5 TAREAS'!E474:E478)","v":33986.590128755364},{"$f":"+SUM('B-5 TAREAS'!F474:F478)","v":4},{"$f":"+SUM('B-5 TAREAS'!G474:G478)","v":4},{"$f":"+SUM('B-5 TAREAS'!H474:H478)","v":4},{"$f":"+SUM('B-5 TAREAS'!I474:I478)","v":4},{"$f":"+SUM('B-5 TAREAS'!J474:J478)","v":4},{"$f":"+SUM('B-5 TAREAS'!K474:K478)","v":5},{"$f":"+SUM('B-5 TAREAS'!L474:L478)","v":4},{"$f":"+SUM('B-5 TAREAS'!M474:M478)","v":4},{"$f":"+SUM('B-5 TAREAS'!N474:N478)","v":5},{"$f":"+SUM('B-5 TAREAS'!O474:O478)","v":2},{"$f":"+SUM('B-5 TAREAS'!P474:P478)","v":3},{"$f":"+SUM('B-5 TAREAS'!Q474:Q478)","v":5},{"$f":"SUM(G190:R190)","v":48}]
["OEI.03 Mejorar la gestión del financiamiento de las prestaciones aprobadas para la atención del asegurado al SIS."]
[null,"AEI.03.02 Recursos del SIS transferidos orientados al financiamiento de reposición de medicamentos e insumos."]
[null,null,"18AO111142952","Realizar la supervisión financiera alas UE","INFORME",{"$f":"+SUM('B-5 TAREAS'!E481:E484)","v":0},{"$f":"+SUM('B-5 TAREAS'!F481:F484)","v":2},{"$f":"+SUM('B-5 TAREAS'!G481:G484)","v":2},{"$f":"+SUM('B-5 TAREAS'!H481:H484)","v":2},{"$f":"+SUM('B-5 TAREAS'!I481:I484)","v":2},{"$f":"+SUM('B-5 TAREAS'!J481:J484)","v":2},{"$f":"+SUM('B-5 TAREAS'!K481:K484)","v":4},{"$f":"+SUM('B-5 TAREAS'!L481:L484)","v":2},{"$f":"+SUM('B-5 TAREAS'!M481:M484)","v":2},{"$f":"+SUM('B-5 TAREAS'!N481:N484)","v":3},{"$f":"+SUM('B-5 TAREAS'!O481:O484)","v":2},{"$f":"+SUM('B-5 TAREAS'!P481:P484)","v":2},{"$f":"+SUM('B-5 TAREAS'!Q481:Q484)","v":4},{"$f":"SUM(G193:R193)","v":29}]
[null,"AEI.03.03 Mecanismos de compra de servicios de salud optimizados para la atención del asegurado al SIS."]
[null,null,"18AO111142953","Implementar los acuerdos de convenios y/o contratos suscritos con las IPRESS","INFORME",{"$f":"+SUM('B-5 TAREAS'!E486:E490)","v":66423.877682403428},{"$f":"+SUM('B-5 TAREAS'!F486:F490)","v":0},{"$f":"+SUM('B-5 TAREAS'!G486:G490)","v":0},{"$f":"+SUM('B-5 TAREAS'!H486:H490)","v":0},{"$f":"+SUM('B-5 TAREAS'!I486:I490)","v":0},{"$f":"+SUM('B-5 TAREAS'!J486:J490)","v":0},{"$f":"+SUM('B-5 TAREAS'!K486:K490)","v":2},{"$f":"+SUM('B-5 TAREAS'!L486:L490)","v":0},{"$f":"+SUM('B-5 TAREAS'!M486:M490)","v":0},{"$f":"+SUM('B-5 TAREAS'!N486:N490)","v":0},{"$f":"+SUM('B-5 TAREAS'!O486:O490)","v":0},{"$f":"+SUM('B-5 TAREAS'!P486:P490)","v":1},{"$f":"+SUM('B-5 TAREAS'!Q486:Q490)","v":4},{"$f":"SUM(G195:R195)","v":7}]
[null,"06.09 - UDR PIURA II"]
["OEI.01 Incrementar la cobertura de la población objetivo del SIS"]
[null,"AEI.01.01 Afiliación al SIS incrementada en la población objetivo."]
[null,null,"18AO111142954","Realizar acciones de afiliación","INFORME",{"$f":"+SUM('B-5 TAREAS'!E494:E497)","v":0},{"$f":"+SUM('B-5 TAREAS'!F494:F497)","v":0},{"$f":"+SUM('B-5 TAREAS'!G494:G497)","v":0},{"$f":"+SUM('B-5 TAREAS'!H494:H497)","v":0},{"$f":"+SUM('B-5 TAREAS'!I494:I497)","v":0},{"$f":"+SUM('B-5 TAREAS'!J494:J497)","v":0},{"$f":"+SUM('B-5 TAREAS'!K494:K497)","v":0},{"$f":"+SUM('B-5 TAREAS'!L494:L497)","v":0},{"$f":"+SUM('B-5 TAREAS'!M494:M497)","v":2},{"$f":"+SUM('B-5 TAREAS'!N494:N497)","v":1},{"$f":"+SUM('B-5 TAREAS'!O494:O497)","v":4},{"$f":"+SUM('B-5 TAREAS'!P494:P497)","v":1},{"$f":"+SUM('B-5 TAREAS'!Q494:Q497)","v":2},{"$f":"SUM(G199:R199)","v":10}]
[null,"AEI.01.02 Mecanismos de protección de derechos optimizados para los asegurados al SIS."]
[null,null,"18AO111142955","Realizar acciones para mitigar riesgos de vulneración de derechos de los asegurados","INFORME",{"$f":"+SUM('B-5 TAREAS'!E499:E502)","v":8968.442622950819},{"$f":"+SUM('B-5 TAREAS'!F499:F502)","v":0},{"$f":"+SUM('B-5 TAREAS'!G499:G502)","v":0},{"$f":"+SUM('B-5 TAREAS'!H499:H502)","v":0},{"$f":"+SUM('B-5 TAREAS'!I499:I502)","v":0},{"$f":"+SUM('B-5 TAREAS'!J499:J502)","v":0},{"$f":"+SUM('B-5 TAREAS'!K499:K502)","v":0},{"$f":"+SUM('B-5 TAREAS'!L499:L502)","v":2},{"$f":"+SUM('B-5 TAREAS'!M499:M502)","v":2},{"$f":"+SUM('B-5 TAREAS'!N499:N502)","v":3},{"$f":"+SUM('B-5 TAREAS'!O499:O502)","v":2},{"$f":"+SUM('B-5 TAREAS'!P499:P502)","v":2},{"$f":"+SUM('B-5 TAREAS'!Q499:Q502)","v":3},{"$f":"SUM(G201:R201)","v":14}]
["OEI.02 Reducir los riesgos técnicos y financieros de la prestación de planes y productos para el asegurado al SIS."]
[null,"AEI.02.01 Control técnico y financiero de las prestaciones médicas valorizadas incrementado a los establecimientos de salud."]
[null,null,"18AO111142956","Realzar el Control Técnico a las Prestaciones","INFORME",{"$f":"+SUM('B-5 TAREAS'!E505:E509)","v":17000},{"$f":"+SUM('B-5 TAREAS'!F505:F509)","v":4},{"$f":"+SUM('B-5 TAREAS'!G505:G509)","v":4},{"$f":"+SUM('B-5 TAREAS'!H505:H509)","v":4},{"$f":"+SUM('B-5 TAREAS'!I505:I509)","v":4},{"$f":"+SUM('B-5 TAREAS'!J505:J509)","v":4},{"$f":"+SUM('B-5 TAREAS'!K505:K509)","v":5},{"$f":"+SUM('B-5 TAREAS'!L505:L509)","v":4},{"$f":"+SUM('B-5 TAREAS'!M505:M509)","v":4},{"$f":"+SUM('B-5 TAREAS'!N505:N509)","v":5},{"$f":"+SUM('B-5 TAREAS'!O505:O509)","v":2},{"$f":"+SUM('B-5 TAREAS'!P505:P509)","v":2},{"$f":"+SUM('B-5 TAREAS'!Q505:Q509)","v":5},{"$f":"SUM(G204:R204)","v":47}]
["OEI.03 Mejorar la gestión del financiamiento de las prestaciones aprobadas para la atención del asegurado al SIS."]
[null,"AEI.03.02 Recursos del SIS transferidos orientados al financiamiento de reposición de medicamentos e insumos."]
[null,null,"18AO111142957","Realizar la supervisión financiera alas UE","INFORME",{"$f":"+SUM('B-5 TAREAS'!E512:E515)","v":15000},{"$f":"+SUM('B-5 TAREAS'!F512:F515)","v":2},{"$f":"+SUM('B-5 TAREAS'!G512:G515)","v":2},{"$f":"+SUM('B-5 TAREAS'!H512:H515)","v":2},{"$f":"+SUM('B-5 TAREAS'!I512:I515)","v":2},{"$f":"+SUM('B-5 TAREAS'!J512:J515)","v":2},{"$f":"+SUM('B-5 TAREAS'!K512:K515)","v":4},{"$f":"+SUM('B-5 TAREAS'!L512:L515)","v":2},{"$f":"+SUM('B-5 TAREAS'!M512:M515)","v":2},{"$f":"+SUM('B-5 TAREAS'!N512:N515)","v":3},{"$f":"+SUM('B-5 TAREAS'!O512:O515)","v":2},{"$f":"+SUM('B-5 TAREAS'!P512:P515)","v":2},{"$f":"+SUM('B-5 TAREAS'!Q512:Q515)","v":4},{"$f":"SUM(G207:R207)","v":29}]
[null,"AEI.03.03 Mecanismos de compra de servicios de salud optimizados para la atención del asegurado al SIS."]
[null,null,"18AO111142958","Implementar los acuerdos de convenios y/o contratos suscritos con las IPRESS","INFORME",{"$f":"+SUM('B-5 TAREAS'!E517:E521)","v":100446.55737704918},{"$f":"+SUM('B-5 TAREAS'!F517:F521)","v":0},{"$f":"+SUM('B-5 TAREAS'!G517:G521)","v":0},{"$f":"+SUM('B-5 TAREAS'!H517:H521)","v":0},{"$f":"+SUM('B-5 TAREAS'!I517:I521)","v":0},{"$f":"+SUM('B-5 TAREAS'!J517:J521)","v":0},{"$f":"+SUM('B-5 TAREAS'!K517:K521)","v":2},{"$f":"+SUM('B-5 TAREAS'!L517:L521)","v":0},{"$f":"+SUM('B-5 TAREAS'!M517:M521)","v":0},{"$f":"+SUM('B-5 TAREAS'!N517:N521)","v":0},{"$f":"+SUM('B-5 TAREAS'!O517:O521)","v":0},{"$f":"+SUM('B-5 TAREAS'!P517:P521)","v":1},{"$f":"+SUM('B-5 TAREAS'!Q517:Q521)","v":4},{"$f":"SUM(G209:R209)","v":7}]
[null,"06.10 - UDR TUMBES"]
["OEI.01 Incrementar la cobertura de la población objetivo del SIS"]
[null,"AEI.01.01 Afiliación al SIS incrementada en la población objetivo."]
[null,null,"18AO111142959 ","Realizar acciones de afiliación","INFORME",{"$f":"+SUM('B-5 TAREAS'!E525:E528)","v":0},{"$f":"+SUM('B-5 TAREAS'!F525:F528)","v":0},{"$f":"+SUM('B-5 TAREAS'!G525:G528)","v":0},{"$f":"+SUM('B-5 TAREAS'!H525:H528)","v":0},{"$f":"+SUM('B-5 TAREAS'!I525:I528)","v":0},{"$f":"+SUM('B-5 TAREAS'!J525:J528)","v":0},{"$f":"+SUM('B-5 TAREAS'!K525:K528)","v":0},{"$f":"+SUM('B-5 TAREAS'!L525:L528)","v":0},{"$f":"+SUM('B-5 TAREAS'!M525:M528)","v":2},{"$f":"+SUM('B-5 TAREAS'!N525:N528)","v":1},{"$f":"+SUM('B-5 TAREAS'!O525:O528)","v":4},{"$f":"+SUM('B-5 TAREAS'!P525:P528)","v":1},{"$f":"+SUM('B-5 TAREAS'!Q525:Q528)","v":2},{"$f":"SUM(G213:R213)","v":10}]
[null,"AEI.01.02 Mecanismos de protección de derechos optimizados para los asegurados al SIS."]
[null,null,"18AO111142960","Realizar acciones para mitigar riesgos de vulneración de derechos de los asegurados","INFORME",{"$f":"+SUM('B-5 TAREAS'!E530:E533)","v":0},{"$f":"+SUM('B-5 TAREAS'!F530:F533)","v":0},{"$f":"+SUM('B-5 TAREAS'!G530:G533)","v":0},{"$f":"+SUM('B-5 TAREAS'!H530:H533)","v":0},{"$f":"+SUM('B-5 TAREAS'!I530:I533)","v":0},{"$f":"+SUM('B-5 TAREAS'!J530:J533)","v":0},{"$f":"+SUM('B-5 TAREAS'!K530:K533)","v":0},{"$f":"+SUM('B-5 TAREAS'!L530:L533)","v":2},{"$f":"+SUM('B-5 TAREAS'!M530:M533)","v":2},{"$f":"+SUM('B-5 TAREAS'!N530:N533)","v":3},{"$f":"+SUM('B-5 TAREAS'!O530:O533)","v":3},{"$f":"+SUM('B-5 TAREAS'!P530:P533)","v":2},{"$f":"+SUM('B-5 TAREAS'!Q530:Q533)","v":3},{"$f":"SUM(G215:R215)","v":15}]
["OEI.02 Reducir los riesgos técnicos y financieros de la prestación de planes y productos para el asegurado al SIS."]
[null,"AEI.02.01 Control técnico y financiero de las prestaciones médicas valorizadas incrementado a los establecimientos de salud."]
[null,null,"18AO111142961","Realzar el Control Técnico a las Prestaciones","INFORME",{"$f":"+SUM('B-5 TAREAS'!E536:E540)","v":10000},{"$f":"+SUM('B-5 TAREAS'!F536:F540)","v":4},{"$f":"+SUM('B-5 TAREAS'!G536:G540)","v":4},{"$f":"+SUM('B-5 TAREAS'!H536:H540)","v":4},{"$f":"+SUM('B-5 TAREAS'!I536:I540)","v":4},{"$f":"+SUM('B-5 TAREAS'!J536:J540)","v":4},{"$f":"+SUM('B-5 TAREAS'!K536:K540)","v":5},{"$f":"+SUM('B-5 TAREAS'!L536:L540)","v":4},{"$f":"+SUM('B-5 TAREAS'!M536:M540)","v":4},{"$f":"+SUM('B-5 TAREAS'!N536:N540)","v":5},{"$f":"+SUM('B-5 TAREAS'!O536:O540)","v":2},{"$f":"+SUM('B-5 TAREAS'!P536:P540)","v":2},{"$f":"+SUM('B-5 TAREAS'!Q536:Q540)","v":2},{"$f":"SUM(G218:R218)","v":44}]
["OEI.03 Mejorar la gestión del financiamiento de las prestaciones aprobadas para la atención del asegurado al SIS."]
[null,"AEI.03.02 Recursos del SIS transferidos orientados al financiamiento de reposición de medicamentos e insumos."]
[null,null,"18AO111142962","Realizar la supervisión financiera alas UE","INFORME",{"$f":"+SUM('B-5 TAREAS'!E543:E546)","v":9985},{"$f":"+SUM('B-5 TAREAS'!F543:F546)","v":2},{"$f":"+SUM('B-5 TAREAS'!G543:G546)","v":2},{"$f":"+SUM('B-5 TAREAS'!H543:H546)","v":2},{"$f":"+SUM('B-5 TAREAS'!I543:I546)","v":2},{"$f":"+SUM('B-5 TAREAS'!J543:J546)","v":2},{"$f":"+SUM('B-5 TAREAS'!K543:K546)","v":4},{"$f":"+SUM('B-5 TAREAS'!L543:L546)","v":2},{"$f":"+SUM('B-5 TAREAS'!M543:M546)","v":2},{"$f":"+SUM('B-5 TAREAS'!N543:N546)","v":3},{"$f":"+SUM('B-5 TAREAS'!O543:O546)","v":2},{"$f":"+SUM('B-5 TAREAS'!P543:P546)","v":2},{"$f":"+SUM('B-5 TAREAS'!Q543:Q546)","v":3},{"$f":"SUM(G221:R221)","v":28}]
[null,"AEI.03.03 Mecanismos de compra de servicios de salud optimizados para la atención del asegurado al SIS."]
[null,null,"18AO111142963 ","Implementar los acuerdos de convenios y/o contratos suscritos con las IPRESS","INFORME",{"$f":"+SUM('B-5 TAREAS'!E548:E552)","v":84843},{"$f":"+SUM('B-5 TAREAS'!F548:F552)","v":0},{"$f":"+SUM('B-5 TAREAS'!G548:G552)","v":0},{"$f":"+SUM('B-5 TAREAS'!H548:H552)","v":0},{"$f":"+SUM('B-5 TAREAS'!I548:I552)","v":0},{"$f":"+SUM('B-5 TAREAS'!J548:J552)","v":0},{"$f":"+SUM('B-5 TAREAS'!K548:K552)","v":2},{"$f":"+SUM('B-5 TAREAS'!L548:L552)","v":0},{"$f":"+SUM('B-5 TAREAS'!M548:M552)","v":0},{"$f":"+SUM('B-5 TAREAS'!N548:N552)","v":0},{"$f":"+SUM('B-5 TAREAS'!O548:O552)","v":0},{"$f":"+SUM('B-5 TAREAS'!P548:P552)","v":2},{"$f":"+SUM('B-5 TAREAS'!Q548:Q552)","v":3},{"$f":"SUM(G223:R223)","v":7}]
[null,"07.01 - GERENCIA MACRO REGIONAL SUR"]
["OEI.01 Incrementar la cobertura de la población objetivo del SIS"]
[null,"AEI.01.01 Afiliación al SIS incrementada en la población objetivo."]
[null,null,"18AO111142964","Control y supervision a las udr en las acciones de afiliacion","INFORME",{"$f":"+SUM('B-5 TAREAS'!E556:E560)","v":35802.214837180087},{"$f":"+SUM('B-5 TAREAS'!F556:F560)","v":0},{"$f":"+SUM('B-5 TAREAS'!G556:G560)","v":0},{"$f":"+SUM('B-5 TAREAS'!H556:H560)","v":0},{"$f":"+SUM('B-5 TAREAS'!I556:I560)","v":0},{"$f":"+SUM('B-5 TAREAS'!J556:J560)","v":0},{"$f":"+SUM('B-5 TAREAS'!K556:K560)","v":0},{"$f":"+SUM('B-5 TAREAS'!L556:L560)","v":2},{"$f":"+SUM('B-5 TAREAS'!M556:M560)","v":2},{"$f":"+SUM('B-5 TAREAS'!N556:N560)","v":3},{"$f":"+SUM('B-5 TAREAS'!O556:O560)","v":3},{"$f":"+SUM('B-5 TAREAS'!P556:P560)","v":5},{"$f":"+SUM('B-5 TAREAS'!Q556:Q560)","v":2},{"$f":"SUM(G227:R227)","v":17}]
["OEI.02 Reducir los riesgos técnicos y financieros de la prestación de planes y productos para el asegurado al SIS."]
[null,"AEI.02.01 Control técnico y financiero de las prestaciones médicas valorizadas incrementado a los establecimientos de salud."]
[null,null,"18AO111142965","Supervisión  y asistencia técnica a las audrs en las cciones de control técnico a prestaciones","INFORME",{"$f":"+SUM('B-5 TAREAS'!E563:E566)","v":61639.468033800076},{"$f":"+SUM('B-5 TAREAS'!F563:F566)","v":0},{"$f":"+SUM('B-5 TAREAS'!G563:G566)","v":0},{"$f":"+SUM('B-5 TAREAS'!H563:H566)","v":0},{"$f":"+SUM('B-5 TAREAS'!I563:I566)","v":0},{"$f":"+SUM('B-5 TAREAS'!J563:J566)","v":0},{"$f":"+SUM('B-5 TAREAS'!K563:K566)","v":0},{"$f":"+SUM('B-5 TAREAS'!L563:L566)","v":3},{"$f":"+SUM('B-5 TAREAS'!M563:M566)","v":2},{"$f":"+SUM('B-5 TAREAS'!N563:N566)","v":1},{"$f":"+SUM('B-5 TAREAS'!O563:O566)","v":2},{"$f":"+SUM('B-5 TAREAS'!P563:P566)","v":6},{"$f":"+SUM('B-5 TAREAS'!Q563:Q566)","v":3},{"$f":"SUM(G230:R230)","v":17}]
["OEI.03 Mejorar la gestión del financiamiento de las prestaciones aprobadas para la atención del asegurado al SIS."]
[null,"AEI.03.02 Recursos del SIS transferidos orientados al financiamiento de reposición de medicamentos e insumos."]
[null,null,"18AO111142966","Supervisión y asistencia técnica a las UDRs en el monitoreo, seguimiento y control de los recursos del SIS","INFORME",{"$f":"+SUM('B-5 TAREAS'!E569:E573)","v":26606.427100853107},{"$f":"+SUM('B-5 TAREAS'!F569:F573)","v":0},{"$f":"+SUM('B-5 TAREAS'!G569:G573)","v":0},{"$f":"+SUM('B-5 TAREAS'!H569:H573)","v":0},{"$f":"+SUM('B-5 TAREAS'!I569:I573)","v":0},{"$f":"+SUM('B-5 TAREAS'!J569:J573)","v":0},{"$f":"+SUM('B-5 TAREAS'!K569:K573)","v":0},{"$f":"+SUM('B-5 TAREAS'!L569:L573)","v":1},{"$f":"+SUM('B-5 TAREAS'!M569:M573)","v":2},{"$f":"+SUM('B-5 TAREAS'!N569:N573)","v":2},{"$f":"+SUM('B-5 TAREAS'!O569:O573)","v":4},{"$f":"+SUM('B-5 TAREAS'!P569:P573)","v":5},{"$f":"+SUM('B-5 TAREAS'!Q569:Q573)","v":2},{"$f":"SUM(G233:R233)","v":16}]
["OEI.04 Mejorar la eficacia y eficiencia de los procesos de gestión instituciona"]
[null,"AEI.04.01 Fortalecer la organización orientándola al desarrollo de las funciones de un asegurador público eficiente, eficaz y con enfoque de procesos."]
[null,null,"18AO110920906","Realizar acciones de coordinación en gestión.","INFORME",{"$f":"+SUM('B-5 TAREAS'!E576:E584)","v":27122.89002816673},{"$f":"+SUM('B-5 TAREAS'!F576:F584)","v":3},{"$f":"+SUM('B-5 TAREAS'!G576:G584)","v":3},{"$f":"+SUM('B-5 TAREAS'!H576:H584)","v":5},{"$f":"+SUM('B-5 TAREAS'!I576:I584)","v":3},{"$f":"+SUM('B-5 TAREAS'!J576:J584)","v":3},{"$f":"+SUM('B-5 TAREAS'!K576:K584)","v":7},{"$f":"+SUM('B-5 TAREAS'!L576:L584)","v":3},{"$f":"+SUM('B-5 TAREAS'!M576:M584)","v":3},{"$f":"+SUM('B-5 TAREAS'!N576:N584)","v":5},{"$f":"+SUM('B-5 TAREAS'!O576:O584)","v":5},{"$f":"+SUM('B-5 TAREAS'!P576:P584)","v":5},{"$f":"+SUM('B-5 TAREAS'!Q576:Q584)","v":9},{"$f":"SUM(G236:R236)","v":54}]
[null,"07.02 - UDR AREQUIPA"]
["OEI.01 Incrementar la cobertura de la población objetivo del SIS"]
[null,"AEI.01.01 Afiliación al SIS incrementada en la población objetivo."]
[null,null,"18AO111142967","Realizar acciones de afiliación","INFORME",{"$f":"+SUM('B-5 TAREAS'!E588:E591)","v":9732.5133689839568},{"$f":"+SUM('B-5 TAREAS'!F588:F591)","v":0},{"$f":"+SUM('B-5 TAREAS'!G588:G591)","v":0},{"$f":"+SUM('B-5 TAREAS'!H588:H591)","v":0},{"$f":"+SUM('B-5 TAREAS'!I588:I591)","v":0},{"$f":"+SUM('B-5 TAREAS'!J588:J591)","v":0},{"$f":"+SUM('B-5 TAREAS'!K588:K591)","v":0},{"$f":"+SUM('B-5 TAREAS'!L588:L591)","v":0},{"$f":"+SUM('B-5 TAREAS'!M588:M591)","v":2},{"$f":"+SUM('B-5 TAREAS'!N588:N591)","v":1},{"$f":"+SUM('B-5 TAREAS'!O588:O591)","v":0},{"$f":"+SUM('B-5 TAREAS'!P588:P591)","v":1},{"$f":"+SUM('B-5 TAREAS'!Q588:Q591)","v":3},{"$f":"SUM(G240:R240)","v":7}]
[null,"AEI.01.02 Mecanismos de protección de derechos optimizados para los asegurados al SIS."]
[null,null,"18AO111142968","Realizar acciones para mitigar riesgos de vulneración de derechos de los asegurados","INFORME",{"$f":"+SUM('B-5 TAREAS'!E593:E596)","v":9732.5133689839568},{"$f":"+SUM('B-5 TAREAS'!F593:F596)","v":0},{"$f":"+SUM('B-5 TAREAS'!G593:G596)","v":0},{"$f":"+SUM('B-5 TAREAS'!H593:H596)","v":0},{"$f":"+SUM('B-5 TAREAS'!I593:I596)","v":0},{"$f":"+SUM('B-5 TAREAS'!J593:J596)","v":0},{"$f":"+SUM('B-5 TAREAS'!K593:K596)","v":0},{"$f":"+SUM('B-5 TAREAS'!L593:L596)","v":2},{"$f":"+SUM('B-5 TAREAS'!M593:M596)","v":2},{"$f":"+SUM('B-5 TAREAS'!N593:N596)","v":3},{"$f":"+SUM('B-5 TAREAS'!O593:O596)","v":2},{"$f":"+SUM('B-5 TAREAS'!P593:P596)","v":3},{"$f":"+SUM('B-5 TAREAS'!Q593:Q596)","v":2},{"$f":"SUM(G242:R242)","v":14}]
["OEI.02 Reducir los riesgos técnicos y financieros de la prestación de planes y productos para el asegurado al SIS."]
[null,"AEI.02.01 Control técnico y financiero de las prestaciones médicas valorizadas incrementado a los establecimientos de salud."]
[null,null,"18AO111142969","Realzar el Control Técnico a las Prestaciones","INFORME",{"$f":"+SUM('B-5 TAREAS'!E599:E603)","v":28020.427807486631},{"$f":"+SUM('B-5 TAREAS'!F599:F603)","v":4},{"$f":"+SUM('B-5 TAREAS'!G599:G603)","v":4},{"$f":"+SUM('B-5 TAREAS'!H599:H603)","v":4},{"$f":"+SUM('B-5 TAREAS'!I599:I603)","v":4},{"$f":"+SUM('B-5 TAREAS'!J599:J603)","v":4},{"$f":"+SUM('B-5 TAREAS'!K599:K603)","v":5},{"$f":"+SUM('B-5 TAREAS'!L599:L603)","v":4},{"$f":"+SUM('B-5 TAREAS'!M599:M603)","v":4},{"$f":"+SUM('B-5 TAREAS'!N599:N603)","v":5},{"$f":"+SUM('B-5 TAREAS'!O599:O603)","v":2},{"$f":"+SUM('B-5 TAREAS'!P599:P603)","v":2},{"$f":"+SUM('B-5 TAREAS'!Q599:Q603)","v":5},{"$f":"SUM(G245:R245)","v":47}]
["OEI.03 Mejorar la gestión del financiamiento de las prestaciones aprobadas para la atención del asegurado al SIS."]
[null,"AEI.03.02 Recursos del SIS transferidos orientados al financiamiento de reposición de medicamentos e insumos."]
[null,null,"18AO111142970","Realizar la supervisión financiera alas UE","INFORME",{"$f":"+SUM('B-5 TAREAS'!E606:E610)","v":20110.427807486631},{"$f":"+SUM('B-5 TAREAS'!F606:F610)","v":2},{"$f":"+SUM('B-5 TAREAS'!G606:G610)","v":2},{"$f":"+SUM('B-5 TAREAS'!H606:H610)","v":2},{"$f":"+SUM('B-5 TAREAS'!I606:I610)","v":2},{"$f":"+SUM('B-5 TAREAS'!J606:J610)","v":2},{"$f":"+SUM('B-5 TAREAS'!K606:K610)","v":4},{"$f":"+SUM('B-5 TAREAS'!L606:L610)","v":2},{"$f":"+SUM('B-5 TAREAS'!M606:M610)","v":2},{"$f":"+SUM('B-5 TAREAS'!N606:N610)","v":3},{"$f":"+SUM('B-5 TAREAS'!O606:O610)","v":3},{"$f":"+SUM('B-5 TAREAS'!P606:P610)","v":3},{"$f":"+SUM('B-5 TAREAS'!Q606:Q610)","v":5},{"$f":"SUM(G248:R248)","v":32}]
[null,"AEI.03.03 Mecanismos de compra de servicios de salud optimizados para la atención del asegurado al SIS."]
[null,null,"18AO111142971","Implementar los acuerdos de convenios y/o contratos suscritos con las IPRESS","INFORME",{"$f":"+SUM('B-5 TAREAS'!E612:E615)","v":55313.117647058825},{"$f":"+SUM('B-5 TAREAS'!F612:F615)","v":0},{"$f":"+SUM('B-5 TAREAS'!G612:G615)","v":0},{"$f":"+SUM('B-5 TAREAS'!H612:H615)","v":0},{"$f":"+SUM('B-5 TAREAS'!I612:I615)","v":0},{"$f":"+SUM('B-5 TAREAS'!J612:J615)","v":0},{"$f":"+SUM('B-5 TAREAS'!K612:K615)","v":2},{"$f":"+SUM('B-5 TAREAS'!L612:L615)","v":0},{"$f":"+SUM('B-5 TAREAS'!M612:M615)","v":0},{"$f":"+SUM('B-5 TAREAS'!N612:N615)","v":0},{"$f":"+SUM('B-5 TAREAS'!O612:O615)","v":0},{"$f":"+SUM('B-5 TAREAS'!P612:P615)","v":0},{"$f":"+SUM('B-5 TAREAS'!Q612:Q615)","v":4},{"$f":"SUM(G250:R250)","v":6}]
[null,"07.03 - UDR CUSCO"]
["OEI.01 Incrementar la cobertura de la población objetivo del SIS"]
[null,"AEI.01.01 Afiliación al SIS incrementada en la población objetivo."]
[null,null,"18AO111142972","Realizar acciones de afiliación","INFORME",{"$f":"+SUM('B-5 TAREAS'!E619:E622)","v":11777.543859649122},{"$f":"+SUM('B-5 TAREAS'!F619:F622)","v":0},{"$f":"+SUM('B-5 TAREAS'!G619:G622)","v":0},{"$f":"+SUM('B-5 TAREAS'!H619:H622)","v":0},{"$f":"+SUM('B-5 TAREAS'!I619:I622)","v":0},{"$f":"+SUM('B-5 TAREAS'!J619:J622)","v":0},{"$f":"+SUM('B-5 TAREAS'!K619:K622)","v":0},{"$f":"+SUM('B-5 TAREAS'!L619:L622)","v":0},{"$f":"+SUM('B-5 TAREAS'!M619:M622)","v":2},{"$f":"+SUM('B-5 TAREAS'!N619:N622)","v":1},{"$f":"+SUM('B-5 TAREAS'!O619:O622)","v":0},{"$f":"+SUM('B-5 TAREAS'!P619:P622)","v":1},{"$f":"+SUM('B-5 TAREAS'!Q619:Q622)","v":3},{"$f":"SUM(G254:R254)","v":7}]
[null,"AEI.01.02 Mecanismos de protección de derechos optimizados para los asegurados al SIS."]
[null,null,"18AO111142973","Realizar acciones para mitigar riesgos de vulneración de derechos de los asegurados","INFORME",{"$f":"+SUM('B-5 TAREAS'!E624:E627)","v":5888.7719298245611},{"$f":"+SUM('B-5 TAREAS'!F624:F627)","v":0},{"$f":"+SUM('B-5 TAREAS'!G624:G627)","v":0},{"$f":"+SUM('B-5 TAREAS'!H624:H627)","v":0},{"$f":"+SUM('B-5 TAREAS'!I624:I627)","v":0},{"$f":"+SUM('B-5 TAREAS'!J624:J627)","v":0},{"$f":"+SUM('B-5 TAREAS'!K624:K627)","v":0},{"$f":"+SUM('B-5 TAREAS'!L624:L627)","v":2},{"$f":"+SUM('B-5 TAREAS'!M624:M627)","v":2},{"$f":"+SUM('B-5 TAREAS'!N624:N627)","v":3},{"$f":"+SUM('B-5 TAREAS'!O624:O627)","v":2},{"$f":"+SUM('B-5 TAREAS'!P624:P627)","v":3},{"$f":"+SUM('B-5 TAREAS'!Q624:Q627)","v":2},{"$f":"SUM(G256:R256)","v":14}]
["OEI.02 Reducir los riesgos técnicos y financieros de la prestación de planes y productos para el asegurado al SIS."]
[null,"AEI.02.01 Control técnico y financiero de las prestaciones médicas valorizadas incrementado a los establecimientos de salud."]
[null,null,"18AO111142974","Realzar el Control Técnico a las Prestaciones","INFORME",{"$f":"+SUM('B-5 TAREAS'!E630:E634)","v":28833.15789473684},{"$f":"+SUM('B-5 TAREAS'!F630:F634)","v":4},{"$f":"+SUM('B-5 TAREAS'!G630:G634)","v":4},{"$f":"+SUM('B-5 TAREAS'!H630:H634)","v":4},{"$f":"+SUM('B-5 TAREAS'!I630:I634)","v":4},{"$f":"+SUM('B-5 TAREAS'!J630:J634)","v":4},{"$f":"+SUM('B-5 TAREAS'!K630:K634)","v":5},{"$f":"+SUM('B-5 TAREAS'!L630:L634)","v":4},{"$f":"+SUM('B-5 TAREAS'!M630:M634)","v":4},{"$f":"+SUM('B-5 TAREAS'!N630:N634)","v":5},{"$f":"+SUM('B-5 TAREAS'!O630:O634)","v":2},{"$f":"+SUM('B-5 TAREAS'!P630:P634)","v":2},{"$f":"+SUM('B-5 TAREAS'!Q630:Q634)","v":5},{"$f":"SUM(G259:R259)","v":47}]
["OEI.03 Mejorar la gestión del financiamiento de las prestaciones aprobadas para la atención del asegurado al SIS."]
[null,"AEI.03.02 Recursos del SIS transferidos orientados al financiamiento de reposición de medicamentos e insumos."]
[null,null,"18AO111142975","Realizar la supervisión financiera alas UE","INFORME",{"$f":"+SUM('B-5 TAREAS'!E637:E641)","v":20240},{"$f":"+SUM('B-5 TAREAS'!F637:F641)","v":2},{"$f":"+SUM('B-5 TAREAS'!G637:G641)","v":2},{"$f":"+SUM('B-5 TAREAS'!H637:H641)","v":2},{"$f":"+SUM('B-5 TAREAS'!I637:I641)","v":2},{"$f":"+SUM('B-5 TAREAS'!J637:J641)","v":2},{"$f":"+SUM('B-5 TAREAS'!K637:K641)","v":4},{"$f":"+SUM('B-5 TAREAS'!L637:L641)","v":2},{"$f":"+SUM('B-5 TAREAS'!M637:M641)","v":2},{"$f":"+SUM('B-5 TAREAS'!N637:N641)","v":3},{"$f":"+SUM('B-5 TAREAS'!O637:O641)","v":3},{"$f":"+SUM('B-5 TAREAS'!P637:P641)","v":3},{"$f":"+SUM('B-5 TAREAS'!Q637:Q641)","v":5},{"$f":"SUM(G262:R262)","v":32}]
[null,"AEI.03.03 Mecanismos de compra de servicios de salud optimizados para la atención del asegurado al SIS."]
[null,null,"18AO111142976","Implementar los acuerdos de convenios y/o contratos suscritos con las IPRESS","INFORME",{"$f":"+SUM('B-5 TAREAS'!E643:E646)","v":141330.52631578947},{"$f":"+SUM('B-5 TAREAS'!F643:F646)","v":0},{"$f":"+SUM('B-5 TAREAS'!G643:G646)","v":0},{"$f":"+SUM('B-5 TAREAS'!H643:H646)","v":0},{"$f":"+SUM('B-5 TAREAS'!I643:I646)","v":0},{"$f":"+SUM('B-5 TAREAS'!J643:J646)","v":0},{"$f":"+SUM('B-5 TAREAS'!K643:K646)","v":2},{"$f":"+SUM('B-5 TAREAS'!L643:L646)","v":0},{"$f":"+SUM('B-5 TAREAS'!M643:M646)","v":0},{"$f":"+SUM('B-5 TAREAS'!N643:N646)","v":0},{"$f":"+SUM('B-5 TAREAS'!O643:O646)","v":0},{"$f":"+SUM('B-5 TAREAS'!P643:P646)","v":0},{"$f":"+SUM('B-5 TAREAS'!Q643:Q646)","v":4},{"$f":"SUM(G264:R264)","v":6}]
[null,"07.04 - UDR MADRE DE DIOS"]
["OEI.01 Incrementar la cobertura de la población objetivo del SIS"]
[null,"AEI.01.01 Afiliación al SIS incrementada en la población objetivo."]
[null,null,"18AO111142977","Realizar acciones de afiliación","INFORME",{"$f":"+SUM('B-5 TAREAS'!E650:E653)","v":0},{"$f":"+SUM('B-5 TAREAS'!F650:F653)","v":0},{"$f":"+SUM('B-5 TAREAS'!G650:G653)","v":0},{"$f":"+SUM('B-5 TAREAS'!H650:H653)","v":0},{"$f":"+SUM('B-5 TAREAS'!I650:I653)","v":0},{"$f":"+SUM('B-5 TAREAS'!J650:J653)","v":0},{"$f":"+SUM('B-5 TAREAS'!K650:K653)","v":0},{"$f":"+SUM('B-5 TAREAS'!L650:L653)","v":0},{"$f":"+SUM('B-5 TAREAS'!M650:M653)","v":0},{"$f":"+SUM('B-5 TAREAS'!N650:N653)","v":1},{"$f":"+SUM('B-5 TAREAS'!O650:O653)","v":0},{"$f":"+SUM('B-5 TAREAS'!P650:P653)","v":1},{"$f":"+SUM('B-5 TAREAS'!Q650:Q653)","v":3},{"$f":"SUM(G268:R268)","v":5}]
[null,"AEI.01.02 Mecanismos de protección de derechos optimizados para los asegurados al SIS."]
[null,null,"18AO111142978","Realizar acciones para mitigar riesgos de vulneración de derechos de los asegurados","INFORME",{"$f":"+SUM('B-5 TAREAS'!E655:E658)","v":0},{"$f":"+SUM('B-5 TAREAS'!F655:F658)","v":0},{"$f":"+SUM('B-5 TAREAS'!G655:G658)","v":0},{"$f":"+SUM('B-5 TAREAS'!H655:H658)","v":0},{"$f":"+SUM('B-5 TAREAS'!I655:I658)","v":0},{"$f":"+SUM('B-5 TAREAS'!J655:J658)","v":0},{"$f":"+SUM('B-5 TAREAS'!K655:K658)","v":0},{"$f":"+SUM('B-5 TAREAS'!L655:L658)","v":1},{"$f":"+SUM('B-5 TAREAS'!M655:M658)","v":1},{"$f":"+SUM('B-5 TAREAS'!N655:N658)","v":2},{"$f":"+SUM('B-5 TAREAS'!O655:O658)","v":2},{"$f":"+SUM('B-5 TAREAS'!P655:P658)","v":3},{"$f":"+SUM('B-5 TAREAS'!Q655:Q658)","v":2},{"$f":"SUM(G270:R270)","v":11}]
["OEI.02 Reducir los riesgos técnicos y financieros de la prestación de planes y productos para el asegurado al SIS."]
[null,"AEI.02.01 Control técnico y financiero de las prestaciones médicas valorizadas incrementado a los establecimientos de salud."]
[null,null,"18AO111142979","Realzar el Control Técnico a las Prestaciones","INFORME",{"$f":"+SUM('B-5 TAREAS'!E661:E665)","v":10000},{"$f":"+SUM('B-5 TAREAS'!F661:F665)","v":4},{"$f":"+SUM('B-5 TAREAS'!G661:G665)","v":3},{"$f":"+SUM('B-5 TAREAS'!H661:H665)","v":4},{"$f":"+SUM('B-5 TAREAS'!I661:I665)","v":3},{"$f":"+SUM('B-5 TAREAS'!J661:J665)","v":4},{"$f":"+SUM('B-5 TAREAS'!K661:K665)","v":4},{"$f":"+SUM('B-5 TAREAS'!L661:L665)","v":4},{"$f":"+SUM('B-5 TAREAS'!M661:M665)","v":3},{"$f":"+SUM('B-5 TAREAS'!N661:N665)","v":4},{"$f":"+SUM('B-5 TAREAS'!O661:O665)","v":1},{"$f":"+SUM('B-5 TAREAS'!P661:P665)","v":2},{"$f":"+SUM('B-5 TAREAS'!Q661:Q665)","v":4},{"$f":"SUM(G273:R273)","v":40}]
["OEI.03 Mejorar la gestión del financiamiento de las prestaciones aprobadas para la atención del asegurado al SIS."]
[null,"AEI.03.02 Recursos del SIS transferidos orientados al financiamiento de reposición de medicamentos e insumos."]
[null,null,"18AO111142980","Realizar la supervisión financiera alas UE","INFORME",{"$f":"+SUM('B-5 TAREAS'!E668:E672)","v":7578},{"$f":"+SUM('B-5 TAREAS'!F668:F672)","v":2},{"$f":"+SUM('B-5 TAREAS'!G668:G672)","v":2},{"$f":"+SUM('B-5 TAREAS'!H668:H672)","v":2},{"$f":"+SUM('B-5 TAREAS'!I668:I672)","v":2},{"$f":"+SUM('B-5 TAREAS'!J668:J672)","v":2},{"$f":"+SUM('B-5 TAREAS'!K668:K672)","v":4},{"$f":"+SUM('B-5 TAREAS'!L668:L672)","v":2},{"$f":"+SUM('B-5 TAREAS'!M668:M672)","v":2},{"$f":"+SUM('B-5 TAREAS'!N668:N672)","v":3},{"$f":"+SUM('B-5 TAREAS'!O668:O672)","v":3},{"$f":"+SUM('B-5 TAREAS'!P668:P672)","v":3},{"$f":"+SUM('B-5 TAREAS'!Q668:Q672)","v":5},{"$f":"SUM(G276:R276)","v":32}]
[null,"AEI.03.03 Mecanismos de compra de servicios de salud optimizados para la atención del asegurado al SIS."]
[null,null,"18AO111142981","Implementar los acuerdos de convenios y/o contratos suscritos con las IPRESS","INFORME",{"$f":"+SUM('B-5 TAREAS'!E674:E677)","v":74252},{"$f":"+SUM('B-5 TAREAS'!F674:F677)","v":0},{"$f":"+SUM('B-5 TAREAS'!G674:G677)","v":0},{"$f":"+SUM('B-5 TAREAS'!H674:H677)","v":0},{"$f":"+SUM('B-5 TAREAS'!I674:I677)","v":0},{"$f":"+SUM('B-5 TAREAS'!J674:J677)","v":0},{"$f":"+SUM('B-5 TAREAS'!K674:K677)","v":2},{"$f":"+SUM('B-5 TAREAS'!L674:L677)","v":0},{"$f":"+SUM('B-5 TAREAS'!M674:M677)","v":0},{"$f":"+SUM('B-5 TAREAS'!N674:N677)","v":0},{"$f":"+SUM('B-5 TAREAS'!O674:O677)","v":0},{"$f":"+SUM('B-5 TAREAS'!P674:P677)","v":0},{"$f":"+SUM('B-5 TAREAS'!Q674:Q677)","v":4},{"$f":"SUM(G278:R278)","v":6}]
[null,"07.05 - UDR MOQUEGUA"]
["OEI.01 Incrementar la cobertura de la población objetivo del SIS"]
[null,"AEI.01.01 Afiliación al SIS incrementada en la población objetivo."]
[null,null,"18AO111142982","Realizar acciones de afiliación","INFORME",{"$f":"+SUM('B-5 TAREAS'!E681:E684)","v":0},{"$f":"+SUM('B-5 TAREAS'!F681:F684)","v":0},{"$f":"+SUM('B-5 TAREAS'!G681:G684)","v":0},{"$f":"+SUM('B-5 TAREAS'!H681:H684)","v":0},{"$f":"+SUM('B-5 TAREAS'!I681:I684)","v":0},{"$f":"+SUM('B-5 TAREAS'!J681:J684)","v":0},{"$f":"+SUM('B-5 TAREAS'!K681:K684)","v":0},{"$f":"+SUM('B-5 TAREAS'!L681:L684)","v":0},{"$f":"+SUM('B-5 TAREAS'!M681:M684)","v":2},{"$f":"+SUM('B-5 TAREAS'!N681:N684)","v":0},{"$f":"+SUM('B-5 TAREAS'!O681:O684)","v":0},{"$f":"+SUM('B-5 TAREAS'!P681:P684)","v":1},{"$f":"+SUM('B-5 TAREAS'!Q681:Q684)","v":3},{"$f":"SUM(G282:R282)","v":6}]
[null,"AEI.01.02 Mecanismos de protección de derechos optimizados para los asegurados al SIS."]
[null,null,"18AO111142983","Realizar acciones para mitigar riesgos de vulneración de derechos de los asegurados","INFORME",{"$f":"+SUM('B-5 TAREAS'!E686:E689)","v":0},{"$f":"+SUM('B-5 TAREAS'!F686:F689)","v":0},{"$f":"+SUM('B-5 TAREAS'!G686:G689)","v":0},{"$f":"+SUM('B-5 TAREAS'!H686:H689)","v":0},{"$f":"+SUM('B-5 TAREAS'!I686:I689)","v":0},{"$f":"+SUM('B-5 TAREAS'!J686:J689)","v":0},{"$f":"+SUM('B-5 TAREAS'!K686:K689)","v":0},{"$f":"+SUM('B-5 TAREAS'!L686:L689)","v":1},{"$f":"+SUM('B-5 TAREAS'!M686:M689)","v":1},{"$f":"+SUM('B-5 TAREAS'!N686:N689)","v":0},{"$f":"+SUM('B-5 TAREAS'!O686:O689)","v":2},{"$f":"+SUM('B-5 TAREAS'!P686:P689)","v":3},{"$f":"+SUM('B-5 TAREAS'!Q686:Q689)","v":2},{"$f":"SUM(G284:R284)","v":9}]
["OEI.02 Reducir los riesgos técnicos y financieros de la prestación de planes y productos para el asegurado al SIS."]
[null,"AEI.02.01 Control técnico y financiero de las prestaciones médicas valorizadas incrementado a los establecimientos de salud."]
[null,null,"18AO111142984","Realzar el Control Técnico a las Prestaciones","INFORME",{"$f":"+SUM('B-5 TAREAS'!E692:E696)","v":10560},{"$f":"+SUM('B-5 TAREAS'!F692:F696)","v":4},{"$f":"+SUM('B-5 TAREAS'!G692:G696)","v":4},{"$f":"+SUM('B-5 TAREAS'!H692:H696)","v":4},{"$f":"+SUM('B-5 TAREAS'!I692:I696)","v":4},{"$f":"+SUM('B-5 TAREAS'!J692:J696)","v":4},{"$f":"+SUM('B-5 TAREAS'!K692:K696)","v":5},{"$f":"+SUM('B-5 TAREAS'!L692:L696)","v":4},{"$f":"+SUM('B-5 TAREAS'!M692:M696)","v":4},{"$f":"+SUM('B-5 TAREAS'!N692:N696)","v":5},{"$f":"+SUM('B-5 TAREAS'!O692:O696)","v":2},{"$f":"+SUM('B-5 TAREAS'!P692:P696)","v":2},{"$f":"+SUM('B-5 TAREAS'!Q692:Q696)","v":5},{"$f":"SUM(G287:R287)","v":47}]
["OEI.03 Mejorar la gestión del financiamiento de las prestaciones aprobadas para la atención del asegurado al SIS."]
[null,"AEI.03.02 Recursos del SIS transferidos orientados al financiamiento de reposición de medicamentos e insumos."]
[null,null,"18AO111142985","Realizar la supervisión financiera alas UE","INFORME",{"$f":"+SUM('B-5 TAREAS'!E699:E703)","v":10000},{"$f":"+SUM('B-5 TAREAS'!F699:F703)","v":2},{"$f":"+SUM('B-5 TAREAS'!G699:G703)","v":2},{"$f":"+SUM('B-5 TAREAS'!H699:H703)","v":2},{"$f":"+SUM('B-5 TAREAS'!I699:I703)","v":2},{"$f":"+SUM('B-5 TAREAS'!J699:J703)","v":2},{"$f":"+SUM('B-5 TAREAS'!K699:K703)","v":4},{"$f":"+SUM('B-5 TAREAS'!L699:L703)","v":2},{"$f":"+SUM('B-5 TAREAS'!M699:M703)","v":2},{"$f":"+SUM('B-5 TAREAS'!N699:N703)","v":3},{"$f":"+SUM('B-5 TAREAS'!O699:O703)","v":3},{"$f":"+SUM('B-5 TAREAS'!P699:P703)","v":3},{"$f":"+SUM('B-5 TAREAS'!Q699:Q703)","v":5},{"$f":"SUM(G290:R290)","v":32}]
[null,"AEI.03.03 Mecanismos de compra de servicios de salud optimizados para la atención del asegurado al SIS."]
[null,null,"18AO111142986","Implementar los acuerdos de convenios y/o contratos suscritos con las IPRESS","INFORME",{"$f":"+SUM('B-5 TAREAS'!E705:E708)","v":74825},{"$f":"+SUM('B-5 TAREAS'!F705:F708)","v":0},{"$f":"+SUM('B-5 TAREAS'!G705:G708)","v":0},{"$f":"+SUM('B-5 TAREAS'!H705:H708)","v":0},{"$f":"+SUM('B-5 TAREAS'!I705:I708)","v":0},{"$f":"+SUM('B-5 TAREAS'!J705:J708)","v":0},{"$f":"+SUM('B-5 TAREAS'!K705:K708)","v":2},{"$f":"+SUM('B-5 TAREAS'!L705:L708)","v":0},{"$f":"+SUM('B-5 TAREAS'!M705:M708)","v":0},{"$f":"+SUM('B-5 TAREAS'!N705:N708)","v":0},{"$f":"+SUM('B-5 TAREAS'!O705:O708)","v":0},{"$f":"+SUM('B-5 TAREAS'!P705:P708)","v":0},{"$f":"+SUM('B-5 TAREAS'!Q705:Q708)","v":4},{"$f":"SUM(G292:R292)","v":6}]
[null,"07.06 - UDR TACNA"]
["OEI.01 Incrementar la cobertura de la población objetivo del SIS"]
[null,"AEI.01.01 Afiliación al SIS incrementada en la población objetivo."]
[null,null,"18AO111142987 ","Realizar acciones de afiliación","INFORME",{"$f":"+SUM('B-5 TAREAS'!E712:E715)","v":0},{"$f":"+SUM('B-5 TAREAS'!F712:F715)","v":0},{"$f":"+SUM('B-5 TAREAS'!G712:G715)","v":0},{"$f":"+SUM('B-5 TAREAS'!H712:H715)","v":0},{"$f":"+SUM('B-5 TAREAS'!I712:I715)","v":0},{"$f":"+SUM('B-5 TAREAS'!J712:J715)","v":0},{"$f":"+SUM('B-5 TAREAS'!K712:K715)","v":0},{"$f":"+SUM('B-5 TAREAS'!L712:L715)","v":0},{"$f":"+SUM('B-5 TAREAS'!M712:M715)","v":2},{"$f":"+SUM('B-5 TAREAS'!N712:N715)","v":0},{"$f":"+SUM('B-5 TAREAS'!O712:O715)","v":0},{"$f":"+SUM('B-5 TAREAS'!P712:P715)","v":1},{"$f":"+SUM('B-5 TAREAS'!Q712:Q715)","v":3},{"$f":"SUM(G296:R296)","v":6}]
[null,"AEI.01.02 Mecanismos de protección de derechos optimizados para los asegurados al SIS."]
[null,null,"18AO111142988","Realizar acciones para mitigar riesgos de vulneración de derechos de los asegurados","INFORME",{"$f":"+SUM('B-5 TAREAS'!E717:E720)","v":0},{"$f":"+SUM('B-5 TAREAS'!F717:F720)","v":0},{"$f":"+SUM('B-5 TAREAS'!G717:G720)","v":0},{"$f":"+SUM('B-5 TAREAS'!H717:H720)","v":0},{"$f":"+SUM('B-5 TAREAS'!I717:I720)","v":0},{"$f":"+SUM('B-5 TAREAS'!J717:J720)","v":0},{"$f":"+SUM('B-5 TAREAS'!K717:K720)","v":0},{"$f":"+SUM('B-5 TAREAS'!L717:L720)","v":2},{"$f":"+SUM('B-5 TAREAS'!M717:M720)","v":1},{"$f":"+SUM('B-5 TAREAS'!N717:N720)","v":1},{"$f":"+SUM('B-5 TAREAS'!O717:O720)","v":2},{"$f":"+SUM('B-5 TAREAS'!P717:P720)","v":3},{"$f":"+SUM('B-5 TAREAS'!Q717:Q720)","v":2},{"$f":"SUM(G298:R298)","v":11}]
["OEI.02 Reducir los riesgos técnicos y financieros de la prestación de planes y productos para el asegurado al SIS."]
[null,"AEI.02.01 Control técnico y financiero de las prestaciones médicas valorizadas incrementado a los establecimientos de salud."]
[null,null,"18AO111142989","Realzar el Control Técnico a las Prestaciones","INFORME",{"$f":"+SUM('B-5 TAREAS'!E723:E727)","v":5360},{"$f":"+SUM('B-5 TAREAS'!F723:F727)","v":4},{"$f":"+SUM('B-5 TAREAS'!G723:G727)","v":4},{"$f":"+SUM('B-5 TAREAS'!H723:H727)","v":4},{"$f":"+SUM('B-5 TAREAS'!I723:I727)","v":4},{"$f":"+SUM('B-5 TAREAS'!J723:J727)","v":4},{"$f":"+SUM('B-5 TAREAS'!K723:K727)","v":5},{"$f":"+SUM('B-5 TAREAS'!L723:L727)","v":4},{"$f":"+SUM('B-5 TAREAS'!M723:M727)","v":4},{"$f":"+SUM('B-5 TAREAS'!N723:N727)","v":5},{"$f":"+SUM('B-5 TAREAS'!O723:O727)","v":2},{"$f":"+SUM('B-5 TAREAS'!P723:P727)","v":2},{"$f":"+SUM('B-5 TAREAS'!Q723:Q727)","v":5},{"$f":"SUM(G301:R301)","v":47}]
["OEI.03 Mejorar la gestión del financiamiento de las prestaciones aprobadas para la atención del asegurado al SIS."]
[null,"AEI.03.02 Recursos del SIS transferidos orientados al financiamiento de reposición de medicamentos e insumos."]
[null,null,"18AO111142990 ","Realizar la supervisión financiera alas UE","INFORME",{"$f":"+SUM('B-5 TAREAS'!E730:E734)","v":4600},{"$f":"+SUM('B-5 TAREAS'!F730:F734)","v":2},{"$f":"+SUM('B-5 TAREAS'!G730:G734)","v":2},{"$f":"+SUM('B-5 TAREAS'!H730:H734)","v":2},{"$f":"+SUM('B-5 TAREAS'!I730:I734)","v":2},{"$f":"+SUM('B-5 TAREAS'!J730:J734)","v":2},{"$f":"+SUM('B-5 TAREAS'!K730:K734)","v":4},{"$f":"+SUM('B-5 TAREAS'!L730:L734)","v":2},{"$f":"+SUM('B-5 TAREAS'!M730:M734)","v":2},{"$f":"+SUM('B-5 TAREAS'!N730:N734)","v":3},{"$f":"+SUM('B-5 TAREAS'!O730:O734)","v":3},{"$f":"+SUM('B-5 TAREAS'!P730:P734)","v":3},{"$f":"+SUM('B-5 TAREAS'!Q730:Q734)","v":5},{"$f":"SUM(G304:R304)","v":32}]
[null,"AEI.03.03 Mecanismos de compra de servicios de salud optimizados para la atención del asegurado al SIS."]
[null,null,"18AO111142991","Implementar los acuerdos de convenios y/o contratos suscritos con las IPRESS","INFORME",{"$f":"+SUM('B-5 TAREAS'!E736:E739)","v":89919},{"$f":"+SUM('B-5 TAREAS'!F736:F739)","v":0},{"$f":"+SUM('B-5 TAREAS'!G736:G739)","v":0},{"$f":"+SUM('B-5 TAREAS'!H736:H739)","v":0},{"$f":"+SUM('B-5 TAREAS'!I736:I739)","v":0},{"$f":"+SUM('B-5 TAREAS'!J736:J739)","v":0},{"$f":"+SUM('B-5 TAREAS'!K736:K739)","v":2},{"$f":"+SUM('B-5 TAREAS'!L736:L739)","v":0},{"$f":"+SUM('B-5 TAREAS'!M736:M739)","v":0},{"$f":"+SUM('B-5 TAREAS'!N736:N739)","v":0},{"$f":"+SUM('B-5 TAREAS'!O736:O739)","v":0},{"$f":"+SUM('B-5 TAREAS'!P736:P739)","v":0},{"$f":"+SUM('B-5 TAREAS'!Q736:Q739)","v":4},{"$f":"SUM(G306:R306)","v":6}]
[null,"07.07 - UDR PUNO"]
["OEI.01 Incrementar la cobertura de la población objetivo del SIS"]
[null,"AEI.01.01 Afiliación al SIS incrementada en la población objetivo."]
[null,null,"18AO111142992","Realizar acciones de afiliación","INFORME",{"$f":"+SUM('B-5 TAREAS'!E743:E746)","v":0},{"$f":"+SUM('B-5 TAREAS'!F743:F746)","v":0},{"$f":"+SUM('B-5 TAREAS'!G743:G746)","v":0},{"$f":"+SUM('B-5 TAREAS'!H743:H746)","v":0},{"$f":"+SUM('B-5 TAREAS'!I743:I746)","v":0},{"$f":"+SUM('B-5 TAREAS'!J743:J746)","v":0},{"$f":"+SUM('B-5 TAREAS'!K743:K746)","v":0},{"$f":"+SUM('B-5 TAREAS'!L743:L746)","v":0},{"$f":"+SUM('B-5 TAREAS'!M743:M746)","v":2},{"$f":"+SUM('B-5 TAREAS'!N743:N746)","v":1},{"$f":"+SUM('B-5 TAREAS'!O743:O746)","v":0},{"$f":"+SUM('B-5 TAREAS'!P743:P746)","v":1},{"$f":"+SUM('B-5 TAREAS'!Q743:Q746)","v":3},{"$f":"SUM(G310:R310)","v":7}]
[null,"AEI.01.02 Mecanismos de protección de derechos optimizados para los asegurados al SIS."]
[null,null,"18AO111142993","Realizar acciones para mitigar riesgos de vulneración de derechos de los asegurados","INFORME",{"$f":"+SUM('B-5 TAREAS'!E748:E751)","v":10891.644204851753},{"$f":"+SUM('B-5 TAREAS'!F748:F751)","v":0},{"$f":"+SUM('B-5 TAREAS'!G748:G751)","v":0},{"$f":"+SUM('B-5 TAREAS'!H748:H751)","v":0},{"$f":"+SUM('B-5 TAREAS'!I748:I751)","v":0},{"$f":"+SUM('B-5 TAREAS'!J748:J751)","v":0},{"$f":"+SUM('B-5 TAREAS'!K748:K751)","v":0},{"$f":"+SUM('B-5 TAREAS'!L748:L751)","v":2},{"$f":"+SUM('B-5 TAREAS'!M748:M751)","v":2},{"$f":"+SUM('B-5 TAREAS'!N748:N751)","v":3},{"$f":"+SUM('B-5 TAREAS'!O748:O751)","v":2},{"$f":"+SUM('B-5 TAREAS'!P748:P751)","v":3},{"$f":"+SUM('B-5 TAREAS'!Q748:Q751)","v":2},{"$f":"SUM(G312:R312)","v":14}]
["OEI.02 Reducir los riesgos técnicos y financieros de la prestación de planes y productos para el asegurado al SIS."]
[null,"AEI.02.01 Control técnico y financiero de las prestaciones médicas valorizadas incrementado a los establecimientos de salud."]
[null,null,"18AO111142994","Realzar el Control Técnico a las Prestaciones","INFORME",{"$f":"+SUM('B-5 TAREAS'!E754:E758)","v":22300},{"$f":"+SUM('B-5 TAREAS'!F754:F758)","v":4},{"$f":"+SUM('B-5 TAREAS'!G754:G758)","v":4},{"$f":"+SUM('B-5 TAREAS'!H754:H758)","v":4},{"$f":"+SUM('B-5 TAREAS'!I754:I758)","v":4},{"$f":"+SUM('B-5 TAREAS'!J754:J758)","v":4},{"$f":"+SUM('B-5 TAREAS'!K754:K758)","v":5},{"$f":"+SUM('B-5 TAREAS'!L754:L758)","v":4},{"$f":"+SUM('B-5 TAREAS'!M754:M758)","v":4},{"$f":"+SUM('B-5 TAREAS'!N754:N758)","v":5},{"$f":"+SUM('B-5 TAREAS'!O754:O758)","v":2},{"$f":"+SUM('B-5 TAREAS'!P754:P758)","v":2},{"$f":"+SUM('B-5 TAREAS'!Q754:Q758)","v":5},{"$f":"SUM(G315:R315)","v":47}]
["OEI.03 Mejorar la gestión del financiamiento de las prestaciones aprobadas para la atención del asegurado al SIS."]
[null,"AEI.03.02 Recursos del SIS transferidos orientados al financiamiento de reposición de medicamentos e insumos."]
[null,null,"18AO111142995","Realizar la supervisión financiera alas UE","INFORME",{"$f":"+SUM('B-5 TAREAS'!E761:E765)","v":0},{"$f":"+SUM('B-5 TAREAS'!F761:F765)","v":2},{"$f":"+SUM('B-5 TAREAS'!G761:G765)","v":2},{"$f":"+SUM('B-5 TAREAS'!H761:H765)","v":2},{"$f":"+SUM('B-5 TAREAS'!I761:I765)","v":2},{"$f":"+SUM('B-5 TAREAS'!J761:J765)","v":2},{"$f":"+SUM('B-5 TAREAS'!K761:K765)","v":4},{"$f":"+SUM('B-5 TAREAS'!L761:L765)","v":2},{"$f":"+SUM('B-5 TAREAS'!M761:M765)","v":2},{"$f":"+SUM('B-5 TAREAS'!N761:N765)","v":3},{"$f":"+SUM('B-5 TAREAS'!O761:O765)","v":3},{"$f":"+SUM('B-5 TAREAS'!P761:P765)","v":3},{"$f":"+SUM('B-5 TAREAS'!Q761:Q765)","v":5},{"$f":"SUM(G318:R318)","v":32}]
[null,"AEI.03.03 Mecanismos de compra de servicios de salud optimizados para la atención del asegurado al SIS."]
[null,null,"18AO111142996","Implementar los acuerdos de convenios y/o contratos suscritos con las IPRESS","INFORME",{"$f":"+SUM('B-5 TAREAS'!E767:E770)","v":64873.355795148251},{"$f":"+SUM('B-5 TAREAS'!F767:F770)","v":0},{"$f":"+SUM('B-5 TAREAS'!G767:G770)","v":0},{"$f":"+SUM('B-5 TAREAS'!H767:H770)","v":0},{"$f":"+SUM('B-5 TAREAS'!I767:I770)","v":0},{"$f":"+SUM('B-5 TAREAS'!J767:J770)","v":0},{"$f":"+SUM('B-5 TAREAS'!K767:K770)","v":2},{"$f":"+SUM('B-5 TAREAS'!L767:L770)","v":0},{"$f":"+SUM('B-5 TAREAS'!M767:M770)","v":0},{"$f":"+SUM('B-5 TAREAS'!N767:N770)","v":0},{"$f":"+SUM('B-5 TAREAS'!O767:O770)","v":0},{"$f":"+SUM('B-5 TAREAS'!P767:P770)","v":0},{"$f":"+SUM('B-5 TAREAS'!Q767:Q770)","v":4},{"$f":"SUM(G320:R320)","v":6}]
[null,"07.08 - UDR JULIACA"]
["OEI.01 Incrementar la cobertura de la población objetivo del SIS"]
[null,"AEI.01.01 Afiliación al SIS incrementada en la población objetivo."]
[null,null,"18AO111142997","Realizar acciones de afiliación","INFORME",{"$f":"+SUM('B-5 TAREAS'!E774:E777)","v":0},{"$f":"+SUM('B-5 TAREAS'!F774:F777)","v":0},{"$f":"+SUM('B-5 TAREAS'!G774:G777)","v":0},{"$f":"+SUM('B-5 TAREAS'!H774:H777)","v":0},{"$f":"+SUM('B-5 TAREAS'!I774:I777)","v":0},{"$f":"+SUM('B-5 TAREAS'!J774:J777)","v":0},{"$f":"+SUM('B-5 TAREAS'!K774:K777)","v":0},{"$f":"+SUM('B-5 TAREAS'!L774:L777)","v":0},{"$f":"+SUM('B-5 TAREAS'!M774:M777)","v":2},{"$f":"+SUM('B-5 TAREAS'!N774:N777)","v":1},{"$f":"+SUM('B-5 TAREAS'!O774:O777)","v":0},{"$f":"+SUM('B-5 TAREAS'!P774:P777)","v":1},{"$f":"+SUM('B-5 TAREAS'!Q774:Q777)","v":3},{"$f":"SUM(F324:R324)","v":7}]
[null,"AEI.01.02 Mecanismos de protección de derechos optimizados para los asegurados al SIS."]
[null,null,"18AO111142998","Realizar acciones para mitigar riesgos de vulneración de derechos de los asegurados","INFORME",{"$f":"+SUM('B-5 TAREAS'!E779:E782)","v":0},{"$f":"+SUM('B-5 TAREAS'!F779:F782)","v":0},{"$f":"+SUM('B-5 TAREAS'!G779:G782)","v":0},{"$f":"+SUM('B-5 TAREAS'!H779:H782)","v":0},{"$f":"+SUM('B-5 TAREAS'!I779:I782)","v":0},{"$f":"+SUM('B-5 TAREAS'!J779:J782)","v":0},{"$f":"+SUM('B-5 TAREAS'!K779:K782)","v":0},{"$f":"+SUM('B-5 TAREAS'!L779:L782)","v":2},{"$f":"+SUM('B-5 TAREAS'!M779:M782)","v":2},{"$f":"+SUM('B-5 TAREAS'!N779:N782)","v":3},{"$f":"+SUM('B-5 TAREAS'!O779:O782)","v":2},{"$f":"+SUM('B-5 TAREAS'!P779:P782)","v":3},{"$f":"+SUM('B-5 TAREAS'!Q779:Q782)","v":2},{"$f":"SUM(G326:R326)","v":14}]
["OEI.02 Reducir los riesgos técnicos y financieros de la prestación de planes y productos para el asegurado al SIS."]
[null,"AEI.02.01 Control técnico y financiero de las prestaciones médicas valorizadas incrementado a los establecimientos de salud."]
[null,null,"18AO111142999","Realzar el Control Técnico a las Prestaciones","INFORME",{"$f":"+SUM('B-5 TAREAS'!E785:E789)","v":17442.950819672129},{"$f":"+SUM('B-5 TAREAS'!F785:F789)","v":4},{"$f":"+SUM('B-5 TAREAS'!G785:G789)","v":4},{"$f":"+SUM('B-5 TAREAS'!H785:H789)","v":4},{"$f":"+SUM('B-5 TAREAS'!I785:I789)","v":4},{"$f":"+SUM('B-5 TAREAS'!J785:J789)","v":4},{"$f":"+SUM('B-5 TAREAS'!K785:K789)","v":5},{"$f":"+SUM('B-5 TAREAS'!L785:L789)","v":4},{"$f":"+SUM('B-5 TAREAS'!M785:M789)","v":4},{"$f":"+SUM('B-5 TAREAS'!N785:N789)","v":5},{"$f":"+SUM('B-5 TAREAS'!O785:O789)","v":2},{"$f":"+SUM('B-5 TAREAS'!P785:P789)","v":2},{"$f":"+SUM('B-5 TAREAS'!Q785:Q789)","v":5},{"$f":"SUM(G329:R329)","v":47}]
["OEI.03 Mejorar la gestión del financiamiento de las prestaciones aprobadas para la atención del asegurado al SIS."]
[null,"AEI.03.02 Recursos del SIS transferidos orientados al financiamiento de reposición de medicamentos e insumos."]
[null,null,"18AO111143000","Realizar la supervisión financiera alas UE","INFORME",{"$f":"+SUM('B-5 TAREAS'!E792:E796)","v":16000},{"$f":"+SUM('B-5 TAREAS'!F792:F796)","v":2},{"$f":"+SUM('B-5 TAREAS'!G792:G796)","v":2},{"$f":"+SUM('B-5 TAREAS'!H792:H796)","v":2},{"$f":"+SUM('B-5 TAREAS'!I792:I796)","v":2},{"$f":"+SUM('B-5 TAREAS'!J792:J796)","v":2},{"$f":"+SUM('B-5 TAREAS'!K792:K796)","v":4},{"$f":"+SUM('B-5 TAREAS'!L792:L796)","v":2},{"$f":"+SUM('B-5 TAREAS'!M792:M796)","v":2},{"$f":"+SUM('B-5 TAREAS'!N792:N796)","v":3},{"$f":"+SUM('B-5 TAREAS'!O792:O796)","v":3},{"$f":"+SUM('B-5 TAREAS'!P792:P796)","v":3},{"$f":"+SUM('B-5 TAREAS'!Q792:Q796)","v":5},{"$f":"SUM(G332:R332)","v":32}]
[null,"AEI.03.03 Mecanismos de compra de servicios de salud optimizados para la atención del asegurado al SIS."]
[null,null,"18AO111143001","Implementar los acuerdos de convenios y/o contratos suscritos con las IPRESS","INFORME",{"$f":"+SUM('B-5 TAREAS'!E798:E801)","v":51777.049180327871},{"$f":"+SUM('B-5 TAREAS'!F798:F801)","v":0},{"$f":"+SUM('B-5 TAREAS'!G798:G801)","v":0},{"$f":"+SUM('B-5 TAREAS'!H798:H801)","v":0},{"$f":"+SUM('B-5 TAREAS'!I798:I801)","v":0},{"$f":"+SUM('B-5 TAREAS'!J798:J801)","v":0},{"$f":"+SUM('B-5 TAREAS'!K798:K801)","v":2},{"$f":"+SUM('B-5 TAREAS'!L798:L801)","v":0},{"$f":"+SUM('B-5 TAREAS'!M798:M801)","v":0},{"$f":"+SUM('B-5 TAREAS'!N798:N801)","v":0},{"$f":"+SUM('B-5 TAREAS'!O798:O801)","v":0},{"$f":"+SUM('B-5 TAREAS'!P798:P801)","v":0},{"$f":"+SUM('B-5 TAREAS'!Q798:Q801)","v":4},{"$f":"SUM(G334:R334)","v":6}]
[null,"08.01 - GERENCIA MACRO REGIONAL CENTRO"]
["OEI.01 Incrementar la cobertura de la población objetivo del SIS"]
[null,"AEI.01.01 Afiliación al SIS incrementada en la población objetivo."]
[null,null,"18AO111143002","Control y supervision a las udr en las acciones de afiliacion","INFORME",{"$f":"+SUM('B-5 TAREAS'!E805:E807)","v":16384.595348837211},{"$f":"+SUM('B-5 TAREAS'!F805:F807)","v":0},{"$f":"+SUM('B-5 TAREAS'!G805:G807)","v":0},{"$f":"+SUM('B-5 TAREAS'!H805:H807)","v":0},{"$f":"+SUM('B-5 TAREAS'!I805:I807)","v":0},{"$f":"+SUM('B-5 TAREAS'!J805:J807)","v":0},{"$f":"+SUM('B-5 TAREAS'!K805:K807)","v":0},{"$f":"+SUM('B-5 TAREAS'!L805:L807)","v":2},{"$f":"+SUM('B-5 TAREAS'!M805:M807)","v":2},{"$f":"+SUM('B-5 TAREAS'!N805:N807)","v":3},{"$f":"+SUM('B-5 TAREAS'!O805:O807)","v":2},{"$f":"+SUM('B-5 TAREAS'!P805:P807)","v":2},{"$f":"+SUM('B-5 TAREAS'!Q805:Q807)","v":3},{"$f":"SUM(G338:R338)","v":14}]
["OEI.02 Reducir los riesgos técnicos y financieros de la prestación de planes y productos para el asegurado al SIS."]
[null,"AEI.02.01 Control técnico y financiero de las prestaciones médicas valorizadas incrementado a los establecimientos de salud."]
[null,null,"18AO111143003","Supervisión  y asistencia técnica a las audrs en las cciones de control técnico a prestaciones","INFORME",{"$f":"+SUM('B-5 TAREAS'!E810:E813)","v":16562.120930232559},{"$f":"+SUM('B-5 TAREAS'!F810:F813)","v":0},{"$f":"+SUM('B-5 TAREAS'!G810:G813)","v":0},{"$f":"+SUM('B-5 TAREAS'!H810:H813)","v":0},{"$f":"+SUM('B-5 TAREAS'!I810:I813)","v":0},{"$f":"+SUM('B-5 TAREAS'!J810:J813)","v":0},{"$f":"+SUM('B-5 TAREAS'!K810:K813)","v":0},{"$f":"+SUM('B-5 TAREAS'!L810:L813)","v":3},{"$f":"+SUM('B-5 TAREAS'!M810:M813)","v":2},{"$f":"+SUM('B-5 TAREAS'!N810:N813)","v":4},{"$f":"+SUM('B-5 TAREAS'!O810:O813)","v":2},{"$f":"+SUM('B-5 TAREAS'!P810:P813)","v":3},{"$f":"+SUM('B-5 TAREAS'!Q810:Q813)","v":2},{"$f":"SUM(G341:R341)","v":16}]
["OEI.03 Mejorar la gestión del financiamiento de las prestaciones aprobadas para la atención del asegurado al SIS."]
[null,"AEI.03.02 Recursos del SIS transferidos orientados al financiamiento de reposición de medicamentos e insumos."]
[null,null,"18AO111143004","Supervisión y asistencia técnica a las UDRs en el monitoreo, seguimiento y control de los recursos del SIS","INFORME",{"$f":"+SUM('B-5 TAREAS'!E816:E819)","v":25082.827906976745},{"$f":"+SUM('B-5 TAREAS'!F816:F819)","v":0},{"$f":"+SUM('B-5 TAREAS'!G816:G819)","v":0},{"$f":"+SUM('B-5 TAREAS'!H816:H819)","v":0},{"$f":"+SUM('B-5 TAREAS'!I816:I819)","v":0},{"$f":"+SUM('B-5 TAREAS'!J816:J819)","v":0},{"$f":"+SUM('B-5 TAREAS'!K816:K819)","v":0},{"$f":"+SUM('B-5 TAREAS'!L816:L819)","v":1},{"$f":"+SUM('B-5 TAREAS'!M816:M819)","v":2},{"$f":"+SUM('B-5 TAREAS'!N816:N819)","v":2},{"$f":"+SUM('B-5 TAREAS'!O816:O819)","v":2},{"$f":"+SUM('B-5 TAREAS'!P816:P819)","v":2},{"$f":"+SUM('B-5 TAREAS'!Q816:Q819)","v":3},{"$f":"SUM(G344:R344)","v":12}]
["OEI.04 Mejorar la eficacia y eficiencia de los procesos de gestión instituciona"]
[null,"AEI.04.01 Fortalecer la organización orientándola al desarrollo de las funciones de un asegurador público eficiente, eficaz y con enfoque de procesos."]
[null,null,"18AO110921144","Realizar acciones de coordinación en gestión.","INFORME",{"$f":"+SUM('B-5 TAREAS'!E822:E831)","v":101458.45581395348},{"$f":"+SUM('B-5 TAREAS'!F822:F831)","v":3},{"$f":"+SUM('B-5 TAREAS'!G822:G831)","v":3},{"$f":"+SUM('B-5 TAREAS'!H822:H831)","v":4},{"$f":"+SUM('B-5 TAREAS'!I822:I831)","v":3},{"$f":"+SUM('B-5 TAREAS'!J822:J831)","v":3},{"$f":"+SUM('B-5 TAREAS'!K822:K831)","v":6},{"$f":"+SUM('B-5 TAREAS'!L822:L831)","v":3},{"$f":"+SUM('B-5 TAREAS'!M822:M831)","v":3},{"$f":"+SUM('B-5 TAREAS'!N822:N831)","v":5},{"$f":"+SUM('B-5 TAREAS'!O822:O831)","v":5},{"$f":"+SUM('B-5 TAREAS'!P822:P831)","v":5},{"$f":"+SUM('B-5 TAREAS'!Q822:Q831)","v":9},{"$f":"SUM(G347:R347)","v":52}]
[null,"08.02 - UDR PASCO"]
["OEI.01 Incrementar la cobertura de la población objetivo del SIS"]
[null,"AEI.01.01 Afiliación al SIS incrementada en la población objetivo."]
[null,null,"18AO111143005","Realizar acciones de afiliación","INFORME",{"$f":"+SUM('B-5 TAREAS'!E835:E838)","v":0},{"$f":"+SUM('B-5 TAREAS'!F835:F838)","v":0},{"$f":"+SUM('B-5 TAREAS'!G835:G838)","v":0},{"$f":"+SUM('B-5 TAREAS'!H835:H838)","v":0},{"$f":"+SUM('B-5 TAREAS'!I835:I838)","v":0},{"$f":"+SUM('B-5 TAREAS'!J835:J838)","v":0},{"$f":"+SUM('B-5 TAREAS'!K835:K838)","v":0},{"$f":"+SUM('B-5 TAREAS'!L835:L838)","v":0},{"$f":"+SUM('B-5 TAREAS'!M835:M838)","v":2},{"$f":"+SUM('B-5 TAREAS'!N835:N838)","v":0},{"$f":"+SUM('B-5 TAREAS'!O835:O838)","v":2},{"$f":"+SUM('B-5 TAREAS'!P835:P838)","v":0},{"$f":"+SUM('B-5 TAREAS'!Q835:Q838)","v":2},{"$f":"SUM(G351:R351)","v":6}]
[null,"AEI.01.02 Mecanismos de protección de derechos optimizados para los asegurados al SIS."]
[null,null,"18AO111143006","Realizar acciones para mitigar riesgos de vulneración de derechos de los asegurados","INFORME",{"$f":"+SUM('B-5 TAREAS'!E840:E843)","v":0},{"$f":"+SUM('B-5 TAREAS'!F840:F843)","v":0},{"$f":"+SUM('B-5 TAREAS'!G840:G843)","v":0},{"$f":"+SUM('B-5 TAREAS'!H840:H843)","v":0},{"$f":"+SUM('B-5 TAREAS'!I840:I843)","v":0},{"$f":"+SUM('B-5 TAREAS'!J840:J843)","v":0},{"$f":"+SUM('B-5 TAREAS'!K840:K843)","v":0},{"$f":"+SUM('B-5 TAREAS'!L840:L843)","v":2},{"$f":"+SUM('B-5 TAREAS'!M840:M843)","v":1},{"$f":"+SUM('B-5 TAREAS'!N840:N843)","v":2},{"$f":"+SUM('B-5 TAREAS'!O840:O843)","v":0},{"$f":"+SUM('B-5 TAREAS'!P840:P843)","v":1},{"$f":"+SUM('B-5 TAREAS'!Q840:Q843)","v":3},{"$f":"SUM(G353:R353)","v":9}]
["OEI.02 Reducir los riesgos técnicos y financieros de la prestación de planes y productos para el asegurado al SIS."]
[null,"AEI.02.01 Control técnico y financiero de las prestaciones médicas valorizadas incrementado a los establecimientos de salud."]
[null,null,"18AO111143007","Realzar el Control Técnico a las Prestaciones","INFORME",{"$f":"+SUM('B-5 TAREAS'!E846:E850)","v":10600},{"$f":"+SUM('B-5 TAREAS'!F846:F850)","v":2},{"$f":"+SUM('B-5 TAREAS'!G846:G850)","v":0},{"$f":"+SUM('B-5 TAREAS'!H846:H850)","v":4},{"$f":"+SUM('B-5 TAREAS'!I846:I850)","v":0},{"$f":"+SUM('B-5 TAREAS'!J846:J850)","v":2},{"$f":"+SUM('B-5 TAREAS'!K846:K850)","v":3},{"$f":"+SUM('B-5 TAREAS'!L846:L850)","v":2},{"$f":"+SUM('B-5 TAREAS'!M846:M850)","v":0},{"$f":"+SUM('B-5 TAREAS'!N846:N850)","v":5},{"$f":"+SUM('B-5 TAREAS'!O846:O850)","v":0},{"$f":"+SUM('B-5 TAREAS'!P846:P850)","v":1},{"$f":"+SUM('B-5 TAREAS'!Q846:Q850)","v":5},{"$f":"SUM(G356:R356)","v":24}]
["OEI.03 Mejorar la gestión del financiamiento de las prestaciones aprobadas para la atención del asegurado al SIS."]
[null,"AEI.03.02 Recursos del SIS transferidos orientados al financiamiento de reposición de medicamentos e insumos."]
[null,null,"18AO111143008","Realizar la supervisión financiera alas UE","INFORME",{"$f":"+SUM('B-5 TAREAS'!E853:E856)","v":9000},{"$f":"+SUM('B-5 TAREAS'!F853:F856)","v":1},{"$f":"+SUM('B-5 TAREAS'!G853:G856)","v":1},{"$f":"+SUM('B-5 TAREAS'!H853:H856)","v":2},{"$f":"+SUM('B-5 TAREAS'!I853:I856)","v":1},{"$f":"+SUM('B-5 TAREAS'!J853:J856)","v":1},{"$f":"+SUM('B-5 TAREAS'!K853:K856)","v":4},{"$f":"+SUM('B-5 TAREAS'!L853:L856)","v":1},{"$f":"+SUM('B-5 TAREAS'!M853:M856)","v":1},{"$f":"+SUM('B-5 TAREAS'!N853:N856)","v":3},{"$f":"+SUM('B-5 TAREAS'!O853:O856)","v":1},{"$f":"+SUM('B-5 TAREAS'!P853:P856)","v":1},{"$f":"+SUM('B-5 TAREAS'!Q853:Q856)","v":4},{"$f":"SUM(G359:R359)","v":21}]
[null,"AEI.03.03 Mecanismos de compra de servicios de salud optimizados para la atención del asegurado al SIS."]
[null,null,"18AO111143009","Implementar los acuerdos de convenios y/o contratos suscritos con las IPRESS","INFORME",{"$f":"+SUM('B-5 TAREAS'!E858:E861)","v":106520},{"$f":"+SUM('B-5 TAREAS'!F858:F861)","v":0},{"$f":"+SUM('B-5 TAREAS'!G858:G861)","v":0},{"$f":"+SUM('B-5 TAREAS'!H858:H861)","v":0},{"$f":"+SUM('B-5 TAREAS'!I858:I861)","v":0},{"$f":"+SUM('B-5 TAREAS'!J858:J861)","v":0},{"$f":"+SUM('B-5 TAREAS'!K858:K861)","v":2},{"$f":"+SUM('B-5 TAREAS'!L858:L861)","v":0},{"$f":"+SUM('B-5 TAREAS'!M858:M861)","v":0},{"$f":"+SUM('B-5 TAREAS'!N858:N861)","v":0},{"$f":"+SUM('B-5 TAREAS'!O858:O861)","v":0},{"$f":"+SUM('B-5 TAREAS'!P858:P861)","v":0},{"$f":"+SUM('B-5 TAREAS'!Q858:Q861)","v":4},{"$f":"SUM(G361:R361)","v":6}]
[null,"08.03 - UDR HUÁNUCO"]
["OEI.01 Incrementar la cobertura de la población objetivo del SIS"]
[null,"AEI.01.01 Afiliación al SIS incrementada en la población objetivo."]
[null,null,"18AO111143010","Realizar acciones de afiliación","INFORME",{"$f":"+SUM('B-5 TAREAS'!E865:E868)","v":0},{"$f":"+SUM('B-5 TAREAS'!F865:F868)","v":0},{"$f":"+SUM('B-5 TAREAS'!G865:G868)","v":0},{"$f":"+SUM('B-5 TAREAS'!H865:H868)","v":0},{"$f":"+SUM('B-5 TAREAS'!I865:I868)","v":0},{"$f":"+SUM('B-5 TAREAS'!J865:J868)","v":0},{"$f":"+SUM('B-5 TAREAS'!K865:K868)","v":0},{"$f":"+SUM('B-5 TAREAS'!L865:L868)","v":0},{"$f":"+SUM('B-5 TAREAS'!M865:M868)","v":2},{"$f":"+SUM('B-5 TAREAS'!N865:N868)","v":0},{"$f":"+SUM('B-5 TAREAS'!O865:O868)","v":3},{"$f":"+SUM('B-5 TAREAS'!P865:P868)","v":1},{"$f":"+SUM('B-5 TAREAS'!Q865:Q868)","v":2},{"$f":"SUM(G365:R365)","v":8}]
[null,"AEI.01.02 Mecanismos de protección de derechos optimizados para los asegurados al SIS."]
[null,null,"18AO111143011","Realizar acciones para mitigar riesgos de vulneración de derechos de los asegurados","INFORME",{"$f":"+SUM('B-5 TAREAS'!E870:E873)","v":0},{"$f":"+SUM('B-5 TAREAS'!F870:F873)","v":0},{"$f":"+SUM('B-5 TAREAS'!G870:G873)","v":0},{"$f":"+SUM('B-5 TAREAS'!H870:H873)","v":0},{"$f":"+SUM('B-5 TAREAS'!I870:I873)","v":0},{"$f":"+SUM('B-5 TAREAS'!J870:J873)","v":0},{"$f":"+SUM('B-5 TAREAS'!K870:K873)","v":0},{"$f":"+SUM('B-5 TAREAS'!L870:L873)","v":2},{"$f":"+SUM('B-5 TAREAS'!M870:M873)","v":1},{"$f":"+SUM('B-5 TAREAS'!N870:N873)","v":3},{"$f":"+SUM('B-5 TAREAS'!O870:O873)","v":1},{"$f":"+SUM('B-5 TAREAS'!P870:P873)","v":2},{"$f":"+SUM('B-5 TAREAS'!Q870:Q873)","v":3},{"$f":"SUM(G367:R367)","v":12}]
["OEI.02 Reducir los riesgos técnicos y financieros de la prestación de planes y productos para el asegurado al SIS."]
[null,"AEI.02.01 Control técnico y financiero de las prestaciones médicas valorizadas incrementado a los establecimientos de salud."]
[null,null,"18AO111143012","Realzar el Control Técnico a las Prestaciones","INFORME",{"$f":"+SUM('B-5 TAREAS'!E876:E880)","v":22000},{"$f":"+SUM('B-5 TAREAS'!F876:F880)","v":4},{"$f":"+SUM('B-5 TAREAS'!G876:G880)","v":4},{"$f":"+SUM('B-5 TAREAS'!H876:H880)","v":4},{"$f":"+SUM('B-5 TAREAS'!I876:I880)","v":4},{"$f":"+SUM('B-5 TAREAS'!J876:J880)","v":4},{"$f":"+SUM('B-5 TAREAS'!K876:K880)","v":5},{"$f":"+SUM('B-5 TAREAS'!L876:L880)","v":4},{"$f":"+SUM('B-5 TAREAS'!M876:M880)","v":4},{"$f":"+SUM('B-5 TAREAS'!N876:N880)","v":5},{"$f":"+SUM('B-5 TAREAS'!O876:O880)","v":3},{"$f":"+SUM('B-5 TAREAS'!P876:P880)","v":3},{"$f":"+SUM('B-5 TAREAS'!Q876:Q880)","v":5},{"$f":"SUM(G370:R370)","v":49}]
["OEI.03 Mejorar la gestión del financiamiento de las prestaciones aprobadas para la atención del asegurado al SIS."]
[null,"AEI.03.02 Recursos del SIS transferidos orientados al financiamiento de reposición de medicamentos e insumos."]
[null,null,"18AO111143013","Realizar la supervisión financiera alas UE","INFORME",{"$f":"+SUM('B-5 TAREAS'!E883:E886)","v":20990},{"$f":"+SUM('B-5 TAREAS'!F883:F886)","v":2},{"$f":"+SUM('B-5 TAREAS'!G883:G886)","v":2},{"$f":"+SUM('B-5 TAREAS'!H883:H886)","v":2},{"$f":"+SUM('B-5 TAREAS'!I883:I886)","v":2},{"$f":"+SUM('B-5 TAREAS'!J883:J886)","v":2},{"$f":"+SUM('B-5 TAREAS'!K883:K886)","v":4},{"$f":"+SUM('B-5 TAREAS'!L883:L886)","v":2},{"$f":"+SUM('B-5 TAREAS'!M883:M886)","v":2},{"$f":"+SUM('B-5 TAREAS'!N883:N886)","v":3},{"$f":"+SUM('B-5 TAREAS'!O883:O886)","v":2},{"$f":"+SUM('B-5 TAREAS'!P883:P886)","v":2},{"$f":"+SUM('B-5 TAREAS'!Q883:Q886)","v":4},{"$f":"SUM(G373:R373)","v":29}]
[null,"AEI.03.03 Mecanismos de compra de servicios de salud optimizados para la atención del asegurado al SIS."]
[null,null,"18AO111143014","Implementar los acuerdos de convenios y/o contratos suscritos con las IPRESS","INFORME",{"$f":"+SUM('B-5 TAREAS'!E888:E891)","v":99638},{"$f":"+SUM('B-5 TAREAS'!F888:F891)","v":0},{"$f":"+SUM('B-5 TAREAS'!G888:G891)","v":0},{"$f":"+SUM('B-5 TAREAS'!H888:H891)","v":0},{"$f":"+SUM('B-5 TAREAS'!I888:I891)","v":0},{"$f":"+SUM('B-5 TAREAS'!J888:J891)","v":0},{"$f":"+SUM('B-5 TAREAS'!K888:K891)","v":2},{"$f":"+SUM('B-5 TAREAS'!L888:L891)","v":0},{"$f":"+SUM('B-5 TAREAS'!M888:M891)","v":0},{"$f":"+SUM('B-5 TAREAS'!N888:N891)","v":0},{"$f":"+SUM('B-5 TAREAS'!O888:O891)","v":0},{"$f":"+SUM('B-5 TAREAS'!P888:P891)","v":0},{"$f":"+SUM('B-5 TAREAS'!Q888:Q891)","v":4},{"$f":"SUM(G375:R375)","v":6}]
[null,"08.04 - UDR JUNÍN"]
["OEI.01 Incrementar la cobertura de la población objetivo del SIS"]
[null,"AEI.01.01 Afiliación al SIS incrementada en la población objetivo."]
[null,null,"18AO111143015","Realizar acciones de afiliación","INFORME",{"$f":"+SUM('B-5 TAREAS'!E895:E898)","v":11797.571428571429},{"$f":"+SUM('B-5 TAREAS'!F895:F898)","v":0},{"$f":"+SUM('B-5 TAREAS'!G895:G898)","v":0},{"$f":"+SUM('B-5 TAREAS'!H895:H898)","v":0},{"$f":"+SUM('B-5 TAREAS'!I895:I898)","v":0},{"$f":"+SUM('B-5 TAREAS'!J895:J898)","v":0},{"$f":"+SUM('B-5 TAREAS'!K895:K898)","v":0},{"$f":"+SUM('B-5 TAREAS'!L895:L898)","v":0},{"$f":"+SUM('B-5 TAREAS'!M895:M898)","v":2},{"$f":"+SUM('B-5 TAREAS'!N895:N898)","v":1},{"$f":"+SUM('B-5 TAREAS'!O895:O898)","v":4},{"$f":"+SUM('B-5 TAREAS'!P895:P898)","v":1},{"$f":"+SUM('B-5 TAREAS'!Q895:Q898)","v":2},{"$f":"SUM(G379:R379)","v":10}]
[null,"AEI.01.02 Mecanismos de protección de derechos optimizados para los asegurados al SIS."]
[null,null,"18AO111143016","Realizar acciones para mitigar riesgos de vulneración de derechos de los asegurados","INFORME",{"$f":"+SUM('B-5 TAREAS'!E900:E903)","v":0},{"$f":"+SUM('B-5 TAREAS'!F900:F903)","v":0},{"$f":"+SUM('B-5 TAREAS'!G900:G903)","v":0},{"$f":"+SUM('B-5 TAREAS'!H900:H903)","v":0},{"$f":"+SUM('B-5 TAREAS'!I900:I903)","v":0},{"$f":"+SUM('B-5 TAREAS'!J900:J903)","v":0},{"$f":"+SUM('B-5 TAREAS'!K900:K903)","v":0},{"$f":"+SUM('B-5 TAREAS'!L900:L903)","v":2},{"$f":"+SUM('B-5 TAREAS'!M900:M903)","v":2},{"$f":"+SUM('B-5 TAREAS'!N900:N903)","v":3},{"$f":"+SUM('B-5 TAREAS'!O900:O903)","v":2},{"$f":"+SUM('B-5 TAREAS'!P900:P903)","v":2},{"$f":"+SUM('B-5 TAREAS'!Q900:Q903)","v":3},{"$f":"SUM(G381:R381)","v":14}]
["OEI.02 Reducir los riesgos técnicos y financieros de la prestación de planes y productos para el asegurado al SIS."]
[null,"AEI.02.01 Control técnico y financiero de las prestaciones médicas valorizadas incrementado a los establecimientos de salud."]
[null,null,"18AO111143017","Realzar el Control Técnico a las Prestaciones","INFORME",{"$f":"+SUM('B-5 TAREAS'!E906:E910)","v":30000},{"$f":"+SUM('B-5 TAREAS'!F906:F910)","v":4},{"$f":"+SUM('B-5 TAREAS'!G906:G910)","v":4},{"$f":"+SUM('B-5 TAREAS'!H906:H910)","v":4},{"$f":"+SUM('B-5 TAREAS'!I906:I910)","v":4},{"$f":"+SUM('B-5 TAREAS'!J906:J910)","v":4},{"$f":"+SUM('B-5 TAREAS'!K906:K910)","v":5},{"$f":"+SUM('B-5 TAREAS'!L906:L910)","v":4},{"$f":"+SUM('B-5 TAREAS'!M906:M910)","v":4},{"$f":"+SUM('B-5 TAREAS'!N906:N910)","v":5},{"$f":"+SUM('B-5 TAREAS'!O906:O910)","v":3},{"$f":"+SUM('B-5 TAREAS'!P906:P910)","v":3},{"$f":"+SUM('B-5 TAREAS'!Q906:Q910)","v":5},{"$f":"SUM(G384:R384)","v":49}]
["OEI.03 Mejorar la gestión del financiamiento de las prestaciones aprobadas para la atención del asegurado al SIS."]
[null,"AEI.03.02 Recursos del SIS transferidos orientados al financiamiento de reposición de medicamentos e insumos."]
[null,null,"18AO111143018","Realizar la supervisión financiera alas UE","INFORME",{"$f":"+SUM('B-5 TAREAS'!E913:E916)","v":30000},{"$f":"+SUM('B-5 TAREAS'!F913:F916)","v":2},{"$f":"+SUM('B-5 TAREAS'!G913:G916)","v":2},{"$f":"+SUM('B-5 TAREAS'!H913:H916)","v":2},{"$f":"+SUM('B-5 TAREAS'!I913:I916)","v":2},{"$f":"+SUM('B-5 TAREAS'!J913:J916)","v":2},{"$f":"+SUM('B-5 TAREAS'!K913:K916)","v":4},{"$f":"+SUM('B-5 TAREAS'!L913:L916)","v":2},{"$f":"+SUM('B-5 TAREAS'!M913:M916)","v":2},{"$f":"+SUM('B-5 TAREAS'!N913:N916)","v":3},{"$f":"+SUM('B-5 TAREAS'!O913:O916)","v":2},{"$f":"+SUM('B-5 TAREAS'!P913:P916)","v":2},{"$f":"+SUM('B-5 TAREAS'!Q913:Q916)","v":4},{"$f":"SUM(G387:R387)","v":29}]
[null,"AEI.03.03 Mecanismos de compra de servicios de salud optimizados para la atención del asegurado al SIS."]
[null,null,"18AO111143019","Implementar los acuerdos de convenios y/o contratos suscritos con las IPRESS","INFORME",{"$f":"+SUM('B-5 TAREAS'!E918:E921)","v":70785.428571428565},{"$f":"+SUM('B-5 TAREAS'!F918:F921)","v":0},{"$f":"+SUM('B-5 TAREAS'!G918:G921)","v":0},{"$f":"+SUM('B-5 TAREAS'!H918:H921)","v":0},{"$f":"+SUM('B-5 TAREAS'!I918:I921)","v":0},{"$f":"+SUM('B-5 TAREAS'!J918:J921)","v":0},{"$f":"+SUM('B-5 TAREAS'!K918:K921)","v":2},{"$f":"+SUM('B-5 TAREAS'!L918:L921)","v":0},{"$f":"+SUM('B-5 TAREAS'!M918:M921)","v":0},{"$f":"+SUM('B-5 TAREAS'!N918:N921)","v":0},{"$f":"+SUM('B-5 TAREAS'!O918:O921)","v":0},{"$f":"+SUM('B-5 TAREAS'!P918:P921)","v":0},{"$f":"+SUM('B-5 TAREAS'!Q918:Q921)","v":4},{"$f":"SUM(G389:R389)","v":6}]
[null,"08.05 - UDR HUANCAVELICA"]
["OEI.01 Incrementar la cobertura de la población objetivo del SIS"]
[null,"AEI.01.01 Afiliación al SIS incrementada en la población objetivo."]
[null,null,"18AO111143020","Realizar acciones de afiliación","INFORME",{"$f":"+SUM('B-5 TAREAS'!E925:E928)","v":9028.6021505376339},{"$f":"+SUM('B-5 TAREAS'!F925:F928)","v":0},{"$f":"+SUM('B-5 TAREAS'!G925:G928)","v":0},{"$f":"+SUM('B-5 TAREAS'!H925:H928)","v":0},{"$f":"+SUM('B-5 TAREAS'!I925:I928)","v":0},{"$f":"+SUM('B-5 TAREAS'!J925:J928)","v":0},{"$f":"+SUM('B-5 TAREAS'!K925:K928)","v":0},{"$f":"+SUM('B-5 TAREAS'!L925:L928)","v":0},{"$f":"+SUM('B-5 TAREAS'!M925:M928)","v":2},{"$f":"+SUM('B-5 TAREAS'!N925:N928)","v":1},{"$f":"+SUM('B-5 TAREAS'!O925:O928)","v":4},{"$f":"+SUM('B-5 TAREAS'!P925:P928)","v":1},{"$f":"+SUM('B-5 TAREAS'!Q925:Q928)","v":2},{"$f":"SUM(G393:R393)","v":10}]
[null,"AEI.01.02 Mecanismos de protección de derechos optimizados para los asegurados al SIS."]
[null,null,"18AO111143021","Realizar acciones para mitigar riesgos de vulneración de derechos de los asegurados","INFORME",{"$f":"+SUM('B-5 TAREAS'!E930:E933)","v":0},{"$f":"+SUM('B-5 TAREAS'!F930:F933)","v":0},{"$f":"+SUM('B-5 TAREAS'!G930:G933)","v":0},{"$f":"+SUM('B-5 TAREAS'!H930:H933)","v":0},{"$f":"+SUM('B-5 TAREAS'!I930:I933)","v":0},{"$f":"+SUM('B-5 TAREAS'!J930:J933)","v":0},{"$f":"+SUM('B-5 TAREAS'!K930:K933)","v":0},{"$f":"+SUM('B-5 TAREAS'!L930:L933)","v":2},{"$f":"+SUM('B-5 TAREAS'!M930:M933)","v":2},{"$f":"+SUM('B-5 TAREAS'!N930:N933)","v":3},{"$f":"+SUM('B-5 TAREAS'!O930:O933)","v":2},{"$f":"+SUM('B-5 TAREAS'!P930:P933)","v":2},{"$f":"+SUM('B-5 TAREAS'!Q930:Q933)","v":3},{"$f":"SUM(G395:R395)","v":14}]
["OEI.02 Reducir los riesgos técnicos y financieros de la prestación de planes y productos para el asegurado al SIS."]
[null,"AEI.02.01 Control técnico y financiero de las prestaciones médicas valorizadas incrementado a los establecimientos de salud."]
[null,null,"18AO111143022","Realzar el Control Técnico a las Prestaciones","INFORME",{"$f":"+SUM('B-5 TAREAS'!E936:E940)","v":33125.741935483871},{"$f":"+SUM('B-5 TAREAS'!F936:F940)","v":4},{"$f":"+SUM('B-5 TAREAS'!G936:G940)","v":4},{"$f":"+SUM('B-5 TAREAS'!H936:H940)","v":4},{"$f":"+SUM('B-5 TAREAS'!I936:I940)","v":4},{"$f":"+SUM('B-5 TAREAS'!J936:J940)","v":4},{"$f":"+SUM('B-5 TAREAS'!K936:K940)","v":5},{"$f":"+SUM('B-5 TAREAS'!L936:L940)","v":4},{"$f":"+SUM('B-5 TAREAS'!M936:M940)","v":4},{"$f":"+SUM('B-5 TAREAS'!N936:N940)","v":5},{"$f":"+SUM('B-5 TAREAS'!O936:O940)","v":3},{"$f":"+SUM('B-5 TAREAS'!P936:P940)","v":3},{"$f":"+SUM('B-5 TAREAS'!Q936:Q940)","v":5},{"$f":"SUM(G398:R398)","v":49}]
["OEI.03 Mejorar la gestión del financiamiento de las prestaciones aprobadas para la atención del asegurado al SIS."]
[null,"AEI.03.02 Recursos del SIS transferidos orientados al financiamiento de reposición de medicamentos e insumos."]
[null,null,"18AO111143023","Realizar la supervisión financiera alas UE","INFORME",{"$f":"+SUM('B-5 TAREAS'!E943:E946)","v":25000},{"$f":"+SUM('B-5 TAREAS'!F943:F946)","v":2},{"$f":"+SUM('B-5 TAREAS'!G943:G946)","v":2},{"$f":"+SUM('B-5 TAREAS'!H943:H946)","v":2},{"$f":"+SUM('B-5 TAREAS'!I943:I946)","v":2},{"$f":"+SUM('B-5 TAREAS'!J943:J946)","v":2},{"$f":"+SUM('B-5 TAREAS'!K943:K946)","v":4},{"$f":"+SUM('B-5 TAREAS'!L943:L946)","v":2},{"$f":"+SUM('B-5 TAREAS'!M943:M946)","v":2},{"$f":"+SUM('B-5 TAREAS'!N943:N946)","v":3},{"$f":"+SUM('B-5 TAREAS'!O943:O946)","v":2},{"$f":"+SUM('B-5 TAREAS'!P943:P946)","v":2},{"$f":"+SUM('B-5 TAREAS'!Q943:Q946)","v":4},{"$f":"SUM(G401:R401)","v":29}]
[null,"AEI.03.03 Mecanismos de compra de servicios de salud optimizados para la atención del asegurado al SIS."]
[null,null,"18AO111143024","Implementar los acuerdos de convenios y/o contratos suscritos con las IPRESS","INFORME",{"$f":"+SUM('B-5 TAREAS'!E948:E951)","v":66811.655913978495},{"$f":"+SUM('B-5 TAREAS'!F948:F951)","v":0},{"$f":"+SUM('B-5 TAREAS'!G948:G951)","v":0},{"$f":"+SUM('B-5 TAREAS'!H948:H951)","v":0},{"$f":"+SUM('B-5 TAREAS'!I948:I951)","v":0},{"$f":"+SUM('B-5 TAREAS'!J948:J951)","v":0},{"$f":"+SUM('B-5 TAREAS'!K948:K951)","v":2},{"$f":"+SUM('B-5 TAREAS'!L948:L951)","v":0},{"$f":"+SUM('B-5 TAREAS'!M948:M951)","v":0},{"$f":"+SUM('B-5 TAREAS'!N948:N951)","v":0},{"$f":"+SUM('B-5 TAREAS'!O948:O951)","v":1},{"$f":"+SUM('B-5 TAREAS'!P948:P951)","v":0},{"$f":"+SUM('B-5 TAREAS'!Q948:Q951)","v":3},{"$f":"SUM(G403:R403)","v":6}]
[null,"09.01 - GERENCIA MACRO REGIONAL ORIENTE"]
["OEI.01 Incrementar la cobertura de la población objetivo del SIS"]
[null,"AEI.01.01 Afiliación al SIS incrementada en la población objetivo."]
[null,null,"18AO111143027","Control y supervision a las udr en las acciones de afiliacion","INFORME",{"$f":"+SUM('B-5 TAREAS'!E955:E957)","v":11101.019252548132},{"$f":"+SUM('B-5 TAREAS'!F955:F957)","v":0},{"$f":"+SUM('B-5 TAREAS'!G955:G957)","v":0},{"$f":"+SUM('B-5 TAREAS'!H955:H957)","v":0},{"$f":"+SUM('B-5 TAREAS'!I955:I957)","v":0},{"$f":"+SUM('B-5 TAREAS'!J955:J957)","v":0},{"$f":"+SUM('B-5 TAREAS'!K955:K957)","v":0},{"$f":"+SUM('B-5 TAREAS'!L955:L957)","v":2},{"$f":"+SUM('B-5 TAREAS'!M955:M957)","v":2},{"$f":"+SUM('B-5 TAREAS'!N955:N957)","v":3},{"$f":"+SUM('B-5 TAREAS'!O955:O957)","v":2},{"$f":"+SUM('B-5 TAREAS'!P955:P957)","v":2},{"$f":"+SUM('B-5 TAREAS'!Q955:Q957)","v":3},{"$f":"SUM(G407:R407)","v":14}]
["OEI.02 Reducir los riesgos técnicos y financieros de la prestación de planes y productos para el asegurado al SIS."]
[null,"AEI.02.01 Control técnico y financiero de las prestaciones médicas valorizadas incrementado a los establecimientos de salud."]
[null,null,"18AO111143029","Supervisión  y asistencia técnica a las udrs en las acciones de control técnico a prestaciones","INFORME",{"$f":"+SUM('B-5 TAREAS'!E960:E963)","v":34366.013590033974},{"$f":"+SUM('B-5 TAREAS'!F960:F963)","v":0},{"$f":"+SUM('B-5 TAREAS'!G960:G963)","v":0},{"$f":"+SUM('B-5 TAREAS'!H960:H963)","v":0},{"$f":"+SUM('B-5 TAREAS'!I960:I963)","v":0},{"$f":"+SUM('B-5 TAREAS'!J960:J963)","v":0},{"$f":"+SUM('B-5 TAREAS'!K960:K963)","v":0},{"$f":"+SUM('B-5 TAREAS'!L960:L963)","v":3},{"$f":"+SUM('B-5 TAREAS'!M960:M963)","v":2},{"$f":"+SUM('B-5 TAREAS'!N960:N963)","v":4},{"$f":"+SUM('B-5 TAREAS'!O960:O963)","v":4},{"$f":"+SUM('B-5 TAREAS'!P960:P963)","v":4},{"$f":"+SUM('B-5 TAREAS'!Q960:Q963)","v":2},{"$f":"SUM(G410:R410)","v":19}]
["OEI.03 Mejorar la gestión del financiamiento de las prestaciones aprobadas para la atención del asegurado al SIS."]
[null,"AEI.03.02 Recursos del SIS transferidos orientados al financiamiento de reposición de medicamentos e insumos."]
[null,null,"18AO111143030","Supervisión y asistencia técnica a las UDRs en el monitoreo, seguimiento y control de los recursos del SIS","INFORME",{"$f":"+SUM('B-5 TAREAS'!E966:E969)","v":13489.014722536816},{"$f":"+SUM('B-5 TAREAS'!F966:F969)","v":0},{"$f":"+SUM('B-5 TAREAS'!G966:G969)","v":0},{"$f":"+SUM('B-5 TAREAS'!H966:H969)","v":0},{"$f":"+SUM('B-5 TAREAS'!I966:I969)","v":0},{"$f":"+SUM('B-5 TAREAS'!J966:J969)","v":0},{"$f":"+SUM('B-5 TAREAS'!K966:K969)","v":0},{"$f":"+SUM('B-5 TAREAS'!L966:L969)","v":1},{"$f":"+SUM('B-5 TAREAS'!M966:M969)","v":2},{"$f":"+SUM('B-5 TAREAS'!N966:N969)","v":2},{"$f":"+SUM('B-5 TAREAS'!O966:O969)","v":2},{"$f":"+SUM('B-5 TAREAS'!P966:P969)","v":2},{"$f":"+SUM('B-5 TAREAS'!Q966:Q969)","v":3},{"$f":"SUM(G413:R413)","v":12}]
["OEI.04 Mejorar la eficacia y eficiencia de los procesos de gestión instituciona"]
[null,"AEI.04.01 Fortalecer la organización orientándola al desarrollo de las funciones de un asegurador público eficiente, eficaz y con enfoque de procesos."]
[null,null,"18AO110921291","Realizar acciones de coordinación en gestión.","INFORME",{"$f":"+SUM('B-5 TAREAS'!E972:E978)","v":67712.952434881096},{"$f":"+SUM('B-5 TAREAS'!F972:F978)","v":3},{"$f":"+SUM('B-5 TAREAS'!G972:G978)","v":3},{"$f":"+SUM('B-5 TAREAS'!H972:H978)","v":5},{"$f":"+SUM('B-5 TAREAS'!I972:I978)","v":3},{"$f":"+SUM('B-5 TAREAS'!J972:J978)","v":3},{"$f":"+SUM('B-5 TAREAS'!K972:K978)","v":7},{"$f":"+SUM('B-5 TAREAS'!L972:L978)","v":3},{"$f":"+SUM('B-5 TAREAS'!M972:M978)","v":3},{"$f":"+SUM('B-5 TAREAS'!N972:N978)","v":5},{"$f":"+SUM('B-5 TAREAS'!O972:O978)","v":3},{"$f":"+SUM('B-5 TAREAS'!P972:P978)","v":3},{"$f":"+SUM('B-5 TAREAS'!Q972:Q978)","v":7},{"$f":"SUM(G416:R416)","v":48}]
[null,"09.02 - UDR AMAZONAS"]
["OEI.01 Incrementar la cobertura de la población objetivo del SIS"]
[null,"AEI.01.01 Afiliación al SIS incrementada en la población objetivo."]
[null,null,"18AO111143031","Realizar acciones de afiliación","INFORME",{"$f":"+SUM('B-5 TAREAS'!E982:E985)","v":0},{"$f":"+SUM('B-5 TAREAS'!F982:F985)","v":0},{"$f":"+SUM('B-5 TAREAS'!G982:G985)","v":0},{"$f":"+SUM('B-5 TAREAS'!H982:H985)","v":0},{"$f":"+SUM('B-5 TAREAS'!I982:I985)","v":0},{"$f":"+SUM('B-5 TAREAS'!J982:J985)","v":0},{"$f":"+SUM('B-5 TAREAS'!K982:K985)","v":0},{"$f":"+SUM('B-5 TAREAS'!L982:L985)","v":0},{"$f":"+SUM('B-5 TAREAS'!M982:M985)","v":2},{"$f":"+SUM('B-5 TAREAS'!N982:N985)","v":1},{"$f":"+SUM('B-5 TAREAS'!O982:O985)","v":3},{"$f":"+SUM('B-5 TAREAS'!P982:P985)","v":2},{"$f":"+SUM('B-5 TAREAS'!Q982:Q985)","v":1},{"$f":"SUM(G420:R420)","v":9}]
[null,"AEI.01.02 Mecanismos de protección de derechos optimizados para los asegurados al SIS."]
[null,null,"18AO111143032","Realizar acciones para mitigar riesgos de vulneración de derechos de los asegurados","INFORME",{"$f":"+SUM('B-5 TAREAS'!E987:E990)","v":0},{"$f":"+SUM('B-5 TAREAS'!F987:F990)","v":0},{"$f":"+SUM('B-5 TAREAS'!G987:G990)","v":0},{"$f":"+SUM('B-5 TAREAS'!H987:H990)","v":0},{"$f":"+SUM('B-5 TAREAS'!I987:I990)","v":0},{"$f":"+SUM('B-5 TAREAS'!J987:J990)","v":0},{"$f":"+SUM('B-5 TAREAS'!K987:K990)","v":0},{"$f":"+SUM('B-5 TAREAS'!L987:L990)","v":2},{"$f":"+SUM('B-5 TAREAS'!M987:M990)","v":2},{"$f":"+SUM('B-5 TAREAS'!N987:N990)","v":3},{"$f":"+SUM('B-5 TAREAS'!O987:O990)","v":8},{"$f":"+SUM('B-5 TAREAS'!P987:P990)","v":9},{"$f":"+SUM('B-5 TAREAS'!Q987:Q990)","v":2},{"$f":"SUM(G422:R422)","v":26}]
["OEI.02 Reducir los riesgos técnicos y financieros de la prestación de planes y productos para el asegurado al SIS."]
[null,"AEI.02.01 Control técnico y financiero de las prestaciones médicas valorizadas incrementado a los establecimientos de salud."]
[null,null,"18AO111143033","Realzar el Control Técnico a las Prestaciones","INFORME",{"$f":"+SUM('B-5 TAREAS'!E993:E997)","v":41306.736842105267},{"$f":"+SUM('B-5 TAREAS'!F993:F997)","v":4},{"$f":"+SUM('B-5 TAREAS'!G993:G997)","v":4},{"$f":"+SUM('B-5 TAREAS'!H993:H997)","v":4},{"$f":"+SUM('B-5 TAREAS'!I993:I997)","v":4},{"$f":"+SUM('B-5 TAREAS'!J993:J997)","v":4},{"$f":"+SUM('B-5 TAREAS'!K993:K997)","v":5},{"$f":"+SUM('B-5 TAREAS'!L993:L997)","v":4},{"$f":"+SUM('B-5 TAREAS'!M993:M997)","v":4},{"$f":"+SUM('B-5 TAREAS'!N993:N997)","v":5},{"$f":"+SUM('B-5 TAREAS'!O993:O997)","v":5},{"$f":"+SUM('B-5 TAREAS'!P993:P997)","v":3},{"$f":"+SUM('B-5 TAREAS'!Q993:Q997)","v":7},{"$f":"SUM(G425:R425)","v":53}]
["OEI.03 Mejorar la gestión del financiamiento de las prestaciones aprobadas para la atención del asegurado al SIS."]
[null,"AEI.03.02 Recursos del SIS transferidos orientados al financiamiento de reposición de medicamentos e insumos."]
[null,null,"18AO111143035","Realizar la supervisión financiera alas UE","INFORME",{"$f":"+SUM('B-5 TAREAS'!E1000:E1003)","v":30000},{"$f":"+SUM('B-5 TAREAS'!F1000:F1003)","v":2},{"$f":"+SUM('B-5 TAREAS'!G1000:G1003)","v":2},{"$f":"+SUM('B-5 TAREAS'!H1000:H1003)","v":2},{"$f":"+SUM('B-5 TAREAS'!I1000:I1003)","v":2},{"$f":"+SUM('B-5 TAREAS'!J1000:J1003)","v":2},{"$f":"+SUM('B-5 TAREAS'!K1000:K1003)","v":4},{"$f":"+SUM('B-5 TAREAS'!L1000:L1003)","v":2},{"$f":"+SUM('B-5 TAREAS'!M1000:M1003)","v":2},{"$f":"+SUM('B-5 TAREAS'!N1000:N1003)","v":3},{"$f":"+SUM('B-5 TAREAS'!O1000:O1003)","v":0},{"$f":"+SUM('B-5 TAREAS'!P1000:P1003)","v":0},{"$f":"+SUM('B-5 TAREAS'!Q1000:Q1003)","v":5},{"$f":"SUM(G428:R428)","v":26}]
[null,"AEI.03.03 Mecanismos de compra de servicios de salud optimizados para la atención del asegurado al SIS."]
[null,null,"18AO111143036","Implementar los acuerdos de convenios y/o contratos suscritos con las IPRESS","INFORME",{"$f":"+SUM('B-5 TAREAS'!E1005:E1008)","v":96107.263157894733},{"$f":"+SUM('B-5 TAREAS'!F1005:F1008)","v":0},{"$f":"+SUM('B-5 TAREAS'!G1005:G1008)","v":0},{"$f":"+SUM('B-5 TAREAS'!H1005:H1008)","v":0},{"$f":"+SUM('B-5 TAREAS'!I1005:I1008)","v":0},{"$f":"+SUM('B-5 TAREAS'!J1005:J1008)","v":0},{"$f":"+SUM('B-5 TAREAS'!K1005:K1008)","v":2},{"$f":"+SUM('B-5 TAREAS'!L1005:L1008)","v":0},{"$f":"+SUM('B-5 TAREAS'!M1005:M1008)","v":0},{"$f":"+SUM('B-5 TAREAS'!N1005:N1008)","v":0},{"$f":"+SUM('B-5 TAREAS'!O1005:O1008)","v":1},{"$f":"+SUM('B-5 TAREAS'!P1005:P1008)","v":1},{"$f":"+SUM('B-5 TAREAS'!Q1005:Q1008)","v":3},{"$f":"SUM(G430:R430)","v":7}]
[null,"09.03 - UDR BAGUA"]
["OEI.01 Incrementar la cobertura de la población objetivo del SIS"]
[null,"AEI.01.01 Afiliación al SIS incrementada en la población objetivo."]
[null,null,"18AO111143037","Realizar acciones de afiliación","INFORME",{"$f":"+SUM('B-5 TAREAS'!E1012:E1015)","v":0},{"$f":"+SUM('B-5 TAREAS'!F1012:F1015)","v":0},{"$f":"+SUM('B-5 TAREAS'!G1012:G1015)","v":0},{"$f":"+SUM('B-5 TAREAS'!H1012:H1015)","v":0},{"$f":"+SUM('B-5 TAREAS'!I1012:I1015)","v":0},{"$f":"+SUM('B-5 TAREAS'!J1012:J1015)","v":0},{"$f":"+SUM('B-5 TAREAS'!K1012:K1015)","v":0},{"$f":"+SUM('B-5 TAREAS'!L1012:L1015)","v":0},{"$f":"+SUM('B-5 TAREAS'!M1012:M1015)","v":2},{"$f":"+SUM('B-5 TAREAS'!N1012:N1015)","v":1},{"$f":"+SUM('B-5 TAREAS'!O1012:O1015)","v":4},{"$f":"+SUM('B-5 TAREAS'!P1012:P1015)","v":1},{"$f":"+SUM('B-5 TAREAS'!Q1012:Q1015)","v":2},{"$f":"SUM(G434:R434)","v":10}]
[null,"AEI.01.02 Mecanismos de protección de derechos optimizados para los asegurados al SIS."]
[null,null,"18AO111143038","Realizar acciones para mitigar riesgos de vulneración de derechos de los asegurados","INFORME",{"$f":"+SUM('B-5 TAREAS'!E1017:E1020)","v":0},{"$f":"+SUM('B-5 TAREAS'!F1017:F1020)","v":0},{"$f":"+SUM('B-5 TAREAS'!G1017:G1020)","v":0},{"$f":"+SUM('B-5 TAREAS'!H1017:H1020)","v":0},{"$f":"+SUM('B-5 TAREAS'!I1017:I1020)","v":0},{"$f":"+SUM('B-5 TAREAS'!J1017:J1020)","v":0},{"$f":"+SUM('B-5 TAREAS'!K1017:K1020)","v":0},{"$f":"+SUM('B-5 TAREAS'!L1017:L1020)","v":2},{"$f":"+SUM('B-5 TAREAS'!M1017:M1020)","v":2},{"$f":"+SUM('B-5 TAREAS'!N1017:N1020)","v":3},{"$f":"+SUM('B-5 TAREAS'!O1017:O1020)","v":2},{"$f":"+SUM('B-5 TAREAS'!P1017:P1020)","v":2},{"$f":"+SUM('B-5 TAREAS'!Q1017:Q1020)","v":3},{"$f":"SUM(G436:R436)","v":14}]
["OEI.02 Reducir los riesgos técnicos y financieros de la prestación de planes y productos para el asegurado al SIS."]
[null,"AEI.02.01 Control técnico y financiero de las prestaciones médicas valorizadas incrementado a los establecimientos de salud."]
[null,null,"18AO111143039","Realzar el Control Técnico a las Prestaciones","INFORME",{"$f":"+SUM('B-5 TAREAS'!E1023:E1027)","v":36278.348178137654},{"$f":"+SUM('B-5 TAREAS'!F1023:F1027)","v":4},{"$f":"+SUM('B-5 TAREAS'!G1023:G1027)","v":4},{"$f":"+SUM('B-5 TAREAS'!H1023:H1027)","v":4},{"$f":"+SUM('B-5 TAREAS'!I1023:I1027)","v":4},{"$f":"+SUM('B-5 TAREAS'!J1023:J1027)","v":4},{"$f":"+SUM('B-5 TAREAS'!K1023:K1027)","v":5},{"$f":"+SUM('B-5 TAREAS'!L1023:L1027)","v":4},{"$f":"+SUM('B-5 TAREAS'!M1023:M1027)","v":4},{"$f":"+SUM('B-5 TAREAS'!N1023:N1027)","v":5},{"$f":"+SUM('B-5 TAREAS'!O1023:O1027)","v":3},{"$f":"+SUM('B-5 TAREAS'!P1023:P1027)","v":3},{"$f":"+SUM('B-5 TAREAS'!Q1023:Q1027)","v":5},{"$f":"SUM(G439:R439)","v":49}]
["OEI.03 Mejorar la gestión del financiamiento de las prestaciones aprobadas para la atención del asegurado al SIS."]
[null,"AEI.03.02 Recursos del SIS transferidos orientados al financiamiento de reposición de medicamentos e insumos."]
[null,null,"18AO111143040","Realizar la supervisión financiera alas UE","INFORME",{"$f":"+SUM('B-5 TAREAS'!E1030:E1033)","v":32000},{"$f":"+SUM('B-5 TAREAS'!F1030:F1033)","v":2},{"$f":"+SUM('B-5 TAREAS'!G1030:G1033)","v":2},{"$f":"+SUM('B-5 TAREAS'!H1030:H1033)","v":2},{"$f":"+SUM('B-5 TAREAS'!I1030:I1033)","v":2},{"$f":"+SUM('B-5 TAREAS'!J1030:J1033)","v":2},{"$f":"+SUM('B-5 TAREAS'!K1030:K1033)","v":4},{"$f":"+SUM('B-5 TAREAS'!L1030:L1033)","v":2},{"$f":"+SUM('B-5 TAREAS'!M1030:M1033)","v":2},{"$f":"+SUM('B-5 TAREAS'!N1030:N1033)","v":3},{"$f":"+SUM('B-5 TAREAS'!O1030:O1033)","v":2},{"$f":"+SUM('B-5 TAREAS'!P1030:P1033)","v":2},{"$f":"+SUM('B-5 TAREAS'!Q1030:Q1033)","v":4},{"$f":"SUM(G442:R442)","v":29}]
[null,"AEI.03.03 Mecanismos de compra de servicios de salud optimizados para la atención del asegurado al SIS."]
[null,null,"18AO111143041","Implementar los acuerdos de convenios y/o contratos suscritos con las IPRESS","INFORME",{"$f":"+SUM('B-5 TAREAS'!E1035:E1038)","v":57017.651821862346},{"$f":"+SUM('B-5 TAREAS'!F1035:F1038)","v":0},{"$f":"+SUM('B-5 TAREAS'!G1035:G1038)","v":0},{"$f":"+SUM('B-5 TAREAS'!H1035:H1038)","v":0},{"$f":"+SUM('B-5 TAREAS'!I1035:I1038)","v":0},{"$f":"+SUM('B-5 TAREAS'!J1035:J1038)","v":0},{"$f":"+SUM('B-5 TAREAS'!K1035:K1038)","v":2},{"$f":"+SUM('B-5 TAREAS'!L1035:L1038)","v":0},{"$f":"+SUM('B-5 TAREAS'!M1035:M1038)","v":0},{"$f":"+SUM('B-5 TAREAS'!N1035:N1038)","v":0},{"$f":"+SUM('B-5 TAREAS'!O1035:O1038)","v":0},{"$f":"+SUM('B-5 TAREAS'!P1035:P1038)","v":0},{"$f":"+SUM('B-5 TAREAS'!Q1035:Q1038)","v":2},{"$f":"SUM(G444:R444)","v":4}]
[null,"09.04 - UDR LORETO"]
["OEI.01 Incrementar la cobertura de la población objetivo del SIS"]
[null,"AEI.01.01 Afiliación al SIS incrementada en la población objetivo."]
[null,null,"18AO111143042","Realizar acciones de afiliación","INFORME",{"$f":"+SUM('B-5 TAREAS'!E1042:E1045)","v":28841.972604751038},{"$f":"+SUM('B-5 TAREAS'!F1042:F1045)","v":0},{"$f":"+SUM('B-5 TAREAS'!G1042:G1045)","v":0},{"$f":"+SUM('B-5 TAREAS'!H1042:H1045)","v":0},{"$f":"+SUM('B-5 TAREAS'!I1042:I1045)","v":0},{"$f":"+SUM('B-5 TAREAS'!J1042:J1045)","v":0},{"$f":"+SUM('B-5 TAREAS'!K1042:K1045)","v":0},{"$f":"+SUM('B-5 TAREAS'!L1042:L1045)","v":0},{"$f":"+SUM('B-5 TAREAS'!M1042:M1045)","v":2},{"$f":"+SUM('B-5 TAREAS'!N1042:N1045)","v":1},{"$f":"+SUM('B-5 TAREAS'!O1042:O1045)","v":3},{"$f":"+SUM('B-5 TAREAS'!P1042:P1045)","v":1},{"$f":"+SUM('B-5 TAREAS'!Q1042:Q1045)","v":1},{"$f":"SUM(G448:R448)","v":8}]
[null,"AEI.01.02 Mecanismos de protección de derechos optimizados para los asegurados al SIS."]
[null,null,"18AO111143043","Realizar acciones para mitigar riesgos de vulneración de derechos de los asegurados","INFORME",{"$f":"+SUM('B-5 TAREAS'!E1047:E1050)","v":28841.972604751038},{"$f":"+SUM('B-5 TAREAS'!F1047:F1050)","v":0},{"$f":"+SUM('B-5 TAREAS'!G1047:G1050)","v":0},{"$f":"+SUM('B-5 TAREAS'!H1047:H1050)","v":0},{"$f":"+SUM('B-5 TAREAS'!I1047:I1050)","v":0},{"$f":"+SUM('B-5 TAREAS'!J1047:J1050)","v":0},{"$f":"+SUM('B-5 TAREAS'!K1047:K1050)","v":0},{"$f":"+SUM('B-5 TAREAS'!L1047:L1050)","v":2},{"$f":"+SUM('B-5 TAREAS'!M1047:M1050)","v":2},{"$f":"+SUM('B-5 TAREAS'!N1047:N1050)","v":3},{"$f":"+SUM('B-5 TAREAS'!O1047:O1050)","v":3},{"$f":"+SUM('B-5 TAREAS'!P1047:P1050)","v":3},{"$f":"+SUM('B-5 TAREAS'!Q1047:Q1050)","v":4},{"$f":"SUM(G450:R450)","v":17}]
["OEI.02 Reducir los riesgos técnicos y financieros de la prestación de planes y productos para el asegurado al SIS."]
[null,"AEI.02.01 Control técnico y financiero de las prestaciones médicas valorizadas incrementado a los establecimientos de salud."]
[null,null,"18AO111143044","Realzar el Control Técnico a las Prestaciones","INFORME",{"$f":"+SUM('B-5 TAREAS'!E1053:E1057)","v":47882.023014945647},{"$f":"+SUM('B-5 TAREAS'!F1053:F1057)","v":4},{"$f":"+SUM('B-5 TAREAS'!G1053:G1057)","v":4},{"$f":"+SUM('B-5 TAREAS'!H1053:H1057)","v":4},{"$f":"+SUM('B-5 TAREAS'!I1053:I1057)","v":4},{"$f":"+SUM('B-5 TAREAS'!J1053:J1057)","v":4},{"$f":"+SUM('B-5 TAREAS'!K1053:K1057)","v":5},{"$f":"+SUM('B-5 TAREAS'!L1053:L1057)","v":4},{"$f":"+SUM('B-5 TAREAS'!M1053:M1057)","v":4},{"$f":"+SUM('B-5 TAREAS'!N1053:N1057)","v":5},{"$f":"+SUM('B-5 TAREAS'!O1053:O1057)","v":3},{"$f":"+SUM('B-5 TAREAS'!P1053:P1057)","v":3},{"$f":"+SUM('B-5 TAREAS'!Q1053:Q1057)","v":5},{"$f":"SUM(G453:R453)","v":49}]
["OEI.03 Mejorar la gestión del financiamiento de las prestaciones aprobadas para la atención del asegurado al SIS."]
[null,"AEI.03.02 Recursos del SIS transferidos orientados al financiamiento de reposición de medicamentos e insumos."]
[null,null,"18AO111143045","Realizar la supervisión financiera alas UE","INFORME",{"$f":"+SUM('B-5 TAREAS'!E1060:E1063)","v":30000},{"$f":"+SUM('B-5 TAREAS'!F1060:F1063)","v":2},{"$f":"+SUM('B-5 TAREAS'!G1060:G1063)","v":2},{"$f":"+SUM('B-5 TAREAS'!H1060:H1063)","v":2},{"$f":"+SUM('B-5 TAREAS'!I1060:I1063)","v":2},{"$f":"+SUM('B-5 TAREAS'!J1060:J1063)","v":2},{"$f":"+SUM('B-5 TAREAS'!K1060:K1063)","v":4},{"$f":"+SUM('B-5 TAREAS'!L1060:L1063)","v":2},{"$f":"+SUM('B-5 TAREAS'!M1060:M1063)","v":2},{"$f":"+SUM('B-5 TAREAS'!N1060:N1063)","v":3},{"$f":"+SUM('B-5 TAREAS'!O1060:O1063)","v":1},{"$f":"+SUM('B-5 TAREAS'!P1060:P1063)","v":2},{"$f":"+SUM('B-5 TAREAS'!Q1060:Q1063)","v":3},{"$f":"SUM(G456:R456)","v":27}]
[null,"AEI.03.03 Mecanismos de compra de servicios de salud optimizados para la atención del asegurado al SIS."]
[null,null,"18AO111143046","Implementar los acuerdos de convenios y/o contratos suscritos con las IPRESS","INFORME",{"$f":"+SUM('B-5 TAREAS'!E1065:E1068)","v":160158.03177555226},{"$f":"+SUM('B-5 TAREAS'!F1065:F1068)","v":0},{"$f":"+SUM('B-5 TAREAS'!G1065:G1068)","v":0},{"$f":"+SUM('B-5 TAREAS'!H1065:H1068)","v":0},{"$f":"+SUM('B-5 TAREAS'!I1065:I1068)","v":0},{"$f":"+SUM('B-5 TAREAS'!J1065:J1068)","v":0},{"$f":"+SUM('B-5 TAREAS'!K1065:K1068)","v":2},{"$f":"+SUM('B-5 TAREAS'!L1065:L1068)","v":0},{"$f":"+SUM('B-5 TAREAS'!M1065:M1068)","v":0},{"$f":"+SUM('B-5 TAREAS'!N1065:N1068)","v":0},{"$f":"+SUM('B-5 TAREAS'!O1065:O1068)","v":1},{"$f":"+SUM('B-5 TAREAS'!P1065:P1068)","v":1},{"$f":"+SUM('B-5 TAREAS'!Q1065:Q1068)","v":2},{"$f":"SUM(G458:R458)","v":6}]
[null,"09.05 - UDR SAN MARTÍN"]
["OEI.01 Incrementar la cobertura de la población objetivo del SIS"]
[null,"AEI.01.01 Afiliación al SIS incrementada en la población objetivo."]
[null,null,"18AO111143047","Realizar acciones de afiliación","INFORME",{"$f":"+SUM('B-5 TAREAS'!E1072:E1075)","v":10542.987341772152},{"$f":"+SUM('B-5 TAREAS'!F1072:F1075)","v":0},{"$f":"+SUM('B-5 TAREAS'!G1072:G1075)","v":0},{"$f":"+SUM('B-5 TAREAS'!H1072:H1075)","v":0},{"$f":"+SUM('B-5 TAREAS'!I1072:I1075)","v":0},{"$f":"+SUM('B-5 TAREAS'!J1072:J1075)","v":0},{"$f":"+SUM('B-5 TAREAS'!K1072:K1075)","v":0},{"$f":"+SUM('B-5 TAREAS'!L1072:L1075)","v":0},{"$f":"+SUM('B-5 TAREAS'!M1072:M1075)","v":2},{"$f":"+SUM('B-5 TAREAS'!N1072:N1075)","v":1},{"$f":"+SUM('B-5 TAREAS'!O1072:O1075)","v":3},{"$f":"+SUM('B-5 TAREAS'!P1072:P1075)","v":1},{"$f":"+SUM('B-5 TAREAS'!Q1072:Q1075)","v":1},{"$f":"SUM(G462:R462)","v":8}]
[null,"AEI.01.02 Mecanismos de protección de derechos optimizados para los asegurados al SIS."]
[null,null,"18AO111143048","Realizar acciones para mitigar riesgos de vulneración de derechos de los asegurados","INFORME",{"$f":"+SUM('B-5 TAREAS'!E1077:E1080)","v":10542.987341772152},{"$f":"+SUM('B-5 TAREAS'!F1077:F1080)","v":0},{"$f":"+SUM('B-5 TAREAS'!G1077:G1080)","v":0},{"$f":"+SUM('B-5 TAREAS'!H1077:H1080)","v":0},{"$f":"+SUM('B-5 TAREAS'!I1077:I1080)","v":0},{"$f":"+SUM('B-5 TAREAS'!J1077:J1080)","v":0},{"$f":"+SUM('B-5 TAREAS'!K1077:K1080)","v":0},{"$f":"+SUM('B-5 TAREAS'!L1077:L1080)","v":2},{"$f":"+SUM('B-5 TAREAS'!M1077:M1080)","v":2},{"$f":"+SUM('B-5 TAREAS'!N1077:N1080)","v":3},{"$f":"+SUM('B-5 TAREAS'!O1077:O1080)","v":2},{"$f":"+SUM('B-5 TAREAS'!P1077:P1080)","v":2},{"$f":"+SUM('B-5 TAREAS'!Q1077:Q1080)","v":1},{"$f":"SUM(G464:R464)","v":12}]
["OEI.02 Reducir los riesgos técnicos y financieros de la prestación de planes y productos para el asegurado al SIS."]
[null,"AEI.02.01 Control técnico y financiero de las prestaciones médicas valorizadas incrementado a los establecimientos de salud."]
[null,null,"18AO111143049","Realzar el Control Técnico a las Prestaciones","INFORME",{"$f":"+SUM('B-5 TAREAS'!E1083:E1087)","v":30000},{"$f":"+SUM('B-5 TAREAS'!F1083:F1087)","v":4},{"$f":"+SUM('B-5 TAREAS'!G1083:G1087)","v":4},{"$f":"+SUM('B-5 TAREAS'!H1083:H1087)","v":4},{"$f":"+SUM('B-5 TAREAS'!I1083:I1087)","v":4},{"$f":"+SUM('B-5 TAREAS'!J1083:J1087)","v":4},{"$f":"+SUM('B-5 TAREAS'!K1083:K1087)","v":5},{"$f":"+SUM('B-5 TAREAS'!L1083:L1087)","v":4},{"$f":"+SUM('B-5 TAREAS'!M1083:M1087)","v":4},{"$f":"+SUM('B-5 TAREAS'!N1083:N1087)","v":5},{"$f":"+SUM('B-5 TAREAS'!O1083:O1087)","v":3},{"$f":"+SUM('B-5 TAREAS'!P1083:P1087)","v":3},{"$f":"+SUM('B-5 TAREAS'!Q1083:Q1087)","v":5},{"$f":"SUM(G467:R467)","v":49}]
["OEI.03 Mejorar la gestión del financiamiento de las prestaciones aprobadas para la atención del asegurado al SIS."]
[null,"AEI.03.02 Recursos del SIS transferidos orientados al financiamiento de reposición de medicamentos e insumos."]
[null,null,"18AO111143050","Realizar la supervisión financiera alas UE","INFORME",{"$f":"+SUM('B-5 TAREAS'!E1090:E1093)","v":30440},{"$f":"+SUM('B-5 TAREAS'!F1090:F1093)","v":2},{"$f":"+SUM('B-5 TAREAS'!G1090:G1093)","v":2},{"$f":"+SUM('B-5 TAREAS'!H1090:H1093)","v":2},{"$f":"+SUM('B-5 TAREAS'!I1090:I1093)","v":2},{"$f":"+SUM('B-5 TAREAS'!J1090:J1093)","v":2},{"$f":"+SUM('B-5 TAREAS'!K1090:K1093)","v":4},{"$f":"+SUM('B-5 TAREAS'!L1090:L1093)","v":2},{"$f":"+SUM('B-5 TAREAS'!M1090:M1093)","v":2},{"$f":"+SUM('B-5 TAREAS'!N1090:N1093)","v":3},{"$f":"+SUM('B-5 TAREAS'!O1090:O1093)","v":2},{"$f":"+SUM('B-5 TAREAS'!P1090:P1093)","v":2},{"$f":"+SUM('B-5 TAREAS'!Q1090:Q1093)","v":4},{"$f":"SUM(G470:R470)","v":29}]
[null,"AEI.03.03 Mecanismos de compra de servicios de salud optimizados para la atención del asegurado al SIS."]
[null,null,"18AO111143051","Implementar los acuerdos de convenios y/o contratos suscritos con las IPRESS","INFORME",{"$f":"+SUM('B-5 TAREAS'!E1095:E1098)","v":71458.025316455693},{"$f":"+SUM('B-5 TAREAS'!F1095:F1098)","v":0},{"$f":"+SUM('B-5 TAREAS'!G1095:G1098)","v":0},{"$f":"+SUM('B-5 TAREAS'!H1095:H1098)","v":0},{"$f":"+SUM('B-5 TAREAS'!I1095:I1098)","v":0},{"$f":"+SUM('B-5 TAREAS'!J1095:J1098)","v":0},{"$f":"+SUM('B-5 TAREAS'!K1095:K1098)","v":2},{"$f":"+SUM('B-5 TAREAS'!L1095:L1098)","v":0},{"$f":"+SUM('B-5 TAREAS'!M1095:M1098)","v":0},{"$f":"+SUM('B-5 TAREAS'!N1095:N1098)","v":0},{"$f":"+SUM('B-5 TAREAS'!O1095:O1098)","v":0},{"$f":"+SUM('B-5 TAREAS'!P1095:P1098)","v":0},{"$f":"+SUM('B-5 TAREAS'!Q1095:Q1098)","v":1},{"$f":"SUM(G472:R472)","v":3}]
[null,"09.06 - UDR UCAYALI"]
["OEI.01 Incrementar la cobertura de la población objetivo del SIS"]
[null,"AEI.01.01 Afiliación al SIS incrementada en la población objetivo."]
[null,null,"18AO111143052","Realizar acciones de afiliación","INFORME",{"$f":"+SUM('B-5 TAREAS'!E1102:E1105)","v":0},{"$f":"+SUM('B-5 TAREAS'!F1102:F1105)","v":0},{"$f":"+SUM('B-5 TAREAS'!G1102:G1105)","v":0},{"$f":"+SUM('B-5 TAREAS'!H1102:H1105)","v":0},{"$f":"+SUM('B-5 TAREAS'!I1102:I1105)","v":0},{"$f":"+SUM('B-5 TAREAS'!J1102:J1105)","v":0},{"$f":"+SUM('B-5 TAREAS'!K1102:K1105)","v":0},{"$f":"+SUM('B-5 TAREAS'!L1102:L1105)","v":0},{"$f":"+SUM('B-5 TAREAS'!M1102:M1105)","v":2},{"$f":"+SUM('B-5 TAREAS'!N1102:N1105)","v":1},{"$f":"+SUM('B-5 TAREAS'!O1102:O1105)","v":3},{"$f":"+SUM('B-5 TAREAS'!P1102:P1105)","v":1},{"$f":"+SUM('B-5 TAREAS'!Q1102:Q1105)","v":2},{"$f":"SUM(G476:R476)","v":9}]
[null,"AEI.01.02 Mecanismos de protección de derechos optimizados para los asegurados al SIS."]
[null,null,"18AO111143053","Realizar acciones para mitigar riesgos de vulneración de derechos de los asegurados","INFORME",{"$f":"+SUM('B-5 TAREAS'!E1107:E1110)","v":11944.242424242424},{"$f":"+SUM('B-5 TAREAS'!F1107:F1110)","v":0},{"$f":"+SUM('B-5 TAREAS'!G1107:G1110)","v":0},{"$f":"+SUM('B-5 TAREAS'!H1107:H1110)","v":0},{"$f":"+SUM('B-5 TAREAS'!I1107:I1110)","v":0},{"$f":"+SUM('B-5 TAREAS'!J1107:J1110)","v":0},{"$f":"+SUM('B-5 TAREAS'!K1107:K1110)","v":0},{"$f":"+SUM('B-5 TAREAS'!L1107:L1110)","v":2},{"$f":"+SUM('B-5 TAREAS'!M1107:M1110)","v":2},{"$f":"+SUM('B-5 TAREAS'!N1107:N1110)","v":3},{"$f":"+SUM('B-5 TAREAS'!O1107:O1110)","v":2},{"$f":"+SUM('B-5 TAREAS'!P1107:P1110)","v":2},{"$f":"+SUM('B-5 TAREAS'!Q1107:Q1110)","v":4},{"$f":"SUM(G478:R478)","v":15}]
["OEI.02 Reducir los riesgos técnicos y financieros de la prestación de planes y productos para el asegurado al SIS."]
[null,"AEI.02.01 Control técnico y financiero de las prestaciones médicas valorizadas incrementado a los establecimientos de salud."]
[null,null,"18AO111143054","Realzar el Control Técnico a las Prestaciones","INFORME",{"$f":"+SUM('B-5 TAREAS'!E1113:E1117)","v":34555.393939393936},{"$f":"+SUM('B-5 TAREAS'!F1113:F1117)","v":4},{"$f":"+SUM('B-5 TAREAS'!G1113:G1117)","v":4},{"$f":"+SUM('B-5 TAREAS'!H1113:H1117)","v":4},{"$f":"+SUM('B-5 TAREAS'!I1113:I1117)","v":4},{"$f":"+SUM('B-5 TAREAS'!J1113:J1117)","v":4},{"$f":"+SUM('B-5 TAREAS'!K1113:K1117)","v":5},{"$f":"+SUM('B-5 TAREAS'!L1113:L1117)","v":4},{"$f":"+SUM('B-5 TAREAS'!M1113:M1117)","v":4},{"$f":"+SUM('B-5 TAREAS'!N1113:N1117)","v":5},{"$f":"+SUM('B-5 TAREAS'!O1113:O1117)","v":3},{"$f":"+SUM('B-5 TAREAS'!P1113:P1117)","v":3},{"$f":"+SUM('B-5 TAREAS'!Q1113:Q1117)","v":5},{"$f":"SUM(G481:R481)","v":49}]
["OEI.03 Mejorar la gestión del financiamiento de las prestaciones aprobadas para la atención del asegurado al SIS."]
[null,"AEI.03.02 Recursos del SIS transferidos orientados al financiamiento de reposición de medicamentos e insumos."]
[null,null,"18AO111143055","Realizar la supervisión financiera alas UE","INFORME",{"$f":"+SUM('B-5 TAREAS'!E1120:E1123)","v":25000},{"$f":"+SUM('B-5 TAREAS'!F1120:F1123)","v":2},{"$f":"+SUM('B-5 TAREAS'!G1120:G1123)","v":2},{"$f":"+SUM('B-5 TAREAS'!H1120:H1123)","v":2},{"$f":"+SUM('B-5 TAREAS'!I1120:I1123)","v":2},{"$f":"+SUM('B-5 TAREAS'!J1120:J1123)","v":2},{"$f":"+SUM('B-5 TAREAS'!K1120:K1123)","v":4},{"$f":"+SUM('B-5 TAREAS'!L1120:L1123)","v":2},{"$f":"+SUM('B-5 TAREAS'!M1120:M1123)","v":2},{"$f":"+SUM('B-5 TAREAS'!N1120:N1123)","v":3},{"$f":"+SUM('B-5 TAREAS'!O1120:O1123)","v":2},{"$f":"+SUM('B-5 TAREAS'!P1120:P1123)","v":2},{"$f":"+SUM('B-5 TAREAS'!Q1120:Q1123)","v":4},{"$f":"SUM(G484:R484)","v":29}]
[null,"AEI.03.03 Mecanismos de compra de servicios de salud optimizados para la atención del asegurado al SIS."]
[null,null,"18AO111143056","Implementar los acuerdos de convenios y/o contratos suscritos con las IPRESS","INFORME",{"$f":"+SUM('B-5 TAREAS'!E1125:E1128)","v":57332.36363636364},{"$f":"+SUM('B-5 TAREAS'!F1125:F1128)","v":0},{"$f":"+SUM('B-5 TAREAS'!G1125:G1128)","v":0},{"$f":"+SUM('B-5 TAREAS'!H1125:H1128)","v":0},{"$f":"+SUM('B-5 TAREAS'!I1125:I1128)","v":0},{"$f":"+SUM('B-5 TAREAS'!J1125:J1128)","v":0},{"$f":"+SUM('B-5 TAREAS'!K1125:K1128)","v":2},{"$f":"+SUM('B-5 TAREAS'!L1125:L1128)","v":0},{"$f":"+SUM('B-5 TAREAS'!M1125:M1128)","v":0},{"$f":"+SUM('B-5 TAREAS'!N1125:N1128)","v":0},{"$f":"+SUM('B-5 TAREAS'!O1125:O1128)","v":0},{"$f":"+SUM('B-5 TAREAS'!P1125:P1128)","v":0},{"$f":"+SUM('B-5 TAREAS'!Q1125:Q1128)","v":4},{"$f":"SUM(G486:R486)","v":6}]
[null,"09.07 -UDR YURIMAGUAS"]
["OEI.01 Incrementar la cobertura de la población objetivo del SIS"]
[null,"AEI.01.01 Afiliación al SIS incrementada en la población objetivo."]
[null,null,"18AO111143057 ","Realizar acciones de afiliación","INFORME",{"$f":"+SUM('B-5 TAREAS'!E1132:E1135)","v":0},{"$f":"+SUM('B-5 TAREAS'!F1132:F1135)","v":0},{"$f":"+SUM('B-5 TAREAS'!G1132:G1135)","v":0},{"$f":"+SUM('B-5 TAREAS'!H1132:H1135)","v":0},{"$f":"+SUM('B-5 TAREAS'!I1132:I1135)","v":0},{"$f":"+SUM('B-5 TAREAS'!J1132:J1135)","v":0},{"$f":"+SUM('B-5 TAREAS'!K1132:K1135)","v":0},{"$f":"+SUM('B-5 TAREAS'!L1132:L1135)","v":0},{"$f":"+SUM('B-5 TAREAS'!M1132:M1135)","v":2},{"$f":"+SUM('B-5 TAREAS'!N1132:N1135)","v":0},{"$f":"+SUM('B-5 TAREAS'!O1132:O1135)","v":2},{"$f":"+SUM('B-5 TAREAS'!P1132:P1135)","v":0},{"$f":"+SUM('B-5 TAREAS'!Q1132:Q1135)","v":2},{"$f":"SUM(G490:R490)","v":6}]
[null,"AEI.01.02 Mecanismos de protección de derechos optimizados para los asegurados al SIS."]
[null,null,"18AO111143058","Realizar acciones para mitigar riesgos de vulneración de derechos de los asegurados","INFORME",{"$f":"+SUM('B-5 TAREAS'!E1137:E1140)","v":0},{"$f":"+SUM('B-5 TAREAS'!F1137:F1140)","v":0},{"$f":"+SUM('B-5 TAREAS'!G1137:G1140)","v":0},{"$f":"+SUM('B-5 TAREAS'!H1137:H1140)","v":0},{"$f":"+SUM('B-5 TAREAS'!I1137:I1140)","v":0},{"$f":"+SUM('B-5 TAREAS'!J1137:J1140)","v":0},{"$f":"+SUM('B-5 TAREAS'!K1137:K1140)","v":0},{"$f":"+SUM('B-5 TAREAS'!L1137:L1140)","v":1},{"$f":"+SUM('B-5 TAREAS'!M1137:M1140)","v":1},{"$f":"+SUM('B-5 TAREAS'!N1137:N1140)","v":1},{"$f":"+SUM('B-5 TAREAS'!O1137:O1140)","v":0},{"$f":"+SUM('B-5 TAREAS'!P1137:P1140)","v":1},{"$f":"+SUM('B-5 TAREAS'!Q1137:Q1140)","v":3},{"$f":"SUM(G492:R492)","v":7}]
["OEI.02 Reducir los riesgos técnicos y financieros de la prestación de planes y productos para el asegurado al SIS."]
[null,"AEI.02.01 Control técnico y financiero de las prestaciones médicas valorizadas incrementado a los establecimientos de salud."]
[null,null,"18AO111143059 ","Realzar el Control Técnico a las Prestaciones","INFORME",{"$f":"+SUM('B-5 TAREAS'!E1143:E1147)","v":33157.538461538461},{"$f":"+SUM('B-5 TAREAS'!F1143:F1147)","v":4},{"$f":"+SUM('B-5 TAREAS'!G1143:G1147)","v":4},{"$f":"+SUM('B-5 TAREAS'!H1143:H1147)","v":4},{"$f":"+SUM('B-5 TAREAS'!I1143:I1147)","v":4},{"$f":"+SUM('B-5 TAREAS'!J1143:J1147)","v":4},{"$f":"+SUM('B-5 TAREAS'!K1143:K1147)","v":5},{"$f":"+SUM('B-5 TAREAS'!L1143:L1147)","v":4},{"$f":"+SUM('B-5 TAREAS'!M1143:M1147)","v":4},{"$f":"+SUM('B-5 TAREAS'!N1143:N1147)","v":5},{"$f":"+SUM('B-5 TAREAS'!O1143:O1147)","v":3},{"$f":"+SUM('B-5 TAREAS'!P1143:P1147)","v":3},{"$f":"+SUM('B-5 TAREAS'!Q1143:Q1147)","v":5},{"$f":"SUM(G495:R495)","v":49}]
["OEI.03 Mejorar la gestión del financiamiento de las prestaciones aprobadas para la atención del asegurado al SIS."]
[null,"AEI.03.02 Recursos del SIS transferidos orientados al financiamiento de reposición de medicamentos e insumos."]
[null,null,"18AO111143060","Realizar la supervisión financiera alas UE","INFORME",{"$f":"+SUM('B-5 TAREAS'!E1150:E1153)","v":20000},{"$f":"+SUM('B-5 TAREAS'!F1150:F1153)","v":2},{"$f":"+SUM('B-5 TAREAS'!G1150:G1153)","v":2},{"$f":"+SUM('B-5 TAREAS'!H1150:H1153)","v":2},{"$f":"+SUM('B-5 TAREAS'!I1150:I1153)","v":2},{"$f":"+SUM('B-5 TAREAS'!J1150:J1153)","v":2},{"$f":"+SUM('B-5 TAREAS'!K1150:K1153)","v":4},{"$f":"+SUM('B-5 TAREAS'!L1150:L1153)","v":2},{"$f":"+SUM('B-5 TAREAS'!M1150:M1153)","v":2},{"$f":"+SUM('B-5 TAREAS'!N1150:N1153)","v":3},{"$f":"+SUM('B-5 TAREAS'!O1150:O1153)","v":2},{"$f":"+SUM('B-5 TAREAS'!P1150:P1153)","v":2},{"$f":"+SUM('B-5 TAREAS'!Q1150:Q1153)","v":4},{"$f":"SUM(G498:R498)","v":29}]
[null,"AEI.03.03 Mecanismos de compra de servicios de salud optimizados para la atención del asegurado al SIS."]
[null,null,"18AO111143061","Implementar los acuerdos de convenios y/o contratos suscritos con las IPRESS","INFORME",{"$f":"+SUM('B-5 TAREAS'!E1155:E1158)","v":43858.461538461539},{"$f":"+SUM('B-5 TAREAS'!F1155:F1158)","v":0},{"$f":"+SUM('B-5 TAREAS'!G1155:G1158)","v":0},{"$f":"+SUM('B-5 TAREAS'!H1155:H1158)","v":0},{"$f":"+SUM('B-5 TAREAS'!I1155:I1158)","v":0},{"$f":"+SUM('B-5 TAREAS'!J1155:J1158)","v":0},{"$f":"+SUM('B-5 TAREAS'!K1155:K1158)","v":2},{"$f":"+SUM('B-5 TAREAS'!L1155:L1158)","v":0},{"$f":"+SUM('B-5 TAREAS'!M1155:M1158)","v":0},{"$f":"+SUM('B-5 TAREAS'!N1155:N1158)","v":0},{"$f":"+SUM('B-5 TAREAS'!O1155:O1158)","v":0},{"$f":"+SUM('B-5 TAREAS'!P1155:P1158)","v":0},{"$f":"+SUM('B-5 TAREAS'!Q1155:Q1158)","v":4},{"$f":"SUM(G500:R500)","v":6}]
[null,"10.01 - GERENCIA MACRO REGIONAL SUR MEDIO"]
["OEI.01 Incrementar la cobertura de la población objetivo del SIS"]
[null,"AEI.01.01 Afiliación al SIS incrementada en la población objetivo."]
[null,null,"18AO111143062","Control y supervision a las udr en las acciones de afiliacion","INFORME",{"$f":"+SUM('B-5 TAREAS'!E1162:E1164)","v":7549.6694214876034},{"$f":"+SUM('B-5 TAREAS'!F1162:F1164)","v":0},{"$f":"+SUM('B-5 TAREAS'!G1162:G1164)","v":0},{"$f":"+SUM('B-5 TAREAS'!H1162:H1164)","v":0},{"$f":"+SUM('B-5 TAREAS'!I1162:I1164)","v":0},{"$f":"+SUM('B-5 TAREAS'!J1162:J1164)","v":0},{"$f":"+SUM('B-5 TAREAS'!K1162:K1164)","v":0},{"$f":"+SUM('B-5 TAREAS'!L1162:L1164)","v":2},{"$f":"+SUM('B-5 TAREAS'!M1162:M1164)","v":2},{"$f":"+SUM('B-5 TAREAS'!N1162:N1164)","v":2},{"$f":"+SUM('B-5 TAREAS'!O1162:O1164)","v":3},{"$f":"+SUM('B-5 TAREAS'!P1162:P1164)","v":2},{"$f":"+SUM('B-5 TAREAS'!Q1162:Q1164)","v":3},{"$f":"SUM(G504:R504)","v":14}]
["OEI.02 Reducir los riesgos técnicos y financieros de la prestación de planes y productos para el asegurado al SIS."]
[null,"AEI.02.01 Control técnico y financiero de las prestaciones médicas valorizadas incrementado a los establecimientos de salud."]
[null,null,"18AO111143063","Supervisión  y asistencia técnica a las audrs en las cciones de control técnico a prestaciones","INFORME",{"$f":"+SUM('B-5 TAREAS'!E1167:E1170)","v":19000},{"$f":"+SUM('B-5 TAREAS'!F1167:F1170)","v":0},{"$f":"+SUM('B-5 TAREAS'!G1167:G1170)","v":0},{"$f":"+SUM('B-5 TAREAS'!H1167:H1170)","v":0},{"$f":"+SUM('B-5 TAREAS'!I1167:I1170)","v":0},{"$f":"+SUM('B-5 TAREAS'!J1167:J1170)","v":0},{"$f":"+SUM('B-5 TAREAS'!K1167:K1170)","v":0},{"$f":"+SUM('B-5 TAREAS'!L1167:L1170)","v":2},{"$f":"+SUM('B-5 TAREAS'!M1167:M1170)","v":2},{"$f":"+SUM('B-5 TAREAS'!N1167:N1170)","v":2},{"$f":"+SUM('B-5 TAREAS'!O1167:O1170)","v":4},{"$f":"+SUM('B-5 TAREAS'!P1167:P1170)","v":3},{"$f":"+SUM('B-5 TAREAS'!Q1167:Q1170)","v":2},{"$f":"SUM(G507:R507)","v":15}]
["OEI.03 Mejorar la gestión del financiamiento de las prestaciones aprobadas para la atención del asegurado al SIS."]
[null,"AEI.03.02 Recursos del SIS transferidos orientados al financiamiento de reposición de medicamentos e insumos."]
[null,null,"18AO111143064","Supervisión y asistencia técnica a las UDRs en el monitoreo, seguimiento y control de los recursos del SIS","INFORME",{"$f":"+SUM('B-5 TAREAS'!E1173:E1176)","v":0},{"$f":"+SUM('B-5 TAREAS'!F1173:F1176)","v":0},{"$f":"+SUM('B-5 TAREAS'!G1173:G1176)","v":0},{"$f":"+SUM('B-5 TAREAS'!H1173:H1176)","v":0},{"$f":"+SUM('B-5 TAREAS'!I1173:I1176)","v":0},{"$f":"+SUM('B-5 TAREAS'!J1173:J1176)","v":0},{"$f":"+SUM('B-5 TAREAS'!K1173:K1176)","v":0},{"$f":"+SUM('B-5 TAREAS'!L1173:L1176)","v":1},{"$f":"+SUM('B-5 TAREAS'!M1173:M1176)","v":2},{"$f":"+SUM('B-5 TAREAS'!N1173:N1176)","v":2},{"$f":"+SUM('B-5 TAREAS'!O1173:O1176)","v":2},{"$f":"+SUM('B-5 TAREAS'!P1173:P1176)","v":2},{"$f":"+SUM('B-5 TAREAS'!Q1173:Q1176)","v":3},{"$f":"SUM(G510:R510)","v":12}]
["OEI.04 Mejorar la eficacia y eficiencia de los procesos de gestión instituciona"]
[null,"AEI.04.01 Fortalecer la organización orientándola al desarrollo de las funciones de un asegurador público eficiente, eficaz y con enfoque de procesos."]
[null,null,"18AO110921549","Realizar acciones de coordinación en gestión.","INFORME",{"$f":"+SUM('B-5 TAREAS'!E1179:E1185)","v":62720.330578512396},{"$f":"+SUM('B-5 TAREAS'!F1179:F1185)","v":3},{"$f":"+SUM('B-5 TAREAS'!G1179:G1185)","v":3},{"$f":"+SUM('B-5 TAREAS'!H1179:H1185)","v":5},{"$f":"+SUM('B-5 TAREAS'!I1179:I1185)","v":3},{"$f":"+SUM('B-5 TAREAS'!J1179:J1185)","v":3},{"$f":"+SUM('B-5 TAREAS'!K1179:K1185)","v":7},{"$f":"+SUM('B-5 TAREAS'!L1179:L1185)","v":3},{"$f":"+SUM('B-5 TAREAS'!M1179:M1185)","v":3},{"$f":"+SUM('B-5 TAREAS'!N1179:N1185)","v":5},{"$f":"+SUM('B-5 TAREAS'!O1179:O1185)","v":3},{"$f":"+SUM('B-5 TAREAS'!P1179:P1185)","v":3},{"$f":"+SUM('B-5 TAREAS'!Q1179:Q1185)","v":7},{"$f":"SUM(G513:R513)","v":48}]
[null,"10.02 - UDR AYACUCHO"]
["OEI.01 Incrementar la cobertura de la población objetivo del SIS"]
[null,"AEI.01.01 Afiliación al SIS incrementada en la población objetivo."]
[null,null,"18AO111143066","Realizar acciones de afiliación","INFORME",{"$f":"+SUM('B-5 TAREAS'!E1189:E1192)","v":6087.7746478873241},{"$f":"+SUM('B-5 TAREAS'!F1189:F1192)","v":0},{"$f":"+SUM('B-5 TAREAS'!G1189:G1192)","v":0},{"$f":"+SUM('B-5 TAREAS'!H1189:H1192)","v":0},{"$f":"+SUM('B-5 TAREAS'!I1189:I1192)","v":0},{"$f":"+SUM('B-5 TAREAS'!J1189:J1192)","v":0},{"$f":"+SUM('B-5 TAREAS'!K1189:K1192)","v":0},{"$f":"+SUM('B-5 TAREAS'!L1189:L1192)","v":0},{"$f":"+SUM('B-5 TAREAS'!M1189:M1192)","v":2},{"$f":"+SUM('B-5 TAREAS'!N1189:N1192)","v":1},{"$f":"+SUM('B-5 TAREAS'!O1189:O1192)","v":4},{"$f":"+SUM('B-5 TAREAS'!P1189:P1192)","v":1},{"$f":"+SUM('B-5 TAREAS'!Q1189:Q1192)","v":2},{"$f":"SUM(G517:R517)","v":10}]
[null,"AEI.01.02 Mecanismos de protección de derechos optimizados para los asegurados al SIS."]
[null,null,"18AO111143067","Realizar acciones para mitigar riesgos de vulneración de derechos de los asegurados","INFORME",{"$f":"+SUM('B-5 TAREAS'!E1194:E1197)","v":0},{"$f":"+SUM('B-5 TAREAS'!F1194:F1197)","v":0},{"$f":"+SUM('B-5 TAREAS'!G1194:G1197)","v":0},{"$f":"+SUM('B-5 TAREAS'!H1194:H1197)","v":0},{"$f":"+SUM('B-5 TAREAS'!I1194:I1197)","v":0},{"$f":"+SUM('B-5 TAREAS'!J1194:J1197)","v":0},{"$f":"+SUM('B-5 TAREAS'!K1194:K1197)","v":0},{"$f":"+SUM('B-5 TAREAS'!L1194:L1197)","v":2},{"$f":"+SUM('B-5 TAREAS'!M1194:M1197)","v":2},{"$f":"+SUM('B-5 TAREAS'!N1194:N1197)","v":3},{"$f":"+SUM('B-5 TAREAS'!O1194:O1197)","v":2},{"$f":"+SUM('B-5 TAREAS'!P1194:P1197)","v":2},{"$f":"+SUM('B-5 TAREAS'!Q1194:Q1197)","v":3},{"$f":"SUM(G519:R519)","v":14}]
["OEI.02 Reducir los riesgos técnicos y financieros de la prestación de planes y productos para el asegurado al SIS."]
[null,"AEI.02.01 Control técnico y financiero de las prestaciones médicas valorizadas incrementado a los establecimientos de salud."]
[null,null,"18AO111143068 ","Realzar el Control Técnico a las Prestaciones","INFORME",{"$f":"+SUM('B-5 TAREAS'!E1200:E1204)","v":31848.74647887324},{"$f":"+SUM('B-5 TAREAS'!F1200:F1204)","v":4},{"$f":"+SUM('B-5 TAREAS'!G1200:G1204)","v":4},{"$f":"+SUM('B-5 TAREAS'!H1200:H1204)","v":4},{"$f":"+SUM('B-5 TAREAS'!I1200:I1204)","v":4},{"$f":"+SUM('B-5 TAREAS'!J1200:J1204)","v":4},{"$f":"+SUM('B-5 TAREAS'!K1200:K1204)","v":5},{"$f":"+SUM('B-5 TAREAS'!L1200:L1204)","v":4},{"$f":"+SUM('B-5 TAREAS'!M1200:M1204)","v":2},{"$f":"+SUM('B-5 TAREAS'!N1200:N1204)","v":2},{"$f":"+SUM('B-5 TAREAS'!O1200:O1204)","v":3},{"$f":"+SUM('B-5 TAREAS'!P1200:P1204)","v":4},{"$f":"+SUM('B-5 TAREAS'!Q1200:Q1204)","v":8},{"$f":"SUM(G522:R522)","v":48}]
["OEI.03 Mejorar la gestión del financiamiento de las prestaciones aprobadas para la atención del asegurado al SIS."]
[null,"AEI.03.02 Recursos del SIS transferidos orientados al financiamiento de reposición de medicamentos e insumos."]
[null,null,"18AO111143069","Realizar la supervisión financiera alas UE","INFORME",{"$f":"+SUM('B-5 TAREAS'!E1207:E1210)","v":25000},{"$f":"+SUM('B-5 TAREAS'!F1207:F1210)","v":2},{"$f":"+SUM('B-5 TAREAS'!G1207:G1210)","v":2},{"$f":"+SUM('B-5 TAREAS'!H1207:H1210)","v":2},{"$f":"+SUM('B-5 TAREAS'!I1207:I1210)","v":2},{"$f":"+SUM('B-5 TAREAS'!J1207:J1210)","v":2},{"$f":"+SUM('B-5 TAREAS'!K1207:K1210)","v":4},{"$f":"+SUM('B-5 TAREAS'!L1207:L1210)","v":2},{"$f":"+SUM('B-5 TAREAS'!M1207:M1210)","v":2},{"$f":"+SUM('B-5 TAREAS'!N1207:N1210)","v":3},{"$f":"+SUM('B-5 TAREAS'!O1207:O1210)","v":2},{"$f":"+SUM('B-5 TAREAS'!P1207:P1210)","v":2},{"$f":"+SUM('B-5 TAREAS'!Q1207:Q1210)","v":4},{"$f":"SUM(G525:R525)","v":29}]
[null,"AEI.03.03 Mecanismos de compra de servicios de salud optimizados para la atención del asegurado al SIS."]
[null,null,"18AO111143070","Implementar los acuerdos de convenios y/o contratos suscritos con las IPRESS","INFORME",{"$f":"+SUM('B-5 TAREAS'!E1212:E1215)","v":41092.478873239437},{"$f":"+SUM('B-5 TAREAS'!F1212:F1215)","v":0},{"$f":"+SUM('B-5 TAREAS'!G1212:G1215)","v":0},{"$f":"+SUM('B-5 TAREAS'!H1212:H1215)","v":0},{"$f":"+SUM('B-5 TAREAS'!I1212:I1215)","v":0},{"$f":"+SUM('B-5 TAREAS'!J1212:J1215)","v":0},{"$f":"+SUM('B-5 TAREAS'!K1212:K1215)","v":2},{"$f":"+SUM('B-5 TAREAS'!L1212:L1215)","v":0},{"$f":"+SUM('B-5 TAREAS'!M1212:M1215)","v":0},{"$f":"+SUM('B-5 TAREAS'!N1212:N1215)","v":0},{"$f":"+SUM('B-5 TAREAS'!O1212:O1215)","v":0},{"$f":"+SUM('B-5 TAREAS'!P1212:P1215)","v":0},{"$f":"+SUM('B-5 TAREAS'!Q1212:Q1215)","v":4},{"$f":"SUM(G527:R527)","v":6}]
[null,"10.03 - UDR ABANCAY"]
["OEI.01 Incrementar la cobertura de la población objetivo del SIS"]
[null,"AEI.01.01 Afiliación al SIS incrementada en la población objetivo."]
[null,null,"18AO111143071","Realizar acciones de afiliación","INFORME",{"$f":"+SUM('B-5 TAREAS'!E1219:E1225)","v":35371},{"$f":"+SUM('B-5 TAREAS'!F1219:F1225)","v":0},{"$f":"+SUM('B-5 TAREAS'!G1219:G1225)","v":0},{"$f":"+SUM('B-5 TAREAS'!H1219:H1225)","v":0},{"$f":"+SUM('B-5 TAREAS'!I1219:I1225)","v":0},{"$f":"+SUM('B-5 TAREAS'!J1219:J1225)","v":0},{"$f":"+SUM('B-5 TAREAS'!K1219:K1225)","v":0},{"$f":"+SUM('B-5 TAREAS'!L1219:L1225)","v":0},{"$f":"+SUM('B-5 TAREAS'!M1219:M1225)","v":0},{"$f":"+SUM('B-5 TAREAS'!N1219:N1225)","v":0},{"$f":"+SUM('B-5 TAREAS'!O1219:O1225)","v":2},{"$f":"+SUM('B-5 TAREAS'!P1219:P1225)","v":2},{"$f":"+SUM('B-5 TAREAS'!Q1219:Q1225)","v":3},{"$f":"SUM(G531:R531)","v":7}]
[null,"AEI.01.02 Mecanismos de protección de derechos optimizados para los asegurados al SIS."]
[null,null,"18AO111143072","Realizar acciones para mitigar riesgos de vulneración de derechos de los asegurados","INFORME",{"$f":"+SUM('B-5 TAREAS'!E1227:E1231)","v":43167.114772727269},{"$f":"+SUM('B-5 TAREAS'!F1227:F1231)","v":0},{"$f":"+SUM('B-5 TAREAS'!G1227:G1231)","v":0},{"$f":"+SUM('B-5 TAREAS'!H1227:H1231)","v":0},{"$f":"+SUM('B-5 TAREAS'!I1227:I1231)","v":0},{"$f":"+SUM('B-5 TAREAS'!J1227:J1231)","v":0},{"$f":"+SUM('B-5 TAREAS'!K1227:K1231)","v":0},{"$f":"+SUM('B-5 TAREAS'!L1227:L1231)","v":0},{"$f":"+SUM('B-5 TAREAS'!M1227:M1231)","v":0},{"$f":"+SUM('B-5 TAREAS'!N1227:N1231)","v":0},{"$f":"+SUM('B-5 TAREAS'!O1227:O1231)","v":3},{"$f":"+SUM('B-5 TAREAS'!P1227:P1231)","v":2},{"$f":"+SUM('B-5 TAREAS'!Q1227:Q1231)","v":1},{"$f":"SUM(G533:R533)","v":6}]
["OEI.02 Reducir los riesgos técnicos y financieros de la prestación de planes y productos para el asegurado al SIS."]
[null,"AEI.02.01 Control técnico y financiero de las prestaciones médicas valorizadas incrementado a los establecimientos de salud."]
[null,null,"18AO111143074","Realzar el Control Técnico a las Prestaciones","INFORME",{"$f":"+SUM('B-5 TAREAS'!E1234:E1238)","v":0},{"$f":"+SUM('B-5 TAREAS'!F1234:F1238)","v":0},{"$f":"+SUM('B-5 TAREAS'!G1234:G1238)","v":0},{"$f":"+SUM('B-5 TAREAS'!H1234:H1238)","v":0},{"$f":"+SUM('B-5 TAREAS'!I1234:I1238)","v":0},{"$f":"+SUM('B-5 TAREAS'!J1234:J1238)","v":0},{"$f":"+SUM('B-5 TAREAS'!K1234:K1238)","v":0},{"$f":"+SUM('B-5 TAREAS'!L1234:L1238)","v":0},{"$f":"+SUM('B-5 TAREAS'!M1234:M1238)","v":0},{"$f":"+SUM('B-5 TAREAS'!N1234:N1238)","v":0},{"$f":"+SUM('B-5 TAREAS'!O1234:O1238)","v":0},{"$f":"+SUM('B-5 TAREAS'!P1234:P1238)","v":0},{"$f":"+SUM('B-5 TAREAS'!Q1234:Q1238)","v":0},{"$f":"SUM(G536:R536)","v":0}]
["OEI.03 Mejorar la gestión del financiamiento de las prestaciones aprobadas para la atención del asegurado al SIS."]
[null,"AEI.03.02 Recursos del SIS transferidos orientados al financiamiento de reposición de medicamentos e insumos."]
[null,null,"18AO111143075","Realizar la supervisión financiera alas UE","INFORME",{"$f":"+SUM('B-5 TAREAS'!E1241:E1245)","v":26192.448863636364},{"$f":"+SUM('B-5 TAREAS'!F1241:F1245)","v":0},{"$f":"+SUM('B-5 TAREAS'!G1241:G1245)","v":0},{"$f":"+SUM('B-5 TAREAS'!H1241:H1245)","v":0},{"$f":"+SUM('B-5 TAREAS'!I1241:I1245)","v":0},{"$f":"+SUM('B-5 TAREAS'!J1241:J1245)","v":0},{"$f":"+SUM('B-5 TAREAS'!K1241:K1245)","v":0},{"$f":"+SUM('B-5 TAREAS'!L1241:L1245)","v":0},{"$f":"+SUM('B-5 TAREAS'!M1241:M1245)","v":0},{"$f":"+SUM('B-5 TAREAS'!N1241:N1245)","v":0},{"$f":"+SUM('B-5 TAREAS'!O1241:O1245)","v":0},{"$f":"+SUM('B-5 TAREAS'!P1241:P1245)","v":4},{"$f":"+SUM('B-5 TAREAS'!Q1241:Q1245)","v":2},{"$f":"SUM(G539:R539)","v":6}]
[null,"AEI.03.03 Mecanismos de compra de servicios de salud optimizados para la atención del asegurado al SIS."]
[null,null,"18AO111143076","Implementar los acuerdos de convenios y/o contratos suscritos con las IPRESS","INFORME",{"$f":"+SUM('B-5 TAREAS'!E1247:E1250)","v":0},{"$f":"+SUM('B-5 TAREAS'!F1247:F1250)","v":0},{"$f":"+SUM('B-5 TAREAS'!G1247:G1250)","v":0},{"$f":"+SUM('B-5 TAREAS'!H1247:H1250)","v":0},{"$f":"+SUM('B-5 TAREAS'!I1247:I1250)","v":0},{"$f":"+SUM('B-5 TAREAS'!J1247:J1250)","v":0},{"$f":"+SUM('B-5 TAREAS'!K1247:K1250)","v":0},{"$f":"+SUM('B-5 TAREAS'!L1247:L1250)","v":0},{"$f":"+SUM('B-5 TAREAS'!M1247:M1250)","v":0},{"$f":"+SUM('B-5 TAREAS'!N1247:N1250)","v":0},{"$f":"+SUM('B-5 TAREAS'!O1247:O1250)","v":0},{"$f":"+SUM('B-5 TAREAS'!P1247:P1250)","v":0},{"$f":"+SUM('B-5 TAREAS'!Q1247:Q1250)","v":0},{"$f":"SUM(G541:R541)","v":0}]
[null,"10.04 - UDR ANDAHUAYLAS"]
["OEI.01 Incrementar la cobertura de la población objetivo del SIS"]
[null,"AEI.01.01 Afiliación al SIS incrementada en la población objetivo."]
[null,null,"18AO111143077","Realizar acciones de afiliación","INFORME",{"$f":"+SUM('B-5 TAREAS'!E1254:E1257)","v":10620.285714285714},{"$f":"+SUM('B-5 TAREAS'!F1254:F1257)","v":0},{"$f":"+SUM('B-5 TAREAS'!G1254:G1257)","v":0},{"$f":"+SUM('B-5 TAREAS'!H1254:H1257)","v":0},{"$f":"+SUM('B-5 TAREAS'!I1254:I1257)","v":0},{"$f":"+SUM('B-5 TAREAS'!J1254:J1257)","v":0},{"$f":"+SUM('B-5 TAREAS'!K1254:K1257)","v":0},{"$f":"+SUM('B-5 TAREAS'!L1254:L1257)","v":0},{"$f":"+SUM('B-5 TAREAS'!M1254:M1257)","v":2},{"$f":"+SUM('B-5 TAREAS'!N1254:N1257)","v":1},{"$f":"+SUM('B-5 TAREAS'!O1254:O1257)","v":7},{"$f":"+SUM('B-5 TAREAS'!P1254:P1257)","v":6},{"$f":"+SUM('B-5 TAREAS'!Q1254:Q1257)","v":3},{"$f":"SUM(G545:R545)","v":19}]
[null,"AEI.01.02 Mecanismos de protección de derechos optimizados para los asegurados al SIS."]
[null,null,"18AO111143078","Realizar acciones para mitigar riesgos de vulneración de derechos de los asegurados","INFORME",{"$f":"+SUM('B-5 TAREAS'!E1259:E1262)","v":0},{"$f":"+SUM('B-5 TAREAS'!F1259:F1262)","v":0},{"$f":"+SUM('B-5 TAREAS'!G1259:G1262)","v":0},{"$f":"+SUM('B-5 TAREAS'!H1259:H1262)","v":0},{"$f":"+SUM('B-5 TAREAS'!I1259:I1262)","v":0},{"$f":"+SUM('B-5 TAREAS'!J1259:J1262)","v":0},{"$f":"+SUM('B-5 TAREAS'!K1259:K1262)","v":0},{"$f":"+SUM('B-5 TAREAS'!L1259:L1262)","v":2},{"$f":"+SUM('B-5 TAREAS'!M1259:M1262)","v":2},{"$f":"+SUM('B-5 TAREAS'!N1259:N1262)","v":3},{"$f":"+SUM('B-5 TAREAS'!O1259:O1262)","v":7},{"$f":"+SUM('B-5 TAREAS'!P1259:P1262)","v":5},{"$f":"+SUM('B-5 TAREAS'!Q1259:Q1262)","v":4},{"$f":"SUM(G547:R547)","v":23}]
["OEI.02 Reducir los riesgos técnicos y financieros de la prestación de planes y productos para el asegurado al SIS."]
[null,"AEI.02.01 Control técnico y financiero de las prestaciones médicas valorizadas incrementado a los establecimientos de salud."]
[null,null,"18AO111143079","Realzar el Control Técnico a las Prestaciones","INFORME",{"$f":"+SUM('B-5 TAREAS'!E1265:E1270)","v":25000},{"$f":"+SUM('B-5 TAREAS'!F1265:F1270)","v":4},{"$f":"+SUM('B-5 TAREAS'!G1265:G1270)","v":4},{"$f":"+SUM('B-5 TAREAS'!H1265:H1270)","v":4},{"$f":"+SUM('B-5 TAREAS'!I1265:I1270)","v":4},{"$f":"+SUM('B-5 TAREAS'!J1265:J1270)","v":4},{"$f":"+SUM('B-5 TAREAS'!K1265:K1270)","v":5},{"$f":"+SUM('B-5 TAREAS'!L1265:L1270)","v":4},{"$f":"+SUM('B-5 TAREAS'!M1265:M1270)","v":4},{"$f":"+SUM('B-5 TAREAS'!N1265:N1270)","v":5},{"$f":"+SUM('B-5 TAREAS'!O1265:O1270)","v":2},{"$f":"+SUM('B-5 TAREAS'!P1265:P1270)","v":3},{"$f":"+SUM('B-5 TAREAS'!Q1265:Q1270)","v":2},{"$f":"SUM(G550:R550)","v":45}]
["OEI.03 Mejorar la gestión del financiamiento de las prestaciones aprobadas para la atención del asegurado al SIS."]
[null,"AEI.03.02 Recursos del SIS transferidos orientados al financiamiento de reposición de medicamentos e insumos."]
[null,null,"18AO111143080","Realizar la supervisión financiera alas UE","INFORME",{"$f":"+SUM('B-5 TAREAS'!E1273:E1276)","v":10620.285714285714},{"$f":"+SUM('B-5 TAREAS'!F1273:F1276)","v":2},{"$f":"+SUM('B-5 TAREAS'!G1273:G1276)","v":2},{"$f":"+SUM('B-5 TAREAS'!H1273:H1276)","v":2},{"$f":"+SUM('B-5 TAREAS'!I1273:I1276)","v":2},{"$f":"+SUM('B-5 TAREAS'!J1273:J1276)","v":2},{"$f":"+SUM('B-5 TAREAS'!K1273:K1276)","v":4},{"$f":"+SUM('B-5 TAREAS'!L1273:L1276)","v":2},{"$f":"+SUM('B-5 TAREAS'!M1273:M1276)","v":2},{"$f":"+SUM('B-5 TAREAS'!N1273:N1276)","v":3},{"$f":"+SUM('B-5 TAREAS'!O1273:O1276)","v":2},{"$f":"+SUM('B-5 TAREAS'!P1273:P1276)","v":0},{"$f":"+SUM('B-5 TAREAS'!Q1273:Q1276)","v":2},{"$f":"SUM(G553:R553)","v":25}]
[null,"AEI.03.03 Mecanismos de compra de servicios de salud optimizados para la atención del asegurado al SIS."]
[null,null,"18AO111143082","Implementar los acuerdos de convenios y/o contratos suscritos con las IPRESS","INFORME",{"$f":"+SUM('B-5 TAREAS'!E1278:E1281)","v":53101.428571428572},{"$f":"+SUM('B-5 TAREAS'!F1278:F1281)","v":0},{"$f":"+SUM('B-5 TAREAS'!G1278:G1281)","v":0},{"$f":"+SUM('B-5 TAREAS'!H1278:H1281)","v":0},{"$f":"+SUM('B-5 TAREAS'!I1278:I1281)","v":0},{"$f":"+SUM('B-5 TAREAS'!J1278:J1281)","v":0},{"$f":"+SUM('B-5 TAREAS'!K1278:K1281)","v":2},{"$f":"+SUM('B-5 TAREAS'!L1278:L1281)","v":0},{"$f":"+SUM('B-5 TAREAS'!M1278:M1281)","v":0},{"$f":"+SUM('B-5 TAREAS'!N1278:N1281)","v":0},{"$f":"+SUM('B-5 TAREAS'!O1278:O1281)","v":0},{"$f":"+SUM('B-5 TAREAS'!P1278:P1281)","v":1},{"$f":"+SUM('B-5 TAREAS'!Q1278:Q1281)","v":0},{"$f":"SUM(G555:R555)","v":3}]
[null,"10.05 - UDR ICA"]
["OEI.01 Incrementar la cobertura de la población objetivo del SIS"]
[null,"AEI.01.01 Afiliación al SIS incrementada en la población objetivo."]
[null,null,"18AO111143090","Realizar acciones de afiliación","INFORME",{"$f":"+SUM('B-5 TAREAS'!E1285:E1288)","v":6783.1074692719822},{"$f":"+SUM('B-5 TAREAS'!F1285:F1288)","v":0},{"$f":"+SUM('B-5 TAREAS'!G1285:G1288)","v":0},{"$f":"+SUM('B-5 TAREAS'!H1285:H1288)","v":0},{"$f":"+SUM('B-5 TAREAS'!I1285:I1288)","v":0},{"$f":"+SUM('B-5 TAREAS'!J1285:J1288)","v":0},{"$f":"+SUM('B-5 TAREAS'!K1285:K1288)","v":0},{"$f":"+SUM('B-5 TAREAS'!L1285:L1288)","v":0},{"$f":"+SUM('B-5 TAREAS'!M1285:M1288)","v":2},{"$f":"+SUM('B-5 TAREAS'!N1285:N1288)","v":1},{"$f":"+SUM('B-5 TAREAS'!O1285:O1288)","v":4},{"$f":"+SUM('B-5 TAREAS'!P1285:P1288)","v":1},{"$f":"+SUM('B-5 TAREAS'!Q1285:Q1288)","v":2},{"$f":"SUM(G559:R559)","v":10}]
[null,"AEI.01.02 Mecanismos de protección de derechos optimizados para los asegurados al SIS."]
[null,null,"18AO111143091","Realizar acciones para mitigar riesgos de vulneración de derechos de los asegurados","INFORME",{"$f":"+SUM('B-5 TAREAS'!E1290:E1293)","v":6783.1074692719822},{"$f":"+SUM('B-5 TAREAS'!F1290:F1293)","v":0},{"$f":"+SUM('B-5 TAREAS'!G1290:G1293)","v":0},{"$f":"+SUM('B-5 TAREAS'!H1290:H1293)","v":0},{"$f":"+SUM('B-5 TAREAS'!I1290:I1293)","v":0},{"$f":"+SUM('B-5 TAREAS'!J1290:J1293)","v":0},{"$f":"+SUM('B-5 TAREAS'!K1290:K1293)","v":0},{"$f":"+SUM('B-5 TAREAS'!L1290:L1293)","v":2},{"$f":"+SUM('B-5 TAREAS'!M1290:M1293)","v":2},{"$f":"+SUM('B-5 TAREAS'!N1290:N1293)","v":3},{"$f":"+SUM('B-5 TAREAS'!O1290:O1293)","v":2},{"$f":"+SUM('B-5 TAREAS'!P1290:P1293)","v":2},{"$f":"+SUM('B-5 TAREAS'!Q1290:Q1293)","v":3},{"$f":"SUM(G561:R561)","v":14}]
["OEI.02 Reducir los riesgos técnicos y financieros de la prestación de planes y productos para el asegurado al SIS."]
[null,"AEI.02.01 Control técnico y financiero de las prestaciones médicas valorizadas incrementado a los establecimientos de salud."]
[null,null,"18AO111143092","Realzar el Control Técnico a las Prestaciones","INFORME",{"$f":"+SUM('B-5 TAREAS'!E1296:E1300)","v":26242.322407815944},{"$f":"+SUM('B-5 TAREAS'!F1296:F1300)","v":4},{"$f":"+SUM('B-5 TAREAS'!G1296:G1300)","v":4},{"$f":"+SUM('B-5 TAREAS'!H1296:H1300)","v":4},{"$f":"+SUM('B-5 TAREAS'!I1296:I1300)","v":4},{"$f":"+SUM('B-5 TAREAS'!J1296:J1300)","v":4},{"$f":"+SUM('B-5 TAREAS'!K1296:K1300)","v":5},{"$f":"+SUM('B-5 TAREAS'!L1296:L1300)","v":4},{"$f":"+SUM('B-5 TAREAS'!M1296:M1300)","v":4},{"$f":"+SUM('B-5 TAREAS'!N1296:N1300)","v":5},{"$f":"+SUM('B-5 TAREAS'!O1296:O1300)","v":3},{"$f":"+SUM('B-5 TAREAS'!P1296:P1300)","v":3},{"$f":"+SUM('B-5 TAREAS'!Q1296:Q1300)","v":5},{"$f":"SUM(G564:R564)","v":49}]
["OEI.03 Mejorar la gestión del financiamiento de las prestaciones aprobadas para la atención del asegurado al SIS."]
[null,"AEI.03.02 Recursos del SIS transferidos orientados al financiamiento de reposición de medicamentos e insumos."]
[null,null,"18AO111143093 ","Realizar la supervisión financiera alas UE","INFORME",{"$f":"+SUM('B-5 TAREAS'!E1303:E1306)","v":6000},{"$f":"+SUM('B-5 TAREAS'!F1303:F1306)","v":2},{"$f":"+SUM('B-5 TAREAS'!G1303:G1306)","v":2},{"$f":"+SUM('B-5 TAREAS'!H1303:H1306)","v":2},{"$f":"+SUM('B-5 TAREAS'!I1303:I1306)","v":2},{"$f":"+SUM('B-5 TAREAS'!J1303:J1306)","v":2},{"$f":"+SUM('B-5 TAREAS'!K1303:K1306)","v":4},{"$f":"+SUM('B-5 TAREAS'!L1303:L1306)","v":2},{"$f":"+SUM('B-5 TAREAS'!M1303:M1306)","v":2},{"$f":"+SUM('B-5 TAREAS'!N1303:N1306)","v":3},{"$f":"+SUM('B-5 TAREAS'!O1303:O1306)","v":2},{"$f":"+SUM('B-5 TAREAS'!P1303:P1306)","v":2},{"$f":"+SUM('B-5 TAREAS'!Q1303:Q1306)","v":4},{"$f":"SUM(G567:R567)","v":29}]
["AEI.03.03 Mecanismos de compra de servicios de salud optimizados para la atención del asegurado al SIS."]
[null,null,"18AO111143094","Implementar los acuerdos de convenios y/o contratos suscritos con las IPRESS","INFORME",{"$f":"+SUM('B-5 TAREAS'!E1308:E1311)","v":19891.462653640087},{"$f":"+SUM('B-5 TAREAS'!F1308:F1311)","v":0},{"$f":"+SUM('B-5 TAREAS'!G1308:G1311)","v":0},{"$f":"+SUM('B-5 TAREAS'!H1308:H1311)","v":0},{"$f":"+SUM('B-5 TAREAS'!I1308:I1311)","v":0},{"$f":"+SUM('B-5 TAREAS'!J1308:J1311)","v":0},{"$f":"+SUM('B-5 TAREAS'!K1308:K1311)","v":2},{"$f":"+SUM('B-5 TAREAS'!L1308:L1311)","v":0},{"$f":"+SUM('B-5 TAREAS'!M1308:M1311)","v":0},{"$f":"+SUM('B-5 TAREAS'!N1308:N1311)","v":0},{"$f":"+SUM('B-5 TAREAS'!O1308:O1311)","v":0},{"$f":"+SUM('B-5 TAREAS'!P1308:P1311)","v":0},{"$f":"+SUM('B-5 TAREAS'!Q1308:Q1311)","v":4},{"$f":"SUM(G569:R569)","v":6}]
[null,"11.01 - GERENCIA MACRO REGIONAL CENTRO MEDIO"]
["OEI.01 Incrementar la cobertura de la población objetivo del SIS"]
[null,"AEI.01.01 Afiliación al SIS incrementada en la población objetivo."]
[null,null,"18AO111143095","Control y supervision a las udr en las acciones de afiliacion","INFORME",{"$f":"+SUM('B-5 TAREAS'!E1315:E1317)","v":42450.781489426903},{"$f":"+SUM('B-5 TAREAS'!F1315:F1317)","v":0},{"$f":"+SUM('B-5 TAREAS'!G1315:G1317)","v":0},{"$f":"+SUM('B-5 TAREAS'!H1315:H1317)","v":0},{"$f":"+SUM('B-5 TAREAS'!I1315:I1317)","v":0},{"$f":"+SUM('B-5 TAREAS'!J1315:J1317)","v":0},{"$f":"+SUM('B-5 TAREAS'!K1315:K1317)","v":0},{"$f":"+SUM('B-5 TAREAS'!L1315:L1317)","v":2},{"$f":"+SUM('B-5 TAREAS'!M1315:M1317)","v":2},{"$f":"+SUM('B-5 TAREAS'!N1315:N1317)","v":3},{"$f":"+SUM('B-5 TAREAS'!O1315:O1317)","v":3},{"$f":"+SUM('B-5 TAREAS'!P1315:P1317)","v":3},{"$f":"+SUM('B-5 TAREAS'!Q1315:Q1317)","v":3},{"$f":"SUM(G573:R573)","v":16}]
[null,null,"18AO111146645","Realizar acciones de afiliación","INFORME",null,{"$f":"+SUM('B-5 TAREAS'!F1318:F1319)","v":0},{"$f":"+SUM('B-5 TAREAS'!G1318:G1319)","v":0},{"$f":"+SUM('B-5 TAREAS'!H1318:H1319)","v":0},{"$f":"+SUM('B-5 TAREAS'!I1318:I1319)","v":0},{"$f":"+SUM('B-5 TAREAS'!J1318:J1319)","v":0},{"$f":"+SUM('B-5 TAREAS'!K1318:K1319)","v":0},{"$f":"+SUM('B-5 TAREAS'!L1318:L1319)","v":0},{"$f":"+SUM('B-5 TAREAS'!M1318:M1319)","v":0},{"$f":"+SUM('B-5 TAREAS'!N1318:N1319)","v":0},{"$f":"+SUM('B-5 TAREAS'!O1318:O1319)","v":2},{"$f":"+SUM('B-5 TAREAS'!P1318:P1319)","v":2},{"$f":"+SUM('B-5 TAREAS'!Q1318:Q1319)","v":2},{"$f":"SUM(G574:R574)","v":6}]
[null,"AEI.01.02 Mecanismos de protección de derechos optimizados para los asegurados al SIS."]
[null,null,"18AO111146648","Realizar acciones para mitigar riesgos de vulneración de derechos de los asegurados",null,null,{"$f":"+SUM('B-5 TAREAS'!F1321:F1324)","v":0},{"$f":"+SUM('B-5 TAREAS'!G1321:G1324)","v":0},{"$f":"+SUM('B-5 TAREAS'!H1321:H1324)","v":0},{"$f":"+SUM('B-5 TAREAS'!I1321:I1324)","v":0},{"$f":"+SUM('B-5 TAREAS'!J1321:J1324)","v":0},{"$f":"+SUM('B-5 TAREAS'!K1321:K1324)","v":0},{"$f":"+SUM('B-5 TAREAS'!L1321:L1324)","v":0},{"$f":"+SUM('B-5 TAREAS'!M1321:M1324)","v":0},{"$f":"+SUM('B-5 TAREAS'!N1321:N1324)","v":0},{"$f":"+SUM('B-5 TAREAS'!O1321:O1324)","v":2},{"$f":"+SUM('B-5 TAREAS'!P1321:P1324)","v":2},{"$f":"+SUM('B-5 TAREAS'!Q1321:Q1324)","v":4},{"$f":"SUM(G576:R576)","v":8}]
["OEI.02 Reducir los riesgos técnicos y financieros de la prestación de planes y productos para el asegurado al SIS."]
[null,"AEI.02.01 Control técnico y financiero de las prestaciones médicas valorizadas incrementado a los establecimientos de salud."]
[null,null,"18AO111143096","Supervisión  y asistencia técnica a las audrs en las cciones de control técnico a prestaciones","INFORME",{"$f":"+SUM('B-5 TAREAS'!E1327:E1330)","v":26000},{"$f":"+SUM('B-5 TAREAS'!F1327:F1330)","v":0},{"$f":"+SUM('B-5 TAREAS'!G1327:G1330)","v":0},{"$f":"+SUM('B-5 TAREAS'!H1327:H1330)","v":0},{"$f":"+SUM('B-5 TAREAS'!I1327:I1330)","v":0},{"$f":"+SUM('B-5 TAREAS'!J1327:J1330)","v":0},{"$f":"+SUM('B-5 TAREAS'!K1327:K1330)","v":0},{"$f":"+SUM('B-5 TAREAS'!L1327:L1330)","v":3},{"$f":"+SUM('B-5 TAREAS'!M1327:M1330)","v":2},{"$f":"+SUM('B-5 TAREAS'!N1327:N1330)","v":4},{"$f":"+SUM('B-5 TAREAS'!O1327:O1330)","v":2},{"$f":"+SUM('B-5 TAREAS'!P1327:P1330)","v":4},{"$f":"+SUM('B-5 TAREAS'!Q1327:Q1330)","v":3},{"$f":"SUM(G579:R579)","v":18}]
[null,null,"18AO111146652","Realizar el Control Técnico a las Prestaciones",null,null,{"$f":"+SUM('B-5 TAREAS'!F1331:F1335)","v":0},{"$f":"+SUM('B-5 TAREAS'!G1331:G1335)","v":0},{"$f":"+SUM('B-5 TAREAS'!H1331:H1335)","v":0},{"$f":"+SUM('B-5 TAREAS'!I1331:I1335)","v":0},{"$f":"+SUM('B-5 TAREAS'!J1331:J1335)","v":0},{"$f":"+SUM('B-5 TAREAS'!K1331:K1335)","v":0},{"$f":"+SUM('B-5 TAREAS'!L1331:L1335)","v":0},{"$f":"+SUM('B-5 TAREAS'!M1331:M1335)","v":0},{"$f":"+SUM('B-5 TAREAS'!N1331:N1335)","v":0},{"$f":"+SUM('B-5 TAREAS'!O1331:O1335)","v":2},{"$f":"+SUM('B-5 TAREAS'!P1331:P1335)","v":2},{"$f":"+SUM('B-5 TAREAS'!Q1331:Q1335)","v":5},{"$f":"SUM(G580:R580)","v":9}]
["OEI.03 Mejorar la gestión del financiamiento de las prestaciones aprobadas para la atención del asegurado al SIS."]
[null,"AEI.03.02 Recursos del SIS transferidos orientados al financiamiento de reposición de medicamentos e insumos."]
[null,null,"18AO111143097","Supervisión y asistencia técnica a las UDRs en el monitoreo, seguimiento y control de los recursos del SIS","INFORME",{"$f":"+SUM('B-5 TAREAS'!E1338:E1341)","v":25995.465372356728},{"$f":"+SUM('B-5 TAREAS'!F1338:F1341)","v":0},{"$f":"+SUM('B-5 TAREAS'!G1338:G1341)","v":0},{"$f":"+SUM('B-5 TAREAS'!H1338:H1341)","v":0},{"$f":"+SUM('B-5 TAREAS'!I1338:I1341)","v":0},{"$f":"+SUM('B-5 TAREAS'!J1338:J1341)","v":0},{"$f":"+SUM('B-5 TAREAS'!K1338:K1341)","v":0},{"$f":"+SUM('B-5 TAREAS'!L1338:L1341)","v":1},{"$f":"+SUM('B-5 TAREAS'!M1338:M1341)","v":2},{"$f":"+SUM('B-5 TAREAS'!N1338:N1341)","v":2},{"$f":"+SUM('B-5 TAREAS'!O1338:O1341)","v":2},{"$f":"+SUM('B-5 TAREAS'!P1338:P1341)","v":2},{"$f":"+SUM('B-5 TAREAS'!Q1338:Q1341)","v":3},{"$f":"SUM(G583:R583)","v":12}]
[null,null,"18AO111146653","Realizar la supervisión financiera alas UE",null,null,{"$f":"+SUM('B-5 TAREAS'!F1342:F1344)","v":0},{"$f":"+SUM('B-5 TAREAS'!G1342:G1344)","v":0},{"$f":"+SUM('B-5 TAREAS'!H1342:H1344)","v":0},{"$f":"+SUM('B-5 TAREAS'!I1342:I1344)","v":0},{"$f":"+SUM('B-5 TAREAS'!J1342:J1344)","v":0},{"$f":"+SUM('B-5 TAREAS'!K1342:K1344)","v":0},{"$f":"+SUM('B-5 TAREAS'!L1342:L1344)","v":0},{"$f":"+SUM('B-5 TAREAS'!M1342:M1344)","v":0},{"$f":"+SUM('B-5 TAREAS'!N1342:N1344)","v":0},{"$f":"+SUM('B-5 TAREAS'!O1342:O1344)","v":1},{"$f":"+SUM('B-5 TAREAS'!P1342:P1344)","v":2},{"$f":"+SUM('B-5 TAREAS'!Q1342:Q1344)","v":1},{"$f":"SUM(G584:R584)","v":4}]
[null,null,"AEI.03.03 Mecanismos de compra de servicios de salud optimizados para la atención del asegurado al SIS."]
[null,null,"18AO111146656","Implementar los acuerdos de convenios y/o contratos suscritos con las IPRESS",null,null,{"$f":"+SUM('B-5 TAREAS'!F1346:F1347)","v":0},{"$f":"+SUM('B-5 TAREAS'!G1346:G1347)","v":0},{"$f":"+SUM('B-5 TAREAS'!H1346:H1347)","v":0},{"$f":"+SUM('B-5 TAREAS'!I1346:I1347)","v":0},{"$f":"+SUM('B-5 TAREAS'!J1346:J1347)","v":0},{"$f":"+SUM('B-5 TAREAS'!K1346:K1347)","v":0},{"$f":"+SUM('B-5 TAREAS'!L1346:L1347)","v":0},{"$f":"+SUM('B-5 TAREAS'!M1346:M1347)","v":0},{"$f":"+SUM('B-5 TAREAS'!N1346:N1347)","v":0},{"$f":"+SUM('B-5 TAREAS'!O1346:O1347)","v":2},{"$f":"+SUM('B-5 TAREAS'!P1346:P1347)","v":1},{"$f":"+SUM('B-5 TAREAS'!Q1346:Q1347)","v":1},{"$f":"SUM(G586:R586)","v":4}]
["OEI.04 Mejorar la eficacia y eficiencia de los procesos de gestión instituciona"]
[null,"AEI.04.01 Fortalecer la organización orientándola al desarrollo de las funciones de un asegurador público eficiente, eficaz y con enfoque de procesos."]
[null,null,"18AO110920487","Realizar acciones de coordinación en gestión.","INFORME",{"$f":"+SUM('B-5 TAREAS'!E1350:E1356)","v":413276.75313821639},{"$f":"+SUM('B-5 TAREAS'!F1350:F1356)","v":3},{"$f":"+SUM('B-5 TAREAS'!G1350:G1356)","v":3},{"$f":"+SUM('B-5 TAREAS'!H1350:H1356)","v":5},{"$f":"+SUM('B-5 TAREAS'!I1350:I1356)","v":3},{"$f":"+SUM('B-5 TAREAS'!J1350:J1356)","v":3},{"$f":"+SUM('B-5 TAREAS'!K1350:K1356)","v":7},{"$f":"+SUM('B-5 TAREAS'!L1350:L1356)","v":3},{"$f":"+SUM('B-5 TAREAS'!M1350:M1356)","v":3},{"$f":"+SUM('B-5 TAREAS'!N1350:N1356)","v":5},{"$f":"+SUM('B-5 TAREAS'!O1350:O1356)","v":3},{"$f":"+SUM('B-5 TAREAS'!P1350:P1356)","v":3},{"$f":"+SUM('B-5 TAREAS'!Q1350:Q1356)","v":7},{"$f":"SUM(G589:R589)","v":48}]
[null,"11.02 - UDR ANCASH"]
["OEI.01 Incrementar la cobertura de la población objetivo del SIS"]
[null,"AEI.01.01 Afiliación al SIS incrementada en la población objetivo."]
[null,null,"18AO111143098","Realizar acciones de afiliación","INFORME",{"$f":"+SUM('B-5 TAREAS'!E1360:E1363)","v":0},{"$f":"+SUM('B-5 TAREAS'!F1360:F1363)","v":0},{"$f":"+SUM('B-5 TAREAS'!G1360:G1363)","v":0},{"$f":"+SUM('B-5 TAREAS'!H1360:H1363)","v":0},{"$f":"+SUM('B-5 TAREAS'!I1360:I1363)","v":0},{"$f":"+SUM('B-5 TAREAS'!J1360:J1363)","v":0},{"$f":"+SUM('B-5 TAREAS'!K1360:K1363)","v":0},{"$f":"+SUM('B-5 TAREAS'!L1360:L1363)","v":0},{"$f":"+SUM('B-5 TAREAS'!M1360:M1363)","v":2},{"$f":"+SUM('B-5 TAREAS'!N1360:N1363)","v":1},{"$f":"+SUM('B-5 TAREAS'!O1360:O1363)","v":4},{"$f":"+SUM('B-5 TAREAS'!P1360:P1363)","v":1},{"$f":"+SUM('B-5 TAREAS'!Q1360:Q1363)","v":2},{"$f":"SUM(G593:R593)","v":10}]
[null,"AEI.01.02 Mecanismos de protección de derechos optimizados para los asegurados al SIS."]
[null,null,"18AO111143099","Realizar acciones para mitigar riesgos de vulneración de derechos de los asegurados","INFORME",{"$f":"+SUM('B-5 TAREAS'!E1365:E1368)","v":21737.566896082517},{"$f":"+SUM('B-5 TAREAS'!F1365:F1368)","v":0},{"$f":"+SUM('B-5 TAREAS'!G1365:G1368)","v":0},{"$f":"+SUM('B-5 TAREAS'!H1365:H1368)","v":0},{"$f":"+SUM('B-5 TAREAS'!I1365:I1368)","v":0},{"$f":"+SUM('B-5 TAREAS'!J1365:J1368)","v":0},{"$f":"+SUM('B-5 TAREAS'!K1365:K1368)","v":0},{"$f":"+SUM('B-5 TAREAS'!L1365:L1368)","v":2},{"$f":"+SUM('B-5 TAREAS'!M1365:M1368)","v":2},{"$f":"+SUM('B-5 TAREAS'!N1365:N1368)","v":3},{"$f":"+SUM('B-5 TAREAS'!O1365:O1368)","v":2},{"$f":"+SUM('B-5 TAREAS'!P1365:P1368)","v":2},{"$f":"+SUM('B-5 TAREAS'!Q1365:Q1368)","v":3},{"$f":"SUM(G595:R595)","v":14}]
["OEI.02 Reducir los riesgos técnicos y financieros de la prestación de planes y productos para el asegurado al SIS."]
[null,"AEI.02.01 Control técnico y financiero de las prestaciones médicas valorizadas incrementado a los establecimientos de salud."]
[null,null,"18AO111143100","Realzar el Control Técnico a las Prestaciones","INFORME",{"$f":"+SUM('B-5 TAREAS'!E1371:E1375)","v":29547.513379216503},{"$f":"+SUM('B-5 TAREAS'!F1371:F1375)","v":4},{"$f":"+SUM('B-5 TAREAS'!G1371:G1375)","v":4},{"$f":"+SUM('B-5 TAREAS'!H1371:H1375)","v":4},{"$f":"+SUM('B-5 TAREAS'!I1371:I1375)","v":4},{"$f":"+SUM('B-5 TAREAS'!J1371:J1375)","v":4},{"$f":"+SUM('B-5 TAREAS'!K1371:K1375)","v":5},{"$f":"+SUM('B-5 TAREAS'!L1371:L1375)","v":4},{"$f":"+SUM('B-5 TAREAS'!M1371:M1375)","v":4},{"$f":"+SUM('B-5 TAREAS'!N1371:N1375)","v":5},{"$f":"+SUM('B-5 TAREAS'!O1371:O1375)","v":3},{"$f":"+SUM('B-5 TAREAS'!P1371:P1375)","v":3},{"$f":"+SUM('B-5 TAREAS'!Q1371:Q1375)","v":5},{"$f":"SUM(G598:R598)","v":49}]
["OEI.03 Mejorar la gestión del financiamiento de las prestaciones aprobadas para la atención del asegurado al SIS."]
[null,"AEI.03.02 Recursos del SIS transferidos orientados al financiamiento de reposición de medicamentos e insumos."]
[null,null,"18AO111143101","Realizar la supervisión financiera alas UE","INFORME",{"$f":"+SUM('B-5 TAREAS'!E1378:E1381)","v":0},{"$f":"+SUM('B-5 TAREAS'!F1378:F1381)","v":2},{"$f":"+SUM('B-5 TAREAS'!G1378:G1381)","v":2},{"$f":"+SUM('B-5 TAREAS'!H1378:H1381)","v":2},{"$f":"+SUM('B-5 TAREAS'!I1378:I1381)","v":2},{"$f":"+SUM('B-5 TAREAS'!J1378:J1381)","v":2},{"$f":"+SUM('B-5 TAREAS'!K1378:K1381)","v":4},{"$f":"+SUM('B-5 TAREAS'!L1378:L1381)","v":2},{"$f":"+SUM('B-5 TAREAS'!M1378:M1381)","v":2},{"$f":"+SUM('B-5 TAREAS'!N1378:N1381)","v":3},{"$f":"+SUM('B-5 TAREAS'!O1378:O1381)","v":2},{"$f":"+SUM('B-5 TAREAS'!P1378:P1381)","v":2},{"$f":"+SUM('B-5 TAREAS'!Q1378:Q1381)","v":4},{"$f":"SUM(G601:R601)","v":29}]
[null,"AEI.03.03 Mecanismos de compra de servicios de salud optimizados para la atención del asegurado al SIS."]
[null,null,"18AO111143102","Implementar los acuerdos de convenios y/o contratos suscritos con las IPRESS","INFORME",{"$f":"+SUM('B-5 TAREAS'!E1383:E1386)","v":152837.91972470097},{"$f":"+SUM('B-5 TAREAS'!F1383:F1386)","v":0},{"$f":"+SUM('B-5 TAREAS'!G1383:G1386)","v":0},{"$f":"+SUM('B-5 TAREAS'!H1383:H1386)","v":0},{"$f":"+SUM('B-5 TAREAS'!I1383:I1386)","v":0},{"$f":"+SUM('B-5 TAREAS'!J1383:J1386)","v":0},{"$f":"+SUM('B-5 TAREAS'!K1383:K1386)","v":2},{"$f":"+SUM('B-5 TAREAS'!L1383:L1386)","v":0},{"$f":"+SUM('B-5 TAREAS'!M1383:M1386)","v":0},{"$f":"+SUM('B-5 TAREAS'!N1383:N1386)","v":0},{"$f":"+SUM('B-5 TAREAS'!O1383:O1386)","v":0},{"$f":"+SUM('B-5 TAREAS'!P1383:P1386)","v":0},{"$f":"+SUM('B-5 TAREAS'!Q1383:Q1386)","v":4},{"$f":"SUM(G603:R603)","v":6}]
[null,"11.03 - UDR SANTA"]
["OEI.01 Incrementar la cobertura de la población objetivo del SIS"]
[null,"AEI.01.01 Afiliación al SIS incrementada en la población objetivo."]
[null,null,"18AO111143103","Realizar acciones de afiliación","INFORME",{"$f":"+SUM('B-5 TAREAS'!E1390:E1393)","v":0},{"$f":"+SUM('B-5 TAREAS'!F1390:F1393)","v":0},{"$f":"+SUM('B-5 TAREAS'!G1390:G1393)","v":0},{"$f":"+SUM('B-5 TAREAS'!H1390:H1393)","v":0},{"$f":"+SUM('B-5 TAREAS'!I1390:I1393)","v":0},{"$f":"+SUM('B-5 TAREAS'!J1390:J1393)","v":0},{"$f":"+SUM('B-5 TAREAS'!K1390:K1393)","v":0},{"$f":"+SUM('B-5 TAREAS'!L1390:L1393)","v":0},{"$f":"+SUM('B-5 TAREAS'!M1390:M1393)","v":1},{"$f":"+SUM('B-5 TAREAS'!N1390:N1393)","v":0},{"$f":"+SUM('B-5 TAREAS'!O1390:O1393)","v":1},{"$f":"+SUM('B-5 TAREAS'!P1390:P1393)","v":0},{"$f":"+SUM('B-5 TAREAS'!Q1390:Q1393)","v":1},{"$f":"SUM(G607:R607)","v":3}]
[null,"AEI.01.02 Mecanismos de protección de derechos optimizados para los asegurados al SIS."]
[null,null,"18AO111143104","Realizar acciones para mitigar riesgos de vulneración de derechos de los asegurados","INFORME",{"$f":"+SUM('B-5 TAREAS'!E1395:E1398)","v":0},{"$f":"+SUM('B-5 TAREAS'!F1395:F1398)","v":0},{"$f":"+SUM('B-5 TAREAS'!G1395:G1398)","v":0},{"$f":"+SUM('B-5 TAREAS'!H1395:H1398)","v":0},{"$f":"+SUM('B-5 TAREAS'!I1395:I1398)","v":0},{"$f":"+SUM('B-5 TAREAS'!J1395:J1398)","v":0},{"$f":"+SUM('B-5 TAREAS'!K1395:K1398)","v":0},{"$f":"+SUM('B-5 TAREAS'!L1395:L1398)","v":2},{"$f":"+SUM('B-5 TAREAS'!M1395:M1398)","v":1},{"$f":"+SUM('B-5 TAREAS'!N1395:N1398)","v":2},{"$f":"+SUM('B-5 TAREAS'!O1395:O1398)","v":2},{"$f":"+SUM('B-5 TAREAS'!P1395:P1398)","v":3},{"$f":"+SUM('B-5 TAREAS'!Q1395:Q1398)","v":3},{"$f":"SUM(G609:R609)","v":13}]
["OEI.02 Reducir los riesgos técnicos y financieros de la prestación de planes y productos para el asegurado al SIS."]
[null,"AEI.02.01 Control técnico y financiero de las prestaciones médicas valorizadas incrementado a los establecimientos de salud."]
[null,null,"18AO111143105","Realzar el Control Técnico a las Prestaciones","INFORME",{"$f":"+SUM('B-5 TAREAS'!E1401:E1405)","v":9000},{"$f":"+SUM('B-5 TAREAS'!F1401:F1405)","v":4},{"$f":"+SUM('B-5 TAREAS'!G1401:G1405)","v":4},{"$f":"+SUM('B-5 TAREAS'!H1401:H1405)","v":4},{"$f":"+SUM('B-5 TAREAS'!I1401:I1405)","v":4},{"$f":"+SUM('B-5 TAREAS'!J1401:J1405)","v":4},{"$f":"+SUM('B-5 TAREAS'!K1401:K1405)","v":5},{"$f":"+SUM('B-5 TAREAS'!L1401:L1405)","v":4},{"$f":"+SUM('B-5 TAREAS'!M1401:M1405)","v":4},{"$f":"+SUM('B-5 TAREAS'!N1401:N1405)","v":5},{"$f":"+SUM('B-5 TAREAS'!O1401:O1405)","v":7},{"$f":"+SUM('B-5 TAREAS'!P1401:P1405)","v":8},{"$f":"+SUM('B-5 TAREAS'!Q1401:Q1405)","v":13},{"$f":"SUM(G612:R612)","v":66}]
["OEI.03 Mejorar la gestión del financiamiento de las prestaciones aprobadas para la atención del asegurado al SIS."]
[null,"AEI.03.02 Recursos del SIS transferidos orientados al financiamiento de reposición de medicamentos e insumos."]
[null,null,"18AO111143106","Realizar la supervisión financiera alas UE","INFORME",{"$f":"+SUM('B-5 TAREAS'!E1408:E1411)","v":8300},{"$f":"+SUM('B-5 TAREAS'!F1408:F1411)","v":2},{"$f":"+SUM('B-5 TAREAS'!G1408:G1411)","v":2},{"$f":"+SUM('B-5 TAREAS'!H1408:H1411)","v":2},{"$f":"+SUM('B-5 TAREAS'!I1408:I1411)","v":2},{"$f":"+SUM('B-5 TAREAS'!J1408:J1411)","v":2},{"$f":"+SUM('B-5 TAREAS'!K1408:K1411)","v":4},{"$f":"+SUM('B-5 TAREAS'!L1408:L1411)","v":2},{"$f":"+SUM('B-5 TAREAS'!M1408:M1411)","v":2},{"$f":"+SUM('B-5 TAREAS'!N1408:N1411)","v":3},{"$f":"+SUM('B-5 TAREAS'!O1408:O1411)","v":1},{"$f":"+SUM('B-5 TAREAS'!P1408:P1411)","v":2},{"$f":"+SUM('B-5 TAREAS'!Q1408:Q1411)","v":3},{"$f":"SUM(G615:R615)","v":27}]
[null,"AEI.03.03 Mecanismos de compra de servicios de salud optimizados para la atención del asegurado al SIS."]
[null,null,"18AO111143107","Implementar los acuerdos de convenios y/o contratos suscritos con las IPRESS","INFORME",{"$f":"+SUM('B-5 TAREAS'!E1413:E1416)","v":59254},{"$f":"+SUM('B-5 TAREAS'!F1413:F1416)","v":0},{"$f":"+SUM('B-5 TAREAS'!G1413:G1416)","v":0},{"$f":"+SUM('B-5 TAREAS'!H1413:H1416)","v":0},{"$f":"+SUM('B-5 TAREAS'!I1413:I1416)","v":0},{"$f":"+SUM('B-5 TAREAS'!J1413:J1416)","v":0},{"$f":"+SUM('B-5 TAREAS'!K1413:K1416)","v":2},{"$f":"+SUM('B-5 TAREAS'!L1413:L1416)","v":0},{"$f":"+SUM('B-5 TAREAS'!M1413:M1416)","v":0},{"$f":"+SUM('B-5 TAREAS'!N1413:N1416)","v":0},{"$f":"+SUM('B-5 TAREAS'!O1413:O1416)","v":0},{"$f":"+SUM('B-5 TAREAS'!P1413:P1416)","v":0},{"$f":"+SUM('B-5 TAREAS'!Q1413:Q1416)","v":4},{"$f":"SUM(G617:R617)","v":6}]
[null,"11.04 - UDR CALLAO"]
["OEI.01 Incrementar la cobertura de la población objetivo del SIS"]
[null,"AEI.01.01 Afiliación al SIS incrementada en la población objetivo."]
[null,null,"18AO111143108","Realizar acciones de afiliación","INFORME",{"$f":"+SUM('B-5 TAREAS'!E1420:E1423)","v":19521.627906976744},{"$f":"+SUM('B-5 TAREAS'!F1420:F1423)","v":0},{"$f":"+SUM('B-5 TAREAS'!G1420:G1423)","v":0},{"$f":"+SUM('B-5 TAREAS'!H1420:H1423)","v":0},{"$f":"+SUM('B-5 TAREAS'!I1420:I1423)","v":0},{"$f":"+SUM('B-5 TAREAS'!J1420:J1423)","v":0},{"$f":"+SUM('B-5 TAREAS'!K1420:K1423)","v":0},{"$f":"+SUM('B-5 TAREAS'!L1420:L1423)","v":0},{"$f":"+SUM('B-5 TAREAS'!M1420:M1423)","v":2},{"$f":"+SUM('B-5 TAREAS'!N1420:N1423)","v":1},{"$f":"+SUM('B-5 TAREAS'!O1420:O1423)","v":3},{"$f":"+SUM('B-5 TAREAS'!P1420:P1423)","v":1},{"$f":"+SUM('B-5 TAREAS'!Q1420:Q1423)","v":2},{"$f":"SUM(G621:R621)","v":9}]
[null,"AEI.01.02 Mecanismos de protección de derechos optimizados para los asegurados al SIS."]
[null,null,"18AO111143109","Realizar acciones para mitigar riesgos de vulneración de derechos de los asegurados","INFORME",{"$f":"+SUM('B-5 TAREAS'!E1425:E1429)","v":18870.906976744187},{"$f":"+SUM('B-5 TAREAS'!F1425:F1429)","v":0},{"$f":"+SUM('B-5 TAREAS'!G1425:G1429)","v":0},{"$f":"+SUM('B-5 TAREAS'!H1425:H1429)","v":0},{"$f":"+SUM('B-5 TAREAS'!I1425:I1429)","v":0},{"$f":"+SUM('B-5 TAREAS'!J1425:J1429)","v":0},{"$f":"+SUM('B-5 TAREAS'!K1425:K1429)","v":0},{"$f":"+SUM('B-5 TAREAS'!L1425:L1429)","v":2},{"$f":"+SUM('B-5 TAREAS'!M1425:M1429)","v":2},{"$f":"+SUM('B-5 TAREAS'!N1425:N1429)","v":3},{"$f":"+SUM('B-5 TAREAS'!O1425:O1429)","v":5},{"$f":"+SUM('B-5 TAREAS'!P1425:P1429)","v":5},{"$f":"+SUM('B-5 TAREAS'!Q1425:Q1429)","v":5},{"$f":"SUM(G623:R623)","v":22}]
["OEI.02 Reducir los riesgos técnicos y financieros de la prestación de planes y productos para el asegurado al SIS."]
[null,"AEI.02.01 Control técnico y financiero de las prestaciones médicas valorizadas incrementado a los establecimientos de salud."]
[null,null,"18AO111143110","Realzar el Control Técnico a las Prestaciones","INFORME",{"$f":"+SUM('B-5 TAREAS'!E1432:E1438)","v":3120},{"$f":"+SUM('B-5 TAREAS'!F1432:F1438)","v":4},{"$f":"+SUM('B-5 TAREAS'!G1432:G1438)","v":4},{"$f":"+SUM('B-5 TAREAS'!H1432:H1438)","v":4},{"$f":"+SUM('B-5 TAREAS'!I1432:I1438)","v":4},{"$f":"+SUM('B-5 TAREAS'!J1432:J1438)","v":4},{"$f":"+SUM('B-5 TAREAS'!K1432:K1438)","v":5},{"$f":"+SUM('B-5 TAREAS'!L1432:L1438)","v":4},{"$f":"+SUM('B-5 TAREAS'!M1432:M1438)","v":4},{"$f":"+SUM('B-5 TAREAS'!N1432:N1438)","v":5},{"$f":"+SUM('B-5 TAREAS'!O1432:O1438)","v":1},{"$f":"+SUM('B-5 TAREAS'!P1432:P1438)","v":1},{"$f":"+SUM('B-5 TAREAS'!Q1432:Q1438)","v":7},{"$f":"SUM(G626:R626)","v":47}]
["OEI.03 Mejorar la gestión del financiamiento de las prestaciones aprobadas para la atención del asegurado al SIS."]
[null,"AEI.03.02 Recursos del SIS transferidos orientados al financiamiento de reposición de medicamentos e insumos."]
[null,null,"18AO111143111","Realizar la supervisión financiera alas UE","INFORME",{"$f":"+SUM('B-5 TAREAS'!E1441:E1444)","v":3000},{"$f":"+SUM('B-5 TAREAS'!F1441:F1444)","v":2},{"$f":"+SUM('B-5 TAREAS'!G1441:G1444)","v":2},{"$f":"+SUM('B-5 TAREAS'!H1441:H1444)","v":2},{"$f":"+SUM('B-5 TAREAS'!I1441:I1444)","v":2},{"$f":"+SUM('B-5 TAREAS'!J1441:J1444)","v":2},{"$f":"+SUM('B-5 TAREAS'!K1441:K1444)","v":4},{"$f":"+SUM('B-5 TAREAS'!L1441:L1444)","v":2},{"$f":"+SUM('B-5 TAREAS'!M1441:M1444)","v":2},{"$f":"+SUM('B-5 TAREAS'!N1441:N1444)","v":3},{"$f":"+SUM('B-5 TAREAS'!O1441:O1444)","v":2},{"$f":"+SUM('B-5 TAREAS'!P1441:P1444)","v":2},{"$f":"+SUM('B-5 TAREAS'!Q1441:Q1444)","v":3},{"$f":"SUM(G629:R629)","v":28}]
[null,"AEI.03.03 Mecanismos de compra de servicios de salud optimizados para la atención del asegurado al SIS."]
[null,null,"18AO111143112","Implementar los acuerdos de convenios y/o contratos suscritos con las IPRESS","INFORME",{"$f":"+SUM('B-5 TAREAS'!E1446:E1449)","v":101512.46511627907},{"$f":"+SUM('B-5 TAREAS'!F1446:F1449)","v":0},{"$f":"+SUM('B-5 TAREAS'!G1446:G1449)","v":0},{"$f":"+SUM('B-5 TAREAS'!H1446:H1449)","v":0},{"$f":"+SUM('B-5 TAREAS'!I1446:I1449)","v":0},{"$f":"+SUM('B-5 TAREAS'!J1446:J1449)","v":0},{"$f":"+SUM('B-5 TAREAS'!K1446:K1449)","v":2},{"$f":"+SUM('B-5 TAREAS'!L1446:L1449)","v":0},{"$f":"+SUM('B-5 TAREAS'!M1446:M1449)","v":0},{"$f":"+SUM('B-5 TAREAS'!N1446:N1449)","v":0},{"$f":"+SUM('B-5 TAREAS'!O1446:O1449)","v":0},{"$f":"+SUM('B-5 TAREAS'!P1446:P1449)","v":0},{"$f":"+SUM('B-5 TAREAS'!Q1446:Q1449)","v":2},{"$f":"SUM(G631:R631)","v":4}]
[null,"11.05 - UDR LIMA METROPOLITANA CENTRO"]
["OEI.01 Incrementar la cobertura de la población objetivo del SIS"]
[null,"AEI.01.01 Afiliación al SIS incrementada en la población objetivo."]
[null,null,"18AO111143113","Realizar acciones de afiliación","INFORME",{"$f":"+SUM('B-5 TAREAS'!E1453:E1456)","v":0},{"$f":"+SUM('B-5 TAREAS'!F1453:F1456)","v":0},{"$f":"+SUM('B-5 TAREAS'!G1453:G1456)","v":0},{"$f":"+SUM('B-5 TAREAS'!H1453:H1456)","v":0},{"$f":"+SUM('B-5 TAREAS'!I1453:I1456)","v":0},{"$f":"+SUM('B-5 TAREAS'!J1453:J1456)","v":0},{"$f":"+SUM('B-5 TAREAS'!K1453:K1456)","v":0},{"$f":"+SUM('B-5 TAREAS'!L1453:L1456)","v":1},{"$f":"+SUM('B-5 TAREAS'!M1453:M1456)","v":1},{"$f":"+SUM('B-5 TAREAS'!N1453:N1456)","v":2},{"$f":"+SUM('B-5 TAREAS'!O1453:O1456)","v":3},{"$f":"+SUM('B-5 TAREAS'!P1453:P1456)","v":2},{"$f":"+SUM('B-5 TAREAS'!Q1453:Q1456)","v":3},{"$f":"SUM(G635:R635)","v":12}]
[null,"AEI.01.02 Mecanismos de protección de derechos optimizados para los asegurados al SIS."]
[null,null,"18AO111143114","Realizar acciones para mitigar riesgos de vulneración de derechos de los asegurados","INFORME",{"$f":"+SUM('B-5 TAREAS'!E1458:E1461)","v":15510.457399103139},{"$f":"+SUM('B-5 TAREAS'!F1458:F1461)","v":0},{"$f":"+SUM('B-5 TAREAS'!G1458:G1461)","v":0},{"$f":"+SUM('B-5 TAREAS'!H1458:H1461)","v":0},{"$f":"+SUM('B-5 TAREAS'!I1458:I1461)","v":0},{"$f":"+SUM('B-5 TAREAS'!J1458:J1461)","v":0},{"$f":"+SUM('B-5 TAREAS'!K1458:K1461)","v":0},{"$f":"+SUM('B-5 TAREAS'!L1458:L1461)","v":2},{"$f":"+SUM('B-5 TAREAS'!M1458:M1461)","v":2},{"$f":"+SUM('B-5 TAREAS'!N1458:N1461)","v":3},{"$f":"+SUM('B-5 TAREAS'!O1458:O1461)","v":2},{"$f":"+SUM('B-5 TAREAS'!P1458:P1461)","v":2},{"$f":"+SUM('B-5 TAREAS'!Q1458:Q1461)","v":3},{"$f":"SUM(G637:R637)","v":14}]
["OEI.02 Reducir los riesgos técnicos y financieros de la prestación de planes y productos para el asegurado al SIS."]
[null,"AEI.02.01 Control técnico y financiero de las prestaciones médicas valorizadas incrementado a los establecimientos de salud."]
[null,null,"18AO111143115","Realzar el Control Técnico a las Prestaciones","INFORME",{"$f":"+SUM('B-5 TAREAS'!E1464:E1470)","v":6120},{"$f":"+SUM('B-5 TAREAS'!F1464:F1470)","v":4},{"$f":"+SUM('B-5 TAREAS'!G1464:G1470)","v":4},{"$f":"+SUM('B-5 TAREAS'!H1464:H1470)","v":4},{"$f":"+SUM('B-5 TAREAS'!I1464:I1470)","v":4},{"$f":"+SUM('B-5 TAREAS'!J1464:J1470)","v":4},{"$f":"+SUM('B-5 TAREAS'!K1464:K1470)","v":5},{"$f":"+SUM('B-5 TAREAS'!L1464:L1470)","v":4},{"$f":"+SUM('B-5 TAREAS'!M1464:M1470)","v":4},{"$f":"+SUM('B-5 TAREAS'!N1464:N1470)","v":5},{"$f":"+SUM('B-5 TAREAS'!O1464:O1470)","v":3},{"$f":"+SUM('B-5 TAREAS'!P1464:P1470)","v":3},{"$f":"+SUM('B-5 TAREAS'!Q1464:Q1470)","v":7},{"$f":"SUM(G640:R640)","v":51}]
["OEI.03 Mejorar la gestión del financiamiento de las prestaciones aprobadas para la atención del asegurado al SIS."]
[null,"AEI.03.02 Recursos del SIS transferidos orientados al financiamiento de reposición de medicamentos e insumos."]
[null,null,"18AO111143116","Realizar la supervisión financiera alas UE","INFORME",{"$f":"+SUM('B-5 TAREAS'!E1473:E1476)","v":0},{"$f":"+SUM('B-5 TAREAS'!F1473:F1476)","v":2},{"$f":"+SUM('B-5 TAREAS'!G1473:G1476)","v":2},{"$f":"+SUM('B-5 TAREAS'!H1473:H1476)","v":2},{"$f":"+SUM('B-5 TAREAS'!I1473:I1476)","v":2},{"$f":"+SUM('B-5 TAREAS'!J1473:J1476)","v":2},{"$f":"+SUM('B-5 TAREAS'!K1473:K1476)","v":4},{"$f":"+SUM('B-5 TAREAS'!L1473:L1476)","v":2},{"$f":"+SUM('B-5 TAREAS'!M1473:M1476)","v":2},{"$f":"+SUM('B-5 TAREAS'!N1473:N1476)","v":3},{"$f":"+SUM('B-5 TAREAS'!O1473:O1476)","v":1},{"$f":"+SUM('B-5 TAREAS'!P1473:P1476)","v":1},{"$f":"+SUM('B-5 TAREAS'!Q1473:Q1476)","v":3},{"$f":"SUM(G643:R643)","v":26}]
[null,"AEI.03.03 Mecanismos de compra de servicios de salud optimizados para la atención del asegurado al SIS."]
[null,null,"18AO111143117","Implementar los acuerdos de convenios y/o contratos suscritos con las IPRESS","INFORME",{"$f":"+SUM('B-5 TAREAS'!E1478:E1481)","v":134873.54260089685},{"$f":"+SUM('B-5 TAREAS'!F1478:F1481)","v":0},{"$f":"+SUM('B-5 TAREAS'!G1478:G1481)","v":0},{"$f":"+SUM('B-5 TAREAS'!H1478:H1481)","v":0},{"$f":"+SUM('B-5 TAREAS'!I1478:I1481)","v":0},{"$f":"+SUM('B-5 TAREAS'!J1478:J1481)","v":0},{"$f":"+SUM('B-5 TAREAS'!K1478:K1481)","v":2},{"$f":"+SUM('B-5 TAREAS'!L1478:L1481)","v":0},{"$f":"+SUM('B-5 TAREAS'!M1478:M1481)","v":0},{"$f":"+SUM('B-5 TAREAS'!N1478:N1481)","v":0},{"$f":"+SUM('B-5 TAREAS'!O1478:O1481)","v":0},{"$f":"+SUM('B-5 TAREAS'!P1478:P1481)","v":0},{"$f":"+SUM('B-5 TAREAS'!Q1478:Q1481)","v":2},{"$f":"SUM(G645:R645)","v":4}]
[null,"11.06 - UDR LIMA METROPOLITANA ESTE"]
["OEI.01 Incrementar la cobertura de la población objetivo del SIS"]
[null,"AEI.01.01 Afiliación al SIS incrementada en la población objetivo."]
[null,null,"18AO111143118 ","Realizar acciones de afiliación","INFORME",{"$f":"+SUM('B-5 TAREAS'!E1485:E1488)","v":0},{"$f":"+SUM('B-5 TAREAS'!F1485:F1488)","v":0},{"$f":"+SUM('B-5 TAREAS'!G1485:G1488)","v":0},{"$f":"+SUM('B-5 TAREAS'!H1485:H1488)","v":0},{"$f":"+SUM('B-5 TAREAS'!I1485:I1488)","v":0},{"$f":"+SUM('B-5 TAREAS'!J1485:J1488)","v":0},{"$f":"+SUM('B-5 TAREAS'!K1485:K1488)","v":0},{"$f":"+SUM('B-5 TAREAS'!L1485:L1488)","v":0},{"$f":"+SUM('B-5 TAREAS'!M1485:M1488)","v":2},{"$f":"+SUM('B-5 TAREAS'!N1485:N1488)","v":1},{"$f":"+SUM('B-5 TAREAS'!O1485:O1488)","v":3},{"$f":"+SUM('B-5 TAREAS'!P1485:P1488)","v":1},{"$f":"+SUM('B-5 TAREAS'!Q1485:Q1488)","v":1},{"$f":"SUM(G649:R649)","v":8}]
[null,"AEI.01.02 Mecanismos de protección de derechos optimizados para los asegurados al SIS."]
[null,null,"18AO111143119","Realizar acciones para mitigar riesgos de vulneración de derechos de los asegurados","INFORME",{"$f":"+SUM('B-5 TAREAS'!E1490:E1493)","v":0},{"$f":"+SUM('B-5 TAREAS'!F1490:F1493)","v":0},{"$f":"+SUM('B-5 TAREAS'!G1490:G1493)","v":0},{"$f":"+SUM('B-5 TAREAS'!H1490:H1493)","v":0},{"$f":"+SUM('B-5 TAREAS'!I1490:I1493)","v":0},{"$f":"+SUM('B-5 TAREAS'!J1490:J1493)","v":0},{"$f":"+SUM('B-5 TAREAS'!K1490:K1493)","v":0},{"$f":"+SUM('B-5 TAREAS'!L1490:L1493)","v":2},{"$f":"+SUM('B-5 TAREAS'!M1490:M1493)","v":2},{"$f":"+SUM('B-5 TAREAS'!N1490:N1493)","v":3},{"$f":"+SUM('B-5 TAREAS'!O1490:O1493)","v":2},{"$f":"+SUM('B-5 TAREAS'!P1490:P1493)","v":2},{"$f":"+SUM('B-5 TAREAS'!Q1490:Q1493)","v":3},{"$f":"SUM(G651:R651)","v":14}]
["OEI.02 Reducir los riesgos técnicos y financieros de la prestación de planes y productos para el asegurado al SIS."]
[null,"AEI.02.01 Control técnico y financiero de las prestaciones médicas valorizadas incrementado a los establecimientos de salud."]
[null,null,"18AO111143120","Realzar el Control Técnico a las Prestaciones","INFORME",{"$f":"+SUM('B-5 TAREAS'!E1496:E1500)","v":3120},{"$f":"+SUM('B-5 TAREAS'!F1496:F1500)","v":4},{"$f":"+SUM('B-5 TAREAS'!G1496:G1500)","v":4},{"$f":"+SUM('B-5 TAREAS'!H1496:H1500)","v":4},{"$f":"+SUM('B-5 TAREAS'!I1496:I1500)","v":4},{"$f":"+SUM('B-5 TAREAS'!J1496:J1500)","v":4},{"$f":"+SUM('B-5 TAREAS'!K1496:K1500)","v":5},{"$f":"+SUM('B-5 TAREAS'!L1496:L1500)","v":4},{"$f":"+SUM('B-5 TAREAS'!M1496:M1500)","v":4},{"$f":"+SUM('B-5 TAREAS'!N1496:N1500)","v":5},{"$f":"+SUM('B-5 TAREAS'!O1496:O1500)","v":4},{"$f":"+SUM('B-5 TAREAS'!P1496:P1500)","v":4},{"$f":"+SUM('B-5 TAREAS'!Q1496:Q1500)","v":5},{"$f":"SUM(G654:R654)","v":51}]
["OEI.03 Mejorar la gestión del financiamiento de las prestaciones aprobadas para la atención del asegurado al SIS."]
[null,"AEI.03.02 Recursos del SIS transferidos orientados al financiamiento de reposición de medicamentos e insumos."]
[null,null,"18AO111143121","Realizar la supervisión financiera alas UE","INFORME",{"$f":"+SUM('B-5 TAREAS'!E1503:E1506)","v":3000},{"$f":"+SUM('B-5 TAREAS'!F1503:F1506)","v":2},{"$f":"+SUM('B-5 TAREAS'!G1503:G1506)","v":2},{"$f":"+SUM('B-5 TAREAS'!H1503:H1506)","v":2},{"$f":"+SUM('B-5 TAREAS'!I1503:I1506)","v":2},{"$f":"+SUM('B-5 TAREAS'!J1503:J1506)","v":2},{"$f":"+SUM('B-5 TAREAS'!K1503:K1506)","v":4},{"$f":"+SUM('B-5 TAREAS'!L1503:L1506)","v":2},{"$f":"+SUM('B-5 TAREAS'!M1503:M1506)","v":2},{"$f":"+SUM('B-5 TAREAS'!N1503:N1506)","v":3},{"$f":"+SUM('B-5 TAREAS'!O1503:O1506)","v":2},{"$f":"+SUM('B-5 TAREAS'!P1503:P1506)","v":2},{"$f":"+SUM('B-5 TAREAS'!Q1503:Q1506)","v":4},{"$f":"SUM(G657:R657)","v":29}]
[null,"AEI.03.03 Mecanismos de compra de servicios de salud optimizados para la atención del asegurado al SIS."]
[null,null,"18AO111143122","Implementar los acuerdos de convenios y/o contratos suscritos con las IPRESS","INFORME",{"$f":"+SUM('B-5 TAREAS'!E1508:E1511)","v":69816},{"$f":"+SUM('B-5 TAREAS'!F1508:F1511)","v":0},{"$f":"+SUM('B-5 TAREAS'!G1508:G1511)","v":0},{"$f":"+SUM('B-5 TAREAS'!H1508:H1511)","v":0},{"$f":"+SUM('B-5 TAREAS'!I1508:I1511)","v":0},{"$f":"+SUM('B-5 TAREAS'!J1508:J1511)","v":0},{"$f":"+SUM('B-5 TAREAS'!K1508:K1511)","v":2},{"$f":"+SUM('B-5 TAREAS'!L1508:L1511)","v":0},{"$f":"+SUM('B-5 TAREAS'!M1508:M1511)","v":0},{"$f":"+SUM('B-5 TAREAS'!N1508:N1511)","v":0},{"$f":"+SUM('B-5 TAREAS'!O1508:O1511)","v":0},{"$f":"+SUM('B-5 TAREAS'!P1508:P1511)","v":0},{"$f":"+SUM('B-5 TAREAS'!Q1508:Q1511)","v":4},{"$f":"SUM(G659:R659)","v":6}]
[null,"11.07 - UDR LIMA METROPOLITANA NORTE"]
["OEI.01 Incrementar la cobertura de la población objetivo del SIS"]
[null,"AEI.01.01 Afiliación al SIS incrementada en la población objetivo."]
[null,null,"18AO111143123","Realizar acciones de afiliación","INFORME",{"$f":"+SUM('B-5 TAREAS'!E1515:E1518)","v":0},{"$f":"+SUM('B-5 TAREAS'!F1515:F1518)","v":0},{"$f":"+SUM('B-5 TAREAS'!G1515:G1518)","v":0},{"$f":"+SUM('B-5 TAREAS'!H1515:H1518)","v":0},{"$f":"+SUM('B-5 TAREAS'!I1515:I1518)","v":0},{"$f":"+SUM('B-5 TAREAS'!J1515:J1518)","v":0},{"$f":"+SUM('B-5 TAREAS'!K1515:K1518)","v":0},{"$f":"+SUM('B-5 TAREAS'!L1515:L1518)","v":0},{"$f":"+SUM('B-5 TAREAS'!M1515:M1518)","v":2},{"$f":"+SUM('B-5 TAREAS'!N1515:N1518)","v":1},{"$f":"+SUM('B-5 TAREAS'!O1515:O1518)","v":4},{"$f":"+SUM('B-5 TAREAS'!P1515:P1518)","v":1},{"$f":"+SUM('B-5 TAREAS'!Q1515:Q1518)","v":1},{"$f":"SUM(G663:R663)","v":9}]
[null,"AEI.01.02 Mecanismos de protección de derechos optimizados para los asegurados al SIS."]
[null,null,"18AO111143125","Realizar acciones para mitigar riesgos de vulneración de derechos de los asegurados","INFORME",{"$f":"+SUM('B-5 TAREAS'!E1520:E1523)","v":23010.940170940172},{"$f":"+SUM('B-5 TAREAS'!F1520:F1523)","v":0},{"$f":"+SUM('B-5 TAREAS'!G1520:G1523)","v":0},{"$f":"+SUM('B-5 TAREAS'!H1520:H1523)","v":0},{"$f":"+SUM('B-5 TAREAS'!I1520:I1523)","v":0},{"$f":"+SUM('B-5 TAREAS'!J1520:J1523)","v":0},{"$f":"+SUM('B-5 TAREAS'!K1520:K1523)","v":0},{"$f":"+SUM('B-5 TAREAS'!L1520:L1523)","v":2},{"$f":"+SUM('B-5 TAREAS'!M1520:M1523)","v":2},{"$f":"+SUM('B-5 TAREAS'!N1520:N1523)","v":3},{"$f":"+SUM('B-5 TAREAS'!O1520:O1523)","v":2},{"$f":"+SUM('B-5 TAREAS'!P1520:P1523)","v":2},{"$f":"+SUM('B-5 TAREAS'!Q1520:Q1523)","v":3},{"$f":"SUM(G665:R665)","v":14}]
["OEI.02 Reducir los riesgos técnicos y financieros de la prestación de planes y productos para el asegurado al SIS."]
[null,"AEI.02.01 Control técnico y financiero de las prestaciones médicas valorizadas incrementado a los establecimientos de salud."]
[null,null,"18AO111143126","Realzar el Control Técnico a las Prestaciones","INFORME",{"$f":"+SUM('B-5 TAREAS'!E1526:E1533)","v":3000},{"$f":"+SUM('B-5 TAREAS'!F1526:F1533)","v":4},{"$f":"+SUM('B-5 TAREAS'!G1526:G1533)","v":4},{"$f":"+SUM('B-5 TAREAS'!H1526:H1533)","v":4},{"$f":"+SUM('B-5 TAREAS'!I1526:I1533)","v":4},{"$f":"+SUM('B-5 TAREAS'!J1526:J1533)","v":4},{"$f":"+SUM('B-5 TAREAS'!K1526:K1533)","v":5},{"$f":"+SUM('B-5 TAREAS'!L1526:L1533)","v":3},{"$f":"+SUM('B-5 TAREAS'!M1526:M1533)","v":3},{"$f":"+SUM('B-5 TAREAS'!N1526:N1533)","v":4},{"$f":"+SUM('B-5 TAREAS'!O1526:O1533)","v":3},{"$f":"+SUM('B-5 TAREAS'!P1526:P1533)","v":3},{"$f":"+SUM('B-5 TAREAS'!Q1526:Q1533)","v":8},{"$f":"SUM(G668:R668)","v":49}]
["OEI.03 Mejorar la gestión del financiamiento de las prestaciones aprobadas para la atención del asegurado al SIS."]
[null,"AEI.03.02 Recursos del SIS transferidos orientados al financiamiento de reposición de medicamentos e insumos."]
[null,null,"18AO111143127","Realizar la supervisión financiera alas UE","INFORME",{"$f":"+SUM('B-5 TAREAS'!E1536:E1539)","v":3120},{"$f":"+SUM('B-5 TAREAS'!F1536:F1539)","v":2},{"$f":"+SUM('B-5 TAREAS'!G1536:G1539)","v":2},{"$f":"+SUM('B-5 TAREAS'!H1536:H1539)","v":2},{"$f":"+SUM('B-5 TAREAS'!I1536:I1539)","v":2},{"$f":"+SUM('B-5 TAREAS'!J1536:J1539)","v":2},{"$f":"+SUM('B-5 TAREAS'!K1536:K1539)","v":4},{"$f":"+SUM('B-5 TAREAS'!L1536:L1539)","v":2},{"$f":"+SUM('B-5 TAREAS'!M1536:M1539)","v":2},{"$f":"+SUM('B-5 TAREAS'!N1536:N1539)","v":2},{"$f":"+SUM('B-5 TAREAS'!O1536:O1539)","v":2},{"$f":"+SUM('B-5 TAREAS'!P1536:P1539)","v":2},{"$f":"+SUM('B-5 TAREAS'!Q1536:Q1539)","v":3},{"$f":"SUM(G671:R671)","v":27}]
[null,"AEI.03.03 Mecanismos de compra de servicios de salud optimizados para la atención del asegurado al SIS."]
[null,null,"18AO111143128","Implementar los acuerdos de convenios y/o contratos suscritos con las IPRESS","INFORME",{"$f":"+SUM('B-5 TAREAS'!E1541:E1544)","v":44296.059829059828},{"$f":"+SUM('B-5 TAREAS'!F1541:F1544)","v":0},{"$f":"+SUM('B-5 TAREAS'!G1541:G1544)","v":0},{"$f":"+SUM('B-5 TAREAS'!H1541:H1544)","v":0},{"$f":"+SUM('B-5 TAREAS'!I1541:I1544)","v":0},{"$f":"+SUM('B-5 TAREAS'!J1541:J1544)","v":0},{"$f":"+SUM('B-5 TAREAS'!K1541:K1544)","v":2},{"$f":"+SUM('B-5 TAREAS'!L1541:L1544)","v":0},{"$f":"+SUM('B-5 TAREAS'!M1541:M1544)","v":0},{"$f":"+SUM('B-5 TAREAS'!N1541:N1544)","v":0},{"$f":"+SUM('B-5 TAREAS'!O1541:O1544)","v":0},{"$f":"+SUM('B-5 TAREAS'!P1541:P1544)","v":0},{"$f":"+SUM('B-5 TAREAS'!Q1541:Q1544)","v":3},{"$f":"SUM(G673:R673)","v":5}]
[null,"11.08 - UDR LIMA REGIÓN"]
["OEI.01 Incrementar la cobertura de la población objetivo del SIS"]
[null,"AEI.01.01 Afiliación al SIS incrementada en la población objetivo."]
[null,null,"18AO111143129","Realizar acciones de afiliación","INFORME",{"$f":"+SUM('B-5 TAREAS'!E1548:E1551)","v":0},{"$f":"+SUM('B-5 TAREAS'!F1548:F1551)","v":0},{"$f":"+SUM('B-5 TAREAS'!G1548:G1551)","v":0},{"$f":"+SUM('B-5 TAREAS'!H1548:H1551)","v":0},{"$f":"+SUM('B-5 TAREAS'!I1548:I1551)","v":0},{"$f":"+SUM('B-5 TAREAS'!J1548:J1551)","v":0},{"$f":"+SUM('B-5 TAREAS'!K1548:K1551)","v":0},{"$f":"+SUM('B-5 TAREAS'!L1548:L1551)","v":0},{"$f":"+SUM('B-5 TAREAS'!M1548:M1551)","v":2},{"$f":"+SUM('B-5 TAREAS'!N1548:N1551)","v":1},{"$f":"+SUM('B-5 TAREAS'!O1548:O1551)","v":3},{"$f":"+SUM('B-5 TAREAS'!P1548:P1551)","v":1},{"$f":"+SUM('B-5 TAREAS'!Q1548:Q1551)","v":2},{"$f":"SUM(G677:R677)","v":9}]
[null,"AEI.01.02 Mecanismos de protección de derechos optimizados para los asegurados al SIS."]
[null,null,"18AO111143130","Realizar acciones para mitigar riesgos de vulneración de derechos de los asegurados","INFORME",{"$f":"+SUM('B-5 TAREAS'!E1553:E1556)","v":13982.398239823982},{"$f":"+SUM('B-5 TAREAS'!F1553:F1556)","v":0},{"$f":"+SUM('B-5 TAREAS'!G1553:G1556)","v":0},{"$f":"+SUM('B-5 TAREAS'!H1553:H1556)","v":0},{"$f":"+SUM('B-5 TAREAS'!I1553:I1556)","v":0},{"$f":"+SUM('B-5 TAREAS'!J1553:J1556)","v":0},{"$f":"+SUM('B-5 TAREAS'!K1553:K1556)","v":0},{"$f":"+SUM('B-5 TAREAS'!L1553:L1556)","v":2},{"$f":"+SUM('B-5 TAREAS'!M1553:M1556)","v":2},{"$f":"+SUM('B-5 TAREAS'!N1553:N1556)","v":3},{"$f":"+SUM('B-5 TAREAS'!O1553:O1556)","v":1},{"$f":"+SUM('B-5 TAREAS'!P1553:P1556)","v":2},{"$f":"+SUM('B-5 TAREAS'!Q1553:Q1556)","v":3},{"$f":"SUM(G679:R679)","v":13}]
["OEI.02 Reducir los riesgos técnicos y financieros de la prestación de planes y productos para el asegurado al SIS."]
[null,"AEI.02.01 Control técnico y financiero de las prestaciones médicas valorizadas incrementado a los establecimientos de salud."]
[null,null,"18AO111143131","Realzar el Control Técnico a las Prestaciones","INFORME",{"$f":"+SUM('B-5 TAREAS'!E1559:E1564)","v":25581.773377337733},{"$f":"+SUM('B-5 TAREAS'!F1559:F1564)","v":4},{"$f":"+SUM('B-5 TAREAS'!G1559:G1564)","v":4},{"$f":"+SUM('B-5 TAREAS'!H1559:H1564)","v":4},{"$f":"+SUM('B-5 TAREAS'!I1559:I1564)","v":4},{"$f":"+SUM('B-5 TAREAS'!J1559:J1564)","v":4},{"$f":"+SUM('B-5 TAREAS'!K1559:K1564)","v":5},{"$f":"+SUM('B-5 TAREAS'!L1559:L1564)","v":4},{"$f":"+SUM('B-5 TAREAS'!M1559:M1564)","v":4},{"$f":"+SUM('B-5 TAREAS'!N1559:N1564)","v":5},{"$f":"+SUM('B-5 TAREAS'!O1559:O1564)","v":2},{"$f":"+SUM('B-5 TAREAS'!P1559:P1564)","v":2},{"$f":"+SUM('B-5 TAREAS'!Q1559:Q1564)","v":5},{"$f":"SUM(G682:R682)","v":47}]
["OEI.03 Mejorar la gestión del financiamiento de las prestaciones aprobadas para la atención del asegurado al SIS."]
[null,"AEI.03.02 Recursos del SIS transferidos orientados al financiamiento de reposición de medicamentos e insumos."]
[null,null,"18AO111143132","Realizar la supervisión financiera alas UE","INFORME",{"$f":"+SUM('B-5 TAREAS'!E1567:E1570)","v":19000},{"$f":"+SUM('B-5 TAREAS'!F1567:F1570)","v":2},{"$f":"+SUM('B-5 TAREAS'!G1567:G1570)","v":2},{"$f":"+SUM('B-5 TAREAS'!H1567:H1570)","v":2},{"$f":"+SUM('B-5 TAREAS'!I1567:I1570)","v":2},{"$f":"+SUM('B-5 TAREAS'!J1567:J1570)","v":2},{"$f":"+SUM('B-5 TAREAS'!K1567:K1570)","v":4},{"$f":"+SUM('B-5 TAREAS'!L1567:L1570)","v":2},{"$f":"+SUM('B-5 TAREAS'!M1567:M1570)","v":2},{"$f":"+SUM('B-5 TAREAS'!N1567:N1570)","v":2},{"$f":"+SUM('B-5 TAREAS'!O1567:O1570)","v":2},{"$f":"+SUM('B-5 TAREAS'!P1567:P1570)","v":2},{"$f":"+SUM('B-5 TAREAS'!Q1567:Q1570)","v":2},{"$f":"SUM(G685:R685)","v":26}]
[null,"AEI.03.03 Mecanismos de compra de servicios de salud optimizados para la atención del asegurado al SIS."]
[null,null,"18AO111143133","Implementar los acuerdos de convenios y/o contratos suscritos con las IPRESS","INFORME",{"$f":"+SUM('B-5 TAREAS'!E1572:E1575)","v":92283.828382838285},{"$f":"+SUM('B-5 TAREAS'!F1572:F1575)","v":0},{"$f":"+SUM('B-5 TAREAS'!G1572:G1575)","v":0},{"$f":"+SUM('B-5 TAREAS'!H1572:H1575)","v":0},{"$f":"+SUM('B-5 TAREAS'!I1572:I1575)","v":0},{"$f":"+SUM('B-5 TAREAS'!J1572:J1575)","v":0},{"$f":"+SUM('B-5 TAREAS'!K1572:K1575)","v":2},{"$f":"+SUM('B-5 TAREAS'!L1572:L1575)","v":0},{"$f":"+SUM('B-5 TAREAS'!M1572:M1575)","v":0},{"$f":"+SUM('B-5 TAREAS'!N1572:N1575)","v":0},{"$f":"+SUM('B-5 TAREAS'!O1572:O1575)","v":0},{"$f":"+SUM('B-5 TAREAS'!P1572:P1575)","v":0},{"$f":"+SUM('B-5 TAREAS'!Q1572:Q1575)","v":4},{"$f":"SUM(G687:R687)","v":6}]
[null,"11.09 - UDR LIMA METROPOLITANA SUR"]
["OEI.01 Incrementar la cobertura de la población objetivo del SIS"]
[null,"AEI.01.01 Afiliación al SIS incrementada en la población objetivo."]
[null,null,"18AO111143134","Realizar acciones de afiliación","INFORME",{"$f":"+SUM('B-5 TAREAS'!E1579:E1582)","v":0},{"$f":"+SUM('B-5 TAREAS'!F1579:F1582)","v":0},{"$f":"+SUM('B-5 TAREAS'!G1579:G1582)","v":0},{"$f":"+SUM('B-5 TAREAS'!H1579:H1582)","v":0},{"$f":"+SUM('B-5 TAREAS'!I1579:I1582)","v":0},{"$f":"+SUM('B-5 TAREAS'!J1579:J1582)","v":0},{"$f":"+SUM('B-5 TAREAS'!K1579:K1582)","v":0},{"$f":"+SUM('B-5 TAREAS'!L1579:L1582)","v":0},{"$f":"+SUM('B-5 TAREAS'!M1579:M1582)","v":2},{"$f":"+SUM('B-5 TAREAS'!N1579:N1582)","v":1},{"$f":"+SUM('B-5 TAREAS'!O1579:O1582)","v":4},{"$f":"+SUM('B-5 TAREAS'!P1579:P1582)","v":1},{"$f":"+SUM('B-5 TAREAS'!Q1579:Q1582)","v":2},{"$f":"SUM(G691:R691)","v":10}]
[null,"AEI.01.02 Mecanismos de protección de derechos optimizados para los asegurados al SIS."]
[null,null,"18AO111143135","Realizar acciones para mitigar riesgos de vulneración de derechos de los asegurados","INFORME",{"$f":"+SUM('B-5 TAREAS'!E1584:E1587)","v":12000},{"$f":"+SUM('B-5 TAREAS'!F1584:F1587)","v":0},{"$f":"+SUM('B-5 TAREAS'!G1584:G1587)","v":0},{"$f":"+SUM('B-5 TAREAS'!H1584:H1587)","v":0},{"$f":"+SUM('B-5 TAREAS'!I1584:I1587)","v":0},{"$f":"+SUM('B-5 TAREAS'!J1584:J1587)","v":0},{"$f":"+SUM('B-5 TAREAS'!K1584:K1587)","v":0},{"$f":"+SUM('B-5 TAREAS'!L1584:L1587)","v":2},{"$f":"+SUM('B-5 TAREAS'!M1584:M1587)","v":2},{"$f":"+SUM('B-5 TAREAS'!N1584:N1587)","v":3},{"$f":"+SUM('B-5 TAREAS'!O1584:O1587)","v":2},{"$f":"+SUM('B-5 TAREAS'!P1584:P1587)","v":2},{"$f":"+SUM('B-5 TAREAS'!Q1584:Q1587)","v":3},{"$f":"SUM(G693:R693)","v":14}]
["OEI.02 Reducir los riesgos técnicos y financieros de la prestación de planes y productos para el asegurado al SIS."]
[null,"AEI.02.01 Control técnico y financiero de las prestaciones médicas valorizadas incrementado a los establecimientos de salud."]
[null,null,"18AO111143136","Realzar el Control Técnico a las Prestaciones","INFORME",{"$f":"+SUM('B-5 TAREAS'!E1590:E1594)","v":12000},{"$f":"+SUM('B-5 TAREAS'!F1590:F1594)","v":4},{"$f":"+SUM('B-5 TAREAS'!G1590:G1594)","v":4},{"$f":"+SUM('B-5 TAREAS'!H1590:H1594)","v":4},{"$f":"+SUM('B-5 TAREAS'!I1590:I1594)","v":4},{"$f":"+SUM('B-5 TAREAS'!J1590:J1594)","v":4},{"$f":"+SUM('B-5 TAREAS'!K1590:K1594)","v":5},{"$f":"+SUM('B-5 TAREAS'!L1590:L1594)","v":4},{"$f":"+SUM('B-5 TAREAS'!M1590:M1594)","v":4},{"$f":"+SUM('B-5 TAREAS'!N1590:N1594)","v":5},{"$f":"+SUM('B-5 TAREAS'!O1590:O1594)","v":1},{"$f":"+SUM('B-5 TAREAS'!P1590:P1594)","v":1},{"$f":"+SUM('B-5 TAREAS'!Q1590:Q1594)","v":4},{"$f":"SUM(G696:R696)","v":44}]
["OEI.03 Mejorar la gestión del financiamiento de las prestaciones aprobadas para la atención del asegurado al SIS."]
[null,"AEI.03.02 Recursos del SIS transferidos orientados al financiamiento de reposición de medicamentos e insumos."]
[null,null,"18AO111143137 ","Realizar la supervisión financiera alas UE","INFORME",{"$f":"+SUM('B-5 TAREAS'!E1597:E1600)","v":9000},{"$f":"+SUM('B-5 TAREAS'!F1597:F1600)","v":2},{"$f":"+SUM('B-5 TAREAS'!G1597:G1600)","v":2},{"$f":"+SUM('B-5 TAREAS'!H1597:H1600)","v":2},{"$f":"+SUM('B-5 TAREAS'!I1597:I1600)","v":2},{"$f":"+SUM('B-5 TAREAS'!J1597:J1600)","v":2},{"$f":"+SUM('B-5 TAREAS'!K1597:K1600)","v":4},{"$f":"+SUM('B-5 TAREAS'!L1597:L1600)","v":2},{"$f":"+SUM('B-5 TAREAS'!M1597:M1600)","v":2},{"$f":"+SUM('B-5 TAREAS'!N1597:N1600)","v":3},{"$f":"+SUM('B-5 TAREAS'!O1597:O1600)","v":1},{"$f":"+SUM('B-5 TAREAS'!P1597:P1600)","v":2},{"$f":"+SUM('B-5 TAREAS'!Q1597:Q1600)","v":2},{"$f":"SUM(G699:R699)","v":26}]
[null,"AEI.03.03 Mecanismos de compra de servicios de salud optimizados para la atención del asegurado al SIS."]
[null,null,"18AO111143138","Implementar los acuerdos de convenios y/o contratos suscritos con las IPRESS","INFORME",{"$f":"+SUM('B-5 TAREAS'!E1602:E1605)","v":153780},{"$f":"+SUM('B-5 TAREAS'!F1602:F1605)","v":0},{"$f":"+SUM('B-5 TAREAS'!G1602:G1605)","v":0},{"$f":"+SUM('B-5 TAREAS'!H1602:H1605)","v":0},{"$f":"+SUM('B-5 TAREAS'!I1602:I1605)","v":0},{"$f":"+SUM('B-5 TAREAS'!J1602:J1605)","v":0},{"$f":"+SUM('B-5 TAREAS'!K1602:K1605)","v":2},{"$f":"+SUM('B-5 TAREAS'!L1602:L1605)","v":0},{"$f":"+SUM('B-5 TAREAS'!M1602:M1605)","v":0},{"$f":"+SUM('B-5 TAREAS'!N1602:N1605)","v":0},{"$f":"+SUM('B-5 TAREAS'!O1602:O1605)","v":0},{"$f":"+SUM('B-5 TAREAS'!P1602:P1605)","v":0},{"$f":"+SUM('B-5 TAREAS'!Q1602:Q1605)","v":4},{"$f":"SUM(G701:R701)","v":6}]

{"sheet":"B-4 FINANCIERO","index":4,"n_rows":703,"n_cols":11,"rows_kept":703,"cut":false,"hidden":false,"merged":[[5,3,6,3],[1,0,1,10],[2,6,2,10],[3,6,3,10],[5,10,6,10],[5,5,6,5],[5,4,6,4],[5,6,5,9],[5,0,6,2]]}
[]
["ANEXO B-4 Matriz de Articulación del POI con Metas Financiaras a nivel de Actividad"]
[null,"Periodo PEI : 2017 - 2019",{"$nulls":4},"Nivel de Gobierno : E - GOBIERNO NACIONAL"]
[null,"Sector : 11 - SALUD",{"$nulls":4},"Pliego : 135 - SEGURO INTEGRAL DE SALUD"]
[null,"Unidad Ejecutora : 001091 - SEGURO INTEGRAL DE SALUD"]
["OEI/AEI/CC/ COD_AO",null,null,"ACTIVIDAD OPERATIVA","U.M.","Meta Física","PROGRAMACION",null,null,null,"Meta Financ.\nAnual"]
[{"$nulls":6},"1 T","2T","3T","4T"]
[null,"01.01 - JEFATURA"]
["OEI.04 Mejorar la eficacia y eficiencia de los procesos de gestión instituciona"]
[null,"AEI.04.01 Fortalecer la organización orientándola al desarrollo de las funciones de un asegurador público eficiente, eficaz y con enfoque de procesos."]
[null,null,"18AO110921692","Efectuar acciones diversas de gestión institucional","INFORME",{"$f":"+VLOOKUP(C11,'B-3 FISICO'!C10:S701,17,0)","v":23},27346.43,40677.879999999997,103770.22,64913.47,{"$f":"+VLOOKUP(C11,'B-3 FISICO'!$C$10:$F$701,4,0)","v":236708}]
[null,"01.02.01 - SECRETARIA GENERAL"]
["OEI.04 Mejorar la eficacia y eficiencia de los procesos de gestión instituciona"]
[null,"AEI.04.01 Fortalecer la organización orientándola al desarrollo de las funciones de un asegurador público eficiente, eficaz y con enfoque de procesos."]
[null,null,"18AO110920381","Desarrollar acciones diversas de gestión","INFORME",{"$f":"+VLOOKUP(C15,'B-3 FISICO'!C14:S705,17,0)","v":51698},86092,199962,164168,521475,{"$f":"+VLOOKUP(C15,'B-3 FISICO'!$C$10:$F$701,4,0)","v":971697}]
[null,null,"18AO111149643","Hacer seguimiento a la ejecución del Plan de Integridad y Lucha anti corrupción","INFORME",{"$f":"+VLOOKUP(C16,'B-3 FISICO'!C15:S706,17,0)","v":16},null,0,0,12960,{"$f":"+VLOOKUP(C16,'B-3 FISICO'!$C$10:$F$701,4,0)","v":12960}]
[null,null,"18AO110921680","Realizar acciones de gestión documentaria y archivo","INFORME",{"$f":"+VLOOKUP(C17,'B-3 FISICO'!C15:S706,17,0)","v":9},21242.904867621372,49340.116518939889,40507.992858783851,131870.3838063243,{"$f":"+VLOOKUP(C17,'B-3 FISICO'!$C$10:$F$701,4,0)","v":242961.39805166941}]
[null,"02.01 - ORGANO DE CONTROL INSTITUCIONAL"]
["OEI.04 Mejorar la eficacia y eficiencia de los procesos de gestión instituciona"]
[null,"AEI.04.01 Fortalecer la organización orientándola al desarrollo de las funciones de un asegurador público eficiente, eficaz y con enfoque de procesos."]
[null,null,"18AO111142739","Desarrollar el control institucional","INFORME",{"$f":"+VLOOKUP(C21,'B-3 FISICO'!C19:S710,17,0)","v":73},9121.2999999999993,41692.67,8502.14,20021.89,{"$f":"+VLOOKUP(C21,'B-3 FISICO'!$C$10:$F$701,4,0)","v":79338}]
[null,"03.01 - OFICINA GENERAL DE PLANEAMIENTO, PRESUPUESTO Y DESARROLLO ORGANIZACIONAL"]
["OEI.04 Mejorar la eficacia y eficiencia de los procesos de gestión instituciona"]
[null,"AEI.04.01 Fortalecer la organización orientándola al desarrollo de las funciones de un asegurador público eficiente, eficaz y con enfoque de procesos."]
[null,null,"18AO111141933","Coordinar, supervisar y evaluar el sistema de modernización de la gestión pública","INFORME",{"$f":"+VLOOKUP(C25,'B-3 FISICO'!C23:S714,17,0)","v":78},0,0,39722.820000000007,64479.273393429699,{"$f":"+VLOOKUP(C25,'B-3 FISICO'!$C$10:$F$701,4,0)","v":104202.09339342971}]
[null,null,"18AO111141936","Desarrollar el planeamiento institucional y gestión presupuestal","INFORME",{"$f":"+VLOOKUP(C26,'B-3 FISICO'!C24:S715,17,0)","v":2250},47516,272882,80000,57653,{"$f":"+VLOOKUP(C26,'B-3 FISICO'!$C$10:$F$701,4,0)","v":458051}]
[null,null,"18AO111141939","Realizar gestión del financiamiento con cooperantes","INFORME",{"$f":"+VLOOKUP(C27,'B-3 FISICO'!C25:S716,17,0)","v":9},0,0,0,1585494,{"$f":"+VLOOKUP(C27,'B-3 FISICO'!$C$10:$F$701,4,0)","v":1585494}]
[null,"03.02 - OFICINA GENERAL DE ASESORÍA JURÍDICA"]
["OEI.04 Mejorar la eficacia y eficiencia de los procesos de gestión instituciona"]
[null,"AEI.04.01 Fortalecer la organización orientándola al desarrollo de las funciones de un asegurador público eficiente, eficaz y con enfoque de procesos."]
[null,null,"18AO111142899","Brindar asesoramiento legal","INFORME",{"$f":"+VLOOKUP(C31,'B-3 FISICO'!C29:S720,17,0)","v":688},142600,128533.33,133541,71873.669999999984,{"$f":"+VLOOKUP(C31,'B-3 FISICO'!$C$10:$F$701,4,0)","v":476548}]
[null,"04.01 - OFICINA GENERAL DE IMAGEN INSTITUCIONAL Y TRANSPARENCIA"]
["OEI.04 Mejorar la eficacia y eficiencia de los procesos de gestión instituciona"]
[null,"AEI.04.03 Fortalecer la comunicación estratégica institucional."]
[null,null,"18AO110920388","Fortalecimiento de la imagen institucional","INFORME",{"$f":"+VLOOKUP(C35,'B-3 FISICO'!C33:S724,17,0)","v":27},64200,53359,37192,1014976.2424321026,{"$f":"+VLOOKUP(C35,'B-3 FISICO'!$C$10:$F$701,4,0)","v":1169727.2424321026}]
[null,null,"18AO110920392","Gestión del acceso a la información pública y del portal de transparencia","INFORME",{"$f":"+VLOOKUP(C36,'B-3 FISICO'!C34:S725,17,0)","v":28},0,0,24795,706579.75756789732,{"$f":"+VLOOKUP(C36,'B-3 FISICO'!$C$10:$F$701,4,0)","v":731374.75756789732}]
[null,"04.02.01 - OFICINA GENERAL DE ADMINISTRACIÓN DE RECURSOS"]
["OEI.04 Mejorar la eficacia y eficiencia de los procesos de gestión instituciona"]
[null,"AEI.04.01 Fortalecer la organización orientándola al desarrollo de las funciones de un asegurador público eficiente, eficaz y con enfoque de procesos."]
[null,null,"18AO111142901","Supervisar el cumplimiento de los sistemas administrativos a su cargo","INFORME",{"$f":"+VLOOKUP(C40,'B-3 FISICO'!C38:S729,17,0)","v":144},128697.98000000001,81389.569999999992,151416.68,265814.77,{"$f":"+VLOOKUP(C40,'B-3 FISICO'!$C$10:$F$701,4,0)","v":627319}]
[null,"04.02.02 - OFICINA DE ABASTECIMIENTO"]
["OEI.04 Mejorar la eficacia y eficiencia de los procesos de gestión instituciona"]
[null,"AEI.04.01 Fortalecer la organización orientándola al desarrollo de las funciones de un asegurador público eficiente, eficaz y con enfoque de procesos."]
[null,null,"18AO110920401","Realizar acciones de contratación de bienes y servicios","INFORME",{"$f":"+VLOOKUP(C44,'B-3 FISICO'!C42:S733,17,0)","v":56},1599035.66,3742281.8099999996,2780425.12,6704081.4100000011,{"$f":"+VLOOKUP(C44,'B-3 FISICO'!$C$10:$F$701,4,0)","v":14825824}]
[null,"04.02.03 - OFICINA DE GESTIÓN DE RECURSOS HUMANOS"]
["OEI.04 Mejorar la eficacia y eficiencia de los procesos de gestión instituciona"]
[null,"AEI.04.04 Mejorar la satisfacción laboral del personal del SIS."]
[null,null,"18AO110920421","Ejecutar las acciones de incorporacion de servidores","INFORME",{"$f":"+VLOOKUP(C48,'B-3 FISICO'!C46:S737,17,0)","v":38},189833.75,189833.75,189833.75,189833.75,{"$f":"+VLOOKUP(C48,'B-3 FISICO'!$C$10:$F$701,4,0)","v":759335}]
[null,null,"18AO111142904","Gestion de recursos cas - cap","INFORME",{"$f":"+VLOOKUP(C49,'B-3 FISICO'!C47:S738,17,0)","v":24},15491379,15491379,15491379,15491379,{"$f":"+VLOOKUP(C49,'B-3 FISICO'!$C$10:$F$701,4,0)","v":61965516}]
[null,"04.02.04 - OFICINA DE CONTABILIDAD"]
["OEI.04 Mejorar la eficacia y eficiencia de los procesos de gestión instituciona"]
[null,"AEI.04.01 Fortalecer la organización orientándola al desarrollo de las funciones de un asegurador público eficiente, eficaz y con enfoque de procesos."]
[null,null,"18AO110920537","Realizar la elaboración, analisis y emisión de los estados financieros y presupuestarios.","INFORME",{"$f":"+VLOOKUP(C53,'B-3 FISICO'!C51:S742,17,0)","v":11428},12400,3360,7461.59,20346.41,{"$f":"+VLOOKUP(C53,'B-3 FISICO'!$C$10:$F$701,4,0)","v":43568}]
[null,"04.02.05 - OFICINA DE TESORERÍA"]
["OEI.04 Mejorar la eficacia y eficiencia de los procesos de gestión instituciona"]
[null,"AEI.04.01 Fortalecer la organización orientándola al desarrollo de las funciones de un asegurador público eficiente, eficaz y con enfoque de procesos."]
[null,null,"18AO111142907","Optimizar el control de los ingresos y egresos","INFORME",{"$f":"+VLOOKUP(C57,'B-3 FISICO'!C55:S746,17,0)","v":16749},508931.54,370341.64999999997,411339.14,646576.67000000004,{"$f":"+VLOOKUP(C57,'B-3 FISICO'!$C$10:$F$701,4,0)","v":1937189.0000000002}]
[null,"04.03 - OFICINA GENERAL DE TECNOLOGÍA DE LA INFORMACIÓN"]
["OEI.04 Mejorar la eficacia y eficiencia de los procesos de gestión instituciona"]
[null,"AEI.04.02 Mejorar la calidad y seguridad de los sistemas de información del SIS, a través de su informatización e integración."]
[null,null,"18AO110920396","Elaboración, aprobación y ejecución del plan operativo informático","INFORME",{"$f":"+VLOOKUP(C61,'B-3 FISICO'!C59:S750,17,0)","v":63},399305.64,598969.13,639791.65999999992,{"$f":"1179396.57+1083769.72+633568.28","v":2896734.5700000003},{"$f":"+VLOOKUP(C61,'B-3 FISICO'!$C$10:$F$701,4,0)","v":4534801}]
[null,"05.01 - GERENCIA DEL ASEGURADO"]
["OEI.01 Incrementar la cobertura de la población objetivo del SIS"]
[null,"AEI.01.01 Afiliación al SIS incrementada en la población objetivo."]
[null,null,"18AO111142910","Conducción y supervisión de las acciones de afiliación","INFORME",{"$f":"+VLOOKUP(C65,'B-3 FISICO'!C63:S754,17,0)","v":45},78557.91350000001,94849.452000000005,41342.956000000006,{"$f":"+K65-G65-H65-I65","v":115804.2027990183},{"$f":"+VLOOKUP(C65,'B-3 FISICO'!$C$10:$F$701,4,0)","v":330554.52429901832}]
[null,"AEI.01.02 Mecanismos de protección de derechos optimizados para los asegurados al SIS."]
[null,null,"18AO110920443","Promocion de los derechos y deberes del asegurado al sis y sus productos","INFORME",{"$f":"+VLOOKUP(C67,'B-3 FISICO'!C65:S756,17,0)","v":42},64274.656500000005,63232.968000000008,31007.216999999997,{"$f":"+K67-G67-H67-I67","v":195200.36430043069},{"$f":"+VLOOKUP(C67,'B-3 FISICO'!$C$10:$F$701,4,0)","v":353715.20580043067}]
[null,null,"18AO111149595","Protección al asegurado SIS.","INFORME",{"$f":"+VLOOKUP(C68,'B-3 FISICO'!C66:S757,17,0)","v":6},0,0,null,{"$f":"+K68-G68-H68-I68","v":13067.49665818557},{"$f":"+VLOOKUP(C68,'B-3 FISICO'!$C$10:$F$701,4,0)","v":13067.49665818557}]
[null,null,"18AO111149596","Atención al asegurado SIS","INFORME",{"$f":"+VLOOKUP(C69,'B-3 FISICO'!C67:S758,17,0)","v":31},0,0,31007,{"$f":"+K69-G69-H69-I69","v":183111.77324236548},{"$f":"+VLOOKUP(C69,'B-3 FISICO'!$C$10:$F$701,4,0)","v":214118.77324236548}]
[null,"05.02 - GERENCIA DE RIESGO Y EVALUACIÓN DE LAS PRESTACIONES"]
["OEI.02 Reducir los riesgos técnicos y financieros de la prestación de planes y productos para el asegurado al SIS."]
[null,"AEI.02.02 Auditoria médica y financiera optimizada a los establecimientos de salud."]
[null,null,"18AO111142911","Conducción de acciones de control tecnico","INFORME",{"$f":"+VLOOKUP(C73,'B-3 FISICO'!C69:S760,17,0)","v":54},25800,103935,35040.058499999999,504.62336226964544,{"$f":"+VLOOKUP(C73,'B-3 FISICO'!$C$10:$F$701,4,0)","v":165279.68186226964}]
[null,"AEI.03.03 Mecanismos de compra de servicios de salud optimizados para la atención del asegurado al SIS."]
[null,null,"18AO110920533","Desarrollar los modelos operacionales de los convenios o contratos aprobados.","INFORME",{"$f":"+VLOOKUP(C75,'B-3 FISICO'!C71:S762,17,0)","v":31},0,0,41396.411500000002,122287.90663773038,{"$f":"+VLOOKUP(C75,'B-3 FISICO'!$C$10:$F$701,4,0)","v":163684.31813773038}]
[null,"05.03 - GERENCIA DE NEGOCIOS Y FINANCIAMIENTO"]
["OEI.02 Reducir los riesgos técnicos y financieros de la prestación de planes y productos para el asegurado al SIS."]
[null,"AEI.02.01 Control técnico y financiero de las prestaciones médicas valorizadas incrementado a los establecimientos de salud."]
[null,null,"18AO111142912","Conducción de acciones de control financiero","INFORME",{"$f":"+VLOOKUP(C79,'B-3 FISICO'!C75:S766,17,0)","v":65},99429.833999999988,141237.804,10114,16210.722342639405,{"$f":"+VLOOKUP(C79,'B-3 FISICO'!$C$10:$F$701,4,0)","v":266992.36034263938}]
[null,"AEI.03.01 Financiamiento del SIS incrementado por Recursos Directamente Recaudados."]
[null,null,"18AO111143139","Gestionar el riesgo corporativo","INFORME",{"$f":"+VLOOKUP(C81,'B-3 FISICO'!C77:S768,17,0)","v":18},2612.7860000000001,20928.352999999999,32632,6681.381703053441,{"$f":"+VLOOKUP(C81,'B-3 FISICO'!$C$10:$F$701,4,0)","v":62854.520703053437}]
[null,"AEI.03.02 Recursos del SIS transferidos orientados al financiamiento de reposición de medicamentos e insumos."]
[null,null,"18AO111142914","Administrar los fondos de aseguramiento en salud","INFORME",{"$f":"+VLOOKUP(C83,'B-3 FISICO'!C79:S770,17,0)","v":88},579356072,515646114,495681878,127541248,{"$f":"+VLOOKUP(C83,'B-3 FISICO'!$C$10:$F$701,4,0)","v":1718225312}]
[null,"AEI.03.03 Mecanismos de compra de servicios de salud optimizados para la atención del asegurado al SIS."]
[null,null,"18AO111142916","Control financiero de los expedientes administrativos y prestaciones económicas","INFORME",{"$f":"+VLOOKUP(C85,'B-3 FISICO'!C81:S772,17,0)","v":41},0,525928.353,3807164.8615000001,65233405.107190199,{"$f":"+VLOOKUP(C85,'B-3 FISICO'!$C$10:$F$701,4,0)","v":69566498.321690202}]
[null,"06.01 - GERENCIA MACRO REGIONAL NORTE"]
["OEI.01 Incrementar la cobertura de la población objetivo del SIS"]
[null,"AEI.01.01 Afiliación al SIS incrementada en la población objetivo."]
[null,null,"18AO111142917","Control y supervision a las udr en las acciones de afiliacion","INFORME",{"$f":"+VLOOKUP(C89,'B-3 FISICO'!C85:S776,17,0)","v":13},2055.8188118852677,3013.9829904362409,4875.712708138466,3054.4854895400244,{"$f":"+VLOOKUP(C89,'B-3 FISICO'!$C$10:$F$701,4,0)","v":13000}]
["OEI.02 Reducir los riesgos técnicos y financieros de la prestación de planes y productos para el asegurado al SIS."]
[null,"AEI.02.01 Control técnico y financiero de las prestaciones médicas valorizadas incrementado a los establecimientos de salud."]
[null,null,"18AO111142918","Supervisión  y asistencia técnica a las audrs en las cciones de control técnico a prestaciones","INFORME",{"$f":"+VLOOKUP(C92,'B-3 FISICO'!C88:S779,17,0)","v":13},10172.055932715213,14912.989112525303,24124.705004305953,15113.392807596378,{"$f":"+VLOOKUP(C92,'B-3 FISICO'!$C$10:$F$701,4,0)","v":64323.142857142855}]
["OEI.03 Mejorar la gestión del financiamiento de las prestaciones aprobadas para la atención del asegurado al SIS."]
[null,"AEI.03.02 Recursos del SIS transferidos orientados al financiamiento de reposición de medicamentos e insumos."]
[null,null,"18AO111142919","Supervisión y asistencia técnica a las udrs en el monitoreo, seguimiento y control de los recursos del SIS","INFORME",{"$f":"+VLOOKUP(C95,'B-3 FISICO'!C91:S782,17,0)","v":11},9668.7869692825971,14175.159452328073,22931.119817501552,14365.648046602058,{"$f":"+VLOOKUP(C95,'B-3 FISICO'!$C$10:$F$701,4,0)","v":61140.714285714283}]
["OEI.04 Mejorar la eficacia y eficiencia de los procesos de gestión instituciona"]
[null,"AEI.04.01 Fortalecer la organización orientándola al desarrollo de las funciones de un asegurador público eficiente, eficaz y con enfoque de procesos."]
[null,null,"18AO110920454","Realizar acciones de coordinación en gestión.","INFORME",{"$f":"+VLOOKUP(C98,'B-3 FISICO'!C94:S785,17,0)","v":50},16481.838286116923,24163.598444710387,39089.392470054023,24488.313656261536,{"$f":"+VLOOKUP(C98,'B-3 FISICO'!$C$10:$F$701,4,0)","v":104223.14285714287}]
[null,"06.02 - UDR CAJAMARCA"]
["OEI.01 Incrementar la cobertura de la población objetivo del SIS"]
[null,"AEI.01.01 Afiliación al SIS incrementada en la población objetivo."]
[null,null,"18AO111143143","Realizar acciones de afiliación","INFORME",{"$f":"+VLOOKUP(C102,'B-3 FISICO'!C98:S789,17,0)","v":18},1594.2532194617258,3421.0315171989073,1634.5423788766298,2730.7299725136418,9380.557088050904]
[null,"AEI.01.02 Mecanismos de protección de derechos optimizados para los asegurados al SIS."]
[null,null,"18AO111143144","Realizar acciones para mitigar riesgos de vulneración de derechos de los asegurados","INFORME",{"$f":"+VLOOKUP(C104,'B-3 FISICO'!C100:S791,17,0)","v":14},977.40987910717649,2097.3769792832459,1002.1104862330297,1674.1646933666291,5751.0620379900811]
["OEI.02 Reducir los riesgos técnicos y financieros de la prestación de planes y productos para el asegurado al SIS."]
[null,"AEI.02.01 Control técnico y financiero de las prestaciones médicas valorizadas incrementado a los establecimientos de salud."]
[null,null,"18AO111143145","Realzar el control técnico a las prestaciones","INFORME",{"$f":"+VLOOKUP(C107,'B-3 FISICO'!C103:S794,17,0)","v":49},2209.8768743695578,4742.0687906152079,2265.7237628010239,3785.2061032332072,13002.875531018997]
["OEI.03 Mejorar la gestión del financiamiento de las prestaciones aprobadas para la atención del asegurado al SIS."]
[null,"AEI.03.02 Recursos del SIS transferidos orientados al financiamiento de reposición de medicamentos e insumos."]
[null,null,"18AO111143147","Realizar la supervisión financiera alas UE","INFORME",{"$f":"+VLOOKUP(C110,'B-3 FISICO'!C106:S797,17,0)","v":29},2243.5416582985217,4814.308435757378,2300.2393060885547,3842.8691101952109,13200.958510339666]
[null,"AEI.03.03 Mecanismos de compra de servicios de salud optimizados para la atención del asegurado al SIS."]
[null,null,"18AO111143148","Implementar los acuerdos de convenios y/o contratos suscritos con las ipress","INFORME",{"$f":"+VLOOKUP(C112,'B-3 FISICO'!C108:S799,17,0)","v":7},15074.918368763016,32348.544277145258,15455.884066000761,25821.200120691305,88700.546832600347]
[null,"06.03 - UDR CHOTA"]
["OEI.01 Incrementar la cobertura de la población objetivo del SIS"]
[null,"AEI.01.01 Afiliación al SIS incrementada en la población objetivo."]
[null,null,"18AO111142921","Realizar acciones de afiliación","INFORME",{"$f":"+VLOOKUP(C116,'B-3 FISICO'!C112:S803,17,0)","v":13},0,0,0,0,{"$f":"+VLOOKUP(C116,'B-3 FISICO'!$C$10:$F$701,4,0)","v":0}]
[null,"AEI.01.02 Mecanismos de protección de derechos optimizados para los asegurados al SIS."]
[null,null,"18AO111142923","Realizar acciones para mitigar riesgos de vulneración de derechos de los asegurados","INFORME",{"$f":"+VLOOKUP(C118,'B-3 FISICO'!C114:S805,17,0)","v":14},616.8916750386021,1039.6223579713721,1342.1324451401399,2370.9758535411829,{"$f":"+VLOOKUP(C118,'B-3 FISICO'!$C$10:$F$701,4,0)","v":5369.6223316912974}]
["OEI.02 Reducir los riesgos técnicos y financieros de la prestación de planes y productos para el asegurado al SIS."]
[null,"AEI.02.01 Control técnico y financiero de las prestaciones médicas valorizadas incrementado a los establecimientos de salud."]
[null,null,"18AO111142924","Realzar el control técnico a las prestaciones","INFORME",{"$f":"+VLOOKUP(C121,'B-3 FISICO'!C117:S808,17,0)","v":49},597.40453090494032,1006.7814694424457,1299.7354904344807,2296.0785092181336,{"$f":"+VLOOKUP(C121,'B-3 FISICO'!$C$10:$F$701,4,0)","v":5200}]
["OEI.03 Mejorar la gestión del financiamiento de las prestaciones aprobadas para la atención del asegurado al SIS."]
[null,"AEI.03.02 Recursos del SIS transferidos orientados al financiamiento de reposición de medicamentos e insumos."]
[null,null,"18AO111142926","Realizar la supervisión financiera alas UE","INFORME",{"$f":"+VLOOKUP(C124,'B-3 FISICO'!C120:S811,17,0)","v":29},1148.8548671248852,1936.1182104662416,2499.4913277586165,4415.5355946502568,{"$f":"+VLOOKUP(C124,'B-3 FISICO'!$C$10:$F$701,4,0)","v":10000}]
[null,"AEI.03.03 Mecanismos de compra de servicios de salud optimizados para la atención del asegurado al SIS."]
[null,null,"18AO111142927","Implementar los acuerdos de convenios y/o contratos suscritos con las ipress","INFORME",{"$f":"+VLOOKUP(C126,'B-3 FISICO'!C122:S813,17,0)","v":12},6896.8489269315733,11622.977962119941,15005.040736666766,26507.510042590427,{"$f":"+VLOOKUP(C126,'B-3 FISICO'!$C$10:$F$701,4,0)","v":60032.377668308705}]
[null,"06.04 - UDR CUTERVO"]
["OEI.01 Incrementar la cobertura de la población objetivo del SIS"]
[null,"AEI.01.01 Afiliación al SIS incrementada en la población objetivo."]
[null,null,"18AO111142928","Realizar acciones de afiliación","INFORME",{"$f":"+VLOOKUP(C130,'B-3 FISICO'!C126:S817,17,0)","v":11},0,0,0,0,{"$f":"+VLOOKUP(C130,'B-3 FISICO'!$C$10:$F$701,4,0)","v":0}]
[null,"AEI.01.02 Mecanismos de protección de derechos optimizados para los asegurados al SIS."]
[null,null,"18AO111142929","Realizar acciones para mitigar riesgos de vulneración de derechos de los asegurados","INFORME",{"$f":"+VLOOKUP(C132,'B-3 FISICO'!C128:S819,17,0)","v":15},1083.7919491056969,2804.7908129832877,3252.8262311899894,6558.7986714369026,{"$f":"+VLOOKUP(C132,'B-3 FISICO'!$C$10:$F$701,4,0)","v":13700.207664715877}]
["OEI.02 Reducir los riesgos técnicos y financieros de la prestación de planes y productos para el asegurado al SIS."]
[null,"AEI.02.01 Control técnico y financiero de las prestaciones médicas valorizadas incrementado a los establecimientos de salud."]
[null,null,"18AO111142930","Realzar el control técnico a las prestaciones","INFORME",{"$f":"+VLOOKUP(C135,'B-3 FISICO'!C131:S822,17,0)","v":51},896.20484185681426,2319.3262406731415,2689.8138711187421,5423.5751898287417,{"$f":"+VLOOKUP(C135,'B-3 FISICO'!$C$10:$F$701,4,0)","v":11328.92014347744}]
["OEI.03 Mejorar la gestión del financiamiento de las prestaciones aprobadas para la atención del asegurado al SIS."]
[null,"AEI.03.02 Recursos del SIS transferidos orientados al financiamiento de reposición de medicamentos e insumos."]
[null,null,"18AO111142931","Realizar la supervisión financiera alas UE","INFORME",{"$f":"+VLOOKUP(C138,'B-3 FISICO'!C134:S825,17,0)","v":26},791.07702279356158,2047.2615318137625,2374.2897266933132,4787.3717186993626,{"$f":"+VLOOKUP(C138,'B-3 FISICO'!$C$10:$F$701,4,0)","v":10000}]
[null,"AEI.03.03 Mecanismos de compra de servicios de salud optimizados para la atención del asegurado al SIS."]
[null,null,"18AO111142932","Implementar los acuerdos de convenios y/o contratos suscritos con las ipress","INFORME",{"$f":"+VLOOKUP(C140,'B-3 FISICO'!C136:S827,17,0)","v":7},4551.9261862439271,11780.121414529807,13661.870170997954,27546.954420034988,{"$f":"+VLOOKUP(C140,'B-3 FISICO'!$C$10:$F$701,4,0)","v":57540.87219180668}]
[null,"06.05 - UDR JAÉN"]
["OEI.01 Incrementar la cobertura de la población objetivo del SIS"]
[null,"AEI.01.01 Afiliación al SIS incrementada en la población objetivo."]
[null,null,"18AO111142933","Realizar acciones de afiliación","INFORME",{"$f":"+VLOOKUP(C144,'B-3 FISICO'!C140:S831,17,0)","v":12},2266.0622180388727,3064.9327217049017,2284.7075947490998,4786.6069205828653,{"$f":"+VLOOKUP(C144,'B-3 FISICO'!$C$10:$F$701,4,0)","v":12402.309455075741}]
[null,"AEI.01.02 Mecanismos de protección de derechos optimizados para los asegurados al SIS."]
[null,null,"18AO111142934","Realizar acciones para mitigar riesgos de vulneración de derechos de los asegurados","INFORME",{"$f":"+VLOOKUP(C146,'B-3 FISICO'!C142:S833,17,0)","v":17},2266.0622180388727,3064.9327217049017,2284.7075947490998,4786.6069205828653,{"$f":"+VLOOKUP(C146,'B-3 FISICO'!$C$10:$F$701,4,0)","v":12402.309455075741}]
["OEI.02 Reducir los riesgos técnicos y financieros de la prestación de planes y productos para el asegurado al SIS."]
[null,"AEI.02.01 Control técnico y financiero de las prestaciones médicas valorizadas incrementado a los establecimientos de salud."]
[null,null,"18AO111142935","Realzar el control técnico a las prestaciones","INFORME",{"$f":"+VLOOKUP(C149,'B-3 FISICO'!C145:S836,17,0)","v":49},1827.1292344761398,2471.2596736977516,1842.1630286076002,3859.4480632185082,{"$f":"+VLOOKUP(C149,'B-3 FISICO'!$C$10:$F$701,4,0)","v":10000}]
["OEI.03 Mejorar la gestión del financiamiento de las prestaciones aprobadas para la atención del asegurado al SIS."]
[null,"AEI.03.02 Recursos del SIS transferidos orientados al financiamiento de reposición de medicamentos e insumos."]
[null,null,"18AO111142936","Realizar la supervisión financiera alas UE","INFORME",{"$f":"+VLOOKUP(C152,'B-3 FISICO'!C148:S839,17,0)","v":25},840.47944785902439,1136.7794499009658,847.39499315949604,1775.3461090805138,{"$f":"+VLOOKUP(C152,'B-3 FISICO'!$C$10:$F$701,4,0)","v":4600}]
[null,"AEI.03.03 Mecanismos de compra de servicios de salud optimizados para la atención del asegurado al SIS."]
[null,null,"18AO111142937","Implementar los acuerdos de convenios y/o contratos suscritos con las ipress","INFORME",{"$f":"+VLOOKUP(C154,'B-3 FISICO'!C150:S841,17,0)","v":3},10696.266881587089,14467.09543299148,10784.276788734704,22593.741986535246,{"$f":"+VLOOKUP(C154,'B-3 FISICO'!$C$10:$F$701,4,0)","v":58541.381089848517}]
[null,"06.06 - UDR LAMBAYEQUE"]
["OEI.01 Incrementar la cobertura de la población objetivo del SIS"]
[null,"AEI.01.01 Afiliación al SIS incrementada en la población objetivo."]
[null,null,"18AO111142938","Realizar acciones de afiliación","INFORME",{"$f":"+VLOOKUP(C158,'B-3 FISICO'!C154:S845,17,0)","v":10},1196.969485983813,2871.2793851577903,3773.4549814665929,3639.4998510955079,{"$f":"+VLOOKUP(C158,'B-3 FISICO'!$C$10:$F$701,4,0)","v":11481.203703703704}]
[null,"AEI.01.02 Mecanismos de protección de derechos optimizados para los asegurados al SIS."]
[null,null,"18AO111142939","Realizar acciones para mitigar riesgos de vulneración de derechos de los asegurados","INFORME",{"$f":"+VLOOKUP(C160,'B-3 FISICO'!C156:S847,17,0)","v":14},1196.969485983813,2871.2793851577903,3773.4549814665929,3639.4998510955079,{"$f":"+VLOOKUP(C160,'B-3 FISICO'!$C$10:$F$701,4,0)","v":11481.203703703704}]
["OEI.02 Reducir los riesgos técnicos y financieros de la prestación de planes y productos para el asegurado al SIS."]
[null,"AEI.02.01 Control técnico y financiero de las prestaciones médicas valorizadas incrementado a los establecimientos de salud."]
[null,null,"18AO111142940","Realzar el control técnico a las prestaciones","INFORME",{"$f":"+VLOOKUP(C163,'B-3 FISICO'!C159:S850,17,0)","v":49},2717.9703124832499,6519.8421673128341,8568.421112831049,8264.2478888543465,{"$f":"+VLOOKUP(C163,'B-3 FISICO'!$C$10:$F$701,4,0)","v":26070.481481481482}]
["OEI.03 Mejorar la gestión del financiamiento de las prestaciones aprobadas para la atención del asegurado al SIS."]
[null,"AEI.03.02 Recursos del SIS transferidos orientados al financiamiento de reposición de medicamentos e insumos."]
[null,null,"18AO111142941 ","Realizar la supervisión financiera alas UE","INFORME",{"$f":"+VLOOKUP(C166,'B-3 FISICO'!C162:S853,17,0)","v":29},1042.5470332850939,2500.8522270461485,3286.6370799163847,3169.9636597523718,{"$f":"+VLOOKUP(C166,'B-3 FISICO'!$C$10:$F$701,4,0)","v":10000}]
[null,"AEI.03.03 Mecanismos de compra de servicios de salud optimizados para la atención del asegurado al SIS."]
[null,null,"18AO111142942","Implementar los acuerdos de convenios y/o contratos suscritos con las ipress","INFORME",{"$f":"+VLOOKUP(C168,'B-3 FISICO'!C164:S855,17,0)","v":7},10054.543682264029,24118.746835325437,31697.021844319377,30571.798749202266,{"$f":"+VLOOKUP(C168,'B-3 FISICO'!$C$10:$F$701,4,0)","v":96442.111111111109}]
[null,"06.07 - UDR LA LIBERTAD"]
["OEI.01 Incrementar la cobertura de la población objetivo del SIS"]
[null,"AEI.01.01 Afiliación al SIS incrementada en la población objetivo."]
[null,null,"18AO111142944 ","Realizar acciones de afiliación","INFORME",{"$f":"+VLOOKUP(C172,'B-3 FISICO'!C168:S859,17,0)","v":10},1231.9269011219621,2154.0506414704705,2827.2219425862518,4994.7949666213271,{"$f":"+VLOOKUP(C172,'B-3 FISICO'!$C$10:$F$701,4,0)","v":11207.994451800012}]
[null,"AEI.01.02 Mecanismos de protección de derechos optimizados para los asegurados al SIS."]
[null,null,"18AO111142945","Realizar acciones para mitigar riesgos de vulneración de derechos de los asegurados","INFORME",{"$f":"+VLOOKUP(C174,'B-3 FISICO'!C170:S861,17,0)","v":24},1231.9269011219621,2154.0506414704705,2827.2219425862518,4994.7949666213271,{"$f":"+VLOOKUP(C174,'B-3 FISICO'!$C$10:$F$701,4,0)","v":11207.994451800012}]
["OEI.02 Reducir los riesgos técnicos y financieros de la prestación de planes y productos para el asegurado al SIS."]
[null,"AEI.02.01 Control técnico y financiero de las prestaciones médicas valorizadas incrementado a los establecimientos de salud."]
[null,null,"18AO111142946","Realzar el control técnico a las prestaciones","INFORME",{"$f":"+VLOOKUP(C177,'B-3 FISICO'!C173:S864,17,0)","v":49},3839.4983476083808,6713.4453116158211,8811.4919537806254,15567.081945787178,{"$f":"+VLOOKUP(C177,'B-3 FISICO'!$C$10:$F$701,4,0)","v":34931.517558792009}]
["OEI.03 Mejorar la gestión del financiamiento de las prestaciones aprobadas para la atención del asegurado al SIS."]
[null,"AEI.03.02 Recursos del SIS transferidos orientados al financiamiento de reposición de medicamentos e insumos."]
[null,null,"18AO111142947","Realizar la supervisión financiera alas UE","INFORME",{"$f":"+VLOOKUP(C180,'B-3 FISICO'!C176:S867,17,0)","v":30},2747.8754259289308,4804.719191140678,6306.2619158688949,11141.143467061494,{"$f":"+VLOOKUP(C180,'B-3 FISICO'!$C$10:$F$701,4,0)","v":25000}]
[null,"AEI.03.03 Mecanismos de compra de servicios de salud optimizados para la atención del asegurado al SIS."]
[null,null,"18AO111142948","Implementar los acuerdos de convenios y/o contratos suscritos con las ipress","INFORME",{"$f":"+VLOOKUP(C182,'B-3 FISICO'!C178:S869,17,0)","v":7},12625.772424218765,22076.434214302557,28975.632245177978,51190.654653908656,{"$f":"+VLOOKUP(C182,'B-3 FISICO'!$C$10:$F$701,4,0)","v":114868.49353760797}]
[null,"06.08 - UDR PIURA I"]
["OEI.01 Incrementar la cobertura de la población objetivo del SIS"]
[null,"AEI.01.01 Afiliación al SIS incrementada en la población objetivo."]
[null,null,"18AO111142949","Realizar acciones de afiliación","INFORME",{"$f":"+VLOOKUP(C186,'B-3 FISICO'!C182:S873,17,0)","v":10},797.3786484430417,1878.8851653162185,4342.9792736304717,3392.0230070308689,{"$f":"+VLOOKUP(C186,'B-3 FISICO'!$C$10:$F$701,4,0)","v":10411.2660944206}]
[null,"AEI.01.02 Mecanismos de protección de derechos optimizados para los asegurados al SIS."]
[null,null,"18AO111142950","Realizar acciones para mitigar riesgos de vulneración de derechos de los asegurados","INFORME",{"$f":"+VLOOKUP(C188,'B-3 FISICO'!C184:S875,17,0)","v":14},797.3786484430417,1878.8851653162185,4342.9792736304717,3392.0230070308689,{"$f":"+VLOOKUP(C188,'B-3 FISICO'!$C$10:$F$701,4,0)","v":10411.2660944206}]
["OEI.02 Reducir los riesgos técnicos y financieros de la prestación de planes y productos para el asegurado al SIS."]
[null,"AEI.02.01 Control técnico y financiero de las prestaciones médicas valorizadas incrementado a los establecimientos de salud."]
[null,null,"18AO111142951","Realzar el control técnico a las prestaciones","INFORME",{"$f":"+VLOOKUP(C191,'B-3 FISICO'!C187:S878,17,0)","v":48},2602.9669260473106,6133.4423146500894,14177.243686976653,11072.937201081315,{"$f":"+VLOOKUP(C191,'B-3 FISICO'!$C$10:$F$701,4,0)","v":33986.590128755364}]
["OEI.03 Mejorar la gestión del financiamiento de las prestaciones aprobadas para la atención del asegurado al SIS."]
[null,"AEI.03.02 Recursos del SIS transferidos orientados al financiamiento de reposición de medicamentos e insumos."]
[null,null,"18AO111142952","Realizar la supervisión financiera alas UE","INFORME",{"$f":"+VLOOKUP(C194,'B-3 FISICO'!C190:S881,17,0)","v":29},0,0,0,0,{"$f":"+VLOOKUP(C194,'B-3 FISICO'!$C$10:$F$701,4,0)","v":0}]
[null,"AEI.03.03 Mecanismos de compra de servicios de salud optimizados para la atención del asegurado al SIS."]
[null,null,"18AO111142953","Implementar los acuerdos de convenios y/o contratos suscritos con las ipress","INFORME",{"$f":"+VLOOKUP(C196,'B-3 FISICO'!C192:S883,17,0)","v":7},5087.2757770666058,11987.287354717471,27708.207765762403,21641.10678485694,{"$f":"+VLOOKUP(C196,'B-3 FISICO'!$C$10:$F$701,4,0)","v":66423.877682403428}]
[null,"06.09 - UDR PIURA II"]
["OEI.01 Incrementar la cobertura de la población objetivo del SIS"]
[null,"AEI.01.01 Afiliación al SIS incrementada en la población objetivo."]
[null,null,"18AO111142954","Realizar acciones de afiliación","INFORME",{"$f":"+VLOOKUP(C200,'B-3 FISICO'!C196:S887,17,0)","v":10},0,0,0,0,{"$f":"+VLOOKUP(C200,'B-3 FISICO'!$C$10:$F$701,4,0)","v":0}]
[null,"AEI.01.02 Mecanismos de protección de derechos optimizados para los asegurados al SIS."]
[null,null,"18AO111142955","Realizar acciones para mitigar riesgos de vulneración de derechos de los asegurados","INFORME",{"$f":"+VLOOKUP(C202,'B-3 FISICO'!C198:S889,17,0)","v":14},1672.8747269256919,2158.9806158539304,2184.496109404769,2952.0911707664281,{"$f":"+VLOOKUP(C202,'B-3 FISICO'!$C$10:$F$701,4,0)","v":8968.442622950819}]
["OEI.02 Reducir los riesgos técnicos y financieros de la prestación de planes y productos para el asegurado al SIS."]
[null,"AEI.02.01 Control técnico y financiero de las prestaciones médicas valorizadas incrementado a los establecimientos de salud."]
[null,null,"18AO111142956","Realzar el control técnico a las prestaciones","INFORME",{"$f":"+VLOOKUP(C205,'B-3 FISICO'!C201:S892,17,0)","v":47},3170.9931761128596,4092.4240709967116,4140.7895909203407,5595.7931619700885,{"$f":"+VLOOKUP(C205,'B-3 FISICO'!$C$10:$F$701,4,0)","v":17000}]
["OEI.03 Mejorar la gestión del financiamiento de las prestaciones aprobadas para la atención del asegurado al SIS."]
[null,"AEI.03.02 Recursos del SIS transferidos orientados al financiamiento de reposición de medicamentos e insumos."]
[null,null,"18AO111142957","Realizar la supervisión financiera alas UE","INFORME",{"$f":"+VLOOKUP(C208,'B-3 FISICO'!C204:S895,17,0)","v":29},2797.9351553936995,3610.9624155853339,3653.6378743414771,4937.46455467949,{"$f":"+VLOOKUP(C208,'B-3 FISICO'!$C$10:$F$701,4,0)","v":15000}]
[null,"AEI.03.03 Mecanismos de compra de servicios de salud optimizados para la atención del asegurado al SIS."]
[null,null,"18AO111142958","Implementar los acuerdos de convenios y/o contratos suscritos con las ipress","INFORME",{"$f":"+VLOOKUP(C210,'B-3 FISICO'!C206:S897,17,0)","v":7},18736.196941567749,24180.582897564022,24466.356425333412,33063.421112583994,{"$f":"+VLOOKUP(C210,'B-3 FISICO'!$C$10:$F$701,4,0)","v":100446.55737704918}]
[null,"06.10 - UDR TUMBES"]
["OEI.01 Incrementar la cobertura de la población objetivo del SIS"]
[null,"AEI.01.01 Afiliación al SIS incrementada en la población objetivo."]
[null,null,"18AO111142959 ","Realizar acciones de afiliación","INFORME",{"$f":"+VLOOKUP(C214,'B-3 FISICO'!C210:S901,17,0)","v":10},0,0,0,0,{"$f":"+VLOOKUP(C214,'B-3 FISICO'!$C$10:$F$701,4,0)","v":0}]
[null,"AEI.01.02 Mecanismos de protección de derechos optimizados para los asegurados al SIS."]
[null,null,"18AO111142960","Realizar acciones para mitigar riesgos de vulneración de derechos de los asegurados","INFORME",{"$f":"+VLOOKUP(C216,'B-3 FISICO'!C212:S903,17,0)","v":15},0,0,0,0,{"$f":"+VLOOKUP(C216,'B-3 FISICO'!$C$10:$F$701,4,0)","v":0}]
["OEI.02 Reducir los riesgos técnicos y financieros de la prestación de planes y productos para el asegurado al SIS."]
[null,"AEI.02.01 Control técnico y financiero de las prestaciones médicas valorizadas incrementado a los establecimientos de salud."]
[null,null,"18AO111142961","Realzar el control técnico a las prestaciones","INFORME",{"$f":"+VLOOKUP(C219,'B-3 FISICO'!C215:S906,17,0)","v":44},2230.7971152745449,2438.947609417331,2073.1340863128171,3257.1211889953065,{"$f":"+VLOOKUP(C219,'B-3 FISICO'!$C$10:$F$701,4,0)","v":10000}]
["OEI.03 Mejorar la gestión del financiamiento de las prestaciones aprobadas para la atención del asegurado al SIS."]
[null,"AEI.03.02 Recursos del SIS transferidos orientados al financiamiento de reposición de medicamentos e insumos."]
[null,null,"18AO111142962","Realizar la supervisión financiera alas UE","INFORME",{"$f":"+VLOOKUP(C222,'B-3 FISICO'!C218:S909,17,0)","v":28},2227.4509196016329,2435.2891880032053,2070.0243851833479,3252.2355072118135,{"$f":"+VLOOKUP(C222,'B-3 FISICO'!$C$10:$F$701,4,0)","v":9985}]
[null,"AEI.03.03 Mecanismos de compra de servicios de salud optimizados para la atención del asegurado al SIS."]
[null,null,"18AO111142963 ","Implementar los acuerdos de convenios y/o contratos suscritos con las ipress","INFORME",{"$f":"+VLOOKUP(C224,'B-3 FISICO'!C220:S911,17,0)","v":7},18926.751965123822,20692.763202579463,17589.091528503835,27634.39330379288,{"$f":"+VLOOKUP(C224,'B-3 FISICO'!$C$10:$F$701,4,0)","v":84843}]
[null,"07.01 - GERENCIA MACRO REGIONAL SUR"]
["OEI.01 Incrementar la cobertura de la población objetivo del SIS"]
[null,"AEI.01.01 Afiliación al SIS incrementada en la población objetivo."]
[null,null,"18AO111142964","Control y supervision a las udr en las acciones de afiliacion","INFORME",{"$f":"+VLOOKUP(C228,'B-3 FISICO'!C224:S915,17,0)","v":17},2339.9056868800185,10057.663033098026,12974.184952351199,10430.461164850845,{"$f":"+VLOOKUP(C228,'B-3 FISICO'!$C$10:$F$701,4,0)","v":35802.214837180087}]
["OEI.02 Reducir los riesgos técnicos y financieros de la prestación de planes y productos para el asegurado al SIS."]
[null,"AEI.02.01 Control técnico y financiero de las prestaciones médicas valorizadas incrementado a los establecimientos de salud."]
[null,null,"18AO111142965","Supervisión  y asistencia técnica a las audrs en las cciones de control técnico a prestaciones","INFORME",{"$f":"+VLOOKUP(C231,'B-3 FISICO'!C227:S918,17,0)","v":17},4028.536850149465,17315.939861339819,22337.217467466904,17957.773854843897,{"$f":"+VLOOKUP(C231,'B-3 FISICO'!$C$10:$F$701,4,0)","v":61639.468033800076}]
["OEI.03 Mejorar la gestión del financiamiento de las prestaciones aprobadas para la atención del asegurado al SIS."]
[null,"AEI.03.02 Recursos del SIS transferidos orientados al financiamiento de reposición de medicamentos e insumos."]
[null,null,"18AO111142966","Supervisión y asistencia técnica a las udrs en el monitoreo, seguimiento y control de los recursos del sis","INFORME",{"$f":"+VLOOKUP(C234,'B-3 FISICO'!C230:S921,17,0)","v":16},1738.9016395765634,7474.3554138212303,9641.7695859764426,7751.4004614788701,{"$f":"+VLOOKUP(C234,'B-3 FISICO'!$C$10:$F$701,4,0)","v":26606.427100853107}]
["OEI.04 Mejorar la eficacia y eficiencia de los procesos de gestión instituciona"]
[null,"AEI.04.01 Fortalecer la organización orientándola al desarrollo de las funciones de un asegurador público eficiente, eficaz y con enfoque de procesos."]
[null,null,"18AO110920906","Realizar acciones de coordinación en gestión.","INFORME",{"$f":"+VLOOKUP(C237,'B-3 FISICO'!C233:S924,17,0)","v":54},1772.6558233939531,7619.441691740928,9828.9279942054527,7901.8645188263963,{"$f":"+VLOOKUP(C237,'B-3 FISICO'!$C$10:$F$701,4,0)","v":27122.89002816673}]
[null,"07.02 - UDR AREQUIPA"]
["OEI.01 Incrementar la cobertura de la población objetivo del SIS"]
[null,"AEI.01.01 Afiliación al SIS incrementada en la población objetivo."]
[null,null,"18AO111142967","Realizar acciones de afiliación","INFORME",{"$f":"+VLOOKUP(C241,'B-3 FISICO'!C237:S928,17,0)","v":7},1499.3624603707722,1870.3586578531667,1670.9628508775002,4691.8293998825184,{"$f":"+VLOOKUP(C241,'B-3 FISICO'!$C$10:$F$701,4,0)","v":9732.5133689839568}]
[null,"AEI.01.02 Mecanismos de protección de derechos optimizados para los asegurados al SIS."]
[null,null,"18AO111142968","Realizar acciones para mitigar riesgos de vulneración de derechos de los asegurados","INFORME",{"$f":"+VLOOKUP(C243,'B-3 FISICO'!C239:S930,17,0)","v":14},1499.3624603707722,1870.3586578531667,1670.9628508775002,4691.8293998825184,{"$f":"+VLOOKUP(C243,'B-3 FISICO'!$C$10:$F$701,4,0)","v":9732.5133689839568}]
["OEI.02 Reducir los riesgos técnicos y financieros de la prestación de planes y productos para el asegurado al SIS."]
[null,"AEI.02.01 Control técnico y financiero de las prestaciones médicas valorizadas incrementado a los establecimientos de salud."]
[null,null,"18AO111142969","Realzar el control técnico a las prestaciones","INFORME",{"$f":"+VLOOKUP(C246,'B-3 FISICO'!C242:S933,17,0)","v":47},4316.7449131858475,5384.8628570600667,4810.7916379767594,13508.028399263958,{"$f":"+VLOOKUP(C246,'B-3 FISICO'!$C$10:$F$701,4,0)","v":28020.427807486631}]
["OEI.03 Mejorar la gestión del financiamiento de las prestaciones aprobadas para la atención del asegurado al SIS."]
[null,"AEI.03.02 Recursos del SIS transferidos orientados al financiamiento de reposición de medicamentos e insumos."]
[null,null,"18AO111142970","Realizar la supervisión financiera alas UE","INFORME",{"$f":"+VLOOKUP(C249,'B-3 FISICO'!C245:S936,17,0)","v":32},3098.1535162987198,3864.7481217681025,3452.7337911144468,9694.7923783053611,{"$f":"+VLOOKUP(C249,'B-3 FISICO'!$C$10:$F$701,4,0)","v":20110.427807486631}]
[null,"AEI.03.03 Mecanismos de compra de servicios de salud optimizados para la atención del asegurado al SIS."]
[null,null,"18AO111142971","Implementar los acuerdos de convenios y/o contratos suscritos con las ipress","INFORME",{"$f":"+VLOOKUP(C251,'B-3 FISICO'!C247:S938,17,0)","v":6},8521.3766497738889,10629.871705465499,9496.6388691537941,26665.230422665649,{"$f":"+VLOOKUP(C251,'B-3 FISICO'!$C$10:$F$701,4,0)","v":55313.117647058825}]
[null,"07.03 - UDR CUSCO"]
["OEI.01 Incrementar la cobertura de la población objetivo del SIS"]
[null,"AEI.01.01 Afiliación al SIS incrementada en la población objetivo."]
[null,null,"18AO111142972","Realizar acciones de afiliación","INFORME",{"$f":"+VLOOKUP(C255,'B-3 FISICO'!C251:S942,17,0)","v":7},1484.082601755988,2766.7237506945621,2273.0178517182562,5253.7196554803177,{"$f":"+VLOOKUP(C255,'B-3 FISICO'!$C$10:$F$701,4,0)","v":11777.543859649122}]
[null,"AEI.01.02 Mecanismos de protección de derechos optimizados para los asegurados al SIS."]
[null,null,"18AO111142973","Realizar acciones para mitigar riesgos de vulneración de derechos de los asegurados","INFORME",{"$f":"+VLOOKUP(C257,'B-3 FISICO'!C253:S944,17,0)","v":14},742.04130087799399,1383.3618753472811,1136.5089258591281,2626.8598277401588,{"$f":"+VLOOKUP(C257,'B-3 FISICO'!$C$10:$F$701,4,0)","v":5888.7719298245611}]
["OEI.02 Reducir los riesgos técnicos y financieros de la prestación de planes y productos para el asegurado al SIS."]
[null,"AEI.02.01 Control técnico y financiero de las prestaciones médicas valorizadas incrementado a los establecimientos de salud."]
[null,null,"18AO111142974","Realzar el control técnico a las prestaciones","INFORME",{"$f":"+VLOOKUP(C260,'B-3 FISICO'!C256:S947,17,0)","v":47},3633.2522718821851,6773.3462685887598,5564.6816855157558,12861.877668750145,{"$f":"+VLOOKUP(C260,'B-3 FISICO'!$C$10:$F$701,4,0)","v":28833.15789473684}]
["OEI.03 Mejorar la gestión del financiamiento de las prestaciones aprobadas para la atención del asegurado al SIS."]
[null,"AEI.03.02 Recursos del SIS transferidos orientados al financiamiento de reposición de medicamentos e insumos."]
[null,null,"18AO111142975","Realizar la supervisión financiera alas UE","INFORME",{"$f":"+VLOOKUP(C263,'B-3 FISICO'!C259:S950,17,0)","v":32},2550.4326044119766,4754.6830970346518,3906.237316287788,9028.6469822655854,{"$f":"+VLOOKUP(C263,'B-3 FISICO'!$C$10:$F$701,4,0)","v":20240}]
[null,"AEI.03.03 Mecanismos de compra de servicios de salud optimizados para la atención del asegurado al SIS."]
[null,null,"18AO111142976","Implementar los acuerdos de convenios y/o contratos suscritos con las ipress","INFORME",{"$f":"+VLOOKUP(C265,'B-3 FISICO'!C261:S952,17,0)","v":6},17808.991221071854,33200.685008334745,27276.214220619073,63044.635865763812,{"$f":"+VLOOKUP(C265,'B-3 FISICO'!$C$10:$F$701,4,0)","v":141330.52631578947}]
[null,"07.04 - UDR MADRE DE DIOS"]
["OEI.01 Incrementar la cobertura de la población objetivo del SIS"]
[null,"AEI.01.01 Afiliación al SIS incrementada en la población objetivo."]
[null,null,"18AO111142977","Realizar acciones de afiliación","INFORME",{"$f":"+VLOOKUP(C269,'B-3 FISICO'!C265:S956,17,0)","v":5},0,0,0,0,{"$f":"+VLOOKUP(C269,'B-3 FISICO'!$C$10:$F$701,4,0)","v":0}]
[null,"AEI.01.02 Mecanismos de protección de derechos optimizados para los asegurados al SIS."]
[null,null,"18AO111142978","Realizar acciones para mitigar riesgos de vulneración de derechos de los asegurados","INFORME",{"$f":"+VLOOKUP(C271,'B-3 FISICO'!C267:S958,17,0)","v":11},0,0,0,0,{"$f":"+VLOOKUP(C271,'B-3 FISICO'!$C$10:$F$701,4,0)","v":0}]
["OEI.02 Reducir los riesgos técnicos y financieros de la prestación de planes y productos para el asegurado al SIS."]
[null,"AEI.02.01 Control técnico y financiero de las prestaciones médicas valorizadas incrementado a los establecimientos de salud."]
[null,null,"18AO111142979","Realzar el control técnico a las prestaciones","INFORME",{"$f":"+VLOOKUP(C274,'B-3 FISICO'!C270:S961,17,0)","v":40},1831.3187411521287,1187.2481759773493,2435.7138190133942,4545.7192638571269,{"$f":"+VLOOKUP(C274,'B-3 FISICO'!$C$10:$F$701,4,0)","v":10000}]
["OEI.03 Mejorar la gestión del financiamiento de las prestaciones aprobadas para la atención del asegurado al SIS."]
[null,"AEI.03.02 Recursos del SIS transferidos orientados al financiamiento de reposición de medicamentos e insumos."]
[null,null,"18AO111142980","Realizar la supervisión financiera alas UE","INFORME",{"$f":"+VLOOKUP(C277,'B-3 FISICO'!C273:S964,17,0)","v":32},1387.7733420450834,899.69666775563542,1845.7839320483502,3444.7460581509308,{"$f":"+VLOOKUP(C277,'B-3 FISICO'!$C$10:$F$701,4,0)","v":7578}]
[null,"AEI.03.03 Mecanismos de compra de servicios de salud optimizados para la atención del asegurado al SIS."]
[null,null,"18AO111142981","Implementar los acuerdos de convenios y/o contratos suscritos con las ipress","INFORME",{"$f":"+VLOOKUP(C279,'B-3 FISICO'!C275:S966,17,0)","v":6},13597.907916802787,8815.5551562670153,18085.662248938253,33752.874677991938,{"$f":"+VLOOKUP(C279,'B-3 FISICO'!$C$10:$F$701,4,0)","v":74252}]
[null,"07.05 - UDR MOQUEGUA"]
["OEI.01 Incrementar la cobertura de la población objetivo del SIS"]
[null,"AEI.01.01 Afiliación al SIS incrementada en la población objetivo."]
[null,null,"18AO111142982","Realizar acciones de afiliación","INFORME",{"$f":"+VLOOKUP(C283,'B-3 FISICO'!C279:S970,17,0)","v":6},0,0,0,0,{"$f":"+VLOOKUP(C283,'B-3 FISICO'!$C$10:$F$701,4,0)","v":0}]
[null,"AEI.01.02 Mecanismos de protección de derechos optimizados para los asegurados al SIS."]
[null,null,"18AO111142983","Realizar acciones para mitigar riesgos de vulneración de derechos de los asegurados","INFORME",{"$f":"+VLOOKUP(C285,'B-3 FISICO'!C281:S972,17,0)","v":9},0,0,0,0,{"$f":"+VLOOKUP(C285,'B-3 FISICO'!$C$10:$F$701,4,0)","v":0}]
["OEI.02 Reducir los riesgos técnicos y financieros de la prestación de planes y productos para el asegurado al SIS."]
[null,"AEI.02.01 Control técnico y financiero de las prestaciones médicas valorizadas incrementado a los establecimientos de salud."]
[null,null,"18AO111142984","Realzar el control técnico a las prestaciones","INFORME",{"$f":"+VLOOKUP(C288,'B-3 FISICO'!C284:S975,17,0)","v":47},2240.6441264349742,2066.3877968234001,1797.5592137128481,4455.4088630287779,{"$f":"+VLOOKUP(C288,'B-3 FISICO'!$C$10:$F$701,4,0)","v":10560}]
["OEI.03 Mejorar la gestión del financiamiento de las prestaciones aprobadas para la atención del asegurado al SIS."]
[null,"AEI.03.02 Recursos del SIS transferidos orientados al financiamiento de reposición de medicamentos e insumos."]
[null,null,"18AO111142985","Realizar la supervisión financiera alas UE","INFORME",{"$f":"+VLOOKUP(C291,'B-3 FISICO'!C287:S978,17,0)","v":32},2121.8220894270589,1956.8066257797348,1702.2341038947425,4219.1371808984641,{"$f":"+VLOOKUP(C291,'B-3 FISICO'!$C$10:$F$701,4,0)","v":10000}]
[null,"AEI.03.03 Mecanismos de compra de servicios de salud optimizados para la atención del asegurado al SIS."]
[null,null,"18AO111142986","Implementar los acuerdos de convenios y/o contratos suscritos con las ipress","INFORME",{"$f":"+VLOOKUP(C293,'B-3 FISICO'!C289:S980,17,0)","v":6},15876.533784137968,14641.805577396864,12736.966682392409,31569.693956072755,{"$f":"+VLOOKUP(C293,'B-3 FISICO'!$C$10:$F$701,4,0)","v":74825}]
[null,"07.06 - UDR TACNA"]
["OEI.01 Incrementar la cobertura de la población objetivo del SIS"]
[null,"AEI.01.01 Afiliación al SIS incrementada en la población objetivo."]
[null,null,"18AO111142987 ","Realizar acciones de afiliación","INFORME",{"$f":"+VLOOKUP(C297,'B-3 FISICO'!C293:S984,17,0)","v":6},0,0,0,0,{"$f":"+VLOOKUP(C297,'B-3 FISICO'!$C$10:$F$701,4,0)","v":0}]
[null,"AEI.01.02 Mecanismos de protección de derechos optimizados para los asegurados al SIS."]
[null,null,"18AO111142988","Realizar acciones para mitigar riesgos de vulneración de derechos de los asegurados","INFORME",{"$f":"+VLOOKUP(C299,'B-3 FISICO'!C295:S986,17,0)","v":11},0,0,0,0,{"$f":"+VLOOKUP(C299,'B-3 FISICO'!$C$10:$F$701,4,0)","v":0}]
["OEI.02 Reducir los riesgos técnicos y financieros de la prestación de planes y productos para el asegurado al SIS."]
[null,"AEI.02.01 Control técnico y financiero de las prestaciones médicas valorizadas incrementado a los establecimientos de salud."]
[null,null,"18AO111142989","Realzar el control técnico a las prestaciones","INFORME",{"$f":"+VLOOKUP(C302,'B-3 FISICO'!C298:S989,17,0)","v":47},1475.7857006978445,976.37981958169382,1172.0652469488082,1735.7692327716538,{"$f":"+VLOOKUP(C302,'B-3 FISICO'!$C$10:$F$701,4,0)","v":5360}]
["OEI.03 Mejorar la gestión del financiamiento de las prestaciones aprobadas para la atención del asegurado al SIS."]
[null,"AEI.03.02 Recursos del SIS transferidos orientados al financiamiento de reposición de medicamentos e insumos."]
[null,null,"18AO111142990 ","Realizar la supervisión financiera alas UE","INFORME",{"$f":"+VLOOKUP(C305,'B-3 FISICO'!C301:S992,17,0)","v":32},1266.5325043302396,837.9379048648866,1005.8768910381563,1489.6526997667179,{"$f":"+VLOOKUP(C305,'B-3 FISICO'!$C$10:$F$701,4,0)","v":4600}]
[null,"AEI.03.03 Mecanismos de compra de servicios de salud optimizados para la atención del asegurado al SIS."]
[null,null,"18AO111142991","Implementar los acuerdos de convenios y/o contratos suscritos con las ipress","INFORME",{"$f":"+VLOOKUP(C307,'B-3 FISICO'!C303:S994,17,0)","v":6},24757.681794971915,16379.682275553419,19662.487862013037,29119.148067461629,{"$f":"+VLOOKUP(C307,'B-3 FISICO'!$C$10:$F$701,4,0)","v":89919}]
[null,"07.07 - UDR PUNO"]
["OEI.01 Incrementar la cobertura de la población objetivo del SIS"]
[null,"AEI.01.01 Afiliación al SIS incrementada en la población objetivo."]
[null,null,"18AO111142992","Realizar acciones de afiliación","INFORME",{"$f":"+VLOOKUP(C311,'B-3 FISICO'!C307:S998,17,0)","v":7},0,0,0,0,{"$f":"+VLOOKUP(C311,'B-3 FISICO'!$C$10:$F$701,4,0)","v":0}]
[null,"AEI.01.02 Mecanismos de protección de derechos optimizados para los asegurados al SIS."]
[null,null,"18AO111142993","Realizar acciones para mitigar riesgos de vulneración de derechos de los asegurados","INFORME",{"$f":"+VLOOKUP(C313,'B-3 FISICO'!C309:S1000,17,0)","v":14},1892.3350223042285,1373.8032393114036,2611.7655233622345,5013.7404198738859,{"$f":"+VLOOKUP(C313,'B-3 FISICO'!$C$10:$F$701,4,0)","v":10891.644204851753}]
["OEI.02 Reducir los riesgos técnicos y financieros de la prestación de planes y productos para el asegurado al SIS."]
[null,"AEI.02.01 Control técnico y financiero de las prestaciones médicas valorizadas incrementado a los establecimientos de salud."]
[null,null,"18AO111142994","Realzar el control técnico a las prestaciones","INFORME",{"$f":"+VLOOKUP(C316,'B-3 FISICO'!C312:S1003,17,0)","v":47},3874.4445010962118,2812.7812165400496,5347.4360781114565,10265.338204252281,{"$f":"+VLOOKUP(C316,'B-3 FISICO'!$C$10:$F$701,4,0)","v":22300}]
["OEI.03 Mejorar la gestión del financiamiento de las prestaciones aprobadas para la atención del asegurado al SIS."]
[null,"AEI.03.02 Recursos del SIS transferidos orientados al financiamiento de reposición de medicamentos e insumos."]
[null,null,"18AO111142995","Realizar la supervisión financiera alas UE","INFORME",{"$f":"+VLOOKUP(C319,'B-3 FISICO'!C315:S1006,17,0)","v":32},0,0,0,0,{"$f":"+VLOOKUP(C319,'B-3 FISICO'!$C$10:$F$701,4,0)","v":0}]
[null,"AEI.03.03 Mecanismos de compra de servicios de salud optimizados para la atención del asegurado al SIS."]
[null,null,"18AO111142996","Implementar los acuerdos de convenios y/o contratos suscritos con las ipress","INFORME",{"$f":"+VLOOKUP(C321,'B-3 FISICO'!C317:S1008,17,0)","v":6},11271.220476599561,8182.7155441485475,15556.32839852631,29863.091375873835,{"$f":"+VLOOKUP(C321,'B-3 FISICO'!$C$10:$F$701,4,0)","v":64873.355795148251}]
[null,"07.08 - UDR JULIACA"]
["OEI.01 Incrementar la cobertura de la población objetivo del SIS"]
[null,"AEI.01.01 Afiliación al SIS incrementada en la población objetivo."]
[null,null,"18AO111142997","Realizar acciones de afiliación","INFORME",{"$f":"+VLOOKUP(C325,'B-3 FISICO'!C321:S1012,17,0)","v":7},0,0,0,0,{"$f":"+VLOOKUP(C325,'B-3 FISICO'!$C$10:$F$701,4,0)","v":0}]
[null,"AEI.01.02 Mecanismos de protección de derechos optimizados para los asegurados al SIS."]
[null,null,"18AO111142998","Realizar acciones para mitigar riesgos de vulneración de derechos de los asegurados","INFORME",{"$f":"+VLOOKUP(C327,'B-3 FISICO'!C323:S1014,17,0)","v":14},0,0,0,0,{"$f":"+VLOOKUP(C327,'B-3 FISICO'!$C$10:$F$701,4,0)","v":0}]
["OEI.02 Reducir los riesgos técnicos y financieros de la prestación de planes y productos para el asegurado al SIS."]
[null,"AEI.02.01 Control técnico y financiero de las prestaciones médicas valorizadas incrementado a los establecimientos de salud."]
[null,null,"18AO111142999","Realzar el control técnico a las prestaciones","INFORME",{"$f":"+VLOOKUP(C330,'B-3 FISICO'!C326:S1017,17,0)","v":47},1704.9962488602305,4079.5729753655919,4002.3405342392489,7656.0410612070573,{"$f":"+VLOOKUP(C330,'B-3 FISICO'!$C$10:$F$701,4,0)","v":17442.950819672129}]
["OEI.03 Mejorar la gestión del financiamiento de las prestaciones aprobadas para la atención del asegurado al SIS."]
[null,"AEI.03.02 Recursos del SIS transferidos orientados al financiamiento de reposición de medicamentos e insumos."]
[null,null,"18AO111143000","Realizar la supervisión financiera alas UE","INFORME",{"$f":"+VLOOKUP(C333,'B-3 FISICO'!C329:S1020,17,0)","v":32},1563.952123914574,3742.0943440506931,3671.2508800750998,7022.7026519596338,{"$f":"+VLOOKUP(C333,'B-3 FISICO'!$C$10:$F$701,4,0)","v":16000}]
[null,"AEI.03.03 Mecanismos de compra de servicios de salud optimizados para la atención del asegurado al SIS."]
[null,null,"18AO111143001","Implementar los acuerdos de convenios y/o contratos suscritos con las ipress","INFORME",{"$f":"+VLOOKUP(C335,'B-3 FISICO'!C331:S1022,17,0)","v":6},5061.0516272251953,12109.662680583719,11880.408585685651,22725.926286833306,{"$f":"+VLOOKUP(C335,'B-3 FISICO'!$C$10:$F$701,4,0)","v":51777.049180327871}]
[null,"08.01 - GERENCIA MACRO REGIONAL CENTRO"]
["OEI.01 Incrementar la cobertura de la población objetivo del SIS"]
[null,"AEI.01.01 Afiliación al SIS incrementada en la población objetivo."]
[null,null,"18AO111143002","Control y supervision a las udr en las acciones de afiliacion","INFORME",{"$f":"+VLOOKUP(C339,'B-3 FISICO'!C335:S1026,17,0)","v":14},917.91457314569413,5172.0659412445411,3544.9614256971145,6749.6534087498612,{"$f":"+VLOOKUP(C339,'B-3 FISICO'!$C$10:$F$701,4,0)","v":16384.595348837211}]
["OEI.02 Reducir los riesgos técnicos y financieros de la prestación de planes y productos para el asegurado al SIS."]
[null,"AEI.02.01 Control técnico y financiero de las prestaciones médicas valorizadas incrementado a los establecimientos de salud."]
[null,null,"18AO111143003","Supervisión  y asistencia técnica a las audrs en las cciones de control técnico a prestaciones","INFORME",{"$f":"+VLOOKUP(C342,'B-3 FISICO'!C338:S1029,17,0)","v":16},927.86009299525927,5228.1047993112843,3583.3707562129043,6822.7852817131106,{"$f":"+VLOOKUP(C342,'B-3 FISICO'!$C$10:$F$701,4,0)","v":16562.120930232559}]
["OEI.03 Mejorar la gestión del financiamiento de las prestaciones aprobadas para la atención del asegurado al SIS."]
[null,"AEI.03.02 Recursos del SIS transferidos orientados al financiamiento de reposición de medicamentos e insumos."]
[null,null,"18AO111143004","Supervisión y asistencia técnica a las udrs en el monitoreo, seguimiento y control de los recursos del sis","INFORME",{"$f":"+VLOOKUP(C345,'B-3 FISICO'!C341:S1032,17,0)","v":12},1405.2158616876329,7917.8055463529809,5426.9059128116951,10332.900586124437,{"$f":"+VLOOKUP(C345,'B-3 FISICO'!$C$10:$F$701,4,0)","v":25082.827906976745}]
["OEI.04 Mejorar la eficacia y eficiencia de los procesos de gestión instituciona"]
[null,"AEI.04.01 Fortalecer la organización orientándola al desarrollo de las funciones de un asegurador público eficiente, eficaz y con enfoque de procesos."]
[null,null,"18AO110921144","Realizar acciones de coordinación en gestión.","INFORME",{"$f":"+VLOOKUP(C348,'B-3 FISICO'!C344:S1035,17,0)","v":52},5684.0094721714131,32027.023713091192,21951.491905278283,41795.930723412595,{"$f":"+VLOOKUP(C348,'B-3 FISICO'!$C$10:$F$701,4,0)","v":101458.45581395348}]
[null,"08.02 - UDR PASCO"]
["OEI.01 Incrementar la cobertura de la población objetivo del SIS"]
[null,"AEI.01.01 Afiliación al SIS incrementada en la población objetivo."]
[null,null,"18AO111143005","Realizar acciones de afiliación","INFORME",{"$f":"+VLOOKUP(C352,'B-3 FISICO'!C348:S1039,17,0)","v":6},0,0,0,0,{"$f":"+VLOOKUP(C352,'B-3 FISICO'!$C$10:$F$701,4,0)","v":0}]
[null,"AEI.01.02 Mecanismos de protección de derechos optimizados para los asegurados al SIS."]
[null,null,"18AO111143006","Realizar acciones para mitigar riesgos de vulneración de derechos de los asegurados","INFORME",{"$f":"+VLOOKUP(C354,'B-3 FISICO'!C350:S1041,17,0)","v":9},0,0,0,0,{"$f":"+VLOOKUP(C354,'B-3 FISICO'!$C$10:$F$701,4,0)","v":0}]
["OEI.02 Reducir los riesgos técnicos y financieros de la prestación de planes y productos para el asegurado al SIS."]
[null,"AEI.02.01 Control técnico y financiero de las prestaciones médicas valorizadas incrementado a los establecimientos de salud."]
[null,null,"18AO111143007","Realzar el control técnico a las prestaciones","INFORME",{"$f":"+VLOOKUP(C357,'B-3 FISICO'!C353:S1044,17,0)","v":24},0,2967.6974310180776,1901.0123374563905,5731.2902315255315,{"$f":"+VLOOKUP(C357,'B-3 FISICO'!$C$10:$F$701,4,0)","v":10600}]
["OEI.03 Mejorar la gestión del financiamiento de las prestaciones aprobadas para la atención del asegurado al SIS."]
[null,"AEI.03.02 Recursos del SIS transferidos orientados al financiamiento de reposición de medicamentos e insumos."]
[null,null,"18AO111143008","Realizar la supervisión financiera alas UE","INFORME",{"$f":"+VLOOKUP(C360,'B-3 FISICO'!C356:S1047,17,0)","v":21},0,2519.7431018078023,1614.0670789724072,4866.1898192197914,{"$f":"+VLOOKUP(C360,'B-3 FISICO'!$C$10:$F$701,4,0)","v":9000}]
[null,"AEI.03.03 Mecanismos de compra de servicios de salud optimizados para la atención del asegurado al SIS."]
[null,null,"18AO111143009","Implementar los acuerdos de convenios y/o contratos suscritos con las ipress","INFORME",{"$f":"+VLOOKUP(C362,'B-3 FISICO'!C358:S1049,17,0)","v":6},0,29822.55946717412,19103.380583571201,57594.059949254683,{"$f":"+VLOOKUP(C362,'B-3 FISICO'!$C$10:$F$701,4,0)","v":106520}]
[null,"08.03 - UDR HUÁNUCO"]
["OEI.01 Incrementar la cobertura de la población objetivo del SIS"]
[null,"AEI.01.01 Afiliación al SIS incrementada en la población objetivo."]
[null,null,"18AO111143010","Realizar acciones de afiliación","INFORME",{"$f":"+VLOOKUP(C366,'B-3 FISICO'!C362:S1053,17,0)","v":8},0,0,0,0,{"$f":"+VLOOKUP(C366,'B-3 FISICO'!$C$10:$F$701,4,0)","v":0}]
[null,"AEI.01.02 Mecanismos de protección de derechos optimizados para los asegurados al SIS."]
[null,null,"18AO111143011","Realizar acciones para mitigar riesgos de vulneración de derechos de los asegurados","INFORME",{"$f":"+VLOOKUP(C368,'B-3 FISICO'!C364:S1055,17,0)","v":12},0,0,0,0,{"$f":"+VLOOKUP(C368,'B-3 FISICO'!$C$10:$F$701,4,0)","v":0}]
["OEI.02 Reducir los riesgos técnicos y financieros de la prestación de planes y productos para el asegurado al SIS."]
[null,"AEI.02.01 Control técnico y financiero de las prestaciones médicas valorizadas incrementado a los establecimientos de salud."]
[null,null,"18AO111143012","Realzar el control técnico a las prestaciones","INFORME",{"$f":"+VLOOKUP(C371,'B-3 FISICO'!C367:S1058,17,0)","v":49},1878.733488515579,2845.479148554281,9859.9959334772975,7415.7914294528418,{"$f":"+VLOOKUP(C371,'B-3 FISICO'!$C$10:$F$701,4,0)","v":22000}]
["OEI.03 Mejorar la gestión del financiamiento de las prestaciones aprobadas para la atención del asegurado al SIS."]
[null,"AEI.03.02 Recursos del SIS transferidos orientados al financiamiento de reposición de medicamentos e insumos."]
[null,null,"18AO111143013","Realizar la supervisión financiera alas UE","INFORME",{"$f":"+VLOOKUP(C374,'B-3 FISICO'!C370:S1061,17,0)","v":29},1792.4825419973638,2714.8457876433799,9407.3324838040226,7075.3391865552348,{"$f":"+VLOOKUP(C374,'B-3 FISICO'!$C$10:$F$701,4,0)","v":20990}]
[null,"AEI.03.03 Mecanismos de compra de servicios de salud optimizados para la atención del asegurado al SIS."]
[null,null,"18AO111143014","Implementar los acuerdos de convenios y/o contratos suscritos con las ipress","INFORME",{"$f":"+VLOOKUP(C376,'B-3 FISICO'!C372:S1063,17,0)","v":6},8508.7839694870563,12887.175063802339,44655.921582718678,33586.119383991921,{"$f":"+VLOOKUP(C376,'B-3 FISICO'!$C$10:$F$701,4,0)","v":99638}]
[null,"08.04 - UDR JUNÍN"]
["OEI.01 Incrementar la cobertura de la población objetivo del SIS"]
[null,"AEI.01.01 Afiliación al SIS incrementada en la población objetivo."]
[null,null,"18AO111143015","Realizar acciones de afiliación","INFORME",{"$f":"+VLOOKUP(C380,'B-3 FISICO'!C376:S1067,17,0)","v":10},744.67603330791792,2758.2800273725279,2226.8593519764427,6067.7560159145396,{"$f":"+VLOOKUP(C380,'B-3 FISICO'!$C$10:$F$701,4,0)","v":11797.571428571429}]
[null,"AEI.01.02 Mecanismos de protección de derechos optimizados para los asegurados al SIS."]
[null,null,"18AO111143016","Realizar acciones para mitigar riesgos de vulneración de derechos de los asegurados","INFORME",{"$f":"+VLOOKUP(C382,'B-3 FISICO'!C378:S1069,17,0)","v":14},0,0,0,0,{"$f":"+VLOOKUP(C382,'B-3 FISICO'!$C$10:$F$701,4,0)","v":0}]
["OEI.02 Reducir los riesgos técnicos y financieros de la prestación de planes y productos para el asegurado al SIS."]
[null,"AEI.02.01 Control técnico y financiero de las prestaciones médicas valorizadas incrementado a los establecimientos de salud."]
[null,null,"18AO111143017","Realzar el control técnico a las prestaciones","INFORME",{"$f":"+VLOOKUP(C385,'B-3 FISICO'!C381:S1072,17,0)","v":49},1893.6338834222875,7014.0199041961532,5662.6722680824505,15429.673944299111,{"$f":"+VLOOKUP(C385,'B-3 FISICO'!$C$10:$F$701,4,0)","v":30000}]
["OEI.03 Mejorar la gestión del financiamiento de las prestaciones aprobadas para la atención del asegurado al SIS."]
[null,"AEI.03.02 Recursos del SIS transferidos orientados al financiamiento de reposición de medicamentos e insumos."]
[null,null,"18AO111143018","Realizar la supervisión financiera alas UE","INFORME",{"$f":"+VLOOKUP(C388,'B-3 FISICO'!C384:S1075,17,0)","v":29},1893.6338834222875,7014.0199041961532,5662.6722680824505,15429.673944299111,{"$f":"+VLOOKUP(C388,'B-3 FISICO'!$C$10:$F$701,4,0)","v":30000}]
[null,"AEI.03.03 Mecanismos de compra de servicios de salud optimizados para la atención del asegurado al SIS."]
[null,null,"18AO111143019","Implementar los acuerdos de convenios y/o contratos suscritos con las ipress","INFORME",{"$f":"+VLOOKUP(C390,'B-3 FISICO'!C386:S1077,17,0)","v":6},4468.0561998475068,16549.680164235164,13361.156111858656,36406.536095487238,{"$f":"+VLOOKUP(C390,'B-3 FISICO'!$C$10:$F$701,4,0)","v":70785.428571428565}]
[null,"08.05 - UDR HUANCAVELICA"]
["OEI.01 Incrementar la cobertura de la población objetivo del SIS"]
[null,"AEI.01.01 Afiliación al SIS incrementada en la población objetivo."]
[null,null,"18AO111143020","Realizar acciones de afiliación","INFORME",{"$f":"+VLOOKUP(C394,'B-3 FISICO'!C390:S1081,17,0)","v":10},1193.6954248863337,2015.8207993072872,1945.5732523209629,3873.5126740230507,{"$f":"+VLOOKUP(C394,'B-3 FISICO'!$C$10:$F$701,4,0)","v":9028.6021505376339}]
[null,"AEI.01.02 Mecanismos de protección de derechos optimizados para los asegurados al SIS."]
[null,null,"18AO111143021","Realizar acciones para mitigar riesgos de vulneración de derechos de los asegurados","INFORME",{"$f":"+VLOOKUP(C396,'B-3 FISICO'!C392:S1083,17,0)","v":14},0,0,0,0,{"$f":"+VLOOKUP(C396,'B-3 FISICO'!$C$10:$F$701,4,0)","v":0}]
["OEI.02 Reducir los riesgos técnicos y financieros de la prestación de planes y productos para el asegurado al SIS."]
[null,"AEI.02.01 Control técnico y financiero de las prestaciones médicas valorizadas incrementado a los establecimientos de salud."]
[null,null,"18AO111143022","Realzar el control técnico a las prestaciones","INFORME",{"$f":"+VLOOKUP(C399,'B-3 FISICO'!C395:S1086,17,0)","v":49},4379.6421566762483,7396.0020025976755,7138.2653037963901,14211.832472413558,{"$f":"+VLOOKUP(C399,'B-3 FISICO'!$C$10:$F$701,4,0)","v":33125.741935483871}]
["OEI.03 Mejorar la gestión del financiamiento de las prestaciones aprobadas para la atención del asegurado al SIS."]
[null,"AEI.03.02 Recursos del SIS transferidos orientados al financiamiento de reposición de medicamentos e insumos."]
[null,null,"18AO111143023","Realizar la supervisión financiera alas UE","INFORME",{"$f":"+VLOOKUP(C402,'B-3 FISICO'!C398:S1089,17,0)","v":29},3305.3162742785485,5581.7632832211166,5387.2493767075239,10725.671065792812,{"$f":"+VLOOKUP(C402,'B-3 FISICO'!$C$10:$F$701,4,0)","v":25000}]
[null,"AEI.03.03 Mecanismos de compra de servicios de salud optimizados para la atención del asegurado al SIS."]
[null,null,"18AO111143024","Implementar los acuerdos de convenios y/o contratos suscritos con las ipress","INFORME",{"$f":"+VLOOKUP(C404,'B-3 FISICO'!C400:S1091,17,0)","v":6},8833.3461441588697,14917.073914873925,14397.242067175126,28663.993787770574,{"$f":"+VLOOKUP(C404,'B-3 FISICO'!$C$10:$F$701,4,0)","v":66811.655913978495}]
[null,"09.01 - GERENCIA MACRO REGIONAL ORIENTE"]
["OEI.01 Incrementar la cobertura de la población objetivo del SIS"]
[null,"AEI.01.01 Afiliación al SIS incrementada en la población objetivo."]
[null,null,"18AO111143027","Control y supervision a las udr en las acciones de afiliacion","INFORME",{"$f":"+VLOOKUP(C408,'B-3 FISICO'!C404:S1095,17,0)","v":14},1370.6584966317946,2236.8024898486328,1519.5905330241267,5973.967733043577,{"$f":"+VLOOKUP(C408,'B-3 FISICO'!$C$10:$F$701,4,0)","v":11101.019252548132}]
["OEI.02 Reducir los riesgos técnicos y financieros de la prestación de planes y productos para el asegurado al SIS."]
[null,"AEI.02.01 Control técnico y financiero de las prestaciones médicas valorizadas incrementado a los establecimientos de salud."]
[null,null,"18AO111143029","Supervisión  y asistencia técnica a las audrs en las cciones de control técnico a prestaciones","INFORME",{"$f":"+VLOOKUP(C411,'B-3 FISICO'!C407:S1098,17,0)","v":19},4243.2201450088914,6924.588005440597,4704.276942606597,18493.928496977882,{"$f":"+VLOOKUP(C411,'B-3 FISICO'!$C$10:$F$701,4,0)","v":34366.013590033974}]
["OEI.03 Mejorar la gestión del financiamiento de las prestaciones aprobadas para la atención del asegurado al SIS."]
[null,"AEI.03.02 Recursos del SIS transferidos orientados al financiamiento de reposición de medicamentos e insumos."]
[null,null,"18AO111143030","Supervisión y asistencia técnica a las udrs en el monitoreo, seguimiento y control de los recursos del sis","INFORME",{"$f":"+VLOOKUP(C414,'B-3 FISICO'!C410:S1101,17,0)","v":12},1665.5076637573186,2717.9721997193601,1846.4772113141721,7259.0576477459635,{"$f":"+VLOOKUP(C414,'B-3 FISICO'!$C$10:$F$701,4,0)","v":13489.014722536816}]
["OEI.04 Mejorar la eficacia y eficiencia de los procesos de gestión instituciona"]
[null,"AEI.04.01 Fortalecer la organización orientándola al desarrollo de las funciones de un asegurador público eficiente, eficaz y con enfoque de procesos."]
[null,null,"18AO110921291","Realizar acciones de coordinación en gestión.","INFORME",{"$f":"+VLOOKUP(C417,'B-3 FISICO'!C413:S1104,17,0)","v":48},8360.613694601996,13643.837304991412,9269.055313055107,36439.446122232577,{"$f":"+VLOOKUP(C417,'B-3 FISICO'!$C$10:$F$701,4,0)","v":67712.952434881096}]
[null,"09.02 - UDR AMAZONAS"]
["OEI.01 Incrementar la cobertura de la población objetivo del SIS"]
[null,"AEI.01.01 Afiliación al SIS incrementada en la población objetivo."]
[null,null,"18AO111143031","Realizar acciones de afiliación","INFORME",{"$f":"+VLOOKUP(C421,'B-3 FISICO'!C417:S1108,17,0)","v":9},0,0,0,0,{"$f":"+VLOOKUP(C421,'B-3 FISICO'!$C$10:$F$701,4,0)","v":0}]
[null,"AEI.01.02 Mecanismos de protección de derechos optimizados para los asegurados al SIS."]
[null,null,"18AO111143032","Realizar acciones para mitigar riesgos de vulneración de derechos de los asegurados","INFORME",{"$f":"+VLOOKUP(C423,'B-3 FISICO'!C419:S1110,17,0)","v":26},0,0,0,0,{"$f":"+VLOOKUP(C423,'B-3 FISICO'!$C$10:$F$701,4,0)","v":0}]
["OEI.02 Reducir los riesgos técnicos y financieros de la prestación de planes y productos para el asegurado al SIS."]
[null,"AEI.02.01 Control técnico y financiero de las prestaciones médicas valorizadas incrementado a los establecimientos de salud."]
[null,null,"18AO111143033","Realzar el control técnico a las prestaciones","INFORME",{"$f":"+VLOOKUP(C426,'B-3 FISICO'!C422:S1113,17,0)","v":53},7735.3596875819358,7644.8082855423654,8044.9369195684449,17881.63194941252,{"$f":"+VLOOKUP(C426,'B-3 FISICO'!$C$10:$F$701,4,0)","v":41306.736842105267}]
["OEI.03 Mejorar la gestión del financiamiento de las prestaciones aprobadas para la atención del asegurado al SIS."]
[null,"AEI.03.02 Recursos del SIS transferidos orientados al financiamiento de reposición de medicamentos e insumos."]
[null,null,"18AO111143035","Realizar la supervisión financiera alas UE","INFORME",{"$f":"+VLOOKUP(C429,'B-3 FISICO'!C425:S1116,17,0)","v":26},5617.9889376037845,5552.2238283536617,5842.826764786696,12986.960469255857,{"$f":"+VLOOKUP(C429,'B-3 FISICO'!$C$10:$F$701,4,0)","v":30000}]
[null,"AEI.03.03 Mecanismos de compra de servicios de salud optimizados para la atención del asegurado al SIS."]
[null,null,"18AO111143036","Implementar los acuerdos de convenios y/o contratos suscritos con las ipress","INFORME",{"$f":"+VLOOKUP(C431,'B-3 FISICO'!C427:S1118,17,0)","v":7},17997.651374814282,17786.967886103972,18717.93631564486,41604.707581331626,{"$f":"+VLOOKUP(C431,'B-3 FISICO'!$C$10:$F$701,4,0)","v":96107.263157894733}]
[null,"09.03 - UDR BAGUA"]
["OEI.01 Incrementar la cobertura de la población objetivo del SIS"]
[null,"AEI.01.01 Afiliación al SIS incrementada en la población objetivo."]
[null,null,"18AO111143037","Realizar acciones de afiliación","INFORME",{"$f":"+VLOOKUP(C435,'B-3 FISICO'!C431:S1122,17,0)","v":10},0,0,0,0,{"$f":"+VLOOKUP(C435,'B-3 FISICO'!$C$10:$F$701,4,0)","v":0}]
[null,"AEI.01.02 Mecanismos de protección de derechos optimizados para los asegurados al SIS."]
[null,null,"18AO111143038","Realizar acciones para mitigar riesgos de vulneración de derechos de los asegurados","INFORME",{"$f":"+VLOOKUP(C437,'B-3 FISICO'!C433:S1124,17,0)","v":14},0,0,0,0,{"$f":"+VLOOKUP(C437,'B-3 FISICO'!$C$10:$F$701,4,0)","v":0}]
["OEI.02 Reducir los riesgos técnicos y financieros de la prestación de planes y productos para el asegurado al SIS."]
[null,"AEI.02.01 Control técnico y financiero de las prestaciones médicas valorizadas incrementado a los establecimientos de salud."]
[null,null,"18AO111143039","Realzar el control técnico a las prestaciones","INFORME",{"$f":"+VLOOKUP(C440,'B-3 FISICO'!C436:S1127,17,0)","v":49},2339.4925079759309,7343.0531552942557,5567.537589374112,21028.264925493357,{"$f":"+VLOOKUP(C440,'B-3 FISICO'!$C$10:$F$701,4,0)","v":36278.348178137654}]
["OEI.03 Mejorar la gestión del financiamiento de las prestaciones aprobadas para la atención del asegurado al SIS."]
[null,"AEI.03.02 Recursos del SIS transferidos orientados al financiamiento de reposición de medicamentos e insumos."]
[null,null,"18AO111143040","Realizar la supervisión financiera alas UE","INFORME",{"$f":"+VLOOKUP(C443,'B-3 FISICO'!C439:S1130,17,0)","v":29},2063.5934108032179,6477.0782786361897,4910.9513472098079,18548.376963350784,{"$f":"+VLOOKUP(C443,'B-3 FISICO'!$C$10:$F$701,4,0)","v":32000}]
[null,"AEI.03.03 Mecanismos de compra de servicios de salud optimizados para la atención del asegurado al SIS."]
[null,null,"18AO111143041","Implementar los acuerdos de convenios y/o contratos suscritos con las ipress","INFORME",{"$f":"+VLOOKUP(C445,'B-3 FISICO'!C441:S1132,17,0)","v":4},3676.9140812208511,11540.868566069556,8750.3410634160828,33049.528111155858,{"$f":"+VLOOKUP(C445,'B-3 FISICO'!$C$10:$F$701,4,0)","v":57017.651821862346}]
[null,"09.04 - UDR LORETO"]
["OEI.01 Incrementar la cobertura de la población objetivo del SIS"]
[null,"AEI.01.01 Afiliación al SIS incrementada en la población objetivo."]
[null,null,"18AO111143042","Realizar acciones de afiliación","INFORME",{"$f":"+VLOOKUP(C449,'B-3 FISICO'!C445:S1136,17,0)","v":8},1929.1987448655982,5470.4168512955985,7908.57219203772,13533.784816552117,{"$f":"+VLOOKUP(C449,'B-3 FISICO'!$C$10:$F$701,4,0)","v":28841.972604751038}]
[null,"AEI.01.02 Mecanismos de protección de derechos optimizados para los asegurados al SIS."]
[null,null,"18AO111143043","Realizar acciones para mitigar riesgos de vulneración de derechos de los asegurados","INFORME",{"$f":"+VLOOKUP(C451,'B-3 FISICO'!C447:S1138,17,0)","v":17},1929.1987448655982,5470.4168512955985,7908.57219203772,13533.784816552117,{"$f":"+VLOOKUP(C451,'B-3 FISICO'!$C$10:$F$701,4,0)","v":28841.972604751038}]
["OEI.02 Reducir los riesgos técnicos y financieros de la prestación de planes y productos para el asegurado al SIS."]
[null,"AEI.02.01 Control técnico y financiero de las prestaciones médicas valorizadas incrementado a los establecimientos de salud."]
[null,null,"18AO111143044","Realzar el control técnico a las prestaciones","INFORME",{"$f":"+VLOOKUP(C454,'B-3 FISICO'!C450:S1141,17,0)","v":49},3202.7607808920252,9081.7167454050887,13129.422210606042,22468.123278042487,{"$f":"+VLOOKUP(C454,'B-3 FISICO'!$C$10:$F$701,4,0)","v":47882.023014945647}]
["OEI.03 Mejorar la gestión del financiamiento de las prestaciones aprobadas para la atención del asegurado al SIS."]
[null,"AEI.03.02 Recursos del SIS transferidos orientados al financiamiento de reposición de medicamentos e insumos."]
[null,null,"18AO111143045","Realizar la supervisión financiera alas UE","INFORME",{"$f":"+VLOOKUP(C457,'B-3 FISICO'!C453:S1144,17,0)","v":27},2006.6575590753544,5690.0582976018177,8226.1074515426553,14077.176691780172,{"$f":"+VLOOKUP(C457,'B-3 FISICO'!$C$10:$F$701,4,0)","v":30000}]
[null,"AEI.03.03 Mecanismos de compra de servicios de salud optimizados para la atención del asegurado al SIS."]
[null,null,"18AO111143046","Implementar los acuerdos de convenios y/o contratos suscritos con las ipress","INFORME",{"$f":"+VLOOKUP(C459,'B-3 FISICO'!C455:S1146,17,0)","v":6},10712.744170301423,30376.951254401887,43915.905953775859,75152.430397073083,{"$f":"+VLOOKUP(C459,'B-3 FISICO'!$C$10:$F$701,4,0)","v":160158.03177555226}]
[null,"09.05 - UDR SAN MARTÍN"]
["OEI.01 Incrementar la cobertura de la población objetivo del SIS"]
[null,"AEI.01.01 Afiliación al SIS incrementada en la población objetivo."]
[null,null,"18AO111143047","Realizar acciones de afiliación","INFORME",{"$f":"+VLOOKUP(C463,'B-3 FISICO'!C459:S1150,17,0)","v":8},598.18758907194399,2057.8893545250367,2512.7090208953764,5374.2013772797945,{"$f":"+VLOOKUP(C463,'B-3 FISICO'!$C$10:$F$701,4,0)","v":10542.987341772152}]
[null,"AEI.01.02 Mecanismos de protección de derechos optimizados para los asegurados al SIS."]
[null,null,"18AO111143048","Realizar acciones para mitigar riesgos de vulneración de derechos de los asegurados","INFORME",{"$f":"+VLOOKUP(C465,'B-3 FISICO'!C461:S1152,17,0)","v":12},598.18758907194399,2057.8893545250367,2512.7090208953764,5374.2013772797945,{"$f":"+VLOOKUP(C465,'B-3 FISICO'!$C$10:$F$701,4,0)","v":10542.987341772152}]
["OEI.02 Reducir los riesgos técnicos y financieros de la prestación de planes y productos para el asegurado al SIS."]
[null,"AEI.02.01 Control técnico y financiero de las prestaciones médicas valorizadas incrementado a los establecimientos de salud."]
[null,null,"18AO111143049","Realzar el control técnico a las prestaciones","INFORME",{"$f":"+VLOOKUP(C468,'B-3 FISICO'!C464:S1155,17,0)","v":49},1702.138785755373,5855.7104010876956,7149.8967212257494,15292.254091931181,{"$f":"+VLOOKUP(C468,'B-3 FISICO'!$C$10:$F$701,4,0)","v":30000}]
["OEI.03 Mejorar la gestión del financiamiento de las prestaciones aprobadas para la atención del asegurado al SIS."]
[null,"AEI.03.02 Recursos del SIS transferidos orientados al financiamiento de reposición de medicamentos e insumos."]
[null,null,"18AO111143050","Realizar la supervisión financiera alas UE","INFORME",{"$f":"+VLOOKUP(C471,'B-3 FISICO'!C467:S1158,17,0)","v":29},1727.1034879464521,5941.5941536369819,7254.7618731370612,15516.540485279507,{"$f":"+VLOOKUP(C471,'B-3 FISICO'!$C$10:$F$701,4,0)","v":30440}]
[null,"AEI.03.03 Mecanismos de compra de servicios de salud optimizados para la atención del asegurado al SIS."]
[null,null,"18AO111143051","Implementar los acuerdos de convenios y/o contratos suscritos con las ipress","INFORME",{"$f":"+VLOOKUP(C473,'B-3 FISICO'!C469:S1160,17,0)","v":3},4054.3825481542867,13947.916736225248,17030.583363846439,36425.142668229717,{"$f":"+VLOOKUP(C473,'B-3 FISICO'!$C$10:$F$701,4,0)","v":71458.025316455693}]
[null,"09.06 - UDR UCAYALI"]
["OEI.01 Incrementar la cobertura de la población objetivo del SIS"]
[null,"AEI.01.01 Afiliación al SIS incrementada en la población objetivo."]
[null,null,"18AO111143052","Realizar acciones de afiliación","INFORME",{"$f":"+VLOOKUP(C477,'B-3 FISICO'!C473:S1164,17,0)","v":9},0,0,0,0,{"$f":"+VLOOKUP(C477,'B-3 FISICO'!$C$10:$F$701,4,0)","v":0}]
[null,"AEI.01.02 Mecanismos de protección de derechos optimizados para los asegurados al SIS."]
[null,null,"18AO111143053","Realizar acciones para mitigar riesgos de vulneración de derechos de los asegurados","INFORME",{"$f":"+VLOOKUP(C479,'B-3 FISICO'!C475:S1166,17,0)","v":15},929.89902753315573,2497.8960657243069,2243.8176127895949,6272.629718195366,{"$f":"+VLOOKUP(C479,'B-3 FISICO'!$C$10:$F$701,4,0)","v":11944.242424242424}]
["OEI.02 Reducir los riesgos técnicos y financieros de la prestación de planes y productos para el asegurado al SIS."]
[null,"AEI.02.01 Control técnico y financiero de las prestaciones médicas valorizadas incrementado a los establecimientos de salud."]
[null,null,"18AO111143054","Realzar el control técnico a las prestaciones","INFORME",{"$f":"+VLOOKUP(C482,'B-3 FISICO'!C478:S1169,17,0)","v":49},2690.2524311671104,7226.5598356892306,6491.4959680260117,18147.085704511577,{"$f":"+VLOOKUP(C482,'B-3 FISICO'!$C$10:$F$701,4,0)","v":34555.393939393936}]
["OEI.03 Mejorar la gestión del financiamiento de las prestaciones aprobadas para la atención del asegurado al SIS."]
[null,"AEI.03.02 Recursos del SIS transferidos orientados al financiamiento de reposición de medicamentos e insumos."]
[null,null,"18AO111143055","Realizar la supervisión financiera alas UE","INFORME",{"$f":"+VLOOKUP(C485,'B-3 FISICO'!C481:S1172,17,0)","v":29},1946.3332091405862,5228.2429831097861,4696.4418777943374,13128.981929955289,{"$f":"+VLOOKUP(C485,'B-3 FISICO'!$C$10:$F$701,4,0)","v":25000}]
[null,"AEI.03.03 Mecanismos de compra de servicios de salud optimizados para la atención del asegurado al SIS."]
[null,null,"18AO111143056","Implementar los acuerdos de convenios y/o contratos suscritos con las ipress","INFORME",{"$f":"+VLOOKUP(C487,'B-3 FISICO'!C483:S1174,17,0)","v":6},4463.5153321591479,11989.901115476674,10770.324541390057,30108.622647337757,{"$f":"+VLOOKUP(C487,'B-3 FISICO'!$C$10:$F$701,4,0)","v":57332.36363636364}]
[null,"09.07 - UDR YURIMAGUAS"]
["OEI.01 Incrementar la cobertura de la población objetivo del SIS"]
[null,"AEI.01.01 Afiliación al SIS incrementada en la población objetivo."]
[null,null,"18AO111143057 ","Realizar acciones de afiliación","INFORME",{"$f":"+VLOOKUP(C491,'B-3 FISICO'!C487:S1178,17,0)","v":6},0,0,0,0,{"$f":"+VLOOKUP(C491,'B-3 FISICO'!$C$10:$F$701,4,0)","v":0}]
[null,"AEI.01.02 Mecanismos de protección de derechos optimizados para los asegurados al SIS."]
[null,null,"18AO111143058","Realizar acciones para mitigar riesgos de vulneración de derechos de los asegurados","INFORME",{"$f":"+VLOOKUP(C493,'B-3 FISICO'!C489:S1180,17,0)","v":7},0,0,0,0,{"$f":"+VLOOKUP(C493,'B-3 FISICO'!$C$10:$F$701,4,0)","v":0}]
["OEI.02 Reducir los riesgos técnicos y financieros de la prestación de planes y productos para el asegurado al SIS."]
[null,"AEI.02.01 Control técnico y financiero de las prestaciones médicas valorizadas incrementado a los establecimientos de salud."]
[null,null,"18AO111143059 ","Realzar el control técnico a las prestaciones","INFORME",{"$f":"+VLOOKUP(C496,'B-3 FISICO'!C492:S1183,17,0)","v":49},2156.593424716621,6047.4160658670107,6268.8035392100273,18684.725431744806,{"$f":"+VLOOKUP(C496,'B-3 FISICO'!$C$10:$F$701,4,0)","v":33157.538461538461}]
["OEI.03 Mejorar la gestión del financiamiento de las prestaciones aprobadas para la atención del asegurado al SIS."]
[null,"AEI.03.02 Recursos del SIS transferidos orientados al financiamiento de reposición de medicamentos e insumos."]
[null,null,"18AO111143060","Realizar la supervisión financiera alas UE","INFORME",{"$f":"+VLOOKUP(C499,'B-3 FISICO'!C495:S1186,17,0)","v":29},1300.8163601880103,3647.6869794673048,3781.2237156757647,11270.272944668923,{"$f":"+VLOOKUP(C499,'B-3 FISICO'!$C$10:$F$701,4,0)","v":20000}]
[null,"AEI.03.03 Mecanismos de compra de servicios de salud optimizados para la atención del asegurado al SIS."]
[null,null,"18AO111143061","Implementar los acuerdos de convenios y/o contratos suscritos con las ipress","INFORME",{"$f":"+VLOOKUP(C501,'B-3 FISICO'!C497:S1188,17,0)","v":6},2852.5902150953689,7999.0969546656861,8291.9327451142071,24714.841623586279,{"$f":"+VLOOKUP(C501,'B-3 FISICO'!$C$10:$F$701,4,0)","v":43858.461538461539}]
[null,"10.01 - GERENCIA MACRO REGIONAL SUR MEDIO"]
["OEI.01 Incrementar la cobertura de la población objetivo del SIS"]
[null,"AEI.01.01 Afiliación al SIS incrementada en la población objetivo."]
[null,null,"18AO111143062","Control y supervision a las udr en las acciones de afiliacion","INFORME",{"$f":"+VLOOKUP(C505,'B-3 FISICO'!C501:S1192,17,0)","v":14},761.14063843831559,2296.0906783858422,1740.2804128435696,2752.1576918198757,{"$f":"+VLOOKUP(C505,'B-3 FISICO'!$C$10:$F$701,4,0)","v":7549.6694214876034}]
["OEI.02 Reducir los riesgos técnicos y financieros de la prestación de planes y productos para el asegurado al SIS."]
[null,"AEI.02.01 Control técnico y financiero de las prestaciones médicas valorizadas incrementado a los establecimientos de salud."]
[null,null,"18AO111143063","Supervisión  y asistencia técnica a las audrs en las cciones de control técnico a prestaciones","INFORME",{"$f":"+VLOOKUP(C508,'B-3 FISICO'!C504:S1195,17,0)","v":15},1915.5371345356782,5778.4944550240843,4379.7053881483143,6926.2630222919224,{"$f":"+VLOOKUP(C508,'B-3 FISICO'!$C$10:$F$701,4,0)","v":19000}]
["OEI.03 Mejorar la gestión del financiamiento de las prestaciones aprobadas para la atención del asegurado al SIS."]
[null,"AEI.03.02 Recursos del SIS transferidos orientados al financiamiento de reposición de medicamentos e insumos."]
[null,null,"18AO111143064","Supervisión y asistencia técnica a las udrs en el monitoreo, seguimiento y control de los recursos del sis","INFORME",{"$f":"+VLOOKUP(C511,'B-3 FISICO'!C507:S1198,17,0)","v":12},0,0,0,0,{"$f":"+VLOOKUP(C511,'B-3 FISICO'!$C$10:$F$701,4,0)","v":0}]
["OEI.04 Mejorar la eficacia y eficiencia de los procesos de gestión instituciona"]
[null,"AEI.04.01 Fortalecer la organización orientándola al desarrollo de las funciones de un asegurador público eficiente, eficaz y con enfoque de procesos."]
[null,null,"18AO110921549","Realizar acciones de coordinación en gestión.","INFORME",{"$f":"+VLOOKUP(C514,'B-3 FISICO'!C510:S1201,17,0)","v":48},6323.3222270260057,19075.214866590071,14457.714199008116,22864.079285888198,{"$f":"+VLOOKUP(C514,'B-3 FISICO'!$C$10:$F$701,4,0)","v":62720.330578512396}]
[null,"10.02 - UDR AYACUCHO"]
["OEI.01 Incrementar la cobertura de la población objetivo del SIS"]
[null,"AEI.01.01 Afiliación al SIS incrementada en la población objetivo."]
[null,null,"18AO111143066","Realizar acciones de afiliación","INFORME",{"$f":"+VLOOKUP(C518,'B-3 FISICO'!C514:S1205,17,0)","v":10},619.14135264827974,1853.3861795580026,1743.1579515950255,1872.0891640860166,{"$f":"+VLOOKUP(C518,'B-3 FISICO'!$C$10:$F$701,4,0)","v":6087.7746478873241}]
[null,"AEI.01.02 Mecanismos de protección de derechos optimizados para los asegurados al SIS."]
[null,null,"18AO111143067","Realizar acciones para mitigar riesgos de vulneración de derechos de los asegurados","INFORME",{"$f":"+VLOOKUP(C520,'B-3 FISICO'!C516:S1207,17,0)","v":14},0,0,0,0,{"$f":"+VLOOKUP(C520,'B-3 FISICO'!$C$10:$F$701,4,0)","v":0}]
["OEI.02 Reducir los riesgos técnicos y financieros de la prestación de planes y productos para el asegurado al SIS."]
[null,"AEI.02.01 Control técnico y financiero de las prestaciones médicas valorizadas incrementado a los establecimientos de salud."]
[null,null,"18AO111143068 ","Realzar el control técnico a las prestaciones","INFORME",{"$f":"+VLOOKUP(C523,'B-3 FISICO'!C519:S1210,17,0)","v":48},3239.0942693525735,9696.1582802141165,9119.4892853414804,9794.0046439650687,{"$f":"+VLOOKUP(C523,'B-3 FISICO'!$C$10:$F$701,4,0)","v":31848.74647887324}]
["OEI.03 Mejorar la gestión del financiamiento de las prestaciones aprobadas para la atención del asegurado al SIS."]
[null,"AEI.03.02 Recursos del SIS transferidos orientados al financiamiento de reposición de medicamentos e insumos."]
[null,null,"18AO111143069","Realizar la supervisión financiera alas UE","INFORME",{"$f":"+VLOOKUP(C526,'B-3 FISICO'!C522:S1213,17,0)","v":29},2542.5602476232589,7611.0988282113649,7158.4365897970765,7687.9043343683015,{"$f":"+VLOOKUP(C526,'B-3 FISICO'!$C$10:$F$701,4,0)","v":25000}]
[null,"AEI.03.03 Mecanismos de compra de servicios de salud optimizados para la atención del asegurado al SIS."]
[null,null,"18AO111143070","Implementar los acuerdos de convenios y/o contratos suscritos con las ipress","INFORME",{"$f":"+VLOOKUP(C528,'B-3 FISICO'!C524:S1215,17,0)","v":6},4179.2041303758879,12510.356712016515,11766.316173266419,12636.601857580612,{"$f":"+VLOOKUP(C528,'B-3 FISICO'!$C$10:$F$701,4,0)","v":41092.478873239437}]
[null,"10.03 - UDR ABANCAY"]
["OEI.01 Incrementar la cobertura de la población objetivo del SIS"]
[null,"AEI.01.01 Afiliación al SIS incrementada en la población objetivo."]
[null,null,"18AO111143071","Realizar acciones de afiliación","INFORME",{"$f":"+VLOOKUP(C532,'B-3 FISICO'!C528:S1219,17,0)","v":7},{"$f":"2465+13586","v":16051},5229,7200,6891,{"$f":"+VLOOKUP(C532,'B-3 FISICO'!$C$10:$F$701,4,0)","v":35371}]
[null,"AEI.01.02 Mecanismos de protección de derechos optimizados para los asegurados al SIS."]
[null,null,"18AO111143072","Realizar acciones para mitigar riesgos de vulneración de derechos de los asegurados","INFORME",{"$f":"+VLOOKUP(C534,'B-3 FISICO'!C530:S1221,17,0)","v":6},3008.8506539697805,6382.4729283180886,8784.9783498145898,24990.812840624811,{"$f":"+VLOOKUP(C534,'B-3 FISICO'!$C$10:$F$701,4,0)","v":43167.114772727269}]
["OEI.02 Reducir los riesgos técnicos y financieros de la prestación de planes y productos para el asegurado al SIS."]
[null,"AEI.02.01 Control técnico y financiero de las prestaciones médicas valorizadas incrementado a los establecimientos de salud."]
[null,null,"18AO111143074","Realzar el control técnico a las prestaciones","INFORME",{"$f":"+VLOOKUP(C537,'B-3 FISICO'!C533:S1224,17,0)","v":0},0,0,0,0,{"$f":"+VLOOKUP(C537,'B-3 FISICO'!$C$10:$F$701,4,0)","v":0}]
["OEI.03 Mejorar la gestión del financiamiento de las prestaciones aprobadas para la atención del asegurado al SIS."]
[null,"AEI.03.02 Recursos del SIS transferidos orientados al financiamiento de reposición de medicamentos e insumos."]
[null,null,"18AO111143075","Realizar la supervisión financiera alas UE","INFORME",{"$f":"+VLOOKUP(C540,'B-3 FISICO'!C536:S1227,17,0)","v":6},1825.6760338824745,3872.6840252972765,5330.4488244613258,15163.639979995285,{"$f":"+VLOOKUP(C540,'B-3 FISICO'!$C$10:$F$701,4,0)","v":26192.448863636364}]
[null,"AEI.03.03 Mecanismos de compra de servicios de salud optimizados para la atención del asegurado al SIS."]
[null,null,"18AO111143076","Implementar los acuerdos de convenios y/o contratos suscritos con las ipress","INFORME",{"$f":"+VLOOKUP(C542,'B-3 FISICO'!C538:S1229,17,0)","v":0},0,0,0,0,{"$f":"+VLOOKUP(C542,'B-3 FISICO'!$C$10:$F$701,4,0)","v":0}]
[null,"10.04 - UDR ANDAHUAYLAS"]
["OEI.01 Incrementar la cobertura de la población objetivo del SIS"]
[null,"AEI.01.01 Afiliación al SIS incrementada en la población objetivo."]
[null,null,"18AO111143077","Realizar acciones de afiliación","INFORME",{"$f":"+VLOOKUP(C546,'B-3 FISICO'!C542:S1233,17,0)","v":19},781.59196369252527,3278.9231457274577,2245.0173457349356,4314.7532591307945,{"$f":"+VLOOKUP(C546,'B-3 FISICO'!$C$10:$F$701,4,0)","v":10620.285714285714}]
[null,"AEI.01.02 Mecanismos de protección de derechos optimizados para los asegurados al SIS."]
[null,null,"18AO111143078","Realizar acciones para mitigar riesgos de vulneración de derechos de los asegurados","INFORME",{"$f":"+VLOOKUP(C548,'B-3 FISICO'!C544:S1235,17,0)","v":23},0,0,0,0,{"$f":"+VLOOKUP(C548,'B-3 FISICO'!$C$10:$F$701,4,0)","v":0}]
["OEI.02 Reducir los riesgos técnicos y financieros de la prestación de planes y productos para el asegurado al SIS."]
[null,"AEI.02.01 Control técnico y financiero de las prestaciones médicas valorizadas incrementado a los establecimientos de salud."]
[null,null,"18AO111143079","Realzar el control técnico a las prestaciones","INFORME",{"$f":"+VLOOKUP(C551,'B-3 FISICO'!C547:S1238,17,0)","v":45},1839.8562541523224,7718.5379799077937,5284.7385798554487,10156.867186084435,{"$f":"+VLOOKUP(C551,'B-3 FISICO'!$C$10:$F$701,4,0)","v":25000}]
["OEI.03 Mejorar la gestión del financiamiento de las prestaciones aprobadas para la atención del asegurado al SIS."]
[null,"AEI.03.02 Recursos del SIS transferidos orientados al financiamiento de reposición de medicamentos e insumos."]
[null,null,"18AO111143080","Realizar la supervisión financiera alas UE","INFORME",{"$f":"+VLOOKUP(C554,'B-3 FISICO'!C550:S1241,17,0)","v":25},781.59196369252527,3278.9231457274577,2245.0173457349356,4314.7532591307945,{"$f":"+VLOOKUP(C554,'B-3 FISICO'!$C$10:$F$701,4,0)","v":10620.285714285714}]
[null,"AEI.03.03 Mecanismos de compra de servicios de salud optimizados para la atención del asegurado al SIS."]
[null,null,"18AO111143082","Implementar los acuerdos de convenios y/o contratos suscritos con las ipress","INFORME",{"$f":"+VLOOKUP(C556,'B-3 FISICO'!C552:S1243,17,0)","v":3},3907.959818462627,16394.615728637291,11225.08672867468,21573.766295653975,{"$f":"+VLOOKUP(C556,'B-3 FISICO'!$C$10:$F$701,4,0)","v":53101.428571428572}]
[null,"10.05 - UDR ICA"]
["OEI.01 Incrementar la cobertura de la población objetivo del SIS"]
[null,"AEI.01.01 Afiliación al SIS incrementada en la población objetivo."]
[null,null,"18AO111143090","Realizar acciones de afiliación","INFORME",{"$f":"+VLOOKUP(C560,'B-3 FISICO'!C556:S1247,17,0)","v":10},1388.1108055458417,2207.0910186356441,1172.6289294230573,2015.2767156674395,{"$f":"+VLOOKUP(C560,'B-3 FISICO'!$C$10:$F$701,4,0)","v":6783.1074692719822}]
[null,"AEI.01.02 Mecanismos de protección de derechos optimizados para los asegurados al SIS."]
[null,null,"18AO111143091","Realizar acciones para mitigar riesgos de vulneración de derechos de los asegurados","INFORME",{"$f":"+VLOOKUP(C562,'B-3 FISICO'!C558:S1249,17,0)","v":14},1388.1108055458417,2207.0910186356441,1172.6289294230573,2015.2767156674395,{"$f":"+VLOOKUP(C562,'B-3 FISICO'!$C$10:$F$701,4,0)","v":6783.1074692719822}]
["OEI.02 Reducir los riesgos técnicos y financieros de la prestación de planes y productos para el asegurado al SIS."]
[null,"AEI.02.01 Control técnico y financiero de las prestaciones médicas valorizadas incrementado a los establecimientos de salud."]
[null,null,"18AO111143092","Realzar el control técnico a las prestaciones","INFORME",{"$f":"+VLOOKUP(C565,'B-3 FISICO'!C561:S1252,17,0)","v":49},5370.2895703665963,8538.7404455568558,4536.6384905522773,7796.6539013402171,{"$f":"+VLOOKUP(C565,'B-3 FISICO'!$C$10:$F$701,4,0)","v":26242.322407815944}]
["OEI.03 Mejorar la gestión del financiamiento de las prestaciones aprobadas para la atención del asegurado al SIS."]
[null,"AEI.03.02 Recursos del SIS transferidos orientados al financiamiento de reposición de medicamentos e insumos."]
[null,null,"18AO111143093 ","Realizar la supervisión financiera alas UE","INFORME",{"$f":"+VLOOKUP(C568,'B-3 FISICO'!C564:S1255,17,0)","v":29},1227.8538812785387,1952.283105022831,1037.2493150684932,1782.6136986301367,{"$f":"+VLOOKUP(C568,'B-3 FISICO'!$C$10:$F$701,4,0)","v":6000}]
[null,"AEI.03.03 Mecanismos de compra de servicios de salud optimizados para la atención del asegurado al SIS."]
[null,null,"18AO111143094","Implementar los acuerdos de convenios y/o contratos suscritos con las ipress","INFORME",{"$f":"+VLOOKUP(C570,'B-3 FISICO'!C566:S1257,17,0)","v":6},4070.6349372631807,6472.2944121490254,3438.7343355331159,5909.7989686947658,{"$f":"+VLOOKUP(C570,'B-3 FISICO'!$C$10:$F$701,4,0)","v":19891.462653640087}]
[null,"11.01 - GERENCIA MACRO REGIONAL CENTRO MEDIO"]
["OEI.01 Incrementar la cobertura de la población objetivo del SIS"]
[null,"AEI.01.01 Afiliación al SIS incrementada en la población objetivo."]
[null,null,"18AO111143095","Control y supervision a las udr en las acciones de afiliacion","INFORME",{"$f":"+VLOOKUP(C574,'B-3 FISICO'!C573:S1264,17,0)","v":16},5443.6877612666885,7923.3599428884936,10003.2511668151,19080.482618456623,{"$f":"+VLOOKUP(C574,'B-3 FISICO'!$C$10:$F$701,4,0)","v":42450.781489426903}]
[null,null,"18AO111146645","Realizar acciones de afiliación","INFORME",{"$f":"+VLOOKUP(C575,'B-3 FISICO'!C574:S1265,17,0)","v":6},0,0,0,0,{"$f":"+VLOOKUP(C575,'B-3 FISICO'!$C$10:$F$701,4,0)","v":0}]
[null,"AEI.01.02 Mecanismos de protección de derechos optimizados para los asegurados al SIS."]
[null,null,"18AO111146648","Realizar acciones para mitigar riesgos de vulneración de derechos de los asegurados","INFORME",{"$f":"+VLOOKUP(C577,'B-3 FISICO'!C576:S1267,17,0)","v":8},0,0,0,0,{"$f":"+VLOOKUP(C577,'B-3 FISICO'!$C$10:$F$701,4,0)","v":0}]
["OEI.02 Reducir los riesgos técnicos y financieros de la prestación de planes y productos para el asegurado al SIS."]
[null,"AEI.02.01 Control técnico y financiero de las prestaciones médicas valorizadas incrementado a los establecimientos de salud."]
[null,null,"18AO111143096","Supervisión  y asistencia técnica a las audrs en las cciones de control técnico a prestaciones","INFORME",{"$f":"+VLOOKUP(C580,'B-3 FISICO'!C579:S1270,17,0)","v":18},3334.117225337438,4852.8519684946323,6126.7312688217789,11686.299537346151,{"$f":"+VLOOKUP(C580,'B-3 FISICO'!$C$10:$F$701,4,0)","v":26000}]
[null,null,"18AO111146652","Realizar el Control Técnico a las Prestaciones",null,{"$f":"+VLOOKUP(C581,'B-3 FISICO'!C580:S1271,17,0)","v":9},0,0,0,0,{"$f":"+VLOOKUP(C581,'B-3 FISICO'!$C$10:$F$701,4,0)","v":0}]
["OEI.03 Mejorar la gestión del financiamiento de las prestaciones aprobadas para la atención del asegurado al SIS."]
[null,"AEI.03.02 Recursos del SIS transferidos orientados al financiamiento de reposición de medicamentos e insumos."]
[null,null,"18AO111143097","Supervisión y asistencia técnica a las UDRs en el monitoreo, seguimiento y control de los recursos del SIS","INFORME",{"$f":"+VLOOKUP(C584,'B-3 FISICO'!C583:S1274,17,0)","v":12},3333.535726101441,4852.0055886221298,6125.662713245837,11684.26134438732,{"$f":"+VLOOKUP(C584,'B-3 FISICO'!$C$10:$F$701,4,0)","v":25995.465372356728}]
[null,null,"18AO111146653","Realizar la supervisión financiera alas UE","INFORME",{"$f":"+VLOOKUP(C585,'B-3 FISICO'!C584:S1275,17,0)","v":4},0,0,0,0,{"$f":"+VLOOKUP(C585,'B-3 FISICO'!$C$10:$F$701,4,0)","v":0}]
[null,"AEI.03.03 Mecanismos de compra de servicios de salud optimizados para la atención del asegurado al SIS."]
[null,null,"18AO111146656","Implementar los acuerdos de convenios y/o contratos suscritos con las IPRESS","INFORME",{"$f":"+VLOOKUP(C587,'B-3 FISICO'!C586:S1277,17,0)","v":4},0,0,0,0,{"$f":"+VLOOKUP(C587,'B-3 FISICO'!$C$10:$F$701,4,0)","v":0}]
["OEI.04 Mejorar la eficacia y eficiencia de los procesos de gestión instituciona"]
[null,"AEI.04.01 Fortalecer la organización orientándola al desarrollo de las funciones de un asegurador público eficiente, eficaz y con enfoque de procesos."]
[null,null,"18AO110920487","Realizar acciones de coordinación en gestión.","INFORME",{"$f":"+VLOOKUP(C590,'B-3 FISICO'!C589:S1280,17,0)","v":48},52996.659287294438,77137.342499994746,97385.984851117304,185756.76649980992,{"$f":"+VLOOKUP(C590,'B-3 FISICO'!$C$10:$F$701,4,0)","v":413276.75313821639}]
[null,"11.02 - UDR ANCASH"]
["OEI.01 Incrementar la cobertura de la población objetivo del SIS"]
[null,"AEI.01.01 Afiliación al SIS incrementada en la población objetivo."]
[null,null,"18AO111143098","Realizar acciones de afiliación","INFORME",{"$f":"+VLOOKUP(C594,'B-3 FISICO'!C583:S1274,17,0)","v":10},0,0,0,0,{"$f":"+VLOOKUP(C594,'B-3 FISICO'!$C$10:$F$701,4,0)","v":0}]
[null,"AEI.01.02 Mecanismos de protección de derechos optimizados para los asegurados al SIS."]
[null,null,"18AO111143099","Realizar acciones para mitigar riesgos de vulneración de derechos de los asegurados","INFORME",{"$f":"+VLOOKUP(C596,'B-3 FISICO'!C585:S1276,17,0)","v":14},3933.8326457150256,4344.2792022416697,4181.2072496054107,9278.2477985204114,{"$f":"+VLOOKUP(C596,'B-3 FISICO'!$C$10:$F$701,4,0)","v":21737.566896082517}]
["OEI.02 Reducir los riesgos técnicos y financieros de la prestación de planes y productos para el asegurado al SIS."]
[null,"AEI.02.01 Control técnico y financiero de las prestaciones médicas valorizadas incrementado a los establecimientos de salud."]
[null,null,"18AO111143100","Realzar el control técnico a las prestaciones","INFORME",{"$f":"+VLOOKUP(C599,'B-3 FISICO'!C588:S1279,17,0)","v":49},5347.1933306303445,5905.1065128370419,5683.4455180564719,12611.768017692648,{"$f":"+VLOOKUP(C599,'B-3 FISICO'!$C$10:$F$701,4,0)","v":29547.513379216503}]
["OEI.03 Mejorar la gestión del financiamiento de las prestaciones aprobadas para la atención del asegurado al SIS."]
[null,"AEI.03.02 Recursos del SIS transferidos orientados al financiamiento de reposición de medicamentos e insumos."]
[null,null,"18AO111143101","Realizar la supervisión financiera alas UE","INFORME",{"$f":"+VLOOKUP(C602,'B-3 FISICO'!C591:S1282,17,0)","v":29},0,0,0,0,{"$f":"+VLOOKUP(C602,'B-3 FISICO'!$C$10:$F$701,4,0)","v":0}]
[null,"AEI.03.03 Mecanismos de compra de servicios de salud optimizados para la atención del asegurado al SIS."]
[null,null,"18AO111143102","Implementar los acuerdos de convenios y/o contratos suscritos con las ipress","INFORME",{"$f":"+VLOOKUP(C604,'B-3 FISICO'!C593:S1284,17,0)","v":6},27658.974023654631,30544.844284921292,29398.277232338118,65235.824183786935,{"$f":"+VLOOKUP(C604,'B-3 FISICO'!$C$10:$F$701,4,0)","v":152837.91972470097}]
[null,"11.03 - UDR SANTA"]
["OEI.01 Incrementar la cobertura de la población objetivo del SIS"]
[null,"AEI.01.01 Afiliación al SIS incrementada en la población objetivo."]
[null,null,"18AO111143103","Realizar acciones de afiliación","INFORME",{"$f":"+VLOOKUP(C608,'B-3 FISICO'!C597:S1288,17,0)","v":3},0,0,0,0,{"$f":"+VLOOKUP(C608,'B-3 FISICO'!$C$10:$F$701,4,0)","v":0}]
[null,"AEI.01.02 Mecanismos de protección de derechos optimizados para los asegurados al SIS."]
[null,null,"18AO111143104","Realizar acciones para mitigar riesgos de vulneración de derechos de los asegurados","INFORME",{"$f":"+VLOOKUP(C610,'B-3 FISICO'!C599:S1290,17,0)","v":13},0,0,0,0,{"$f":"+VLOOKUP(C610,'B-3 FISICO'!$C$10:$F$701,4,0)","v":0}]
["OEI.02 Reducir los riesgos técnicos y financieros de la prestación de planes y productos para el asegurado al SIS."]
[null,"AEI.02.01 Control técnico y financiero de las prestaciones médicas valorizadas incrementado a los establecimientos de salud."]
[null,null,"18AO111143105","Realzar el control técnico a las prestaciones","INFORME",{"$f":"+VLOOKUP(C613,'B-3 FISICO'!C602:S1293,17,0)","v":66},1158.2412414766047,2346.1203856101574,2023.7338349400422,3471.9045379731951,{"$f":"+VLOOKUP(C613,'B-3 FISICO'!$C$10:$F$701,4,0)","v":9000}]
["OEI.03 Mejorar la gestión del financiamiento de las prestaciones aprobadas para la atención del asegurado al SIS."]
[null,"AEI.03.02 Recursos del SIS transferidos orientados al financiamiento de reposición de medicamentos e insumos."]
[null,null,"18AO111143106","Realizar la supervisión financiera alas UE","INFORME",{"$f":"+VLOOKUP(C616,'B-3 FISICO'!C605:S1296,17,0)","v":27},1068.15581158398,2163.6443556182562,1866.3323144447058,3201.8675183530581,{"$f":"+VLOOKUP(C616,'B-3 FISICO'!$C$10:$F$701,4,0)","v":8300}]
[null,"AEI.03.03 Mecanismos de compra de servicios de salud optimizados para la atención del asegurado al SIS."]
[null,null,"18AO111143107","Implementar los acuerdos de convenios y/o contratos suscritos con las ipress","INFORME",{"$f":"+VLOOKUP(C618,'B-3 FISICO'!C607:S1298,17,0)","v":6},7625.6029469394152,15446.335258771584,13323.813850615252,22858.247943673745,{"$f":"+VLOOKUP(C618,'B-3 FISICO'!$C$10:$F$701,4,0)","v":59254}]
[null,"11.04 - UDR CALLAO"]
["OEI.01 Incrementar la cobertura de la población objetivo del SIS"]
[null,"AEI.01.01 Afiliación al SIS incrementada en la población objetivo."]
[null,null,"18AO111143108","Realizar acciones de afiliación","INFORME",{"$f":"+VLOOKUP(C622,'B-3 FISICO'!C611:S1302,17,0)","v":9},4211.1369907191747,4211.1369907191747,4789.9611122657398,6309.392813272656,{"$f":"+VLOOKUP(C622,'B-3 FISICO'!$C$10:$F$701,4,0)","v":19521.627906976744}]
[null,"AEI.01.02 Mecanismos de protección de derechos optimizados para los asegurados al SIS."]
[null,null,"18AO111143109","Realizar acciones para mitigar riesgos de vulneración de derechos de los asegurados","INFORME",{"$f":"+VLOOKUP(C624,'B-3 FISICO'!C613:S1304,17,0)","v":22},4070.765757695202,4070.765757695202,4630.2957418568812,6099.0797194969009,{"$f":"+VLOOKUP(C624,'B-3 FISICO'!$C$10:$F$701,4,0)","v":18870.906976744187}]
["OEI.02 Reducir los riesgos técnicos y financieros de la prestación de planes y productos para el asegurado al SIS."]
[null,"AEI.02.01 Control técnico y financiero de las prestaciones médicas valorizadas incrementado a los establecimientos de salud."]
[null,null,"18AO111143110","Realzar el control técnico a las prestaciones","INFORME",{"$f":"+VLOOKUP(C627,'B-3 FISICO'!C616:S1307,17,0)","v":47},673.03543913713406,673.03543913713406,765.54469440164348,1008.3844273240884,{"$f":"+VLOOKUP(C627,'B-3 FISICO'!$C$10:$F$701,4,0)","v":3120}]
["OEI.03 Mejorar la gestión del financiamiento de las prestaciones aprobadas para la atención del asegurado al SIS."]
[null,"AEI.03.02 Recursos del SIS transferidos orientados al financiamiento de reposición de medicamentos e insumos."]
[null,null,"18AO111143111","Realizar la supervisión financiera alas UE","INFORME",{"$f":"+VLOOKUP(C630,'B-3 FISICO'!C619:S1310,17,0)","v":28},647.14946070878273,647.14946070878273,736.10066769388789,969.60041088854655,{"$f":"+VLOOKUP(C630,'B-3 FISICO'!$C$10:$F$701,4,0)","v":3000}]
[null,"AEI.03.03 Mecanismos de compra de servicios de salud optimizados para la atención del asegurado al SIS."]
[null,null,"18AO111143112","Implementar los acuerdos de convenios y/o contratos suscritos con las ipress","INFORME",{"$f":"+VLOOKUP(C632,'B-3 FISICO'!C621:S1312,17,0)","v":4},21897.912351739706,21897.912351739706,24907.797783781843,32808.84262901781,{"$f":"+VLOOKUP(C632,'B-3 FISICO'!$C$10:$F$701,4,0)","v":101512.46511627907}]
[null,"11.05 - UDR LIMA METROPOLITANA CENTRO"]
["OEI.01 Incrementar la cobertura de la población objetivo del SIS"]
[null,"AEI.01.01 Afiliación al SIS incrementada en la población objetivo."]
[null,null,"18AO111143113","Realizar acciones de afiliación","INFORME",{"$f":"+VLOOKUP(C636,'B-3 FISICO'!C625:S1316,17,0)","v":12},0,0,0,0,{"$f":"+VLOOKUP(C636,'B-3 FISICO'!$C$10:$F$701,4,0)","v":0}]
[null,"AEI.01.02 Mecanismos de protección de derechos optimizados para los asegurados al SIS."]
[null,null,"18AO111143114","Realizar acciones para mitigar riesgos de vulneración de derechos de los asegurados","INFORME",{"$f":"+VLOOKUP(C638,'B-3 FISICO'!C627:S1318,17,0)","v":14},2574.7692278069544,3417.6642348315172,2973.1746279526033,6544.8493085120654,{"$f":"+VLOOKUP(C638,'B-3 FISICO'!$C$10:$F$701,4,0)","v":15510.457399103139}]
["OEI.02 Reducir los riesgos técnicos y financieros de la prestación de planes y productos para el asegurado al SIS."]
[null,"AEI.02.01 Control técnico y financiero de las prestaciones médicas valorizadas incrementado a los establecimientos de salud."]
[null,null,"18AO111143115","Realzar el control técnico a las prestaciones","INFORME",{"$f":"+VLOOKUP(C641,'B-3 FISICO'!C630:S1321,17,0)","v":51},1015.9331390890968,1348.5163318509431,1173.132955068241,2582.4175739917191,{"$f":"+VLOOKUP(C641,'B-3 FISICO'!$C$10:$F$701,4,0)","v":6120}]
["OEI.03 Mejorar la gestión del financiamiento de las prestaciones aprobadas para la atención del asegurado al SIS."]
[null,"AEI.03.02 Recursos del SIS transferidos orientados al financiamiento de reposición de medicamentos e insumos."]
[null,null,"18AO111143116","Realizar la supervisión financiera alas UE","INFORME",{"$f":"+VLOOKUP(C644,'B-3 FISICO'!C633:S1324,17,0)","v":26},0,0,0,0,{"$f":"+VLOOKUP(C644,'B-3 FISICO'!$C$10:$F$701,4,0)","v":0}]
[null,"AEI.03.03 Mecanismos de compra de servicios de salud optimizados para la atención del asegurado al SIS."]
[null,null,"18AO111143117","Implementar los acuerdos de convenios y/o contratos suscritos con las ipress","INFORME",{"$f":"+VLOOKUP(C646,'B-3 FISICO'!C635:S1326,17,0)","v":4},22389.297633103946,29718.819433317538,25853.692416979153,56911.733117496209,{"$f":"+VLOOKUP(C646,'B-3 FISICO'!$C$10:$F$701,4,0)","v":134873.54260089685}]
[null,"11.06 - UDR LIMA METROPOLITANA ESTE"]
["OEI.01 Incrementar la cobertura de la población objetivo del SIS"]
[null,"AEI.01.01 Afiliación al SIS incrementada en la población objetivo."]
[null,null,"18AO111143118 ","Realizar acciones de afiliación","INFORME",{"$f":"+VLOOKUP(C650,'B-3 FISICO'!C639:S1330,17,0)","v":8},0,0,0,0,{"$f":"+VLOOKUP(C650,'B-3 FISICO'!$C$10:$F$701,4,0)","v":0}]
[null,"AEI.01.02 Mecanismos de protección de derechos optimizados para los asegurados al SIS."]
[null,null,"18AO111143119","Realizar acciones para mitigar riesgos de vulneración de derechos de los asegurados","INFORME",{"$f":"+VLOOKUP(C652,'B-3 FISICO'!C641:S1332,17,0)","v":14},0,0,0,0,{"$f":"+VLOOKUP(C652,'B-3 FISICO'!$C$10:$F$701,4,0)","v":0}]
["OEI.02 Reducir los riesgos técnicos y financieros de la prestación de planes y productos para el asegurado al SIS."]
[null,"AEI.02.01 Control técnico y financiero de las prestaciones médicas valorizadas incrementado a los establecimientos de salud."]
[null,null,"18AO111143120","Realzar el control técnico a las prestaciones","INFORME",{"$f":"+VLOOKUP(C655,'B-3 FISICO'!C644:S1335,17,0)","v":51},195.16434892541088,780.65739570164351,565.51479140328695,1578.6634639696586,{"$f":"+VLOOKUP(C655,'B-3 FISICO'!$C$10:$F$701,4,0)","v":3120}]
["OEI.03 Mejorar la gestión del financiamiento de las prestaciones aprobadas para la atención del asegurado al SIS."]
[null,"AEI.03.02 Recursos del SIS transferidos orientados al financiamiento de reposición de medicamentos e insumos."]
[null,null,"18AO111143121","Realizar la supervisión financiera alas UE","INFORME",{"$f":"+VLOOKUP(C658,'B-3 FISICO'!C647:S1338,17,0)","v":29},187.65802781289509,750.63211125158034,543.76422250316057,1517.9456384323641,{"$f":"+VLOOKUP(C658,'B-3 FISICO'!$C$10:$F$701,4,0)","v":3000}]
[null,"AEI.03.03 Mecanismos de compra de servicios de salud optimizados para la atención del asegurado al SIS."]
[null,null,"18AO111143122","Implementar los acuerdos de convenios y/o contratos suscritos con las ipress","INFORME",{"$f":"+VLOOKUP(C660,'B-3 FISICO'!C649:S1340,17,0)","v":6},4367.177623261694,17468.710493046776,12654.480986093553,35325.630897597977,{"$f":"+VLOOKUP(C660,'B-3 FISICO'!$C$10:$F$701,4,0)","v":69816}]
[null,"11.07 - UDR LIMA METROPOLITANA NORTE"]
["OEI.01 Incrementar la cobertura de la población objetivo del SIS"]
[null,"AEI.01.01 Afiliación al SIS incrementada en la población objetivo."]
[null,null,"18AO111143123","Realizar acciones de afiliación","INFORME",{"$f":"+VLOOKUP(C664,'B-3 FISICO'!C653:S1344,17,0)","v":9},0,0,0,0,{"$f":"+VLOOKUP(C664,'B-3 FISICO'!$C$10:$F$701,4,0)","v":0}]
[null,"AEI.01.02 Mecanismos de protección de derechos optimizados para los asegurados al SIS."]
[null,null,"18AO111143125","Realizar acciones para mitigar riesgos de vulneración de derechos de los asegurados","INFORME",{"$f":"+VLOOKUP(C666,'B-3 FISICO'!C655:S1346,17,0)","v":14},2039.5113327860138,3059.2669991790208,4711.9136185378138,13200.248220437323,{"$f":"+VLOOKUP(C666,'B-3 FISICO'!$C$10:$F$701,4,0)","v":23010.940170940172}]
["OEI.02 Reducir los riesgos técnicos y financieros de la prestación de planes y productos para el asegurado al SIS."]
[null,"AEI.02.01 Control técnico y financiero de las prestaciones médicas valorizadas incrementado a los establecimientos de salud."]
[null,null,"18AO111143126","Realzar el control técnico a las prestaciones","INFORME",{"$f":"+VLOOKUP(C669,'B-3 FISICO'!C658:S1349,17,0)","v":49},265.8967409808381,398.84511147125716,614.30522832200688,1720.9529192258979,{"$f":"+VLOOKUP(C669,'B-3 FISICO'!$C$10:$F$701,4,0)","v":3000}]
["OEI.03 Mejorar la gestión del financiamiento de las prestaciones aprobadas para la atención del asegurado al SIS."]
[null,"AEI.03.02 Recursos del SIS transferidos orientados al financiamiento de reposición de medicamentos e insumos."]
[null,null,"18AO111143127","Realizar la supervisión financiera alas UE","INFORME",{"$f":"+VLOOKUP(C672,'B-3 FISICO'!C661:S1352,17,0)","v":27},276.53261062007164,414.79891593010746,638.87743745488729,1789.791035994934,{"$f":"+VLOOKUP(C672,'B-3 FISICO'!$C$10:$F$701,4,0)","v":3120}]
[null,"AEI.03.03 Mecanismos de compra de servicios de salud optimizados para la atención del asegurado al SIS."]
[null,null,"18AO111143128","Implementar los acuerdos de convenios y/o contratos suscritos con las ipress","INFORME",{"$f":"+VLOOKUP(C674,'B-3 FISICO'!C663:S1354,17,0)","v":5},3926.0593156130767,5889.0889734196144,9070.4337156852926,25410.477824341848,{"$f":"+VLOOKUP(C674,'B-3 FISICO'!$C$10:$F$701,4,0)","v":44296.059829059828}]
[null,"11.08 - UDR LIMA REGIÓN"]
["OEI.01 Incrementar la cobertura de la población objetivo del SIS"]
[null,"AEI.01.01 Afiliación al SIS incrementada en la población objetivo."]
[null,null,"18AO111143129","Realizar acciones de afiliación","INFORME",{"$f":"+VLOOKUP(C678,'B-3 FISICO'!C667:S1358,17,0)","v":9},0,0,0,0,{"$f":"+VLOOKUP(C678,'B-3 FISICO'!$C$10:$F$701,4,0)","v":0}]
[null,"AEI.01.02 Mecanismos de protección de derechos optimizados para los asegurados al SIS."]
[null,null,"18AO111143130","Realizar acciones para mitigar riesgos de vulneración de derechos de los asegurados","INFORME",{"$f":"+VLOOKUP(C680,'B-3 FISICO'!C669:S1360,17,0)","v":13},3042.6787885884469,3630.5312601953874,3474.243330145488,3834.9448608946605,{"$f":"+VLOOKUP(C680,'B-3 FISICO'!$C$10:$F$701,4,0)","v":13982.398239823982}]
["OEI.02 Reducir los riesgos técnicos y financieros de la prestación de planes y productos para el asegurado al SIS."]
[null,"AEI.02.01 Control técnico y financiero de las prestaciones médicas valorizadas incrementado a los establecimientos de salud."]
[null,null,"18AO111143131","Realzar el control técnico a las prestaciones","INFORME",{"$f":"+VLOOKUP(C683,'B-3 FISICO'!C672:S1363,17,0)","v":47},5566.7931848779899,6642.3103064777188,6356.3706314967512,7016.2992544852705,{"$f":"+VLOOKUP(C683,'B-3 FISICO'!$C$10:$F$701,4,0)","v":25581.773377337733}]
["OEI.03 Mejorar la gestión del financiamiento de las prestaciones aprobadas para la atención del asegurado al SIS."]
[null,"AEI.03.02 Recursos del SIS transferidos orientados al financiamiento de reposición de medicamentos e insumos."]
[null,null,"18AO111143132","Realizar la supervisión financiera alas UE","INFORME",{"$f":"+VLOOKUP(C686,'B-3 FISICO'!C675:S1366,17,0)","v":26},4134.5480218498087,4933.3521160373357,4720.9800593975397,5211.1198027153177,{"$f":"+VLOOKUP(C686,'B-3 FISICO'!$C$10:$F$701,4,0)","v":19000}]
[null,"AEI.03.03 Mecanismos de compra de servicios de salud optimizados para la atención del asegurado al SIS."]
[null,null,"18AO111143133","Implementar los acuerdos de convenios y/o contratos suscritos con las ipress","INFORME",{"$f":"+VLOOKUP(C688,'B-3 FISICO'!C677:S1368,17,0)","v":6},20081.680004683749,23961.506317289553,22930.00597896022,25310.636081904759,{"$f":"+VLOOKUP(C688,'B-3 FISICO'!$C$10:$F$701,4,0)","v":92283.828382838285}]
[null,"11.09 - UDR LIMA METROPOLITANA SUR"]
["OEI.01 Incrementar la cobertura de la población objetivo del SIS"]
[null,"AEI.01.01 Afiliación al SIS incrementada en la población objetivo."]
[null,null,"18AO111143134","Realizar acciones de afiliación","INFORME",{"$f":"+VLOOKUP(C692,'B-3 FISICO'!C681:S1372,17,0)","v":10},0,0,0,0,{"$f":"+VLOOKUP(C692,'B-3 FISICO'!$C$10:$F$701,4,0)","v":0}]
[null,"AEI.01.02 Mecanismos de protección de derechos optimizados para los asegurados al SIS."]
[null,null,"18AO111143135","Realizar acciones para mitigar riesgos de vulneración de derechos de los asegurados","INFORME",{"$f":"+VLOOKUP(C694,'B-3 FISICO'!C683:S1374,17,0)","v":14},2513.3311917764213,2540.3148088660455,2491.3472534532602,4455.0067459042721,{"$f":"+VLOOKUP(C694,'B-3 FISICO'!$C$10:$F$701,4,0)","v":12000}]
["OEI.02 Reducir los riesgos técnicos y financieros de la prestación de planes y productos para el asegurado al SIS."]
[null,"AEI.02.01 Control técnico y financiero de las prestaciones médicas valorizadas incrementado a los establecimientos de salud."]
[null,null,"18AO111143136","Realzar el control técnico a las prestaciones","INFORME",{"$f":"+VLOOKUP(C697,'B-3 FISICO'!C686:S1377,17,0)","v":44},2513.3311917764213,2540.3148088660455,2491.3472534532602,4455.0067459042721,{"$f":"+VLOOKUP(C697,'B-3 FISICO'!$C$10:$F$701,4,0)","v":12000}]
["OEI.03 Mejorar la gestión del financiamiento de las prestaciones aprobadas para la atención del asegurado al SIS."]
[null,"AEI.03.02 Recursos del SIS transferidos orientados al financiamiento de reposición de medicamentos e insumos."]
[null,null,"18AO111143137 ","Realizar la supervisión financiera alas UE","INFORME",{"$f":"+VLOOKUP(C700,'B-3 FISICO'!C689:S1380,17,0)","v":26},1884.998393832316,1905.2361066495341,1868.5104400899454,3341.2550594282038,{"$f":"+VLOOKUP(C700,'B-3 FISICO'!$C$10:$F$701,4,0)","v":9000}]
[null,"AEI.03.03 Mecanismos de compra de servicios de salud optimizados para la atención del asegurado al SIS."]
[null,null,"18AO111143138","Implementar los acuerdos de convenios y/o contratos suscritos con las ipress","INFORME",{"$f":"+VLOOKUP(C702,'B-3 FISICO'!C691:S1382,17,0)","v":6},32208.339222614839,32554.134275618373,31926.61505300353,57090.91144876324,{"$f":"+VLOOKUP(C702,'B-3 FISICO'!$C$10:$F$701,4,0)","v":153780}]
[{"$nulls":6},{"$f":"SUBTOTAL(9,G11:G702)","v":599152802.48155558},{"$f":"SUBTOTAL(9,H11:H702)","v":539211109.34347212},{"$f":"SUBTOTAL(9,I11:I702)","v":521473569.44453305},{"$f":"SUBTOTAL(9,J11:J702)","v":226443457.98825619},{"$f":"SUBTOTAL(9,K11:K702)","v":1886280939.2578187}]

{"sheet":"B-5 TAREAS","index":5,"n_rows":1605,"n_cols":18,"rows_kept":1605,"cut":false,"hidden":false,"merged":[[9,2,12,2],[1606,1,1606,5],[1606,6,1606,17],[1605,2,1605,3],[1605,5,1605,6],[4,3,5,3],[4,4,5,4],[4,17,5,17],[0,0,0,17],[2,9,2,17],[3,9,3,17],[4,5,4,16],[4,0,5,2]]}
["ANEXO B-5   Matriz de Articulación del POI con Metas Física y Financieras a nivel de Tareas"]
["Periodo PEI : 2017 - 2019"]
["Sector : 11 - SALUD",{"$nulls":8},"Nivel de Gobierno : E - GOBIERNO NACIONAL"]
["Unidad Ejecutora : 001091 - SEGURO INTEGRAL DE SALUD",{"$nulls":8},"Pliego : 135 - SEGURO INTEGRAL DE SALUD"]
["OEI/AEI/CC/ COD_AO",null,null,"DESCRIPCIÓN DE TAREAS","S/.","PROGRAMACION",{"$nulls":11},"TT"]
[{"$nulls":5},1,2,3,4,5,6,7,8,9,10,11,12]
[null,"01.01 - JEFATURA"]
["OEI.04"]
[null,"AEI.04.01"]
[null,null,"18AO110921692","Efectuar acciones diversas de gestión institucional",79945.123364127852,{"$nulls":5},1,null,null,1,null,null,1,{"$f":"SUM(F10:Q10)","v":3}]
[null,null,null,"Elaborar y ejecutar el Plan de Control Interno",69015.102921453145,null,null,1,null,null,1,null,null,1,null,null,2,{"$f":"SUM(F11:Q11)","v":5}]
[null,null,null,"Conducción y orientación superior",69015.102921453145,null,1,1,1,1,1,1,1,1,1,1,1,{"$f":"SUM(F12:Q12)","v":11}]
[null,null,null,"Efectuar acciones diversas de apoyo",18732.670792965855,1,1,1,{"$nulls":8},1,{"$f":"SUM(F13:Q13)","v":4}]
[null,"01.02.01 - SECRETARIA GENERAL"]
["OEI.04"]
[null,"AEI.04.01"]
[null,null,"18AO110920381","Emisión de normativas que regulen la gestión administrativa",139982,null,null,1,null,null,1,null,null,1,null,null,1,{"$f":"SUM(F17:Q17)","v":4}]
[null,null,null,"Gestionar los documentos internos y externos en el aplicativo ",{"$f":"121465","v":121465},2875,2875,2875,2875,2875,2875,2875,2875,2875,3000,3000,3000,34875]
[null,null,null,"Control y registro de la distribución del servicio de mensajería",515709,1,1,1,1,1,1,1,1,1,1,1,1,12]
[null,null,null,"Administrar y atención de la central telefónica del sis",121455,700,700,700,700,700,700,700,700,700,3500,3500,3500,16800]
[null,null,null,"Asistencia técnica de sistema de tramite.",73086,null,null,1,null,1,1,1,null,1,1,1,null,{"$f":"SUM(F21:Q21)","v":7}]
[null,null,"18AO111149643","Gestionar campañas sobre el Código de Ética de la Función Pública",0,{"$nulls":10},1,1,2]
[null,null,null,"Coordinar la elaboración del Plan de Trabajo para el cierre de brechas ",0,{"$nulls":11},1,1]
[null,null,null,"Promover la implementación de instrumentos que promueven la integridad pública",0,{"$nulls":11},1,1]
[null,null,null,"Realizar seguimiento y monitoreo de casos presentados a través del Libro de Reclamaciones",0,{"$nulls":10},1,1,2]
[null,null,null,"Realizar coordinaciones para gestionar la designación del Procurador Publico para la Entidad",0,{"$nulls":9},1,1,1,3]
[null,null,null,"Realizar una encuesta sobre como siente el servidor  el clima etico al interior de la Entidad ",0,{"$nulls":11},1,1]
[null,null,null,"Promover la transparencia, ética e integridad pública en los servidores de la entidad. ",0,{"$nulls":11},1,1]
[null,null,null,"Realizar visitas inopinadas a las UDR ",960,{"$nulls":10},1,1,2]
[null,null,null,"Fortalecer a la Oficina de Integridad Institucional",12000,{"$nulls":10},1,1,2]
[null,null,null,"Elaborar instrumentos normativos asociado a riesgos de corrupción identificados en procesos existentes.",0,{"$nulls":11},1,1]
[null,null,"18AO110921680","Realizar acciones de gestión de gestión documentaria y archivo",242961.39805166941,1,1,1,1,1,1,1,1,1,null,null,null,9]
[null,null,null,"Ejecutar el Plan de Archivo",0,{"$nulls":12},0]
[null,"02.01 - ORGANO DE CONTROL INSTITUCIONAL"]
["OEI.04"]
[null,"AEI.04.01"]
[null,null,"18AO111142739","Verificar el cumplimiento de norma expresa",12205.846153846154,null,3,null,null,2,null,null,2,1,null,1,1,{"$f":"SUM(F37:Q37)","v":10}]
[null,null,null,"Auditoria de cumplimiento",0,{"$nulls":4},2,{"$nulls":5},3,null,5]
[null,null,null,"Gestión Administrativa del OCI",8137.2307692307695,2,2,2,1,2,2,2,2,2,2,3,null,22]
[null,null,null,"Seguimiento de medidas preventivas y correctivas",8137.2307692307695,null,1,null,1,null,2,null,1,null,1,null,2,8]
[null,null,null,"Evaluación de la implementación del Sistema de Control Interno",0,1,1,null,1,null,1,null,1,null,1,null,1,7]
[null,null,null,"Atención de encargos de la Contraloria General de la Republica",0,null,2,2,null,2,1,1,1,1,1,2,null,13]
[null,null,null,"Supervisión aunadas a las Auditorias de reserva 1, 2, 3",50857.692307692305,null,null,1,1,1,1,1,1,1,1,null,null,8]
[null,"03.01 - OFICINA GENERAL DE PLANEAMIENTO, PRESUPUESTO Y DESARROLLO ORGANIZACIONAL"]
["OEI.04"]
[null,"AEI.04.01"]
[null,null,"18AO111141933","Gestión de Documentos de Gestión Institucional",13890.525668975301,2,2,4,2,1,6,3,null,1,4,1,null,{"$f":"SUM(F47:Q47)","v":26}]
[null,null,null,"Promover la Gestión Normativa Institucional",50492.060806725218,1,1,4,2,3,3,2,2,3,3,2,3,{"$f":"SUM(F48:Q48)","v":29}]
[null,null,null,"Gestionar la innovación de servicios y la Mejora Continua",13890.525668975301,null,1,1,2,1,2,2,1,2,null,2,1,{"$f":"SUM(F49:Q49)","v":15}]
[null,null,null,"Gestionar el Sistema de Control Interno",25928.981248753895,null,null,1,null,1,2,null,null,1,null,1,2,{"$f":"SUM(F50:Q50)","v":8}]
[null,null,"18AO111141936","Dar opinión sobre aprobación de planes especificos",0,{"$nulls":11},7,{"$f":"SUM(F51:Q51)","v":7}]
[null,null,null,"Elaborar la memoria anual institucional",0,null,1,{"$nulls":10},{"$f":"SUM(F52:Q52)","v":1}]
[null,null,null,"Gestionar información para los comités de desarrollo",0,1,null,null,2,null,null,2,null,null,2,null,null,7]
[null,null,null,"Realizar asistencia técnica en sistema de planeamiento",294143,{"$nulls":9},1,null,null,1]
[null,null,null,"Realizar la formulación, actualización, seguimiento y evaluación del PEI",37041,null,1,{"$nulls":5},1,1,null,null,null,3]
[null,null,null,"Realizar la programación, formulación seguimiento y evaluación poi",126867,1,null,null,1,null,null,1,1,null,1,null,null,{"$f":"SUM(F56:Q56)","v":5}]
[null,null,null,"Realizar las certificaciones presupuestarias",0,184,187,186,187,184,187,184,187,185,187,184,184,2226]
[null,null,null,"Realizar las modificaciones presupuestarias",0,{"$nulls":12},0]
[null,null,"18AO111141939","Gestionar el apoyo técnico y financiero de los Organismos Cooperantes",713803,{"$nulls":6},1,{"$nulls":4},1,2]
[null,null,null,"Realizar Coordianciones para el Financiamiento del PIP Local Institucional",11412,{"$nulls":6},1,{"$nulls":4},1,2]
[null,null,null,"Implementar el seguimiento del PP Articulado Nutricional",{"$f":"1493847-366000-267568","v":860279},{"$nulls":8},1,1,1,1,4]
[null,null,null,"Organizar el Archivo Técnico de los Estudios Gubernamentales",0,{"$nulls":11},1,1]
[null,"03.02 - OFICINA GENERAL DE ASESORÍA JURÍDICA"]
["OEI.04"]
[null,"AEI.04.01"]
[null,null,"18AO111142899","Actualizar los instrumentos normativos internos del sis",166584.40241898835,22,20,23,20,23,22,21,22,21,22,22,21,{"$f":"SUM(F66:Q66)","v":259}]
[null,null,null,"Dotar de seguridad jurídica a los operadores de los sistemas administrativos",115220.87833980029,30,30,30,30,30,30,30,30,30,30,30,30,{"$f":"SUM(F67:Q67)","v":360}]
[null,null,null,"Gestionar los documentos contractuales del sis",76745.434194427944,3,3,4,4,5,5,5,4,3,3,3,3,{"$f":"SUM(F68:Q68)","v":45}]
[null,null,null,"Realizar acciones de gestión de recursos",117997.28504678342,8,8,8,{"$nulls":9},{"$f":"SUM(F69:Q69)","v":24}]
[null,"04.01 - OFICINA GENERAL DE IMAGEN INSTITUCIONAL Y TRANSPARENCIA"]
["OEI.04"]
[null,"AEI.04.03"]
[null,null,"18AO110920388","Desarrollar e implementar el protocolo de la gestión de comunicación de crisis",133553.84503981055,{"$nulls":9},1,null,null,{"$f":"SUM(F73:Q73)","v":1}]
[null,null,null,"Implementación del manual de identidad gráfica del sis a nivel nacional ",36707.787977826702,{"$nulls":4},1,{"$nulls":7},1]
[null,null,null,"Desarrollar estrategia de comunicación que impulse el comportamiento ético en la institución*",0,{"$nulls":10},1,null,1]
[null,null,null,"Registro para Banco Fotográfico del SIS",38011.478972869161,{"$nulls":9},3,3,2,8]
[null,null,null,"Elaborar, ejecutar y evaluar el plan de comunicaciones del sis",287654.4354703612,{"$nulls":9},1,null,null,1]
[null,null,null,"Entrenamiento de voceros institucionales Sede Central y Macrorregionales",13355.384503981057,{"$nulls":10},1,null,1]
[null,null,null,"Gestión de material informativo y merchandising",51366.863476850216,{"$nulls":10},1,null,1]
[null,null,null,"Gestión y manejo de medios de comunicación",304538.72349520185,1,1,1,1,1,1,1,1,1,1,1,1,12]
[null,null,null,"Evaluar la percepción de públicos objetivos sobre la gestión del sis",304538.72349520185,{"$nulls":9},1,null,null,1]
[null,null,"18AO110920392","Atencion de solicitudes de acceso a la información pública",362289.46076495503,1,1,1,1,1,1,1,1,1,2,2,2,15]
[null,null,null,"Realizar campañas de difusión del uso de correo electrónico*",0,{"$nulls":9},1,1,null,2]
[null,null,null,"Mantener actualizada el  Portal de Transparencia*",0,{"$nulls":11},1,1]
[null,null,null,"Gestionar el porten de transparencia",369085.29680294229,1,1,1,1,1,1,1,1,1,1,null,null,10]
[null,"04.02.01 - OFICINA GENERAL DE ADMINISTRACIÓN DE RECURSOS"]
["OEI.04"]
[null,"AEI.04.01"]
[null,null,"18AO111142901","Realizar la supervisión integral a udr y gmr",85787.864018351582,null,4,2,2,1,1,2,2,2,1,1,1,{"$f":"SUM(F89:Q89)","v":19}]
[null,null,null,"Toma de inventario físico de bienes patrimoniales del sis periodo 2017 - 2018.",46623.839140408469,null,2,3,2,{"$nulls":4},2,3,4,5,21]
[null,null,null,"Seguimiento e implementacion de recomendaciones de auditoria",120848.99105193875,null,3,3,5,4,5,4,6,3,4,5,3,45]
[null,null,null,"Procesamiento del sistema de rendición de cuentas del titular",44758.885574792126,{"$nulls":5},1,{"$nulls":5},1,2]
[null,null,null,"Realizar la fiscalización o verificación posterior de los procedimientos de contrataciones del Estado*",0,{"$nulls":11},1,1]
[null,null,null,"Gestionar convenios para capacitacion y promoción de lucha anticorrupción*",0,{"$nulls":10},1,null,1]
[null,null,null,"Diseñar instrumentos normativo que regule un procedimiento de fiscalizacion o verificacion posterior*",0,{"$nulls":10},1,null,1]
[null,null,null,"Emitir informes de califiicación PAD a través de Secretarias Técnicas*",0,{"$nulls":10},1,1,2]
[null,null,null,"Realizar seguimiento de plazos de prescripción en los Procedimientos Administrativos instaurados*",0,{"$nulls":9},1,1,1,3]
[null,null,null,"Implementar acciones que eviten retrasos de procedimientos administrativos disciplinarios instaurados*",0,{"$nulls":9},1,1,null,2]
[null,null,null,"Registrar las sanciones interpuestas en el Registro Nacional de Sanciones de Destitución y Despido (RNSDD)*",0,{"$nulls":9},1,1,1,3]
[null,null,null,"Actualizar el Registro de Procedimientos Administrativos vinculados a la Corrupción (REPRAC)*",0,{"$nulls":10},1,null,1]
[null,null,null,"Apoyo al proceso de auditoria externa",{"$f":"41774.959869806+90096","v":131870.95986980601},1,1,1,1,1,{"$nulls":5},1,3,{"$f":"SUM(F101:Q101)","v":9}]
[null,null,null,"Implementación del sistema de ecoeficiencia",152669.57476991098,2,3,2,2,2,1,2,2,2,2,2,2,{"$f":"SUM(F102:Q102)","v":24}]
[null,null,null,"Procesamiento de información en el aplicativo del sistema web mochica",44758.885574792126,1,null,null,1,null,null,1,null,null,1,3,3,10]
[null,"04.02.02 - OFICINA DE ABASTECIMIENTO"]
["OEI.04"]
[null,"AEI.04.01"]
[null,null,"18AO110920401","Inventario fisico del sis",331950.46952540515,null,1,1,{"$nulls":9},{"$f":"SUM(F107:Q107)","v":2}]
[null,null,null,"Realizar la gestión del almacén central",1008909.841322009,null,null,1,null,null,1,null,null,1,null,null,1,4]
[null,null,null,"Ingreso de informacion 2018 y validacion siga - patrimonial del mef",100894.62083742151,{"$nulls":11},1,1]
[null,null,null,"Elaborar, ejecutar y evaluar el plan de mantenimiento (infr, equip y mob)",1687558.063543011,1,1,null,1,1,null,1,1,null,null,2,null,8]
[null,null,null,"Requerimiento de seguros patrimoniales",{"$f":"225043.754057432+12012+79042","v":316097.754057432},{"$nulls":11},1,1]
[null,null,null,"Implementar la gestión de siniestros en patrimonio",119176.60408178707,null,null,null,1,{"$nulls":8},1]
[null,null,null,"Tramite de baja de bienes patrimoniales",14004.863104424237,{"$nulls":6},1,null,null,1,null,null,2]
[null,null,null,"Realizar tramite de saneamiento de los bienes sobrantes",53220.076399104073,{"$nulls":10},1,null,1]
[null,null,null,"Contratar el suministro de servicios basicos",4726568.1201381311,1,1,1,1,1,1,1,1,1,1,1,1,12]
[null,null,null,"Contratar el servicio de alquiler de local a nivel nacional",5332524.8140081437,1,1,1,1,1,1,1,1,1,1,1,1,{"$f":"SUM(F116:Q116)","v":12}]
[null,null,null,"Atención de bienes y servicios de las diferentes áreas",{"$f":"1100625.77298313+34293","v":1134918.7729831301},1,1,1,1,1,1,1,1,1,1,1,1,12]
[null,"04.02.03 - OFICINA DE GESTIÓN DE RECURSOS HUMANOS"]
["OEI.04"]
[null,"AEI.04.04"]
[null,null,"18AO110920421","Ejecutar las acciones de incorporacion de servidores",118597.39889657292,1,1,1,1,1,1,1,1,1,1,1,1,{"$f":"SUM(F121:Q121)","v":12}]
[null,null,null,"Gestionar actividades para el desarrollo y capacitación.",437911.5624354211,null,1,1,1,1,1,1,1,1,1,1,1,{"$f":"SUM(F122:Q122)","v":11}]
[null,null,null,"Diseñar y ejecutar campañas de sensibilización en lucha contra la corrupción y código de ética*",0,{"$nulls":10},1,null,{"$f":"SUM(F123:Q123)","v":1}]
[null,null,null,"Realizar inducción a nuevos servidores sobre valores institucionales y el Código de Ética*",0,{"$nulls":9},1,2,1,{"$f":"SUM(F124:Q124)","v":4}]
[null,null,null,"Consultoría tránsito al Servicio Civil",912.31575507379409,{"$nulls":9},1,1,1,{"$f":"SUM(F125:Q125)","v":3}]
[null,null,null,"Consultoría Gestión del Rendimiento",912.31575507379409,{"$nulls":9},1,1,1,3]
[null,null,null,"Realizar acciones de mantenimiento de recursos humanos del sis",201001.40715785831,null,null,1,null,null,1,null,null,1,null,null,1,{"$f":"SUM(F127:Q127)","v":4}]
[null,null,"18AO111142904","Acciones de gestión de recursos cap",11950173,1,1,1,1,1,1,1,1,1,1,1,1,{"$f":"SUM(F128:Q128)","v":12}]
[null,null,null,"Acciones de gestión de recursos cas",{"$f":"44332657+5682686","v":50015343},1,1,1,1,1,1,1,1,1,1,1,1,{"$f":"SUM(F129:Q129)","v":12}]
[null,"04.02.04 - OFICINA DE CONTABILIDAD"]
["OEI.04"]
[null,"AEI.04.01"]
[null,null,"18AO110920537","Realizar la gestión de control previo  y registro SIAF de viaticos ",2774.4389805097453,49,191,199,364,424,396,385,385,385,180,160,110,{"$f":"SUM(F133:Q133)","v":3228}]
[null,null,null,"Realizar la gestión de control previo y registro SIAF de rendiciones de caja chica",0,{"$nulls":9},44,44,45,{"$f":"SUM(F134:Q134)","v":133}]
[null,null,null,"Efectuar control previo y registro SIAF de ordenes de compra, servicios, Contratos,planillas y otros",9170.018890554722,304,350,300,242,362,360,360,360,360,268,250,260,{"$f":"SUM(F135:Q135)","v":3776}]
[null,null,null,"Efectuar control previo y registro SIAF de las transferencias financieras y Sepelios",19131.218290854573,122,123,180,378,378,378,260,260,260,264,264,0,{"$f":"SUM(F136:Q136)","v":2867}]
[null,null,null,"Analisis e integración de información financiera, presupuestal y contable",0,1,1,1,1,1,1,1,1,1,1,1,1,{"$f":"SUM(F137:Q137)","v":12}]
[null,null,null,"Presentación información Tributaria",0,1,1,1,1,1,1,1,1,1,1,1,1,{"$f":"SUM(F138:Q138)","v":12}]
[null,null,null,"conciliación de operaciones reciprocas y transferencias financieras",12492.32383808096,null,null,218,null,null,436,null,null,218,null,null,528,{"$f":"SUM(F139:Q139)","v":1400}]
[null,"04.02.05 - OFICINA DE TESORERÍA"]
["OEI.04"]
[null,"AEI.04.01"]
[null,null,"18AO111142907","Administrar caja chica",514205.12532219879,4,4,4,4,4,4,4,4,4,4,4,4,{"$f":"SUM(F143:Q143)","v":48}]
[null,null,null,"Administrar garantías otorgadas",110024.52639261349,4,4,4,4,4,4,4,4,4,4,4,4,48]
[null,null,null,"Administrar garantías recibidas",110024.52639261349,4,4,4,4,4,4,4,4,4,4,4,4,48]
[null,null,null,"Administrar recaudación de ingresos",165036.78958892025,169,99,122,107,155,149,94,128,128,128,128,140,1547]
[null,null,null,"Conciliar información con entes rectores",110024.52639261349,1,null,18,1,1,20,1,null,2,null,null,2,46]
[null,null,null,"Gestionar archivo y custodia de comprobantes de pago",210880.3422525092,622,1019,1021,2029,1418,1340,788,1177,1177,900,900,900,13291]
[null,null,null,"Ggestionar devoluciones y reversiones",110024.52639261349,154,31,142,120,208,176,103,130,130,100,100,138,1532]
[null,null,null,"Gastos bancarios RO",128361.94745804908,1,1,1,1,1,1,1,1,1,1,1,1,12]
[null,null,null,"Gastos bancarios RDR",176039.2422281816,{"$nulls":9},3,3,3,9]
[null,null,null,"Programar pagos",137530.65799076686,1,1,1,1,1,1,1,1,1,1,1,1,12]
[null,null,null,"Realizar conciliación de cuentas bancarias",165036.78958892025,13,13,13,13,13,13,13,13,13,13,13,13,156]
[null,"04.03 - OFICINA GENERAL DE TECNOLOGÍA DE LA INFORMACIÓN"]
["OEI.04"]
[null,"AEI.04.02"]
[null,null,"18AO110920396","Planear y organizar tecnologias de la información",297302.78355228493,null,null,1,null,null,1,null,null,null,1,null,3,{"$f":"SUM(F157:Q157)","v":6}]
[null,null,null,"Gestionar la seguridad de la información",465342.22278231889,{"$nulls":4},1,null,1,{"$nulls":4},1,3]
[null,null,null,"Explotar la información",65438.750078763595,1,1,1,1,1,1,1,1,1,1,1,1,12]
[null,null,null,"Gestionar la capacidad de tecnologías de la información",{"$f":"366000+197225.121765163","v":563225.12176516303},2,1,2,1,1,2,1,1,2,1,1,2,17]
[null,null,null,"Desarrollar soluciones de tecnologias de información",{"$f":"32719.3750393818+105743","v":138462.37503938179},{"$nulls":8},1,null,null,null,1]
[null,null,null,"Gestionar cambios de tecnologías de la información",942954.21120440599,null,1,1,1,1,1,1,1,1,1,1,1,11]
[null,null,null,"Gestionar la información",299927.60452766647,{"$nulls":4},1,null,1,{"$nulls":5},2]
[null,null,null,"Implementar Libro de Reclamaciones Virtual*",0,{"$nulls":11},1,1]
[null,null,null,"Identificar procesos con riesgo de corrupción en los sistemas de informacion *",0,{"$nulls":10},1,null,1]
[null,null,null,"Adquisición software de monitoreo de redes",86395,{"$nulls":10},1,null,{"$f":"SUM(F166:Q166)","v":1}]
[null,null,null,"Adquisición de monitores",{"$nulls":13},0]
[null,null,null,"Plataforma de interoperabilidad del SIS con servicios PIDE y entidades externas",327389,{"$nulls":10},1,null,1]
[null,null,null,"Correo electrónico en la nube",395848,{"$nulls":10},1,null,1]
[null,null,null,"Herramientas de auditoria de base de datos",501834,{"$nulls":10},1,null,1]
[null,null,null,"Adquisición de camaras de seguridad",14954,{"$nulls":10},1,null,1]
[null,null,null,"Adquisición de licencias de software para editar PDF",{"$nulls":13},0]
[null,null,null,"Software de diseño gráfico, diseño web, edición de audio, video y meltimedia",24918,{"$nulls":10},1,null,1]
[null,null,null,"Analisis de datos estadisticos",410809.9310500159,null,1,null,null,null,1,{"$nulls":5},1,3]
[null,"05.01 - GERENCIA DEL ASEGURADO"]
["OEI.01"]
[null,"AEI.01.01"]
[null,null,"18AO111142910","Estandarizar los códigos de afiliación en el régimen semicontributivo",26134.993316371139,1,1,1,{"$nulls":4},1,1,null,null,null,{"$f":"SUM(F178:Q178)","v":5}]
[null,null,null,"Realizar acciones de control y asistencia técnica en los procesos de la GA",136389.8184537022,2,2,2,2,2,2,2,2,2,2,3,2,25]
[null,null,null,"Optimizar el proceso de afiliacion en el regimen semicontributivo",78404.979949113418,null,1,1,1,1,1,1,1,1,null,null,null,8]
[null,null,null,"Identificar procesos que representen riesgos de corrupción*",0,{"$nulls":10},1,null,1]
[null,null,null,"Realizar plan de afiliacion-acreditacion para el traslado del regimen subsidiado al semicontribitivo*",0,{"$nulls":11},1,1]
[null,null,null,"Mejora de los procesos misionales de la Entidad*",0,{"$nulls":10},1,null,1]
[null,null,null,"Apoyo en la Gestión de la Gerencia del Asegurado.",75791.480617476307,{"$nulls":9},1,1,1,3]
[null,null,null,"Gestionar la implementación del servicio web con el banco de la nación",13833.251962355245,1,{"$nulls":11},1]
[null,"AEI.01.02"]
[null,null,"18AO110920443","Gestionar la atención de reclamos",45354.667401230479,1,1,3,1,1,4,1,1,3,6,2,2,{"$f":"SUM(F187:Q187)","v":26}]
[null,null,null,"Promoción de los productos del SIS.",18203.894011296379,{"$nulls":9},1,null,1,{"$f":"SUM(F188:Q188)","v":2}]
[null,null,null,"Fortalecer los canales de atención",{"$f":"87116.6443879038+203040","v":290156.6443879038},1,1,1,1,1,1,1,1,1,null,null,null,{"$f":"SUM(F189:Q189)","v":9}]
[null,null,null,"Realizar otras acciones de gestión",0,null,null,1,null,null,3,null,null,1,null,null,null,{"$f":"SUM(F190:Q190)","v":5}]
[null,null,"18AO111149595","Consolidado y análisis de la intervención de Gestores y Gestiones Inmediatas de Protección, a nivel nacional.",13067.49665818557,{"$nulls":9},1,1,null,{"$f":"SUM(F191:Q191)","v":2}]
[null,null,null,"Consolidado y análisis de la Verificación de la Gratuidad a nivel nacional .",0,{"$nulls":11},1,1]
[null,null,null,"Atención de casos sociales.",0,{"$nulls":9},1,1,1,3]
[null,null,"18AO111149596","Fortalecer los canales de atención SIS.",88358.92773687531,{"$nulls":9},4,5,5,14]
[null,null,null,"Desarrollar acciones de gestión en los canales de atención SIS.",10453.997326548457,{"$nulls":9},1,1,3,5]
[null,null,null,"Supervisión a los canales de atención SIS.",2961.9659091887293,{"$nulls":10},2,1,3]
[null,null,null,"Realizar otras acciones de gestión de la GA",112343.88226975298,{"$nulls":9},1,2,6,9]
[null,"05.02 - GERENCIA DE RIESGO Y EVALUACIÓN DE LAS PRESTACIONES"]
["OEI.02"]
[null,"AEI.02.02"]
[null,null,"18AO111142911 ","Implementar el control prestacional concurrente",21271.516327190431,{"$nulls":11},1,{"$f":"SUM(F201:Q201)","v":1}]
[null,null,null,"Conducción del proceso de control presencial posterior",10635.758163595216,{"$nulls":5},1,1,1,1,2,4,2,{"$f":"SUM(F202:Q202)","v":12}]
[null,null,null,"Identificar procesos que representen riesgos de corrupción*",0,{"$nulls":12},{"$f":"SUM(F203:Q203)","v":0}]
[null,null,null,"Mejora de los procesos misionales de la Entidad*",0,{"$nulls":10},1,null,1]
[null,null,null,"Conduccion del proceso de evaluación automatizada",42543.032654380862,1,1,1,1,1,1,1,1,1,1,1,1,{"$f":"SUM(F205:Q205)","v":12}]
[null,null,null,"Conduccion del proceso de supervision médica electronica",47860.911736178467,1,1,1,1,1,1,1,1,1,1,1,1,{"$f":"SUM(F206:Q206)","v":12}]
[null,null,null,"Asistencia tecnica en evaluacion prestacional",42968.462980924669,{"$nulls":6},1,3,4,2,4,2,{"$f":"SUM(F207:Q207)","v":16}]
[null,"AEI.03.03"]
[null,null,"18AO110920533","Aalidar anteproyecto de convenio 2019",147730.68089233755,{"$nulls":10},2,1,{"$f":"SUM(F209:Q209)","v":3}]
[null,null,null,"Emitir los informes tecnicos",0,{"$nulls":6},1,1,1,1,1,1,{"$f":"SUM(F210:Q210)","v":6}]
[null,null,null,"Evaluar normar, instrumentos tecnicos, metodologias y otros",0,{"$nulls":6},3,3,3,3,3,3,{"$f":"SUM(F211:Q211)","v":18}]
[null,null,null,"Realziar otras acciones de gestion administrativa",15953.637245392823,{"$nulls":6},1,null,null,1,1,1,{"$f":"SUM(F212:Q212)","v":4}]
[null,"05.03 - GERENCIA DE NEGOCIOS Y FINANCIAMIENTO"]
["OEI.02"]
[null,"AEI.02.01"]
[null,null,"18AO111142912","Conducción del proceso de supervisión financiera",133496.18017131969,{"$nulls":7},2,5,6,2,2,{"$f":"SUM(F216:Q216)","v":17}]
[null,null,null,"Asistencia técnica en supervisión financiera",133496.18017131969,{"$nulls":6},13,8,8,5,4,2,{"$f":"SUM(F217:Q217)","v":40}]
[null,null,null,"Mejora de los procesos misionales de la Entidad*",0,{"$nulls":10},1,null,{"$f":"SUM(F218:Q218)","v":1}]
[null,null,null,"Otras acciones de gestión en control financiero",0,{"$nulls":5},1,1,1,1,1,1,1,{"$f":"SUM(F219:Q219)","v":7}]
["OEI.03"]
[null,"AEI.03.01"]
[null,null,"18AO111143139","Análisis y evaluación de riesgos en los procesos criticos de GNF",30474.878863604819,{"$nulls":5},1,null,null,1,null,null,1,{"$f":"SUM(F222:Q222)","v":3}]
[null,null,null,"Administrar fondos del regimen semi contributivo",17142.202407646208,1,1,1,1,1,1,null,null,null,1,1,1,9]
[null,null,null,"Identificar procesos que representen riesgos de corrupción*",0,{"$nulls":10},1,null,1]
[null,null,null,"Implementar el Analisis Biometrico de huella digital por modalidad de pago*",0,{"$nulls":11},1,1]
[null,null,null,"Identificar precios atipicos de medicamentos e insumos de las prestaciones que financia el SIS*",0,{"$nulls":11},1,1]
[null,null,null,"Elaboración, revisión o actualización del manual de riesgos operacionales. ",15237.43943180241,{"$nulls":5},1,null,null,1,null,null,1,3]
[null,"AEI.03.02"]
[null,null,"18AO111142914","Administrar recursos del regimen subsidiado",45712,1,1,1,1,1,1,4,2,2,1,1,1,{"$f":"SUM(F229:Q229)","v":17}]
[null,null,null,"Asignar recursos en el marco de los contratos",36895267,1,1,1,1,1,1,6,6,1,15,5,3,{"$f":"SUM(F230:Q230)","v":42}]
[null,null,null,"Asignar recursos en el marco de los convenios",1681284333,1,1,1,1,1,1,20,1,null,1,1,null,{"$f":"SUM(F231:Q231)","v":29}]
[null,"AEI.03.03"]
[null,null,"18AO111142916","Programacion de Pagos de prestación de emergencias",38093.598579506026,1,1,1,1,1,1,{"$nulls":4},1,1,{"$f":"SUM(F233:Q233)","v":8}]
[null,null,null,"Programacion de Pagos de prestación de referencias (Traslados)",34284.404815292415,1,1,1,1,1,1,1,null,1,1,1,1,{"$f":"SUM(F234:Q234)","v":11}]
[null,null,null,"Programacion de Pagos de prestación economica de sepelio",{"$f":"30474.8788636048+69448408","v":69478882.878863603},1,1,1,1,1,1,1,null,1,1,1,1,{"$f":"SUM(F235:Q235)","v":11}]
[null,null,null,"Programacion de Pagos no tarifados",15237.43943180241,1,1,1,1,1,1,1,null,1,1,1,1,{"$f":"SUM(F236:Q236)","v":11}]
[null,"06.01 - GERENCIA MACRO REGIONAL NORTE"]
["OEI.01"]
[null,"AEI.01.01"]
[null,null,"18AO111142917","Asistencia Técnica y Monitoreo de las acciones de gestores",13000,{"$nulls":8},1,1,null,null,{"$f":"SUM(F240:Q240)","v":2}]
[null,null,null,"Monitoreo de las afiliaciones y protección de derechos",0,{"$nulls":6},1,1,1,1,1,1,{"$f":"SUM(F241:Q241)","v":6}]
[null,null,null,"Monitoreo de las acciones de difusión e información",0,{"$nulls":9},1,null,null,{"$f":"SUM(F242:Q242)","v":1}]
[null,null,null,"Supervision a UDRs en procesos de aseguramiento  y promocion",0,{"$nulls":9},2,2,null,{"$f":"SUM(F243:Q243)","v":4}]
["OEI.02"]
[null,"AEI.02.01"]
[null,null,"18AO111142918","Supervisión a UDRs sobre procesos de control prestacional",17050,{"$nulls":6},1,null,1,2,null,null,{"$f":"SUM(F246:Q246)","v":4}]
[null,null,null,"Asistencia técnica a UDRs en los procesos de control prestacional",19846,{"$nulls":8},1,null,null,null,{"$f":"SUM(F247:Q247)","v":1}]
[null,null,null,"Montorizar los procesos de Control Prestacional mediante PCPP",13713.571428571429,{"$nulls":6},1,1,1,1,null,null,{"$f":"SUM(F248:Q248)","v":4}]
[null,null,null,"Montorizar los procesos de Control Prestacional mediante SME",13713.571428571429,{"$nulls":6},1,1,1,1,null,null,{"$f":"SUM(F249:Q249)","v":4}]
["OEI.03"]
[null,"AEI.03.02"]
[null,null,"18AO111142919","Asistencia técnica a UDRs en los procesos de supervisión financiera",20000,{"$nulls":8},1,null,null,null,{"$f":"SUM(F252:Q252)","v":1}]
[null,null,null,"Monitoreo a las UDR en los procesos de supervisión financiera",13713.571428571429,{"$nulls":6},1,1,1,1,null,null,{"$f":"SUM(F253:Q253)","v":4}]
[null,null,null,"Realizar la supervisión a UDRS en el proceso financiero",13713.571428571429,{"$nulls":7},1,null,2,1,null,{"$f":"SUM(F254:Q254)","v":4}]
[null,null,null,"Realizar la supervisión Financiera a UEs",13713.571428571429,{"$nulls":9},1,1,null,{"$f":"SUM(F255:Q255)","v":2}]
["OEI.04"]
[null,"AEI.04.01"]
[null,null,"18AO110920454","Administrar fondos en efectivo (Caja Chica)",4571.1904761904761,1,1,1,1,1,1,1,1,1,1,1,1,{"$f":"SUM(F258:Q258)","v":12}]
[null,null,null,"Seguimiento a las recomendaciones del organo de control",9142.3809523809523,{"$nulls":5},1,{"$nulls":5},1,2]
[null,null,null,"Remitir conformidades sobre prestación de servicios",27427.142857142859,1,1,1,1,1,1,1,1,1,3,2,2,16]
[null,null,null,"Gestionar información estadistica",27427.142857142859,null,null,1,null,null,1,null,null,1,null,null,0,3]
[null,null,null,"Remitir informes de gestión",13713.571428571429,null,null,1,null,null,1,null,null,1,null,null,1,4]
[null,null,null,"Realizar el Inventario de bienes patrimoniales",10970.857142857143,{"$nulls":5},1,{"$nulls":5},1,2]
[null,null,null,"Consolidación y envío de base de datos",10970.857142857143,1,1,1,1,1,1,1,1,1,null,null,null,{"$f":"SUM(F264:Q264)","v":9}]
[null,null,null,"Supervisión y asistencia técnica a los procesos administrativos que ejecutan las UDR's",0,{"$nulls":10},1,null,1]
[null,null,null,"Realizar Taller Macrorregional de competencias institucionales",0,{"$nulls":10},1,null,1]
[null,"06.02 - UDR CAJAMARCA"]
["OEI.01"]
[null,"AEI.01.01"]
[null,null,"18AO111143143","Ejecutar los proceso de afiliación",0,{"$nulls":7},1,1,1,1,1,{"$f":"SUM(F270:Q270)","v":5}]
[null,null,null,"Identificar necesidad y plantear la implementación de canales de atención",3830.2073173013941,{"$nulls":9},1,null,null,{"$f":"SUM(F271:Q271)","v":1}]
[null,null,null,"Implementar las acciones de promoción del aseguramiento.",0,{"$nulls":9},1,null,null,1]
[null,null,null,"Implementación de acciones de información a través de medios masivos",0,{"$nulls":7},1,null,1,null,1,{"$f":"SUM(F273:Q273)","v":3}]
[null,null,null,"Seguimiento de las Afiliaciones Tempranas en Coordinacion con ORAS-RENIEC",1400,{"$nulls":10},1,1,2]
[null,null,null,"Coordinacion  para campañas de Informaciòn y Afiliacion al SIS con Ules Distritales y Gobernadores distritales",2012.8717132965285,{"$nulls":9},1,1,1,3]
[null,null,null,"Campaña de afiliacion en  Tambos-Programa PAIS",2137.4780574529805,{"$nulls":9},1,1,1,3]
[null,"AEI.01.02"]
[null,null,"18AO111143144","Detectar cobros indebidos a asegurados SIS por parte de las IPRESS",5751.0620379900811,{"$nulls":6},1,null,1,null,1,null,3]
[null,null,null,"Orientar al asegurado sobre sus derechos y deberes",0,{"$nulls":6},1,1,1,1,1,1,6]
[null,null,null,"Ejecutar actividades operativas inopinadas",0,{"$nulls":7},1,null,1,null,1,3]
[null,null,null,"Formular informes técnicos sobre vulneracion de derechos",0,{"$nulls":8},1,null,null,1,2]
["OEI.02"]
[null,"AEI.02.01"]
[null,null,"18AO111143145","Realizar el Control Prestacional mediante PCPP",13000,1,1,1,1,1,1,1,1,1,null,null,1,{"$f":"SUM(F284:Q284)","v":10}]
[null,null,null,"Realizar el reguimiento a las recomendacones del PCPP",0,{"$nulls":5},1,null,null,1,null,null,1,{"$f":"SUM(F285:Q285)","v":3}]
[null,null,null,"Realizar el Control Prestacional mediante SME",0.95851033966501353,1,1,1,1,1,1,1,1,1,1,1,1,{"$f":"SUM(F286:Q286)","v":12}]
[null,null,null,"Realizar el Control Técnico de las Prespaciones Económicas de Sepelios",0.95851033966501353,1,1,1,1,1,1,1,1,1,1,1,1,{"$f":"SUM(F287:Q287)","v":12}]
[null,null,null,"Realziar el control de prestaciones asistenciales no tarifadas",0.95851033966501353,1,1,1,1,1,1,1,1,1,1,1,1,{"$f":"SUM(F288:Q288)","v":12}]
["OEI.03"]
[null,"AEI.03.02"]
[null,null,"18AO111143147","Realizar la Supervisión Financiera a las UEs",13200,1,1,1,1,1,1,1,1,1,1,1,1,{"$f":"SUM(F291:Q291)","v":12}]
[null,null,null,"Monitorear la ejecución presupuestal de las IPRESS",0.95851033966501353,1,1,1,1,1,1,1,1,1,1,1,1,{"$f":"SUM(F292:Q292)","v":12}]
[null,null,null,"Realizar el reguimiento a las recomendacones de la supervisión",0,{"$nulls":5},1,null,null,1,null,null,1,{"$f":"SUM(F293:Q293)","v":3}]
[null,null,null,"Actualizar la normativa sobre supervisión financiera",0,{"$nulls":5},1,{"$nulls":5},1,{"$f":"SUM(F294:Q294)","v":2}]
[null,"AEI.03.03"]
[null,null,"18AO111143148","Socializar los convenios con las IPRESS",0,{"$nulls":11},1,{"$f":"SUM(F296:Q296)","v":1}]
[null,null,null,"Verificar el cumplimiento de los convenios",0,{"$nulls":5},1,{"$nulls":5},1,{"$f":"SUM(F297:Q297)","v":2}]
[null,null,null,"Socializar los contratos con las IPRESS",0,{"$nulls":11},1,{"$f":"SUM(F298:Q298)","v":1}]
[null,null,null,"Verificar el cumplimiento de los contratos",80514.868531861139,{"$nulls":5},1,{"$nulls":5},1,{"$f":"SUM(F299:Q299)","v":2}]
[null,null,null,"Participar en Taller Macrorregional de Fortalecimiento de Competencias",2913.8714325816413,{"$nulls":10},1,null,{"$f":"SUM(F300:Q300)","v":1}]
[null,null,null,"Capacitar, brindar asistencia técnica y supervisar a los  Puntos de Digitación en el ámbito de la jurisdicción",5271.8068681575742,{"$nulls":12},0]
[null,"06.03 - UDR CHOTA"]
["OEI.01"]
[null,"AEI.01.01"]
[null,null,"18AO111142921","Ejecutar los proceso de afiliación",0,{"$nulls":7},1,1,1,1,1,{"$f":"SUM(F305:Q305)","v":5}]
[null,null,null,"Identificar necesidad y plantear la implementación de canales de atención",0,{"$nulls":9},1,null,null,{"$f":"SUM(F306:Q306)","v":1}]
[null,null,null,"Implementar las acciones de promoción del aseguramiento.",0,{"$nulls":9},1,null,null,{"$f":"SUM(F307:Q307)","v":1}]
[null,null,null,"Implementación de acciones de información a través de medios masivos",0,{"$nulls":7},1,null,1,null,1,{"$f":"SUM(F308:Q308)","v":3}]
[null,null,null,"Realizar acciones de verificación y monitoreo a los puntos de digitación para garantizar el correcto uso de nuestros sistemas de información",0,{"$nulls":9},1,1,1,{"$f":"SUM(F309:Q309)","v":3}]
[null,"AEI.01.02"]
[null,null,"18AO111142923","Detectar cobros indebidos a asegurados SIS por parte de las IPRESS",5369.6223316912974,{"$nulls":6},1,null,1,null,1,null,{"$f":"SUM(F311:Q311)","v":3}]
[null,null,null,"Orientar al asegurado sobre sus derechos y deberes",0,{"$nulls":6},1,1,1,1,1,1,{"$f":"SUM(F312:Q312)","v":6}]
[null,null,null,"Ejecutar actividades operativas inopinadas",0,{"$nulls":7},1,null,1,null,1,{"$f":"SUM(F313:Q313)","v":3}]
[null,null,null,"Formular informes técnicos sobre vulneracion de derechos",0,{"$nulls":8},1,null,null,1,{"$f":"SUM(F314:Q314)","v":2}]
["OEI.02"]
[null,"AEI.02.01"]
[null,null,"18AO111142924","Realizar el Control Prestacional mediante PCPP",5200,1,1,1,1,1,1,1,1,1,null,null,1,{"$f":"SUM(F317:Q317)","v":10}]
[null,null,null,"Realizar el reguimiento a las recomendacones del PCPP",0,{"$nulls":5},1,null,null,1,null,null,1,{"$f":"SUM(F318:Q318)","v":3}]
[null,null,null,"Realizar el Control Prestacional mediante SME",0,1,1,1,1,1,1,1,1,1,1,1,1,{"$f":"SUM(F319:Q319)","v":12}]
[null,null,null,"Realizar el Control Técnico de las Prespaciones Económicas de Sepelios",0,1,1,1,1,1,1,1,1,1,1,1,1,{"$f":"SUM(F320:Q320)","v":12}]
[null,null,null,"Realziar el control de prestaciones asistenciales no tarifadas",0,1,1,1,1,1,1,1,1,1,1,1,1,{"$f":"SUM(F321:Q321)","v":12}]
["OEI.03"]
[null,"AEI.03.02"]
[null,null,"18AO111142926","Realizar la Supervisión Financiera a las UEs",10000,1,1,1,1,1,1,1,1,1,1,1,1,{"$f":"SUM(F324:Q324)","v":12}]
[null,null,null,"Monitorear la ejecución presupuestal de las IPRESS",0,1,1,1,1,1,1,1,1,1,1,1,1,{"$f":"SUM(F325:Q325)","v":12}]
[null,null,null,"Realizar el reguimiento a las recomendacones de la supervisión",0,{"$nulls":5},1,null,null,1,null,null,1,{"$f":"SUM(F326:Q326)","v":3}]
[null,null,null,"Actualizar la normativa sobre supervisión financiera",0,{"$nulls":5},1,{"$nulls":5},1,{"$f":"SUM(F327:Q327)","v":2}]
[null,"AEI.03.03"]
[null,null,"18AO111142927","Socializar los convenios con las IPRESS",0,{"$nulls":11},1,{"$f":"SUM(F329:Q329)","v":1}]
[null,null,null,"Verificar el cumplimiento de los convenios",0,{"$nulls":5},1,{"$nulls":5},1,{"$f":"SUM(F330:Q330)","v":2}]
[null,null,null,"Socializar los contratos con las IPRESS",0,{"$nulls":11},1,{"$f":"SUM(F331:Q331)","v":1}]
[null,null,null,"Verificar el cumplimiento de los contratos",60032.377668308705,{"$nulls":5},1,1,1,1,1,1,1,{"$f":"SUM(F332:Q332)","v":7}]
[null,null,null,"Participar en Taller Macrorregional de Fortalecimiento de Competencias",0,{"$nulls":10},1,null,{"$f":"SUM(F333:Q333)","v":1}]
[null,"06.04 - UDR CUTERVO"]
["OEI.01"]
[null,"AEI.01.01"]
[null,null,"18AO111142928","Ejecutar los proceso de afiliación",0,{"$nulls":7},1,1,1,1,1,{"$f":"SUM(F337:Q337)","v":5}]
[null,null,null,"Identificar necesidad y plantear la implementación de canales de atención",0,{"$nulls":11},1,{"$f":"SUM(F338:Q338)","v":1}]
[null,null,null,"Implementar las acciones de promoción del aseguramiento.",0,{"$nulls":9},1,1,1,{"$f":"SUM(F339:Q339)","v":3}]
[null,null,null,"Implementación de acciones de información a través de medios masivos",0,{"$nulls":7},1,null,null,null,1,{"$f":"SUM(F340:Q340)","v":2}]
[null,"AEI.01.02"]
[null,null,"18AO111142929","Detectar cobros indebidos a asegurados SIS por parte de las IPRESS",13700.207664715877,{"$nulls":6},1,null,1,1,1,1,{"$f":"SUM(F342:Q342)","v":5}]
[null,null,null,"Orientar al asegurado sobre sus derechos y deberes",0,{"$nulls":6},1,1,1,1,1,1,{"$f":"SUM(F343:Q343)","v":6}]
[null,null,null,"Ejecutar actividades operativas inopinadas",0,{"$nulls":7},1,null,null,null,1,{"$f":"SUM(F344:Q344)","v":2}]
[null,null,null,"Formular informes técnicos sobre vulneracion de derechos",0,{"$nulls":8},1,null,null,1,{"$f":"SUM(F345:Q345)","v":2}]
["OEI.02"]
[null,"AEI.02.01"]
[null,null,"18AO111142930","Realizar el Control Prestacional mediante PCPP",10000,1,1,1,1,1,1,1,1,1,null,null,1,{"$f":"SUM(F348:Q348)","v":10}]
[null,null,null,"Realizar el reguimiento a las recomendacones del PCPP",0,{"$nulls":5},1,null,null,1,1,1,1,{"$f":"SUM(F349:Q349)","v":5}]
[null,null,null,"Realizar el Control Prestacional mediante SME",1328.92014347744,1,1,1,1,1,1,1,1,1,1,1,1,{"$f":"SUM(F350:Q350)","v":12}]
[null,null,null,"Realizar el Control Técnico de las Prespaciones Económicas de Sepelios",0,1,1,1,1,1,1,1,1,1,1,1,1,{"$f":"SUM(F351:Q351)","v":12}]
[null,null,null,"Realziar el control de prestaciones asistenciales no tarifadas",0,1,1,1,1,1,1,1,1,1,1,1,1,{"$f":"SUM(F352:Q352)","v":12}]
["OEI.03"]
[null,"AEI.03.02"]
[null,null,"18AO111142931","Realizar la Supervisión Financiera a las UEs",10000,1,1,1,1,1,1,1,1,1,null,1,null,{"$f":"SUM(F355:Q355)","v":10}]
[null,null,null,"Monitorear la ejecución presupuestal de las IPRESS",0,1,1,1,1,1,1,1,1,1,1,1,1,{"$f":"SUM(F356:Q356)","v":12}]
[null,null,null,"Realizar el reguimiento a las recomendacones de la supervisión",0,{"$nulls":5},1,null,null,1,null,null,1,{"$f":"SUM(F357:Q357)","v":3}]
[null,null,null,"Actualizar la normativa sobre supervisión financiera",0,{"$nulls":5},1,{"$nulls":5},0,{"$f":"SUM(F358:Q358)","v":1}]
[null,"AEI.03.03"]
[null,null,"18AO111142932","Socializar los convenios con las IPRESS",0,{"$nulls":11},1,{"$f":"SUM(F360:Q360)","v":1}]
[null,null,null,"Verificar el cumplimiento de los convenios",0,{"$nulls":5},1,{"$nulls":5},1,{"$f":"SUM(F361:Q361)","v":2}]
[null,null,null,"Socializar los contratos con las IPRESS",0,{"$nulls":11},1,{"$f":"SUM(F362:Q362)","v":1}]
[null,null,null,"Verificar el cumplimiento de los contratos",57540.87219180668,{"$nulls":5},1,{"$nulls":5},1,{"$f":"SUM(F363:Q363)","v":2}]
[null,null,null,"Participar en Taller Macrorregional de Fortalecimiento de Competencias",0,{"$nulls":11},1,{"$f":"SUM(F364:Q364)","v":1}]
[null,"06.05 - UDR JAÉN"]
["OEI.01"]
[null,"AEI.01.01"]
[null,null,"18AO111142933","Ejecutar los proceso de afiliación",0,{"$nulls":7},1,1,1,1,1,{"$f":"SUM(F368:Q368)","v":5}]
[null,null,null,"Identificar necesidad y plantear la implementación de canales de atención",0,{"$nulls":9},1,null,null,{"$f":"SUM(F369:Q369)","v":1}]
[null,null,null,"Implementar las acciones de promoción del aseguramiento.",12402.309455075741,{"$nulls":9},1,1,1,{"$f":"SUM(F370:Q370)","v":3}]
[null,null,null,"Implementación de acciones de información a través de medios masivos",0,{"$nulls":7},1,null,1,null,1,{"$f":"SUM(F371:Q371)","v":3}]
[null,"AEI.01.02"]
[null,null,"18AO111142934","Detectar cobros indebidos a asegurados SIS por parte de las IPRESS",12402.309455075741,{"$nulls":6},1,null,1,1,1,1,{"$f":"SUM(F373:Q373)","v":5}]
[null,null,null,"Orientar al asegurado sobre sus derechos y deberes",0,{"$nulls":6},1,1,1,1,1,1,{"$f":"SUM(F374:Q374)","v":6}]
[null,null,null,"Ejecutar actividades operativas inopinadas",0,{"$nulls":7},1,null,1,1,1,{"$f":"SUM(F375:Q375)","v":4}]
[null,null,null,"Formular informes técnicos sobre vulneracion de derechos",0,{"$nulls":8},1,null,null,1,{"$f":"SUM(F376:Q376)","v":2}]
["OEI.02"]
[null,"AEI.02.01"]
[null,null,"18AO111142935","Realizar el Control Prestacional mediante PCPP",10000,1,1,1,1,1,1,1,1,1,null,null,1,{"$f":"SUM(F379:Q379)","v":10}]
[null,null,null,"Realizar el reguimiento a las recomendacones del PCPP",0,{"$nulls":5},1,null,null,1,null,null,1,{"$f":"SUM(F380:Q380)","v":3}]
[null,null,null,"Realizar el Control Prestacional mediante SME",0,1,1,1,1,1,1,1,1,1,1,1,1,{"$f":"SUM(F381:Q381)","v":12}]
[null,null,null,"Realizar el Control Técnico de las Prespaciones Económicas de Sepelios",0,1,1,1,1,1,1,1,1,1,1,1,1,{"$f":"SUM(F382:Q382)","v":12}]
[null,null,null,"Realziar el control de prestaciones asistenciales no tarifadas",0,1,1,1,1,1,1,1,1,1,1,1,1,{"$f":"SUM(F383:Q383)","v":12}]
["OEI.03"]
[null,"AEI.03.02"]
[null,null,"18AO111142936","Realizar la Supervisión Financiera a las UEs",4600,1,1,1,1,1,1,1,1,1,null,null,null,{"$f":"SUM(F386:Q386)","v":9}]
[null,null,null,"Monitorear la ejecución presupuestal de las IPRESS",0,1,1,1,1,1,1,1,1,1,1,1,1,{"$f":"SUM(F387:Q387)","v":12}]
[null,null,null,"Realizar el reguimiento a las recomendacones de la supervisión",0,{"$nulls":5},1,null,null,1,null,null,1,{"$f":"SUM(F388:Q388)","v":3}]
[null,null,null,"Actualizar la normativa sobre supervisión financiera",0,{"$nulls":5},1,{"$nulls":6},{"$f":"SUM(F389:Q389)","v":1}]
[null,"AEI.03.03"]
[null,null,"18AO111142937","Socializar los convenios con las IPRESS",0,{"$nulls":12},{"$f":"SUM(F391:Q391)","v":0}]
[null,null,null,"Verificar el cumplimiento de los convenios",0,{"$nulls":5},1,{"$nulls":6},{"$f":"SUM(F392:Q392)","v":1}]
[null,null,null,"Socializar los contratos con las IPRESS",0,{"$nulls":12},{"$f":"SUM(F393:Q393)","v":0}]
[null,null,null,"Verificar el cumplimiento de los contratos",58541.381089848517,{"$nulls":5},1,{"$nulls":6},{"$f":"SUM(F394:Q394)","v":1}]
[null,null,null,"Participar en Taller Macrorregional de Fortalecimiento de Competencias",0,{"$nulls":10},1,null,{"$f":"SUM(F395:Q395)","v":1}]
[null,"06.06 - UDR LAMBAYEQUE"]
["OEI.01"]
[null,"AEI.01.01"]
[null,null,"18AO111142938","Ejecutar los proceso de afiliación",0,{"$nulls":7},1,1,1,1,1,{"$f":"SUM(F399:Q399)","v":5}]
[null,null,null,"Identificar necesidad y plantear la implementación de canales de atención",0,{"$nulls":9},1,null,null,{"$f":"SUM(F400:Q400)","v":1}]
[null,null,null,"Implementar las acciones de promoción del aseguramiento.",11481.203703703704,{"$nulls":9},1,null,null,{"$f":"SUM(F401:Q401)","v":1}]
[null,null,null,"Implementación de acciones de información a través de medios masivos",0,{"$nulls":7},1,null,1,null,1,{"$f":"SUM(F402:Q402)","v":3}]
[null,"AEI.01.02"]
[null,null,"18AO111142939","Detectar cobros indebidos a asegurados SIS por parte de las IPRESS",11481.203703703704,{"$nulls":6},1,null,1,null,1,null,{"$f":"SUM(F404:Q404)","v":3}]
[null,null,null,"Orientar al asegurado sobre sus derechos y deberes",0,{"$nulls":6},1,1,1,1,1,1,{"$f":"SUM(F405:Q405)","v":6}]
[null,null,null,"Ejecutar actividades operativas inopinadas",0,{"$nulls":7},1,null,1,null,1,{"$f":"SUM(F406:Q406)","v":3}]
[null,null,null,"Formular informes técnicos sobre vulneracion de derechos",0,{"$nulls":8},1,null,null,1,{"$f":"SUM(F407:Q407)","v":2}]
["OEI.02"]
[null,"AEI.02.01"]
[null,null,"18AO111142940","Realizar el Control Prestacional mediante PCPP",21478,1,1,1,1,1,1,1,1,1,null,null,1,{"$f":"SUM(F410:Q410)","v":10}]
[null,null,null,"Realizar el reguimiento a las recomendacones del PCPP",0,{"$nulls":5},1,null,null,1,null,null,1,{"$f":"SUM(F411:Q411)","v":3}]
[null,null,null,"Realizar el Control Prestacional mediante SME",4592.4814814814818,1,1,1,1,1,1,1,1,1,1,1,1,{"$f":"SUM(F412:Q412)","v":12}]
[null,null,null,"Realizar el Control Técnico de las Prespaciones Económicas de Sepelios",0,1,1,1,1,1,1,1,1,1,1,1,1,{"$f":"SUM(F413:Q413)","v":12}]
[null,null,null,"Realziar el control de prestaciones asistenciales no tarifadas",0,1,1,1,1,1,1,1,1,1,1,1,1,{"$f":"SUM(F414:Q414)","v":12}]
["OEI.03"]
[null,"AEI.03.02"]
[null,null,"18AO111142941","Realizar la Supervisión Financiera a las UEs",10000,1,1,1,1,1,1,1,1,1,1,1,1,{"$f":"SUM(F417:Q417)","v":12}]
[null,null,null,"Monitorear la ejecución presupuestal de las IPRESS",0,1,1,1,1,1,1,1,1,1,1,1,1,{"$f":"SUM(F418:Q418)","v":12}]
[null,null,null,"Realizar el reguimiento a las recomendacones de la supervisión",0,{"$nulls":5},1,null,null,1,null,null,1,{"$f":"SUM(F419:Q419)","v":3}]
[null,null,null,"Actualizar la normativa sobre supervisión financiera",0,{"$nulls":5},1,{"$nulls":5},1,{"$f":"SUM(F420:Q420)","v":2}]
[null,"AEI.03.03"]
[null,null,"18AO111142942","Socializar los convenios con las IPRESS",0,{"$nulls":11},1,{"$f":"SUM(F422:Q422)","v":1}]
[null,null,null,"Verificar el cumplimiento de los convenios",0,{"$nulls":5},1,{"$nulls":5},1,{"$f":"SUM(F423:Q423)","v":2}]
[null,null,null,"Socializar los contratos con las IPRESS",0,{"$nulls":11},1,{"$f":"SUM(F424:Q424)","v":1}]
[null,null,null,"Verificar el cumplimiento de los contratos",96442.111111111109,{"$nulls":5},1,{"$nulls":5},1,{"$f":"SUM(F425:Q425)","v":2}]
[null,null,null,"Participar en Taller Macrorregional de Fortalecimiento de Competencias",0,{"$nulls":10},1,null,{"$f":"SUM(F426:Q426)","v":1}]
[null,"06.07 - UDR LA LIBERTAD"]
["OEI.01"]
[null,"AEI.01.01"]
[null,null,"18AO111142944","Ejecutar los proceso de afiliación",0,{"$nulls":7},1,1,1,1,1,{"$f":"SUM(F430:Q430)","v":5}]
[null,null,null,"Identificar necesidad y plantear la implementación de canales de atención",0,{"$nulls":9},1,null,null,{"$f":"SUM(F431:Q431)","v":1}]
[null,null,null,"Implementar las acciones de promoción del aseguramiento.",11207.994451800012,{"$nulls":9},1,null,null,{"$f":"SUM(F432:Q432)","v":1}]
[null,null,null,"Implementación de acciones de información a través de medios masivos",0,{"$nulls":7},1,null,1,null,1,{"$f":"SUM(F433:Q433)","v":3}]
[null,"AEI.01.02"]
[null,null,"18AO111142945","Detectar cobros indebidos a asegurados SIS por parte de las IPRESS",0,{"$nulls":6},1,null,1,null,1,null,{"$f":"SUM(F435:Q435)","v":3}]
[null,null,null,"Orientar al asegurado sobre sus derechos y deberes",11207.994451800012,{"$nulls":6},1,1,1,1,1,1,6]
[null,null,null,"Ejecutar actividades operativas inopinadas",0,{"$nulls":7},1,null,1,null,1,3]
[null,null,null,"Formular informes técnicos sobre vulneracion de derechos",0,{"$nulls":8},1,null,null,1,2]
[null,null,null,"Supervision a IPRESS en los procesos de aseguramiento y promocion proteccion de derechos",0,{"$nulls":9},2,2,1,5]
[null,null,null,"Formular informes técnicos sobre vulneracion de derechos",0,{"$nulls":9},2,2,1,5]
["OEI.02"]
[null,"AEI.02.01"]
[null,null,"18AO111142946","Realizar el Control Prestacional mediante PCPP",30000,1,1,1,1,1,1,1,1,1,null,null,1,{"$f":"SUM(F443:Q443)","v":10}]
[null,null,null,"Realizar el reguimiento a las recomendacones del PCPP",0,{"$nulls":5},1,null,null,1,null,null,1,{"$f":"SUM(F444:Q444)","v":3}]
[null,null,null,"Realizar el Control Prestacional mediante SME",4931.5175587920057,1,1,1,1,1,1,1,1,1,1,1,1,{"$f":"SUM(F445:Q445)","v":12}]
[null,null,null,"Realizar el Control Técnico de las Prespaciones Económicas de Sepelios",0,1,1,1,1,1,1,1,1,1,1,1,1,{"$f":"SUM(F446:Q446)","v":12}]
[null,null,null,"Realziar el control de prestaciones asistenciales no tarifadas",0,1,1,1,1,1,1,1,1,1,1,1,1,{"$f":"SUM(F447:Q447)","v":12}]
["OEI.03"]
[null,"AEI.03.02"]
[null,null,"18AO111142947","Realizar la Supervisión Financiera a las UEs",25000,1,1,1,1,1,1,1,1,1,2,1,1,{"$f":"SUM(F450:Q450)","v":13}]
[null,null,null,"Monitorear la ejecución presupuestal de las IPRESS",0,1,1,1,1,1,1,1,1,1,1,1,1,{"$f":"SUM(F451:Q451)","v":12}]
[null,null,null,"Realizar el reguimiento a las recomendacones de la supervisión",0,{"$nulls":5},1,null,null,1,null,null,1,{"$f":"SUM(F452:Q452)","v":3}]
[null,null,null,"Actualizar la normativa sobre supervisión financiera",0,{"$nulls":5},1,{"$nulls":5},1,{"$f":"SUM(F453:Q453)","v":2}]
[null,"AEI.03.03"]
[null,null,"18AO111142948","Socializar los convenios con las IPRESS",0,{"$nulls":11},1,{"$f":"SUM(F455:Q455)","v":1}]
[null,null,null,"Verificar el cumplimiento de los convenios",0,{"$nulls":5},1,{"$nulls":5},1,{"$f":"SUM(F456:Q456)","v":2}]
[null,null,null,"Socializar los contratos con las IPRESS",0,{"$nulls":11},1,{"$f":"SUM(F457:Q457)","v":1}]
[null,null,null,"Verificar el cumplimiento de los contratos",114868.49353760797,{"$nulls":5},1,{"$nulls":5},1,{"$f":"SUM(F458:Q458)","v":2}]
[null,null,null,"Participar en Taller Macrorregional de Fortalecimiento de Competencias",0,{"$nulls":10},1,null,{"$f":"SUM(F459:Q459)","v":1}]
[null,"06.08 - UDR PIURA I"]
["OEI.01"]
[null,"AEI.01.01"]
[null,null,"18AO111142949","Ejecutar los proceso de afiliación",0,{"$nulls":7},1,1,1,1,1,{"$f":"SUM(F463:Q463)","v":5}]
[null,null,null,"Identificar necesidad y plantear la implementación de canales de atención",0,{"$nulls":9},1,null,null,{"$f":"SUM(F464:Q464)","v":1}]
[null,null,null,"Implementar las acciones de promoción del aseguramiento.",10411.2660944206,{"$nulls":9},1,null,null,{"$f":"SUM(F465:Q465)","v":1}]
[null,null,null,"Implementación de acciones de información a través de medios masivos",0,{"$nulls":7},1,null,1,null,1,{"$f":"SUM(F466:Q466)","v":3}]
[null,"AEI.01.02"]
[null,null,"18AO111142950","Detectar cobros indebidos a asegurados SIS por parte de las IPRESS",10411.2660944206,{"$nulls":6},1,null,1,null,1,null,{"$f":"SUM(F468:Q468)","v":3}]
[null,null,null,"Orientar al asegurado sobre sus derechos y deberes",0,{"$nulls":6},1,1,1,1,1,1,{"$f":"SUM(F469:Q469)","v":6}]
[null,null,null,"Ejecutar actividades operativas inopinadas",0,{"$nulls":7},1,null,1,null,1,{"$f":"SUM(F470:Q470)","v":3}]
[null,null,null,"Formular informes técnicos sobre vulneracion de derechos",0,{"$nulls":8},1,null,null,1,{"$f":"SUM(F471:Q471)","v":2}]
["OEI.02"]
[null,"AEI.02.01"]
[null,null,"18AO111142951","Realizar el Control Prestacional mediante PCPP",24200,1,1,1,1,1,1,1,1,1,null,null,1,{"$f":"SUM(F474:Q474)","v":10}]
[null,null,null,"Realizar el reguimiento a las recomendacones del PCPP",0,{"$nulls":5},1,null,null,1,null,null,1,{"$f":"SUM(F475:Q475)","v":3}]
[null,null,null,"Realizar el Control Prestacional mediante SME",9786.5901287553643,1,1,1,1,1,1,1,1,1,null,1,1,{"$f":"SUM(F476:Q476)","v":11}]
[null,null,null,"Realizar el Control Técnico de las Prespaciones Económicas de Sepelios",0,1,1,1,1,1,1,1,1,1,1,1,1,{"$f":"SUM(F477:Q477)","v":12}]
[null,null,null,"Realziar el control de prestaciones asistenciales no tarifadas",0,1,1,1,1,1,1,1,1,1,1,1,1,{"$f":"SUM(F478:Q478)","v":12}]
["OEI.03"]
[null,"AEI.03.02"]
[null,null,"18AO111142952","Realizar la Supervisión Financiera a las UEs",0,1,1,1,1,1,1,1,1,1,1,1,1,{"$f":"SUM(F481:Q481)","v":12}]
[null,null,null,"Monitorear la ejecución presupuestal de las IPRESS",0,1,1,1,1,1,1,1,1,1,1,1,1,{"$f":"SUM(F482:Q482)","v":12}]
[null,null,null,"Realizar el reguimiento a las recomendacones de la supervisión",0,{"$nulls":5},1,null,null,1,null,null,1,{"$f":"SUM(F483:Q483)","v":3}]
[null,null,null,"Actualizar la normativa sobre supervisión financiera",0,{"$nulls":5},1,{"$nulls":5},1,{"$f":"SUM(F484:Q484)","v":2}]
[null,"AEI.03.03"]
[null,null,"18AO111142953","Socializar los convenios con las IPRESS",0,{"$nulls":11},1,{"$f":"SUM(F486:Q486)","v":1}]
[null,null,null,"Verificar el cumplimiento de los convenios",0,{"$nulls":5},1,{"$nulls":5},1,{"$f":"SUM(F487:Q487)","v":2}]
[null,null,null,"Socializar los contratos con las IPRESS",0,{"$nulls":11},1,{"$f":"SUM(F488:Q488)","v":1}]
[null,null,null,"Verificar el cumplimiento de los contratos",66423.877682403428,{"$nulls":5},1,{"$nulls":5},1,{"$f":"SUM(F489:Q489)","v":2}]
[null,null,null,"Participar en Taller Macrorregional de Fortalecimiento de Competencias",0,{"$nulls":10},1,null,{"$f":"SUM(F490:Q490)","v":1}]
[null,"06.09 - UDR PIURA II"]
["OEI.01"]
[null,"AEI.01.01"]
[null,null,"18AO111142954","Ejecutar los proceso de afiliación",0,{"$nulls":7},1,1,1,1,1,{"$f":"SUM(F494:Q494)","v":5}]
[null,null,null,"Identificar necesidad y plantear la implementación de canales de atención",0,{"$nulls":9},1,null,null,{"$f":"SUM(F495:Q495)","v":1}]
[null,null,null,"Implementar las acciones de promoción del aseguramiento.",0,{"$nulls":9},1,null,null,{"$f":"SUM(F496:Q496)","v":1}]
[null,null,null,"Implementación de acciones de información a través de medios masivos",0,{"$nulls":7},1,null,1,null,1,{"$f":"SUM(F497:Q497)","v":3}]
[null,"AEI.01.02"]
[null,null,"18AO111142955","Detectar cobros indebidos a asegurados SIS por parte de las IPRESS",0,{"$nulls":6},1,null,1,null,1,null,{"$f":"SUM(F499:Q499)","v":3}]
[null,null,null,"Orientar al asegurado sobre sus derechos y deberes",8968.442622950819,{"$nulls":6},1,1,1,1,1,1,{"$f":"SUM(F500:Q500)","v":6}]
[null,null,null,"Ejecutar actividades operativas inopinadas",0,{"$nulls":7},1,null,1,null,1,{"$f":"SUM(F501:Q501)","v":3}]
[null,null,null,"Formular informes técnicos sobre vulneracion de derechos",0,{"$nulls":8},1,null,null,1,{"$f":"SUM(F502:Q502)","v":2}]
["OEI.02"]
[null,"AEI.02.01"]
[null,null,"18AO111142956","Realizar el Control Prestacional mediante PCPP",17000,1,1,1,1,1,1,1,1,1,null,null,1,{"$f":"SUM(F505:Q505)","v":10}]
[null,null,null,"Realizar el reguimiento a las recomendacones del PCPP",0,{"$nulls":5},1,null,null,1,null,null,1,{"$f":"SUM(F506:Q506)","v":3}]
[null,null,null,"Realizar el Control Prestacional mediante SME",0,1,1,1,1,1,1,1,1,1,null,null,1,{"$f":"SUM(F507:Q507)","v":10}]
[null,null,null,"Realizar el Control Técnico de las Prespaciones Económicas de Sepelios",0,1,1,1,1,1,1,1,1,1,1,1,1,{"$f":"SUM(F508:Q508)","v":12}]
[null,null,null,"Realziar el control de prestaciones asistenciales no tarifadas",0,1,1,1,1,1,1,1,1,1,1,1,1,{"$f":"SUM(F509:Q509)","v":12}]
["OEI.03"]
[null,"AEI.03.02"]
[null,null,"18AO111142957","Realizar la Supervisión Financiera a las UEs",15000,1,1,1,1,1,1,1,1,1,1,1,1,{"$f":"SUM(F512:Q512)","v":12}]
[null,null,null,"Monitorear la ejecución presupuestal de las IPRESS",0,1,1,1,1,1,1,1,1,1,1,1,1,{"$f":"SUM(F513:Q513)","v":12}]
[null,null,null,"Realizar el reguimiento a las recomendacones de la supervisión",0,{"$nulls":5},1,null,null,1,null,null,1,{"$f":"SUM(F514:Q514)","v":3}]
[null,null,null,"Actualizar la normativa sobre supervisión financiera",0,{"$nulls":5},1,{"$nulls":5},1,{"$f":"SUM(F515:Q515)","v":2}]
[null,"AEI.03.03"]
[null,null,"18AO111142958","Socializar los convenios con las IPRESS",0,{"$nulls":11},1,{"$f":"SUM(F517:Q517)","v":1}]
[null,null,null,"Verificar el cumplimiento de los convenios",0,{"$nulls":5},1,{"$nulls":5},1,{"$f":"SUM(F518:Q518)","v":2}]
[null,null,null,"Socializar los contratos con las IPRESS",0,{"$nulls":11},1,{"$f":"SUM(F519:Q519)","v":1}]
[null,null,null,"Verificar el cumplimiento de los contratos",100446.55737704918,{"$nulls":5},1,{"$nulls":5},1,{"$f":"SUM(F520:Q520)","v":2}]
[null,null,null,"Participar en Taller Macrorregional de Fortalecimiento de Competencias",0,{"$nulls":10},1,null,{"$f":"SUM(F521:Q521)","v":1}]
[null,"06.10 - UDR TUMBES"]
["OEI.01"]
[null,"AEI.01.01"]
[null,null,"18AO111142959 ","Ejecutar los proceso de afiliación",0,{"$nulls":7},1,1,1,1,1,{"$f":"SUM(F525:Q525)","v":5}]
[null,null,null,"Identificar necesidad y plantear la implementación de canales de atención",0,{"$nulls":9},1,null,null,{"$f":"SUM(F526:Q526)","v":1}]
[null,null,null,"Implementar las acciones de promoción del aseguramiento.",0,{"$nulls":9},1,null,null,{"$f":"SUM(F527:Q527)","v":1}]
[null,null,null,"Implementación de acciones de información a través de medios masivos",0,{"$nulls":7},1,null,1,null,1,{"$f":"SUM(F528:Q528)","v":3}]
[null,"AEI.01.02"]
[null,null,"18AO111142960","Detectar cobros indebidos a asegurados SIS por parte de las IPRESS",0,{"$nulls":6},1,null,1,1,1,null,{"$f":"SUM(F530:Q530)","v":4}]
[null,null,null,"Orientar al asegurado sobre sus derechos y deberes",0,{"$nulls":6},1,1,1,1,1,1,{"$f":"SUM(F531:Q531)","v":6}]
[null,null,null,"Ejecutar actividades operativas inopinadas",0,{"$nulls":7},1,null,1,null,1,{"$f":"SUM(F532:Q532)","v":3}]
[null,null,null,"Formular informes técnicos sobre vulneracion de derechos",0,{"$nulls":8},1,null,null,1,{"$f":"SUM(F533:Q533)","v":2}]
["OEI.02"]
[null,"AEI.02.01"]
[null,null,"18AO111142961","Realizar el Control Prestacional mediante PCPP",10000,1,1,1,1,1,1,1,1,1,null,null,null,{"$f":"SUM(F536:Q536)","v":9}]
[null,null,null,"Realizar el reguimiento a las recomendacones del PCPP",0,{"$nulls":5},1,null,null,1,null,null,null,{"$f":"SUM(F537:Q537)","v":2}]
[null,null,null,"Realizar el Control Prestacional mediante SME",0,1,1,1,1,1,1,1,1,1,null,null,null,{"$f":"SUM(F538:Q538)","v":9}]
[null,null,null,"Realizar el Control Técnico de las Prespaciones Económicas de Sepelios",0,1,1,1,1,1,1,1,1,1,1,1,1,{"$f":"SUM(F539:Q539)","v":12}]
[null,null,null,"Realziar el control de prestaciones asistenciales no tarifadas",0,1,1,1,1,1,1,1,1,1,1,1,1,{"$f":"SUM(F540:Q540)","v":12}]
["OEI.03"]
[null,"AEI.03.02"]
[null,null,"18AO111142962","Realizar la Supervisión Financiera a las UEs",9985,1,1,1,1,1,1,1,1,1,1,1,1,{"$f":"SUM(F543:Q543)","v":12}]
[null,null,null,"Monitorear la ejecución presupuestal de las IPRESS",0,1,1,1,1,1,1,1,1,1,1,1,1,{"$f":"SUM(F544:Q544)","v":12}]
[null,null,null,"Realizar el reguimiento a las recomendacones de la supervisión",0,{"$nulls":5},1,null,null,1,null,null,1,{"$f":"SUM(F545:Q545)","v":3}]
[null,null,null,"Actualizar la normativa sobre supervisión financiera",0,{"$nulls":5},1,{"$nulls":6},{"$f":"SUM(F546:Q546)","v":1}]
[null,"AEI.03.03"]
[null,null,"18AO111142963","Socializar los convenios con las IPRESS",0,{"$nulls":11},1,{"$f":"SUM(F548:Q548)","v":1}]
[null,null,null,"Verificar el cumplimiento de los convenios",0,{"$nulls":5},1,{"$nulls":4},1,null,{"$f":"SUM(F549:Q549)","v":2}]
[null,null,null,"Socializar los contratos con las IPRESS",0,{"$nulls":11},1,{"$f":"SUM(F550:Q550)","v":1}]
[null,null,null,"Verificar el cumplimiento de los contratos",84843,{"$nulls":5},1,{"$nulls":5},1,{"$f":"SUM(F551:Q551)","v":2}]
[null,null,null,"Participar en Taller Macrorregional de Fortalecimiento de Competencias",0,{"$nulls":10},1,null,{"$f":"SUM(F552:Q552)","v":1}]
[null,"07.01 - GERENCIA MACRO REGIONAL SUR"]
["OEI.01"]
[null,"AEI.01.01"]
[null,null,"18AO111142964","Asistencia Técnica y Monitoreo de las acciones de gestores",16273.734016900038,{"$nulls":8},1,1,1,null,{"$f":"SUM(F556:Q556)","v":3}]
[null,null,null,"Monitoreo de las afiliaciones y protección de derechos",13018.987213520031,{"$nulls":6},1,1,1,1,1,1,{"$f":"SUM(F557:Q557)","v":6}]
[null,null,null,"Monitoreo de las acciones de difusión e información",6509.4936067600156,{"$nulls":6},1,1,1,null,1,1,{"$f":"SUM(F558:Q558)","v":5}]
[null,null,null,"Asistencia técnica a UDRs en los procesos de aseguramiento",0,{"$nulls":10},1,null,{"$f":"SUM(F559:Q559)","v":1}]
[null,null,null,"Supervisión a UDRs sobre procesos de aseguramiento",0,{"$nulls":9},1,1,null,{"$f":"SUM(F560:Q560)","v":2}]
["OEI.02"]
[null,"AEI.02.01"]
[null,null,"18AO111142965","Supervisión a UDRs sobre procesos de control prestacional",15092,{"$nulls":6},1,null,1,2,2,1,{"$f":"SUM(F563:Q563)","v":7}]
[null,null,null,"Asistencia técnica a UDRs en los procesos de control prestacional",14000,{"$nulls":10},2,null,{"$f":"SUM(F564:Q564)","v":2}]
[null,null,null,"Montorizar los procesos de Control Prestacional mediante PCPP",16273.734016900038,{"$nulls":6},1,1,null,null,1,1,{"$f":"SUM(F565:Q565)","v":4}]
[null,null,null,"Montorizar los procesos de Control Prestacional mediante SME",16273.734016900038,{"$nulls":6},1,1,null,null,1,1,{"$f":"SUM(F566:Q566)","v":4}]
["OEI.03"]
[null,"AEI.03.02"]
[null,null,"18AO111142966","Asistencia técnica a UDRs en los procesos de supervisión financiera",15000,{"$nulls":8},1,null,null,1,{"$f":"SUM(F569:Q569)","v":2}]
[null,null,null,"Monitoreo a las UDR en los procesos de supervisión financiera",5096.9334940930921,{"$nulls":6},1,1,1,1,1,1,{"$f":"SUM(F570:Q570)","v":6}]
[null,null,null,"Realizar la supervisión a UDRS en el proceso financiero",6509.4936067600156,{"$nulls":7},1,null,1,null,null,{"$f":"SUM(F571:Q571)","v":2}]
[null,null,null,"Realizar la supervisión Financiera a UEs",0,{"$nulls":9},1,2,null,{"$f":"SUM(F572:Q572)","v":3}]
[null,null,null,"Supervisión a UDRs sobre procesos de supervisión financiera",0,{"$nulls":9},1,2,null,{"$f":"SUM(F573:Q573)","v":3}]
["OEI.04"]
[null,"AEI.04.01"]
[null,null,"18AO110920906","Administrar fondos en efectivo (Caja Chica)",5424.578005633346,1,1,1,1,1,1,1,1,1,1,1,1,{"$f":"SUM(F576:Q576)","v":12}]
[null,null,null,"Seguimiento a las recomendaciones del organo de control",0,{"$nulls":5},1,{"$nulls":5},1,2]
[null,null,null,"Remitir conformidades sobre prestación de servicios",5424.578005633346,1,1,1,1,1,1,1,1,1,1,1,1,12]
[null,null,null,"Gestionar información estadistica",5424.578005633346,null,null,1,null,null,1,null,null,1,null,null,1,4]
[null,null,null,"Remitir informes de gestión",0,null,null,1,null,null,1,null,null,1,null,null,1,4]
[null,null,null,"Realizar el Inventario de bienes patrimoniales",0,{"$nulls":5},1,null,null,null,1,1,1,4]
[null,null,null,"Consolidación y envío de base de datos",5424.578005633346,1,1,1,1,1,1,1,1,1,null,null,1,{"$f":"SUM(F582:Q582)","v":10}]
[null,null,null,"Supervisión a UDRs en los procesos de gestión",0,{"$nulls":9},2,1,1,4]
[null,null,null,"Asistencia técnica a UDRs en los procesos de gestión",5424.578005633346,{"$nulls":10},1,1,2]
[null,"07.02 - UDR AREQUIPA"]
["OEI.01"]
[null,"AEI.01.01"]
[null,null,"18AO111142967","Ejecutar los proceso de afiliación",0,{"$nulls":7},1,1,null,null,1,{"$f":"SUM(F588:Q588)","v":3}]
[null,null,null,"Identificar necesidad y plantear la implementación de canales de atención",0,{"$nulls":11},1,{"$f":"SUM(F589:Q589)","v":1}]
[null,null,null,"Implementar las acciones de promoción del aseguramiento.",9732.5133689839568,{"$nulls":10},1,null,{"$f":"SUM(F590:Q590)","v":1}]
[null,null,null,"Implementación de acciones de información a través de medios masivos",0,{"$nulls":7},1,null,null,null,1,{"$f":"SUM(F591:Q591)","v":2}]
[null,"AEI.01.02"]
[null,null,"18AO111142968","Detectar cobros indebidos a asegurados SIS por parte de las IPRESS",0,{"$nulls":6},1,null,1,null,1,null,{"$f":"SUM(F593:Q593)","v":3}]
[null,null,null,"Orientar al asegurado sobre sus derechos y deberes",9732.5133689839568,{"$nulls":6},1,1,1,1,1,1,{"$f":"SUM(F594:Q594)","v":6}]
[null,null,null,"Ejecutar actividades operativas inopinadas",0,{"$nulls":7},1,null,1,1,null,{"$f":"SUM(F595:Q595)","v":3}]
[null,null,null,"Formular informes técnicos sobre vulneracion de derechos",0,{"$nulls":8},1,null,null,1,{"$f":"SUM(F596:Q596)","v":2}]
["OEI.02"]
[null,"AEI.02.01"]
[null,null,"18AO111142968","Realizar el Control Prestacional mediante PCPP",19910,1,1,1,1,1,1,1,1,1,null,null,1,{"$f":"SUM(F599:Q599)","v":10}]
[null,null,null,"Realizar el reguimiento a las recomendacones del PCPP",0,{"$nulls":5},1,null,null,1,null,null,1,{"$f":"SUM(F600:Q600)","v":3}]
[null,null,null,"Realizar el Control Prestacional mediante SME",8110.4278074866306,1,1,1,1,1,1,1,1,1,null,null,1,{"$f":"SUM(F601:Q601)","v":10}]
[null,null,null,"Realizar el Control Técnico de las Prespaciones Económicas de Sepelios",0,1,1,1,1,1,1,1,1,1,1,1,1,{"$f":"SUM(F602:Q602)","v":12}]
[null,null,null,"Realziar el control de prestaciones asistenciales no tarifadas",0,1,1,1,1,1,1,1,1,1,1,1,1,{"$f":"SUM(F603:Q603)","v":12}]
["OEI.03"]
[null,"AEI.03.02"]
[null,null,"18AO111142970","Realizar la Supervisión Financiera a las UEs",12000,1,1,1,1,1,1,1,1,1,1,1,1,{"$f":"SUM(F606:Q606)","v":12}]
[null,null,null,"Monitorear la ejecución presupuestal de las IPRESS",0,1,1,1,1,1,1,1,1,1,1,1,1,{"$f":"SUM(F607:Q607)","v":12}]
[null,null,null,"Realizar el reguimiento a las recomendacones de la supervisión",8110.4278074866306,{"$nulls":5},1,null,null,1,null,null,1,{"$f":"SUM(F608:Q608)","v":3}]
[null,null,null,"Actualizar la normativa sobre supervisión financiera",0,{"$nulls":5},1,{"$nulls":5},1,{"$f":"SUM(F609:Q609)","v":2}]
[null,null,null,"Evaluación y aprobacion de prestaciones administrativas/economicas",0,{"$nulls":9},1,1,1,{"$f":"SUM(F610:Q610)","v":3}]
[null,"AEI.03.03"]
[null,null,"18AO111142971","Socializar los convenios con las IPRESS",8110.4278074866306,{"$nulls":11},1,{"$f":"SUM(F612:Q612)","v":1}]
[null,null,null,"Verificar el cumplimiento de los convenios",0,{"$nulls":5},1,{"$nulls":5},1,{"$f":"SUM(F613:Q613)","v":2}]
[null,null,null,"Socializar los contratos con las IPRESS",0,{"$nulls":11},1,{"$f":"SUM(F614:Q614)","v":1}]
[null,null,null,"Verificar el cumplimiento de los contratos",47202.689839572195,{"$nulls":5},1,{"$nulls":5},1,{"$f":"SUM(F615:Q615)","v":2}]
[null,"07.03 - UDR CUSCO"]
["OEI.01"]
[null,"AEI.01.01"]
[null,null,"18AO111142972","Ejecutar los proceso de afiliación",0,{"$nulls":7},1,1,null,null,1,{"$f":"SUM(F619:Q619)","v":3}]
[null,null,null,"Identificar necesidad y plantear la implementación de canales de atención",0,{"$nulls":11},1,{"$f":"SUM(F620:Q620)","v":1}]
[null,null,null,"Implementar las acciones de promoción del aseguramiento.",11777.543859649122,{"$nulls":10},1,null,{"$f":"SUM(F621:Q621)","v":1}]
[null,null,null,"Implementación de acciones de información a través de medios masivos",0,{"$nulls":7},1,null,null,null,1,{"$f":"SUM(F622:Q622)","v":2}]
[null,"AEI.01.02"]
[null,null,"18AO111142973","Detectar cobros indebidos a asegurados SIS por parte de las IPRESS",0,{"$nulls":6},1,null,1,null,1,null,{"$f":"SUM(F624:Q624)","v":3}]
[null,null,null,"Orientar al asegurado sobre sus derechos y deberes",5888.7719298245611,{"$nulls":6},1,1,1,1,1,1,{"$f":"SUM(F625:Q625)","v":6}]
[null,null,null,"Ejecutar actividades operativas inopinadas",0,{"$nulls":7},1,null,1,1,null,{"$f":"SUM(F626:Q626)","v":3}]
[null,null,null,"Formular informes técnicos sobre vulneracion de derechos",0,{"$nulls":8},1,null,null,1,{"$f":"SUM(F627:Q627)","v":2}]
["OEI.02"]
[null,"AEI.02.01"]
[null,null,"18AO111142974","Realizar el Control Prestacional mediante PCPP",20000,1,1,1,1,1,1,1,1,1,null,null,1,{"$f":"SUM(F630:Q630)","v":10}]
[null,null,null,"Realizar el reguimiento a las recomendacones del PCPP",0,{"$nulls":5},1,null,null,1,null,null,1,{"$f":"SUM(F631:Q631)","v":3}]
[null,null,null,"Realizar el Control Prestacional mediante SME",8833.1578947368416,1,1,1,1,1,1,1,1,1,null,null,1,{"$f":"SUM(F632:Q632)","v":10}]
[null,null,null,"Realizar el Control Técnico de las Prespaciones Económicas de Sepelios",0,1,1,1,1,1,1,1,1,1,1,1,1,{"$f":"SUM(F633:Q633)","v":12}]
[null,null,null,"Realziar el control de prestaciones asistenciales no tarifadas",0,1,1,1,1,1,1,1,1,1,1,1,1,{"$f":"SUM(F634:Q634)","v":12}]
["OEI.03"]
[null,"AEI.03.02"]
[null,null,"18AO111142975","Realizar la Supervisión Financiera a las UEs",20240,1,1,1,1,1,1,1,1,1,1,1,1,{"$f":"SUM(F637:Q637)","v":12}]
[null,null,null,"Monitorear la ejecución presupuestal de las IPRESS",0,1,1,1,1,1,1,1,1,1,1,1,1,{"$f":"SUM(F638:Q638)","v":12}]
[null,null,null,"Realizar el reguimiento a las recomendacones de la supervisión",0,{"$nulls":5},1,null,null,1,null,null,1,{"$f":"SUM(F639:Q639)","v":3}]
[null,null,null,"Actualizar la normativa sobre supervisión financiera",0,{"$nulls":5},1,{"$nulls":5},1,{"$f":"SUM(F640:Q640)","v":2}]
[null,null,null,"Evaluación y aprobacion de prestaciones administrativas/economicas",0,{"$nulls":9},1,1,1,{"$f":"SUM(F641:Q641)","v":3}]
[null,"AEI.03.03"]
[null,null,"18AO111142976","Socializar los convenios con las IPRESS",0,{"$nulls":11},1,{"$f":"SUM(F643:Q643)","v":1}]
[null,null,null,"Verificar el cumplimiento de los convenios",0,{"$nulls":5},1,{"$nulls":5},1,{"$f":"SUM(F644:Q644)","v":2}]
[null,null,null,"Socializar los contratos con las IPRESS",0,{"$nulls":11},1,{"$f":"SUM(F645:Q645)","v":1}]
[null,null,null,"Verificar el cumplimiento de los contratos",141330.52631578947,{"$nulls":5},1,{"$nulls":5},1,{"$f":"SUM(F646:Q646)","v":2}]
[null,"07.04 - UDR MADRE DE DIOS"]
["OEI.01"]
[null,"AEI.01.01"]
[null,null,"18AO111142977","Ejecutar los proceso de afiliación",0,{"$nulls":8},1,null,null,1,{"$f":"SUM(F650:Q650)","v":2}]
[null,null,null,"Identificar necesidad y plantear la implementación de canales de atención",0,{"$nulls":11},1,{"$f":"SUM(F651:Q651)","v":1}]
[null,null,null,"Implementar las acciones de promoción del aseguramiento.",0,{"$nulls":10},1,null,{"$f":"SUM(F652:Q652)","v":1}]
[null,null,null,"Implementación de acciones de información a través de medios masivos",0,{"$nulls":11},1,{"$f":"SUM(F653:Q653)","v":1}]
[null,"AEI.01.02"]
[null,null,"18AO111142978","Detectar cobros indebidos a asegurados SIS por parte de las IPRESS",0,{"$nulls":8},1,null,1,null,{"$f":"SUM(F655:Q655)","v":2}]
[null,null,null,"Orientar al asegurado sobre sus derechos y deberes",0,{"$nulls":6},1,1,1,1,1,1,{"$f":"SUM(F656:Q656)","v":6}]
[null,null,null,"Ejecutar actividades operativas inopinadas",0,{"$nulls":9},1,1,null,{"$f":"SUM(F657:Q657)","v":2}]
[null,null,null,"Formular informes técnicos sobre vulneracion de derechos",0,{"$nulls":11},1,{"$f":"SUM(F658:Q658)","v":1}]
["OEI.02"]
[null,"AEI.02.01"]
[null,null,"18AO111142979","Realizar el Control Prestacional mediante PCPP",10000,1,1,1,1,1,1,1,1,1,null,null,1,{"$f":"SUM(F661:Q661)","v":10}]
[null,null,null,"Realizar el reguimiento a las recomendacones del PCPP",0,{"$nulls":5},1,{"$nulls":5},1,{"$f":"SUM(F662:Q662)","v":2}]
[null,null,null,"Realizar el Control Prestacional mediante SME",0,1,1,1,1,1,1,1,1,1,null,null,1,{"$f":"SUM(F663:Q663)","v":10}]
[null,null,null,"Realizar el Control Técnico de las Prespaciones Económicas de Sepelios",0,1,null,1,null,1,null,1,null,1,null,1,null,{"$f":"SUM(F664:Q664)","v":6}]
[null,null,null,"RealiZar el control de prestaciones asistenciales no tarifadas",0,1,1,1,1,1,1,1,1,1,1,1,1,{"$f":"SUM(F665:Q665)","v":12}]
["OEI.03"]
[null,"AEI.03.02"]
[null,null,"18AO111142980","Realizar la Supervisión Financiera a las UEs",7578,1,1,1,1,1,1,1,1,1,1,1,1,{"$f":"SUM(F668:Q668)","v":12}]
[null,null,null,"Monitorear la ejecución presupuestal de las IPRESS",0,1,1,1,1,1,1,1,1,1,1,1,1,{"$f":"SUM(F669:Q669)","v":12}]
[null,null,null,"Realizar el reguimiento a las recomendacones de la supervisión",0,{"$nulls":5},1,null,null,1,null,null,1,{"$f":"SUM(F670:Q670)","v":3}]
[null,null,null,"Actualizar la normativa sobre supervisión financiera",0,{"$nulls":5},1,{"$nulls":5},1,{"$f":"SUM(F671:Q671)","v":2}]
[null,null,null,"Evaluación y aprobacion de prestaciones administrativas/economicas",0,{"$nulls":9},1,1,1,{"$f":"SUM(F672:Q672)","v":3}]
[null,"AEI.03.03"]
[null,null,"18AO111142981","Socializar los convenios con las IPRESS",0,{"$nulls":11},1,{"$f":"SUM(F674:Q674)","v":1}]
[null,null,null,"Verificar el cumplimiento de los convenios",0,{"$nulls":5},1,{"$nulls":5},1,{"$f":"SUM(F675:Q675)","v":2}]
[null,null,null,"Socializar los contratos con las IPRESS",0,{"$nulls":11},1,{"$f":"SUM(F676:Q676)","v":1}]
[null,null,null,"Verificar el cumplimiento de los contratos",74252,{"$nulls":5},1,{"$nulls":5},1,{"$f":"SUM(F677:Q677)","v":2}]
[null,"07.05 - UDR MOQUEGUA"]
["OEI.01"]
[null,"AEI.01.01"]
[null,null,"18AO111142982","Ejecutar los proceso de afiliación",0,{"$nulls":7},1,null,null,null,1,{"$f":"SUM(F681:Q681)","v":2}]
[null,null,null,"Identificar necesidad y plantear la implementación de canales de atención",0,{"$nulls":11},1,{"$f":"SUM(F682:Q682)","v":1}]
[null,null,null,"Implementar las acciones de promoción del aseguramiento.",0,{"$nulls":10},1,null,{"$f":"SUM(F683:Q683)","v":1}]
[null,null,null,"Implementación de acciones de información a través de medios masivos",0,{"$nulls":7},1,null,null,null,1,{"$f":"SUM(F684:Q684)","v":2}]
[null,"AEI.01.02"]
[null,null,"18AO111142983","Detectar cobros indebidos a asegurados SIS por parte de las IPRESS",0,{"$nulls":6},1,null,null,null,1,null,{"$f":"SUM(F686:Q686)","v":2}]
[null,null,null,"Orientar al asegurado sobre sus derechos y deberes",0,{"$nulls":9},1,1,1,{"$f":"SUM(F687:Q687)","v":3}]
[null,null,null,"Ejecutar actividades operativas inopinadas",0,{"$nulls":7},1,null,1,1,null,{"$f":"SUM(F688:Q688)","v":3}]
[null,null,null,"Formular informes técnicos sobre vulneracion de derechos",0,{"$nulls":11},1,{"$f":"SUM(F689:Q689)","v":1}]
["OEI.02"]
[null,"AEI.02.01"]
[null,null,"18AO111142984","Realizar el Control Prestacional mediante PCPP",10560,1,1,1,1,1,1,1,1,1,null,null,1,{"$f":"SUM(F692:Q692)","v":10}]
[null,null,null,"Realizar el reguimiento a las recomendacones del PCPP",0,{"$nulls":5},1,null,null,1,null,null,1,{"$f":"SUM(F693:Q693)","v":3}]
[null,null,null,"Realizar el Control Prestacional mediante SME",0,1,1,1,1,1,1,1,1,1,null,null,1,{"$f":"SUM(F694:Q694)","v":10}]
[null,null,null,"Realizar el Control Técnico de las Prespaciones Económicas de Sepelios",0,1,1,1,1,1,1,1,1,1,1,1,1,{"$f":"SUM(F695:Q695)","v":12}]
[null,null,null,"Realziar el control de prestaciones asistenciales no tarifadas",0,1,1,1,1,1,1,1,1,1,1,1,1,{"$f":"SUM(F696:Q696)","v":12}]
["OEI.03"]
[null,"AEI.03.02"]
[null,null,"18AO111142985","Realizar la Supervisión Financiera a las UEs",10000,1,1,1,1,1,1,1,1,1,1,1,1,{"$f":"SUM(F699:Q699)","v":12}]
[null,null,null,"Monitorear la ejecución presupuestal de las IPRESS",0,1,1,1,1,1,1,1,1,1,1,1,1,{"$f":"SUM(F700:Q700)","v":12}]
[null,null,null,"Realizar el reguimiento a las recomendacones de la supervisión",0,{"$nulls":5},1,null,null,1,null,null,1,{"$f":"SUM(F701:Q701)","v":3}]
[null,null,null,"Actualizar la normativa sobre supervisión financiera",0,{"$nulls":5},1,{"$nulls":5},1,{"$f":"SUM(F702:Q702)","v":2}]
[null,null,null,"Evaluación y aprobacion de prestaciones administrativas/economicas",0,{"$nulls":9},1,1,1,{"$f":"SUM(F703:Q703)","v":3}]
[null,"AEI.03.03"]
[null,null,"18AO111142986","Socializar los convenios con las IPRESS",0,{"$nulls":11},1,{"$f":"SUM(F705:Q705)","v":1}]
[null,null,null,"Verificar el cumplimiento de los convenios",0,{"$nulls":5},1,{"$nulls":5},1,{"$f":"SUM(F706:Q706)","v":2}]
[null,null,null,"Socializar los contratos con las IPRESS",0,{"$nulls":11},1,{"$f":"SUM(F707:Q707)","v":1}]
[null,null,null,"Verificar el cumplimiento de los contratos",74825,{"$nulls":5},1,{"$nulls":5},1,{"$f":"SUM(F708:Q708)","v":2}]
[null,"07.06 - UDR TACNA"]
["OEI.01"]
[null,"AEI.01.01"]
[null,null,"18AO111142987","Ejecutar los proceso de afiliación",0,{"$nulls":7},1,null,null,null,1,{"$f":"SUM(F712:Q712)","v":2}]
[null,null,null,"Identificar necesidad y plantear la implementación de canales de atención",0,{"$nulls":11},1,{"$f":"SUM(F713:Q713)","v":1}]
[null,null,null,"Implementar las acciones de promoción del aseguramiento.",0,{"$nulls":10},1,null,{"$f":"SUM(F714:Q714)","v":1}]
[null,null,null,"Implementación de acciones de información a través de medios masivos",0,{"$nulls":7},1,null,null,null,1,{"$f":"SUM(F715:Q715)","v":2}]
[null,"AEI.01.02"]
[null,null,"18AO111142988","Detectar cobros indebidos a asegurados SIS por parte de las IPRESS",0,{"$nulls":6},1,null,null,null,1,null,{"$f":"SUM(F717:Q717)","v":2}]
[null,null,null,"Orientar al asegurado sobre sus derechos y deberes",0,{"$nulls":6},1,null,null,1,1,1,{"$f":"SUM(F718:Q718)","v":4}]
[null,null,null,"Ejecutar actividades operativas inopinadas",0,{"$nulls":7},1,null,1,1,null,{"$f":"SUM(F719:Q719)","v":3}]
[null,null,null,"Formular informes técnicos sobre vulneracion de derechos",0,{"$nulls":8},1,null,null,1,{"$f":"SUM(F720:Q720)","v":2}]
["OEI.02"]
[null,"AEI.02.01"]
[null,null,"18AO111142989","Realizar el Control Prestacional mediante PCPP",5360,1,1,1,1,1,1,1,1,1,null,null,1,{"$f":"SUM(F723:Q723)","v":10}]
[null,null,null,"Realizar el reguimiento a las recomendacones del PCPP",0,{"$nulls":5},1,null,null,1,null,null,1,{"$f":"SUM(F724:Q724)","v":3}]
[null,null,null,"Realizar el Control Prestacional mediante SME",0,1,1,1,1,1,1,1,1,1,null,null,1,{"$f":"SUM(F725:Q725)","v":10}]
[null,null,null,"Realizar el Control Técnico de las Prespaciones Económicas de Sepelios",0,1,1,1,1,1,1,1,1,1,1,1,1,{"$f":"SUM(F726:Q726)","v":12}]
[null,null,null,"Realziar el control de prestaciones asistenciales no tarifadas",0,1,1,1,1,1,1,1,1,1,1,1,1,{"$f":"SUM(F727:Q727)","v":12}]
["OEI.03"]
[null,"AEI.03.02"]
[null,null,"18AO111142990","Realizar la Supervisión Financiera a las UEs",4600,1,1,1,1,1,1,1,1,1,1,1,1,{"$f":"SUM(F730:Q730)","v":12}]
[null,null,null,"Monitorear la ejecución presupuestal de las IPRESS",0,1,1,1,1,1,1,1,1,1,1,1,1,{"$f":"SUM(F731:Q731)","v":12}]
[null,null,null,"Realizar el reguimiento a las recomendacones de la supervisión",0,{"$nulls":5},1,null,null,1,null,null,1,{"$f":"SUM(F732:Q732)","v":3}]
[null,null,null,"Actualizar la normativa sobre supervisión financiera",0,{"$nulls":5},1,{"$nulls":5},1,{"$f":"SUM(F733:Q733)","v":2}]
[null,null,null,"Evaluación y aprobacion de prestaciones administrativas/economicas",0,{"$nulls":9},1,1,1,{"$f":"SUM(F734:Q734)","v":3}]
[null,"AEI.03.03"]
[null,null,"18AO111142991","Socializar los convenios con las IPRESS",0,{"$nulls":11},1,{"$f":"SUM(F736:Q736)","v":1}]
[null,null,null,"Verificar el cumplimiento de los convenios",0,{"$nulls":5},1,{"$nulls":5},1,{"$f":"SUM(F737:Q737)","v":2}]
[null,null,null,"Socializar los contratos con las IPRESS",0,{"$nulls":11},1,{"$f":"SUM(F738:Q738)","v":1}]
[null,null,null,"Verificar el cumplimiento de los contratos",89919,{"$nulls":5},1,{"$nulls":5},1,{"$f":"SUM(F739:Q739)","v":2}]
[null,"07.07 - UDR PUNO"]
["OEI.01"]
[null,"AEI.01.01"]
[null,null,"18AO111142992","Ejecutar los proceso de afiliación",0,{"$nulls":7},1,1,null,null,1,{"$f":"SUM(F743:Q743)","v":3}]
[null,null,null,"Identificar necesidad y plantear la implementación de canales de atención",0,{"$nulls":11},1,{"$f":"SUM(F744:Q744)","v":1}]
[null,null,null,"Implementar las acciones de promoción del aseguramiento.",0,{"$nulls":10},1,null,{"$f":"SUM(F745:Q745)","v":1}]
[null,null,null,"Implementación de acciones de información a través de medios masivos",0,{"$nulls":7},1,null,null,null,1,{"$f":"SUM(F746:Q746)","v":2}]
[null,"AEI.01.02"]
[null,null,"18AO111142993","Detectar cobros indebidos a asegurados SIS por parte de las IPRESS",0,{"$nulls":6},1,null,1,null,1,null,{"$f":"SUM(F748:Q748)","v":3}]
[null,null,null,"Orientar al asegurado sobre sus derechos y deberes",10891.644204851753,{"$nulls":6},1,1,1,1,1,1,{"$f":"SUM(F749:Q749)","v":6}]
[null,null,null,"Ejecutar actividades operativas inopinadas",0,{"$nulls":7},1,null,1,1,null,{"$f":"SUM(F750:Q750)","v":3}]
[null,null,null,"Formular informes técnicos sobre vulneracion de derechos",0,{"$nulls":8},1,null,null,1,{"$f":"SUM(F751:Q751)","v":2}]
["OEI.02"]
[null,"AEI.02.01"]
[null,null,"18AO111142994","Realizar el Control Prestacional mediante PCPP",22300,1,1,1,1,1,1,1,1,1,null,null,1,{"$f":"SUM(F754:Q754)","v":10}]
[null,null,null,"Realizar el reguimiento a las recomendacones del PCPP",0,{"$nulls":5},1,null,null,1,null,null,1,{"$f":"SUM(F755:Q755)","v":3}]
[null,null,null,"Realizar el Control Prestacional mediante SME",0,1,1,1,1,1,1,1,1,1,null,null,1,{"$f":"SUM(F756:Q756)","v":10}]
[null,null,null,"Realizar el Control Técnico de las Prespaciones Económicas de Sepelios",0,1,1,1,1,1,1,1,1,1,1,1,1,{"$f":"SUM(F757:Q757)","v":12}]
[null,null,null,"Realziar el control de prestaciones asistenciales no tarifadas",0,1,1,1,1,1,1,1,1,1,1,1,1,{"$f":"SUM(F758:Q758)","v":12}]
["OEI.03"]
[null,"AEI.03.02"]
[null,null,"18AO111142995","Realizar la Supervisión Financiera a las UEs",0,1,1,1,1,1,1,1,1,1,1,1,1,{"$f":"SUM(F761:Q761)","v":12}]
[null,null,null,"Monitorear la ejecución presupuestal de las IPRESS",0,1,1,1,1,1,1,1,1,1,1,1,1,{"$f":"SUM(F762:Q762)","v":12}]
[null,null,null,"Realizar el reguimiento a las recomendacones de la supervisión",0,{"$nulls":5},1,null,null,1,null,null,1,{"$f":"SUM(F763:Q763)","v":3}]
[null,null,null,"Actualizar la normativa sobre supervisión financiera",0,{"$nulls":5},1,{"$nulls":5},1,{"$f":"SUM(F764:Q764)","v":2}]
[null,null,null,"Evaluación y aprobacion de prestaciones administrativas/economicas",0,{"$nulls":9},1,1,1,{"$f":"SUM(F765:Q765)","v":3}]
[null,"AEI.03.03"]
[null,null,"18AO111142996","Socializar los convenios con las IPRESS",0,{"$nulls":11},1,{"$f":"SUM(F767:Q767)","v":1}]
[null,null,null,"Verificar el cumplimiento de los convenios",0,{"$nulls":5},1,{"$nulls":5},1,{"$f":"SUM(F768:Q768)","v":2}]
[null,null,null,"Socializar los contratos con las IPRESS",0,{"$nulls":11},1,{"$f":"SUM(F769:Q769)","v":1}]
[null,null,null,"Verificar el cumplimiento de los contratos",64873.355795148251,{"$nulls":5},1,{"$nulls":5},1,{"$f":"SUM(F770:Q770)","v":2}]
[null,"07.08 - UDR JULIACA"]
["OEI.01"]
[null,"AEI.01.01"]
[null,null,"18AO111142997","Ejecutar los proceso de afiliación",0,{"$nulls":7},1,1,null,null,1,{"$f":"SUM(F774:Q774)","v":3}]
[null,null,null,"Identificar necesidad y plantear la implementación de canales de atención",0,{"$nulls":11},1,{"$f":"SUM(F775:Q775)","v":1}]
[null,null,null,"Implementar las acciones de promoción del aseguramiento.",0,{"$nulls":10},1,null,{"$f":"SUM(F776:Q776)","v":1}]
[null,null,null,"Implementación de acciones de información a través de medios masivos",0,{"$nulls":7},1,null,null,null,1,{"$f":"SUM(F777:Q777)","v":2}]
[null,"AEI.01.02"]
[null,null,"18AO111142998","Detectar cobros indebidos a asegurados SIS por parte de las IPRESS",0,{"$nulls":6},1,null,1,null,1,null,{"$f":"SUM(F779:Q779)","v":3}]
[null,null,null,"Orientar al asegurado sobre sus derechos y deberes",0,{"$nulls":6},1,1,1,1,1,1,{"$f":"SUM(F780:Q780)","v":6}]
[null,null,null,"Ejecutar actividades operativas inopinadas",0,{"$nulls":7},1,null,1,1,null,{"$f":"SUM(F781:Q781)","v":3}]
[null,null,null,"Formular informes técnicos sobre vulneracion de derechos",0,{"$nulls":8},1,null,null,1,{"$f":"SUM(F782:Q782)","v":2}]
["OEI.02"]
[null,"AEI.02.01"]
[null,null,"18AO111142999","Realizar el Control Prestacional mediante PCPP",10000,1,1,1,1,1,1,1,1,1,null,null,1,{"$f":"SUM(F785:Q785)","v":10}]
[null,null,null,"Realizar el reguimiento a las recomendacones del PCPP",0,{"$nulls":5},1,null,null,1,null,null,1,{"$f":"SUM(F786:Q786)","v":3}]
[null,null,null,"Realizar el Control Prestacional mediante SME",7442.9508196721308,1,1,1,1,1,1,1,1,1,null,null,1,{"$f":"SUM(F787:Q787)","v":10}]
[null,null,null,"Realizar el Control Técnico de las Prespaciones Económicas de Sepelios",0,1,1,1,1,1,1,1,1,1,1,1,1,{"$f":"SUM(F788:Q788)","v":12}]
[null,null,null,"Realziar el control de prestaciones asistenciales no tarifadas",0,1,1,1,1,1,1,1,1,1,1,1,1,{"$f":"SUM(F789:Q789)","v":12}]
["OEI.03"]
[null,"AEI.03.02"]
[null,null,"18AO111143000","Realizar la Supervisión Financiera a las UEs",16000,1,1,1,1,1,1,1,1,1,1,1,1,{"$f":"SUM(F792:Q792)","v":12}]
[null,null,null,"Monitorear la ejecución presupuestal de las IPRESS",0,1,1,1,1,1,1,1,1,1,1,1,1,{"$f":"SUM(F793:Q793)","v":12}]
[null,null,null,"Realizar el reguimiento a las recomendacones de la supervisión",0,{"$nulls":5},1,null,null,1,null,null,1,{"$f":"SUM(F794:Q794)","v":3}]
[null,null,null,"Actualizar la normativa sobre supervisión financiera",0,{"$nulls":5},1,{"$nulls":5},1,{"$f":"SUM(F795:Q795)","v":2}]
[null,null,null,"Evaluación y aprobacion de prestaciones administrativas/economicas",0,{"$nulls":9},1,1,1,{"$f":"SUM(F796:Q796)","v":3}]
[null,"AEI.03.03"]
[null,null,"18AO111143001","Socializar los convenios con las IPRESS",0,{"$nulls":11},1,{"$f":"SUM(F798:Q798)","v":1}]
[null,null,null,"Verificar el cumplimiento de los convenios",0,{"$nulls":5},1,{"$nulls":5},1,{"$f":"SUM(F799:Q799)","v":2}]
[null,null,null,"Socializar los contratos con las IPRESS",0,{"$nulls":11},1,{"$f":"SUM(F800:Q800)","v":1}]
[null,null,null,"Verificar el cumplimiento de los contratos",51777.049180327871,{"$nulls":5},1,{"$nulls":5},1,{"$f":"SUM(F801:Q801)","v":2}]
[null,"08.01 - GERENCIA MACRO REGIONAL CENTRO"]
["OEI.01"]
[null,"AEI.01.01"]
[null,null,"18AO111143002","Asistencia Técnica y Monitoreo de las acciones de gestores",6301.7674418604647,{"$nulls":8},1,null,null,1,{"$f":"SUM(F805:Q805)","v":2}]
[null,null,null,"Monitoreo de las afiliaciones y protección de derechos",5041.4139534883725,{"$nulls":6},1,1,1,1,1,1,{"$f":"SUM(F806:Q806)","v":6}]
[null,null,null,"Monitoreo de las acciones de difusión e información",5041.4139534883725,{"$nulls":6},1,1,1,1,1,1,{"$f":"SUM(F807:Q807)","v":6}]
["OEI.02"]
[null,"AEI.02.01"]
[null,null,"18AO111143003","Supervisión a UDRs sobre procesos de control prestacional",5000,{"$nulls":6},1,null,1,null,1,null,{"$f":"SUM(F810:Q810)","v":3}]
[null,null,null,"Asistencia técnica a UDRs en los procesos de control prestacional",4000,{"$nulls":8},1,null,null,null,{"$f":"SUM(F811:Q811)","v":1}]
[null,null,null,"Montorizar los procesos de Control Prestacional mediante PCPP",5041.4139534883725,{"$nulls":6},1,1,1,1,1,1,{"$f":"SUM(F812:Q812)","v":6}]
[null,null,null,"Montorizar los procesos de Control Prestacional mediante SME",2520.7069767441862,{"$nulls":6},1,1,1,1,1,1,{"$f":"SUM(F813:Q813)","v":6}]
["OEI.03"]
[null,"AEI.03.02"]
[null,null,"18AO111143004","Asistencia técnica a UDRs en los procesos de supervisión financiera",15000,{"$nulls":8},1,null,null,1,{"$f":"SUM(F816:Q816)","v":2}]
[null,null,null,"Monitoreo a las UDR en los procesos de supervisión financiera",5041.4139534883725,{"$nulls":6},1,1,1,1,1,1,{"$f":"SUM(F817:Q817)","v":6}]
[null,null,null,"Realizar la supervisión a UDRS en el proceso financiero",5041.4139534883725,{"$nulls":7},1,null,null,1,null,{"$f":"SUM(F818:Q818)","v":2}]
[null,null,null,"Realizar la supervisión Financiera a UEs",0,{"$nulls":9},1,null,1,{"$f":"SUM(F819:Q819)","v":2}]
["OEI.04"]
[null,"AEI.04.01"]
[null,null,"18AO110921144","Administrar fondos en efectivo (Caja Chica)",6301.7674418604647,1,1,1,1,1,1,1,1,1,1,1,1,{"$f":"SUM(F822:Q822)","v":12}]
[null,null,null,"Seguimiento a las recomendaciones del organo de control",0,{"$nulls":5},1,{"$nulls":5},1,2]
[null,null,null,"Remitir conformidades sobre prestación de servicios",90745.45116279069,1,1,1,1,1,1,1,1,1,1,1,1,12]
[null,null,null,"Gestionar información estadistica",0,{"$nulls":8},1,null,null,1,2]
[null,null,null,"Remitir informes de gestión",4411.2372093023259,null,null,1,null,null,1,null,null,1,null,null,1,4]
[null,null,null,"Efectuar reuniones de planeamiento y evaluación de gestion administrativa con UDR",0,{"$nulls":11},1,1]
[null,null,null,"Realizar el Inventario de bienes patrimoniales",0,{"$nulls":5},1,{"$nulls":5},1,2]
[null,null,null,"Fomentar la politica y el posicionamiento del SIS a nivel interinstitucional en las regiones",0,{"$nulls":9},1,1,null,2]
[null,null,null,"Consolidación y envío de base de datos",0,1,1,1,1,1,1,1,1,1,1,1,1,12]
[null,null,null,"Supervision y/o asistencia informática a centros de digitación",0,{"$nulls":9},1,1,1,3]
[null,"08.02 - UDR PASCO"]
["OEI.01"]
[null,"AEI.01.01"]
[null,null,"18AO111143005","Ejecutar los proceso de afiliación",0,{"$nulls":7},1,null,null,null,1,{"$f":"SUM(F835:Q835)","v":2}]
[null,null,null,"Identificar necesidad y plantear la implementación de canales de atención",0,{"$nulls":9},1,null,null,{"$f":"SUM(F836:Q836)","v":1}]
[null,null,null,"Implementar las acciones de promoción del aseguramiento.",0,{"$nulls":9},1,null,null,{"$f":"SUM(F837:Q837)","v":1}]
[null,null,null,"Implementación de acciones de información a través de medios masivos",0,{"$nulls":7},1,null,null,null,1,{"$f":"SUM(F838:Q838)","v":2}]
[null,"AEI.01.02"]
[null,null,"18AO111143006","Detectar cobros indebidos a asegurados SIS por parte de las IPRESS",0,{"$nulls":6},1,null,1,null,1,null,{"$f":"SUM(F840:Q840)","v":3}]
[null,null,null,"Orientar al asegurado sobre sus derechos y deberes",0,{"$nulls":6},1,{"$nulls":4},1,{"$f":"SUM(F841:Q841)","v":2}]
[null,null,null,"Ejecutar actividades operativas inopinadas",0,{"$nulls":7},1,null,null,null,1,{"$f":"SUM(F842:Q842)","v":2}]
[null,null,null,"Formular informes técnicos sobre vulneracion de derechos",0,{"$nulls":8},1,null,null,1,{"$f":"SUM(F843:Q843)","v":2}]
["OEI.02"]
[null,"AEI.02.01"]
[null,null,"18AO111143007","Realizar el Control Prestacional mediante PCPP",10600,1,null,1,null,1,null,1,null,1,null,null,1,{"$f":"SUM(F846:Q846)","v":6}]
[null,null,null,"Realizar el reguimiento a las recomendacones del PCPP",0,{"$nulls":5},1,null,null,1,null,null,1,{"$f":"SUM(F847:Q847)","v":3}]
[null,null,null,"Realizar el Control Prestacional mediante SME",0,1,null,1,null,1,null,1,null,1,null,1,1,{"$f":"SUM(F848:Q848)","v":7}]
[null,null,null,"Realizar el Control Técnico de las Prespaciones Económicas de Sepelios",0,null,null,1,null,null,1,null,null,1,null,null,1,{"$f":"SUM(F849:Q849)","v":4}]
[null,null,null,"Realziar el control de prestaciones asistenciales no tarifadas",0,null,null,1,null,null,1,null,null,1,null,null,1,{"$f":"SUM(F850:Q850)","v":4}]
["OEI.03"]
[null,"AEI.03.02"]
[null,null,"18AO111143008","Realizar la Supervisión Financiera a las UEs",9000,1,1,1,1,1,1,1,1,1,1,1,1,{"$f":"SUM(F853:Q853)","v":12}]
[null,null,null,"Monitorear la ejecución presupuestal de las IPRESS",0,null,null,1,null,null,1,null,null,1,null,null,1,{"$f":"SUM(F854:Q854)","v":4}]
[null,null,null,"Realizar el reguimiento a las recomendacones de la supervisión",0,{"$nulls":5},1,null,null,1,null,null,1,{"$f":"SUM(F855:Q855)","v":3}]
[null,null,null,"Actualizar la normativa sobre supervisión financiera",0,{"$nulls":5},1,{"$nulls":5},1,{"$f":"SUM(F856:Q856)","v":2}]
[null,"AEI.03.03"]
[null,null,"18AO111143009","Socializar los convenios con las IPRESS",0,{"$nulls":11},1,{"$f":"SUM(F858:Q858)","v":1}]
[null,null,null,"Verificar el cumplimiento de los convenios",0,{"$nulls":5},1,{"$nulls":5},1,{"$f":"SUM(F859:Q859)","v":2}]
[null,null,null,"Socializar los contratos con las IPRESS",0,{"$nulls":11},1,{"$f":"SUM(F860:Q860)","v":1}]
[null,null,null,"Verificar el cumplimiento de los contratos",106520,{"$nulls":5},1,{"$nulls":5},1,{"$f":"SUM(F861:Q861)","v":2}]
[null,"08.03 - UDR HUÁNUCO"]
["OEI.01"]
[null,"AEI.01.01"]
[null,null,"18AO111143010","Ejecutar los proceso de afiliación",0,{"$nulls":7},1,null,null,1,1,{"$f":"SUM(F865:Q865)","v":3}]
[null,null,null,"Identificar necesidad y plantear la implementación de canales de atención",0,{"$nulls":9},1,null,null,{"$f":"SUM(F866:Q866)","v":1}]
[null,null,null,"Implementar las acciones de promoción del aseguramiento.",0,{"$nulls":9},1,null,null,{"$f":"SUM(F867:Q867)","v":1}]
[null,null,null,"Implementación de acciones de información a través de medios masivos",0,{"$nulls":7},1,null,1,null,1,{"$f":"SUM(F868:Q868)","v":3}]
[null,"AEI.01.02"]
[null,null,"18AO111143011","Detectar cobros indebidos a asegurados SIS por parte de las IPRESS",0,{"$nulls":6},1,null,1,null,1,null,{"$f":"SUM(F870:Q870)","v":3}]
[null,null,null,"Orientar al asegurado sobre sus derechos y deberes",0,{"$nulls":6},1,null,1,null,1,1,{"$f":"SUM(F871:Q871)","v":4}]
[null,null,null,"Ejecutar actividades operativas inopinadas",0,{"$nulls":7},1,null,1,null,1,{"$f":"SUM(F872:Q872)","v":3}]
[null,null,null,"Formular informes técnicos sobre vulneracion de derechos",0,{"$nulls":8},1,null,null,1,{"$f":"SUM(F873:Q873)","v":2}]
["OEI.02"]
[null,"AEI.02.01"]
[null,null,"18AO111143012","Realizar el Control Prestacional mediante PCPP",22000,1,1,1,1,1,1,1,1,1,null,null,1,{"$f":"SUM(F876:Q876)","v":10}]
[null,null,null,"Realizar el reguimiento a las recomendacones del PCPP",0,{"$nulls":5},1,null,null,1,null,null,1,{"$f":"SUM(F877:Q877)","v":3}]
[null,null,null,"Realizar el Control Prestacional mediante SME",0,1,1,1,1,1,1,1,1,1,1,1,1,{"$f":"SUM(F878:Q878)","v":12}]
[null,null,null,"Realizar el Control Técnico de las Prespaciones Económicas de Sepelios",0,1,1,1,1,1,1,1,1,1,1,1,1,{"$f":"SUM(F879:Q879)","v":12}]
[null,null,null,"Realziar el control de prestaciones asistenciales no tarifadas",0,1,1,1,1,1,1,1,1,1,1,1,1,{"$f":"SUM(F880:Q880)","v":12}]
["OEI.03"]
[null,"AEI.03.02"]
[null,null,"18AO111143013","Realizar la Supervisión Financiera a las UEs",20990,1,1,1,1,1,1,1,1,1,1,1,1,{"$f":"SUM(F883:Q883)","v":12}]
[null,null,null,"Monitorear la ejecución presupuestal de las IPRESS",0,1,1,1,1,1,1,1,1,1,1,1,1,{"$f":"SUM(F884:Q884)","v":12}]
[null,null,null,"Realizar el reguimiento a las recomendacones de la supervisión",0,{"$nulls":5},1,null,null,1,null,null,1,{"$f":"SUM(F885:Q885)","v":3}]
[null,null,null,"Actualizar la normativa sobre supervisión financiera",0,{"$nulls":5},1,{"$nulls":5},1,{"$f":"SUM(F886:Q886)","v":2}]
[null,"AEI.03.03"]
[null,null,"18AO111143014","Socializar los convenios con las IPRESS",0,{"$nulls":11},1,{"$f":"SUM(F888:Q888)","v":1}]
[null,null,null,"Verificar el cumplimiento de los convenios",0,{"$nulls":5},1,{"$nulls":5},1,{"$f":"SUM(F889:Q889)","v":2}]
[null,null,null,"Socializar los contratos con las IPRESS",0,{"$nulls":11},1,{"$f":"SUM(F890:Q890)","v":1}]
[null,null,null,"Verificar el cumplimiento de los contratos",99638,{"$nulls":5},1,{"$nulls":5},1,{"$f":"SUM(F891:Q891)","v":2}]
[null,"08.04 - UDR JUNÍN"]
["OEI.01"]
[null,"AEI.01.01"]
[null,null,"18AO111143015","Ejecutar los proceso de afiliación",0,{"$nulls":7},1,1,1,1,1,{"$f":"SUM(F895:Q895)","v":5}]
[null,null,null,"Identificar necesidad y plantear la implementación de canales de atención",0,{"$nulls":9},1,null,null,{"$f":"SUM(F896:Q896)","v":1}]
[null,null,null,"Implementar las acciones de promoción del aseguramiento.",11797.571428571429,{"$nulls":9},1,null,null,{"$f":"SUM(F897:Q897)","v":1}]
[null,null,null,"Implementación de acciones de información a través de medios masivos",0,{"$nulls":7},1,null,1,null,1,{"$f":"SUM(F898:Q898)","v":3}]
[null,"AEI.01.02"]
[null,null,"18AO111143016","Detectar cobros indebidos a asegurados SIS por parte de las IPRESS",0,{"$nulls":6},1,null,1,null,1,null,{"$f":"SUM(F900:Q900)","v":3}]
[null,null,null,"Orientar al asegurado sobre sus derechos y deberes",0,{"$nulls":6},1,1,1,1,1,1,{"$f":"SUM(F901:Q901)","v":6}]
[null,null,null,"Ejecutar actividades operativas inopinadas",0,{"$nulls":7},1,null,1,null,1,{"$f":"SUM(F902:Q902)","v":3}]
[null,null,null,"Formular informes técnicos sobre vulneracion de derechos",0,{"$nulls":8},1,null,null,1,{"$f":"SUM(F903:Q903)","v":2}]
["OEI.02"]
[null,"AEI.02.01"]
[null,null,"18AO111143017","Realizar el Control Prestacional mediante PCPP",30000,1,1,1,1,1,1,1,1,1,null,null,1,{"$f":"SUM(F906:Q906)","v":10}]
[null,null,null,"Realizar el reguimiento a las recomendacones del PCPP",0,{"$nulls":5},1,null,null,1,null,null,1,{"$f":"SUM(F907:Q907)","v":3}]
[null,null,null,"Realizar el Control Prestacional mediante SME",0,1,1,1,1,1,1,1,1,1,1,1,1,{"$f":"SUM(F908:Q908)","v":12}]
[null,null,null,"Realizar el Control Técnico de las Prespaciones Económicas de Sepelios",0,1,1,1,1,1,1,1,1,1,1,1,1,{"$f":"SUM(F909:Q909)","v":12}]
[null,null,null,"Realziar el control de prestaciones asistenciales no tarifadas",0,1,1,1,1,1,1,1,1,1,1,1,1,{"$f":"SUM(F910:Q910)","v":12}]
["OEI.03"]
[null,"AEI.03.02"]
[null,null,"18AO111143018","Realizar la Supervisión Financiera a las UEs",30000,1,1,1,1,1,1,1,1,1,1,1,1,{"$f":"SUM(F913:Q913)","v":12}]
[null,null,null,"Monitorear la ejecución presupuestal de las IPRESS",0,1,1,1,1,1,1,1,1,1,1,1,1,{"$f":"SUM(F914:Q914)","v":12}]
[null,null,null,"Realizar el reguimiento a las recomendacones de la supervisión",0,{"$nulls":5},1,null,null,1,null,null,1,{"$f":"SUM(F915:Q915)","v":3}]
[null,null,null,"Actualizar la normativa sobre supervisión financiera",0,{"$nulls":5},1,{"$nulls":5},1,{"$f":"SUM(F916:Q916)","v":2}]
[null,"AEI.03.03"]
[null,null,"18AO111143019","Socializar los convenios con las IPRESS",0,{"$nulls":11},1,{"$f":"SUM(F918:Q918)","v":1}]
[null,null,null,"Verificar el cumplimiento de los convenios",0,{"$nulls":5},1,{"$nulls":5},1,{"$f":"SUM(F919:Q919)","v":2}]
[null,null,null,"Socializar los contratos con las IPRESS",0,{"$nulls":11},1,{"$f":"SUM(F920:Q920)","v":1}]
[null,null,null,"Verificar el cumplimiento de los contratos",70785.428571428565,{"$nulls":5},1,{"$nulls":5},1,{"$f":"SUM(F921:Q921)","v":2}]
[null,"08.05 - UDR HUANCAVELICA"]
["OEI.01"]
[null,"AEI.01.01"]
[null,null,"18AO111143020","Ejecutar los proceso de afiliación",0,{"$nulls":7},1,1,1,1,1,{"$f":"SUM(F925:Q925)","v":5}]
[null,null,null,"Identificar necesidad y plantear la implementación de canales de atención",0,{"$nulls":9},1,null,null,{"$f":"SUM(F926:Q926)","v":1}]
[null,null,null,"Implementar las acciones de promoción del aseguramiento.",9028.6021505376339,{"$nulls":9},1,null,null,{"$f":"SUM(F927:Q927)","v":1}]
[null,null,null,"Implementación de acciones de información a través de medios masivos",0,{"$nulls":7},1,null,1,null,1,{"$f":"SUM(F928:Q928)","v":3}]
[null,"AEI.01.02"]
[null,null,"18AO111143021","Detectar cobros indebidos a asegurados SIS por parte de las IPRESS",0,{"$nulls":6},1,null,1,null,1,null,{"$f":"SUM(F930:Q930)","v":3}]
[null,null,null,"Orientar al asegurado sobre sus derechos y deberes",0,{"$nulls":6},1,1,1,1,1,1,{"$f":"SUM(F931:Q931)","v":6}]
[null,null,null,"Ejecutar actividades operativas inopinadas",0,{"$nulls":7},1,null,1,null,1,{"$f":"SUM(F932:Q932)","v":3}]
[null,null,null,"Formular informes técnicos sobre vulneracion de derechos",0,{"$nulls":8},1,null,null,1,{"$f":"SUM(F933:Q933)","v":2}]
["OEI.02"]
[null,"AEI.02.01"]
[null,null,"18AO111143022","Realizar el Control Prestacional mediante PCPP",25000,1,1,1,1,1,1,1,1,1,null,null,1,{"$f":"SUM(F936:Q936)","v":10}]
[null,null,null,"Realizar el reguimiento a las recomendacones del PCPP",0,{"$nulls":5},1,null,null,1,null,null,1,{"$f":"SUM(F937:Q937)","v":3}]
[null,null,null,"Realizar el Control Prestacional mediante SME",8125.7419354838712,1,1,1,1,1,1,1,1,1,1,1,1,{"$f":"SUM(F938:Q938)","v":12}]
[null,null,null,"Realizar el Control Técnico de las Prespaciones Económicas de Sepelios",0,1,1,1,1,1,1,1,1,1,1,1,1,{"$f":"SUM(F939:Q939)","v":12}]
[null,null,null,"Realziar el control de prestaciones asistenciales no tarifadas",0,1,1,1,1,1,1,1,1,1,1,1,1,{"$f":"SUM(F940:Q940)","v":12}]
["OEI.03"]
[null,"AEI.03.02"]
[null,null,"18AO111143023","Realizar la Supervisión Financiera a las UEs",25000,1,1,1,1,1,1,1,1,1,1,1,1,{"$f":"SUM(F943:Q943)","v":12}]
[null,null,null,"Monitorear la ejecución presupuestal de las IPRESS",0,1,1,1,1,1,1,1,1,1,1,1,1,{"$f":"SUM(F944:Q944)","v":12}]
[null,null,null,"Realizar el reguimiento a las recomendacones de la supervisión",0,{"$nulls":5},1,null,null,1,null,null,1,{"$f":"SUM(F945:Q945)","v":3}]
[null,null,null,"Actualizar la normativa sobre supervisión financiera",0,{"$nulls":5},1,{"$nulls":5},1,{"$f":"SUM(F946:Q946)","v":2}]
[null,"AEI.03.03"]
[null,null,"18AO111143024","Socializar los convenios con las IPRESS",8125.7419354838712,{"$nulls":11},1,{"$f":"SUM(F948:Q948)","v":1}]
[null,null,null,"Verificar el cumplimiento de los convenios",0,{"$nulls":5},1,null,null,null,1,null,null,{"$f":"SUM(F949:Q949)","v":2}]
[null,null,null,"Socializar los contratos con las IPRESS",0,{"$nulls":11},1,{"$f":"SUM(F950:Q950)","v":1}]
[null,null,null,"Verificar el cumplimiento de los contratos",58685.913978494624,{"$nulls":5},1,{"$nulls":5},1,{"$f":"SUM(F951:Q951)","v":2}]
[null,"09.01 - GERENCIA MACRO REGIONAL ORIENTE"]
["OEI.01"]
[null,"AEI.01.01"]
[null,null,"18AO111143027","Asistencia Técnica y Monitoreo de las acciones de gestores",5224.0090600226504,{"$nulls":8},1,null,null,1,{"$f":"SUM(F955:Q955)","v":2}]
[null,null,null,"Monitoreo de las afiliaciones y protección de derechos",2612.0045300113252,{"$nulls":6},1,1,1,1,1,1,{"$f":"SUM(F956:Q956)","v":6}]
[null,null,null,"Monitoreo de las acciones de difusión e información",3265.0056625141565,{"$nulls":6},1,1,1,1,1,1,{"$f":"SUM(F957:Q957)","v":6}]
["OEI.02"]
[null,"AEI.02.01"]
[null,null,"18AO111143029","Supervisión a UDRs sobre procesos de control prestacional",22530,{"$nulls":6},1,null,1,2,2,null,{"$f":"SUM(F960:Q960)","v":6}]
[null,null,null,"Asistencia técnica a UDRs en los procesos de control prestacional",4000,{"$nulls":8},1,null,null,null,{"$f":"SUM(F961:Q961)","v":1}]
[null,null,null,"Montorizar los procesos de Control Prestacional mediante PCPP",5224.0090600226504,{"$nulls":6},1,1,1,1,1,1,{"$f":"SUM(F962:Q962)","v":6}]
[null,null,null,"Montorizar los procesos de Control Prestacional mediante SME",2612.0045300113252,{"$nulls":6},1,1,1,1,1,1,{"$f":"SUM(F963:Q963)","v":6}]
["OEI.03"]
[null,"AEI.03.02"]
[null,null,"18AO111143030","Asistencia técnica a UDRs en los procesos de supervisión financiera",5000,{"$nulls":8},1,null,null,1,{"$f":"SUM(F966:Q966)","v":2}]
[null,null,null,"Monitoreo a las UDR en los procesos de supervisión financiera",{"$nulls":7},1,1,1,1,1,1,{"$f":"SUM(F967:Q967)","v":6}]
[null,null,null,"Realizar la supervisión a UDRS en el proceso financiero",3265.0056625141565,{"$nulls":7},1,null,null,1,null,{"$f":"SUM(F968:Q968)","v":2}]
[null,null,null,"Realizar la supervisión Financiera a UEs",{"$f":"2612.00453001133*2","v":5224.0090600226604},{"$nulls":9},1,null,1,{"$f":"SUM(F969:Q969)","v":2}]
["OEI.04"]
[null,"AEI.04.01"]
[null,null,"18AO110921291","Administrar fondos en efectivo (Caja Chica)",3265.0056625141565,1,1,1,1,1,1,1,1,1,1,1,1,{"$f":"SUM(F972:Q972)","v":12}]
[null,null,null,"Seguimiento a las recomendaciones del organo de control",6530.011325028313,{"$nulls":5},1,{"$nulls":5},1,2]
[null,null,null,"Remitir conformidades sobre prestación de servicios",42445.073612684035,1,1,1,1,1,1,1,1,1,1,1,1,12]
[null,null,null,"Gestionar información estadistica",5224.0090600226504,null,null,1,null,null,1,null,null,1,null,null,1,4]
[null,null,null,"Remitir informes de gestión",2412.8391845979613,null,null,1,null,null,1,null,null,1,null,null,1,4]
[null,null,null,"Realizar el Inventario de bienes patrimoniales",7836.0135900339747,{"$nulls":5},1,{"$nulls":5},1,2]
[null,null,null,"Consolidación y envío de base de datos",0,1,1,1,1,1,1,1,1,1,1,1,1,12]
[null,"09.02 - UDR AMAZONAS"]
["OEI.01"]
[null,"AEI.01.01"]
[null,null,"18AO111143031","Ejecutar los proceso de afiliación",0,{"$nulls":7},1,1,null,null,1,{"$f":"SUM(F982:Q982)","v":3}]
[null,null,null,"Identificar necesidad y plantear la implementación de canales de atención",0,{"$nulls":12},{"$f":"SUM(F983:Q983)","v":0}]
[null,null,null,"Implementar las acciones de promoción del aseguramiento.",0,{"$nulls":9},3,2,null,{"$f":"SUM(F984:Q984)","v":5}]
[null,null,null,"Implementación de acciones de información a través de medios masivos",0,{"$nulls":7},1,{"$nulls":4},{"$f":"SUM(F985:Q985)","v":1}]
[null,"AEI.01.02"]
[null,null,"18AO111143032","Detectar cobros indebidos a asegurados SIS por parte de las IPRESS",0,{"$nulls":6},1,null,1,null,1,null,{"$f":"SUM(F987:Q987)","v":3}]
[null,null,null,"Orientar al asegurado sobre sus derechos y deberes",0,{"$nulls":6},1,1,1,4,4,1,{"$f":"SUM(F988:Q988)","v":12}]
[null,null,null,"Ejecutar actividades operativas inopinadas",0,{"$nulls":7},1,null,4,4,1,{"$f":"SUM(F989:Q989)","v":10}]
[null,null,null,"Formular informes técnicos sobre vulneracion de derechos",0,{"$nulls":8},1,null,null,null,{"$f":"SUM(F990:Q990)","v":1}]
["OEI.02"]
[null,"AEI.02.01"]
[null,null,"18AO111143033","Realizar el Control Prestacional mediante PCPP",30000,1,1,1,1,1,1,1,1,1,null,null,4,{"$f":"SUM(F993:Q993)","v":13}]
[null,null,null,"Realizar el reguimiento a las recomendacones del PCPP",0,{"$nulls":5},1,null,null,1,2,null,null,{"$f":"SUM(F994:Q994)","v":4}]
[null,null,null,"Realizar el Control Prestacional mediante SME",11306.736842105263,1,1,1,1,1,1,1,1,1,1,1,1,{"$f":"SUM(F995:Q995)","v":12}]
[null,null,null,"Realizar el Control Técnico de las Prespaciones Económicas de Sepelios",0,1,1,1,1,1,1,1,1,1,1,1,1,{"$f":"SUM(F996:Q996)","v":12}]
[null,null,null,"Realziar el control de prestaciones asistenciales no tarifadas",0,1,1,1,1,1,1,1,1,1,1,1,1,{"$f":"SUM(F997:Q997)","v":12}]
["OEI.03"]
[null,"AEI.03.02"]
[null,null,"18AO111143035","Realizar la Supervisión Financiera a las UEs",30000,1,1,1,1,1,1,1,1,1,null,null,2,{"$f":"SUM(F1000:Q1000)","v":11}]
[null,null,null,"Monitorear la ejecución presupuestal de las IPRESS",0,1,1,1,1,1,1,1,1,1,null,null,2,{"$f":"SUM(F1001:Q1001)","v":11}]
[null,null,null,"Realizar el reguimiento a las recomendacones de la supervisión",0,{"$nulls":5},1,null,null,1,null,null,1,{"$f":"SUM(F1002:Q1002)","v":3}]
[null,null,null,"Actualizar la normativa sobre supervisión financiera",0,{"$nulls":5},1,{"$nulls":6},{"$f":"SUM(F1003:Q1003)","v":1}]
[null,"AEI.03.03"]
[null,null,"18AO111143036","Socializar los convenios con las IPRESS",0,{"$nulls":11},1,{"$f":"SUM(F1005:Q1005)","v":1}]
[null,null,null,"Verificar el cumplimiento de los convenios",0,{"$nulls":5},1,{"$nulls":5},1,{"$f":"SUM(F1006:Q1006)","v":2}]
[null,null,null,"Socializar los contratos con las IPRESS",0,{"$nulls":12},{"$f":"SUM(F1007:Q1007)","v":0}]
[null,null,null,"Verificar el cumplimiento de los contratos",96107.263157894733,{"$nulls":5},1,null,null,null,1,1,1,{"$f":"SUM(F1008:Q1008)","v":4}]
[null,"09.03 - UDR BAGUA"]
["OEI.01"]
[null,"AEI.01.01"]
[null,null,"18AO111143037","Ejecutar los proceso de afiliación",0,{"$nulls":7},1,1,1,1,1,{"$f":"SUM(F1012:Q1012)","v":5}]
[null,null,null,"Identificar necesidad y plantear la implementación de canales de atención",0,{"$nulls":9},1,null,null,{"$f":"SUM(F1013:Q1013)","v":1}]
[null,null,null,"Implementar las acciones de promoción del aseguramiento.",0,{"$nulls":9},1,null,null,{"$f":"SUM(F1014:Q1014)","v":1}]
[null,null,null,"Implementación de acciones de información a través de medios masivos",0,{"$nulls":7},1,null,1,null,1,{"$f":"SUM(F1015:Q1015)","v":3}]
[null,"AEI.01.02"]
[null,null,"18AO111143038","Detectar cobros indebidos a asegurados SIS por parte de las IPRESS",0,{"$nulls":6},1,null,1,null,1,null,{"$f":"SUM(F1017:Q1017)","v":3}]
[null,null,null,"Orientar al asegurado sobre sus derechos y deberes",0,{"$nulls":6},1,1,1,1,1,1,{"$f":"SUM(F1018:Q1018)","v":6}]
[null,null,null,"Ejecutar actividades operativas inopinadas",0,{"$nulls":7},1,null,1,null,1,{"$f":"SUM(F1019:Q1019)","v":3}]
[null,null,null,"Formular informes técnicos sobre vulneracion de derechos",0,{"$nulls":8},1,null,null,1,{"$f":"SUM(F1020:Q1020)","v":2}]
["OEI.02"]
[null,"AEI.02.01"]
[null,null,"18AO111143039","Realizar el Control Prestacional mediante PCPP",30000,1,1,1,1,1,1,1,1,1,null,null,1,{"$f":"SUM(F1023:Q1023)","v":10}]
[null,null,null,"Realizar el reguimiento a las recomendacones del PCPP",0,{"$nulls":5},1,null,null,1,null,null,1,{"$f":"SUM(F1024:Q1024)","v":3}]
[null,null,null,"Realizar el Control Prestacional mediante SME",6278.3481781376522,1,1,1,1,1,1,1,1,1,1,1,1,{"$f":"SUM(F1025:Q1025)","v":12}]
[null,null,null,"Realizar el Control Técnico de las Prespaciones Económicas de Sepelios",0,1,1,1,1,1,1,1,1,1,1,1,1,{"$f":"SUM(F1026:Q1026)","v":12}]
[null,null,null,"Realziar el control de prestaciones asistenciales no tarifadas",0,1,1,1,1,1,1,1,1,1,1,1,1,{"$f":"SUM(F1027:Q1027)","v":12}]
["OEI.03"]
[null,"AEI.03.02"]
[null,null,"18AO111143040","Realizar la Supervisión Financiera a las UEs",32000,1,1,1,1,1,1,1,1,1,1,1,1,{"$f":"SUM(F1030:Q1030)","v":12}]
[null,null,null,"Monitorear la ejecución presupuestal de las IPRESS",0,1,1,1,1,1,1,1,1,1,1,1,1,{"$f":"SUM(F1031:Q1031)","v":12}]
[null,null,null,"Realizar el reguimiento a las recomendacones de la supervisión",0,{"$nulls":5},1,null,null,1,null,null,1,{"$f":"SUM(F1032:Q1032)","v":3}]
[null,null,null,"Actualizar la normativa sobre supervisión financiera",0,{"$nulls":5},1,{"$nulls":5},1,{"$f":"SUM(F1033:Q1033)","v":2}]
[null,"AEI.03.03"]
[null,null,"18AO111143041","Socializar los convenios con las IPRESS",0,{"$nulls":11},1,{"$f":"SUM(F1035:Q1035)","v":1}]
[null,null,null,"Verificar el cumplimiento de los convenios",0,{"$nulls":5},1,{"$nulls":5},1,{"$f":"SUM(F1036:Q1036)","v":2}]
[null,null,null,"Socializar los contratos con las IPRESS",0,{"$nulls":12},{"$f":"SUM(F1037:Q1037)","v":0}]
[null,null,null,"Verificar el cumplimiento de los contratos",57017.651821862346,{"$nulls":5},1,{"$nulls":6},{"$f":"SUM(F1038:Q1038)","v":1}]
[null,"09.04 - UDR LORETO"]
["OEI.01"]
[null,"AEI.01.01"]
[null,null,"18AO111143042","Ejecutar los proceso de afiliación",0,{"$nulls":7},1,1,null,1,null,{"$f":"SUM(F1042:Q1042)","v":3}]
[null,null,null,"Identificar necesidad y plantear la implementación de canales de atención",0,{"$nulls":9},1,null,null,{"$f":"SUM(F1043:Q1043)","v":1}]
[null,null,null,"Implementar las acciones de promoción del aseguramiento.",28841.972604751038,{"$nulls":9},1,null,null,{"$f":"SUM(F1044:Q1044)","v":1}]
[null,null,null,"Implementación de acciones de información a través de medios masivos",0,{"$nulls":7},1,null,1,null,1,{"$f":"SUM(F1045:Q1045)","v":3}]
[null,"AEI.01.02"]
[null,null,"18AO111143043","Detectar cobros indebidos a asegurados SIS por parte de las IPRESS",28841.972604751038,{"$nulls":6},1,null,1,1,1,1,{"$f":"SUM(F1047:Q1047)","v":5}]
[null,null,null,"Orientar al asegurado sobre sus derechos y deberes",0,{"$nulls":6},1,1,1,1,1,1,{"$f":"SUM(F1048:Q1048)","v":6}]
[null,null,null,"Ejecutar actividades operativas inopinadas",0,{"$nulls":7},1,null,1,1,1,{"$f":"SUM(F1049:Q1049)","v":4}]
[null,null,null,"Formular informes técnicos sobre vulneracion de derechos",0,{"$nulls":8},1,null,null,1,{"$f":"SUM(F1050:Q1050)","v":2}]
["OEI.02"]
[null,"AEI.02.01"]
[null,null,"18AO111143044","Realizar el Control Prestacional mediante PCPP",30000,1,1,1,1,1,1,1,1,1,null,null,1,{"$f":"SUM(F1053:Q1053)","v":10}]
[null,null,null,"Realizar el reguimiento a las recomendacones del PCPP",0,{"$nulls":5},1,null,null,1,null,null,1,{"$f":"SUM(F1054:Q1054)","v":3}]
[null,null,null,"Realizar el Control Prestacional mediante SME",17882.023014945644,1,1,1,1,1,1,1,1,1,1,1,1,{"$f":"SUM(F1055:Q1055)","v":12}]
[null,null,null,"Realizar el Control Técnico de las Prespaciones Económicas de Sepelios",0,1,1,1,1,1,1,1,1,1,1,1,1,{"$f":"SUM(F1056:Q1056)","v":12}]
[null,null,null,"Realziar el control de prestaciones asistenciales no tarifadas",0,1,1,1,1,1,1,1,1,1,1,1,1,{"$f":"SUM(F1057:Q1057)","v":12}]
["OEI.03"]
[null,"AEI.03.02"]
[null,null,"18AO111143045","Realizar la Supervisión Financiera a las UEs",30000,1,1,1,1,1,1,1,1,1,null,null,null,{"$f":"SUM(F1060:Q1060)","v":9}]
[null,null,null,"Monitorear la ejecución presupuestal de las IPRESS",0,1,1,1,1,1,1,1,1,1,1,1,1,{"$f":"SUM(F1061:Q1061)","v":12}]
[null,null,null,"Realizar el reguimiento a las recomendacones de la supervisión",0,{"$nulls":5},1,null,null,1,null,null,1,{"$f":"SUM(F1062:Q1062)","v":3}]
[null,null,null,"Actualizar la normativa sobre supervisión financiera",0,{"$nulls":5},1,{"$nulls":4},1,1,{"$f":"SUM(F1063:Q1063)","v":3}]
[null,"AEI.03.03"]
[null,null,"18AO111143046","Socializar los convenios con las IPRESS",20189.380823325726,{"$nulls":11},1,{"$f":"SUM(F1065:Q1065)","v":1}]
[null,null,null,"Verificar el cumplimiento de los convenios",0,{"$nulls":5},1,null,null,null,1,1,1,{"$f":"SUM(F1066:Q1066)","v":4}]
[null,null,null,"Socializar los contratos con las IPRESS",0,{"$nulls":12},{"$f":"SUM(F1067:Q1067)","v":0}]
[null,null,null,"Verificar el cumplimiento de los contratos",139968.65095222654,{"$nulls":5},1,{"$nulls":6},{"$f":"SUM(F1068:Q1068)","v":1}]
[null,"09.05 - UDR SAN MARTÍN"]
["OEI.01"]
[null,"AEI.01.01"]
[null,null,"18AO111143047","Ejecutar los proceso de afiliación",0,{"$nulls":7},1,1,1,1,1,{"$f":"SUM(F1072:Q1072)","v":5}]
[null,null,null,"Identificar necesidad y plantear la implementación de canales de atención",0,{"$nulls":9},1,null,null,{"$f":"SUM(F1073:Q1073)","v":1}]
[null,null,null,"Implementar las acciones de promoción del aseguramiento.",10542.987341772152,{"$nulls":9},1,null,null,{"$f":"SUM(F1074:Q1074)","v":1}]
[null,null,null,"Implementación de acciones de información a través de medios masivos",0,{"$nulls":7},1,{"$nulls":4},{"$f":"SUM(F1075:Q1075)","v":1}]
[null,"AEI.01.02"]
[null,null,"18AO111143048","Detectar cobros indebidos a asegurados SIS por parte de las IPRESS",0,{"$nulls":6},1,null,1,null,1,null,{"$f":"SUM(F1077:Q1077)","v":3}]
[null,null,null,"Orientar al asegurado sobre sus derechos y deberes",0,{"$nulls":6},1,1,1,1,1,1,{"$f":"SUM(F1078:Q1078)","v":6}]
[null,null,null,"Ejecutar actividades operativas inopinadas",10542.987341772152,{"$nulls":7},1,null,1,null,null,{"$f":"SUM(F1079:Q1079)","v":2}]
[null,null,null,"Formular informes técnicos sobre vulneracion de derechos",0,{"$nulls":8},1,null,null,null,{"$f":"SUM(F1080:Q1080)","v":1}]
["OEI.02"]
[null,"AEI.02.01"]
[null,null,"18AO111143049","Realizar el Control Prestacional mediante PCPP",30000,1,1,1,1,1,1,1,1,1,null,null,1,{"$f":"SUM(F1083:Q1083)","v":10}]
[null,null,null,"Realizar el reguimiento a las recomendacones del PCPP",0,{"$nulls":5},1,null,null,1,null,null,1,{"$f":"SUM(F1084:Q1084)","v":3}]
[null,null,null,"Realizar el Control Prestacional mediante SME",0,1,1,1,1,1,1,1,1,1,1,1,1,{"$f":"SUM(F1085:Q1085)","v":12}]
[null,null,null,"Realizar el Control Técnico de las Prespaciones Económicas de Sepelios",0,1,1,1,1,1,1,1,1,1,1,1,1,{"$f":"SUM(F1086:Q1086)","v":12}]
[null,null,null,"Realziar el control de prestaciones asistenciales no tarifadas",0,1,1,1,1,1,1,1,1,1,1,1,1,{"$f":"SUM(F1087:Q1087)","v":12}]
["OEI.03"]
[null,"AEI.03.02"]
[null,null,"18AO111143050","Realizar la Supervisión Financiera a las UEs",30440,1,1,1,1,1,1,1,1,1,1,1,1,{"$f":"SUM(F1090:Q1090)","v":12}]
[null,null,null,"Monitorear la ejecución presupuestal de las IPRESS",0,1,1,1,1,1,1,1,1,1,1,1,1,{"$f":"SUM(F1091:Q1091)","v":12}]
[null,null,null,"Realizar el reguimiento a las recomendacones de la supervisión",0,{"$nulls":5},1,null,null,1,null,null,1,{"$f":"SUM(F1092:Q1092)","v":3}]
[null,null,null,"Actualizar la normativa sobre supervisión financiera",0,{"$nulls":5},1,{"$nulls":5},1,{"$f":"SUM(F1093:Q1093)","v":2}]
[null,"AEI.03.03"]
[null,null,"18AO111143051","Socializar los convenios con las IPRESS",10542.987341772152,{"$nulls":12},{"$f":"SUM(F1095:Q1095)","v":0}]
[null,null,null,"Verificar el cumplimiento de los convenios",0,{"$nulls":5},1,{"$nulls":5},1,{"$f":"SUM(F1096:Q1096)","v":2}]
[null,null,null,"Socializar los contratos con las IPRESS",0,{"$nulls":12},{"$f":"SUM(F1097:Q1097)","v":0}]
[null,null,null,"Verificar el cumplimiento de los contratos",60915.037974683546,{"$nulls":5},1,{"$nulls":6},{"$f":"SUM(F1098:Q1098)","v":1}]
[null,"09.06 - UDR UCAYALI"]
["OEI.01"]
[null,"AEI.01.01"]
[null,null,"18AO111143052","Ejecutar los proceso de afiliación",0,{"$nulls":7},1,1,null,1,1,{"$f":"SUM(F1102:Q1102)","v":4}]
[null,null,null,"Identificar necesidad y plantear la implementación de canales de atención",0,{"$nulls":9},1,null,null,{"$f":"SUM(F1103:Q1103)","v":1}]
[null,null,null,"Implementar las acciones de promoción del aseguramiento.",0,{"$nulls":9},1,null,null,{"$f":"SUM(F1104:Q1104)","v":1}]
[null,null,null,"Implementación de acciones de información a través de medios masivos",0,{"$nulls":7},1,null,1,null,1,{"$f":"SUM(F1105:Q1105)","v":3}]
[null,"AEI.01.02"]
[null,null,"18AO111143053","Detectar cobros indebidos a asegurados SIS por parte de las IPRESS",0,{"$nulls":6},1,null,1,null,1,1,{"$f":"SUM(F1107:Q1107)","v":4}]
[null,null,null,"Orientar al asegurado sobre sus derechos y deberes",11944.242424242424,{"$nulls":6},1,1,1,1,1,1,{"$f":"SUM(F1108:Q1108)","v":6}]
[null,null,null,"Ejecutar actividades operativas inopinadas",0,{"$nulls":7},1,null,1,null,1,{"$f":"SUM(F1109:Q1109)","v":3}]
[null,null,null,"Formular informes técnicos sobre vulneracion de derechos",0,{"$nulls":8},1,null,null,1,{"$f":"SUM(F1110:Q1110)","v":2}]
["OEI.02"]
[null,"AEI.02.01"]
[null,null,"18AO111143053","Realizar el Control Prestacional mediante PCPP",25000,1,1,1,1,1,1,1,1,1,null,null,1,{"$f":"SUM(F1113:Q1113)","v":10}]
[null,null,null,"Realizar el reguimiento a las recomendacones del PCPP",0,{"$nulls":5},1,null,null,1,null,null,1,{"$f":"SUM(F1114:Q1114)","v":3}]
[null,null,null,"Realizar el Control Prestacional mediante SME",9555.3939393939399,1,1,1,1,1,1,1,1,1,1,1,1,{"$f":"SUM(F1115:Q1115)","v":12}]
[null,null,null,"Realizar el Control Técnico de las Prespaciones Económicas de Sepelios",0,1,1,1,1,1,1,1,1,1,1,1,1,{"$f":"SUM(F1116:Q1116)","v":12}]
[null,null,null,"Realziar el control de prestaciones asistenciales no tarifadas",0,1,1,1,1,1,1,1,1,1,1,1,1,{"$f":"SUM(F1117:Q1117)","v":12}]
["OEI.03"]
[null,"AEI.03.02"]
[null,null,"18AO111143054","Realizar la Supervisión Financiera a las UEs",25000,1,1,1,1,1,1,1,1,1,1,1,1,{"$f":"SUM(F1120:Q1120)","v":12}]
[null,null,null,"Monitorear la ejecución presupuestal de las IPRESS",0,1,1,1,1,1,1,1,1,1,1,1,1,{"$f":"SUM(F1121:Q1121)","v":12}]
[null,null,null,"Realizar el reguimiento a las recomendacones de la supervisión",0,{"$nulls":5},1,null,null,1,null,null,1,{"$f":"SUM(F1122:Q1122)","v":3}]
[null,null,null,"Actualizar la normativa sobre supervisión financiera",0,{"$nulls":5},1,{"$nulls":5},1,{"$f":"SUM(F1123:Q1123)","v":2}]
[null,"AEI.03.03"]
[null,null,"18AO111143055","Socializar los convenios con las IPRESS",0,{"$nulls":11},1,{"$f":"SUM(F1125:Q1125)","v":1}]
[null,null,null,"Verificar el cumplimiento de los convenios",0,{"$nulls":5},1,{"$nulls":5},1,{"$f":"SUM(F1126:Q1126)","v":2}]
[null,null,null,"Socializar los contratos con las IPRESS",0,{"$nulls":11},1,{"$f":"SUM(F1127:Q1127)","v":1}]
[null,null,null,"Verificar el cumplimiento de los contratos",57332.36363636364,{"$nulls":5},1,{"$nulls":5},1,{"$f":"SUM(F1128:Q1128)","v":2}]
[null,"09.07 - UDR YURIMAGUAS"]
["OEI.01"]
[null,"AEI.01.01"]
[null,null,"18AO111143057","Ejecutar los proceso de afiliación",0,{"$nulls":7},1,null,null,null,1,{"$f":"SUM(F1132:Q1132)","v":2}]
[null,null,null,"Identificar necesidad y plantear la implementación de canales de atención",0,{"$nulls":9},1,null,null,{"$f":"SUM(F1133:Q1133)","v":1}]
[null,null,null,"Implementar las acciones de promoción del aseguramiento.",0,{"$nulls":9},1,null,null,{"$f":"SUM(F1134:Q1134)","v":1}]
[null,null,null,"Implementación de acciones de información a través de medios masivos",0,{"$nulls":7},1,null,null,null,1,{"$f":"SUM(F1135:Q1135)","v":2}]
[null,"AEI.01.02"]
[null,null,"18AO111143058","Detectar cobros indebidos a asegurados SIS por parte de las IPRESS",0,{"$nulls":10},1,null,{"$f":"SUM(F1137:Q1137)","v":1}]
[null,null,null,"Orientar al asegurado sobre sus derechos y deberes",0,{"$nulls":6},1,{"$nulls":4},1,{"$f":"SUM(F1138:Q1138)","v":2}]
[null,null,null,"Ejecutar actividades operativas inopinadas",0,{"$nulls":7},1,null,null,null,1,{"$f":"SUM(F1139:Q1139)","v":2}]
[null,null,null,"Formular informes técnicos sobre vulneracion de derechos",0,{"$nulls":8},1,null,null,1,{"$f":"SUM(F1140:Q1140)","v":2}]
["OEI.02"]
[null,"AEI.02.01"]
[null,null,"18AO111143059","Realizar el Control Prestacional mediante PCPP",20000,1,1,1,1,1,1,1,1,1,null,null,1,{"$f":"SUM(F1143:Q1143)","v":10}]
[null,null,null,"Realizar el reguimiento a las recomendacones del PCPP",0,{"$nulls":5},1,null,null,1,null,null,1,{"$f":"SUM(F1144:Q1144)","v":3}]
[null,null,null,"Realizar el Control Prestacional mediante SME",13157.538461538461,1,1,1,1,1,1,1,1,1,1,1,1,{"$f":"SUM(F1145:Q1145)","v":12}]
[null,null,null,"Realizar el Control Técnico de las Prespaciones Económicas de Sepelios",0,1,1,1,1,1,1,1,1,1,1,1,1,{"$f":"SUM(F1146:Q1146)","v":12}]
[null,null,null,"Realziar el control de prestaciones asistenciales no tarifadas",0,1,1,1,1,1,1,1,1,1,1,1,1,{"$f":"SUM(F1147:Q1147)","v":12}]
["OEI.03"]
[null,"AEI.03.02"]
[null,null,"18AO111143060","Realizar la Supervisión Financiera a las UEs",20000,1,1,1,1,1,1,1,1,1,1,1,1,{"$f":"SUM(F1150:Q1150)","v":12}]
[null,null,null,"Monitorear la ejecución presupuestal de las IPRESS",0,1,1,1,1,1,1,1,1,1,1,1,1,{"$f":"SUM(F1151:Q1151)","v":12}]
[null,null,null,"Realizar el reguimiento a las recomendacones de la supervisión",0,{"$nulls":5},1,null,null,1,null,null,1,{"$f":"SUM(F1152:Q1152)","v":3}]
[null,null,null,"Actualizar la normativa sobre supervisión financiera",0,{"$nulls":5},1,{"$nulls":5},1,{"$f":"SUM(F1153:Q1153)","v":2}]
[null,"AEI.03.03"]
[null,null,"18AO111143061","Socializar los convenios con las IPRESS",0,{"$nulls":11},1,{"$f":"SUM(F1155:Q1155)","v":1}]
[null,null,null,"Verificar el cumplimiento de los convenios",0,{"$nulls":5},1,{"$nulls":5},1,{"$f":"SUM(F1156:Q1156)","v":2}]
[null,null,null,"Socializar los contratos con las IPRESS",0,{"$nulls":11},1,{"$f":"SUM(F1157:Q1157)","v":1}]
[null,null,null,"Verificar el cumplimiento de los contratos",43858.461538461539,{"$nulls":5},1,{"$nulls":5},1,{"$f":"SUM(F1158:Q1158)","v":2}]
[null,"10.01 - GERENCIA MACRO REGIONAL SUR MEDIO"]
["OEI.01"]
[null,"AEI.01.01"]
[null,null,"18AO111143062","Asistencia Técnica y Monitoreo de las acciones de gestores",7549.6694214876034,{"$nulls":9},1,null,1,{"$f":"SUM(F1162:Q1162)","v":2}]
[null,null,null,"Monitoreo de las afiliaciones y protección de derechos",0,{"$nulls":6},1,1,1,1,1,1,{"$f":"SUM(F1163:Q1163)","v":6}]
[null,null,null,"Monitoreo de las acciones de difusión e información",0,{"$nulls":6},1,1,1,1,1,1,{"$f":"SUM(F1164:Q1164)","v":6}]
["OEI.02"]
[null,"AEI.02.01"]
[null,null,"18AO111143063","Supervisión a UDRs sobre procesos de control prestacional",19000,{"$nulls":9},1,1,null,{"$f":"SUM(F1167:Q1167)","v":2}]
[null,null,null,"Asistencia técnica a UDRs en los procesos de control prestacional",0,{"$nulls":9},1,null,null,{"$f":"SUM(F1168:Q1168)","v":1}]
[null,null,null,"Montorizar los procesos de Control Prestacional mediante PCPP",0,{"$nulls":6},1,1,1,1,1,1,{"$f":"SUM(F1169:Q1169)","v":6}]
[null,null,null,"Montorizar los procesos de Control Prestacional mediante SME",0,{"$nulls":6},1,1,1,1,1,1,{"$f":"SUM(F1170:Q1170)","v":6}]
["OEI.03"]
[null,"AEI.03.02"]
[null,null,"18AO111143064","Asistencia técnica a UDRs en los procesos de supervisión financiera",0,{"$nulls":8},1,null,null,1,{"$f":"SUM(F1173:Q1173)","v":2}]
[null,null,null,"Monitoreo a las UDR en los procesos de supervisión financiera",0,{"$nulls":6},1,1,1,1,1,1,{"$f":"SUM(F1174:Q1174)","v":6}]
[null,null,null,"Realizar la supervisión a UDRS en el proceso financiero",0,{"$nulls":7},1,null,null,1,null,{"$f":"SUM(F1175:Q1175)","v":2}]
[null,null,null,"Realizar la supervisión Financiera a UEs",0,{"$nulls":9},1,null,1,{"$f":"SUM(F1176:Q1176)","v":2}]
["OEI.04"]
[null,"AEI.04.01"]
[null,null,"18AO110921549","Administrar fondos en efectivo (Caja Chica)",0,1,1,1,1,1,1,1,1,1,1,1,1,{"$f":"SUM(F1179:Q1179)","v":12}]
[null,null,null,"Seguimiento a las recomendaciones del organo de control",0,{"$nulls":5},1,{"$nulls":5},1,2]
[null,null,null,"Remitir conformidades sobre prestación de servicios",62720.330578512396,1,1,1,1,1,1,1,1,1,1,1,1,12]
[null,null,null,"Gestionar información estadistica",0,null,null,1,null,null,1,null,null,1,null,null,1,4]
[null,null,null,"Remitir informes de gestión",0,null,null,1,null,null,1,null,null,1,null,null,1,4]
[null,null,null,"Realizar el Inventario de bienes patrimoniales",0,{"$nulls":5},1,{"$nulls":5},1,2]
[null,null,null,"Consolidación y envío de base de datos",0,1,1,1,1,1,1,1,1,1,1,1,1,12]
[null,"10.02 - UDR AYACUCHO"]
["OEI.01"]
[null,"AEI.01.01"]
[null,null,"18AO111143066","Ejecutar los proceso de afiliación",0,{"$nulls":7},1,1,1,1,1,5]
[null,null,null,"Identificar necesidad y plantear la implementación de canales de atención",0,{"$nulls":9},1,null,null,1]
[null,null,null,"Implementar las acciones de promoción del aseguramiento.",6087.7746478873241,{"$nulls":9},1,null,null,1]
[null,null,null,"Implementación de acciones de información a través de medios masivos",0,{"$nulls":7},1,null,1,null,1,3]
[null,"AEI.01.02"]
[null,null,"18AO111143067","Detectar cobros indebidos a asegurados SIS por parte de las IPRESS",0,{"$nulls":6},1,null,1,null,1,null,{"$f":"SUM(F1194:Q1194)","v":3}]
[null,null,null,"Orientar al asegurado sobre sus derechos y deberes",0,{"$nulls":6},1,1,1,1,1,1,{"$f":"SUM(F1195:Q1195)","v":6}]
[null,null,null,"Ejecutar actividades operativas inopinadas",0,{"$nulls":7},1,null,1,null,1,{"$f":"SUM(F1196:Q1196)","v":3}]
[null,null,null,"Formular informes técnicos sobre vulneracion de derechos",0,{"$nulls":8},1,null,null,1,{"$f":"SUM(F1197:Q1197)","v":2}]
["OEI.02"]
[null,"AEI.02.01"]
[null,null,"18AO111143068","Realizar el Control Prestacional mediante PCPP",25000,1,1,1,1,1,1,1,0,0,null,null,2,{"$f":"SUM(F1200:Q1200)","v":9}]
[null,null,null,"Realizar el reguimiento a las recomendacones del PCPP",0,{"$nulls":5},1,null,null,0,null,null,2,{"$f":"SUM(F1201:Q1201)","v":3}]
[null,null,null,"Realizar el Control Prestacional mediante SME",6848.7464788732395,1,1,1,1,1,1,1,0,0,1,2,2,{"$f":"SUM(F1202:Q1202)","v":12}]
[null,null,null,"Realizar el Control Técnico de las Prespaciones Económicas de Sepelios",0,1,1,1,1,1,1,1,1,1,1,1,1,{"$f":"SUM(F1203:Q1203)","v":12}]
[null,null,null,"Realziar el control de prestaciones asistenciales no tarifadas",0,1,1,1,1,1,1,1,1,1,1,1,1,{"$f":"SUM(F1204:Q1204)","v":12}]
["OEI.03"]
[null,"AEI.03.02"]
[null,null,"18AO111143069","Realizar la Supervisión Financiera a las UEs",25000,1,1,1,1,1,1,1,1,1,1,1,1,{"$f":"SUM(F1207:Q1207)","v":12}]
[null,null,null,"Monitorear la ejecución presupuestal de las IPRESS",0,1,1,1,1,1,1,1,1,1,1,1,1,{"$f":"SUM(F1208:Q1208)","v":12}]
[null,null,null,"Realizar el reguimiento a las recomendacones de la supervisión",0,{"$nulls":5},1,null,null,1,null,null,1,{"$f":"SUM(F1209:Q1209)","v":3}]
[null,null,null,"Actualizar la normativa sobre supervisión financiera",0,{"$nulls":5},1,{"$nulls":5},1,{"$f":"SUM(F1210:Q1210)","v":2}]
[null,"AEI.03.03"]
[null,null,"18AO111143070","Socializar los convenios con las IPRESS",6087.7746478873241,{"$nulls":11},1,{"$f":"SUM(F1212:Q1212)","v":1}]
[null,null,null,"Verificar el cumplimiento de los convenios",0,{"$nulls":5},1,{"$nulls":5},1,{"$f":"SUM(F1213:Q1213)","v":2}]
[null,null,null,"Socializar los contratos con las IPRESS",0,{"$nulls":11},1,{"$f":"SUM(F1214:Q1214)","v":1}]
[null,null,null,"Verificar el cumplimiento de los contratos",35004.704225352114,{"$nulls":5},1,{"$nulls":5},1,{"$f":"SUM(F1215:Q1215)","v":2}]
[null,"10.03 - UDR ABANCAY"]
["OEI.01"]
[null,"AEI.01.01"]
[null,null,"18AO111143071","Ejecutar los proceso de afiliación",13586,{"$nulls":12},{"$f":"SUM(F1219:Q1219)","v":0}]
[null,null,null,"Identificar necesidad y plantear la implementación de canales de atención",0,{"$nulls":12},{"$f":"SUM(F1220:Q1220)","v":0}]
[null,null,null,"Implementar las acciones de promoción del aseguramiento.",0,{"$nulls":12},{"$f":"SUM(F1221:Q1221)","v":0}]
[null,null,null,"Implementación de acciones de información a través de medios masivos",0,{"$nulls":12},{"$f":"SUM(F1222:Q1222)","v":0}]
[null,null,null,"Realizar acciones extramurales  y de marketing BTL: Campañas, sesiones informativas y difusión a través de videos y afiches.",13089,{"$nulls":9},1,1,1,{"$f":"SUM(F1223:Q1223)","v":3}]
[null,null,null,"Prestador y Actores sociales involucrados en el Aseguramiento Universal ",2820,{"$nulls":9},1,1,1,3]
[null,null,null,"Realizar talleres de asistencia técnica a IPRESS en el proceso de afiliación, protección del asegurado y promoción del aseguramiento ",5876,{"$nulls":11},1,1]
[null,"AEI.01.02"]
[null,null,"18AO111143072","Detectar cobros indebidos a asegurados SIS por parte de las IPRESS",0,{"$nulls":12},{"$f":"SUM(F1227:Q1227)","v":0}]
[null,null,null,"Orientar al asegurado sobre sus derechos y deberes",0,{"$nulls":12},{"$f":"SUM(F1228:Q1228)","v":0}]
[null,null,null,"Ejecutar actividades operativas inopinadas",0,{"$nulls":12},{"$f":"SUM(F1229:Q1229)","v":0}]
[null,null,null,"Formular informes técnicos sobre vulneracion de derechos",0,{"$nulls":12},{"$f":"SUM(F1230:Q1230)","v":0}]
[null,null,null,"Realizar acciones de verificación y monitoreo en IPRESS del proceso de afiliación, protección del asegurado y promoción del aseguramiento.",43167.114772727269,{"$nulls":9},3,2,1,{"$f":"SUM(F1231:Q1231)","v":6}]
["OEI.02"]
[null,"AEI.02.01"]
[null,null,"18AO111143074","Realizar el Control Prestacional mediante PCPP",0,{"$nulls":12},{"$f":"SUM(F1234:Q1234)","v":0}]
[null,null,null,"Realizar el reguimiento a las recomendacones del PCPP",0,{"$nulls":12},{"$f":"SUM(F1235:Q1235)","v":0}]
[null,null,null,"Realizar el Control Prestacional mediante SME",0,{"$nulls":12},{"$f":"SUM(F1236:Q1236)","v":0}]
[null,null,null,"Realizar el Control Técnico de las Prespaciones Económicas de Sepelios",0,{"$nulls":12},{"$f":"SUM(F1237:Q1237)","v":0}]
[null,null,null,"Realziar el control de prestaciones asistenciales no tarifadas",0,{"$nulls":12},{"$f":"SUM(F1238:Q1238)","v":0}]
["OEI.03"]
[null,"AEI.03.02"]
[null,null,"18AO111143075","Realizar la Supervisión Financiera a las UEs",2340,{"$nulls":10},2,null,{"$f":"SUM(F1241:Q1241)","v":2}]
[null,null,null,"Monitorear la ejecución presupuestal de las IPRESS",0,{"$nulls":12},{"$f":"SUM(F1242:Q1242)","v":0}]
[null,null,null,"Realizar el reguimiento a las recomendacones de la supervisión",0,{"$nulls":12},{"$f":"SUM(F1243:Q1243)","v":0}]
[null,null,null,"Actualizar la normativa sobre supervisión financiera",0,{"$nulls":12},{"$f":"SUM(F1244:Q1244)","v":0}]
[null,null,null,"Realizar el Control Técnico de las Prespaciones Económicas de Sepelios",23852.448863636364,{"$nulls":10},2,2,{"$f":"SUM(F1245:Q1245)","v":4}]
[null,"AEI.03.03"]
[null,null,"18AO111143076","Socializar los convenios con las IPRESS",0,{"$nulls":12},{"$f":"SUM(F1247:Q1247)","v":0}]
[null,null,null,"Verificar el cumplimiento de los convenios",0,{"$nulls":12},{"$f":"SUM(F1248:Q1248)","v":0}]
[null,null,null,"Socializar los contratos con las IPRESS",0,{"$nulls":12},{"$f":"SUM(F1249:Q1249)","v":0}]
[null,null,null,"Verificar el cumplimiento de los contratos",0,{"$nulls":12},{"$f":"SUM(F1250:Q1250)","v":0}]
[null,"10.04 - UDR ANDAHUAYLAS"]
["OEI.01"]
[null,"AEI.01.01"]
[null,null,"18AO111143077","Ejecutar los proceso de afiliación",0,{"$nulls":7},1,1,1,1,1,{"$f":"SUM(F1254:Q1254)","v":5}]
[null,null,null,"Identificar necesidad y plantear la implementación de canales de atención",0,{"$nulls":9},0,0,1,{"$f":"SUM(F1255:Q1255)","v":1}]
[null,null,null,"Implementar las acciones de promoción del aseguramiento.",10620.285714285714,{"$nulls":9},6,4,1,{"$f":"SUM(F1256:Q1256)","v":11}]
[null,null,null,"Implementación de acciones de información a través de medios masivos",0,{"$nulls":7},1,null,0,1,0,{"$f":"SUM(F1257:Q1257)","v":2}]
[null,"AEI.01.02"]
[null,null,"18AO111143078","Detectar cobros indebidos a asegurados SIS por parte de las IPRESS",0,{"$nulls":6},1,null,1,1,1,1,{"$f":"SUM(F1259:Q1259)","v":5}]
[null,null,null,"Orientar al asegurado sobre sus derechos y deberes",0,{"$nulls":6},1,1,1,6,4,1,{"$f":"SUM(F1260:Q1260)","v":14}]
[null,null,null,"Ejecutar actividades operativas inopinadas",0,{"$nulls":7},1,null,0,0,1,{"$f":"SUM(F1261:Q1261)","v":2}]
[null,null,null,"Formular informes técnicos sobre vulneracion de derechos",0,{"$nulls":8},1,0,0,1,{"$f":"SUM(F1262:Q1262)","v":2}]
["OEI.02"]
[null,"AEI.02.01"]
[null,null,"18AO111143079","Realizar el Control Prestacional mediante PCPP",25000,1,1,1,1,1,1,1,1,1,null,null,0,{"$f":"SUM(F1265:Q1265)","v":9}]
[null,null,null,"Realizar el reguimiento a las recomendacones del PCPP",0,{"$nulls":5},1,null,null,1,null,1,null,3]
[null,null,null,"Realizar el Control Prestacional mediante SME",0,1,1,1,1,1,1,1,1,1,0,0,0,9]
[null,null,null,"Realizar el Control Técnico de las Prestaciones Económicas de Sepelios",0,1,1,1,1,1,1,1,1,1,1,1,1,12]
[null,null,null,"Realziar el control de prestaciones asistenciales no tarifadas",0,1,1,1,1,1,1,1,1,1,0,0,0,9]
[null,null,null,"Realizar el Control Técnico de las Prestaciones Administrativas (traslados y hogar materno)",0,{"$nulls":9},1,1,1,3]
["OEI.03"]
[null,"AEI.03.02"]
[null,null,"18AO111143080","Realizar la Supervisión Financiera a las UEs",0,1,1,1,1,1,1,1,1,1,1,0,0,{"$f":"SUM(F1273:Q1273)","v":10}]
[null,null,null,"Monitorear la ejecución presupuestal de las IPRESS",0,1,1,1,1,1,1,1,1,1,1,0,0,{"$f":"SUM(F1274:Q1274)","v":10}]
[null,null,null,"Realizar el reguimiento a las recomendacones de la supervisión",10620.285714285714,{"$nulls":5},1,null,null,1,0,0,1,{"$f":"SUM(F1275:Q1275)","v":3}]
[null,null,null,"Actualizar la normativa sobre supervisión financiera",0,{"$nulls":5},1,null,null,null,0,0,1,{"$f":"SUM(F1276:Q1276)","v":2}]
[null,"AEI.03.03"]
[null,null,"18AO111143082","Socializar los convenios con las IPRESS",0,{"$nulls":10},1,null,{"$f":"SUM(F1278:Q1278)","v":1}]
[null,null,null,"Verificar el cumplimiento de los convenios",0,{"$nulls":5},1,{"$nulls":6},{"$f":"SUM(F1279:Q1279)","v":1}]
[null,null,null,"Socializar los contratos con las IPRESS",0,{"$nulls":12},{"$f":"SUM(F1280:Q1280)","v":0}]
[null,null,null,"Verificar el cumplimiento de los contratos",53101.428571428572,{"$nulls":5},1,{"$nulls":6},{"$f":"SUM(F1281:Q1281)","v":1}]
[null,"10.05 - UDR ICA"]
["OEI.01"]
[null,"AEI.01.01"]
[null,null,"18AO111143090","Ejecutar los proceso de afiliación",0,{"$nulls":7},1,1,1,1,1,{"$f":"SUM(F1285:Q1285)","v":5}]
[null,null,null,"Identificar necesidad y plantear la implementación de canales de atención",0,{"$nulls":9},1,null,null,{"$f":"SUM(F1286:Q1286)","v":1}]
[null,null,null,"Implementar las acciones de promoción del aseguramiento.",6783.1074692719822,{"$nulls":9},1,null,null,{"$f":"SUM(F1287:Q1287)","v":1}]
[null,null,null,"Implementación de acciones de información a través de medios masivos",0,{"$nulls":7},1,null,1,null,1,{"$f":"SUM(F1288:Q1288)","v":3}]
[null,"AEI.01.02"]
[null,null,"18AO111143091","Detectar cobros indebidos a asegurados SIS por parte de las IPRESS",0,{"$nulls":6},1,null,1,null,1,null,{"$f":"SUM(F1290:Q1290)","v":3}]
[null,null,null,"Orientar al asegurado sobre sus derechos y deberes",6783.1074692719822,{"$nulls":6},1,1,1,1,1,1,{"$f":"SUM(F1291:Q1291)","v":6}]
[null,null,null,"Ejecutar actividades operativas inopinadas",0,{"$nulls":7},1,null,1,null,1,{"$f":"SUM(F1292:Q1292)","v":3}]
[null,null,null,"Formular informes técnicos sobre vulneracion de derechos",0,{"$nulls":8},1,null,null,1,{"$f":"SUM(F1293:Q1293)","v":2}]
["OEI.02"]
[null,"AEI.02.01"]
[null,null,"18AO111143092","Realizar el Control Prestacional mediante PCPP",5893,1,1,1,1,1,1,1,1,1,null,null,1,{"$f":"SUM(F1296:Q1296)","v":10}]
[null,null,null,"Realizar el reguimiento a las recomendacones del PCPP",6783.1074692719822,{"$nulls":5},1,null,null,1,null,null,1,{"$f":"SUM(F1297:Q1297)","v":3}]
[null,null,null,"Realizar el Control Prestacional mediante SME",6783.1074692719822,1,1,1,1,1,1,1,1,1,1,1,1,{"$f":"SUM(F1298:Q1298)","v":12}]
[null,null,null,"Realizar el Control Técnico de las Prespaciones Económicas de Sepelios",6783.1074692719822,1,1,1,1,1,1,1,1,1,1,1,1,{"$f":"SUM(F1299:Q1299)","v":12}]
[null,null,null,"Realziar el control de prestaciones asistenciales no tarifadas",0,1,1,1,1,1,1,1,1,1,1,1,1,{"$f":"SUM(F1300:Q1300)","v":12}]
["OEI.03"]
[null,"AEI.03.02"]
[null,null,"18AO111143093","Realizar la Supervisión Financiera a las UEs",6000,1,1,1,1,1,1,1,1,1,1,1,1,{"$f":"SUM(F1303:Q1303)","v":12}]
[null,null,null,"Monitorear la ejecución presupuestal de las IPRESS",0,1,1,1,1,1,1,1,1,1,1,1,1,{"$f":"SUM(F1304:Q1304)","v":12}]
[null,null,null,"Realizar el reguimiento a las recomendacones de la supervisión",0,{"$nulls":5},1,null,null,1,null,null,1,{"$f":"SUM(F1305:Q1305)","v":3}]
[null,null,null,"Actualizar la normativa sobre supervisión financiera",0,{"$nulls":5},1,{"$nulls":5},1,{"$f":"SUM(F1306:Q1306)","v":2}]
[null,"AEI.03.03"]
[null,null,"18AO111143094","Socializar los convenios con las IPRESS",0,{"$nulls":11},1,{"$f":"SUM(F1308:Q1308)","v":1}]
[null,null,null,"Verificar el cumplimiento de los convenios",0,{"$nulls":5},1,{"$nulls":5},1,{"$f":"SUM(F1309:Q1309)","v":2}]
[null,null,null,"Socializar los contratos con las IPRESS",0,{"$nulls":11},1,{"$f":"SUM(F1310:Q1310)","v":1}]
[null,null,null,"Verificar el cumplimiento de los contratos",19891.462653640087,{"$nulls":5},1,{"$nulls":5},1,{"$f":"SUM(F1311:Q1311)","v":2}]
[null,"11.01 - GERENCIA MACRO REGIONAL CENTRO MEDIO"]
["OEI.01"]
[null,"AEI.01.01"]
[null,null,"18AO111143095","Asistencia Técnica y Monitoreo de las acciones de gestores",35375.651241189087,{"$nulls":8},1,1,1,1,{"$f":"SUM(F1315:Q1315)","v":4}]
[null,null,null,"Monitoreo de las afiliaciones y protección de derechos",7075.1302482378178,{"$nulls":6},1,1,1,1,1,1,{"$f":"SUM(F1316:Q1316)","v":6}]
[null,null,null,"Monitoreo de las acciones de difusión e información",0,{"$nulls":6},1,1,1,1,1,1,{"$f":"SUM(F1317:Q1317)","v":6}]
[null,null,"18AO111146645","Ejecutar los proceso de afiliación",0,{"$nulls":9},1,1,1,3]
[null,null,null,"Implementar las acciones de promoción del aseguramiento.",0,{"$nulls":9},1,1,1,3]
[null,"AEI.01.02"]
[null,null,"18AO111146648","Detectar cobros indebidos a asegurados SIS por parte de las IPRESS",0,{"$nulls":9},1,1,1,3]
[null,null,null,"Orientar al asegurado sobre sus derechos y deberes",0,{"$nulls":9},1,1,1,3]
[null,null,null,"Ejecutar actividades operativas inopinadas",0,{"$nulls":11},1,1]
[null,null,null,"Formular informes técnicos sobre vulneracion de derechos",0,{"$nulls":11},1,1]
["OEI.02"]
[null,"AEI.02.01"]
[null,null,"18AO111143096","Supervisión a UDRs sobre procesos de control prestacional",26000,{"$nulls":6},1,null,1,1,1,null,{"$f":"SUM(F1327:Q1327)","v":4}]
[null,null,null,"Asistencia técnica a UDRs en los procesos de control prestacional",0,{"$nulls":8},1,1,1,1,{"$f":"SUM(F1328:Q1328)","v":4}]
[null,null,null,"Montorizar los procesos de Control Prestacional mediante PCPP",0,{"$nulls":6},1,1,1,null,1,1,{"$f":"SUM(F1329:Q1329)","v":5}]
[null,null,null,"Montorizar los procesos de Control Prestacional mediante SME",0,{"$nulls":6},1,1,1,null,1,1,{"$f":"SUM(F1330:Q1330)","v":5}]
[null,null,"18AO111146652","Realizar el Control Prestacional mediante PCPP",0,{"$nulls":11},1,1]
[null,null,null,"Realizar el reguimiento a las recomendacones del PCPP",0,{"$nulls":11},1,1]
[null,null,null,"Realizar el Control Prestacional mediante SME",0,{"$nulls":11},1,1]
[null,null,null,"Realizar el Control Técnico de las Prespaciones Económicas de Sepelios",0,{"$nulls":9},1,1,1,3]
[null,null,null,"Realziar el control de prestaciones asistenciales no tarifadas",0,{"$nulls":9},1,1,1,3]
["OEI.03"]
[null,"AEI.03.02"]
[null,null,"18AO111143097","Asistencia técnica a UDRs en los procesos de supervisión financiera",20000,{"$nulls":8},1,null,null,1,{"$f":"SUM(F1338:Q1338)","v":2}]
[null,null,null,"Monitoreo a las UDR en los procesos de supervisión financiera",5995.4653723567271,{"$nulls":6},1,1,1,1,1,1,{"$f":"SUM(F1339:Q1339)","v":6}]
[null,null,null,"Realizar la supervisión a UDRS en el proceso financiero",0,{"$nulls":7},1,null,null,1,null,{"$f":"SUM(F1340:Q1340)","v":2}]
[null,null,null,"Realizar la supervisión Financiera a UEs",0,{"$nulls":9},1,null,1,{"$f":"SUM(F1341:Q1341)","v":2}]
[null,null,"18AO111146653","Realizar la Supervisión Financiera a las UEs",0,{"$nulls":10},1,1,2]
[null,null,null,"Monitorear la ejecución presupuestal de las IPRESS",0,{"$nulls":10},1,null,1]
[null,null,null,"Realizar el reguimiento a las recomendacones de la supervisión",0,{"$nulls":9},1,null,null,1]
[null,"AEI.03.03"]
[null,null,"18AO111146656","Socializar los convenios con las IPRESS",0,{"$nulls":9},1,null,null,1]
[null,null,null,"Verificar el cumplimiento de los convenios",0,{"$nulls":9},1,1,1,3]
["OEI.04"]
[null,"AEI.04.01"]
[null,null,"18AO110920487","Administrar fondos en efectivo (Caja Chica)",16980.312595770763,1,1,1,1,1,1,1,1,1,1,1,1,{"$f":"SUM(F1350:Q1350)","v":12}]
[null,null,null,"Seguimiento a las recomendaciones del organo de control",21225.390744713455,{"$nulls":5},1,{"$nulls":5},1,2]
[null,null,null,"Remitir conformidades sobre prestación de servicios",290169.48681887833,1,1,1,1,1,1,1,1,1,1,1,1,12]
[null,null,null,"Gestionar información estadistica",42450.78148942691,null,null,1,null,null,1,null,null,1,null,null,1,4]
[null,null,null,"Remitir informes de gestión",0,null,null,1,null,null,1,null,null,1,null,null,1,4]
[null,null,null,"Realizar el Inventario de bienes patrimoniales",42450.78148942691,{"$nulls":5},1,{"$nulls":5},1,2]
[null,null,null,"Consolidación y envío de base de datos",0,1,1,1,1,1,1,1,1,1,1,1,1,12]
[null,"11.02 - UDR ANCASH"]
["OEI.01"]
[null,"AEI.01.01"]
[null,null,"18AO111143098","Ejecutar los proceso de afiliación",0,{"$nulls":7},1,1,1,1,1,{"$f":"SUM(F1360:Q1360)","v":5}]
[null,null,null,"Identificar necesidad y plantear la implementación de canales de atención",0,{"$nulls":9},1,null,null,{"$f":"SUM(F1361:Q1361)","v":1}]
[null,null,null,"Implementar las acciones de promoción del aseguramiento.",0,{"$nulls":9},1,null,null,{"$f":"SUM(F1362:Q1362)","v":1}]
[null,null,null,"Implementación de acciones de información a través de medios masivos",0,{"$nulls":7},1,null,1,null,1,{"$f":"SUM(F1363:Q1363)","v":3}]
[null,"AEI.01.02"]
[null,null,"18AO111143099","Detectar cobros indebidos a asegurados SIS por parte de las IPRESS",21737.566896082517,{"$nulls":6},1,null,1,null,1,null,{"$f":"SUM(F1365:Q1365)","v":3}]
[null,null,null,"Orientar al asegurado sobre sus derechos y deberes",0,{"$nulls":6},1,1,1,1,1,1,{"$f":"SUM(F1366:Q1366)","v":6}]
[null,null,null,"Ejecutar actividades operativas inopinadas",0,{"$nulls":7},1,null,1,null,1,{"$f":"SUM(F1367:Q1367)","v":3}]
[null,null,null,"Formular informes técnicos sobre vulneracion de derechos",0,{"$nulls":8},1,null,null,1,{"$f":"SUM(F1368:Q1368)","v":2}]
["OEI.02"]
[null,"AEI.02.01"]
[null,null,"18AO111143100","Realizar el Control Prestacional mediante PCPP",25200,1,1,1,1,1,1,1,1,1,null,null,1,{"$f":"SUM(F1371:Q1371)","v":10}]
[null,null,null,"Realizar el reguimiento a las recomendacones del PCPP",0,{"$nulls":5},1,null,null,1,null,null,1,{"$f":"SUM(F1372:Q1372)","v":3}]
[null,null,null,"Realizar el Control Prestacional mediante SME",4347.5133792165034,1,1,1,1,1,1,1,1,1,1,1,1,{"$f":"SUM(F1373:Q1373)","v":12}]
[null,null,null,"Realizar el Control Técnico de las Prespaciones Económicas de Sepelios",0,1,1,1,1,1,1,1,1,1,1,1,1,{"$f":"SUM(F1374:Q1374)","v":12}]
[null,null,null,"Realziar el control de prestaciones asistenciales no tarifadas",0,1,1,1,1,1,1,1,1,1,1,1,1,{"$f":"SUM(F1375:Q1375)","v":12}]
["OEI.03"]
[null,"AEI.03.02"]
[null,null,"18AO111143101","Realizar la Supervisión Financiera a las UEs",0,1,1,1,1,1,1,1,1,1,1,1,1,{"$f":"SUM(F1378:Q1378)","v":12}]
[null,null,null,"Monitorear la ejecución presupuestal de las IPRESS",0,1,1,1,1,1,1,1,1,1,1,1,1,{"$f":"SUM(F1379:Q1379)","v":12}]
[null,null,null,"Realizar el reguimiento a las recomendacones de la supervisión",0,{"$nulls":5},1,null,null,1,null,null,1,{"$f":"SUM(F1380:Q1380)","v":3}]
[null,null,null,"Actualizar la normativa sobre supervisión financiera",0,{"$nulls":5},1,{"$nulls":5},1,{"$f":"SUM(F1381:Q1381)","v":2}]
[null,"AEI.03.03"]
[null,null,"18AO111143102","Socializar los convenios con las IPRESS",0,{"$nulls":11},1,{"$f":"SUM(F1383:Q1383)","v":1}]
[null,null,null,"Verificar el cumplimiento de los convenios",0,{"$nulls":5},1,{"$nulls":5},1,{"$f":"SUM(F1384:Q1384)","v":2}]
[null,null,null,"Socializar los contratos con las IPRESS",0,{"$nulls":11},1,{"$f":"SUM(F1385:Q1385)","v":1}]
[null,null,null,"Verificar el cumplimiento de los contratos",152837.91972470097,{"$nulls":5},1,{"$nulls":5},1,{"$f":"SUM(F1386:Q1386)","v":2}]
[null,"11.03 - UDR SANTA"]
["OEI.01"]
[null,"AEI.01.01"]
[null,null,"18AO111143103","Ejecutar los proceso de afiliación",0,{"$nulls":7},1,null,null,null,1,{"$f":"SUM(F1390:Q1390)","v":2}]
[null,null,null,"Identificar necesidad y plantear la implementación de canales de atención",0,{"$nulls":12},{"$f":"SUM(F1391:Q1391)","v":0}]
[null,null,null,"Implementar las acciones de promoción del aseguramiento.",0,{"$nulls":9},1,null,null,{"$f":"SUM(F1392:Q1392)","v":1}]
[null,null,null,"Implementación de acciones de información a través de medios masivos",0,{"$nulls":12},{"$f":"SUM(F1393:Q1393)","v":0}]
[null,"AEI.01.02"]
[null,null,"18AO111143104","Detectar cobros indebidos a asegurados SIS por parte de las IPRESS",0,{"$nulls":6},1,null,1,1,1,1,{"$f":"SUM(F1395:Q1395)","v":5}]
[null,null,null,"Orientar al asegurado sobre sus derechos y deberes",0,{"$nulls":6},1,null,null,null,1,null,{"$f":"SUM(F1396:Q1396)","v":2}]
[null,null,null,"Ejecutar actividades operativas inopinadas",0,{"$nulls":7},1,null,1,1,1,{"$f":"SUM(F1397:Q1397)","v":4}]
[null,null,null,"Formular informes técnicos sobre vulneracion de derechos",0,{"$nulls":8},1,null,null,1,{"$f":"SUM(F1398:Q1398)","v":2}]
["OEI.02"]
[null,"AEI.02.01"]
[null,null,"18AO111143105","Realizar el Control Prestacional mediante PCPP",9000,1,1,1,1,1,1,1,1,1,null,null,5,{"$f":"SUM(F1401:Q1401)","v":14}]
[null,null,null,"Realizar el reguimiento a las recomendacones del PCPP",0,{"$nulls":5},1,null,null,1,5,5,5,{"$f":"SUM(F1402:Q1402)","v":17}]
[null,null,null,"Realizar el Control Prestacional mediante SME",0,1,1,1,1,1,1,1,1,1,null,1,1,{"$f":"SUM(F1403:Q1403)","v":11}]
[null,null,null,"Realizar el Control Técnico de las Prespaciones Económicas de Sepelios",0,1,1,1,1,1,1,1,1,1,1,1,1,{"$f":"SUM(F1404:Q1404)","v":12}]
[null,null,null,"Realziar el control de prestaciones asistenciales no tarifadas",0,1,1,1,1,1,1,1,1,1,1,1,1,{"$f":"SUM(F1405:Q1405)","v":12}]
["OEI.03"]
[null,"AEI.03.02"]
[null,null,"18AO111143106","Realizar la Supervisión Financiera a las UEs",8300,1,1,1,1,1,1,1,1,1,1,1,null,{"$f":"SUM(F1408:Q1408)","v":11}]
[null,null,null,"Monitorear la ejecución presupuestal de las IPRESS",0,1,1,1,1,1,1,1,1,1,null,1,1,{"$f":"SUM(F1409:Q1409)","v":11}]
[null,null,null,"Realizar el reguimiento a las recomendacones de la supervisión",0,{"$nulls":5},1,null,null,1,null,null,1,{"$f":"SUM(F1410:Q1410)","v":3}]
[null,null,null,"Actualizar la normativa sobre supervisión financiera",0,{"$nulls":5},1,{"$nulls":5},1,{"$f":"SUM(F1411:Q1411)","v":2}]
[null,"AEI.03.03"]
[null,null,"18AO111143107","Socializar los convenios con las IPRESS",0,{"$nulls":11},1,{"$f":"SUM(F1413:Q1413)","v":1}]
[null,null,null,"Verificar el cumplimiento de los convenios",0,{"$nulls":5},1,{"$nulls":5},1,{"$f":"SUM(F1414:Q1414)","v":2}]
[null,null,null,"Socializar los contratos con las IPRESS",0,{"$nulls":11},1,{"$f":"SUM(F1415:Q1415)","v":1}]
[null,null,null,"Verificar el cumplimiento de los contratos",59254,{"$nulls":5},1,{"$nulls":5},1,{"$f":"SUM(F1416:Q1416)","v":2}]
[null,"11.04 - UDR CALLAO"]
["OEI.01"]
[null,"AEI.01.01"]
[null,null,"18AO111143108","Ejecutar los proceso de afiliación",0,{"$nulls":7},1,1,1,1,1,{"$f":"SUM(F1420:Q1420)","v":5}]
[null,null,null,"Identificar necesidad y plantear la implementación de canales de atención",0,{"$nulls":9},1,null,null,{"$f":"SUM(F1421:Q1421)","v":1}]
[null,null,null,"Implementar las acciones de promoción del aseguramiento.",19521.627906976744,{"$nulls":9},1,null,null,{"$f":"SUM(F1422:Q1422)","v":1}]
[null,null,null,"Implementación de acciones de información a través de medios masivos",0,{"$nulls":7},1,null,null,null,1,{"$f":"SUM(F1423:Q1423)","v":2}]
[null,"AEI.01.02"]
[null,null,"18AO111143109","Detectar cobros indebidos a asegurados SIS por parte de las IPRESS",0,{"$nulls":6},1,null,1,1,1,1,{"$f":"SUM(F1425:Q1425)","v":5}]
[null,null,null,"Orientar al asegurado sobre sus derechos y deberes",18870.906976744187,{"$nulls":6},1,1,1,1,1,1,{"$f":"SUM(F1426:Q1426)","v":6}]
[null,null,null,"Ejecutar actividades operativas inopinadas",0,{"$nulls":7},1,null,1,1,1,{"$f":"SUM(F1427:Q1427)","v":4}]
[null,null,null,"Formular informes técnicos sobre vulneracion de derechos",0,{"$nulls":8},1,1,1,1,{"$f":"SUM(F1428:Q1428)","v":4}]
[null,null,null,"cautelar los derechos de los asegurados al SIS, a través del gestor",0,{"$nulls":9},1,1,1,{"$f":"SUM(F1429:Q1429)","v":3}]
["OEI.02"]
[null,"AEI.02.01"]
[null,null,"18AO111143110","Realizar el Control Prestacional mediante PCPP",3120,1,1,1,1,1,1,1,1,1,null,null,1,{"$f":"SUM(F1432:Q1432)","v":10}]
[null,null,null,"Realizar el reguimiento a las recomendacones del PCPP",0,{"$nulls":5},1,null,null,1,null,null,1,{"$f":"SUM(F1433:Q1433)","v":3}]
[null,null,null,"Realizar el Control Prestacional mediante SME",0,1,1,1,1,1,1,1,1,1,null,null,1,{"$f":"SUM(F1434:Q1434)","v":10}]
[null,null,null,"Realizar el Control Técnico de las Prespaciones Económicas de Sepelios",0,1,1,1,1,1,1,1,1,1,1,1,1,{"$f":"SUM(F1435:Q1435)","v":12}]
[null,null,null,"Realziar el control de prestaciones asistenciales no tarifadas",0,1,1,1,1,1,1,1,1,1,null,null,1,{"$f":"SUM(F1436:Q1436)","v":10}]
[null,null,null,"Realizar el control técnico de las prestaciones de traslados de emergencia",0,{"$nulls":11},1,{"$f":"SUM(F1437:Q1437)","v":1}]
[null,null,null,"Realizar el control técnico de las prestaciones de hemodialisis",0,{"$nulls":11},1,1]
["OEI.03"]
[null,"AEI.03.02"]
[null,null,"18AO111143111","Realizar la Supervisión Financiera a las UEs",3000,1,1,1,1,1,1,1,1,1,1,1,1,{"$f":"SUM(F1441:Q1441)","v":12}]
[null,null,null,"Monitorear la ejecución presupuestal de las IPRESS",0,1,1,1,1,1,1,1,1,1,1,1,1,{"$f":"SUM(F1442:Q1442)","v":12}]
[null,null,null,"Realizar el reguimiento a las recomendacones de la supervisión",0,{"$nulls":5},1,null,null,1,null,null,1,{"$f":"SUM(F1443:Q1443)","v":3}]
[null,null,null,"Actualizar la normativa sobre supervisión financiera",0,{"$nulls":5},1,{"$nulls":6},{"$f":"SUM(F1444:Q1444)","v":1}]
[null,"AEI.03.03"]
[null,null,"18AO111143112","Socializar los convenios con las IPRESS",0,{"$nulls":12},{"$f":"SUM(F1446:Q1446)","v":0}]
[null,null,null,"Verificar el cumplimiento de los convenios",0,{"$nulls":5},1,{"$nulls":5},1,{"$f":"SUM(F1447:Q1447)","v":2}]
[null,null,null,"Socializar los contratos con las IPRESS",0,{"$nulls":12},{"$f":"SUM(F1448:Q1448)","v":0}]
[null,null,null,"Verificar el cumplimiento de los contratos",101512.46511627907,{"$nulls":5},1,{"$nulls":5},1,{"$f":"SUM(F1449:Q1449)","v":2}]
[null,"11.05 - UDR LIMA METROPOLITANA CENTRO"]
["OEI.01"]
[null,"AEI.01.01"]
[null,null,"18AO111143113","Ejecutar los proceso de afiliación",0,{"$nulls":6},1,1,1,1,1,1,{"$f":"SUM(F1453:Q1453)","v":6}]
[null,null,null,"Identificar necesidad y plantear la implementación de canales de atención",0,{"$nulls":9},1,null,null,{"$f":"SUM(F1454:Q1454)","v":1}]
[null,null,null,"Implementar las acciones de promoción del aseguramiento.",0,{"$nulls":9},1,1,1,{"$f":"SUM(F1455:Q1455)","v":3}]
[null,null,null,"Implementación de acciones de información a través de medios masivos",0,{"$nulls":8},1,null,null,1,{"$f":"SUM(F1456:Q1456)","v":2}]
[null,"AEI.01.02"]
[null,null,"18AO111143114","Detectar cobros indebidos a asegurados SIS por parte de las IPRESS",0,{"$nulls":6},1,null,1,null,1,null,{"$f":"SUM(F1458:Q1458)","v":3}]
[null,null,null,"Orientar al asegurado sobre sus derechos y deberes",15510.457399103139,{"$nulls":6},1,1,1,1,1,1,{"$f":"SUM(F1459:Q1459)","v":6}]
[null,null,null,"Ejecutar actividades operativas inopinadas",0,{"$nulls":7},1,null,1,null,1,{"$f":"SUM(F1460:Q1460)","v":3}]
[null,null,null,"Formular informes técnicos sobre vulneracion de derechos",0,{"$nulls":8},1,null,null,1,{"$f":"SUM(F1461:Q1461)","v":2}]
["OEI.02"]
[null,"AEI.02.01"]
[null,null,"18AO111143115","Realizar el Control Prestacional mediante PCPP",6120,1,1,1,1,1,1,1,1,1,null,null,1,{"$f":"SUM(F1464:Q1464)","v":10}]
[null,null,null,"Realizar el reguimiento a las recomendacones del PCPP",0,{"$nulls":5},1,null,null,1,null,null,1,3]
[null,null,null,"Realizar el Control Prestacional mediante SME",0,1,1,1,1,1,1,1,1,1,1,1,1,12]
[null,null,null,"Realizar el Control Técnico de las Prespaciones Económicas de Sepelios",0,1,1,1,1,1,1,1,1,1,1,1,1,12]
[null,null,null,"Realziar el control de prestaciones asistenciales no tarifadas",0,1,1,1,1,1,1,1,1,1,1,1,1,12]
[null,null,null,"Realizar el control técnico de las prestaciones de traslados de emergencia",0,{"$nulls":11},1,1]
[null,null,null,"Realizar el control técnico de las prestaciones de hemodialisis",0,{"$nulls":11},1,1]
["OEI.03"]
[null,"AEI.03.02"]
[null,null,"18AO111143116","Realizar la Supervisión Financiera a las UEs",0,1,1,1,1,1,1,1,1,1,null,null,1,{"$f":"SUM(F1473:Q1473)","v":10}]
[null,null,null,"Monitorear la ejecución presupuestal de las IPRESS",0,1,1,1,1,1,1,1,1,1,1,1,1,{"$f":"SUM(F1474:Q1474)","v":12}]
[null,null,null,"Realizar el reguimiento a las recomendacones de la supervisión",0,{"$nulls":5},1,null,null,1,null,null,1,{"$f":"SUM(F1475:Q1475)","v":3}]
[null,null,null,"Actualizar la normativa sobre supervisión financiera",0,{"$nulls":5},1,{"$nulls":6},{"$f":"SUM(F1476:Q1476)","v":1}]
[null,"AEI.03.03"]
[null,null,"18AO111143117","Socializar los convenios con las IPRESS",0,{"$nulls":11},1,{"$f":"SUM(F1478:Q1478)","v":1}]
[null,null,null,"Verificar el cumplimiento de los convenios",0,{"$nulls":5},1,{"$nulls":5},1,{"$f":"SUM(F1479:Q1479)","v":2}]
[null,null,null,"Socializar los contratos con las IPRESS",0,{"$nulls":12},{"$f":"SUM(F1480:Q1480)","v":0}]
[null,null,null,"Verificar el cumplimiento de los contratos",134873.54260089685,{"$nulls":5},1,{"$nulls":6},{"$f":"SUM(F1481:Q1481)","v":1}]
[null,"11.06 - UDR LIMA METROPOLITANA ESTE"]
["OEI.01"]
[null,"AEI.01.01"]
[null,null,"18AO111143118","Ejecutar los proceso de afiliación",0,{"$nulls":7},1,1,1,1,1,{"$f":"SUM(F1485:Q1485)","v":5}]
[null,null,null,"Identificar necesidad y plantear la implementación de canales de atención",0,{"$nulls":9},1,null,null,{"$f":"SUM(F1486:Q1486)","v":1}]
[null,null,null,"Implementar las acciones de promoción del aseguramiento.",0,{"$nulls":9},1,null,null,{"$f":"SUM(F1487:Q1487)","v":1}]
[null,null,null,"Implementación de acciones de información a través de medios masivos",0,{"$nulls":7},1,{"$nulls":4},{"$f":"SUM(F1488:Q1488)","v":1}]
[null,"AEI.01.02"]
[null,null,"18AO111143119","Detectar cobros indebidos a asegurados SIS por parte de las IPRESS",0,{"$nulls":6},1,null,1,null,1,null,{"$f":"SUM(F1490:Q1490)","v":3}]
[null,null,null,"Orientar al asegurado sobre sus derechos y deberes",0,{"$nulls":6},1,1,1,1,1,1,{"$f":"SUM(F1491:Q1491)","v":6}]
[null,null,null,"Ejecutar actividades operativas inopinadas",0,{"$nulls":7},1,null,1,null,1,{"$f":"SUM(F1492:Q1492)","v":3}]
[null,null,null,"Formular informes técnicos sobre vulneracion de derechos",0,{"$nulls":8},1,null,null,1,{"$f":"SUM(F1493:Q1493)","v":2}]
["OEI.02"]
[null,"AEI.02.01"]
[null,null,"18AO111143120","Realizar el Control Prestacional mediante PCPP",3120,1,1,1,1,1,1,1,1,1,null,null,1,{"$f":"SUM(F1496:Q1496)","v":10}]
[null,null,null,"Realizar el reguimiento a las recomendacones del PCPP",0,{"$nulls":5},1,null,null,1,1,1,1,{"$f":"SUM(F1497:Q1497)","v":5}]
[null,null,null,"Realizar el Control Prestacional mediante SME",0,1,1,1,1,1,1,1,1,1,1,1,1,{"$f":"SUM(F1498:Q1498)","v":12}]
[null,null,null,"Realizar el Control Técnico de las Prespaciones Económicas de Sepelios",0,1,1,1,1,1,1,1,1,1,1,1,1,{"$f":"SUM(F1499:Q1499)","v":12}]
[null,null,null,"Realziar el control de prestaciones asistenciales no tarifadas",0,1,1,1,1,1,1,1,1,1,1,1,1,{"$f":"SUM(F1500:Q1500)","v":12}]
["OEI.03"]
[null,"AEI.03.02"]
[null,null,"18AO111143121","Realizar la Supervisión Financiera a las UEs",3000,1,1,1,1,1,1,1,1,1,1,1,1,{"$f":"SUM(F1503:Q1503)","v":12}]
[null,null,null,"Monitorear la ejecución presupuestal de las IPRESS",0,1,1,1,1,1,1,1,1,1,1,1,1,{"$f":"SUM(F1504:Q1504)","v":12}]
[null,null,null,"Realizar el reguimiento a las recomendacones de la supervisión",0,{"$nulls":5},1,null,null,1,null,null,1,{"$f":"SUM(F1505:Q1505)","v":3}]
[null,null,null,"Actualizar la normativa sobre supervisión financiera",0,{"$nulls":5},1,{"$nulls":5},1,{"$f":"SUM(F1506:Q1506)","v":2}]
[null,"AEI.03.03"]
[null,null,"18AO111143122","Socializar los convenios con las IPRESS",0,{"$nulls":11},1,{"$f":"SUM(F1508:Q1508)","v":1}]
[null,null,null,"Verificar el cumplimiento de los convenios",0,{"$nulls":5},1,{"$nulls":5},1,{"$f":"SUM(F1509:Q1509)","v":2}]
[null,null,null,"Socializar los contratos con las IPRESS",0,{"$nulls":11},1,{"$f":"SUM(F1510:Q1510)","v":1}]
[null,null,null,"Verificar el cumplimiento de los contratos",69816,{"$nulls":5},1,{"$nulls":5},1,{"$f":"SUM(F1511:Q1511)","v":2}]
[null,"11.07 - UDR LIMA METROPOLITANA NORTE"]
["OEI.01"]
[null,"AEI.01.01"]
[null,null,"18AO111143123","Ejecutar los proceso de afiliación",0,{"$nulls":7},1,1,1,1,1,{"$f":"SUM(F1515:Q1515)","v":5}]
[null,null,null,"Identificar necesidad y plantear la implementación de canales de atención",0,{"$nulls":9},1,null,null,{"$f":"SUM(F1516:Q1516)","v":1}]
[null,null,null,"Implementar las acciones de promoción del aseguramiento.",0,{"$nulls":9},1,null,null,{"$f":"SUM(F1517:Q1517)","v":1}]
[null,null,null,"Implementación de acciones de información a través de medios masivos",0,{"$nulls":7},1,null,1,null,null,{"$f":"SUM(F1518:Q1518)","v":2}]
[null,"AEI.01.02"]
[null,null,"18AO111143125","Detectar cobros indebidos a asegurados SIS por parte de las IPRESS",0,{"$nulls":6},1,null,1,null,1,null,{"$f":"SUM(F1520:Q1520)","v":3}]
[null,null,null,"Orientar al asegurado sobre sus derechos y deberes",23010.940170940172,{"$nulls":6},1,1,1,1,1,1,{"$f":"SUM(F1521:Q1521)","v":6}]
[null,null,null,"Ejecutar actividades operativas inopinadas",0,{"$nulls":7},1,null,1,null,1,{"$f":"SUM(F1522:Q1522)","v":3}]
[null,null,null,"Formular informes técnicos sobre vulneracion de derechos",0,{"$nulls":8},1,null,null,1,{"$f":"SUM(F1523:Q1523)","v":2}]
["OEI.02"]
[null,"AEI.02.01"]
[null,null,"18AO111143126","Realizar el Control Prestacional mediante PCPP",3000,1,1,1,1,1,1,1,1,1,null,null,1,{"$f":"SUM(F1526:Q1526)","v":10}]
[null,null,null,"Realizar el reguimiento a las recomendacones del PCPP",0,{"$nulls":5},1,null,null,1,null,null,1,{"$f":"SUM(F1527:Q1527)","v":3}]
[null,null,null,"Realizar el Control Prestacional mediante SME",0,1,1,1,1,1,1,1,1,1,null,null,1,{"$f":"SUM(F1528:Q1528)","v":10}]
[null,null,null,"Realizar el Control Técnico de las Prespaciones Económicas de Sepelios",0,1,1,1,1,1,1,1,1,1,1,1,1,{"$f":"SUM(F1529:Q1529)","v":12}]
[null,null,null,"Realziar el control de prestaciones asistenciales no tarifadas",0,1,1,1,1,1,1,{"$nulls":5},1,{"$f":"SUM(F1530:Q1530)","v":7}]
[null,null,null,"Realizar el Control Prestacional de expedientes de Reconsideración en IPRESS Públicas",0,{"$nulls":11},1,{"$f":"SUM(F1531:Q1531)","v":1}]
[null,null,null,"Realizar el Control Prestacional de evaluación de expedientes de Hemodiálisis",0,{"$nulls":9},1,1,1,3]
[null,null,null,"Realizar el seguimiento y verificación en IPRESS privadas de Hemodiálisis",0,{"$nulls":9},1,1,1,{"$f":"SUM(F1533:Q1533)","v":3}]
["OEI.03"]
[null,"AEI.03.02"]
[null,null,"18AO111143127","Realizar la Supervisión Financiera a las UEs",3120,1,1,1,1,1,1,1,1,null,1,1,1,{"$f":"SUM(F1536:Q1536)","v":11}]
[null,null,null,"Monitorear la ejecución presupuestal de las IPRESS",0,1,1,1,1,1,1,1,1,1,1,1,1,{"$f":"SUM(F1537:Q1537)","v":12}]
[null,null,null,"Realizar el reguimiento a las recomendacones de la supervisión",0,{"$nulls":5},1,null,null,1,null,null,1,{"$f":"SUM(F1538:Q1538)","v":3}]
[null,null,null,"Actualizar la normativa sobre supervisión financiera",0,{"$nulls":5},1,{"$nulls":6},{"$f":"SUM(F1539:Q1539)","v":1}]
[null,"AEI.03.03"]
[null,null,"18AO111143128","Socializar los convenios con las IPRESS",0,{"$nulls":11},1,{"$f":"SUM(F1541:Q1541)","v":1}]
[null,null,null,"Verificar el cumplimiento de los convenios",0,{"$nulls":5},1,{"$nulls":5},1,{"$f":"SUM(F1542:Q1542)","v":2}]
[null,null,null,"Socializar los contratos con las IPRESS",0,{"$nulls":12},{"$f":"SUM(F1543:Q1543)","v":0}]
[null,null,null,"Verificar el cumplimiento de los contratos",44296.059829059828,{"$nulls":5},1,{"$nulls":5},1,{"$f":"SUM(F1544:Q1544)","v":2}]
[null,"11.08 - UDR LIMA REGIÓN"]
["OEI.01"]
[null,"AEI.01.01"]
[null,null,"18AO111143129","Ejecutar los proceso de afiliación",0,{"$nulls":7},1,1,1,1,1,{"$f":"SUM(F1548:Q1548)","v":5}]
[null,null,null,"Identificar necesidad y plantear la implementación de canales de atención",0,{"$nulls":9},1,null,null,{"$f":"SUM(F1549:Q1549)","v":1}]
[null,null,null,"Implementar las acciones de promoción del aseguramiento.",0,{"$nulls":9},1,null,null,{"$f":"SUM(F1550:Q1550)","v":1}]
[null,null,null,"Implementación de acciones de información a través de medios masivos",0,{"$nulls":7},1,null,null,null,1,{"$f":"SUM(F1551:Q1551)","v":2}]
[null,"AEI.01.02"]
[null,null,"18AO111143130","Detectar cobros indebidos a asegurados SIS por parte de las IPRESS",0,{"$nulls":6},1,null,1,null,1,null,{"$f":"SUM(F1553:Q1553)","v":3}]
[null,null,null,"Orientar al asegurado sobre sus derechos y deberes",0,{"$nulls":6},1,1,1,1,1,1,{"$f":"SUM(F1554:Q1554)","v":6}]
[null,null,null,"Ejecutar actividades operativas inopinadas",13982.398239823982,{"$nulls":7},1,null,null,null,1,{"$f":"SUM(F1555:Q1555)","v":2}]
[null,null,null,"Formular informes técnicos sobre vulneracion de derechos",0,{"$nulls":8},1,null,null,1,{"$f":"SUM(F1556:Q1556)","v":2}]
["OEI.02"]
[null,"AEI.02.01"]
[null,null,"18AO111143131","Realizar el Control Prestacional mediante PCPP",20000,1,1,1,1,1,1,1,1,1,null,null,1,{"$f":"SUM(F1559:Q1559)","v":10}]
[null,null,null,"Realizar el reguimiento a las recomendacones del PCPP",0,{"$nulls":5},1,null,null,1,null,null,1,3]
[null,null,null,"Realizar el Control Prestacional mediante SME",5581.773377337734,1,1,1,1,1,1,1,1,1,null,null,1,10]
[null,null,null,"Realizar el Control Técnico de las Prespaciones Económicas de Sepelios",0,1,1,1,1,1,1,1,1,1,1,1,1,12]
[null,null,null,"Realizar el control de prestaciones asistenciales no tarifadas",0,1,1,1,1,1,1,1,1,1,null,null,null,9]
[null,null,null,"Realizar la evaluación del registro prestacional de IPRESS Privadas",0,{"$nulls":9},1,1,1,3]
["OEI.03"]
[null,"AEI.03.02"]
[null,null,"18AO111143132","Realizar la Supervisión Financiera a las UEs",19000,1,1,1,1,1,1,1,1,1,1,1,1,{"$f":"SUM(F1567:Q1567)","v":12}]
[null,null,null,"Monitorear la ejecución presupuestal de las IPRESS",0,1,1,1,1,1,1,1,1,1,1,1,1,{"$f":"SUM(F1568:Q1568)","v":12}]
[null,null,null,"Realizar el reguimiento a las recomendacones de la supervisión",0,{"$nulls":5},1,{"$nulls":6},{"$f":"SUM(F1569:Q1569)","v":1}]
[null,null,null,"Actualizar la normativa sobre supervisión financiera",0,{"$nulls":5},1,{"$nulls":6},{"$f":"SUM(F1570:Q1570)","v":1}]
[null,"AEI.03.03"]
[null,null,"18AO111143133","Socializar los convenios con las IPRESS",0,{"$nulls":11},1,{"$f":"SUM(F1572:Q1572)","v":1}]
[null,null,null,"Verificar el cumplimiento de los convenios",0,{"$nulls":5},1,{"$nulls":5},1,{"$f":"SUM(F1573:Q1573)","v":2}]
[null,null,null,"Socializar los contratos con las IPRESS",0,{"$nulls":11},1,{"$f":"SUM(F1574:Q1574)","v":1}]
[null,null,null,"Verificar el cumplimiento de los contratos",92283.828382838285,{"$nulls":5},1,{"$nulls":5},1,{"$f":"SUM(F1575:Q1575)","v":2}]
[null,"11.09 - UDR LIMA METROPOLITANA SUR"]
["OEI.01"]
[null,"AEI.01.01"]
[null,null,"18AO111143134","Ejecutar los proceso de afiliación",0,{"$nulls":7},1,1,1,1,1,{"$f":"SUM(F1579:Q1579)","v":5}]
[null,null,null,"Identificar necesidad y plantear la implementación de canales de atención",0,{"$nulls":9},1,null,null,{"$f":"SUM(F1580:Q1580)","v":1}]
[null,null,null,"Implementar las acciones de promoción del aseguramiento.",0,{"$nulls":9},1,null,null,{"$f":"SUM(F1581:Q1581)","v":1}]
[null,null,null,"Implementación de acciones de información a través de medios masivos",0,{"$nulls":7},1,null,1,null,1,{"$f":"SUM(F1582:Q1582)","v":3}]
[null,"AEI.01.02"]
[null,null,"18AO111143135","Detectar cobros indebidos a asegurados SIS por parte de las IPRESS",0,{"$nulls":6},1,null,1,null,1,null,{"$f":"SUM(F1584:Q1584)","v":3}]
[null,null,null,"Orientar al asegurado sobre sus derechos y deberes",12000,{"$nulls":6},1,1,1,1,1,1,{"$f":"SUM(F1585:Q1585)","v":6}]
[null,null,null,"Ejecutar actividades operativas inopinadas",0,{"$nulls":7},1,null,1,null,1,{"$f":"SUM(F1586:Q1586)","v":3}]
[null,null,null,"Formular informes técnicos sobre vulneracion de derechos",0,{"$nulls":8},1,null,null,1,{"$f":"SUM(F1587:Q1587)","v":2}]
["OEI.02"]
[null,"AEI.02.01"]
[null,null,"18AO111143136","Realizar el Control Prestacional mediante PCPP",12000,1,1,1,1,1,1,1,1,1,null,null,1,{"$f":"SUM(F1590:Q1590)","v":10}]
[null,null,null,"Realizar el reguimiento a las recomendacones del PCPP",0,{"$nulls":5},1,null,null,1,null,null,1,{"$f":"SUM(F1591:Q1591)","v":3}]
[null,null,null,"Realizar el Control Prestacional mediante SME",0,1,1,1,1,1,1,1,1,1,null,null,1,{"$f":"SUM(F1592:Q1592)","v":10}]
[null,null,null,"Realizar el Control Técnico de las Prespaciones Económicas de Sepelios",0,1,1,1,1,1,1,1,1,1,1,1,1,{"$f":"SUM(F1593:Q1593)","v":12}]
[null,null,null,"Realziar el control de prestaciones asistenciales no tarifadas",0,1,1,1,1,1,1,1,1,1,null,null,null,{"$f":"SUM(F1594:Q1594)","v":9}]
["OEI.03"]
[null,"AEI.03.02"]
[null,null,"18AO111143137","Realizar la Supervisión Financiera a las UEs",9000,1,1,1,1,1,1,1,1,1,null,1,null,{"$f":"SUM(F1597:Q1597)","v":10}]
[null,null,null,"Monitorear la ejecución presupuestal de las IPRESS",0,1,1,1,1,1,1,1,1,1,1,1,1,{"$f":"SUM(F1598:Q1598)","v":12}]
[null,null,null,"Realizar el reguimiento a las recomendacones de la supervisión",0,{"$nulls":5},1,null,null,1,null,null,1,{"$f":"SUM(F1599:Q1599)","v":3}]
[null,null,null,"Actualizar la normativa sobre supervisión financiera",0,{"$nulls":5},1,{"$nulls":6},{"$f":"SUM(F1600:Q1600)","v":1}]
[null,"AEI.03.03"]
[null,null,"18AO111143138","Socializar los convenios con las IPRESS",0,{"$nulls":11},1,{"$f":"SUM(F1602:Q1602)","v":1}]
[null,null,null,"Verificar el cumplimiento de los convenios",0,{"$nulls":5},1,{"$nulls":5},1,{"$f":"SUM(F1603:Q1603)","v":2}]
[null,null,null,"Socializar los contratos con las IPRESS",0,{"$nulls":11},1,{"$f":"SUM(F1604:Q1604)","v":1}]
[null,null,null,"Verificar el cumplimiento de los contratos",{"$f":"186780-12000-9000-12000","v":153780},{"$nulls":5},1,{"$nulls":5},1,{"$f":"SUM(F1605:Q1605)","v":2}]

{"sheet":"B-6 ARTIC TAREAS PLANES","index":6,"n_rows":75,"n_cols":9,"rows_kept":75,"cut":false,"hidden":true,"merged":[[69,0,70,0],[69,1,70,1],[71,0,74,0],[72,1,74,1],[49,0,65,0],[49,1,65,1],[66,0,68,0],[66,1,68,1],[42,0,45,0],[42,1,45,1],[46,0,48,0],[46,1,48,1],[21,0,33,0],[21,1,29,1],[30,1,33,1],[34,0,41,0],[34,1,41,1],[17,0,20,0],[17,1,20,1],[0,0,0,8],[5,1,14,1],[15,1,16,1],[5,0,16,0]]}
["ANEXO B-6   Matriz de Articulación del POI con Planes Específicos"]
["Periodo PEI : 2017 - 2019"]
["Sector : 11 - SALUD",{"$nulls":7},"Nivel de Gobierno : E - GOBIERNO NACIONAL"]
["Unidad Ejecutora : 001091 - SEGURO INTEGRAL DE SALUD",{"$nulls":7},"Pliego : 135 - SEGURO INTEGRAL DE SALUD"]
["Centro de Costo","Código","DESCRIPCIÓN DE TAREAS","P. Integridad","P. Informático","P. Comunicac.","P Desar. Pers.","P. A. Contrat","P. Archivo"]
["01.02.01","18AO111149643","Gestionar campañas sobre el Código de Ética de la Función Pública","x"]
[null,null,"Coordinar la elaboración del Plan de Trabajo para el cierre de brechas ","x"]
[null,null,"Promover la implementación de instrumentos que promueven la integridad pública","x"]
[null,null,"Realizar seguimiento y monitoreo de casos presentados a través del Libro de Reclamaciones","x"]
[null,null,"Realizar coordinaciones para gestionar la designación del Procurador Publico para la Entidad","x"]
[null,null,"Realizar una encuesta sobre como siente el servidor  el clima etico al interior de la Entidad ","x"]
[null,null,"Promover la transparencia, ética e integridad pública en los servidores de la entidad. ","x"]
[null,null,"Realizar visitas inopinadas a las UDR ","x"]
[null,null,"Fortalecer a la Oficina de Integridad Institucional","x"]
[null,null,"Elaborar instrumentos normativos asociado a riesgos de corrupción identificados en procesos existentes.","x"]
[null,"18AO110921680","Realizar acciones de gestión de gestión documentaria y archivo",{"$nulls":5},"x"]
[null,null,"Ejecutar el Plan de Archivo",{"$nulls":5},"x"]
["02.01","18AO111142739","Verificar el cumplimiento de norma expresa",{"$nulls":4},"x"]
[null,null,"Auditoria de cumplimiento",{"$nulls":4},"x"]
[null,null,"Seguimiento de medidas preventivas y correctivas",{"$nulls":4},"x"]
[null,null,"Evaluación de la implementación del Sistema de Control Interno",{"$nulls":4},"x"]
["04.01","18AO110920388","Desarrollar e implementar el protocolo de la gestión de comunicación de crisis",null,null,"x"]
[null,null,"Implementación del manual de identidad gráfica del sis a nivel nacional ",null,null,"x"]
[null,null,"Desarrollar estrategia de comunicación que impulse el comportamiento ético en la institución","x"]
[null,null,"Registro para Banco Fotográfico del SIS",null,null,"x"]
[null,null,"Elaborar, ejecutar y evaluar el plan de comunicaciones del sis",null,null,"x"]
[null,null,"Entrenamiento de voceros institucionales Sede Central y Macrorregionales",null,null,"x"]
[null,null,"Gestión de material informativo y merchandising",null,null,"x"]
[null,null,"Gestión y manejo de medios de comunicación",null,null,"x"]
[null,null,"Evaluar la percepción de públicos objetivos sobre la gestión del sis",null,null,"x"]
[null,"18AO110920392","Atencion de solicitudes de acceso a la información pública",null,null,"x"]
[null,null,"Realizar campañas de difusión del uso de correo electrónico","x"]
[null,null,"Mantener actualizada el  Portal de Transparencia","x"]
[null,null,"Gestionar el portal de transparencia",null,null,"x"]
["04.02.01","18AO111142901","Realizar la fiscalización o verificación posterior de los procedimientos de contrataciones del Estado","x"]
[null,null,"Gestionar convenios para capacitacion y promoción de lucha anticorrupción","x"]
[null,null,"Diseñar instrumentos normativo que regule un procedimiento de fiscalizacion o verificacion posterior","x"]
[null,null,"Emitir informes de califiicación PAD a través de Secretarias Técnicas","x"]
[null,null,"Realizar seguimiento de plazos de prescripción en los Procedimientos Administrativos instaurados","x"]
[null,null,"Implementar acciones que eviten retrasos de procedimientos administrativos disciplinarios instaurados","x"]
[null,null,"Registrar las sanciones interpuestas en el Registro Nacional de Sanciones de Destitución y Despido (RNSDD)","x"]
[null,null,"Actualizar el Registro de Procedimientos Administrativos vinculados a la Corrupción (REPRAC)","x"]
["04.02.02","18AO110920401","Elaborar, ejecutar y evaluar el plan de mantenimiento (infr, equip y mob)"]
[null,null,"Contratar el suministro de servicios basicos",{"$nulls":4},"x"]
[null,null,"Contratar el servicio de alquiler de local a nivel nacional",{"$nulls":4},"x"]
[null,null,"Atención de bienes y servicios de las diferentes áreas",{"$nulls":4},"x"]
["04.02.03","18AO110920421","Gestionar actividades para el desarrollo y capacitación.",null,null,null,"x"]
[null,null,"Diseñar y ejecutar campañas de sensibilización en lucha contra la corrupción y código de ética","x"]
[null,null,"Realizar inducción a nuevos servidores sobre valores institucionales y el Código de Ética","x"]
["04.03","18AO110920396","Planear y organizar tecnologias de la información",null,"x"]
[null,null,"Gestionar la seguridad de la información",null,"x"]
[null,null,"Explotar la información",null,"x"]
[null,null,"Gestionar la capacidad de tecnologías de la información",null,"x"]
[null,null,"Desarrollar soluciones de tecnologias de información",null,"x"]
[null,null,"Gestionar cambios de tecnologías de la información",null,"x"]
[null,null,"Gestionar la información",null,"x"]
[null,null,"Implementar Libro de Reclamaciones Virtual","x"]
[null,null,"Identificar procesos con riesgo de corrupción en los sistemas de informacion ","x"]
[null,null,"Adquisición software de monitoreo de redes",null,"x"]
[null,null,"Plataforma de interoperabilidad del SIS con servicios PIDE y entidades externas",null,"x"]
[null,null,"Correo electrónico en la nube",null,"x"]
[null,null,"Herramientas de auditoria de base de datos",null,"x"]
[null,null,"Adquisición de camaras de seguridad",null,"x"]
[null,null,"Software de diseño gráfico, diseño web, edición de audio, video y meltimedia",null,"x"]
[null,null,"Analisis de datos estadisticos",null,"x"]
[null,null,"Analisis de datos estadisticos",null,"x"]
["05.01","18AO111142910","Identificar procesos que representen riesgos de corrupción","x"]
[null,null,"Realizar plan de afiliacion-acreditacion para el traslado del regimen subsidiado al semicontribitivo","x"]
[null,null,"Mejora de los procesos misionales de la Entidad","x"]
["05.02","18AO111142911 ","Identificar procesos que representen riesgos de corrupción","x"]
[null,null,"Mejora de los procesos misionales de la Entidad","x"]
["05.03","18AO111142912","Mejora de los procesos misionales de la Entidad","x"]
[null,"18AO111143139","Identificar procesos que representen riesgos de corrupción","x"]
[null,null,"Implementar el Analisis Biometrico de huella digital por modalidad de pago","x"]
[null,null,"Identificar precios atipicos de medicamentos e insumos de las prestaciones que financia el SIS","x"]

{"sheet":"Hoja1","index":7,"n_rows":90,"n_cols":6,"rows_kept":90,"cut":false,"hidden":true,"merged":[]}
["a",null,"g","f","h","TELEF"]
[1049133,null,"ANA MARÍA BARRUTIA BARRETO","ABARRUTIA@SIS.GOB.PE",3.01,20187254]
[1091171,null,"VICTOR VALLEJO CUTTI","VVALLEJO@SIS.GOB.PE",2.0099999999999998,20187254]
[1091174,null,"ENRIQUE BARBOZA HUAPALLA","EBARBOZA@SIS.GOB.PE",3.02,20187254]
[1091176,null,"ITALO SIFUENTES ALEMÁN","ISIFUENTES@SIS.GOB.PE",4.01,20187254]
[1091178,null,"MISOLINO PORRAS BALVÍN","MPORRAS@SIS.GOB.PE","04.02.01",20187254]
[1091179,null,"LUZ ELENA BASURTO YAMANI","LBASURTO@SIS.GOB.PE","04.02.02",20187254]
[1091180,null,"PEDRO ANTONIO PERALES ORDOÑEZ","APERALES@SIS.GOB.PE","04.02.03",20187254]
[1091181,null,"NELLY LOPEZ VARGAS","NLOPEZ@SIS.GOB.PE","04.02.04",20187254]
[1091182,null,"GLADYS JIBAJA CASTILLO","GJIBAJA@SIS.GOB.PE","04.02.05",20187254]
[1091183,null,"ROSA LEÓN LAOS","RLEON@SIS.GOB.PE",4.03,20187254]
[1091184,null,"EDWIN LEZAMA ROMERO","ELEZAMA@SIS.GOB.PE",5.01,20187254]
[1091185,null,"GINA BARCENA LUZA","GBARCENA@SIS.GOB.PE",5.0199999999999996,20187254]
[1091186,null,"CESAR GILMALCA PALACIOS","CGIMALCA@SIS.GOB.PE",5.03,20187254]
[1091188,"GMR NORTE","FERNANDO AUGUSTO CHANG GASCO","FCHANG@SIS.GOB.PE",6.01]
[1091189,null,"SAUL RIMARACHIN TARRILLO","SRIMARACHIN1@SIS.GOB.PE",6.02,20187254]
[1091190,null,"SAUL RIMARACHIN TARRILLO","SRIMARACHIN@SIS.GOB.PE",6.03,20187254]
[1091191,null,"MARLEY ROXANA ALTAMIRANO GALVEZ","MALTAMIRANO@SIS.GOB.PE",6.04,20187254]
[1091192,null,"JORGE NEUBER VASQUEZ BERNILLA","JVASQUEZ@SIS.GOB.PE",6.05,20187254]
[1091193,null,"MENDOZA SUCLUPE YAJAIRA KARINA","YMENDOZA@SIS.GOB.PE",6.06,20187254]
[1091194,null,"ALEX MICHEL VARGAS VALDERRAMA","AVARGAS@SIS.GOB.PE",6.07,20187254]
[1091195,null,"JAVIER EDUARDO AQUINO MORENO","JAQUINO@SIS.GOB.PE",6.08,20187254]
[1091196,null,"GUISSELA GUERRERO ROMERO","GGUERRERO@SIS.GOB.PE",6.09,20187254]
[1091197,"GMR NORTE","YOAEL CORREA SALDARRIAGA","YCORREA@SIS.GOB.PE",6.1]
[1091248,"GMR SUR","ROCIO VANESSA QUISPE HUMPIRI","RQUISPEH@SIS.GOB.PE",7.01," 054-253849"]
[1091249,null,"OSCAR CALSIN HUMPIRE","OCALSIN@SIS.GOB.PE",7.02,20187254]
[1091250,null,"MANUEL JESUS BACA FERNANDEZ","MBACA@SIS.GOB.PE",7.03,20187254]
[1091251,null,"ALEJANDRINA LIDIA TICLLA JIMENEZ","ATICLLA@SIS.GOB.PE",7.04,20187254]
[1091252,null,"RONALD ANGEL FLORES CENTENO","RFLORES@SIS.GOB.PE",7.05,20187254]
[1091253,null,"GIOVANNA MARIA FLORES LOMBARDI","GFLORES@SIS.GOB.PE",7.06,20187254]
[1091254,null,"LUIS RAUL LEON TICONA","LLEON@SIS.GOB.PE",7.07,20187254]
[1091255,null,"JOSÉ GUILLERMO BENAVIDES PÁEZ","JBENAVIDES@SIS.GOB.PE",7.08,20187254]
[1091256,"GMR CENTRO","CRISTHIAN ALEXANDER PEREIRA MENA","CPEREIRA@SIS.GOB.PE",8.01,"064-212478"]
[1091257,null,"JESUS EDSON ANGULO YAURI","JANGULO@SIS.GOB.PE",8.02,20187254]
[1091258,null,"CLAUDIO GODOFREDO SOSA VILCA","CSOSA@SIS.GOB.PE",8.0299999999999994,20187254]
[1091259,null,"FERNANDO AQUINO MATEO","FAQUINO@SIS.GOB.PE",8.0399999999999991,20187254]
[1091260,null,"MICHAEL MIRKO MALDONADO MELGAR","MMALDONADO@SIS.GOB.PE",8.0500000000000007,20187254]
[1093673,"GMR ORIENTE","RAFAEL VILCA BARBARAN","RVILCA@SIS.GOB.PE",9.01,"065-225347"]
[1093674,null,"YAZMIN STEPHANIE MESTA ZAPATA","YMESTA@SIS.GOB.PE",9.02,20187254]
[1093675,null,"MARIA NELLY ANGASPILCO FARRO","MANGASPILCO@SIS.GOB.PE",9.0299999999999994,20187254]
[1093676,null,"LUIS PINEDO MORI","LPINEDO@SIS.GOB.PE",9.0399999999999991,20187254]
[1093677,null,"CAROLA FERNANDEZ VÁSQUEZ","CFERNANDEZ@SIS.GOB.PE",9.0500000000000007,20187254]
[1093678,null,"NIZET EPIFANIA ORTEGA ALBORNOZ","NORTEGA@SIS.GOB.PE",9.06,20187254]
[1093679,null,"CRISTOPHER IMAR VERA BARRANTES","CVERA@SIS.GOB.PE",9.07,20187254]
[1093680,"GMR SUR MEDIO","JAVIER PORTILLO QUISPE","JPORTILLO@SIS.GOB.PE",10.01,"066-310152"]
[1093681,null,"ROBIN RENATO FUENTES LLAVE","RFUENTES@SIS.GOB.PE",10.02,20187254]
[1093682,null,"YESSENIA ESPINOZA MONZON","YESPINOZA@SIS.GOB.PE",10.029999999999999,20187254]
[1093683,null,"GODOFREDO EDUARDO CAMPOS PELAEZ","ECAMPOS@SIS.GOB.PE",10.039999999999999,20187254]
[1093684,null,"JUAN MANUEL CASTELLANOS GARCÍA","JCASTELLANOS@SIS.GOB.PE",10.050000000000001,20187254]
[1093685,"GMR CENTRO MEDIO","GUSTAVO ZUÑIGA MENDOZA","GZUNIGA@SIS.GOB.PE",11.01," 463-1389 / 261-3938"]
[1093687,null,"REBECA LUZMILA APOLIN ALVAREZ","RAPOLIN@SIS.GOB.PE",11.02,20187254]
[1093688,null,"RAQUEL POBLETE MACEDO DE MORI","RMACEDO@SIS.GOB.PE",11.03,20187254]
[1093689,null,"AMPELIO JUAN DE MATA MALLQUI MALLI","AMALLQUI@SIS.GOB.PE",11.04,20187254]
[1093690,null,"ALEJANDRO MILLAN VILCHEZ","AMILLAN@SIS.GOB.PE",11.05,20187254]
[1093691,null,"FELIZ VALENCIA NIZAMA","FVALENCIA@SIS.GOB.PE",11.06,20187254]
[1093692,null,"FLORDELIZ NEGRON RIVA","FNEGRON@SIS.GOB.PE",11.07,20187254]
[1093693,null,"JUAN JAVIER RAMIREZ CASTILLO","JRAMIREZ@SIS.GOB.PE",11.08,20187254]
[1093694,null,"JUSTO HERNÁN MONTALVO PLEJO","HMONTALVO@SIS.GOB.PE",11.09,20187254]
[1116992,null,"GUILLERMO MARTIN LEON MENACHO","GLEON@SIS.GOB.PE","04.02.03",20187254]
[1117042,null,"SUSANA GARCIA AREVALO","SGARCIA@SIS.GOB.PE","01.02.01",20187254]
[1117055,null,"ANA MARIA BARUTIA BARRETO","ABARRUTIA3@SIS.GOB.PE",1.01,20187254]
[1117057,null,"LUZ DIAZ MEDINA","LDIAZ@SIS.GOB.PE","01.02.02",20187254]
[1117071,"GMR NORTE","MIRIAM JANET BAYONA ORTIZ","MBAYONA@SIS.GOB.PE",6.01," 074-315064"]
[1117083,null,"CRISTIAN PAUL CESPEDES ORTIZ","CCESPEDES@SIS.GOB.PE",6.02,20187254]
[1117362,null,"SUPERVISOR","001091@SUPERVISOR.COM",1,20187254]
[1117368,null,"FERNANDO MANUEL MESONES MANAY","FMESONES@SIS.GOB.PE",6.09,20187254]
[1117376,null,"SYNTHIA SANTAMARIA BARDALES","SSANTAMARIA@SIS.GOB.PE",9.06,20187254]
[1117377,null,"LOURDES ABARCA ARRAMBIDE","LABARCA@SIS.GOB.PE",7.03,20187254]
[1125302,null,"OMAR HELDER ESPINOZA ORTIZ","OESPINOZA@SIS.GOB.PE",11.03,20187254]
[1125517,null,"SABINO NOA GONZALES","SNOA@SIS.GOB.PE",3,20187254]
[1125601,null,"LIZ AMPUERO TRGOSO","LAMPUERO@SIS.GOB.PE",9.0299999999999994,20187254]
[1125605,null,"MORAYMA SALAZAR CALERO","MSALAZAR@SIS.GOB.PE",7.06,20187254]
[1126418,null,"JOSE CARLOS CONDORI CUTIPA","JCONDORI@SIS.GOB.PE",7.04,20187254]
[1126434,null,"EBE JESUS ROMUCHO PORTILLO","EROMUCHO@SIS.GOB.PE",10.039999999999999,20187254]
[1126993,null,"ERICK FLORES ALIAGA","EFLORES@SIS.GOB.PE",3.01,20187254]
[1129386,null,"CARLOS REYES BUSTAMANTE","CREYES@SIS.GOB.PE",5.03,20187254]
[1129752,null,"ROBERTO VELEZ CERVANTES","RVELEZ@SIS.GOB.PE",10.050000000000001,20187254]
[1132714,null,"PATRICIA PAOLA GIL ZAMORA","PGIL@SIS.GOB.PE",9.0500000000000007,20187254]
[1132762,null,"CARMEN ROSA GONZALES REYES","CGONZALESR@SIS.GOB.PE",11.06,20187254]
[1132796,null,"REINALDO ALAYO CABEL","RALAYO@SIS.GOB.PE",6.07,20187254]
[1133102,null,"SADITH BLAS CARDENAS","SBLAS@SIS.GOB.PE",5.01,20187254]
[1133162,null,"GIANNI SIDNEY RENGIFO MEJIA","GRENGIFO@SIS.GOB.PE",4.01,20187254]
[1134774,null,"NELLY ROSA ÁNGELES MARTÍNEZ","NANGELES@SIS.GOB.PE",3.01,20187254]
[1134789,null,"HIRVING FILVER PÉREZ MAYOR","HPEREZ@SIS.GOB.PE",8.02,20187254]
[1135117,null,"FLOR MORAYMA CHAMBI ARANA","FCHAMBI@SIS.GOB.PE",7.08,20187254]
[1516498,null,"CESAR AUGUSTO LOPEZ MONTEZA","CLOPEZ@SIS.GOB.PE",6.09,20187254]
[1516522,null,"MARINO CIEZA RODRIGO","MCIEZA@SIS.GOB.PE",6.05,20187254]
[1516550,null,"ABEL WILFREDO VIVANCO MUNAICO","AVIVANCO@SIS.GOB.PE",5.01,20187254]
[1516557,null,"MELVIN HAROLD CHAMORRO CUBA","MCHAMORRO@SIS.GOB.PE",11.04,20187254]
[1516630,null,"ALEMAN ANICAMA MERLY YANICE","MALEMAN@SIS.GOB.PE","04.02.02",20187254]

{"sheet":"Hoja2","index":8,"n_rows":22,"n_cols":8,"rows_kept":22,"cut":false,"hidden":true,"merged":[]}
[]
["N°","Exp","Documento","Concepto","Detalle","Monto","C. C.","Respuesta"]
[1,"18-085464-001","Memorando N° 692-2018-SIS-SG","Servicio de terceros",null,6000,"SG"]
[2,"18-084567-001","Memorando N° 612-2018-SIS-GA\nInforme N° 30-2018-SIS/GA (18-092864-003)","Servicio de terceros","Aló SIS",60000,"GA","Inf Conjunto 009"]
[3,"18-076669-001","Nota Inf N° 431-2018-SIS-GMR NOR-UDR LLIB","Servicio de terceros","Auditor Médico",6500,"UDR LA LIB","Inf 10"]
[4,"18-076989-001","Memorando N° 525-2018-SIS-GMR SUR","Servicio de terceros","Médico Evaluador",15000,"GMR SUR","Inf 10"]
[5,"18-082403-001","Memorando N° 231-2018-SIS-OGIIT",null,"Post produccion para contenido educativo",5000,"OGIIT"]
[6,"18-074930-001","Nota Inf N° 005-2018-SIS-COM.INV.B.P","Servicio de terceros","Inventario Patrimonial",78000,"ABAST"]
[7,"18-083630-001","Nota Inf N° 161-2018-SIS-OGAR-OA","Servicio de terceros","Inventario Patrimonial",9000,"ABAST"]
[8,"18-082197-001","Nota Inf N° 814-2018-SIS-OGAR-OGRH","Servicio de terceros","Seguridad y salud en el trabajo",16000,"OGGRH","Inf Conjunto 008"]
[9,"18-070157-001","Nota Inf N° 737-2018-SIS-OGAR-OGRH","Servicio de terceros","Sistema de Desplazamiento de Personal",16500,"OGGRH","Inf Conjunto 008"]
[10,"18-052955-001","Nota Inf N° 618-2018-SIS-OGAR-OGRH","Servicio de terceros","Clasificación de archivos en RH",1800,"OGGRH","Inf Conjunto 008"]
[11,"18-093128-001","Inf N° 070-2018-SIS/OGIT-UTI-MMR","Licencia de sotfware","Antivirus",null,"OGTI"]
[12,"18-086174-001","Inf N° 057-2018-SIS/OGTI-UTI-US/EMS","Servicio de terceros","Diagnóstico situacional de Reglas de consistencia y validación",null,"OGTI"]
[13,"18-091380-001","Inf N° 031-2018-SIS/OGTI-VBC","Servicio de terceros","Optimización de opeaciones en el SIS independiente (afiliacion SIASIS)",null,"OGTI"]
[14,"18-091392-001","Inf N° 032-2018-SIS/OGTI-VBC","Servicio de terceros","Análisis y diseño de la afiliación virtual",null,"OGTI"]
[15,"18-091397-001","Inf N° 033-2018-SIS/OGTI-VBC","Servicio de terceros","Análisis y diseño de la aplicación movil para la afiliación virtual",null,"OGTI"]
[16,"18-092977-001","Inf N° 036-2018-SIS/OGTI-VBC","Servicio de terceros","Estándares de diseño de interfase en el SIASIS",null,"OGTI"]
[17,"18-092971-001","Inf N° 035-2018-SIS/OGTI-VBC","Servicio de terceros","Actualización de la documentación técnica y funcional",null,"OGTI"]
[18,"18-092968-001","Inf N° 034-2018-SIS/OGTI-VBC","Servicio de terceros","Gestión de la demanda",null,"OGTI"]
[19,"18-092987-001","Inf N° 037-2018-SIS/OGTI-VBC","Servicio de terceros","Diagnóstico y actualización del aplicativo SIASIS",null,"OGTI"]
[20,"18-004878-002","Memorando N° 2417-2018-SIS/OGAR","Servicio de terceros","Cableado estructurado",17487.599999999999,"UDR Puno"]

{"sheet":"Hoja3","index":9,"n_rows":19,"n_cols":5,"rows_kept":19,"cut":false,"hidden":true,"merged":[[3,1,3,2]]}
[]
[]
[]
[null,"SEGURO INTEGRAL DE SALUD}",null,{"$f":"+D5+D8+D11+D15","v":2278034936},"%"]
[null,"OEI 1","Incrementar la cobertura de la población objetivo del SIS.",{"$f":"SUM(D6:D7)","v":2231862},{"$f":"+D5/($D$5+$D$8+$D$11+$D$15)","v":9.7973124324376038E-4}]
[null,"AEI 1.1","Afiliación al SIS incrementada en la población objetivo.",696645,{"$f":"+D6/$D$5","v":0.31213623422953568}]
[null,"AEI 1.2","Mecanismos de protección de derechos optimizados",1535217,{"$f":"+D7/$D$5","v":0.68786376577046426}]
[null,"OEI 2","Reducir los riesgos técnicos y financieros",{"$f":"SUM(D9:D10)","v":4021186},{"$f":"+D8/($D$5+$D$8+$D$11+$D$15)","v":1.765199442929E-3}]
[null,"AEI 2.1","Control técnico y financiero",2665324,{"$f":"+D9/$D$8","v":0.66282037190023047}]
[null,"AEI 2.2","Auditoria médica y financiera optimizada",1355862,{"$f":"+D10/$D$8","v":0.33717962809976959}]
[null,"OEI 3","Mejorar la gestión del financiamiento de las prestaciones",{"$f":"SUM(D12:D14)","v":2178404134},{"$f":"+D11/($D$5+$D$8+$D$11+$D$15)","v":0.95626458557525829}]
[null,"AEI 3.1","Financiamiento del SIS incrementado por RDR",137610,{"$f":"+D12/$D$11","v":6.3170096793435483E-5}]
[null,"AEI 3.2","Recursos del SIS transferidos para reposición",2001410024,{"$f":"+D13/$D$11","v":0.91875056274567279}]
[null,"AEI 3.3","Mecanismos de compra de servicios optimizados",176856500,8.118626715753377E-2]
[null,"OEI 4","Mejorar la eficacia y eficiencia de los procesos de gestión institucional.",{"$f":"SUM(D16:D19)","v":93377754},{"$f":"+D15/($D$5+$D$8+$D$11+$D$15)","v":4.0990483738568971E-2}]
[null,"AEI 4.1","Fortalecer la organización con enfoque de procesos.",30816417,{"$f":"+D16/$D$15","v":0.33001882868161508}]
[null,"AEI 4.2","Mejorar la calidad y seguridad de los sistemas de información del SIS",3141493,{"$f":"+D17/$D$15","v":3.3642841741513725E-2}]
[null,"AEI 4.3","Fortalecer la comunicación estratégica institucional",2306698,2.4702864453133022E-2]
[null,"AEI 4.4","Mejorar la satisfacción aboral del personal del SIS.",57113146,0.61163546512373812]

{"sheet":"Flujo Form","index":10,"n_rows":49,"n_cols":9,"rows_kept":49,"cut":false,"hidden":true,"merged":[[0,3,0,8]]}
[null,null,null,"FLUJOGRAMA DEL PROCESO DEL PLANEAMIENTO OPERATIVO: Formulación y modificación del POI"]
[]
[null,null,null,1,null,2]
[]
[null,null,null,"OGPPDO","Comisión OGPPDO","Unidaes Orgánicas","OGAJ","JEFATURA","OGIIT"]
{"$rows_empty":26}
[null,"Formulacion"]
[null,"Modificación"]
[]
[1,"Inicio"]
[2,"Actualiza AOE"]
[3,"Revisa AOE"]
[4,"Esta Ok?"]
[5,"Registra AOE en CEPLAN"]
[6,"Comunica a UO"]
[7,"Registra MF en CEPLAN"]
[8,"Comunica sobre registro de MF a OGPPDO"]
[9,"Revisa las MF registradas por UO"]
[10,"Elabora Proyecto POI"]
[11,"Revisa y emite opinion legal"]
[12,"Conforme?"]
[13,"Firma RJ de Aprobación/Modificación del POI"]
[null,"Publica en Portal de Transparencia"]
[null,"Fin"]

{"sheet":"Flujo Eval","index":11,"n_rows":20,"n_cols":7,"rows_kept":20,"cut":false,"hidden":true,"merged":[[2,3,2,6]]}
[]
[null,null,null,1,2]
[null,null,null,"FLUJOGRAMA DEL PROCESO DEL PLANEAMIENTO OPERATIVO: Seguimiento y Evaluación del POI"]
[null,null,null,"OGPPDO","UNIDADES ORGANICAS","SECRETARIA GENERAL","OGIIT"]
[]
[null,"Seguimiento"]
[null,"Evaluación"]
[1,"Inicio"]
[2,"Apertura CEPLAN para el registro de avance de MF"]
[3,"Comunica a UO el inicio de registro seguimiento en CEPLAN"]
[4,"Registra avance mensual de MF en CEPLAN"]
[5,"Comunica a OGPPDO el registro en CEPLAN"]
[6,"Elabora el Informe Cualitativo"]
[7,"Evalua los registros de UO en CEPLAN"]
[8,"Está Conforme?"]
[11,"Aprueba y elabora Informe de seguimiento / Evaluación"]
[12,"Remite a Secretaria General"]
[13,"Revisa y evalua el informe de seguimiento / monitoreo"]
[null,"Publica en portal de transparencia"]
[null,"Fin"]

{"sheet":"Hoja4","index":12,"n_rows":250,"n_cols":5,"rows_kept":250,"cut":false,"hidden":true,"merged":[]}
[]
[]
[null,null,null,"CODIGO","SI"]
[null,null,null,"18AO110921692","SI"]
[null,null,null,"18AO110920381","SI"]
[null,null,null,"18AO111149643","SI"]
[null,null,null,"18AO110921680","SI"]
[null,null,null,"18AO111142739","SI"]
[null,null,null,"18AO111141933","SI"]
[null,null,null,"18AO111141936","SI"]
[null,null,null,"18AO111141939","SI"]
[null,null,null,"18AO111142899","SI"]
[null,null,null,"18AO110920388","SI"]
[null,null,null,"18AO110920392","SI"]
[null,null,null,"18AO111142901","SI"]
[null,null,null,"18AO110920401","SI"]
[null,null,null,"18AO110920421","SI"]
[null,null,null,"18AO111142904","SI"]
[null,null,null,"18AO110920537","SI"]
[null,null,null,"18AO111142907","SI"]
[null,null,null,"18AO110920396","SI"]
[null,null,null,"18AO111142910","SI"]
[null,null,null,"18AO110920443","SI"]
[null,null,null,"18AO111149595","SI"]
[null,null,null,"18AO111149596","SI"]
[null,null,null,"18AO111142911","SI"]
[null,null,null,"18AO110920533","SI"]
[null,null,null,"18AO111142912","SI"]
[null,null,null,"18AO111143139","SI"]
[null,null,null,"18AO111142914","SI"]
[null,null,null,"18AO111142916","SI"]
[null,null,null,"18AO111142917","SI"]
[null,null,null,"18AO111142918","SI"]
[null,null,null,"18AO111142919","SI"]
[null,null,null,"18AO110920454","SI"]
[null,null,null,"18AO111143143","SI"]
[null,null,null,"18AO111143144","SI"]
[null,null,null,"18AO111143145","SI"]
[null,null,null,"18AO111143147","SI"]
[null,null,null,"18AO111143148","SI"]
[null,null,null,"18AO111142921","SI"]
[null,null,null,"18AO111142923","SI"]
[null,null,null,"18AO111142924","SI"]
[null,null,null,"18AO111142926","SI"]
[null,null,null,"18AO111142927","SI"]
[null,null,null,"18AO111142928","SI"]
[null,null,null,"18AO111142929","SI"]
[null,null,null,"18AO111142930","SI"]
[null,null,null,"18AO111142931","SI"]
[null,null,null,"18AO111142932","SI"]
[null,null,null,"18AO111142933","SI"]
[null,null,null,"18AO111142934","SI"]
[null,null,null,"18AO111142935","SI"]
[null,null,null,"18AO111142936","SI"]
[null,null,null,"18AO111142937","SI"]
[null,null,null,"18AO111142938","SI"]
[null,null,null,"18AO111142939","SI"]
[null,null,null,"18AO111142940","SI"]
[null,null,null,"18AO111142941 ","SI"]
[null,null,null,"18AO111142942","SI"]
[null,null,null,"18AO111142944 ","SI"]
[null,null,null,"18AO111142945","SI"]
[null,null,null,"18AO111142946","SI"]
[null,null,null,"18AO111142947","SI"]
[null,null,null,"18AO111142948","SI"]
[null,null,null,"18AO111142949","SI"]
[null,null,null,"18AO111142950","SI"]
[null,null,null,"18AO111142951","SI"]
[null,null,null,"18AO111142952","SI"]
[null,null,null,"18AO111142953","SI"]
[null,null,null,"18AO111142954","SI"]
[null,null,null,"18AO111142955","SI"]
[null,null,null,"18AO111142956","SI"]
[null,null,null,"18AO111142957","SI"]
[null,null,null,"18AO111142958","SI"]
[null,null,null,"18AO111142959 ","SI"]
[null,null,null,"18AO111142960","SI"]
[null,null,null,"18AO111142961","SI"]
[null,null,null,"18AO111142962","SI"]
[null,null,null,"18AO111142963 ","SI"]
[null,null,null,"18AO111142964","SI"]
[null,null,null,"18AO111142965","SI"]
[null,null,null,"18AO111142966","SI"]
[null,null,null,"18AO110920906","SI"]
[null,null,null,"18AO111142967","SI"]
[null,null,null,"18AO111142968","SI"]
[null,null,null,"18AO111142969","SI"]
[null,null,null,"18AO111142970","SI"]
[null,null,null,"18AO111142971","SI"]
[null,null,null,"18AO111142972","SI"]
[null,null,null,"18AO111142973","SI"]
[null,null,null,"18AO111142974","SI"]
[null,null,null,"18AO111142975","SI"]
[null,null,null,"18AO111142976","SI"]
[null,null,null,"18AO111142977","SI"]
[null,null,null,"18AO111142978","SI"]
[null,null,null,"18AO111142979","SI"]
[null,null,null,"18AO111142980","SI"]
[null,null,null,"18AO111142981","SI"]
[null,null,null,"18AO111142982","SI"]
[null,null,null,"18AO111142983","SI"]
[null,null,null,"18AO111142984","SI"]
[null,null,null,"18AO111142985","SI"]
[null,null,null,"18AO111142986","SI"]
[null,null,null,"18AO111142987 ","SI"]
[null,null,null,"18AO111142988","SI"]
[null,null,null,"18AO111142989","SI"]
[null,null,null,"18AO111142990 ","SI"]
[null,null,null,"18AO111142991","SI"]
[null,null,null,"18AO111142992","SI"]
[null,null,null,"18AO111142993","SI"]
[null,null,null,"18AO111142994","SI"]
[null,null,null,"18AO111142995","SI"]
[null,null,null,"18AO111142996","SI"]
[null,null,null,"18AO111142997","SI"]
[null,null,null,"18AO111142998","SI"]
[null,null,null,"18AO111142999","SI"]
[null,null,null,"18AO111143000","SI"]
[null,null,null,"18AO111143001","SI"]
[null,null,null,"18AO111143002","SI"]
[null,null,null,"18AO111143003","SI"]
[null,null,null,"18AO111143004","SI"]
[null,null,null,"18AO110921144","SI"]
[null,null,null,"18AO111143005","SI"]
[null,null,null,"18AO111143006","SI"]
[null,null,null,"18AO111143007","SI"]
[null,null,null,"18AO111143008","SI"]
[null,null,null,"18AO111143009","SI"]
[null,null,null,"18AO111143010","SI"]
[null,null,null,"18AO111143011","SI"]
[null,null,null,"18AO111143012","SI"]
[null,null,null,"18AO111143013","SI"]
[null,null,null,"18AO111143014","SI"]
[null,null,null,"18AO111143015","SI"]
[null,null,null,"18AO111143016","SI"]
[null,null,null,"18AO111143017","SI"]
[null,null,null,"18AO111143018","SI"]
[null,null,null,"18AO111143019","SI"]
[null,null,null,"18AO111143020","SI"]
[null,null,null,"18AO111143021","SI"]
[null,null,null,"18AO111143022","SI"]
[null,null,null,"18AO111143023","SI"]
[null,null,null,"18AO111143024","SI"]
[null,null,null,"18AO111143027","SI"]
[null,null,null,"18AO111143029","SI"]
[null,null,null,"18AO111143030","SI"]
[null,null,null,"18AO110921291","SI"]
[null,null,null,"18AO111143031","SI"]
[null,null,null,"18AO111143032","SI"]
[null,null,null,"18AO111143033","SI"]
[null,null,null,"18AO111143035","SI"]
[null,null,null,"18AO111143036","SI"]
[null,null,null,"18AO111143037","SI"]
[null,null,null,"18AO111143038","SI"]
[null,null,null,"18AO111143039","SI"]
[null,null,null,"18AO111143040","SI"]
[null,null,null,"18AO111143041","SI"]
[null,null,null,"18AO111143042","SI"]
[null,null,null,"18AO111143043","SI"]
[null,null,null,"18AO111143044","SI"]
[null,null,null,"18AO111143045","SI"]
[null,null,null,"18AO111143046","SI"]
[null,null,null,"18AO111143047","SI"]
[null,null,null,"18AO111143048","SI"]
[null,null,null,"18AO111143049","SI"]
[null,null,null,"18AO111143050","SI"]
[null,null,null,"18AO111143051","SI"]
[null,null,null,"18AO111143052","SI"]
[null,null,null,"18AO111143053","SI"]
[null,null,null,"18AO111143054","SI"]
[null,null,null,"18AO111143055","SI"]
[null,null,null,"18AO111143056","SI"]
[null,null,null,"18AO111143057 ","SI"]
[null,null,null,"18AO111143058","SI"]
[null,null,null,"18AO111143059 ","SI"]
[null,null,null,"18AO111143060","SI"]
[null,null,null,"18AO111143061","SI"]
[null,null,null,"18AO111143062","SI"]
[null,null,null,"18AO111143063","SI"]
[null,null,null,"18AO111143064","SI"]
[null,null,null,"18AO110921549","SI"]
[null,null,null,"18AO111143066","SI"]
[null,null,null,"18AO111143067","SI"]
[null,null,null,"18AO111143068 ","SI"]
[null,null,null,"18AO111143069","SI"]
[null,null,null,"18AO111143070","SI"]
[null,null,null,"18AO111143071","SI"]
[null,null,null,"18AO111143072","SI"]
[null,null,null,"18AO111143074","SI"]
[null,null,null,"18AO111143075","SI"]
[null,null,null,"18AO111143076","SI"]
[null,null,null,"18AO111143077","SI"]
[null,null,null,"18AO111143078","SI"]
[null,null,null,"18AO111143079","SI"]
[null,null,null,"18AO111143080","SI"]
[null,null,null,"18AO111143082","SI"]
[null,null,null,"18AO111143090","SI"]
[null,null,null,"18AO111143091","SI"]
[null,null,null,"18AO111143092","SI"]
[null,null,null,"18AO111143093 ","SI"]
[null,null,null,"18AO111143094","SI"]
[null,null,null,"18AO111143095","SI"]
[null,null,null,"18AO111146645","SI"]
[null,null,null,"18AO111146648","SI"]
[null,null,null,"18AO111143096","SI"]
[null,null,null,"18AO111146652","SI"]
[null,null,null,"18AO111143097","SI"]
[null,null,null,"18AO111146653","SI"]
[null,null,null,"18AO111146656","SI"]
[null,null,null,"18AO110920487","SI"]
[null,null,null,"18AO111143098","SI"]
[null,null,null,"18AO111143099","SI"]
[null,null,null,"18AO111143100","SI"]
[null,null,null,"18AO111143101","SI"]
[null,null,null,"18AO111143102","SI"]
[null,null,null,"18AO111143103","SI"]
[null,null,null,"18AO111143104","SI"]
[null,null,null,"18AO111143105","SI"]
[null,null,null,"18AO111143106","SI"]
[null,null,null,"18AO111143107","SI"]
[null,null,null,"18AO111143108","SI"]
[null,null,null,"18AO111143109","SI"]
[null,null,null,"18AO111143110","SI"]
[null,null,null,"18AO111143111","SI"]
[null,null,null,"18AO111143112","SI"]
[null,null,null,"18AO111143113","SI"]
[null,null,null,"18AO111143114","SI"]
[null,null,null,"18AO111143115","SI"]
[null,null,null,"18AO111143116","SI"]
[null,null,null,"18AO111143117","SI"]
[null,null,null,"18AO111143118 ","SI"]
[null,null,null,"18AO111143119","SI"]
[null,null,null,"18AO111143120","SI"]
[null,null,null,"18AO111143121","SI"]
[null,null,null,"18AO111143122","SI"]
[null,null,null,"18AO111143123","SI"]
[null,null,null,"18AO111143125","SI"]
[null,null,null,"18AO111143126","SI"]
[null,null,null,"18AO111143127","SI"]
[null,null,null,"18AO111143128","SI"]
[null,null,null,"18AO111143129","SI"]
[null,null,null,"18AO111143130","SI"]
[null,null,null,"18AO111143131","SI"]
[null,null,null,"18AO111143132","SI"]
[null,null,null,"18AO111143133","SI"]
[null,null,null,"18AO111143134","SI"]
[null,null,null,"18AO111143135","SI"]
[null,null,null,"18AO111143136","SI"]
[null,null,null,"18AO111143137 ","SI"]
[null,null,null,"18AO111143138","SI"]