{"text_format":"2","workbook":"xlsx","n_sheets":1,"sheets":["Informe 4"],"not_rendered":{"charts":0,"images":0,"macros":0,"external_links":1,"defined_names":1,"comments":0,"pivot_tables":0},"unopened":[],"bounds":{"document_bytes":16777216,"sheet_cells":100000,"run_cost":"one","rows_first":2000,"rows_last":500,"rows_between":2000,"halvings":0,"cell_chars":16384,"cell_head_chars":4096},"cells_cut":0,"cells_raw":0,"read":"whole","date_system":"1900"}

{"sheet":"Informe 4","index":0,"n_rows":33,"n_cols":5,"rows_kept":33,"cut":false,"hidden":false,"merged":[[2,0,2,4]]}
["ENTEL PERU S.A.-2018-4 RECONCILIACIÓN DEL ESTADO DE RESULTADOS ESTATUTARIO CON EL DE CONTABILIDAD SEPARADA-21062019"]
[]
["INFORME 4: RECONCILIACIÓN DEL ESTADO DE RESULTADOS ESTATUTARIO CON EL DE CONTABILIDAD SEPARADA"]
[]
["Periodo de reporte: Al 31 de Diciembre 2018"]
[]
["Expresado en Miles Nuevos Soles","Estado de Resultados Estatutario","Ajustes","Estado de Resultados de Contabilidad Separada","Nota"]
["INGRESOS",{"$f":"SUM(B9:B13)","v":2510466113.7699995},{"$f":"SUM(C9:C13)","v":-39922968.399999999},{"$f":"+B8+C8","v":2470543145.3699994}]
["Renta Basica Servicios",{"$f":"+'[1]Hoja Trabajo  Informe 4'!G10+'[1]Hoja Trabajo  Informe 4'!G11","v":1114268838.26},{"$f":"+'[1]Hoja Trabajo  Informe 4'!H11","v":0},1114268838.26]
["Uso de Servicios",{"$f":"SUM('[1]Hoja Trabajo  Informe 4'!G12:G21)+SUM('[1]Hoja Trabajo  Informe 4'!G29)+'[1]Hoja Trabajo  Informe 4'!G22+'[1]Hoja Trabajo  Informe 4'!G23+'[1]Hoja Trabajo  Informe 4'!G24+'[1]Hoja Trabajo  Informe 4'!G30+'[1]Hoja Trabajo  Informe 4'!G25+'[1]Hoja Trabajo  Informe 4'!G26","v":294395514.82999992},null,294395514.82999992]
["Ingresos por servicios de Interconexion",{"$f":"+'[1]Hoja Trabajo  Informe 4'!G27+'[1]Hoja Trabajo  Informe 4'!G28","v":189763772.34999999},{"$f":"+'[1]Hoja Trabajo  Informe 4'!H27","v":4263815.6900000004},194027588.03999999]
["Ingresos por venta de terminales",{"$f":"SUM('[1]Hoja Trabajo  Informe 4'!G53:G67)","v":810024303.71000004},{"$f":"+'[1]Hoja Trabajo  Informe 4'!H59","v":0},810024303.71000004]
["Otros ",{"$f":"SUM('[1]Hoja Trabajo  Informe 4'!G32:G49)","v":102013684.62000002},{"$f":"SUM('[1]Hoja Trabajo  Informe 4'!H32:H49)","v":-44186784.089999996},57826900.530000024]
["GASTOS",{"$f":"SUM(B15:B21)","v":-2779182874.8900003},{"$f":"SUM(C15:C21)","v":1472614.1},{"$f":"SUM(D15:D21)","v":-2777710260.7900004}]
["Gastos de personal",{"$f":"SUM('[1]Hoja Trabajo  Informe 4'!G69:G107)","v":-350875462.69},0,{"$f":"+B15+C15","v":-350875462.69}]
["Gastos generales y administrativos",{"$f":"SUM('[1]Hoja Trabajo  Informe 4'!G132:G287)","v":-1694881642.5200002},{"$f":"+'[1]Hoja Trabajo  Informe 4'!H255","v":1472614.1},{"$f":"+B16+C16","v":-1693409028.4200003}]
["Existencias",{"$f":"SUM('[1]Hoja Trabajo  Informe 4'!G109:G126)","v":-771390498.08000016},0,-771390498.08000016]
["Capitalización de Gastos por Construcción de Planta o Trabajo para el Inmovilizado",{"$f":"+'[1]Hoja Trabajo  Informe 4'!G128","v":45677728.399999999},0,45677728.399999999]
["Honorarios por transferencia de capacidad tecnica",null,0,0]
["Provisión para desvalorización de activos",{"$f":"+'[1]Hoja Trabajo  Informe 4'!G130","v":-7713000},0,-7713000]
["Otros Gastos Operativos",null,0,0]
["UTILIDAD (PÉRDIDA) DE OPERACIÓN (EBITDA)",{"$f":"+B8+B14","v":-268716761.12000084},{"$f":"+C8+C14","v":-38450354.299999997},{"$f":"+D8+D14","v":-307167115.42000103}]
["Depreciación",{"$f":"SUM('[1]Hoja Trabajo  Informe 4'!G289:G330)","v":-169776728.81999999},{"$f":"+'[1]Hoja Trabajo  Informe 4'!H289+'[1]Hoja Trabajo  Informe 4'!H313+'[1]Hoja Trabajo  Informe 4'!H331","v":11994410.300922483},-157782318.51907751," "]
["Amortización",{"$f":"SUM('[1]Hoja Trabajo  Informe 4'!G334:G341)","v":-66999054.189999998},{"$f":"+'[1]Hoja Trabajo  Informe 4'!H342","v":813330.7944400484},-66185723.395559952," "]
["Deterioro de Activos Fijos",{"$f":"+'[1]Hoja Trabajo  Informe 4'!G345","v":0},null,0]
["UTILIDAD (PÉRDIDA) ANTES DE INTERESES E IMPUESTOS (EBIT)",{"$f":"+B22+B23+B24+B25","v":-505492544.13000083},{"$f":"+C22+C23+C24","v":-25642613.204637464},{"$f":"+D22+D23+D24+D25","v":-531135157.33463854}]
["Ingresos Financieros",{"$f":"SUM('[1]Hoja Trabajo  Informe 4'!G383:G385)","v":367696.07999999996},0,367696.07999999996]
["Gastos Financieros",{"$f":"SUM('[1]Hoja Trabajo  Informe 4'!G365:G376)","v":-252938446.93000001},0,-252938446.93000001]
["Cambios en el valor razonable de instrumentos financieros derivados",{"$f":"SUM('[1]Hoja Trabajo  Informe 4'!G378:G380)","v":6078026.3000000007},{"$f":"+'[1]Hoja Trabajo  Informe 4'!H378+'[1]Hoja Trabajo  Informe 4'!H380+'[1]Hoja Trabajo  Informe 4'!H379","v":-6078026.3000000007},0]
["Diferencias de Cambio Neto",{"$f":"SUM('[1]Hoja Trabajo  Informe 4'!G348:G362)","v":-202633327.62000003},0,-202633327.62000003]
["UTILIDAD (PÉRDIDA) ANTES DE IMPUESTOS",{"$f":"+B26+B27+B28+B29+B30","v":-954618596.30000091},{"$f":"+C26+C27+C28+C29+C30","v":-31720639.504637465},{"$f":"+D26+D27+D28+D29+D30","v":-986339235.8046385}]
["impuestos a las ganancias",{"$f":"SUM('[1]Hoja Trabajo  Informe 4'!G388:G390)","v":274381235.28999996},null,274381235.28999996," "]
["UTILIDAD (PÉRDIDA) NETA",{"$f":"+B31+B32","v":-680237361.01000094},{"$f":"+C31+C32","v":-31720639.504637465},{"$f":"+D31+D32","v":-711958000.51463854}]