{"text_format":"3","workbook":"xlsx","n_sheets":13,"sheets":["Formato","Glosario","Ayuda CIIU","Ayuda Material","Ayuda GEO","Preguntas Frecuentes","TipoBien","Matriz_Ubi","Lista_Ubigeo","Matriz_Mat","Matriz_Pisos","Lista","DatosInfo"],"not_rendered":{"images":16,"macros":1,"external_links":1,"defined_names":306,"comments":1},"read":"whole","date_system":"1900"}

{"sheet":"Formato","index":0,"n_rows":19,"n_cols":53,"rows_kept":19,"merged":[[2,36,2,48],[3,3,3,13],[4,3,4,4],[7,47,8,47],[11,2,11,23],[11,25,11,35],[11,36,11,49]]}
[]
[]
[{"$nulls":4},"Resolución S.B.S N° 3661-2021",{"$nulls":31},"Total General Valor declarado"]
[{"$nulls":3},"Detalle de Ubicaciones de Bienes Asegurables por Inmueble (DUBAI)",{"$nulls":32},{"$f":"Formato!$AK$13","v":"Edificación\n(excluyendo el valor del terreno)"},{"$f":"Formato!$AL$13","v":"SELECCIONAR OTRO (OPCIONAL)"},{"$f":"Formato!$AM$13","v":"Total Edificación"},{"$f":"Formato!$AN$13","v":"Existencias"},{"$f":"Formato!$AO$13","v":"Equipos Electrónicos"},{"$f":"Formato!$AP$13","v":"Maquinaria Fija"},{"$f":"Formato!$AQ$13","v":"Maquinaria y equipo móvil"},{"$f":"Formato!$AR$13","v":"Contenido en general"},{"$f":"Formato!$AS$13","v":"SELECCIONAR OTRO (OPCIONAL)"},{"$f":"Formato!$AT$13","v":"Total Contenido"},{"$f":"Formato!$AU$13","v":"Beneficio Bruto (margen de contribución)"},{"$f":"Formato!$AV$13","v":"Total Lucro Cesante"},{"$f":"Formato!$AW$13","v":"VALOR DECLARADO TOTAL\n(Edificación + Contenido + Lucro Cesante)"}]
[{"$nulls":36},{"$f":"SUM(Formato!AK14:AK19)","v":{"v":375046.22,"d":"375,046.22"}},{"$f":"SUM(Formato!AL14:AL19)","v":{"v":0,"d":"0.00"}},{"$f":"SUM(Formato!AM14:AM19)","v":{"v":375046.22,"d":"375,046.22"}},{"$f":"SUM(Formato!AN14:AN19)","v":{"v":97613548.47999999,"d":"97,613,548.48"}},{"$f":"SUM(Formato!AO14:AO19)","v":{"v":4039974.27,"d":"4,039,974.27"}},{"$f":"SUM(Formato!AP14:AP19)","v":{"v":199941.02,"d":"199,941.02"}},{"$f":"SUM(Formato!AQ14:AQ19)","v":{"v":28582.29,"d":"28,582.29"}},{"$f":"SUM(Formato!AR14:AR19)","v":{"v":257597.64,"d":"257,597.64"}},{"$f":"SUM(Formato!AS14:AS19)","v":{"v":0,"d":"0.00"}},{"$f":"SUM(Formato!AT14:AT19)","v":{"v":102139643.7,"d":"102,139,643.70"}},{"$f":"SUM(Formato!AU14:AU19)","v":{"v":0,"d":"0.00"}},{"$f":"SUM(Formato!AV14:AV19)","v":{"v":0,"d":"0.00"}},{"$f":"SUM(Formato!AW14:AW19)","v":{"v":102514689.92,"d":"102,514,689.92"}}]
[]
[{"$nulls":3},"Tipo de documento:","RUC N°","S"]
[{"$nulls":3},"Número de Documento:",20538298485,{"$nulls":42},"Período  correspondiente al valor declarado de Lucro"]
[{"$nulls":3},"Nombre/ Razón Social:","CENTRO NACIONAL DE ABASTECIMIENTO DE RECURSOS EN SALUD"]
[{"$nulls":3},"Moneda:","Dólares",null,"nro de locales:",6]
[{"$nulls":25},{"$f":"SEARCH(\"Otros Otros\",#REF!,1)","v":{"$error":"#REF!"}}]
[null,null,"Dirección del riesgo",{"$nulls":22},"Características del Inmueble asegurado",{"$nulls":10},"Valores declarados"]
[null,null,"N°","Tipo de calle/vía","Nombre de calle/vía","Número","Tipo Interior","Interior","Mz","Lote","KM","Tipo Conjunto Habitacional","Nombre del Conjunto Habitacional","Subdivisión del Conjunto Habitacional","Nombre de Subdivisión del Conjunto Habitacional","Referencia","País","Departamento/Región","Provincia","Distrito","Ubigeo","Latitud (x)","Longitud (y)","Registro Válido","Año de construcción","Año de reforzamiento estructural","Tipo de material de construcción predominante \n(TEP)","Tipo de Estructura Especial \n(TEE)","Número de Pisos de la edificación","Número de Sotanos de la edificación","Tipo de Bien asegurado","Tipo de uso\n(USO)","Giro del inmueble","Cód. CIIU\nde la Empresa o Actividad","Descripción CIIU","Registro Válido","Edificación\n(excluyendo el valor del terreno)","SELECCIONAR OTRO (OPCIONAL)","Total Edificación","Existencias","Equipos Electrónicos","Maquinaria Fija","Maquinaria y equipo móvil","Contenido en general","SELECCIONAR OTRO (OPCIONAL)","Total Contenido","Beneficio Bruto (margen de contribución)","Total Lucro Cesante","VALOR DECLARADO TOTAL\n(Edificación + Contenido + Lucro Cesante)","Registro Válido VD","Observaciones Adicionales"]
[null,null,1,"Jiron","NAZCA",548,{"$nulls":10},"PERU","LIMA","LIMA","JESUS MARIA",{"$f":"IF(Q14=\"\",\"\",(IF(Q14<>\"PERU\",\"No Aplica\", IF(Formato!$R14<>\"\",IFERROR(VLOOKUP(Q14&R14&S14&T14,Lista_Ubigeo!L:M,2,0),\" \"),\"\"))))","v":"150113"},{"$f":"IFERROR(IF(AND(BA14<>\"\",IFERROR(SEARCH(\"Otros Otros\",BA14,1),0)=0),ROUND(busquedalats(BA14),12),\"\"),\"No Aplica\")","v":{"v":-12.0705762,"d":"-12.07057620"}},{"$f":"IFERROR( IF(AND(BA14<>\"\",IFERROR(SEARCH(\"Otros Otros\",BA14,1),0)=0),ROUND(busquedalons(BA14),12),\"\"),\"No Aplica\")","v":{"v":-77.043711,"d":"-77.04371100"}},{"$f":"IF(COUNTA(Formato!$D14:$W14)>3,IF(Formato!$U14=\" \",0,1)+IF(Formato!$D14<>\"\",1,0)+IF(Formato!$Q14<>\"\",1,0)+IF(Formato!$R14<>\"\",1,0)+IF(Formato!$S14<>\"\",1,0)+IF(Formato!$T14<>\"\",1,0),\"\")","v":6},null,null,"3.0CA Porticos de concreto armado","No aplica",null,null,"Estatal","02 Oficina","PRODUCTOS FARMACÉUTICOS\\OFICINA",8411,{"$f":"IFERROR(VLOOKUP(AH14,Lista!H:I,2,0),\"\")","v":"Actividades De La Administración Pública En General"},{"$f":"IF(COUNTA(Formato!$Y14:$AI14)>2,IF(Formato!$Y14<>\"\",1,0)+IF(Formato!$AA14<>\"\",1,0)+IF(Formato!$AC14<>\"\",1,0)+IF(Formato!$AD14<>\"\",1,0)+IF(Formato!$AF14<>\"\",1,0)\n+IF(Formato!$AH14<>\"\",1,0)+IF(Formato!$AE14<>\"\",1,0)+IFERROR(VLOOKUP(Formato!$AA14&Formato!$AC14,Matriz_Pisos!U:V,2,0)+VLOOKUP(Formato!$AA14&Formato!$AD14,Matriz_Pisos!Z:AA,2,0)+VLOOKUP(Formato!$AA14&MID(Formato!$AF14,4,LEN(Formato!$AF14)-3),Matriz_Pisos!AD:AE,2,0),0),\"\")","v":4},null,null,{"$f":"SUM(Formato!$AK14:$AL14)","v":0},null,{"v":2451128.06,"d":"2,451,128.06"},null,{"v":1866.38,"d":"1,866.38"},{"v":98415.35,"d":"98,415.35"},null,{"$f":"SUM(Formato!$AN14:$AS14)","v":{"v":2551409.79,"d":"2,551,409.79"}},null,{"$f":"Formato!$AU14","v":0},{"$f":"AM14+AT14+Formato!$AV14","v":{"v":2551409.79,"d":"2,551,409.79"}},{"$f":"IF(AJ14=0,\"\",IF(AND(Formato!$AW14>0,Formato!$AW14>Formato!$AV14),1,-1))","v":1},null,null,{"$f":"IF(AND(Formato!$T14<>\"\",Formato!$R14<>\"\",Formato!$S14<>\"\",Formato!$Q14<>\"\"),TRIM(CONCATENATE(Formato!$E14,\" \",Formato!$F14,\" \",Formato!$L14,\" \",Formato!$M14,\" \",Formato!$N14,\" \",Formato!$O14,\" \",IF(Formato!$I14<>\"\",\"Mz \"&Formato!$I14,\"\"),\" \",IF(Formato!$J14<>\"\",\"Lote \"&Formato!$J14,\"\"),\" \",IF(Formato!$K14<>\"\",\"Km \"&Formato!$K14,\"\"),\" \",Formato!$T14,\" \",Formato!$S14,\" \",Formato!$R14,\" \",Formato!$Q14)),\"\")","v":"NAZCA 548 JESUS MARIA LIMA LIMA PERU"}]
[null,null,2,"Jiron","LLOQUE YUPANQUI",878,{"$nulls":10},"PERU","LIMA","LIMA","JESUS MARIA",{"$f":"IF(Q15=\"\",\"\",(IF(Q15<>\"PERU\",\"No Aplica\", IF(Formato!$R15<>\"\",IFERROR(VLOOKUP(Q15&R15&S15&T15,Lista_Ubigeo!L:M,2,0),\" \"),\"\"))))","v":"150113"},{"$f":"IFERROR(IF(AND(BA15<>\"\",IFERROR(SEARCH(\"Otros Otros\",BA15,1),0)=0),ROUND(busquedalats(BA15),12),\"\"),\"No Aplica\")","v":{"v":-12.0705949,"d":"-12.07059490"}},{"$f":"IFERROR( IF(AND(BA15<>\"\",IFERROR(SEARCH(\"Otros Otros\",BA15,1),0)=0),ROUND(busquedalons(BA15),12),\"\"),\"No Aplica\")","v":{"v":-77.0445845,"d":"-77.04458450"}},{"$f":"IF(COUNTA(Formato!$D15:$W15)>3,IF(Formato!$U15=\" \",0,1)+IF(Formato!$D15<>\"\",1,0)+IF(Formato!$Q15<>\"\",1,0)+IF(Formato!$R15<>\"\",1,0)+IF(Formato!$S15<>\"\",1,0)+IF(Formato!$T15<>\"\",1,0),\"\")","v":6},null,null,"3.0CA Porticos de concreto armado","No aplica",null,null,"Estatal","02 Oficina","PRODUCTOS FARMACÉUTICOS\\OFICINA",8411,{"$f":"IFERROR(VLOOKUP(AH15,Lista!H:I,2,0),\"\")","v":"Actividades De La Administración Pública En General"},{"$f":"IF(COUNTA(Formato!$Y15:$AI15)>2,IF(Formato!$Y15<>\"\",1,0)+IF(Formato!$AA15<>\"\",1,0)+IF(Formato!$AC15<>\"\",1,0)+IF(Formato!$AD15<>\"\",1,0)+IF(Formato!$AF15<>\"\",1,0)\n+IF(Formato!$AH15<>\"\",1,0)+IF(Formato!$AE15<>\"\",1,0)+IFERROR(VLOOKUP(Formato!$AA15&Formato!$AC15,Matriz_Pisos!U:V,2,0)+VLOOKUP(Formato!$AA15&Formato!$AD15,Matriz_Pisos!Z:AA,2,0)+VLOOKUP(Formato!$AA15&MID(Formato!$AF15,4,LEN(Formato!$AF15)-3),Matriz_Pisos!AD:AE,2,0),0),\"\")","v":4},null,null,{"$f":"SUM(Formato!$AK15:$AL15)","v":0},null,{"v":335339.75,"d":"335,339.75"},null,{"v":1455.66,"d":"1,455.66"},{"v":54634.35,"d":"54,634.35"},null,{"$f":"SUM(Formato!$AN15:$AS15)","v":{"v":391429.75999999995,"d":"391,429.76"}},null,{"$f":"Formato!$AU15","v":0},{"$f":"AM15+AT15+Formato!$AV15","v":{"v":391429.75999999995,"d":"391,429.76"}},{"$f":"IF(AJ15=0,\"\",IF(AND(Formato!$AW15>0,Formato!$AW15>Formato!$AV15),1,-1))","v":1},null,null,{"$f":"IF(AND(Formato!$T15<>\"\",Formato!$R15<>\"\",Formato!$S15<>\"\",Formato!$Q15<>\"\"),TRIM(CONCATENATE(Formato!$E15,\" \",Formato!$F15,\" \",Formato!$L15,\" \",Formato!$M15,\" \",Formato!$N15,\" \",Formato!$O15,\" \",IF(Formato!$I15<>\"\",\"Mz \"&Formato!$I15,\"\"),\" \",IF(Formato!$J15<>\"\",\"Lote \"&Formato!$J15,\"\"),\" \",IF(Formato!$K15<>\"\",\"Km \"&Formato!$K15,\"\"),\" \",Formato!$T15,\" \",Formato!$S15,\" \",Formato!$R15,\" \",Formato!$Q15)),\"\")","v":"LLOQUE YUPANQUI 878 JESUS MARIA LIMA LIMA PERU"}]
[null,null,3,"Avenida","INDEPENDENCIA",1837,{"$nulls":10},"PERU","LIMA","LIMA","EL AGUSTINO",{"$f":"IF(Q16=\"\",\"\",(IF(Q16<>\"PERU\",\"No Aplica\", IF(Formato!$R16<>\"\",IFERROR(VLOOKUP(Q16&R16&S16&T16,Lista_Ubigeo!L:M,2,0),\" \"),\"\"))))","v":"150111"},{"$f":"IFERROR(IF(AND(BA16<>\"\",IFERROR(SEARCH(\"Otros Otros\",BA16,1),0)=0),ROUND(busquedalats(BA16),12),\"\"),\"No Aplica\")","v":{"v":-12.0550927,"d":"-12.05509270"}},{"$f":"IFERROR( IF(AND(BA16<>\"\",IFERROR(SEARCH(\"Otros Otros\",BA16,1),0)=0),ROUND(busquedalons(BA16),12),\"\"),\"No Aplica\")","v":{"v":-77.0013608,"d":"-77.00136080"}},{"$f":"IF(COUNTA(Formato!$D16:$W16)>3,IF(Formato!$U16=\" \",0,1)+IF(Formato!$D16<>\"\",1,0)+IF(Formato!$Q16<>\"\",1,0)+IF(Formato!$R16<>\"\",1,0)+IF(Formato!$S16<>\"\",1,0)+IF(Formato!$T16<>\"\",1,0),\"\")","v":6},null,null,"3.0CA Porticos de concreto armado","No aplica",3,null,"Estatal","02 Oficina","PRODUCTOS FARMACÉUTICOS\\OFICINA",8411,{"$f":"IFERROR(VLOOKUP(AH16,Lista!H:I,2,0),\"\")","v":"Actividades De La Administración Pública En General"},{"$f":"IF(COUNTA(Formato!$Y16:$AI16)>2,IF(Formato!$Y16<>\"\",1,0)+IF(Formato!$AA16<>\"\",1,0)+IF(Formato!$AC16<>\"\",1,0)+IF(Formato!$AD16<>\"\",1,0)+IF(Formato!$AF16<>\"\",1,0)\n+IF(Formato!$AH16<>\"\",1,0)+IF(Formato!$AE16<>\"\",1,0)+IFERROR(VLOOKUP(Formato!$AA16&Formato!$AC16,Matriz_Pisos!U:V,2,0)+VLOOKUP(Formato!$AA16&Formato!$AD16,Matriz_Pisos!Z:AA,2,0)+VLOOKUP(Formato!$AA16&MID(Formato!$AF16,4,LEN(Formato!$AF16)-3),Matriz_Pisos!AD:AE,2,0),0),\"\")","v":5},{"v":375046.22,"d":"375,046.22"},null,{"$f":"SUM(Formato!$AK16:$AL16)","v":{"v":375046.22,"d":"375,046.22"}},{"v":218077.93,"d":"218,077.93"},{"v":58690.54,"d":"58,690.54"},{"v":10635.14,"d":"10,635.14"},{"v":1698.05,"d":"1,698.05"},{"v":38861.97,"d":"38,861.97"},null,{"$f":"SUM(Formato!$AN16:$AS16)","v":{"v":327963.63,"d":"327,963.63"}},null,{"$f":"Formato!$AU16","v":0},{"$f":"AM16+AT16+Formato!$AV16","v":{"v":703009.85,"d":"703,009.85"}},{"$f":"IF(AJ16=0,\"\",IF(AND(Formato!$AW16>0,Formato!$AW16>Formato!$AV16),1,-1))","v":1},null,null,{"$f":"IF(AND(Formato!$T16<>\"\",Formato!$R16<>\"\",Formato!$S16<>\"\",Formato!$Q16<>\"\"),TRIM(CONCATENATE(Formato!$E16,\" \",Formato!$F16,\" \",Formato!$L16,\" \",Formato!$M16,\" \",Formato!$N16,\" \",Formato!$O16,\" \",IF(Formato!$I16<>\"\",\"Mz \"&Formato!$I16,\"\"),\" \",IF(Formato!$J16<>\"\",\"Lote \"&Formato!$J16,\"\"),\" \",IF(Formato!$K16<>\"\",\"Km \"&Formato!$K16,\"\"),\" \",Formato!$T16,\" \",Formato!$S16,\" \",Formato!$R16,\" \",Formato!$Q16)),\"\")","v":"INDEPENDENCIA 1837 EL AGUSTINO LIMA LIMA PERU"}]
[null,null,4,"Calle","LOS EUCALIPTOS",null,"Interior",6,null,"B1",{"$nulls":5},"Sector Santa Genoveva","PERU","LIMA","LIMA","LURIN",{"$f":"IF(Q17=\"\",\"\",(IF(Q17<>\"PERU\",\"No Aplica\", IF(Formato!$R17<>\"\",IFERROR(VLOOKUP(Q17&R17&S17&T17,Lista_Ubigeo!L:M,2,0),\" \"),\"\"))))","v":"150119"},{"$f":"IFERROR(IF(AND(BA17<>\"\",IFERROR(SEARCH(\"Otros Otros\",BA17,1),0)=0),ROUND(busquedalats(BA17),12),\"\"),\"No Aplica\")","v":{"v":-12.2270405,"d":"-12.22704050"}},{"$f":"IFERROR( IF(AND(BA17<>\"\",IFERROR(SEARCH(\"Otros Otros\",BA17,1),0)=0),ROUND(busquedalons(BA17),12),\"\"),\"No Aplica\")","v":{"v":-76.8703032,"d":"-76.87030320"}},{"$f":"IF(COUNTA(Formato!$D17:$W17)>3,IF(Formato!$U17=\" \",0,1)+IF(Formato!$D17<>\"\",1,0)+IF(Formato!$Q17<>\"\",1,0)+IF(Formato!$R17<>\"\",1,0)+IF(Formato!$S17<>\"\",1,0)+IF(Formato!$T17<>\"\",1,0),\"\")","v":6},null,null,"3.0CA Porticos de concreto armado","No aplica",null,null,"Estatal","07 Nave Industrial O Grandes Almacenes","PRODUCTOS FARMACÉUTICOS\\OFICINA",8411,{"$f":"IFERROR(VLOOKUP(AH17,Lista!H:I,2,0),\"\")","v":"Actividades De La Administración Pública En General"},{"$f":"IF(COUNTA(Formato!$Y17:$AI17)>2,IF(Formato!$Y17<>\"\",1,0)+IF(Formato!$AA17<>\"\",1,0)+IF(Formato!$AC17<>\"\",1,0)+IF(Formato!$AD17<>\"\",1,0)+IF(Formato!$AF17<>\"\",1,0)\n+IF(Formato!$AH17<>\"\",1,0)+IF(Formato!$AE17<>\"\",1,0)+IFERROR(VLOOKUP(Formato!$AA17&Formato!$AC17,Matriz_Pisos!U:V,2,0)+VLOOKUP(Formato!$AA17&Formato!$AD17,Matriz_Pisos!Z:AA,2,0)+VLOOKUP(Formato!$AA17&MID(Formato!$AF17,4,LEN(Formato!$AF17)-3),Matriz_Pisos!AD:AE,2,0),0),\"\")","v":4},null,null,{"$f":"SUM(Formato!$AK17:$AL17)","v":0},{"v":51159240.29,"d":"51,159,240.29"},{"v":186161.2,"d":"186,161.20"},{"v":111709.9,"d":"111,709.90"},{"v":14012.43,"d":"14,012.43"},{"v":21143.2,"d":"21,143.20"},null,{"$f":"SUM(Formato!$AN17:$AS17)","v":{"v":51492267.02,"d":"51,492,267.02"}},null,{"$f":"Formato!$AU17","v":0},{"$f":"AM17+AT17+Formato!$AV17","v":{"v":51492267.02,"d":"51,492,267.02"}},{"$f":"IF(AJ17=0,\"\",IF(AND(Formato!$AW17>0,Formato!$AW17>Formato!$AV17),1,-1))","v":1},null,null,{"$f":"IF(AND(Formato!$T17<>\"\",Formato!$R17<>\"\",Formato!$S17<>\"\",Formato!$Q17<>\"\"),TRIM(CONCATENATE(Formato!$E17,\" \",Formato!$F17,\" \",Formato!$L17,\" \",Formato!$M17,\" \",Formato!$N17,\" \",Formato!$O17,\" \",IF(Formato!$I17<>\"\",\"Mz \"&Formato!$I17,\"\"),\" \",IF(Formato!$J17<>\"\",\"Lote \"&Formato!$J17,\"\"),\" \",IF(Formato!$K17<>\"\",\"Km \"&Formato!$K17,\"\"),\" \",Formato!$T17,\" \",Formato!$S17,\" \",Formato!$R17,\" \",Formato!$Q17)),\"\")","v":"LOS EUCALIPTOS Lote B1 LURIN LIMA LIMA PERU"}]
[null,null,5,"Jiron","QUILCA",630,{"$nulls":10},"PERU","CALLAO","CALLAO","CALLAO",{"$f":"IF(Q18=\"\",\"\",(IF(Q18<>\"PERU\",\"No Aplica\", IF(Formato!$R18<>\"\",IFERROR(VLOOKUP(Q18&R18&S18&T18,Lista_Ubigeo!L:M,2,0),\" \"),\"\"))))","v":"070101"},{"$f":"IFERROR(IF(AND(BA18<>\"\",IFERROR(SEARCH(\"Otros Otros\",BA18,1),0)=0),ROUND(busquedalats(BA18),12),\"\"),\"No Aplica\")","v":{"v":-12.0312345,"d":"-12.03123450"}},{"$f":"IFERROR( IF(AND(BA18<>\"\",IFERROR(SEARCH(\"Otros Otros\",BA18,1),0)=0),ROUND(busquedalons(BA18),12),\"\"),\"No Aplica\")","v":{"v":-77.0953483,"d":"-77.09534830"}},{"$f":"IF(COUNTA(Formato!$D18:$W18)>3,IF(Formato!$U18=\" \",0,1)+IF(Formato!$D18<>\"\",1,0)+IF(Formato!$Q18<>\"\",1,0)+IF(Formato!$R18<>\"\",1,0)+IF(Formato!$S18<>\"\",1,0)+IF(Formato!$T18<>\"\",1,0),\"\")","v":6},null,null,"3.0CA Porticos de concreto armado","No aplica",null,null,"Estatal","02 Oficina","PRODUCTOS FARMACÉUTICOS\\OFICINA",8411,{"$f":"IFERROR(VLOOKUP(AH18,Lista!H:I,2,0),\"\")","v":"Actividades De La Administración Pública En General"},{"$f":"IF(COUNTA(Formato!$Y18:$AI18)>2,IF(Formato!$Y18<>\"\",1,0)+IF(Formato!$AA18<>\"\",1,0)+IF(Formato!$AC18<>\"\",1,0)+IF(Formato!$AD18<>\"\",1,0)+IF(Formato!$AF18<>\"\",1,0)\n+IF(Formato!$AH18<>\"\",1,0)+IF(Formato!$AE18<>\"\",1,0)+IFERROR(VLOOKUP(Formato!$AA18&Formato!$AC18,Matriz_Pisos!U:V,2,0)+VLOOKUP(Formato!$AA18&Formato!$AD18,Matriz_Pisos!Z:AA,2,0)+VLOOKUP(Formato!$AA18&MID(Formato!$AF18,4,LEN(Formato!$AF18)-3),Matriz_Pisos!AD:AE,2,0),0),\"\")","v":4},null,null,{"$f":"SUM(Formato!$AK18:$AL18)","v":0},{"v":46236230.26,"d":"46,236,230.26"},{"v":728793.45,"d":"728,793.45"},{"v":77595.98,"d":"77,595.98"},{"v":9451.66,"d":"9,451.66"},{"v":16000.35,"d":"16,000.35"},null,{"$f":"SUM(Formato!$AN18:$AS18)","v":{"v":47068071.699999996,"d":"47,068,071.70"}},null,{"$f":"Formato!$AU18","v":0},{"$f":"AM18+AT18+Formato!$AV18","v":{"v":47068071.699999996,"d":"47,068,071.70"}},{"$f":"IF(AJ18=0,\"\",IF(AND(Formato!$AW18>0,Formato!$AW18>Formato!$AV18),1,-1))","v":1},null,null,{"$f":"IF(AND(Formato!$T18<>\"\",Formato!$R18<>\"\",Formato!$S18<>\"\",Formato!$Q18<>\"\"),TRIM(CONCATENATE(Formato!$E18,\" \",Formato!$F18,\" \",Formato!$L18,\" \",Formato!$M18,\" \",Formato!$N18,\" \",Formato!$O18,\" \",IF(Formato!$I18<>\"\",\"Mz \"&Formato!$I18,\"\"),\" \",IF(Formato!$J18<>\"\",\"Lote \"&Formato!$J18,\"\"),\" \",IF(Formato!$K18<>\"\",\"Km \"&Formato!$K18,\"\"),\" \",Formato!$T18,\" \",Formato!$S18,\" \",Formato!$R18,\" \",Formato!$Q18)),\"\")","v":"QUILCA 630 CALLAO CALLAO CALLAO PERU"}]
[null,null,6,"Jiron","PACHACUTEC ESQUINA CON AV. TALARA",900,{"$nulls":10},"PERU","LIMA","LIMA","JESUS MARIA",{"$f":"IF(Q19=\"\",\"\",(IF(Q19<>\"PERU\",\"No Aplica\", IF(Formato!$R19<>\"\",IFERROR(VLOOKUP(Q19&R19&S19&T19,Lista_Ubigeo!L:M,2,0),\" \"),\"\"))))","v":"150113"},{"$f":"IFERROR(IF(AND(BA19<>\"\",IFERROR(SEARCH(\"Otros Otros\",BA19,1),0)=0),ROUND(busquedalats(BA19),12),\"\"),\"No Aplica\")","v":-12.07185585},{"$f":"IFERROR( IF(AND(BA19<>\"\",IFERROR(SEARCH(\"Otros Otros\",BA19,1),0)=0),ROUND(busquedalons(BA19),12),\"\"),\"No Aplica\")","v":{"v":-77.0428217,"d":"-77.04282170"}},{"$f":"IF(COUNTA(Formato!$D19:$W19)>3,IF(Formato!$U19=\" \",0,1)+IF(Formato!$D19<>\"\",1,0)+IF(Formato!$Q19<>\"\",1,0)+IF(Formato!$R19<>\"\",1,0)+IF(Formato!$S19<>\"\",1,0)+IF(Formato!$T19<>\"\",1,0),\"\")","v":6},null,null,"3.0CA Porticos de concreto armado","No aplica",null,null,"Estatal","02 Oficina","PRODUCTOS FARMACÉUTICOS\\OFICINA",8411,{"$f":"IFERROR(VLOOKUP(AH19,Lista!H:I,2,0),\"\")","v":"Actividades De La Administración Pública En General"},{"$f":"IF(COUNTA(Formato!$Y19:$AI19)>2,IF(Formato!$Y19<>\"\",1,0)+IF(Formato!$AA19<>\"\",1,0)+IF(Formato!$AC19<>\"\",1,0)+IF(Formato!$AD19<>\"\",1,0)+IF(Formato!$AF19<>\"\",1,0)\n+IF(Formato!$AH19<>\"\",1,0)+IF(Formato!$AE19<>\"\",1,0)+IFERROR(VLOOKUP(Formato!$AA19&Formato!$AC19,Matriz_Pisos!U:V,2,0)+VLOOKUP(Formato!$AA19&Formato!$AD19,Matriz_Pisos!Z:AA,2,0)+VLOOKUP(Formato!$AA19&MID(Formato!$AF19,4,LEN(Formato!$AF19)-3),Matriz_Pisos!AD:AE,2,0),0),\"\")","v":4},null,null,{"$f":"SUM(Formato!$AK19:$AL19)","v":0},null,{"v":279861.27,"d":"279,861.27"},null,98.11,{"v":28542.42,"d":"28,542.42"},null,{"$f":"SUM(Formato!$AN19:$AS19)","v":{"v":308501.8,"d":"308,501.80"}},null,{"$f":"Formato!$AU19","v":0},{"$f":"AM19+AT19+Formato!$AV19","v":{"v":308501.8,"d":"308,501.80"}},{"$f":"IF(AJ19=0,\"\",IF(AND(Formato!$AW19>0,Formato!$AW19>Formato!$AV19),1,-1))","v":1},null,null,{"$f":"IF(AND(Formato!$T19<>\"\",Formato!$R19<>\"\",Formato!$S19<>\"\",Formato!$Q19<>\"\"),TRIM(CONCATENATE(Formato!$E19,\" \",Formato!$F19,\" \",Formato!$L19,\" \",Formato!$M19,\" \",Formato!$N19,\" \",Formato!$O19,\" \",IF(Formato!$I19<>\"\",\"Mz \"&Formato!$I19,\"\"),\" \",IF(Formato!$J19<>\"\",\"Lote \"&Formato!$J19,\"\"),\" \",IF(Formato!$K19<>\"\",\"Km \"&Formato!$K19,\"\"),\" \",Formato!$T19,\" \",Formato!$S19,\" \",Formato!$R19,\" \",Formato!$Q19)),\"\")","v":"PACHACUTEC ESQUINA CON AV. TALARA 900 JESUS MARIA LIMA LIMA PERU"}]

{"sheet":"Glosario","index":1,"n_rows":51,"n_cols":7,"rows_kept":51,"merged":[[2,1,22,1],[23,1,34,1],[35,1,49,1]]}
[]
[null,"Sección ","Nombre de Campo","#","Tipo de Campo","Llenado de Campo","Descripción de campo"]
[null,"Dirección de riesgo","Tipo de calle/vía",1,"Obligatorio","Elegir opciones del desglosable","Elegir el tipo de calle/vía en el desglosable de opciones, si no tuviera un tipo de calle/vía marcar \"sin tipo\" y completar los demás campos de dirección."]
[null,null,"Nombre de calle/vía",2,"Obligatorio","Alfanumérico (digitación)","Escribir el nombre del tipo de calle/vía elegido, si no tuviera un tipo de calle/vía escribir el nombre de la zona referencial y completar los demás campos de dirección de tener la información."]
[null,null,"Número",3,"Opcional","Numérico (digitación)","Escribir el número de calle/vía elegido. Si no tuviera, dejar en blanco."]
[null,null,"Tipo Interior",4,"Opcional","Elegir opciones del desglosable","Elegir un tipo de interior en el desglosable de opciones, de no tenerlo puede quedar en blanco."]
[null,null,"Interior",5,"Opcional","Alfanumérico (digitación)","Si se eligió un tipo de interior, escribir el tipo o número de interior que corresponda. Puede quedar en blanco si no se eligió algún tipo de interior."]
[null,null,"Mz",6,"Opcional","Alfanumérico (digitación)","Escribir el número/letra de la manzana de la dirección, de no tenerlo puede quedar en blanco."]
[null,null,"Lote",7,"Opcional","Alfanumérico (digitación)","Escribir el número/letra del lote de la dirección, de no tenerlo puede quedar en blanco."]
[null,null,"KM",8,"Opcional","Numérico (digitación)","Escribir el número del kilómetro de la dirección, de no tenerlo puede quedar en blanco."]
[null,null,"Tipo Conjunto Habitacional",9,"Opcional","Elegir opciones del desglosable","Elegir un tipo de conjunto habitacional en el desglosable de opciones, de no tenerlo puede quedar en blanco."]
[null,null,"Nombre del Conjunto Habitacional",10,"Opcional","Alfanumérico (digitación)","Si se eligió un tipo de conjunto habitacional, escribir el nombre que corresponda. Puede quedar en blanco si no se eligió algún tipo de conjunto habitacional."]
[null,null,"Subdivisión del Conjunto Habitacional",11,"Opcional","Elegir opciones del desglosable","Elegir un tipo de subdivisión de conjunto habitacional en el desglosable de opciones, de no tenerlo puede quedar en blanco."]
[null,null,"Nombre de Subdivisión del Conjunto Habitacional",12,"Opcional","Alfanumérico (digitación)","Si se eligió un tipo de subdivisión de conjunto habitacional, escribir el nombre de la subdivisión que corresponda. Puede quedar en blanco si no se eligió algún tipo de subdivisión."]
[null,null,"Referencia",13,"Opcional","Alfanumérico (digitación)","Escribir una referencia para llegar a la dirección indicada. De no tener una referencia puede quedar en blanco."]
[null,null,"País",14,"Obligatorio","Elegir opciones del desglosable","Elegir el país de la dirección. Perú aparecerá como primera opción."]
[null,null,"Departamento",15,"Obligatorio","Elegir opciones del desglosable","Elegir el departamento del Perú donde se ubica dirección según el desglosable de opciones. Si se eligió un país diferente a Perú, el campo se autocompletará con \"No aplica\"."]
[null,null,"Provincia",16,"Obligatorio","Elegir opciones del desglosable","Elegir la provincia del departamento elegido, donde se ubica dirección registrada, según el desglosable de opciones. Si se eligió un país diferente a Perú, el campo se autocompletará con \"No aplica\"."]
[null,null,"Distrito",17,"Obligatorio","Elegir opciones del desglosable","Elegir el distrito de la provincia elegida, donde se ubica dirección registrada, según el desglosable de opciones. Si se eligió un país diferente a Perú, el campo se autocompletará con \"No aplica\"."]
[null,null,"Ubigeo",18,"-","No editable","Este campo se autocompleta una vez se selecciona el país / departamento / provincia / distrito de la dirección. Si se marca en rojo deben corregirse los campos antes mencionados. Si se eligió un país diferente a Perú, el campo se autocompletará con \"No aplica\"."]
[null,null,"Latitud (x)",19,"-","No editable","Este campo se autocompleta una vez ingresada la dirección / país: Perú / departamento / provincia / distrito de la ubicación declarada. Es un número negativo (inicia con el signo menos \"-\") entre 0 y -20 según mapa Perú. Si se eligió un país diferente a Perú, el campo se autocompletará con \"No aplica\"."]
[null,null,"Longitud (y)",20,"-","No editable","Este campo se autocompleta una vez ingresada la dirección / país: Perú / departamento / provincia / distrito de la ubicación declarada. Es un número negativo (inicia con el signo menos \"-\") entre 0 y -20 según mapa Perú. Si se eligió un país diferente a Perú, el campo se autocompletará con \"No aplica\"."]
[null,null,"Registro Válido",21,"-","No editable","Mostrará un check (✓) verde al haber completado  y al ser consistente la información de la primera sección: \"Detalle de dirección de riesgo\", caso contrario mostrará una equis (X) y debe ser revisada."]
[null,"Características del Inmueble asegurado","Año de construcción de la edificación",22,"Obligatorio","Numérico (digitación)","Digitar el año de construcción del inmueble con cuatro dígitos \"xxxx\" desde 1500 a la fecha."]
[null,null,"Año de reforzamiento estructural",23,"Opcional","Numérico (digitación)","Digitar el año de reforzamiento estructural del inmueble en cuatro dígitos \"xxxx\" y remitir una copia del informe a la aseguradora."]
[null,null,"Tipo de material de construcción predominante (TEP)",24,"Obligatorio","Elegir opciones del desglosable","Elegir el tipo de material predominante de la construcción del inmueble, elegir solo uno. Revisar la Tabla Material de construcción para un buen llenado.\nSi corresponde a una estructura especial, seleccionar la opción 12 y luego especificar tipo de estructura en el campo N°24 del glosario)"]
[null,null,"Tipo de Estructura Especial (TEE)",25,"Obligatorio","Elegir opciones del desglosable","Seleccionar el tipo de estructura especial del desglosable de opciones siempre y cuando se haya marcado la opción 12.0EE como material de construcción predominante. De no se el caso, este campo se autocompletará con \"No aplica\"."]
[null,null,"Número de pisos de la edificación",26,"Obligatorio","Elegir opciones del desglosable","Elegir el número de pisos total de la edificación del inmueble en las opciones del desglosable. Las opciones disponibles varían según el material de construcción predominante."]
[null,null,"Número de sótanos de la edificación",27,"Obligatorio","Elegir opciones del desglosable","Elegir el número de sótanos total de la edificación del inmueble en las opciones del desglosable. Las opciones disponibles varían según el material de construcción predominante."]
[null,null,"Tipo de bien asegurado",28,"Obligatorio","Elegir opciones del desglosable","Elegir el tipo de propiedad del inmueble, si es de propiedad pública o privada (dos opciones)."]
[null,null,"Tipo de uso\n(USO)",29,"Obligatorio","Elegir opciones del desglosable","Elegir el tipo de uso que mejor se adapte al uso del inmueble entre las opciones del desglosable."]
[null,null,"Giro del inmueble",30,"Obligatorio","Elegir opciones del desglosable","Seleccionar el giro de inmueble que mejor se adapte, las opciones varían según el tipo de uso seleccionado en el campo N°28 del glosario."]
[null,null,"Cód. CIIU",31,"Obligatorio","Elegir opciones del desglosable","Digitar o elegir entre las opciones del desglosable el código CIIU del inmueble declarado. Para saber cual es el código a elegir, revisar la tabla CIIU con el detalle de las actividades económicas SUNAT."]
[null,null,"Descripción CIIU",32,"-","No editable","Este campo se autocompleta una vez se selecciona el código CIIU."]
[null,null,"Registro Válido",33,"-","No editable","Mostrará un check (✓) verde al haber completado  y al ser consistente la información de la segunda sección: \"Características del Inmueble asegurado\", caso contrario mostrará una equis (X) y debe ser revisada."]
[null,"Valores Declarados","Edificación\n(excluyendo el valor del terreno)",34,"Obligatorio","Numérico (digitación)","Digitar el valor declarado de la edificación, de no asegurar edificación dejar en blanco."]
[null,null,"Seleccionar otro valor de edificación (opcional)",35,"Opcional \n(oculto)","Numérico (digitación)","Campo disponible para ingresar mayor detalle del valor de edificación solo de ser necesario. Se activa con el (+) en la parte superior de la columna de edificación. No activarlo de no ser necesario e ingresar toda la información de edificación en el campo N°33 del glosario."]
[null,null,"Total Edificación",36,"-","No editable","Se autocompleta con el campo N° 33  + 34 (Valor edificación + \"otro valor edificación\" de ser el caso)."]
[null,null,"Existencias",37,"Opcional","Numérico (digitación)","Digitar el valor declarado de las existencias. De no asegurar existencias dejar en blanco."]
[null,null,"Equipos Electrónicos",38,"Opcional","Numérico (digitación)","Digitar el valor declarado de equipos electrónicos. De no asegurar equipos electrónicos dejar en blanco."]
[null,null,"Maquinaria Fija",39,"Opcional","Numérico (digitación)","Digitar el valor declarado de la maquinaria fija. De no asegurar maquinaria fija dejar en blanco."]
[null,null,"Maquinaria móvil y equipos",40,"Opcional","Numérico (digitación)","Digitar el valor declarado de la maquinaria móvil y equipos. De no asegurar maquinaria móvil y equipos dejar en blanco."]
[null,null,"Contenido en general",41,"Opcional","Numérico (digitación)","Digitar el valor declarado de contenido el general. De no asegurar contenido en general dejar en blanco."]
[null,null,"Seleccionar otro valor de contenido (opcional)",42,"Opcional \n(oculto)","Numérico (digitación)","Campo disponible para ingresar mayor detalle del valor de contenido solo de ser necesario. Se activa con el (+) en la parte superior de la columna de edificación. No activarlo de no ser necesario e ingresar toda la información de edificación en el campo N°33 del glosario."]
[null,null,"Total Contenido",43,"-","No editable","Se autocompleta Con la suma de los campos N° 36 + 37 + 38 + 39 + 40 +41 (Existencias + equipo electrónico + Maquinaria fija + maquinaria móvil y equipos + contenido en general + \"otro valor contenido\" de ser el caso )"]
[null,null,"Gastos estables / beneficio bruto",44,"Opcional","Numérico (digitación)","Digitar el valor declarado de Lucro Cesante. Se puede elegir entre \"gastos estables\" o \"beneficio bruto\" en título de la columna (desglosable de opciones)."]
[null,null,"Periodo correspondiente al valor declarado de lucro al final",45,null,"Elegir opciones del desglosable.","Seleccionar el periodo al que corresponde el valor declarado de lucro cesante, puede ser 12, 18 o 24 meses según sea el caso."]
[null,null,"Total Lucro Cesante",46,"-","No editable","Se autocompleta con el campo N° 43 (Lucro Cesante)."]
[null,null,"VALOR DECLARADO TOTAL\n(Edificación + Contenido + Lucro Cesante)",47,"-","No editable","Se autocompleta Con la suma de los campos N° 35 + 42 + 44 (Total Edificación + Total Contenido + Total Lucro Cesante)"]
[null,null,"Registro Válido VD",48,"-","No editable","Mostrará un check (✓) verde al haber completado  y al ser consistente la información de la tercera sección: \"Detalle de dirección de riesgo\", caso contrario mostrará una equis (X) y debe ser revisada."]
[null,null,"Observaciones adicionales",49,"Opcional","Alfanumérico (digitación)","Campo disponible para ingresar información adicional relevante de la ubicación (Por ejemplo: Nombre de empresa, sucursal, etc.)."]

{"sheet":"Ayuda CIIU","index":2,"n_rows":421,"n_cols":3,"rows_kept":421,"merged":[[1,1,1,2]]}
[]
[null,"TABLA DE ACTIVIDADES ECONOMICAS CON LA CIIU REV. 4.0"]
[]
[null,"CIIU Rev.4","DESCRIPCION"]
[null,111,"CULTIVO DE CEREALES (EXCEPTO ARROZ), LEGUMBRES Y SEMILLAS OLEAGINOSAS"]
[null,112,"CULTIVO DE ARROZ"]
[null,113,"CULTIVO DE HORTALIZAS Y MELONES, RAÍCES Y TUBÉRCULOS."]
[null,114,"CULTIVO DE CAÑA DE AZÚCAR"]
[null,115,"CULTIVO DE TABACO"]
[null,116,"CULTIVO DE PLANTAS DE FIBRA"]
[null,119,"CULTIVO DE OTRAS PLANTAS NO PERENNES"]
[null,121,"CULTIVO DE UVA"]
[null,122,"CULTIVO DE FRUTAS TROPICALES Y SUBTROPICALES"]
[null,123,"CULTIVO DE  CÍTRICOS"]
[null,124,"CULTIVO DE FRUTAS DE PEPITA Y DE HUESO"]
[null,125,"CULTIVO DE OTROS FRUTOS Y NUECES DE ÁRBOLES Y ARBUSTOS "]
[null,126,"CULTIVO DE FRUTOS OLEAGINOSOS"]
[null,127,"CULTIVO DE PLANTAS CON LAS QUE SE PREPARAN BEBIDAS"]
[null,128,"CULTIVO DE ESPECIAS Y DE PLANTAS AROMÁTICAS, MEDICINALES Y FARMACEUTICAS"]
[null,129,"CULTIVO DE OTRAS PLANTAS NO PERENNES"]
[null,130,"PROPAGACIÓN DE PLANTAS"]
[null,141,"CRÍA DE GANADO BOVINO Y BÚFALOS"]
[null,142,"CRÍA DE CABALLOS Y OTROS EQUINOS"]
[null,143,"CRÍA DE CAMELLOS Y OTROS CAMÉLIDOS"]
[null,144,"CRÍA DE OVEJAS Y CABRAS"]
[null,145,"CRÍA DE CERDOS"]
[null,146,"CRÍA DE AVES DE CORRAL"]
[null,149,"CRÍA DE OTROS ANIMALES"]
[null,150,"CULTIVO DE PRODUCTOS AGRÌCOLAS EN COMBINACIÒN CON LA CRÌA DE ANIMALES"]
[null,161,"ACTIVIDADES DE APOYO A LA AGRICULTURA"]
[null,162,"ACTIVIDADES DE APOYO A LA GANADERÍA"]
[null,163,"ACTIVIDADES POSCOSECHA"]
[null,164,"TRATAMIENTO DE SEMILLAS PARA PROPAGACIÓN"]
[null,170,"CAZA ORDINARIA Y MEDIANTE TRAMPAS Y ACTIVIDADES DE SERVICIOS CONEXAS"]
[null,210,"SILVICULTURA Y OTRAS ACTIVIDADES FORESTALES"]
[null,220,"EXTRACCIÓN DE MADERA"]
[null,230,"RECOLECCIÓN DE PRODUCTOS FORESTALES DISTINTOS DE LA MADERA"]
[null,240,"SERVICIOS DE APOYO A LA SILVICULTURA"]
[null,311,"PESCA MARÍTIMA"]
[null,312,"PESCA DE AGUA DULCE"]
[null,321,"ACUICULTURA MARÍTIMA"]
[null,322,"ACUICULTURA DE AGUA DULCE"]
[null,510,"EXTRACCIÓN DE CARBÓN DE PIEDRA"]
[null,520,"EXTRACCIÓN DE LIGNITO"]
[null,610,"EXTRACCIÓN DE PETRÓLEO CRUDO"]
[null,620,"EXTRACCIÓN DE GAS NATURAL"]
[null,710,"EXTRACCIÓN DE MINERALES DE HIERRO"]
[null,721,"EXTRACCIÓN DE MINERALES DE URANIO Y TORIO"]
[null,729,"EXTRACCIÓN DE OTROS MINERALES METALÍFEROS NO FERROSOS"]
[null,810,"EXTRACCIÓN DE PIEDRA, ARENA Y ARCILLA"]
[null,891,"EXTRACCIÓN DE MINERALES PARA LA FABRICACIÓN DE ABONOS Y PRODUCTOS QUÍMICOS"]
[null,892,"EXTRACCIÓN DE TURBA"]
[null,893,"EXTRACCIÓN DE SAL"]
[null,899,"EXPLOTACIÓN DE OTRAS MINAS Y CANTERAS N.C.P."]
[null,910,"ACTIVIDADES DE APOYO PARA LA EXTRACCIÓN DE PETRÓLEO Y GAS NATURAL"]
[null,990,"ACTIVIDADES DE APOYO PARA OTRAS ACTIVIDADES DE EXPLOTACIÓN DE MINAS Y CANTERAS"]
[null,1010,"ELABORACIÒN Y CONSERVACIÓN DE CARNE"]
[null,1020,"ELABORACIÒN Y CONSERVACIÓN DE PESCADOS, CRUSTÁCEOS Y MOLUSCOS"]
[null,1030,"ELABORACIÒN Y CONSERVACIÓN DE FRUTAS,LEGUMBRES Y HORTALIZAS"]
[null,1040,"ELABORACIÓN DE ACEITES Y GRASAS DE ORIGEN VEGETAL Y ANIMAL"]
[null,1050,"ELABORACIÓN DE PRODUCTOS LÁCTEOS"]
[null,1061,"ELABORACIÓN DE PRODUCTOS DE MOLINERÍA."]
[null,1062,"ELABORACIÓN DE ALMIDONES Y PRODUCTOS DERIVADOS DEL ALMIDÓN."]
[null,1071,"ELABORACIÓN DE PRODUCTOS DE PANADERÍA"]
[null,1072,"ELABORACIÓN DE AZÚCAR"]
[null,1073,"ELABORACIÓN DE CACAO Y CHOCOLATE Y DE PRODUCTOS DE CONFITERÍA"]
[null,1074,"ELABORACIÓN DE MACARRONES, FIDEOS, ALCUZCUS Y PRODUCTOS FARINÁCEOS SIMILARES"]
[null,1075,"ELABORACIÓN DE COMIDAS Y PLATOS PREPARADOS"]
[null,1079,"ELABORACIÓN DE OTROS PRODUCTOS ALIMENTICIOS N.C.P."]
[null,1080,"ELABORACIÓN DE PIENSOS PREPARADOS PARA ANIMALES"]
[null,1101,"DESTILACIÓN, RECTIFICACIÓN Y MEZCLA DE BEBIDAS ALCOHÓLICAS"]
[null,1102,"ELABORACIÓN DE VINOS"]
[null,1103,"ELABORACIÓN DE BEBIDAS MALTEADAS Y DE MALTA"]
[null,1104,"ELABORACIÓN DE BEBIDAS NO ALCOHÓLICAS; PRODUCCIÓN DE AGUAS MINERALES Y OTRAS AGUAS EMBOTELLADAS"]
[null,1200,"ELABORACIÓN DE PRODUCTOS DE TABACO"]
[null,1311,"PREPARACIÓN E HILATURA DE FIBRAS TEXTILES"]
[null,1312,"TEJEDURA DE PRODUCTOS TEXTILES"]
[null,1313,"ACABADO DE PRODUCTOS TEXTILES"]
[null,1391,"FABRICACIÓN DE TEJIDOS DE PUNTO Y GANCHILLO"]
[null,1392,"FABRICACIÓN DE ARTÍCULOS CONFECCIONADOS DE MATERIALES TEXTILES, EXCEPTO PRENDAS DE VESTIR"]
[null,1393,"FABRICACIÓN DE TAPICES Y ALFOMBRAS"]
[null,1394,"FABRICACIÓN DE CUERDAS, CORDELES, BRAMANTES Y REDES"]
[null,1399,"FABRICACIÓN DE OTROS PRODUCTOS TEXTILES N.C.P."]
[null,1410,"FABRICACIÓN DE PRENDAS DE VESTIR, EXCEPTO PRENDAS DE PIEL"]
[null,1420,"FABRICACIÓN DE ARTÍCULOS DE PIEL"]
[null,1430,"FABRICACIÓN DE ARTICULOS DE PUNTO Y GANCHILLO"]
[null,1511,"CURTIDO Y ADOBO DE CUEROS; ADOBO Y TEÑIDO DE PIELES"]
[null,1512,"FABRICACIÓN DE MALETAS, BOLSOS DE MANO, Y ARTÍCULOS SIMILARES,Y DE ARTICULOS DE TALABARTERÍA Y GUARNICIONERÍA"]
[null,1520,"FABRICACIÓN DE CALZADO"]
[null,1610,"ASERRADOS Y ACEPILLADURA DE MADERA"]
[null,1621,"FABRICACIÓN DE HOJAS DE MADERA PARA ENCHAPADO Y TABLEROS A BASE DE MADERA"]
[null,1622,"FABRICACIÓN DE PARTES Y PIEZAS DE CARPINTERÍA PARA EDIFICIOS Y CONSTRUCCIONES"]
[null,1623,"FABRICACIÓN DE RECIPIENTES DE MADERA"]
[null,1629,"FABRICACIÓN DE OTROS PRODUCTOS DE MADERA; FABRICACIÓN DE ARTÍCULOS DE CORCHO, PAJA Y MATERIALES TRENZABLES."]
[null,1701,"FABRICACIÓN DE PASTA DE MADERA, PAPEL Y CARTÓN"]
[null,1702,"FABRICACIÓN DEL PAPEL Y CARTÓN ONDULADO Y DE ENVASES DE PAPEL Y CARTÓN"]
[null,1709,"FABRICACIÓN DE OTROS ARTÍCULOS DEL PAPEL Y CARTÓN"]
[null,1811,"IMPRESIÓN"]
[null,1812,"ACTIVIDADES DE SERVICIOS RELACIONADAS CON LA IMPRESIÓN"]
[null,1820,"REPRODUCCIÓN DE GRABACIONES"]
[null,1910,"FABRICACIÓN DE PRODUCTOS DE HORNOS DE COQUE"]
[null,1920,"FABRICACIÓN DE PRODUCTOS DE LA REFINACIÓN DEL PETRÓLEO"]
[null,2011,"FABRICACIÓN DE SUSTANCIAS QUÍMICAS BÁSICAS"]
[null,2012,"FABRICACIÓN ABONOS Y COMPUESTOS DE NITRÓGENO"]
[null,2013,"FABRICACIÓN DE PLÁSTICOS Y DE CAUCHO SINTÉTICO EN FORMAS PRIMARIAS"]
[null,2021,"FABRICACIÓN DE PLAGUICIDAS Y OTROS PRODUCTOS QUÍMICOS DE USO AGROPECUARIO"]
[null,2022,"FABRICACIÓN DE PINTURAS, BARNICES Y PRODUCTOS DE REVESTIMIENTO SIMILARES, TINTAS DE IMPRENTA Y MASILLAS"]
[null,2023,"FABRICACIÓN DE JABONES Y DETERGENTES, PREPARADOS PARA LIMPIAR Y PULIR, PERFUMES Y PREPARADOS DE TOCADOR."]
[null,2029,"FABRICACIÓN DE OTROS PRODUCTOS QUÍMICOS N.C.P."]
[null,2030,"FABRICACIÓN DE FIBRAS ARTIFICIALES"]
[null,2100,"FABRICACIÓN DE PRODUCTOS FARMACÉUTICOS, SUSTANCIAS QUÍMICAS MEDICINALES Y PRODUCTOS BOTÁNICOS DE USO FARMACÉUTICO"]
[null,2211,"FABRICACIÓN DE CUBIERTAS Y CÁMARAS DE CAUCHO; RECAUCHUTADO Y RENOVACIÓN DE CUBIERTAS DE CAUCHO"]
[null,2219,"FABRICACIÓN DE OTROS PRODUCTOS DE CAUCHO"]
[null,2220,"FABRICACIÓN DE PRODUCTOS DE PLÁSTICO"]
[null,2310,"FABRICACIÓN DE VIDRIO Y DE PRODUCTOS DE VIDRIO"]
[null,2391,"FABRICACIÓN DE PRODUCTOS REFRACTARIOS"]
[null,2392,"FABRICACIÓN DE MATERIALES DE CONSTRUCCIÓN DE ARCILLA"]
[null,2393,"FABRICACIÓN DE OTROS PRODUCTOS DE PORCELANA Y DE CERÁMICA"]
[null,2394,"FABRICACIÓN DE CEMENTO, CAL Y YESO"]
[null,2395,"FABRICACIÓN DE ARTÍCULOS DE HORMIGÓN, DE CEMENTO Y DE YESO"]
[null,2396,"CORTE, TALLA Y ACABADO DE LA PIEDRA"]
[null,2399,"FABRICACIÓN DE OTROS PRODUCTOS MINERALES NO METÁLICOS N.C.P."]
[null,2410,"INDUSTRIAS BÁSICAS DE HIERRO Y ACERO "]
[null,2420,"FABRICACIÓN DE PRODUCTOS PRIMARIOS DE METALES PRECIOSOS Y OTROS METALES NO FERROSOS"]
[null,2431,"FUNDICIÓN DE HIERRO Y ACERO"]
[null,2432,"FUNDICIÓN DE METALES NO FERROSOS"]
[null,2511,"FABRICACIÓN DE PRODUCTOS METÁLICOS PARA USO ESTRUCTURAL"]
[null,2512,"FABRICACIÓN DE TANQUES, DEPÓSITOS Y RECIPIENTES DE METAL"]
[null,2513,"FABRICACIÓN DE LOS GENERADORES DEL VAPOR, EXCEPTO CALDERAS DE AGUA CALIENTE PARA CALEFACCIÓN CENTRAL"]
[null,2520,"FABRICACIÓN DE ARMAS Y MUNICIONES"]
[null,2591,"FORJA, PRENSADO, ESTAMPADO Y LAMINADO DE METALES; PULVIMETALURGIA"]
[null,2592,"TRATAMIENTO Y REVESTIMIENTO DE METALES; MAQUINADO"]
[null,2593,"FABRICACIÓN DE ARTÍCULOS DE CUCHILLERÍA, HERRAMIENTAS DE MANO Y ARTÍCULOS DE FERRETERÍA"]
[null,2599,"FABRICACIÓN DE OTROS PRODUCTOS ELABORADOS DE METAL N.C.P."]
[null,2610,"FABRICACIÓN DE COMPONENTES Y TABLEROS ELECTRÓNICOS"]
[null,2620,"FABRICACIÓN DE ORDENADORES Y EQUIPO PERIFÉRICO"]
[null,2630,"FABRICACIÓN DE EQUIPOS DE COMUNICACIONES"]
[null,2640,"FABRICACIÓN DE APARATOS ELECTRÓNICOS DE CONSUMO"]
[null,2651,"FABRICACIÓN DE EQUIPO DE MEDICIÓN, PRUEBA, NAVEGACIÓN Y CONTROL"]
[null,2652,"FABRICACIÓN DE RELOJES"]
[null,2660,"FABRICACIÓN DE EQUIPO DE IRRADIACIÓN Y EQUIPO ELECTRÓNICO DE USO MÉDICO Y TERAPÉUTICO"]
[null,2670,"FABRICACIÓN DE INSTRUMENTOS ÓPTICOS Y EQUIPO FOTOGRÁFICO"]
[null,2680,"FABRICACIÓN DE SOPORTES MAGNÉTICOS Y ÓPTICOS"]
[null,2710,"FABRICACIÓN DE MOTORES, GENERADORES Y TRANSFORMADORES ELÉCTRICOS Y APARATOS DE DISTRIBUCIÓN Y CONTROL DE LA ENERGÍA ELÉCTRICA"]
[null,2720,"FABRICACIÓN DE PILAS, BATERÍAS Y ACUMULADORES"]
[null,2731,"FABRICACIÓN DE CABLES DE FIBRA ÓPTICA"]
[null,2732,"FABRICACIÓN DE OTROS HILOS Y CABLES ELÉCTRICOS"]
[null,2733,"FABRICACIÓN DE DISPOSITIVOS DE CABLEADO"]
[null,2740,"FABRICACIÓN DE EQUIPO ELÉCTRICO DE ILUMINACIÓN"]
[null,2750,"FABRICACIÓN DE APARATOS DE USO DOMÉSTICO"]
[null,2790,"FABRICACIÓN DE OTROS TIPOS DE EQUIPO ELÉCTRICO"]
[null,2811,"FABRICACIÓN DE MOTORES Y TURBINAS, EXCEPTO MOTORES PARA AERONAVES, VEHÍCULOS AUTOMOTORES Y MOTOCICLETAS"]
[null,2812,"FABRICACIÓN DE EQUIPO DE PROPULSIÓN DE FLUIDOS"]
[null,2813,"FABRICACIÓN DE BOMBAS, COMPRESORES, GRIFOS Y VÁLVULAS"]
[null,2814,"FABRICACIÓN DE COJINETES, ENGRANAJES, TRENES DE ENGRANAJES Y PIEZAS DE TRANSMISIÓN"]
[null,2815,"FABRICACIÓN DE HORNOS, HOGARES Y QUEMADORES"]
[null,2816,"FABRICACIÓN DE EQUIPO DE ELEVACIÓN Y MANIPULACIÓN"]
[null,2817,"FABRICACIÓN DE MAQUINARIA Y EQUIPO DE OFICINA (EXCEPTO ORDENADORES Y EQUIPO PERIFÉRICO)"]
[null,2818,"FABRICACIÓN DE HERRAMIENTAS DE MANO MOTORIZADAS"]
[null,2819,"FABRICACIÓN DE OTROS TIPOS DE MAQUINARIA DE USO GENERAL"]
[null,2821,"FABRICACIÓN DE MAQUINARIA AGROPECUARIA Y FORESTAL"]
[null,2822,"FABRICACIÓN DE MAQUINARIA PARA LA CONFORMACIÓN DE METALES Y DE MÁQUINAS HERRAMIENTA"]
[null,2823,"FABRICACIÓN DE MAQUINARIA METALÚRGICA"]
[null,2824,"FABRICACIÓN DE MAQUINARIA PARA EXPLOTACIÓN DE MINAS Y CANTERAS Y PARA OBRAS DE CONSTRUCCIÓN"]
[null,2825,"FABRICACIÓN DE MAQUINARIA PARA LA ELABORACIÓN DE ALIMENTOS, BEBIDAS Y TABACO"]
[null,2826,"FABRICACIÓN DE MAQUINARIA PARA LA ELABORACIÓN DE PRODUCTOS TEXTILES, PRENDAS DE VESTIR Y CUEROS"]
[null,2829,"FABRICACIÓN DE OTROS TIPOS DE MAQUINARIA DE USO ESPECIAL"]
[null,2910,"FABRICACIÓN DE VEHÍCULOS AUTOMOTORES"]
[null,2920,"FABRICACIÓN DE CARROCERÍAS PARA VEHÍCULOS AUTOMOTORES; FABRICACIÓN DE REMOLQUES Y SEMIRREMOLQUES"]
[null,2930,"FABRICACIÓN DE PARTES, PIEZAS Y ACCESORIOS PARA VEHÍCULOS DE AUTOMOTORES"]
[null,3011,"CONSTRUCCIÓN DE BUQUES Y ESTRUCTURAS FLOTANTES"]
[null,3012,"CONSTRUCCIÓN DE EMBARCACIONES DE RECREO Y DEPORTE"]
[null,3020,"FABRICACIÓN DE LOCOMOTORAS Y DE MATERIAL RODANTE"]
[null,3030,"FABRICACIÓN DE AERONAVES Y  NAVES ESPACIALES Y MAQUINARIA CONEXA"]
[null,3040,"FABRICACIÓN DE VEHÍCULOS MILITARES DE COMBATE"]
[null,3091,"FABRICACIÓN DE MOTOCICLETAS"]
[null,3092,"FABRICACIÓN DE BICICLETAS Y DE SILLONES DE RUEDAS PARA INVÁLIDOS"]
[null,3099,"FABRICACIÓN DE OTROS TIPOS DE EQUIPO DE TRANSPORTE N.C.P."]
[null,3100,"FABRICACIÓN DE MUEBLES"]
[null,3211,"FABRICACIÓN DE JOYAS Y ARTÍCULOS CONEXOS"]
[null,3212,"FABRICACIÓN DE BISUTERÍA Y ARTÍCULOS CONEXOS"]
[null,3220,"FABRICACIÓN DE INSTRUMENTOS DE MÚSICA"]
[null,3230,"FABRICACIÓN DE ARTÍCULOS DE DEPORTE"]
[null,3240,"FABRICACIÓN DE JUEGOS Y JUGUETES"]
[null,3250,"FABRICACIÓN DE INSTRUMENTOS Y MATERIALES MÉDICOS Y ODONTOLÓGICOS"]
[null,3290,"OTRAS INDUSTRIAS MANUFACTURERAS N.C.P."]
[null,3311,"REPARACIÓN DE PRODUCTOS ELABORADOS DE METAL"]
[null,3312,"REPARACIÓN DE MAQUINARIA"]
[null,3313,"REPARACIÓN DE EQUIPO ELECTRÓNICO Y ÓPTICO"]
[null,3314,"REPARACIÓN DE EQUIPO ELÉCTRICO"]
[null,3315,"REPARACIÓN DE EQUIPO DE TRANSPORTE, EXCEPTO VEHÍCULOS AUTOMOTORES"]
[null,3319,"REPARACIÓN DE OTROS TIPOS DE EQUIPO"]
[null,3320,"INSTALACIÓN DE MAQUINARIA Y EQUIPO INDUSTRIALES"]
[null,3510,"GENERACIÓN, TRANSMISIÓN Y DISTRIBUCIÓN DE ENERGÍA ELÉCTRICA"]
[null,3520,"FABRICACIÓN DEL GAS; DISTRIBUCIÓN DE COMBUSTIBLES GASEOSOS POR TUBERÍAS"]
[null,3530,"SUMINISTRO DE VAPOR Y AIRE ACONDICIONADO"]
[null,3600,"CAPTACIÓN, TRATAMIENTO Y DISTRIBUCIÓN DE AGUA"]
[null,3700,"EVACUACIÓN DE AGUAS RESIDUALES"]
[null,3811,"RECOGIDA DE DESECHOS NO PELIGROSOS"]
[null,3812,"RECOGIDA DE DESECHOS PELIGROSOS"]
[null,3821,"TRATAMIENTO Y ELIMINACIÓN DE DESECHOS NO PELIGROSOS"]
[null,3822,"TRATAMIENTO Y ELIMINACIÓN DE DESECHOS PELIGROSOS"]
[null,3830,"RECUPERACIÓN DE MATERIALES"]
[null,3900,"ACTIVIDADES DE DESCONTAMINACIÓN Y OTROS SERVICIOS DE GESTIÓN DE DESECHOS"]
[null,4100,"CONSTRUCCIÓN DE EDIFICIOS"]
[null,4210,"CONSTRUCCIÓN DE CARRETERAS Y LÍNEAS DE FERROCARRIL"]
[null,4220,"CONSTRUCCIÓN DE PROYECTOS DE SERVICIO PÚBLICO"]
[null,4290,"CONSTRUCCIÓN DE OTRAS OBRAS DE INGENIERÍA CIVIL"]
[null,4311,"DEMOLICIÓN"]
[null,4312,"PREPARACIÓN DEL TERRENO"]
[null,4321,"INSTALACIONES ELÉCTRICAS"]
[null,4322,"INSTALACIONES DE FONTANERÍA, CALEFACCIÓN Y AIRE ACONDICIONADO"]
[null,4329,"OTRAS INSTALACIONES PARA OBRAS DE CONSTRUCCIÓN"]
[null,4330,"TERMINACIÓN Y ACABADO DE EDIFICIOS"]
[null,4390,"OTRAS ACTIVIDADES ESPECIALIZADAS DE LA CONSTRUCCIÓN"]
[null,4510,"VENTA DE VEHÍCULOS AUTOMOTORES"]
[null,4520,"MANTENIMIENTO Y REPARACIÓN DE VEHÍCULOS AUTOMOTORES"]
[null,4530,"VENTAS DE PARTES, PIEZAS Y ACCESORIOS PARA VEHÍCULOS AUTOMOTORES"]
[null,4540,"VENTA, MANTENIMIENTO Y REPARACIÓN DE MOTOCICLETAS Y DE SUS PARTES, PIEZAS Y ACCESORIOS."]
[null,4610,"VENTA AL POR MAYOR A CAMBIO DE UNA RETRIBUCIÓN O POR CONTRATA"]
[null,4620,"VENTA AL POR MAYOR DE MATERIAS PRIMAS AGROPECUARIAS Y ANIMALES VIVOS."]
[null,4630,"VENTA AL POR MAYOR DE ALIMENTOS, BEBIDAS Y TABACO."]
[null,4641,"VENTA AL POR MAYOR DE PRODUCTOS TEXTILES, PRENDAS DE VESTIR Y CALZADO"]
[null,4649,"VENTA AL POR MAYOR DE OTROS ENSERES DOMÉSTICOS"]
[null,4651,"VENTA AL POR MAYOR DE ORDENADORES, EQUIPO PERIFÉRICO Y PROGRAMAS DE INFORMÁTICA"]
[null,4652,"VENTA AL POR MAYOR DE EQUIPO, PARTES Y PIEZAS ELECTRÓNICOS Y DE TELECOMUNICACIONES"]
[null,4653,"VENTA AL POR MAYOR DE MAQUINARIA, EQUIPO Y MATERIALES AGROPECUARIOS "]
[null,4659,"VENTA AL POR MAYOR DE OTROS TIPOS DE MAQUINARIA Y EQUIPO"]
[null,4661,"VENTA AL POR MAYOR DE COMBUSTIBLES SÓLIDOS, LÍQUIDOS Y GASEOSOS Y  PRODUCTOS CONEXOS"]
[null,4662,"VENTA AL POR MAYOR DE METALES Y MINERALES METALÍFEROS"]
[null,4663,"VENTA AL POR MAYOR DE MATERIALES DE CONSTRUCCIÓN, ARTÍCULOS DE FERRETERÍA Y EQUIPO Y MATERIALES DE FONTANERÍA Y CALEFACCIÓN."]
[null,4669,"VENTA AL POR MAYOR DE DESPERDICIOS, DESECHOS, CHATARRA Y OTROS PRODUCTOS N.C.P "]
[null,4690,"VENTA AL POR MAYOR NO ESPECIALIZADA "]
[null,4711,"VENTA AL POR MENOR EN COMERCIOS NO ESPECIALIZADOS CON PREDOMINIO DE LA VENTA DE ALIMENTOS, BEBIDAS O TABACO"]
[null,4719,"OTRAS ACTIVIDADES DE VENTA AL POR MENOR EN COMERCIOS NO ESPECIALIZADOS"]
[null,4721,"VENTA AL POR MENOR DE ALIMENTOS EN COMERCIOS ESPECIALIZADOS"]
[null,4722,"VENTA AL POR MENOR DE BEBIDAS EN COMERCIOS ESPECIALIZADOS"]
[null,4723,"VENTA AL POR MENOR DE PRODUCTOS DE TABACO EN COMERCIOS ESPECIALIZADOS"]
[null,4730,"VENTA AL POR MENOR DE COMBUSTIBLES PARA VEHÍCULOS AUTOMOTORES EN COMERCIOS ESPECIALIZADOS"]
[null,4741,"VENTA AL POR MENOR DE ORDENADORES, EQUIPO PERIFÉRICO, PROGRAMAS INFORMÁTICOS Y EQUIPO DE TELECOMUNICACIONES EN COMERCIOS ESPECIALIZADOS"]
[null,4742,"VENTA AL POR MENOR DE EQUIPO DE SONIDO Y DE VÍDEO EN COMERCIOS ESPECIALIZADOS"]
[null,4751,"VENTA AL POR MENOR DE PRODUCTOS TEXTILES EN COMERCIOS ESPECIALIZADOS"]
[null,4752,"VENTA AL POR MENOR DE ARTÍCULOS DE FERRETERÍA, PINTURAS Y PRODUCTOS DE VIDRIO EN COMERCIOS ESPECIALIZADOS"]
[null,4753,"VENTA AL POR MENOR DE TAPICES, ALFOMBRAS Y CUBRIMIENTOS PARA PAREDES Y PISOS EN COMERCIOS ESPECIALIZADOS"]
[null,4759,"VENTA AL POR MENOR DE APARATOS ELÉCTRICOS DE USO DOMÉSTICO,  MUEBLES, EQUIPO DE ILUMINACIÓN Y OTROS ENSERES DOMÉSTICOS EN COMERCIOS ESPECIALIZADOS"]
[null,4761,"VENTA AL POR MENOR DE LIBROS, PERIÓDICOS Y ARTÍCULOS DE PAPELERÍA EN COMERCIOS ESPECIALIZADOS"]
[null,4762,"VENTA AL POR MENOR DE GRABACIONES DE MÚSICA Y DE VÍDEO EN COMERCIOS ESPECIALIZADOS"]
[null,4763,"VENTA AL POR MENOR DE EQUIPO DE DEPORTE EN COMERCIOS ESPECIALIZADOS"]
[null,4764,"VENTA AL POR MENOR DE JUEGOS Y  JUGUETES EN COMERCIOS ESPECIALIZADOS"]
[null,4771,"VENTA AL POR MENOR DE PRENDAS DE VESTIR, CALZADO Y ARTÍCULOS DE CUERO EN COMERCIOS ESPECIALIZADOS"]
[null,4772,"VENTA AL POR MENOR DE PRODUCTOS FARMACÉUTICOS Y MEDICINALES, COSMÉTICOS Y ARTÍCULOS DE TOCADOR EN COMERCIOS ESPECIALIZADOS   "]
[null,4773,"VENTA AL POR MENOR DE OTROS PRODUCTOS NUEVOS EN COMERCIOS ESPECIALIZADOS"]
[null,4774,"VENTA AL POR MENOR DE ARTÍCULOS DE SEGUNDA MANO"]
[null,4781,"VENTA AL POR MENOR DE ALIMENTOS, BEBIDAS Y TABACO EN PUESTOS DE VENTA Y MERCADOS "]
[null,4782,"VENTA AL POR MENOR DE PRODUCTOS TEXTILES, PRENDAS DE VESTIR Y CALZADO EN PUESTOS DE VENTA Y MERCADOS"]
[null,4789,"VENTA AL POR MENOR DE OTROS PRODUCTOS EN PUESTOS DE VENTA Y MERCADOS"]
[null,4791,"VENTA AL POR MENOR POR CORREO Y POR INTERNET"]
[null,4799,"OTRAS ACTIVIDADES DE VENTA AL POR MENOR NO REALIZADAS EN COMERCIOS, PUESTOS DE VENTA O MERCADOS"]
[null,4911,"TRANSPORTE INTERURBANO DE PASAJEROS POR FERROCARRIL"]
[null,4912,"TRANSPORTE DE CARGA POR FERROCARRIL"]
[null,4921,"TRANSPORTE URBANO Y SUBURBANO DE PASAJEROS POR VÍA TERRESTRE "]
[null,4922,"OTRAS ACTIVIDADES DE TRANSPORTE POR VÍA TERRESTRE"]
[null,4923,"TRANSPORTE DE CARGA POR CARRETERA"]
[null,4930,"TRANSPORTE POR TUBERÍAS"]
[null,5011,"TRANSPORTE DE PASAJEROS MARÍTIMO Y DE CABOTAJE"]
[null,5012,"TRANSPORTE DE CARGA MARÍTIMO Y DE CABOTAJE"]
[null,5021,"TRANSPORTE DE PASAJEROS POR VÍAS DE NAVEGACIÓN INTERIORES"]
[null,5022,"TRANSPORTE DE CARGA, POR VÍAS DE NAVEGACIÓN INTERIORES"]
[null,5110,"TRANSPORTE DE PASAJEROS POR VÍA AÉREA"]
[null,5120,"TRANSPORTE DE CARGA POR VÍA AÉREA"]
[null,5210,"ALMACENAMIENTO Y DEPÓSITO"]
[null,5221,"ACTIVIDADES DE SERVICIOS VINCULADAS AL TRANSPORTE TERRESTRE"]
[null,5222,"ACTIVIDADES DE SERVICIOS VINCULADAS AL TRANSPORTE ACUÁTICO"]
[null,5223,"ACTIVIDADES DE SERVICIOS VINCULADAS AL TRANSPORTE AÉREO"]
[null,5224,"MANIPULACIÓN DE CARGA"]
[null,5229,"OTRAS ACTIVIDADES DE APOYO AL TRANSPORTE"]
[null,5310,"ACTIVIDADES POSTALES"]
[null,5320,"ACTIVIDADES DE MENSAJERÍA"]
[null,5510,"ACTIVIDADES DE ALOJAMIENTO PARA ESTANCIAS CORTAS"]
[null,5520,"ACTIVIDADES DE CAMPAMENTOS, PARQUES DE VEHÍCULOS RECREATIVOS Y PARQUES DE CARAVANAS"]
[null,5590,"OTRAS ACTIVIDADES DE ALOJAMIENTO"]
[null,5610,"ACTIVIDADES DE RESTAURANTES Y DE SERVICIO MÓVIL DE COMIDAS"]
[null,5621,"SUMINISTRO DE COMIDAS POR ENCARGO"]
[null,5629,"OTRAS ACTIVIDADES DE SERVICIO DE COMIDAS"]
[null,5630,"ACTIVIDADES DE SERVICIO DE BEBIDAS"]
[null,5811,"EDICIÓN DE LIBROS"]
[null,5812,"EDICIÓN DE DIRECTORIOS Y LISTAS DE CORREO"]
[null,5813,"EDICIÓN DE PERIÓDICOS, REVISTAS Y OTRAS PUBLICACIONES PERIÓDICAS"]
[null,5819,"OTRAS ACTIVIDADES DE EDICIÓN"]
[null,5820,"EDICIÓN DE PROGRAMAS DE INFORMÁTICOS"]
[null,5911,"ACTIVIDADES DE PRODUCCIÓN DE PELÍCULAS CINEMATOGRÁFICAS, VÍDEOS Y PROGRAMAS DE TELEVISIÓN"]
[null,5912,"ACTIVIDADES DE POSTPRODUCCIÓN DE PELÍCULAS CINEMATOGRÁFICAS, VÍDEOS Y PROGRAMAS DE TELEVISIÓN"]
[null,5913,"ACTIVIDADES DE DISTRIBUCIÓN DE PELÍCULAS CINEMATOGRÁFICAS, VÍDEOS Y PROGRAMAS DE TELEVISIÓN"]
[null,5914,"ACTIVIDADES DE EXHIBICIÓN DE PELÍCULAS CINEMATOGRÁFICAS Y CINTAS DE VÍDEO "]
[null,5920,"ACTIVIDADES DE GRABACIÓN DE SONIDO Y EDICIÓN DE MÚSICA"]
[null,6010,"TRANSMISIONES DE RADIO"]
[null,6020,"PROGRAMACIÓN Y TRANSMISIONES DE TELEVISIÓN"]
[null,6110,"ACTIVIDADES DE TELECOMUNICACIONES ALÁMBRICAS"]
[null,6120,"ACTIVIDADES DE TELECOMUNICACIONES INALÁMBRICAS"]
[null,6130,"ACTIVIDADES DE TELECOMUNICACIONES POR SATÉLITE."]
[null,6190,"OTRAS ACTIVIDADES DE TELECOMUNICACIÓN."]
[null,6201,"PROGRAMACIÓN INFORMÁTICA"]
[null,6202,"CONSULTORÍA DE INFORMÁTICA Y DE GESTIÓN DE INSTALACIONES INFORMÁTICAS"]
[null,6209,"OTRAS ACTIVIDADES DE TECNOLOGÍA DE LA INFORMACIÓN Y DE SERVICIOS INFORMÁTICOS"]
[null,6311,"PROCESAMIENTO DE DATOS, HOSPEDAJE Y ACTIVIDADES CONEXAS"]
[null,6312,"PORTALES WEB"]
[null,6391,"ACTIVIDADES DE AGENCIAS DE NOTICIAS"]
[null,6399,"OTRAS ACTIVIDADES DE SERVICIOS DE INFORMACIÓN N.C.P."]
[null,6411,"BANCA CENTRAL"]
[null,6419,"OTROS TIPOS DE INTERMEDIACIÓN MONETARIA."]
[null,6420,"ACTIVIDADES DE SOCIEDADES DE CARTERA"]
[null,6430,"FONDOS Y SOCIEDADES DE INVERSIÓN Y ENTIDADES FINANCIERAS SIMILARES"]
[null,6491,"ARRENDAMIENTO FINANCIERO"]
[null,6492,"OTRAS ACTIVIDADES DE CONCESIÓN DE CRÉDITO"]
[null,6499,"OTRAS ACTIVIDADES DE SERVICIOS FINANCIEROS, EXCEPTO LAS DE SEGUROS Y FONDOS DE PENSIONES, N.C.P."]
[null,6511,"SEGUROS DE VIDA"]
[null,6512,"SEGUROS GENERALES"]
[null,6520,"REASEGUROS"]
[null,6530,"FONDOS DE PENSIONES"]
[null,6611,"ADMINISTRACIÓN DE MERCADOS FINANCIEROS"]
[null,6612,"CORRETAJE DE VALORES Y DE CONTRATOS DE PRODUCTOS BÁSICOS"]
[null,6619,"OTRAS ACTIVIDADES AUXILIARES DE LAS ACTIVIDADES DE SERVICIOS FINANCIEROS"]
[null,6621,"EVALUACIÓN DE RIESGOS Y DAÑOS"]
[null,6622,"ACTIVIDADES DE AGENTES Y CORREDORES DE SEGUROS"]
[null,6629,"OTRAS ACTIVIDADES AUXILIARES DE LAS ACTIVIDADES DE SEGUROS Y FONDOS DE PENSIONES"]
[null,6630,"ACTIVIDADES DE GESTIÓN DE FONDOS"]
[null,6810,"ACTIVIDADES INMOBILIARIAS REALIZADAS CON BIENES PROPIOS O ARRENDADOS"]
[null,6820,"ACTIVIDADES INMOBILIARIAS REALIZADAS A CAMBIO DE UNA RETRIBUCIÓN O POR CONTRATA"]
[null,6910,"ACTIVIDADES JURÍDICAS"]
[null,6920,"ACTIVIDADES DE CONTABILIDAD, TENEDURÍA DE LIBROS Y AUDITORÍA; CONSULTORÍA FISCAL"]
[null,7010,"ACTIVIDADES DE OFICINAS CENTRALES"]
[null,7020,"ACTIVIDADES DE CONSULTORÍA DE GESTIÓN"]
[null,7110,"ACTIVIDADES DE ARQUITECTURA E INGENIERÍA Y ACTIVIDADES CONEXAS DE CONSULTORÍA TÉCNICA"]
[null,7120,"ENSAYOS Y ANÁLISIS TÉCNICOS"]
[null,7210,"INVESTIGACIÓN Y DESARROLLO EXPERIMENTAL EN EL CAMPO DE LAS CIENCIAS NATURALES Y LA INGENIERÍA"]
[null,7220,"INVESTIGACIÓN Y DESARROLLO EXPERIMENTAL EN EL CAMPO DE LAS CIENCIAS SOCIALES Y LAS HUMANIDADES"]
[null,7310,"PUBLICIDAD"]
[null,7320,"ESTUDIOS DE MERCADO Y ENCUESTAS DE OPINIÓN PÚBLICA"]
[null,7410,"ACTIVIDADES ESPECIALIZADAS DE DISEÑO"]
[null,7420,"ACTIVIDADES DE FOTOGRAFÍA"]
[null,7490,"OTRAS ACTIVIDADES PROFESIONALES, CIENTÍFICAS Y TÉCNICAS N.C.P."]
[null,7500,"ACTIVIDADES VETERINARIAS"]
[null,7710,"ALQUILER Y ARRENDAMIENTO DE VEHÍCULOS AUTOMOTORES"]
[null,7721,"ALQUILER Y ARRENDAMIENTO DE EQUIPO RECREATIVO Y DEPORTIVO"]
[null,7722,"ALQUILER DE CINTAS DE VÍDEO Y DISCOS"]
[null,7729,"ALQUILER Y ARRENDAMIENTO DE OTROS EFECTOS PERSONALES Y ENSERES DOMÉSTICOS "]
[null,7730,"ALQUILER Y ARRENDAMIENTO DE OTROS TIPOS DE MAQUINARIA, EQUIPO Y BIENES TANGIBLES"]
[null,7740,"ARRENDAMIENTO DE PROPIEDAD INTELECTUAL Y PRODUCTOS SIMILARES, EXCEPTO OBRAS PROTEGIDAS  POR DERECHOS DE AUTOR"]
[null,7810,"ACTIVIDADES DE AGENCIAS DE EMPLEO"]
[null,7820,"ACTIVIDADES DE AGENCIAS DE EMPLEO TEMPORAL"]
[null,7830,"OTRAS ACTIVIDADES DE DOTACIÓN DE RECURSOS HUMANOS"]
[null,7911,"ACTIVIDADES DE AGENCIAS DE VIAJES"]
[null,7912,"ACTIVIDADES DE OPERADORES TURÍSTICOS"]
[null,7990,"OTROS SERVICIOS DE RESERVAS Y ACTIVIDADES CONEXAS"]
[null,8010,"ACTIVIDADES DE SEGURIDAD PRIVADA"]
[null,8020,"ACTIVIDADES DE SERVICIO DE SISTEMAS DE SEGURIDAD"]
[null,8030,"ACTIVIDADES DE INVESTIGACIÓN"]
[null,8110,"ACTIVIDADES COMBINADAS DE APOYO A INSTALACIONES"]
[null,8121,"LIMPIEZA GENERAL DE EDIFICIOS"]
[null,8129,"OTRAS ACTIVIDADES DE LIMPIEZA DE EDIFICIOS E INSTALACIONES INDUSTRIALES"]
[null,8130,"ACTIVIDADES DE PAISAJISMO Y SERVICIOS DE MANTENIMIENTO CONEXOS"]
[null,8211,"ACTIVIDADES COMBINADAS DE SERVICIOS ADMINISTRATIVOS DE OFICINA"]
[null,8219,"FOTOCOPIADO, PREPARACIÓN DE DOCUMENTOS Y OTRAS ACTIVIDADES ESPECIALIZADAS DE APOYO DE OFICINA"]
[null,8220,"ACTIVIDADES DE CENTROS DE LLAMADAS"]
[null,8230,"ORGANIZACIÓN DE CONVENCIONES Y EXPOSICIONES COMERCIALES"]
[null,8291,"ACTIVIDADES DE AGENCIAS DE COBRO Y AGENCIAS DE CALIFICACIÓN CREDITICIA"]
[null,8292,"ACTIVIDADES DE ENVASADO Y EMPAQUETADO"]
[null,8299,"OTRAS ACTIVIDADES DE SERVICIOS DE APOYO A LAS EMPRESAS N.C.P"]
[null,8411,"ACTIVIDADES DE LA ADMINISTRACIÓN PÚBLICA EN GENERAL"]
[null,8412,"REGULACIÓN DE LAS ACTIVIDADES DE ORGANISMOS QUE PRESTAN SERVICIOS SANITARIOS, EDUCATIVOS, CULTURALES Y OTROS SERVICIOS SOCIALES, EXCEPTO SERVICIOS DE SEGURIDAD SOCIAL"]
[null,8413,"REGULACIÓN Y FACILITACIÓN DE LA ACTIVIDAD ECONÓMICA"]
[null,8421,"RELACIONES EXTERIORES"]
[null,8422,"ACTIVIDADES DE DEFENSA"]
[null,8423,"ACTIVIDADES DE MANTENIMIENTO DEL ORDEN PÚBLICO Y DE SEGURIDAD"]
[null,8430,"ACTIVIDADES DE PLANES DE SEGURIDAD SOCIAL DE AFILIACIÓN OBLIGATORIA"]
[null,8510,"ENSEÑANZA PREESCOLAR Y PRIMARIA"]
[null,8521,"ENSEÑANZA SECUNDARIA DE FORMACIÓN GENERAL"]
[null,8522,"ENSEÑANZA SECUNDARIA DE FORMACIÓN TÉCNICA Y PROFESIONAL"]
[null,8530,"ENSEÑANZA SUPERIOR"]
[null,8541,"EDUCACIÓN DEPORTIVA Y RECREATIVA"]
[null,8542,"ENSEÑANZA CULTURAL"]
[null,8549,"OTROS TIPOS DE ENSEÑANZA N.C.P."]
[null,8550,"ACTIVIDADES DE APOYO A LA ENSEÑANZA"]
[null,8610,"ACTIVIDADES DE HOSPITALES"]
[null,8620,"ACTIVIDADES DE MÉDICOS Y ODONTÓLOGOS"]
[null,8690,"OTRAS ACTIVIDADES DE ATENCIÓN DE LA SALUD HUMANA"]
[null,8710,"ACTIVIDADES DE ATENCIÓN DE ENFERMERÍA EN INSTITUCIONES"]
[null,8720,"ACTIVIDADES DE ATENCIÓN EN INSTITUCIONES PARA PERSONAS CON RETRASO MENTAL, ENFERMOS MENTALES Y TOXICÓMANOS"]
[null,8730,"ACTIVIDADES DE ATENCIÓN EN INSTITUCIONES PARA PERSONAS DE EDAD PERSONAS CON DISCAPACIDAD"]
[null,8790,"OTRAS ACTIVIDADES DE ATENCIÓN EN INSTITUCIONES"]
[null,8810,"ACTIVIDADES DE ASISTENCIA SOCIAL SIN ALOJAMIENTO PARA PERSONAS DE EDAD Y PERSONAS CON DISCAPACIDAD"]
[null,8890,"OTRAS ACTIVIDADES DE ASISTENCIA SOCIAL SIN ALOJAMIENTO"]
[null,9000,"ACTIVIDADES CREATIVAS, ARTÍSTICAS Y DE ENTRETENIMIENTO"]
[null,9101,"ACTIVIDADES DE BIBLIOTECAS Y ARCHIVOS"]
[null,9102,"ACTIVIDADES DE MUSEOS Y GESTIÓN DE LUGARES Y EDIFICIOS HISTÓRICOS"]
[null,9103,"ACTIVIDADES DE JARDINES BOTÁNICOS Y ZOOLÓGICOS Y RESERVAS NATURALES"]
[null,9200,"ACTIVIDADES DE JUEGOS DE AZAR Y APUESTAS"]
[null,9311,"GESTIÓN DE INSTALACIONES DEPORTIVAS"]
[null,9312,"ACTIVIDADES DE CLUBES DEPORTIVOS"]
[null,9319,"OTRAS ACTIVIDADES DEPORTIVAS"]
[null,9321,"ACTIVIDADES DE PARQUES DE ATRACCIONES Y PARQUES TEMÁTICOS"]
[null,9329,"OTRAS ACTIVIDADES DE ESPARCIMIENTO Y RECREATIVAS N.C.P."]
[null,9411,"ACTIVIDADES DE ASOCIACIONES EMPRESARIALES Y DE EMPLEADORES"]
[null,9412,"ACTIVIDADES DE ASOCIACIONES PROFESIONALES"]
[null,9420,"ACTIVIDADES DE SINDICATOS"]
[null,9491,"ACTIVIDADES DE ORGANIZACIONES RELIGIOSAS"]
[null,9492,"ACTIVIDADES DE ORGANIZACIONES POLÍTICAS"]
[null,9499,"ACTIVIDADES DE OTRAS ASOCIACIONES N.C.P."]
[null,9511,"REPARACIÓN DE ORDENADORES Y EQUIPO PERIFÉRICO"]
[null,9512,"REPARACIÓN DE EQUIPOS COMUNICACIONALES"]
[null,9521,"REPARACIÓN DE APARATOS ELECTRÓNICOS DE CONSUMO"]
[null,9522,"REPARACIÓN DE APARATOS DE USO DOMÉSTICO Y EQUIPO DOMÉSTICO Y DE JARDINERÍA"]
[null,9523,"REPARACIÓN DE CALZADO Y ARTÍCULOS DE CUERO"]
[null,9524,"REPARACIÓN DE MUEBLES Y ACCESORIOS DOMÉSTICOS"]
[null,9529,"REPARACIÓN DE OTROS EFECTOS PERSONALES Y ENSERES DOMÉSTICOS"]
[null,9601,"LAVADO Y LIMPIEZA, INCLUIDA LA LIMPIEZA EN SECO, DE PRODUCTOS TEXTILES Y DE PIEL"]
[null,9602,"PELUQUERÍA Y OTROS TRATAMIENTOS DE BELLEZA"]
[null,9603,"POMPAS FÚNEBRES Y ACTIVIDADES CONEXAS"]
[null,9609,"OTRAS ACTIVIDADES DE SERVICIOS PERSONALES N.C.P."]
[null,9700,"ACTIVIDADES DE LOS HOGARES COMO EMPLEADORES DE PERSONAL DOMÉSTICO"]
[null,9900,"ACTIVIDADES DE ORGANIZACIONES Y ÓRGANOS EXTRATERRITORIALES"]

{"sheet":"Ayuda Material","index":3,"n_rows":15,"n_cols":10,"rows_kept":15,"merged":[[1,1,2,1],[1,2,2,2],[1,3,2,3],[1,4,2,4],[1,5,1,6],[1,7,1,8],[1,9,2,9]]}
[]
[null,"COD MATERIAL","MATERIAL DE CONSTRUCCION","DEFINICIÓN DE TIPOS DE ESTRUCTURAS","DEFINICIÓN AMIGABLE","PISOS",null,"SOTANOS",null,"Imagen Referencial"]
[{"$nulls":5},"# MAXIMO","#MINIMO","# MAXIMO","#MINIMO"]
[null,"1.0AC","PÓRTICO DE ACERO ARRIOSTRADO CON DIAGONALES","Edificio compuesto por pórticos ensamblados con vigas y columnas de acero y la inclusión de arriostres diagonales en los vanos. Los diafragmas son de losas de concreto vaciado in situ, sistema de placa colaborante (steel deck) con concreto apoyado sobre vigas de acero o entramados de acero con una rigidez relativamente mayor que la de los pórticos. Fuerza lateral es resistida por los pórticos de acero donde las diagonales concentraran la deformación inelástica. La cimentación de este sistema estructural con zapatas aisladas.","Estuctura formada por columnas y vigas de acero con refuerzos diagonales del mismo material.",50,1,15,0]
[null,"2.0AQ","ADOBE Y QUINCHA","Construcción de uno o dos niveles, con posibles altillos. Típicamente muros de adobe de gran espesor en el primer nivel y estructura de quincha en el segundo. Techos y entrepisos de madera, en algunos casos con cielo rasos de yeso. Las fuerzas laterales son resistidas por los muros. Poseen diafragmas flexibles, constituidos por viguetas de madera y entablados. Utilizan una cimentación corrida de concreto ciclópeo.","Construcción de uno o dos niveles, con posibles altillos. Típicamente muros de adobe de gran espesor en el primer nivel y estructura de quincha en el segundo. Techos y entrepisos de madera, en algunos casos con cielo rasos de yeso.",3,1,0,0]
[null,"3.0CA","PÓRTICOS DE CONCRETO ARMADO","Estructuras con pórticos de concreto armado, habitualmente para uso comercial o de vivienda. Los pisos y techos son por lo general losas aligeradas, que pueden ser con viguetas prefabricadas. Con menos frecuencia se emplean losas macizas, encasetonados y otros. Las cargas de gravedad son resistidas por las vigas y columnas que conforman los pórticos. Las cargas laterales son también resistidas por los pórticos, en los que puede tenerse un pequeño número de placas, tales como las de cajas de escaleras y de ascensores. Puede suponerse que los diafragmas son rígidos. En este sistema estructural se utiliza una cimentación con zapatas aisladas. Excepcionalmente se tienen estructuras cimentadas sobre pilotes, plateas de cimentación.","Estuctura resistente formada por columnas y vigas de concreto armado, formando pórticos, las columnas pueden ser cuadradas o circulares.",20,1,15,0]
[null,"4.0CP","PÓRTICOS DE CONCRETO ARMADO CON PLACAS (1)","\nSimilar a CA excepto porque prácticamente la totalidad de la fuerza lateral es resistida por placas de concreto armado de gran rigidez.\n\n","Similar a CA, adicionalmente cuenta con muros de concreto armado (placas) que aumentan la rigidez.",50,1,15,0]
[null,"5.0DL","MUROS DE CONCRETO ARMADO DE DUCTILIDAD LIMITADA","Construcciones cuyo sistema estructural está basado en muros de pared delgada, entre 8 cm y 12 cm, que tienen como acero de refuerzo, malla electrosoldada con elementos de confinamiento de capacidad limitada o puede prescindirse de extremos confinados. De acuerdo a la Norma Técnica de Edificaciones – Diseño Sismorresistente, (NTE E030-2016), se pueden construir hasta ocho niveles. Sin embargo, existen una gran cantidad de edificios con muros de ductilidad limitada con mayor número de pisos construidos previos a esta norma, que incorporan a este tipo de muros, acero de refuerzo dúctil en el tercio inferior de su altura.","Estructura resistente formada por muros de concreto armado de espesores reducidos, se prescinde de extremos confinados, con losas macizas o aligeradas.",20,1,0,0]
[null,"6.0EM","ENTRAMADOS DE MADERA","Construcciones de uno o más pisos, típicamente viviendas unifamiliares. Cargas moderadas. Luces relativamente cortas. Los pisos y techos están construidos a base de viguetas de madera, con separaciones del orden de 40 a 60 cm, que se apoyan sobre pie derechos o dinteles. Excepcionalmente pueden tenerse algunas columnas aisladas. Las acciones de sismo son soportadas por los muros, cuya rigidez depende del revestimiento. Los diafragmas son flexibles. Frecuentemente están constituidos por entablados de madera.","Estructura resistente formada por elementos de madera tanto en vigas, columnas y muros.",3,1,0,0]
[null,"7.0M1","MAMPOSTERÍA DE ARCILLA SIN REFUERZO","Muros portantes de mampostería sólida sin refuerzo ni elementos de confinamiento, típicamente con muros de cabeza o de mayor espesor.\nLas fuerzas laterales son resistidas por los muros. Los diafragmas de entrepiso son rígidos, con losas aligeradas o macizas. Su cimentación corrida de concreto ciclópeo, excepcionalmente zapatas aisladas.","Muros portantes de ladrillos de arcilla que no tienen columnas de confinamiento, muros de mayor espesor.",6,1,0,0]
[null,"8.0M2R","MAMPOSTERÍA ARMADA O CONFINADA CON DIAFRAGMAS RÍGIDOS","Muros portantes de mampostería confinada, con unidades sólidas. Unidades de arcilla, concreto o sílico calcáreas. Puede tener algunas pequeñas columnas de acero o madera. Las fuerzas laterales son resistidas por los muros. Poseen diafragmas rígidos en pisos, con losas aligeradas o macizas. Utilizan cimentación corrida de concreto ciclópeo, excepcionalmente zapatas aisladas.","Muros portantes de ladrillos de arcilla que tienen columnas de confinamiento en los extremos, o refuerzo interior de acero, con losas aligeradas o macizas.",6,1,1,0]
[null,"9.0M2F","MAMPOSTERÍA ARMADA O CONFINADA CON DIAFRAGMAS FLEXIBLES","Similar a M2R excepto por tener diafragmas de piso o techo flexibles, con viguetas de madera o de acero, incluyendo viguetas reticuladas. No deben incluirse en este grupo las construcciones de dos o más niveles en las que sólo el último nivel tenga un diafragma flexible; éstas deben ser clasificadas como M2R.","Muros portantes de ladrillos de arcilla que tienen columnas de confinamiento en los extremos, o refuerzo interior de acero, con piso o techo flexible de vigas de madera o acero.",6,1,1,0]
[null,"10.0M3","CONSTRUCCION INFORMAL EN ALBAÑERÍA","Similar a M2, pero con unidades tubulares (pandereta), o con insuficiente confinamiento","Similar a M2, pero con ladrillos de menor espesor (pandereta), o con insuficiente confinamiento",3,1,0,0]
[null,"11.0IC","ESTRUCTURAS INDUSTRIALES / COMERCIALES (2)","Estructuras con áreas mayores a 500 m2 y de grandes luces, destinadas a la industria o el comercio con pocos muros estructurales interiores. Generalmente este tipo de estructura está definido como por pórticos de acero de alma llena o una combinación de pórticos de concreto perimetrales con estructura metálica en los techos. La estructura de techos o pisos se basa en Tijerales de madera o de acero, que se apoyan en columnas de acero y/o columnas de concreto y/o elementos de mampostería.","Estructuras de grandes luces, pocas o nulas columnas intermedias y sin compartimentación por muros.",5,1,0,0]
[null,"12.0EE","ESTRUCTURAS ESPECIALES","Para los efectos de la presente Nota Técnica son aquellas estructuras que presentan tipologías estructurales y/o tipos de usos que no permiten la debida aplicación de la metodología señalada en el presente documento, al carecer de la información mínima requerida o por la dificultad para identificarla, conforme a lo dispuesto en el Reglamento aprobado por la SBS y sus modificatorias","Minas, Carreteras, Puentes, Reservorios, Tanques De Agua, Silos, Vías Ferreas, Torres De Transmisión, Instalaciones Sanitarias, Instalaciones Eléctricas, Tuberías Enterradas, Muelles o Puertos, Estructuras Hidraulicas, Sist. De Drenaje, Riego o Alcantarillado, Represas de Agua, Aeropuertos, Sistemas De Gas Natural, Sist De Instalaciones Petroleras Y Petroquímicas, Plantas De Tratamiento De Agua, Centrales Electricas o Hidroeléctricas, Estaciones Telemétricas, Estaciones De Tren, Estructuras Especiales (Otros)",15,1,3,0]

{"sheet":"Ayuda GEO","index":4,"n_rows":14,"n_cols":6,"rows_kept":14,"merged":[[4,2,4,4],[7,2,7,4],[10,2,10,4],[13,2,13,4]]}
[]
[]
[]
[]
[null,"Paso1:","Buscar \"Google maps\" en el buscador de su preferencia.",null,null,"https://maps.google.com"]
[]
[]
[null,"Paso2:","Ingresar los puntos de georreferenciación arrojados en el formato (separados por una coma)."]
[]
[]
[null,"Paso3:","Verificar en el mapa que la ubicación (el marcado rojo) corresponde a la dirección de la edificación (acercar lo más posible)."]
[]
[]
[null,"Paso4:","Si no corresponde, editar el detalle de la dirección dentro de la pestaña formato (Nombre de la calle, número, etc.). Hasta lograr una mejor precisión."]

{"sheet":"Preguntas Frecuentes","index":5,"n_rows":28,"n_cols":3,"rows_kept":28,"hidden":true}
[]
[]
[null,null,"Preguntas Frecuentes"]
[]
[null,null,"¿El tipo de uso es del edificio o del piso que se está asegurando?"]
[null,null,"El tipo de uso es hace referencia a la actividad económica desarrollada en el…."]
[null,null,"¿El número de pisos es de bien asegurado o del edificio?"]
[]
[]
[]
[null,null,"¿Que campos son obligatorios?"]
[null,null,"Los campos obligatorios son: tipo de calle/vía, nombre de calle/vía, País, dpto., provincia, distrito, año de construcción de la edificación, tipo de material de construcción predominante, número de pisos del edificio, número de sótanos del edificio, tipo de uso y tipo de propiedad asegurada."]
[null,null,"¿Que sucede si la dirección no tiene número?"]
[null,null,"Si no tiene número dejar en blanco y optar por otros campos que ayuden a la georeferenciación (Mz , Lote, Km, etc.)"]
[null,null,"¿Que sucede si la dirección no tiene tipo de vía, es decir la dirección no tiene calle, av., etc.?"]
[null,null,"Se deberá seleccionar al final del desplegable la opción sin tipo y completar los otros campos del detalle de la dirección de riesgo."]
[null,null,"¿Por que se pinta de rojo la columna de ubigeo?"]
[null,null,"La columna de ubigeo se muestra en rojo cuando el distrito, la provincia y el departamento no muestran consistencia. "]
[null,null,"¿Qué sucede si es una esquina y tiene 2 direcciones?"]
[null,null,"Se recomienda utilizar la dirección que contenga la avenida principal dado que el motor de búsqueda es Google maps."]
[null,null,"¿Qué sucede si hay refacciones, qué año se debe considerar como año de construcción?"]
[null,null,"Se debe de considerar el año de construcción de la edificiación. En caso de haber tenido un reforzamiento estructural, considerar el año en que este fue realizado"]
[null,null,"¿Qué sucede si no conozco el material de construcción?"]
[null,null,"Debe guiarse de la pestaña ayuda material incluida dentro de este formato."]
[null,null,"¿Qué sucede si el local tiene actividad diferente a la principal?"]
[null,null,"Se debe considerar la actividad que se realiza en la ubicación declarada considerando los campos tipo de uso / giro negocio / CIIU"]
[null,null,"¿Qué sucede si hay líneas de transmisión?"]
[null,null,"Se seleccionará dentro de la columna Tipo de material la opción de Estructuras especiales y en la columna tipo de uso la opción EE Torres de transmisión."]

{"sheet":"TipoBien","index":6,"n_rows":19,"n_cols":11,"rows_kept":19,"hidden":true}
[]
[null,"DESCRIPCIÓN DEL BIEN","CLASE",null,"DESCRIPCIÓN DEL BIEN","CLASE",null,"DESCRIPCIÓN DEL BIEN","CLASE",null,"VD Lucro"]
[null,"SELECCIONAR OTRO (OPCIONAL)","EDIFICACIÓN",null,"SELECCIONAR OTRO (OPCIONAL)","CONTENIDO",null,"SELECCIONAR OTRO (OPCIONAL)","LUCRO CESANTE",null,12]
[null,"AVISOS LUMINOSOS Y/O PANELES DE PUBLICIDAD","EDIFICACIÓN",null,"ACERVO DOCUMENTARIO","CONTENIDO",null,"Gastos estables (fijos)","LUCRO CESANTE",null,18]
[null,"CARRETERAS","EDIFICACIÓN",null,"ANIMALES VIVOS","CONTENIDO",null,"Beneficio Bruto (margen de contribución)","LUCRO CESANTE",null,24]
[null,"EDIFICACION (CUANDO SE ASEGURA A VALOR COMERCIAL)","EDIFICACIÓN",null,"BIENES REFRIGERADOS","CONTENIDO"]
[null,"INSTALACIONES FIJAS Y/O MEJORAS","EDIFICACIÓN",null,"CUADROS Y/U OBRAS DE ARTE","CONTENIDO"]
[null,"LINEAS DE TRANSMISION","EDIFICACIÓN",null,"DINERO Y/O VALORES","CONTENIDO"]
[null,"MUELLES Y/O EMBARCADEROS","EDIFICACIÓN",null,"EMBARCACIONES EN DIQUE SECO","CONTENIDO"]
[null,"PISCINAS","EDIFICACIÓN",null,"EQUIPOS ELECTRONICOS","CONTENIDO"]
[null,"PISTAS, CERCOS Y/O VEREDAS","EDIFICACIÓN",null,"EQUIPOS MEDICOS","CONTENIDO"]
[null,"PUENTES","EDIFICACIÓN",null,"JOYAS","CONTENIDO"]
[null,"TANQUES","EDIFICACIÓN",null,"MAQUINARIA MOVIL Y EQUIPOS","CONTENIDO"]
[null,"TORRES DE ILUMINACION","EDIFICACIÓN",null,"MOBILIARIO EN GENERAL","CONTENIDO"]
[{"$nulls":4},"MUEBLES , UTILES Y ENSERES","CONTENIDO"]
[{"$nulls":4},"OTROS CONTENIDOS","CONTENIDO"]
[{"$nulls":4},"PLANTACIONES","CONTENIDO"]
[{"$nulls":4},"REPUESTOS Y/O HERRAMIENTAS","CONTENIDO"]
[{"$nulls":4},"VEHICULOS PROPIOS Y/O DE TERCEROS (COMO CONTENIDO)","CONTENIDO"]

{"sheet":"Matriz_Ubi","index":7,"n_rows":67,"n_cols":198,"rows_kept":67,"hidden":true}
[null,"AMA_01","ANC_02","APU_03","ARE_04","AYA_05","CAJ_06","CAL_07","CUS_08","HUA_09","HUA_10","ICA_11","JUN_12","LIB_13","LAM_14","LIM_15","LOR_16","MAD_17","MOQ_18","PAS_19","PIU_20","PUN_21","SAN_22","TAC_23","TUM_24","UCA_25","Otros"]
["01",{"$f":"IFERROR(VLOOKUP(MID(B$1,5,2)&$A2,Lista_Ubigeo!$F:$G,2,0),\" \")","v":"CHACHAPOYAS"},{"$f":"IFERROR(VLOOKUP(MID(C$1,5,2)&$A2,Lista_Ubigeo!$F:$G,2,0),\" \")","v":"HUARAZ"},{"$f":"IFERROR(VLOOKUP(MID(D$1,5,2)&$A2,Lista_Ubigeo!$F:$G,2,0),\" \")","v":"ABANCAY"},{"$f":"IFERROR(VLOOKUP(MID(E$1,5,2)&$A2,Lista_Ubigeo!$F:$G,2,0),\" \")","v":"AREQUIPA"},{"$f":"IFERROR(VLOOKUP(MID(F$1,5,2)&$A2,Lista_Ubigeo!$F:$G,2,0),\" \")","v":"HUAMANGA"},{"$f":"IFERROR(VLOOKUP(MID(G$1,5,2)&$A2,Lista_Ubigeo!$F:$G,2,0),\" \")","v":"CAJAMARCA"},{"$f":"IFERROR(VLOOKUP(MID(H$1,5,2)&$A2,Lista_Ubigeo!$F:$G,2,0),\" \")","v":"CALLAO"},{"$f":"IFERROR(VLOOKUP(MID(I$1,5,2)&$A2,Lista_Ubigeo!$F:$G,2,0),\" \")","v":"CUSCO"},{"$f":"IFERROR(VLOOKUP(MID(J$1,5,2)&$A2,Lista_Ubigeo!$F:$G,2,0),\" \")","v":"HUANCAVELICA"},{"$f":"IFERROR(VLOOKUP(MID(K$1,5,2)&$A2,Lista_Ubigeo!$F:$G,2,0),\" \")","v":"HUANUCO"},{"$f":"IFERROR(VLOOKUP(MID(L$1,5,2)&$A2,Lista_Ubigeo!$F:$G,2,0),\" \")","v":"ICA"},{"$f":"IFERROR(VLOOKUP(MID(M$1,5,2)&$A2,Lista_Ubigeo!$F:$G,2,0),\" \")","v":"HUANCAYO"},{"$f":"IFERROR(VLOOKUP(MID(N$1,5,2)&$A2,Lista_Ubigeo!$F:$G,2,0),\" \")","v":"TRUJILLO"},{"$f":"IFERROR(VLOOKUP(MID(O$1,5,2)&$A2,Lista_Ubigeo!$F:$G,2,0),\" \")","v":"CHICLAYO"},{"$f":"IFERROR(VLOOKUP(MID(P$1,5,2)&$A2,Lista_Ubigeo!$F:$G,2,0),\" \")","v":"LIMA"},{"$f":"IFERROR(VLOOKUP(MID(Q$1,5,2)&$A2,Lista_Ubigeo!$F:$G,2,0),\" \")","v":"MAYNAS"},{"$f":"IFERROR(VLOOKUP(MID(R$1,5,2)&$A2,Lista_Ubigeo!$F:$G,2,0),\" \")","v":"TAMBOPATA"},{"$f":"IFERROR(VLOOKUP(MID(S$1,5,2)&$A2,Lista_Ubigeo!$F:$G,2,0),\" \")","v":"MARISCAL NIETO"},{"$f":"IFERROR(VLOOKUP(MID(T$1,5,2)&$A2,Lista_Ubigeo!$F:$G,2,0),\" \")","v":"PASCO"},{"$f":"IFERROR(VLOOKUP(MID(U$1,5,2)&$A2,Lista_Ubigeo!$F:$G,2,0),\" \")","v":"PIURA"},{"$f":"IFERROR(VLOOKUP(MID(V$1,5,2)&$A2,Lista_Ubigeo!$F:$G,2,0),\" \")","v":"PUNO"},{"$f":"IFERROR(VLOOKUP(MID(W$1,5,2)&$A2,Lista_Ubigeo!$F:$G,2,0),\" \")","v":"MOYOBAMBA"},{"$f":"IFERROR(VLOOKUP(MID(X$1,5,2)&$A2,Lista_Ubigeo!$F:$G,2,0),\" \")","v":"TACNA"},{"$f":"IFERROR(VLOOKUP(MID(Y$1,5,2)&$A2,Lista_Ubigeo!$F:$G,2,0),\" \")","v":"TUMBES"},{"$f":"IFERROR(VLOOKUP(MID(Z$1,5,2)&$A2,Lista_Ubigeo!$F:$G,2,0),\" \")","v":"CORONEL PORTILLO"},"Otros"]
["02",{"$f":"IFERROR(VLOOKUP(MID(B$1,5,2)&$A3,Lista_Ubigeo!$F:$G,2,0),\" \")","v":"BAGUA"},{"$f":"IFERROR(VLOOKUP(MID(C$1,5,2)&$A3,Lista_Ubigeo!$F:$G,2,0),\" \")","v":"AIJA"},{"$f":"IFERROR(VLOOKUP(MID(D$1,5,2)&$A3,Lista_Ubigeo!$F:$G,2,0),\" \")","v":"ANDAHUAYLAS"},{"$f":"IFERROR(VLOOKUP(MID(E$1,5,2)&$A3,Lista_Ubigeo!$F:$G,2,0),\" \")","v":"CAMANA"},{"$f":"IFERROR(VLOOKUP(MID(F$1,5,2)&$A3,Lista_Ubigeo!$F:$G,2,0),\" \")","v":"CANGALLO"},{"$f":"IFERROR(VLOOKUP(MID(G$1,5,2)&$A3,Lista_Ubigeo!$F:$G,2,0),\" \")","v":"CAJABAMBA"},{"$f":"IFERROR(VLOOKUP(MID(H$1,5,2)&$A3,Lista_Ubigeo!$F:$G,2,0),\" \")","v":" "},{"$f":"IFERROR(VLOOKUP(MID(I$1,5,2)&$A3,Lista_Ubigeo!$F:$G,2,0),\" \")","v":"ACOMAYO"},{"$f":"IFERROR(VLOOKUP(MID(J$1,5,2)&$A3,Lista_Ubigeo!$F:$G,2,0),\" \")","v":"ACOBAMBA"},{"$f":"IFERROR(VLOOKUP(MID(K$1,5,2)&$A3,Lista_Ubigeo!$F:$G,2,0),\" \")","v":"AMBO"},{"$f":"IFERROR(VLOOKUP(MID(L$1,5,2)&$A3,Lista_Ubigeo!$F:$G,2,0),\" \")","v":"CHINCHA"},{"$f":"IFERROR(VLOOKUP(MID(M$1,5,2)&$A3,Lista_Ubigeo!$F:$G,2,0),\" \")","v":"CONCEPCION"},{"$f":"IFERROR(VLOOKUP(MID(N$1,5,2)&$A3,Lista_Ubigeo!$F:$G,2,0),\" \")","v":"ASCOPE"},{"$f":"IFERROR(VLOOKUP(MID(O$1,5,2)&$A3,Lista_Ubigeo!$F:$G,2,0),\" \")","v":"FERREÑAFE"},{"$f":"IFERROR(VLOOKUP(MID(P$1,5,2)&$A3,Lista_Ubigeo!$F:$G,2,0),\" \")","v":"BARRANCA"},{"$f":"IFERROR(VLOOKUP(MID(Q$1,5,2)&$A3,Lista_Ubigeo!$F:$G,2,0),\" \")","v":"ALTO AMAZONAS"},{"$f":"IFERROR(VLOOKUP(MID(R$1,5,2)&$A3,Lista_Ubigeo!$F:$G,2,0),\" \")","v":"MANU"},{"$f":"IFERROR(VLOOKUP(MID(S$1,5,2)&$A3,Lista_Ubigeo!$F:$G,2,0),\" \")","v":"GENERAL SANCHEZ CERRO"},{"$f":"IFERROR(VLOOKUP(MID(T$1,5,2)&$A3,Lista_Ubigeo!$F:$G,2,0),\" \")","v":"DANIEL ALCIDES CARRION"},{"$f":"IFERROR(VLOOKUP(MID(U$1,5,2)&$A3,Lista_Ubigeo!$F:$G,2,0),\" \")","v":"AYABACA"},{"$f":"IFERROR(VLOOKUP(MID(V$1,5,2)&$A3,Lista_Ubigeo!$F:$G,2,0),\" \")","v":"AZANGARO"},{"$f":"IFERROR(VLOOKUP(MID(W$1,5,2)&$A3,Lista_Ubigeo!$F:$G,2,0),\" \")","v":"BELLAVISTA"},{"$f":"IFERROR(VLOOKUP(MID(X$1,5,2)&$A3,Lista_Ubigeo!$F:$G,2,0),\" \")","v":"CANDARAVE"},{"$f":"IFERROR(VLOOKUP(MID(Y$1,5,2)&$A3,Lista_Ubigeo!$F:$G,2,0),\" \")","v":"CONTRALMIRANTE VILLAR"},{"$f":"IFERROR(VLOOKUP(MID(Z$1,5,2)&$A3,Lista_Ubigeo!$F:$G,2,0),\" \")","v":"ATALAYA"}]
["03",{"$f":"IFERROR(VLOOKUP(MID(B$1,5,2)&$A4,Lista_Ubigeo!$F:$G,2,0),\" \")","v":"BONGARA"},{"$f":"IFERROR(VLOOKUP(MID(C$1,5,2)&$A4,Lista_Ubigeo!$F:$G,2,0),\" \")","v":"ANTONIO RAYMONDI"},{"$f":"IFERROR(VLOOKUP(MID(D$1,5,2)&$A4,Lista_Ubigeo!$F:$G,2,0),\" \")","v":"ANTABAMBA"},{"$f":"IFERROR(VLOOKUP(MID(E$1,5,2)&$A4,Lista_Ubigeo!$F:$G,2,0),\" \")","v":"CARAVELI"},{"$f":"IFERROR(VLOOKUP(MID(F$1,5,2)&$A4,Lista_Ubigeo!$F:$G,2,0),\" \")","v":"HUANCA SANCOS"},{"$f":"IFERROR(VLOOKUP(MID(G$1,5,2)&$A4,Lista_Ubigeo!$F:$G,2,0),\" \")","v":"CELENDIN"},{"$f":"IFERROR(VLOOKUP(MID(H$1,5,2)&$A4,Lista_Ubigeo!$F:$G,2,0),\" \")","v":" "},{"$f":"IFERROR(VLOOKUP(MID(I$1,5,2)&$A4,Lista_Ubigeo!$F:$G,2,0),\" \")","v":"ANTA"},{"$f":"IFERROR(VLOOKUP(MID(J$1,5,2)&$A4,Lista_Ubigeo!$F:$G,2,0),\" \")","v":"ANGARAES"},{"$f":"IFERROR(VLOOKUP(MID(K$1,5,2)&$A4,Lista_Ubigeo!$F:$G,2,0),\" \")","v":"DOS DE MAYO"},{"$f":"IFERROR(VLOOKUP(MID(L$1,5,2)&$A4,Lista_Ubigeo!$F:$G,2,0),\" \")","v":"NAZCA"},{"$f":"IFERROR(VLOOKUP(MID(M$1,5,2)&$A4,Lista_Ubigeo!$F:$G,2,0),\" \")","v":"CHANCHAMAYO"},{"$f":"IFERROR(VLOOKUP(MID(N$1,5,2)&$A4,Lista_Ubigeo!$F:$G,2,0),\" \")","v":"BOLIVAR"},{"$f":"IFERROR(VLOOKUP(MID(O$1,5,2)&$A4,Lista_Ubigeo!$F:$G,2,0),\" \")","v":"LAMBAYEQUE"},{"$f":"IFERROR(VLOOKUP(MID(P$1,5,2)&$A4,Lista_Ubigeo!$F:$G,2,0),\" \")","v":"CAJATAMBO"},{"$f":"IFERROR(VLOOKUP(MID(Q$1,5,2)&$A4,Lista_Ubigeo!$F:$G,2,0),\" \")","v":"LORETO"},{"$f":"IFERROR(VLOOKUP(MID(R$1,5,2)&$A4,Lista_Ubigeo!$F:$G,2,0),\" \")","v":"TAHUAMANU"},{"$f":"IFERROR(VLOOKUP(MID(S$1,5,2)&$A4,Lista_Ubigeo!$F:$G,2,0),\" \")","v":"ILO"},{"$f":"IFERROR(VLOOKUP(MID(T$1,5,2)&$A4,Lista_Ubigeo!$F:$G,2,0),\" \")","v":"OXAPAMPA"},{"$f":"IFERROR(VLOOKUP(MID(U$1,5,2)&$A4,Lista_Ubigeo!$F:$G,2,0),\" \")","v":"HUANCABAMBA"},{"$f":"IFERROR(VLOOKUP(MID(V$1,5,2)&$A4,Lista_Ubigeo!$F:$G,2,0),\" \")","v":"CARABAYA"},{"$f":"IFERROR(VLOOKUP(MID(W$1,5,2)&$A4,Lista_Ubigeo!$F:$G,2,0),\" \")","v":"EL DORADO"},{"$f":"IFERROR(VLOOKUP(MID(X$1,5,2)&$A4,Lista_Ubigeo!$F:$G,2,0),\" \")","v":"JORGE BASADRE"},{"$f":"IFERROR(VLOOKUP(MID(Y$1,5,2)&$A4,Lista_Ubigeo!$F:$G,2,0),\" \")","v":"ZARUMILLA"},{"$f":"IFERROR(VLOOKUP(MID(Z$1,5,2)&$A4,Lista_Ubigeo!$F:$G,2,0),\" \")","v":"PADRE ABAD"}]
["04",{"$f":"IFERROR(VLOOKUP(MID(B$1,5,2)&$A5,Lista_Ubigeo!$F:$G,2,0),\" \")","v":"CONDORCANQUI"},{"$f":"IFERROR(VLOOKUP(MID(C$1,5,2)&$A5,Lista_Ubigeo!$F:$G,2,0),\" \")","v":"ASUNCION"},{"$f":"IFERROR(VLOOKUP(MID(D$1,5,2)&$A5,Lista_Ubigeo!$F:$G,2,0),\" \")","v":"AYMARAES"},{"$f":"IFERROR(VLOOKUP(MID(E$1,5,2)&$A5,Lista_Ubigeo!$F:$G,2,0),\" \")","v":"CASTILLA"},{"$f":"IFERROR(VLOOKUP(MID(F$1,5,2)&$A5,Lista_Ubigeo!$F:$G,2,0),\" \")","v":"HUANTA"},{"$f":"IFERROR(VLOOKUP(MID(G$1,5,2)&$A5,Lista_Ubigeo!$F:$G,2,0),\" \")","v":"CHOTA"},{"$f":"IFERROR(VLOOKUP(MID(H$1,5,2)&$A5,Lista_Ubigeo!$F:$G,2,0),\" \")","v":" "},{"$f":"IFERROR(VLOOKUP(MID(I$1,5,2)&$A5,Lista_Ubigeo!$F:$G,2,0),\" \")","v":"CALCA"},{"$f":"IFERROR(VLOOKUP(MID(J$1,5,2)&$A5,Lista_Ubigeo!$F:$G,2,0),\" \")","v":"CASTROVIRREYNA"},{"$f":"IFERROR(VLOOKUP(MID(K$1,5,2)&$A5,Lista_Ubigeo!$F:$G,2,0),\" \")","v":"HUACAYBAMBA"},{"$f":"IFERROR(VLOOKUP(MID(L$1,5,2)&$A5,Lista_Ubigeo!$F:$G,2,0),\" \")","v":"PALPA"},{"$f":"IFERROR(VLOOKUP(MID(M$1,5,2)&$A5,Lista_Ubigeo!$F:$G,2,0),\" \")","v":"JAUJA"},{"$f":"IFERROR(VLOOKUP(MID(N$1,5,2)&$A5,Lista_Ubigeo!$F:$G,2,0),\" \")","v":"CHEPEN"},null,{"$f":"IFERROR(VLOOKUP(MID(P$1,5,2)&$A5,Lista_Ubigeo!$F:$G,2,0),\" \")","v":"CANTA"},{"$f":"IFERROR(VLOOKUP(MID(Q$1,5,2)&$A5,Lista_Ubigeo!$F:$G,2,0),\" \")","v":"MARISCAL RAMON CASTILLA"},{"$nulls":3},{"$f":"IFERROR(VLOOKUP(MID(U$1,5,2)&$A5,Lista_Ubigeo!$F:$G,2,0),\" \")","v":"MORROPON"},{"$f":"IFERROR(VLOOKUP(MID(V$1,5,2)&$A5,Lista_Ubigeo!$F:$G,2,0),\" \")","v":"CHUCUITO"},{"$f":"IFERROR(VLOOKUP(MID(W$1,5,2)&$A5,Lista_Ubigeo!$F:$G,2,0),\" \")","v":"HUALLAGA"},{"$f":"IFERROR(VLOOKUP(MID(X$1,5,2)&$A5,Lista_Ubigeo!$F:$G,2,0),\" \")","v":"TARATA"},null,{"$f":"IFERROR(VLOOKUP(MID(Z$1,5,2)&$A5,Lista_Ubigeo!$F:$G,2,0),\" \")","v":"PURUS"}]
["05",{"$f":"IFERROR(VLOOKUP(MID(B$1,5,2)&$A6,Lista_Ubigeo!$F:$G,2,0),\" \")","v":"LUYA"},{"$f":"IFERROR(VLOOKUP(MID(C$1,5,2)&$A6,Lista_Ubigeo!$F:$G,2,0),\" \")","v":"BOLOGNESI"},{"$f":"IFERROR(VLOOKUP(MID(D$1,5,2)&$A6,Lista_Ubigeo!$F:$G,2,0),\" \")","v":"COTABAMBAS"},{"$f":"IFERROR(VLOOKUP(MID(E$1,5,2)&$A6,Lista_Ubigeo!$F:$G,2,0),\" \")","v":"CAYLLOMA"},{"$f":"IFERROR(VLOOKUP(MID(F$1,5,2)&$A6,Lista_Ubigeo!$F:$G,2,0),\" \")","v":"LA MAR"},{"$f":"IFERROR(VLOOKUP(MID(G$1,5,2)&$A6,Lista_Ubigeo!$F:$G,2,0),\" \")","v":"CONTUMAZA"},{"$f":"IFERROR(VLOOKUP(MID(H$1,5,2)&$A6,Lista_Ubigeo!$F:$G,2,0),\" \")","v":" "},{"$f":"IFERROR(VLOOKUP(MID(I$1,5,2)&$A6,Lista_Ubigeo!$F:$G,2,0),\" \")","v":"CANAS"},{"$f":"IFERROR(VLOOKUP(MID(J$1,5,2)&$A6,Lista_Ubigeo!$F:$G,2,0),\" \")","v":"CHURCAMPA"},{"$f":"IFERROR(VLOOKUP(MID(K$1,5,2)&$A6,Lista_Ubigeo!$F:$G,2,0),\" \")","v":"HUAMALIES"},{"$f":"IFERROR(VLOOKUP(MID(L$1,5,2)&$A6,Lista_Ubigeo!$F:$G,2,0),\" \")","v":"PISCO"},{"$f":"IFERROR(VLOOKUP(MID(M$1,5,2)&$A6,Lista_Ubigeo!$F:$G,2,0),\" \")","v":"JUNIN"},{"$f":"IFERROR(VLOOKUP(MID(N$1,5,2)&$A6,Lista_Ubigeo!$F:$G,2,0),\" \")","v":"JULCAN"},null,{"$f":"IFERROR(VLOOKUP(MID(P$1,5,2)&$A6,Lista_Ubigeo!$F:$G,2,0),\" \")","v":"CAÑETE"},{"$f":"IFERROR(VLOOKUP(MID(Q$1,5,2)&$A6,Lista_Ubigeo!$F:$G,2,0),\" \")","v":"REQUENA"},{"$nulls":3},{"$f":"IFERROR(VLOOKUP(MID(U$1,5,2)&$A6,Lista_Ubigeo!$F:$G,2,0),\" \")","v":"PAITA"},{"$f":"IFERROR(VLOOKUP(MID(V$1,5,2)&$A6,Lista_Ubigeo!$F:$G,2,0),\" \")","v":"EL COLLAO"},{"$f":"IFERROR(VLOOKUP(MID(W$1,5,2)&$A6,Lista_Ubigeo!$F:$G,2,0),\" \")","v":"LAMAS"}]
["06",{"$f":"IFERROR(VLOOKUP(MID(B$1,5,2)&$A7,Lista_Ubigeo!$F:$G,2,0),\" \")","v":"RODRIGUEZ DE MENDOZA"},{"$f":"IFERROR(VLOOKUP(MID(C$1,5,2)&$A7,Lista_Ubigeo!$F:$G,2,0),\" \")","v":"CARHUAZ"},{"$f":"IFERROR(VLOOKUP(MID(D$1,5,2)&$A7,Lista_Ubigeo!$F:$G,2,0),\" \")","v":"CHINCHEROS"},{"$f":"IFERROR(VLOOKUP(MID(E$1,5,2)&$A7,Lista_Ubigeo!$F:$G,2,0),\" \")","v":"CONDESUYOS"},{"$f":"IFERROR(VLOOKUP(MID(F$1,5,2)&$A7,Lista_Ubigeo!$F:$G,2,0),\" \")","v":"LUCANAS"},{"$f":"IFERROR(VLOOKUP(MID(G$1,5,2)&$A7,Lista_Ubigeo!$F:$G,2,0),\" \")","v":"CUTERVO"},{"$f":"IFERROR(VLOOKUP(MID(H$1,5,2)&$A7,Lista_Ubigeo!$F:$G,2,0),\" \")","v":" "},{"$f":"IFERROR(VLOOKUP(MID(I$1,5,2)&$A7,Lista_Ubigeo!$F:$G,2,0),\" \")","v":"CANCHIS"},{"$f":"IFERROR(VLOOKUP(MID(J$1,5,2)&$A7,Lista_Ubigeo!$F:$G,2,0),\" \")","v":"HUAYTARA"},{"$f":"IFERROR(VLOOKUP(MID(K$1,5,2)&$A7,Lista_Ubigeo!$F:$G,2,0),\" \")","v":"LEONCIO PRADO"},null,{"$f":"IFERROR(VLOOKUP(MID(M$1,5,2)&$A7,Lista_Ubigeo!$F:$G,2,0),\" \")","v":"SATIPO"},{"$f":"IFERROR(VLOOKUP(MID(N$1,5,2)&$A7,Lista_Ubigeo!$F:$G,2,0),\" \")","v":"OTUZCO"},null,{"$f":"IFERROR(VLOOKUP(MID(P$1,5,2)&$A7,Lista_Ubigeo!$F:$G,2,0),\" \")","v":"HUARAL"},{"$f":"IFERROR(VLOOKUP(MID(Q$1,5,2)&$A7,Lista_Ubigeo!$F:$G,2,0),\" \")","v":"UCAYALI"},{"$nulls":3},{"$f":"IFERROR(VLOOKUP(MID(U$1,5,2)&$A7,Lista_Ubigeo!$F:$G,2,0),\" \")","v":"SULLANA"},{"$f":"IFERROR(VLOOKUP(MID(V$1,5,2)&$A7,Lista_Ubigeo!$F:$G,2,0),\" \")","v":"HUANCANE"},{"$f":"IFERROR(VLOOKUP(MID(W$1,5,2)&$A7,Lista_Ubigeo!$F:$G,2,0),\" \")","v":"MARISCAL CACERES"}]
["07",{"$f":"IFERROR(VLOOKUP(MID(B$1,5,2)&$A8,Lista_Ubigeo!$F:$G,2,0),\" \")","v":"UTCUBAMBA"},{"$f":"IFERROR(VLOOKUP(MID(C$1,5,2)&$A8,Lista_Ubigeo!$F:$G,2,0),\" \")","v":"CARLOS FERMIN FITZCARRALD"},{"$f":"IFERROR(VLOOKUP(MID(D$1,5,2)&$A8,Lista_Ubigeo!$F:$G,2,0),\" \")","v":"GRAU"},{"$f":"IFERROR(VLOOKUP(MID(E$1,5,2)&$A8,Lista_Ubigeo!$F:$G,2,0),\" \")","v":"ISLAY"},{"$f":"IFERROR(VLOOKUP(MID(F$1,5,2)&$A8,Lista_Ubigeo!$F:$G,2,0),\" \")","v":"PARINACOCHAS"},{"$f":"IFERROR(VLOOKUP(MID(G$1,5,2)&$A8,Lista_Ubigeo!$F:$G,2,0),\" \")","v":"HUALGAYOC"},{"$f":"IFERROR(VLOOKUP(MID(H$1,5,2)&$A8,Lista_Ubigeo!$F:$G,2,0),\" \")","v":" "},{"$f":"IFERROR(VLOOKUP(MID(I$1,5,2)&$A8,Lista_Ubigeo!$F:$G,2,0),\" \")","v":"CHUMBIVILCAS"},{"$f":"IFERROR(VLOOKUP(MID(J$1,5,2)&$A8,Lista_Ubigeo!$F:$G,2,0),\" \")","v":"TAYACAJA"},{"$f":"IFERROR(VLOOKUP(MID(K$1,5,2)&$A8,Lista_Ubigeo!$F:$G,2,0),\" \")","v":"MARAÑON"},null,{"$f":"IFERROR(VLOOKUP(MID(M$1,5,2)&$A8,Lista_Ubigeo!$F:$G,2,0),\" \")","v":"TARMA"},{"$f":"IFERROR(VLOOKUP(MID(N$1,5,2)&$A8,Lista_Ubigeo!$F:$G,2,0),\" \")","v":"PACASMAYO"},null,{"$f":"IFERROR(VLOOKUP(MID(P$1,5,2)&$A8,Lista_Ubigeo!$F:$G,2,0),\" \")","v":"HUAROCHIRI"},{"$f":"IFERROR(VLOOKUP(MID(Q$1,5,2)&$A8,Lista_Ubigeo!$F:$G,2,0),\" \")","v":"DATEM DEL MARAÑON"},{"$nulls":3},{"$f":"IFERROR(VLOOKUP(MID(U$1,5,2)&$A8,Lista_Ubigeo!$F:$G,2,0),\" \")","v":"TALARA"},{"$f":"IFERROR(VLOOKUP(MID(V$1,5,2)&$A8,Lista_Ubigeo!$F:$G,2,0),\" \")","v":"LAMPA"},{"$f":"IFERROR(VLOOKUP(MID(W$1,5,2)&$A8,Lista_Ubigeo!$F:$G,2,0),\" \")","v":"PICOTA"}]
["08",{"$f":"IFERROR(VLOOKUP(MID(B$1,5,2)&$A9,Lista_Ubigeo!$F:$G,2,0),\" \")","v":" "},{"$f":"IFERROR(VLOOKUP(MID(C$1,5,2)&$A9,Lista_Ubigeo!$F:$G,2,0),\" \")","v":"CASMA"},{"$f":"IFERROR(VLOOKUP(MID(D$1,5,2)&$A9,Lista_Ubigeo!$F:$G,2,0),\" \")","v":" "},{"$f":"IFERROR(VLOOKUP(MID(E$1,5,2)&$A9,Lista_Ubigeo!$F:$G,2,0),\" \")","v":"LA UNION"},{"$f":"IFERROR(VLOOKUP(MID(F$1,5,2)&$A9,Lista_Ubigeo!$F:$G,2,0),\" \")","v":"PAUCAR DEL SARA SARA"},{"$f":"IFERROR(VLOOKUP(MID(G$1,5,2)&$A9,Lista_Ubigeo!$F:$G,2,0),\" \")","v":"JAEN"},{"$f":"IFERROR(VLOOKUP(MID(H$1,5,2)&$A9,Lista_Ubigeo!$F:$G,2,0),\" \")","v":" "},{"$f":"IFERROR(VLOOKUP(MID(I$1,5,2)&$A9,Lista_Ubigeo!$F:$G,2,0),\" \")","v":"ESPINAR"},null,{"$f":"IFERROR(VLOOKUP(MID(K$1,5,2)&$A9,Lista_Ubigeo!$F:$G,2,0),\" \")","v":"PACHITEA"},null,{"$f":"IFERROR(VLOOKUP(MID(M$1,5,2)&$A9,Lista_Ubigeo!$F:$G,2,0),\" \")","v":"YAULI"},{"$f":"IFERROR(VLOOKUP(MID(N$1,5,2)&$A9,Lista_Ubigeo!$F:$G,2,0),\" \")","v":"PATAZ"},null,{"$f":"IFERROR(VLOOKUP(MID(P$1,5,2)&$A9,Lista_Ubigeo!$F:$G,2,0),\" \")","v":"HUAURA"},{"$f":"IFERROR(VLOOKUP(MID(Q$1,5,2)&$A9,Lista_Ubigeo!$F:$G,2,0),\" \")","v":"PUTUMAYO"},{"$nulls":3},{"$f":"IFERROR(VLOOKUP(MID(U$1,5,2)&$A9,Lista_Ubigeo!$F:$G,2,0),\" \")","v":"SECHURA"},{"$f":"IFERROR(VLOOKUP(MID(V$1,5,2)&$A9,Lista_Ubigeo!$F:$G,2,0),\" \")","v":"MELGAR"},{"$f":"IFERROR(VLOOKUP(MID(W$1,5,2)&$A9,Lista_Ubigeo!$F:$G,2,0),\" \")","v":"RIOJA"}]
["09",{"$f":"IFERROR(VLOOKUP(MID(B$1,5,2)&$A10,Lista_Ubigeo!$F:$G,2,0),\" \")","v":" "},{"$f":"IFERROR(VLOOKUP(MID(C$1,5,2)&$A10,Lista_Ubigeo!$F:$G,2,0),\" \")","v":"CORONGO"},{"$f":"IFERROR(VLOOKUP(MID(D$1,5,2)&$A10,Lista_Ubigeo!$F:$G,2,0),\" \")","v":" "},{"$f":"IFERROR(VLOOKUP(MID(E$1,5,2)&$A10,Lista_Ubigeo!$F:$G,2,0),\" \")","v":" "},{"$f":"IFERROR(VLOOKUP(MID(F$1,5,2)&$A10,Lista_Ubigeo!$F:$G,2,0),\" \")","v":"SUCRE"},{"$f":"IFERROR(VLOOKUP(MID(G$1,5,2)&$A10,Lista_Ubigeo!$F:$G,2,0),\" \")","v":"SAN IGNACIO"},{"$f":"IFERROR(VLOOKUP(MID(H$1,5,2)&$A10,Lista_Ubigeo!$F:$G,2,0),\" \")","v":" "},{"$f":"IFERROR(VLOOKUP(MID(I$1,5,2)&$A10,Lista_Ubigeo!$F:$G,2,0),\" \")","v":"LA CONVENCION"},null,{"$f":"IFERROR(VLOOKUP(MID(K$1,5,2)&$A10,Lista_Ubigeo!$F:$G,2,0),\" \")","v":"PUERTO INCA"},null,{"$f":"IFERROR(VLOOKUP(MID(M$1,5,2)&$A10,Lista_Ubigeo!$F:$G,2,0),\" \")","v":"CHUPACA"},{"$f":"IFERROR(VLOOKUP(MID(N$1,5,2)&$A10,Lista_Ubigeo!$F:$G,2,0),\" \")","v":"SANCHEZ CARRION"},null,{"$f":"IFERROR(VLOOKUP(MID(P$1,5,2)&$A10,Lista_Ubigeo!$F:$G,2,0),\" \")","v":"OYON"},{"$nulls":5},{"$f":"IFERROR(VLOOKUP(MID(V$1,5,2)&$A10,Lista_Ubigeo!$F:$G,2,0),\" \")","v":"MOHO"},{"$f":"IFERROR(VLOOKUP(MID(W$1,5,2)&$A10,Lista_Ubigeo!$F:$G,2,0),\" \")","v":"SAN MARTIN"}]
["10",{"$f":"IFERROR(VLOOKUP(MID(B$1,5,2)&$A11,Lista_Ubigeo!$F:$G,2,0),\" \")","v":" "},{"$f":"IFERROR(VLOOKUP(MID(C$1,5,2)&$A11,Lista_Ubigeo!$F:$G,2,0),\" \")","v":"HUARI"},{"$f":"IFERROR(VLOOKUP(MID(D$1,5,2)&$A11,Lista_Ubigeo!$F:$G,2,0),\" \")","v":" "},{"$f":"IFERROR(VLOOKUP(MID(E$1,5,2)&$A11,Lista_Ubigeo!$F:$G,2,0),\" \")","v":" "},{"$f":"IFERROR(VLOOKUP(MID(F$1,5,2)&$A11,Lista_Ubigeo!$F:$G,2,0),\" \")","v":"VICTOR FAJARDO"},{"$f":"IFERROR(VLOOKUP(MID(G$1,5,2)&$A11,Lista_Ubigeo!$F:$G,2,0),\" \")","v":"SAN MARCOS"},{"$f":"IFERROR(VLOOKUP(MID(H$1,5,2)&$A11,Lista_Ubigeo!$F:$G,2,0),\" \")","v":" "},{"$f":"IFERROR(VLOOKUP(MID(I$1,5,2)&$A11,Lista_Ubigeo!$F:$G,2,0),\" \")","v":"PARURO"},null,{"$f":"IFERROR(VLOOKUP(MID(K$1,5,2)&$A11,Lista_Ubigeo!$F:$G,2,0),\" \")","v":"LAURICOCHA"},null,null,{"$f":"IFERROR(VLOOKUP(MID(N$1,5,2)&$A11,Lista_Ubigeo!$F:$G,2,0),\" \")","v":"SANTIAGO DE CHUCO"},null,{"$f":"IFERROR(VLOOKUP(MID(P$1,5,2)&$A11,Lista_Ubigeo!$F:$G,2,0),\" \")","v":"YAUYOS"},{"$nulls":5},{"$f":"IFERROR(VLOOKUP(MID(V$1,5,2)&$A11,Lista_Ubigeo!$F:$G,2,0),\" \")","v":"SAN ANTONIO DE PUTINA"},{"$f":"IFERROR(VLOOKUP(MID(W$1,5,2)&$A11,Lista_Ubigeo!$F:$G,2,0),\" \")","v":"TOCACHE"}]
["11",{"$f":"IFERROR(VLOOKUP(MID(B$1,5,2)&$A12,Lista_Ubigeo!$F:$G,2,0),\" \")","v":" "},{"$f":"IFERROR(VLOOKUP(MID(C$1,5,2)&$A12,Lista_Ubigeo!$F:$G,2,0),\" \")","v":"HUARMEY"},{"$f":"IFERROR(VLOOKUP(MID(D$1,5,2)&$A12,Lista_Ubigeo!$F:$G,2,0),\" \")","v":" "},{"$f":"IFERROR(VLOOKUP(MID(E$1,5,2)&$A12,Lista_Ubigeo!$F:$G,2,0),\" \")","v":" "},{"$f":"IFERROR(VLOOKUP(MID(F$1,5,2)&$A12,Lista_Ubigeo!$F:$G,2,0),\" \")","v":"VILCAS HUAMAN"},{"$f":"IFERROR(VLOOKUP(MID(G$1,5,2)&$A12,Lista_Ubigeo!$F:$G,2,0),\" \")","v":"SAN MIGUEL"},{"$f":"IFERROR(VLOOKUP(MID(H$1,5,2)&$A12,Lista_Ubigeo!$F:$G,2,0),\" \")","v":" "},{"$f":"IFERROR(VLOOKUP(MID(I$1,5,2)&$A12,Lista_Ubigeo!$F:$G,2,0),\" \")","v":"PAUCARTAMBO"},null,{"$f":"IFERROR(VLOOKUP(MID(K$1,5,2)&$A12,Lista_Ubigeo!$F:$G,2,0),\" \")","v":"YAROWILCA"},null,null,{"$f":"IFERROR(VLOOKUP(MID(N$1,5,2)&$A12,Lista_Ubigeo!$F:$G,2,0),\" \")","v":"GRAN CHIMU"},{"$nulls":7},{"$f":"IFERROR(VLOOKUP(MID(V$1,5,2)&$A12,Lista_Ubigeo!$F:$G,2,0),\" \")","v":"SAN ROMAN"}]
["12",{"$f":"IFERROR(VLOOKUP(MID(B$1,5,2)&$A13,Lista_Ubigeo!$F:$G,2,0),\" \")","v":" "},{"$f":"IFERROR(VLOOKUP(MID(C$1,5,2)&$A13,Lista_Ubigeo!$F:$G,2,0),\" \")","v":"HUAYLAS"},{"$f":"IFERROR(VLOOKUP(MID(D$1,5,2)&$A13,Lista_Ubigeo!$F:$G,2,0),\" \")","v":" "},{"$f":"IFERROR(VLOOKUP(MID(E$1,5,2)&$A13,Lista_Ubigeo!$F:$G,2,0),\" \")","v":" "},{"$f":"IFERROR(VLOOKUP(MID(F$1,5,2)&$A13,Lista_Ubigeo!$F:$G,2,0),\" \")","v":" "},{"$f":"IFERROR(VLOOKUP(MID(G$1,5,2)&$A13,Lista_Ubigeo!$F:$G,2,0),\" \")","v":"SAN PABLO"},{"$f":"IFERROR(VLOOKUP(MID(H$1,5,2)&$A13,Lista_Ubigeo!$F:$G,2,0),\" \")","v":" "},{"$f":"IFERROR(VLOOKUP(MID(I$1,5,2)&$A13,Lista_Ubigeo!$F:$G,2,0),\" \")","v":"QUISPICANCHI"},null,{"$f":"IFERROR(VLOOKUP(MID(K$1,5,2)&$A13,Lista_Ubigeo!$F:$G,2,0),\" \")","v":" "},null,null,{"$f":"IFERROR(VLOOKUP(MID(N$1,5,2)&$A13,Lista_Ubigeo!$F:$G,2,0),\" \")","v":"VIRU"},{"$nulls":7},{"$f":"IFERROR(VLOOKUP(MID(V$1,5,2)&$A13,Lista_Ubigeo!$F:$G,2,0),\" \")","v":"SANDIA"}]
["13",{"$f":"IFERROR(VLOOKUP(MID(B$1,5,2)&$A14,Lista_Ubigeo!$F:$G,2,0),\" \")","v":" "},{"$f":"IFERROR(VLOOKUP(MID(C$1,5,2)&$A14,Lista_Ubigeo!$F:$G,2,0),\" \")","v":"MARISCAL LUZURIAGA"},{"$f":"IFERROR(VLOOKUP(MID(D$1,5,2)&$A14,Lista_Ubigeo!$F:$G,2,0),\" \")","v":" "},{"$f":"IFERROR(VLOOKUP(MID(E$1,5,2)&$A14,Lista_Ubigeo!$F:$G,2,0),\" \")","v":" "},{"$f":"IFERROR(VLOOKUP(MID(F$1,5,2)&$A14,Lista_Ubigeo!$F:$G,2,0),\" \")","v":" "},{"$f":"IFERROR(VLOOKUP(MID(G$1,5,2)&$A14,Lista_Ubigeo!$F:$G,2,0),\" \")","v":"SANTA CRUZ"},{"$f":"IFERROR(VLOOKUP(MID(H$1,5,2)&$A14,Lista_Ubigeo!$F:$G,2,0),\" \")","v":" "},{"$f":"IFERROR(VLOOKUP(MID(I$1,5,2)&$A14,Lista_Ubigeo!$F:$G,2,0),\" \")","v":"URUBAMBA"},null,{"$f":"IFERROR(VLOOKUP(MID(K$1,5,2)&$A14,Lista_Ubigeo!$F:$G,2,0),\" \")","v":" "},{"$nulls":10},{"$f":"IFERROR(VLOOKUP(MID(V$1,5,2)&$A14,Lista_Ubigeo!$F:$G,2,0),\" \")","v":"YUNGUYO"}]
["14",{"$f":"IFERROR(VLOOKUP(MID(B$1,5,2)&$A15,Lista_Ubigeo!$F:$G,2,0),\" \")","v":" "},{"$f":"IFERROR(VLOOKUP(MID(C$1,5,2)&$A15,Lista_Ubigeo!$F:$G,2,0),\" \")","v":"OCROS"},{"$f":"IFERROR(VLOOKUP(MID(D$1,5,2)&$A15,Lista_Ubigeo!$F:$G,2,0),\" \")","v":" "},{"$f":"IFERROR(VLOOKUP(MID(E$1,5,2)&$A15,Lista_Ubigeo!$F:$G,2,0),\" \")","v":" "},{"$f":"IFERROR(VLOOKUP(MID(F$1,5,2)&$A15,Lista_Ubigeo!$F:$G,2,0),\" \")","v":" "},{"$f":"IFERROR(VLOOKUP(MID(G$1,5,2)&$A15,Lista_Ubigeo!$F:$G,2,0),\" \")","v":" "},{"$f":"IFERROR(VLOOKUP(MID(H$1,5,2)&$A15,Lista_Ubigeo!$F:$G,2,0),\" \")","v":" "},{"$f":"IFERROR(VLOOKUP(MID(I$1,5,2)&$A15,Lista_Ubigeo!$F:$G,2,0),\" \")","v":" "},null,{"$f":"IFERROR(VLOOKUP(MID(K$1,5,2)&$A15,Lista_Ubigeo!$F:$G,2,0),\" \")","v":" "}]
["15",{"$f":"IFERROR(VLOOKUP(MID(B$1,5,2)&$A16,Lista_Ubigeo!$F:$G,2,0),\" \")","v":" "},{"$f":"IFERROR(VLOOKUP(MID(C$1,5,2)&$A16,Lista_Ubigeo!$F:$G,2,0),\" \")","v":"PALLASCA"},{"$f":"IFERROR(VLOOKUP(MID(D$1,5,2)&$A16,Lista_Ubigeo!$F:$G,2,0),\" \")","v":" "},{"$f":"IFERROR(VLOOKUP(MID(E$1,5,2)&$A16,Lista_Ubigeo!$F:$G,2,0),\" \")","v":" "},{"$f":"IFERROR(VLOOKUP(MID(F$1,5,2)&$A16,Lista_Ubigeo!$F:$G,2,0),\" \")","v":" "},{"$f":"IFERROR(VLOOKUP(MID(G$1,5,2)&$A16,Lista_Ubigeo!$F:$G,2,0),\" \")","v":" "},{"$f":"IFERROR(VLOOKUP(MID(H$1,5,2)&$A16,Lista_Ubigeo!$F:$G,2,0),\" \")","v":" "},{"$f":"IFERROR(VLOOKUP(MID(I$1,5,2)&$A16,Lista_Ubigeo!$F:$G,2,0),\" \")","v":" "},null,{"$f":"IFERROR(VLOOKUP(MID(K$1,5,2)&$A16,Lista_Ubigeo!$F:$G,2,0),\" \")","v":" "}]
["16",{"$f":"IFERROR(VLOOKUP(MID(B$1,5,2)&$A17,Lista_Ubigeo!$F:$G,2,0),\" \")","v":" "},{"$f":"IFERROR(VLOOKUP(MID(C$1,5,2)&$A17,Lista_Ubigeo!$F:$G,2,0),\" \")","v":"POMABAMBA"},{"$f":"IFERROR(VLOOKUP(MID(D$1,5,2)&$A17,Lista_Ubigeo!$F:$G,2,0),\" \")","v":" "},{"$f":"IFERROR(VLOOKUP(MID(E$1,5,2)&$A17,Lista_Ubigeo!$F:$G,2,0),\" \")","v":" "},{"$f":"IFERROR(VLOOKUP(MID(F$1,5,2)&$A17,Lista_Ubigeo!$F:$G,2,0),\" \")","v":" "},{"$f":"IFERROR(VLOOKUP(MID(G$1,5,2)&$A17,Lista_Ubigeo!$F:$G,2,0),\" \")","v":" "},{"$f":"IFERROR(VLOOKUP(MID(H$1,5,2)&$A17,Lista_Ubigeo!$F:$G,2,0),\" \")","v":" "},{"$f":"IFERROR(VLOOKUP(MID(I$1,5,2)&$A17,Lista_Ubigeo!$F:$G,2,0),\" \")","v":" "},null,{"$f":"IFERROR(VLOOKUP(MID(K$1,5,2)&$A17,Lista_Ubigeo!$F:$G,2,0),\" \")","v":" "}]
["17",{"$f":"IFERROR(VLOOKUP(MID(B$1,5,2)&$A18,Lista_Ubigeo!$F:$G,2,0),\" \")","v":" "},{"$f":"IFERROR(VLOOKUP(MID(C$1,5,2)&$A18,Lista_Ubigeo!$F:$G,2,0),\" \")","v":"RECUAY"},{"$f":"IFERROR(VLOOKUP(MID(D$1,5,2)&$A18,Lista_Ubigeo!$F:$G,2,0),\" \")","v":" "},{"$f":"IFERROR(VLOOKUP(MID(E$1,5,2)&$A18,Lista_Ubigeo!$F:$G,2,0),\" \")","v":" "},{"$f":"IFERROR(VLOOKUP(MID(F$1,5,2)&$A18,Lista_Ubigeo!$F:$G,2,0),\" \")","v":" "},{"$f":"IFERROR(VLOOKUP(MID(G$1,5,2)&$A18,Lista_Ubigeo!$F:$G,2,0),\" \")","v":" "},{"$f":"IFERROR(VLOOKUP(MID(H$1,5,2)&$A18,Lista_Ubigeo!$F:$G,2,0),\" \")","v":" "},{"$f":"IFERROR(VLOOKUP(MID(I$1,5,2)&$A18,Lista_Ubigeo!$F:$G,2,0),\" \")","v":" "},null,{"$f":"IFERROR(VLOOKUP(MID(K$1,5,2)&$A18,Lista_Ubigeo!$F:$G,2,0),\" \")","v":" "}]
["18",{"$f":"IFERROR(VLOOKUP(MID(B$1,5,2)&$A19,Lista_Ubigeo!$F:$G,2,0),\" \")","v":" "},{"$f":"IFERROR(VLOOKUP(MID(C$1,5,2)&$A19,Lista_Ubigeo!$F:$G,2,0),\" \")","v":"SANTA"},{"$f":"IFERROR(VLOOKUP(MID(D$1,5,2)&$A19,Lista_Ubigeo!$F:$G,2,0),\" \")","v":" "},{"$f":"IFERROR(VLOOKUP(MID(E$1,5,2)&$A19,Lista_Ubigeo!$F:$G,2,0),\" \")","v":" "},{"$f":"IFERROR(VLOOKUP(MID(F$1,5,2)&$A19,Lista_Ubigeo!$F:$G,2,0),\" \")","v":" "},{"$f":"IFERROR(VLOOKUP(MID(G$1,5,2)&$A19,Lista_Ubigeo!$F:$G,2,0),\" \")","v":" "},{"$f":"IFERROR(VLOOKUP(MID(H$1,5,2)&$A19,Lista_Ubigeo!$F:$G,2,0),\" \")","v":" "},{"$f":"IFERROR(VLOOKUP(MID(I$1,5,2)&$A19,Lista_Ubigeo!$F:$G,2,0),\" \")","v":" "},null,{"$f":"IFERROR(VLOOKUP(MID(K$1,5,2)&$A19,Lista_Ubigeo!$F:$G,2,0),\" \")","v":" "}]
["19",{"$f":"IFERROR(VLOOKUP(MID(B$1,5,2)&$A20,Lista_Ubigeo!$F:$G,2,0),\" \")","v":" "},{"$f":"IFERROR(VLOOKUP(MID(C$1,5,2)&$A20,Lista_Ubigeo!$F:$G,2,0),\" \")","v":"SIHUAS"},{"$f":"IFERROR(VLOOKUP(MID(D$1,5,2)&$A20,Lista_Ubigeo!$F:$G,2,0),\" \")","v":" "},{"$f":"IFERROR(VLOOKUP(MID(E$1,5,2)&$A20,Lista_Ubigeo!$F:$G,2,0),\" \")","v":" "},{"$f":"IFERROR(VLOOKUP(MID(F$1,5,2)&$A20,Lista_Ubigeo!$F:$G,2,0),\" \")","v":" "},{"$f":"IFERROR(VLOOKUP(MID(G$1,5,2)&$A20,Lista_Ubigeo!$F:$G,2,0),\" \")","v":" "},{"$f":"IFERROR(VLOOKUP(MID(H$1,5,2)&$A20,Lista_Ubigeo!$F:$G,2,0),\" \")","v":" "},{"$f":"IFERROR(VLOOKUP(MID(I$1,5,2)&$A20,Lista_Ubigeo!$F:$G,2,0),\" \")","v":" "},null,{"$f":"IFERROR(VLOOKUP(MID(K$1,5,2)&$A20,Lista_Ubigeo!$F:$G,2,0),\" \")","v":" "}]
["20",{"$f":"IFERROR(VLOOKUP(MID(B$1,5,2)&$A21,Lista_Ubigeo!$F:$G,2,0),\" \")","v":" "},{"$f":"IFERROR(VLOOKUP(MID(C$1,5,2)&$A21,Lista_Ubigeo!$F:$G,2,0),\" \")","v":"YUNGAY"},{"$f":"IFERROR(VLOOKUP(MID(D$1,5,2)&$A21,Lista_Ubigeo!$F:$G,2,0),\" \")","v":" "},{"$f":"IFERROR(VLOOKUP(MID(E$1,5,2)&$A21,Lista_Ubigeo!$F:$G,2,0),\" \")","v":" "},{"$f":"IFERROR(VLOOKUP(MID(F$1,5,2)&$A21,Lista_Ubigeo!$F:$G,2,0),\" \")","v":" "},{"$f":"IFERROR(VLOOKUP(MID(G$1,5,2)&$A21,Lista_Ubigeo!$F:$G,2,0),\" \")","v":" "},{"$f":"IFERROR(VLOOKUP(MID(H$1,5,2)&$A21,Lista_Ubigeo!$F:$G,2,0),\" \")","v":" "},{"$f":"IFERROR(VLOOKUP(MID(I$1,5,2)&$A21,Lista_Ubigeo!$F:$G,2,0),\" \")","v":" "},null,{"$f":"IFERROR(VLOOKUP(MID(K$1,5,2)&$A21,Lista_Ubigeo!$F:$G,2,0),\" \")","v":" "}]
["21",null,{"$f":"IFERROR(VLOOKUP(MID(C$1,5,2)&$A22,Lista_Ubigeo!$F:$G,2,0),\" \")","v":" "},{"$f":"IFERROR(VLOOKUP(MID(D$1,5,2)&$A22,Lista_Ubigeo!$F:$G,2,0),\" \")","v":" "},{"$f":"IFERROR(VLOOKUP(MID(E$1,5,2)&$A22,Lista_Ubigeo!$F:$G,2,0),\" \")","v":" "},{"$f":"IFERROR(VLOOKUP(MID(F$1,5,2)&$A22,Lista_Ubigeo!$F:$G,2,0),\" \")","v":" "},{"$f":"IFERROR(VLOOKUP(MID(G$1,5,2)&$A22,Lista_Ubigeo!$F:$G,2,0),\" \")","v":" "},{"$f":"IFERROR(VLOOKUP(MID(H$1,5,2)&$A22,Lista_Ubigeo!$F:$G,2,0),\" \")","v":" "},{"$f":"IFERROR(VLOOKUP(MID(I$1,5,2)&$A22,Lista_Ubigeo!$F:$G,2,0),\" \")","v":" "},null,{"$f":"IFERROR(VLOOKUP(MID(K$1,5,2)&$A22,Lista_Ubigeo!$F:$G,2,0),\" \")","v":" "}]
[null,"CHA_0101","BAG_0102","BON_0103","CON_0104","LUY_0105","ROD_0106","UTC_0107","HUA_0201","AIJ_0202","ANT_0203","ASU_0204","BOL_0205","CAR_0206","CAR_0207","CAS_0208","COR_0209","HUA_0210","HUA_0211","HUA_0212","MAR_0213","OCR_0214","PAL_0215","POM_0216","REC_0217","SAN_0218","SIH_0219","YUN_0220","ABA_0301","AND_0302","ANT_0303","AYM_0304","COT_0305","CHI_0306","GRA_0307","ARE_0401","CAM_0402","CAR_0403","CAS_0404","CAY_0405","CON_0406","ISL_0407","LA_0408","HUA_0501","CAN_0502","HUA_0503","HUA_0504","LA _0505","LUC_0506","PAR_0507","PÀU_0508","SUC_0509","VÍC_0510","VIL_0511","CAJ_0601","CAJ_0602","CEL_0603","CHO_0604","CON_0605","CUT_0606","HUA_0607","JAÉ_0608","SAN_0609","SAN_0610","SAN_0611","SAN_0612","SAN_0613","PRO_0701","CUS_0801","ACO_0802","ANT_0803","CAL_0804","CAN_0805","CAN_0806","CHU_0807","ESP_0808","LA_0809","PAR_0810","PAU_0811","QUI_0812","URU_0813","HUA_0901","ACO_0902","ANG_0903","CAS_0904","CHU_0905","HUA_0906","TAY_0907","HUÁ_1001","AMB_1002","DOS_1003","HUA_1004","HUA_1005","LEO_1006","MAR_1007","PAC_1008","PUE_1009","LAU_1010","YAR_1011","ICA_1101","CHI_1102","NAS_1103","PAL_1104","PIS_1105","HUA_1201","CON_1202","CHA_1203","JAU_1204","JUN_1205","SAT_1206","TAR_1207","YAU_1208","CHU_1209","TRU_1301","ASC_1302","BOL_1303","CHE_1304","JUL_1305","OTU_1306","PAC_1307","PAT_1308","SÁN_1309","SAN_1310","GRA_1311","VIR_1312","CHI_1401","FER_1402","LAM_1403","LIM_1501","BAR_1502","CAJ_1503","CAN_1504","CAÑ_1505","HUA_1506","HUA_1507","HUA_1508","OYÓ_1509","YAU_1510","MAY_1601","ALT_1602","LOR_1603","MAR_1604","REQ_1605","UCA_1606","DAT_1607","PUT_1608","TAM_1701","MAN_1702","TAH_1703","MAR_1801","GEN_1802","ILO_1803","PAS_1901","DAN_1902","OXA_1903","PIU_2001","AYA_2002","HUA_2003","MOR_2004","PAI_2005","SUL_2006","TAL_2007","SEC_2008","PUN_2101","AZÁ_2102","CAR_2103","CHU_2104","EL _2105","HUA_2106","LAM_2107","MEL_2108","MOH_2109","SAN_2110","SAN_2111","SAN_2112","YUN_2113","MOY_2201","BEL_2202","EL _2203","HUA_2204","LAM_2205","MAR_2206","PIC_2207","RIO_2208","SAN_2209","TOC_2210","TAC_2301","CAN_2302","JOR_2303","TAR_2304","TUM_2401","CON_2402","ZAR_2403","COR_2501","ATA_2502","PAD_2503","PUR_2504","AZA_2102"]
["01",{"$f":"IFERROR(VLOOKUP(MID(B$23,5,4)&$A24,Lista_Ubigeo!$J:$K,2,0),\" \")","v":"CHACHAPOYAS"},{"$f":"IFERROR(VLOOKUP(MID(C$23,5,4)&$A24,Lista_Ubigeo!$J:$K,2,0),\" \")","v":"BAGUA"},{"$f":"IFERROR(VLOOKUP(MID(D$23,5,4)&$A24,Lista_Ubigeo!$J:$K,2,0),\" \")","v":"JUMBILLA"},{"$f":"IFERROR(VLOOKUP(MID(E$23,5,4)&$A24,Lista_Ubigeo!$J:$K,2,0),\" \")","v":"NIEVA"},{"$f":"IFERROR(VLOOKUP(MID(F$23,5,4)&$A24,Lista_Ubigeo!$J:$K,2,0),\" \")","v":"LAMUD"},{"$f":"IFERROR(VLOOKUP(MID(G$23,5,4)&$A24,Lista_Ubigeo!$J:$K,2,0),\" \")","v":"SAN NICOLAS"},{"$f":"IFERROR(VLOOKUP(MID(H$23,5,4)&$A24,Lista_Ubigeo!$J:$K,2,0),\" \")","v":"BAGUA GRANDE"},{"$f":"IFERROR(VLOOKUP(MID(I$23,5,4)&$A24,Lista_Ubigeo!$J:$K,2,0),\" \")","v":"HUARAZ"},{"$f":"IFERROR(VLOOKUP(MID(J$23,5,4)&$A24,Lista_Ubigeo!$J:$K,2,0),\" \")","v":"AIJA"},{"$f":"IFERROR(VLOOKUP(MID(K$23,5,4)&$A24,Lista_Ubigeo!$J:$K,2,0),\" \")","v":"LLAMELLIN"},{"$f":"IFERROR(VLOOKUP(MID(L$23,5,4)&$A24,Lista_Ubigeo!$J:$K,2,0),\" \")","v":"CHACAS"},{"$f":"IFERROR(VLOOKUP(MID(M$23,5,4)&$A24,Lista_Ubigeo!$J:$K,2,0),\" \")","v":"CHIQUIAN"},{"$f":"IFERROR(VLOOKUP(MID(N$23,5,4)&$A24,Lista_Ubigeo!$J:$K,2,0),\" \")","v":"CARHUAZ"},{"$f":"IFERROR(VLOOKUP(MID(O$23,5,4)&$A24,Lista_Ubigeo!$J:$K,2,0),\" \")","v":"SAN LUIS"},{"$f":"IFERROR(VLOOKUP(MID(P$23,5,4)&$A24,Lista_Ubigeo!$J:$K,2,0),\" \")","v":"CASMA"},{"$f":"IFERROR(VLOOKUP(MID(Q$23,5,4)&$A24,Lista_Ubigeo!$J:$K,2,0),\" \")","v":"CORONGO"},{"$f":"IFERROR(VLOOKUP(MID(R$23,5,4)&$A24,Lista_Ubigeo!$J:$K,2,0),\" \")","v":"HUARI"},{"$f":"IFERROR(VLOOKUP(MID(S$23,5,4)&$A24,Lista_Ubigeo!$J:$K,2,0),\" \")","v":"HUARMEY"},{"$f":"IFERROR(VLOOKUP(MID(T$23,5,4)&$A24,Lista_Ubigeo!$J:$K,2,0),\" \")","v":"CARAZ"},{"$f":"IFERROR(VLOOKUP(MID(U$23,5,4)&$A24,Lista_Ubigeo!$J:$K,2,0),\" \")","v":"PISCOBAMBA"},{"$f":"IFERROR(VLOOKUP(MID(V$23,5,4)&$A24,Lista_Ubigeo!$J:$K,2,0),\" \")","v":"OCROS"},{"$f":"IFERROR(VLOOKUP(MID(W$23,5,4)&$A24,Lista_Ubigeo!$J:$K,2,0),\" \")","v":"CABANA"},{"$f":"IFERROR(VLOOKUP(MID(X$23,5,4)&$A24,Lista_Ubigeo!$J:$K,2,0),\" \")","v":"POMABAMBA"},{"$f":"IFERROR(VLOOKUP(MID(Y$23,5,4)&$A24,Lista_Ubigeo!$J:$K,2,0),\" \")","v":"RECUAY"},{"$f":"IFERROR(VLOOKUP(MID(Z$23,5,4)&$A24,Lista_Ubigeo!$J:$K,2,0),\" \")","v":"CHIMBOTE"},{"$f":"IFERROR(VLOOKUP(MID(AA$23,5,4)&$A24,Lista_Ubigeo!$J:$K,2,0),\" \")","v":"SIHUAS"},{"$f":"IFERROR(VLOOKUP(MID(AB$23,5,4)&$A24,Lista_Ubigeo!$J:$K,2,0),\" \")","v":"YUNGAY"},{"$f":"IFERROR(VLOOKUP(MID(AC$23,5,4)&$A24,Lista_Ubigeo!$J:$K,2,0),\" \")","v":"ABANCAY"},{"$f":"IFERROR(VLOOKUP(MID(AD$23,5,4)&$A24,Lista_Ubigeo!$J:$K,2,0),\" \")","v":"ANDAHUAYLAS"},{"$f":"IFERROR(VLOOKUP(MID(AE$23,5,4)&$A24,Lista_Ubigeo!$J:$K,2,0),\" \")","v":"ANTABAMBA"},{"$f":"IFERROR(VLOOKUP(MID(AF$23,5,4)&$A24,Lista_Ubigeo!$J:$K,2,0),\" \")","v":"CHALHUANCA"},{"$f":"IFERROR(VLOOKUP(MID(AG$23,5,4)&$A24,Lista_Ubigeo!$J:$K,2,0),\" \")","v":"TAMBOBAMBA"},{"$f":"IFERROR(VLOOKUP(MID(AH$23,5,4)&$A24,Lista_Ubigeo!$J:$K,2,0),\" \")","v":"CHINCHEROS"},{"$f":"IFERROR(VLOOKUP(MID(AI$23,5,4)&$A24,Lista_Ubigeo!$J:$K,2,0),\" \")","v":"CHUQUIBAMBILLA"},{"$f":"IFERROR(VLOOKUP(MID(AJ$23,5,4)&$A24,Lista_Ubigeo!$J:$K,2,0),\" \")","v":"AREQUIPA"},{"$f":"IFERROR(VLOOKUP(MID(AK$23,5,4)&$A24,Lista_Ubigeo!$J:$K,2,0),\" \")","v":"CAMANA"},{"$f":"IFERROR(VLOOKUP(MID(AL$23,5,4)&$A24,Lista_Ubigeo!$J:$K,2,0),\" \")","v":"CARAVELI"},{"$f":"IFERROR(VLOOKUP(MID(AM$23,5,4)&$A24,Lista_Ubigeo!$J:$K,2,0),\" \")","v":"APLAO"},{"$f":"IFERROR(VLOOKUP(MID(AN$23,5,4)&$A24,Lista_Ubigeo!$J:$K,2,0),\" \")","v":"CHIVAY"},{"$f":"IFERROR(VLOOKUP(MID(AO$23,5,4)&$A24,Lista_Ubigeo!$J:$K,2,0),\" \")","v":"CHUQUIBAMBA"},{"$f":"IFERROR(VLOOKUP(MID(AP$23,5,4)&$A24,Lista_Ubigeo!$J:$K,2,0),\" \")","v":"MOLLENDO"},{"$f":"IFERROR(VLOOKUP(MID(AQ$23,4,4)&$A24,Lista_Ubigeo!$J:$K,2,0),\" \")","v":"COTAHUASI"},{"$f":"IFERROR(VLOOKUP(MID(AR$23,5,4)&$A24,Lista_Ubigeo!$J:$K,2,0),\" \")","v":"AYACUCHO"},{"$f":"IFERROR(VLOOKUP(MID(AS$23,5,4)&$A24,Lista_Ubigeo!$J:$K,2,0),\" \")","v":"CANGALLO"},{"$f":"IFERROR(VLOOKUP(MID(AT$23,5,4)&$A24,Lista_Ubigeo!$J:$K,2,0),\" \")","v":"SANCOS"},{"$f":"IFERROR(VLOOKUP(MID(AU$23,5,4)&$A24,Lista_Ubigeo!$J:$K,2,0),\" \")","v":"HUANTA"},{"$f":"IFERROR(VLOOKUP(MID(AV$23,5,4)&$A24,Lista_Ubigeo!$J:$K,2,0),\" \")","v":"SAN MIGUEL"},{"$f":"IFERROR(VLOOKUP(MID(AW$23,5,4)&$A24,Lista_Ubigeo!$J:$K,2,0),\" \")","v":"PUQUIO"},{"$f":"IFERROR(VLOOKUP(MID(AX$23,5,4)&$A24,Lista_Ubigeo!$J:$K,2,0),\" \")","v":"CORACORA"},{"$f":"IFERROR(VLOOKUP(MID(AY$23,5,4)&$A24,Lista_Ubigeo!$J:$K,2,0),\" \")","v":"PAUSA"},{"$f":"IFERROR(VLOOKUP(MID(AZ$23,5,4)&$A24,Lista_Ubigeo!$J:$K,2,0),\" \")","v":"QUEROBAMBA"},{"$f":"IFERROR(VLOOKUP(MID(BA$23,5,4)&$A24,Lista_Ubigeo!$J:$K,2,0),\" \")","v":"HUANCAPI"},{"$f":"IFERROR(VLOOKUP(MID(BB$23,5,4)&$A24,Lista_Ubigeo!$J:$K,2,0),\" \")","v":"VILCAS HUAMAN"},{"$f":"IFERROR(VLOOKUP(MID(BC$23,5,4)&$A24,Lista_Ubigeo!$J:$K,2,0),\" \")","v":"CAJAMARCA"},{"$f":"IFERROR(VLOOKUP(MID(BD$23,5,4)&$A24,Lista_Ubigeo!$J:$K,2,0),\" \")","v":"CAJABAMBA"},{"$f":"IFERROR(VLOOKUP(MID(BE$23,5,4)&$A24,Lista_Ubigeo!$J:$K,2,0),\" \")","v":"CELENDIN"},{"$f":"IFERROR(VLOOKUP(MID(BF$23,5,4)&$A24,Lista_Ubigeo!$J:$K,2,0),\" \")","v":"CHOTA"},{"$f":"IFERROR(VLOOKUP(MID(BG$23,5,4)&$A24,Lista_Ubigeo!$J:$K,2,0),\" \")","v":"CONTUMAZA"},{"$f":"IFERROR(VLOOKUP(MID(BH$23,5,4)&$A24,Lista_Ubigeo!$J:$K,2,0),\" \")","v":"CUTERVO"},{"$f":"IFERROR(VLOOKUP(MID(BI$23,5,4)&$A24,Lista_Ubigeo!$J:$K,2,0),\" \")","v":"BAMBAMARCA"},{"$f":"IFERROR(VLOOKUP(MID(BJ$23,5,4)&$A24,Lista_Ubigeo!$J:$K,2,0),\" \")","v":"JAEN"},{"$f":"IFERROR(VLOOKUP(MID(BK$23,5,4)&$A24,Lista_Ubigeo!$J:$K,2,0),\" \")","v":"SAN IGNACIO"},{"$f":"IFERROR(VLOOKUP(MID(BL$23,5,4)&$A24,Lista_Ubigeo!$J:$K,2,0),\" \")","v":"PEDRO GALVEZ"},{"$f":"IFERROR(VLOOKUP(MID(BM$23,5,4)&$A24,Lista_Ubigeo!$J:$K,2,0),\" \")","v":"SAN MIGUEL"},{"$f":"IFERROR(VLOOKUP(MID(BN$23,5,4)&$A24,Lista_Ubigeo!$J:$K,2,0),\" \")","v":"SAN PABLO"},{"$f":"IFERROR(VLOOKUP(MID(BO$23,5,4)&$A24,Lista_Ubigeo!$J:$K,2,0),\" \")","v":"SANTA CRUZ"},{"$f":"IFERROR(VLOOKUP(MID(BP$23,5,4)&$A24,Lista_Ubigeo!$J:$K,2,0),\" \")","v":"CALLAO"},{"$f":"IFERROR(VLOOKUP(MID(BQ$23,5,4)&$A24,Lista_Ubigeo!$J:$K,2,0),\" \")","v":"CUSCO"},{"$f":"IFERROR(VLOOKUP(MID(BR$23,5,4)&$A24,Lista_Ubigeo!$J:$K,2,0),\" \")","v":"ACOMAYO"},{"$f":"IFERROR(VLOOKUP(MID(BS$23,5,4)&$A24,Lista_Ubigeo!$J:$K,2,0),\" \")","v":"ANTA"},{"$f":"IFERROR(VLOOKUP(MID(BT$23,5,4)&$A24,Lista_Ubigeo!$J:$K,2,0),\" \")","v":"CALCA"},{"$f":"IFERROR(VLOOKUP(MID(BU$23,5,4)&$A24,Lista_Ubigeo!$J:$K,2,0),\" \")","v":"YANAOCA"},{"$f":"IFERROR(VLOOKUP(MID(BV$23,5,4)&$A24,Lista_Ubigeo!$J:$K,2,0),\" \")","v":"SICUANI"},{"$f":"IFERROR(VLOOKUP(MID(BW$23,5,4)&$A24,Lista_Ubigeo!$J:$K,2,0),\" \")","v":"SANTO TOMAS"},{"$f":"IFERROR(VLOOKUP(MID(BX$23,5,4)&$A24,Lista_Ubigeo!$J:$K,2,0),\" \")","v":"ESPINAR"},{"$f":"IFERROR(VLOOKUP(MID(BY$23,4,4)&$A24,Lista_Ubigeo!$J:$K,2,0),\" \")","v":"SANTA ANA"},{"$f":"IFERROR(VLOOKUP(MID(BZ$23,5,4)&$A24,Lista_Ubigeo!$J:$K,2,0),\" \")","v":"PARURO"},{"$f":"IFERROR(VLOOKUP(MID(CA$23,5,4)&$A24,Lista_Ubigeo!$J:$K,2,0),\" \")","v":"PAUCARTAMBO"},{"$f":"IFERROR(VLOOKUP(MID(CB$23,5,4)&$A24,Lista_Ubigeo!$J:$K,2,0),\" \")","v":"URCOS"},{"$f":"IFERROR(VLOOKUP(MID(CC$23,5,4)&$A24,Lista_Ubigeo!$J:$K,2,0),\" \")","v":"URUBAMBA"},{"$f":"IFERROR(VLOOKUP(MID(CD$23,5,4)&$A24,Lista_Ubigeo!$J:$K,2,0),\" \")","v":"HUANCAVELICA"},{"$f":"IFERROR(VLOOKUP(MID(CE$23,5,4)&$A24,Lista_Ubigeo!$J:$K,2,0),\" \")","v":"ACOBAMBA"},{"$f":"IFERROR(VLOOKUP(MID(CF$23,5,4)&$A24,Lista_Ubigeo!$J:$K,2,0),\" \")","v":"LIRCAY"},{"$f":"IFERROR(VLOOKUP(MID(CG$23,5,4)&$A24,Lista_Ubigeo!$J:$K,2,0),\" \")","v":"CASTROVIRREYNA"},{"$f":"IFERROR(VLOOKUP(MID(CH$23,5,4)&$A24,Lista_Ubigeo!$J:$K,2,0),\" \")","v":"CHURCAMPA"},{"$f":"IFERROR(VLOOKUP(MID(CI$23,5,4)&$A24,Lista_Ubigeo!$J:$K,2,0),\" \")","v":"HUAYTARA"},{"$f":"IFERROR(VLOOKUP(MID(CJ$23,5,4)&$A24,Lista_Ubigeo!$J:$K,2,0),\" \")","v":"PAMPAS"},{"$f":"IFERROR(VLOOKUP(MID(CK$23,5,4)&$A24,Lista_Ubigeo!$J:$K,2,0),\" \")","v":"HUANUCO"},{"$f":"IFERROR(VLOOKUP(MID(CL$23,5,4)&$A24,Lista_Ubigeo!$J:$K,2,0),\" \")","v":"AMBO"},{"$f":"IFERROR(VLOOKUP(MID(CM$23,5,4)&$A24,Lista_Ubigeo!$J:$K,2,0),\" \")","v":"LA UNION"},{"$f":"IFERROR(VLOOKUP(MID(CN$23,5,4)&$A24,Lista_Ubigeo!$J:$K,2,0),\" \")","v":"HUACAYBAMBA"},{"$f":"IFERROR(VLOOKUP(MID(CO$23,5,4)&$A24,Lista_Ubigeo!$J:$K,2,0),\" \")","v":"LLATA"},{"$f":"IFERROR(VLOOKUP(MID(CP$23,5,4)&$A24,Lista_Ubigeo!$J:$K,2,0),\" \")","v":"RUPA-RUPA"},{"$f":"IFERROR(VLOOKUP(MID(CQ$23,5,4)&$A24,Lista_Ubigeo!$J:$K,2,0),\" \")","v":"HUACRACHUCO"},{"$f":"IFERROR(VLOOKUP(MID(CR$23,5,4)&$A24,Lista_Ubigeo!$J:$K,2,0),\" \")","v":"PANAO"},{"$f":"IFERROR(VLOOKUP(MID(CS$23,5,4)&$A24,Lista_Ubigeo!$J:$K,2,0),\" \")","v":"PUERTO INCA"},{"$f":"IFERROR(VLOOKUP(MID(CT$23,5,4)&$A24,Lista_Ubigeo!$J:$K,2,0),\" \")","v":"JESUS"},{"$f":"IFERROR(VLOOKUP(MID(CU$23,5,4)&$A24,Lista_Ubigeo!$J:$K,2,0),\" \")","v":"CHAVINILLO"},{"$f":"IFERROR(VLOOKUP(MID(CV$23,5,4)&$A24,Lista_Ubigeo!$J:$K,2,0),\" \")","v":"ICA"},{"$f":"IFERROR(VLOOKUP(MID(CW$23,5,4)&$A24,Lista_Ubigeo!$J:$K,2,0),\" \")","v":"CHINCHA ALTA"},{"$f":"IFERROR(VLOOKUP(MID(CX$23,5,4)&$A24,Lista_Ubigeo!$J:$K,2,0),\" \")","v":"NAZCA"},{"$f":"IFERROR(VLOOKUP(MID(CY$23,5,4)&$A24,Lista_Ubigeo!$J:$K,2,0),\" \")","v":"PALPA"},{"$f":"IFERROR(VLOOKUP(MID(CZ$23,5,4)&$A24,Lista_Ubigeo!$J:$K,2,0),\" \")","v":"PISCO"},{"$f":"IFERROR(VLOOKUP(MID(DA$23,5,4)&$A24,Lista_Ubigeo!$J:$K,2,0),\" \")","v":"HUANCAYO"},{"$f":"IFERROR(VLOOKUP(MID(DB$23,5,4)&$A24,Lista_Ubigeo!$J:$K,2,0),\" \")","v":"CONCEPCION"},{"$f":"IFERROR(VLOOKUP(MID(DC$23,5,4)&$A24,Lista_Ubigeo!$J:$K,2,0),\" \")","v":"CHANCHAMAYO"},{"$f":"IFERROR(VLOOKUP(MID(DD$23,5,4)&$A24,Lista_Ubigeo!$J:$K,2,0),\" \")","v":"JAUJA"},{"$f":"IFERROR(VLOOKUP(MID(DE$23,5,4)&$A24,Lista_Ubigeo!$J:$K,2,0),\" \")","v":"JUNIN"},{"$f":"IFERROR(VLOOKUP(MID(DF$23,5,4)&$A24,Lista_Ubigeo!$J:$K,2,0),\" \")","v":"SATIPO"},{"$f":"IFERROR(VLOOKUP(MID(DG$23,5,4)&$A24,Lista_Ubigeo!$J:$K,2,0),\" \")","v":"TARMA"},{"$f":"IFERROR(VLOOKUP(MID(DH$23,5,4)&$A24,Lista_Ubigeo!$J:$K,2,0),\" \")","v":"LA OROYA"},{"$f":"IFERROR(VLOOKUP(MID(DI$23,5,4)&$A24,Lista_Ubigeo!$J:$K,2,0),\" \")","v":"CHUPACA"},{"$f":"IFERROR(VLOOKUP(MID(DJ$23,5,4)&$A24,Lista_Ubigeo!$J:$K,2,0),\" \")","v":"TRUJILLO"},{"$f":"IFERROR(VLOOKUP(MID(DK$23,5,4)&$A24,Lista_Ubigeo!$J:$K,2,0),\" \")","v":"ASCOPE"},{"$f":"IFERROR(VLOOKUP(MID(DL$23,5,4)&$A24,Lista_Ubigeo!$J:$K,2,0),\" \")","v":"BOLIVAR"},{"$f":"IFERROR(VLOOKUP(MID(DM$23,5,4)&$A24,Lista_Ubigeo!$J:$K,2,0),\" \")","v":"CHEPEN"},{"$f":"IFERROR(VLOOKUP(MID(DN$23,5,4)&$A24,Lista_Ubigeo!$J:$K,2,0),\" \")","v":"JULCAN"},{"$f":"IFERROR(VLOOKUP(MID(DO$23,5,4)&$A24,Lista_Ubigeo!$J:$K,2,0),\" \")","v":"OTUZCO"},{"$f":"IFERROR(VLOOKUP(MID(DP$23,5,4)&$A24,Lista_Ubigeo!$J:$K,2,0),\" \")","v":"SAN PEDRO DE LLOC"},{"$f":"IFERROR(VLOOKUP(MID(DQ$23,5,4)&$A24,Lista_Ubigeo!$J:$K,2,0),\" \")","v":"TAYABAMBA"},{"$f":"IFERROR(VLOOKUP(MID(DR$23,5,4)&$A24,Lista_Ubigeo!$J:$K,2,0),\" \")","v":"HUAMACHUCO"},{"$f":"IFERROR(VLOOKUP(MID(DS$23,5,4)&$A24,Lista_Ubigeo!$J:$K,2,0),\" \")","v":"SANTIAGO DE CHUCO"},{"$f":"IFERROR(VLOOKUP(MID(DT$23,5,4)&$A24,Lista_Ubigeo!$J:$K,2,0),\" \")","v":"CASCAS"},{"$f":"IFERROR(VLOOKUP(MID(DU$23,5,4)&$A24,Lista_Ubigeo!$J:$K,2,0),\" \")","v":"VIRU"},{"$f":"IFERROR(VLOOKUP(MID(DV$23,5,4)&$A24,Lista_Ubigeo!$J:$K,2,0),\" \")","v":"CHICLAYO"},{"$f":"IFERROR(VLOOKUP(MID(DW$23,5,4)&$A24,Lista_Ubigeo!$J:$K,2,0),\" \")","v":"FERREÑAFE"},{"$f":"IFERROR(VLOOKUP(MID(DX$23,5,4)&$A24,Lista_Ubigeo!$J:$K,2,0),\" \")","v":"LAMBAYEQUE"},{"$f":"IFERROR(VLOOKUP(MID(DY$23,5,4)&$A24,Lista_Ubigeo!$J:$K,2,0),\" \")","v":"LIMA"},{"$f":"IFERROR(VLOOKUP(MID(DZ$23,5,4)&$A24,Lista_Ubigeo!$J:$K,2,0),\" \")","v":"BARRANCA"},{"$f":"IFERROR(VLOOKUP(MID(EA$23,5,4)&$A24,Lista_Ubigeo!$J:$K,2,0),\" \")","v":"CAJATAMBO"},{"$f":"IFERROR(VLOOKUP(MID(EB$23,5,4)&$A24,Lista_Ubigeo!$J:$K,2,0),\" \")","v":"CANTA"},{"$f":"IFERROR(VLOOKUP(MID(EC$23,5,4)&$A24,Lista_Ubigeo!$J:$K,2,0),\" \")","v":"SAN VICENTE DE CAÑETE"},{"$f":"IFERROR(VLOOKUP(MID(ED$23,5,4)&$A24,Lista_Ubigeo!$J:$K,2,0),\" \")","v":"HUARAL"},{"$f":"IFERROR(VLOOKUP(MID(EE$23,5,4)&$A24,Lista_Ubigeo!$J:$K,2,0),\" \")","v":"MATUCANA"},{"$f":"IFERROR(VLOOKUP(MID(EF$23,5,4)&$A24,Lista_Ubigeo!$J:$K,2,0),\" \")","v":"HUACHO"},{"$f":"IFERROR(VLOOKUP(MID(EG$23,5,4)&$A24,Lista_Ubigeo!$J:$K,2,0),\" \")","v":"OYON"},{"$f":"IFERROR(VLOOKUP(MID(EH$23,5,4)&$A24,Lista_Ubigeo!$J:$K,2,0),\" \")","v":"YAUYOS"},{"$f":"IFERROR(VLOOKUP(MID(EI$23,5,4)&$A24,Lista_Ubigeo!$J:$K,2,0),\" \")","v":"IQUITOS"},{"$f":"IFERROR(VLOOKUP(MID(EJ$23,5,4)&$A24,Lista_Ubigeo!$J:$K,2,0),\" \")","v":"YURIMAGUAS"},{"$f":"IFERROR(VLOOKUP(MID(EK$23,5,4)&$A24,Lista_Ubigeo!$J:$K,2,0),\" \")","v":"NAUTA"},{"$f":"IFERROR(VLOOKUP(MID(EL$23,5,4)&$A24,Lista_Ubigeo!$J:$K,2,0),\" \")","v":"RAMON CASTILLA"},{"$f":"IFERROR(VLOOKUP(MID(EM$23,5,4)&$A24,Lista_Ubigeo!$J:$K,2,0),\" \")","v":"REQUENA"},{"$f":"IFERROR(VLOOKUP(MID(EN$23,5,4)&$A24,Lista_Ubigeo!$J:$K,2,0),\" \")","v":"CONTAMANA"},{"$f":"IFERROR(VLOOKUP(MID(EO$23,5,4)&$A24,Lista_Ubigeo!$J:$K,2,0),\" \")","v":"BARRANCA"},{"$f":"IFERROR(VLOOKUP(MID(EP$23,5,4)&$A24,Lista_Ubigeo!$J:$K,2,0),\" \")","v":"PUTUMAYO"},{"$f":"IFERROR(VLOOKUP(MID(EQ$23,5,4)&$A24,Lista_Ubigeo!$J:$K,2,0),\" \")","v":"TAMBOPATA"},{"$f":"IFERROR(VLOOKUP(MID(ER$23,5,4)&$A24,Lista_Ubigeo!$J:$K,2,0),\" \")","v":"MANU"},{"$f":"IFERROR(VLOOKUP(MID(ES$23,5,4)&$A24,Lista_Ubigeo!$J:$K,2,0),\" \")","v":"IÑAPARI"},{"$f":"IFERROR(VLOOKUP(MID(ET$23,5,4)&$A24,Lista_Ubigeo!$J:$K,2,0),\" \")","v":"MOQUEGUA"},{"$f":"IFERROR(VLOOKUP(MID(EU$23,5,4)&$A24,Lista_Ubigeo!$J:$K,2,0),\" \")","v":"OMATE"},{"$f":"IFERROR(VLOOKUP(MID(EV$23,5,4)&$A24,Lista_Ubigeo!$J:$K,2,0),\" \")","v":"ILO"},{"$f":"IFERROR(VLOOKUP(MID(EW$23,5,4)&$A24,Lista_Ubigeo!$J:$K,2,0),\" \")","v":"CHAUPIMARCA"},{"$f":"IFERROR(VLOOKUP(MID(EX$23,5,4)&$A24,Lista_Ubigeo!$J:$K,2,0),\" \")","v":"YANAHUANCA"},{"$f":"IFERROR(VLOOKUP(MID(EY$23,5,4)&$A24,Lista_Ubigeo!$J:$K,2,0),\" \")","v":"OXAPAMPA"},{"$f":"IFERROR(VLOOKUP(MID(EZ$23,5,4)&$A24,Lista_Ubigeo!$J:$K,2,0),\" \")","v":"PIURA"},{"$f":"IFERROR(VLOOKUP(MID(FA$23,5,4)&$A24,Lista_Ubigeo!$J:$K,2,0),\" \")","v":"AYABACA"},{"$f":"IFERROR(VLOOKUP(MID(FB$23,5,4)&$A24,Lista_Ubigeo!$J:$K,2,0),\" \")","v":"HUANCABAMBA"},{"$f":"IFERROR(VLOOKUP(MID(FC$23,5,4)&$A24,Lista_Ubigeo!$J:$K,2,0),\" \")","v":"CHULUCANAS"},{"$f":"IFERROR(VLOOKUP(MID(FD$23,5,4)&$A24,Lista_Ubigeo!$J:$K,2,0),\" \")","v":"PAITA"},{"$f":"IFERROR(VLOOKUP(MID(FE$23,5,4)&$A24,Lista_Ubigeo!$J:$K,2,0),\" \")","v":"SULLANA"},{"$f":"IFERROR(VLOOKUP(MID(FF$23,5,4)&$A24,Lista_Ubigeo!$J:$K,2,0),\" \")","v":"PARIÑAS"},{"$f":"IFERROR(VLOOKUP(MID(FG$23,5,4)&$A24,Lista_Ubigeo!$J:$K,2,0),\" \")","v":"SECHURA"},{"$f":"IFERROR(VLOOKUP(MID(FH$23,5,4)&$A24,Lista_Ubigeo!$J:$K,2,0),\" \")","v":"PUNO"},{"$f":"IFERROR(VLOOKUP(MID(FI$23,5,4)&$A24,Lista_Ubigeo!$J:$K,2,0),\" \")","v":"AZANGARO"},{"$f":"IFERROR(VLOOKUP(MID(FJ$23,5,4)&$A24,Lista_Ubigeo!$J:$K,2,0),\" \")","v":"MACUSANI"},{"$f":"IFERROR(VLOOKUP(MID(FK$23,5,4)&$A24,Lista_Ubigeo!$J:$K,2,0),\" \")","v":"JULI"},{"$f":"IFERROR(VLOOKUP(MID(FL$23,5,4)&$A24,Lista_Ubigeo!$J:$K,2,0),\" \")","v":"ILAVE"},{"$f":"IFERROR(VLOOKUP(MID(FM$23,5,4)&$A24,Lista_Ubigeo!$J:$K,2,0),\" \")","v":"HUANCANE"},{"$f":"IFERROR(VLOOKUP(MID(FN$23,5,4)&$A24,Lista_Ubigeo!$J:$K,2,0),\" \")","v":"LAMPA"},{"$f":"IFERROR(VLOOKUP(MID(FO$23,5,4)&$A24,Lista_Ubigeo!$J:$K,2,0),\" \")","v":"AYAVIRI"},{"$f":"IFERROR(VLOOKUP(MID(FP$23,5,4)&$A24,Lista_Ubigeo!$J:$K,2,0),\" \")","v":"MOHO"},{"$f":"IFERROR(VLOOKUP(MID(FQ$23,5,4)&$A24,Lista_Ubigeo!$J:$K,2,0),\" \")","v":"PUTINA"},{"$f":"IFERROR(VLOOKUP(MID(FR$23,5,4)&$A24,Lista_Ubigeo!$J:$K,2,0),\" \")","v":"JULIACA"},{"$f":"IFERROR(VLOOKUP(MID(FS$23,5,4)&$A24,Lista_Ubigeo!$J:$K,2,0),\" \")","v":"SANDIA"},{"$f":"IFERROR(VLOOKUP(MID(FT$23,5,4)&$A24,Lista_Ubigeo!$J:$K,2,0),\" \")","v":"YUNGUYO"},{"$f":"IFERROR(VLOOKUP(MID(FU$23,5,4)&$A24,Lista_Ubigeo!$J:$K,2,0),\" \")","v":"MOYOBAMBA"},{"$f":"IFERROR(VLOOKUP(MID(FV$23,5,4)&$A24,Lista_Ubigeo!$J:$K,2,0),\" \")","v":"BELLAVISTA"},{"$f":"IFERROR(VLOOKUP(MID(FW$23,5,4)&$A24,Lista_Ubigeo!$J:$K,2,0),\" \")","v":"SAN JOSE DE SISA"},{"$f":"IFERROR(VLOOKUP(MID(FX$23,5,4)&$A24,Lista_Ubigeo!$J:$K,2,0),\" \")","v":"SAPOSOA"},{"$f":"IFERROR(VLOOKUP(MID(FY$23,5,4)&$A24,Lista_Ubigeo!$J:$K,2,0),\" \")","v":"LAMAS"},{"$f":"IFERROR(VLOOKUP(MID(FZ$23,5,4)&$A24,Lista_Ubigeo!$J:$K,2,0),\" \")","v":"JUANJUI"},{"$f":"IFERROR(VLOOKUP(MID(GA$23,5,4)&$A24,Lista_Ubigeo!$J:$K,2,0),\" \")","v":"PICOTA"},{"$f":"IFERROR(VLOOKUP(MID(GB$23,5,4)&$A24,Lista_Ubigeo!$J:$K,2,0),\" \")","v":"RIOJA"},{"$f":"IFERROR(VLOOKUP(MID(GC$23,5,4)&$A24,Lista_Ubigeo!$J:$K,2,0),\" \")","v":"TARAPOTO"},{"$f":"IFERROR(VLOOKUP(MID(GD$23,5,4)&$A24,Lista_Ubigeo!$J:$K,2,0),\" \")","v":"TOCACHE"},{"$f":"IFERROR(VLOOKUP(MID(GE$23,5,4)&$A24,Lista_Ubigeo!$J:$K,2,0),\" \")","v":"TACNA"},{"$f":"IFERROR(VLOOKUP(MID(GF$23,5,4)&$A24,Lista_Ubigeo!$J:$K,2,0),\" \")","v":"CANDARAVE"},{"$f":"IFERROR(VLOOKUP(MID(GG$23,5,4)&$A24,Lista_Ubigeo!$J:$K,2,0),\" \")","v":"LOCUMBA"},{"$f":"IFERROR(VLOOKUP(MID(GH$23,5,4)&$A24,Lista_Ubigeo!$J:$K,2,0),\" \")","v":"TARATA"},{"$f":"IFERROR(VLOOKUP(MID(GI$23,5,4)&$A24,Lista_Ubigeo!$J:$K,2,0),\" \")","v":"TUMBES"},{"$f":"IFERROR(VLOOKUP(MID(GJ$23,5,4)&$A24,Lista_Ubigeo!$J:$K,2,0),\" \")","v":"ZORRITOS"},{"$f":"IFERROR(VLOOKUP(MID(GK$23,5,4)&$A24,Lista_Ubigeo!$J:$K,2,0),\" \")","v":"ZARUMILLA"},{"$f":"IFERROR(VLOOKUP(MID(GL$23,5,4)&$A24,Lista_Ubigeo!$J:$K,2,0),\" \")","v":"CALLERIA"},{"$f":"IFERROR(VLOOKUP(MID(GM$23,5,4)&$A24,Lista_Ubigeo!$J:$K,2,0),\" \")","v":"RAYMONDI"},{"$f":"IFERROR(VLOOKUP(MID(GN$23,5,4)&$A24,Lista_Ubigeo!$J:$K,2,0),\" \")","v":"PADRE ABAD"},{"$f":"IFERROR(VLOOKUP(MID(GO$23,5,4)&$A24,Lista_Ubigeo!$J:$K,2,0),\" \")","v":"PURUS"},{"$f":"IFERROR(VLOOKUP(MID(GP$23,5,4)&$A24,Lista_Ubigeo!$J:$K,2,0),\" \")","v":"AZANGARO"}]
["02",{"$f":"IFERROR(VLOOKUP(MID(B$23,5,4)&$A25,Lista_Ubigeo!$J:$K,2,0),\" \")","v":"ASUNCION"},{"$f":"IFERROR(VLOOKUP(MID(C$23,5,4)&$A25,Lista_Ubigeo!$J:$K,2,0),\" \")","v":"ARAMANGO"},{"$f":"IFERROR(VLOOKUP(MID(D$23,5,4)&$A25,Lista_Ubigeo!$J:$K,2,0),\" \")","v":"CHISQUILLA"},{"$f":"IFERROR(VLOOKUP(MID(E$23,5,4)&$A25,Lista_Ubigeo!$J:$K,2,0),\" \")","v":"EL CENEPA"},{"$f":"IFERROR(VLOOKUP(MID(F$23,5,4)&$A25,Lista_Ubigeo!$J:$K,2,0),\" \")","v":"CAMPORREDONDO"},{"$f":"IFERROR(VLOOKUP(MID(G$23,5,4)&$A25,Lista_Ubigeo!$J:$K,2,0),\" \")","v":"CHIRIMOTO"},{"$f":"IFERROR(VLOOKUP(MID(H$23,5,4)&$A25,Lista_Ubigeo!$J:$K,2,0),\" \")","v":"CAJARURO"},{"$f":"IFERROR(VLOOKUP(MID(I$23,5,4)&$A25,Lista_Ubigeo!$J:$K,2,0),\" \")","v":"COCHABAMBA"},{"$f":"IFERROR(VLOOKUP(MID(J$23,5,4)&$A25,Lista_Ubigeo!$J:$K,2,0),\" \")","v":"CORIS"},{"$f":"IFERROR(VLOOKUP(MID(K$23,5,4)&$A25,Lista_Ubigeo!$J:$K,2,0),\" \")","v":"ACZO"},{"$f":"IFERROR(VLOOKUP(MID(L$23,5,4)&$A25,Lista_Ubigeo!$J:$K,2,0),\" \")","v":"ACOCHACA"},{"$f":"IFERROR(VLOOKUP(MID(M$23,5,4)&$A25,Lista_Ubigeo!$J:$K,2,0),\" \")","v":"ABELARDO PARDO LEZAMETA"},{"$f":"IFERROR(VLOOKUP(MID(N$23,5,4)&$A25,Lista_Ubigeo!$J:$K,2,0),\" \")","v":"ACOPAMPA"},{"$f":"IFERROR(VLOOKUP(MID(O$23,5,4)&$A25,Lista_Ubigeo!$J:$K,2,0),\" \")","v":"SAN NICOLAS"},{"$f":"IFERROR(VLOOKUP(MID(P$23,5,4)&$A25,Lista_Ubigeo!$J:$K,2,0),\" \")","v":"BUENA VISTA ALTA"},{"$f":"IFERROR(VLOOKUP(MID(Q$23,5,4)&$A25,Lista_Ubigeo!$J:$K,2,0),\" \")","v":"ACO"},{"$f":"IFERROR(VLOOKUP(MID(R$23,5,4)&$A25,Lista_Ubigeo!$J:$K,2,0),\" \")","v":"ANRA"},{"$f":"IFERROR(VLOOKUP(MID(S$23,5,4)&$A25,Lista_Ubigeo!$J:$K,2,0),\" \")","v":"COCHAPETI"},{"$f":"IFERROR(VLOOKUP(MID(T$23,5,4)&$A25,Lista_Ubigeo!$J:$K,2,0),\" \")","v":"HUALLANCA"},{"$f":"IFERROR(VLOOKUP(MID(U$23,5,4)&$A25,Lista_Ubigeo!$J:$K,2,0),\" \")","v":"CASCA"},{"$f":"IFERROR(VLOOKUP(MID(V$23,5,4)&$A25,Lista_Ubigeo!$J:$K,2,0),\" \")","v":"ACAS"},{"$f":"IFERROR(VLOOKUP(MID(W$23,5,4)&$A25,Lista_Ubigeo!$J:$K,2,0),\" \")","v":"BOLOGNESI"},{"$f":"IFERROR(VLOOKUP(MID(X$23,5,4)&$A25,Lista_Ubigeo!$J:$K,2,0),\" \")","v":"HUAYLLAN"},{"$f":"IFERROR(VLOOKUP(MID(Y$23,5,4)&$A25,Lista_Ubigeo!$J:$K,2,0),\" \")","v":"CATAC"},{"$f":"IFERROR(VLOOKUP(MID(Z$23,5,4)&$A25,Lista_Ubigeo!$J:$K,2,0),\" \")","v":"CACERES DEL PERU"},{"$f":"IFERROR(VLOOKUP(MID(AA$23,5,4)&$A25,Lista_Ubigeo!$J:$K,2,0),\" \")","v":"ACOBAMBA"},{"$f":"IFERROR(VLOOKUP(MID(AB$23,5,4)&$A25,Lista_Ubigeo!$J:$K,2,0),\" \")","v":"CASCAPARA"},{"$f":"IFERROR(VLOOKUP(MID(AC$23,5,4)&$A25,Lista_Ubigeo!$J:$K,2,0),\" \")","v":"CHACOCHE"},{"$f":"IFERROR(VLOOKUP(MID(AD$23,5,4)&$A25,Lista_Ubigeo!$J:$K,2,0),\" \")","v":"ANDARAPA"},{"$f":"IFERROR(VLOOKUP(MID(AE$23,5,4)&$A25,Lista_Ubigeo!$J:$K,2,0),\" \")","v":"EL ORO"},{"$f":"IFERROR(VLOOKUP(MID(AF$23,5,4)&$A25,Lista_Ubigeo!$J:$K,2,0),\" \")","v":"CAPAYA"},{"$f":"IFERROR(VLOOKUP(MID(AG$23,5,4)&$A25,Lista_Ubigeo!$J:$K,2,0),\" \")","v":"COTABAMBAS"},{"$f":"IFERROR(VLOOKUP(MID(AH$23,5,4)&$A25,Lista_Ubigeo!$J:$K,2,0),\" \")","v":"ANCO-HUALLO"},{"$f":"IFERROR(VLOOKUP(MID(AI$23,5,4)&$A25,Lista_Ubigeo!$J:$K,2,0),\" \")","v":"CURPAHUASI"},{"$f":"IFERROR(VLOOKUP(MID(AJ$23,5,4)&$A25,Lista_Ubigeo!$J:$K,2,0),\" \")","v":"ALTO SELVA ALEGRE"},{"$f":"IFERROR(VLOOKUP(MID(AK$23,5,4)&$A25,Lista_Ubigeo!$J:$K,2,0),\" \")","v":"JOSE MARIA QUIMPER"},{"$f":"IFERROR(VLOOKUP(MID(AL$23,5,4)&$A25,Lista_Ubigeo!$J:$K,2,0),\" \")","v":"ACARI"},{"$f":"IFERROR(VLOOKUP(MID(AM$23,5,4)&$A25,Lista_Ubigeo!$J:$K,2,0),\" \")","v":"ANDAGUA"},{"$f":"IFERROR(VLOOKUP(MID(AN$23,5,4)&$A25,Lista_Ubigeo!$J:$K,2,0),\" \")","v":"ACHOMA"},{"$f":"IFERROR(VLOOKUP(MID(AO$23,5,4)&$A25,Lista_Ubigeo!$J:$K,2,0),\" \")","v":"ANDARAY"},{"$f":"IFERROR(VLOOKUP(MID(AP$23,5,4)&$A25,Lista_Ubigeo!$J:$K,2,0),\" \")","v":"COCACHACRA"},{"$f":"IFERROR(VLOOKUP(MID(AQ$23,4,4)&$A25,Lista_Ubigeo!$J:$K,2,0),\" \")","v":"ALCA"},{"$f":"IFERROR(VLOOKUP(MID(AR$23,5,4)&$A25,Lista_Ubigeo!$J:$K,2,0),\" \")","v":"ACOCRO"},{"$f":"IFERROR(VLOOKUP(MID(AS$23,5,4)&$A25,Lista_Ubigeo!$J:$K,2,0),\" \")","v":"CHUSCHI"},{"$f":"IFERROR(VLOOKUP(MID(AT$23,5,4)&$A25,Lista_Ubigeo!$J:$K,2,0),\" \")","v":"CARAPO"},{"$f":"IFERROR(VLOOKUP(MID(AU$23,5,4)&$A25,Lista_Ubigeo!$J:$K,2,0),\" \")","v":"AYAHUANCO"},{"$f":"IFERROR(VLOOKUP(MID(AV$23,5,4)&$A25,Lista_Ubigeo!$J:$K,2,0),\" \")","v":"ANCO"},{"$f":"IFERROR(VLOOKUP(MID(AW$23,5,4)&$A25,Lista_Ubigeo!$J:$K,2,0),\" \")","v":"AUCARA"},{"$f":"IFERROR(VLOOKUP(MID(AX$23,5,4)&$A25,Lista_Ubigeo!$J:$K,2,0),\" \")","v":"CHUMPI"},{"$f":"IFERROR(VLOOKUP(MID(AY$23,5,4)&$A25,Lista_Ubigeo!$J:$K,2,0),\" \")","v":"COLTA"},{"$f":"IFERROR(VLOOKUP(MID(AZ$23,5,4)&$A25,Lista_Ubigeo!$J:$K,2,0),\" \")","v":"BELEN"},{"$f":"IFERROR(VLOOKUP(MID(BA$23,5,4)&$A25,Lista_Ubigeo!$J:$K,2,0),\" \")","v":"ALCAMENCA"},{"$f":"IFERROR(VLOOKUP(MID(BB$23,5,4)&$A25,Lista_Ubigeo!$J:$K,2,0),\" \")","v":"ACCOMARCA"},{"$f":"IFERROR(VLOOKUP(MID(BC$23,5,4)&$A25,Lista_Ubigeo!$J:$K,2,0),\" \")","v":"ASUNCION"},{"$f":"IFERROR(VLOOKUP(MID(BD$23,5,4)&$A25,Lista_Ubigeo!$J:$K,2,0),\" \")","v":"CACHACHI"},{"$f":"IFERROR(VLOOKUP(MID(BE$23,5,4)&$A25,Lista_Ubigeo!$J:$K,2,0),\" \")","v":"CHUMUCH"},{"$f":"IFERROR(VLOOKUP(MID(BF$23,5,4)&$A25,Lista_Ubigeo!$J:$K,2,0),\" \")","v":"ANGUIA"},{"$f":"IFERROR(VLOOKUP(MID(BG$23,5,4)&$A25,Lista_Ubigeo!$J:$K,2,0),\" \")","v":"CHILETE"},{"$f":"IFERROR(VLOOKUP(MID(BH$23,5,4)&$A25,Lista_Ubigeo!$J:$K,2,0),\" \")","v":"CALLAYUC"},{"$f":"IFERROR(VLOOKUP(MID(BI$23,5,4)&$A25,Lista_Ubigeo!$J:$K,2,0),\" \")","v":"CHUGUR"},{"$f":"IFERROR(VLOOKUP(MID(BJ$23,5,4)&$A25,Lista_Ubigeo!$J:$K,2,0),\" \")","v":"BELLAVISTA"},{"$f":"IFERROR(VLOOKUP(MID(BK$23,5,4)&$A25,Lista_Ubigeo!$J:$K,2,0),\" \")","v":"CHIRINOS"},{"$f":"IFERROR(VLOOKUP(MID(BL$23,5,4)&$A25,Lista_Ubigeo!$J:$K,2,0),\" \")","v":"CHANCAY"},{"$f":"IFERROR(VLOOKUP(MID(BM$23,5,4)&$A25,Lista_Ubigeo!$J:$K,2,0),\" \")","v":"BOLIVAR"},{"$f":"IFERROR(VLOOKUP(MID(BN$23,5,4)&$A25,Lista_Ubigeo!$J:$K,2,0),\" \")","v":"SAN BERNARDINO"},{"$f":"IFERROR(VLOOKUP(MID(BO$23,5,4)&$A25,Lista_Ubigeo!$J:$K,2,0),\" \")","v":"ANDABAMBA"},{"$f":"IFERROR(VLOOKUP(MID(BP$23,5,4)&$A25,Lista_Ubigeo!$J:$K,2,0),\" \")","v":"BELLAVISTA"},{"$f":"IFERROR(VLOOKUP(MID(BQ$23,5,4)&$A25,Lista_Ubigeo!$J:$K,2,0),\" \")","v":"CCORCA"},{"$f":"IFERROR(VLOOKUP(MID(BR$23,5,4)&$A25,Lista_Ubigeo!$J:$K,2,0),\" \")","v":"ACOPIA"},{"$f":"IFERROR(VLOOKUP(MID(BS$23,5,4)&$A25,Lista_Ubigeo!$J:$K,2,0),\" \")","v":"ANCAHUASI"},{"$f":"IFERROR(VLOOKUP(MID(BT$23,5,4)&$A25,Lista_Ubigeo!$J:$K,2,0),\" \")","v":"COYA"},{"$f":"IFERROR(VLOOKUP(MID(BU$23,5,4)&$A25,Lista_Ubigeo!$J:$K,2,0),\" \")","v":"CHECCA"},{"$f":"IFERROR(VLOOKUP(MID(BV$23,5,4)&$A25,Lista_Ubigeo!$J:$K,2,0),\" \")","v":"CHECACUPE"},{"$f":"IFERROR(VLOOKUP(MID(BW$23,5,4)&$A25,Lista_Ubigeo!$J:$K,2,0),\" \")","v":"CAPACMARCA"},{"$f":"IFERROR(VLOOKUP(MID(BX$23,5,4)&$A25,Lista_Ubigeo!$J:$K,2,0),\" \")","v":"CONDOROMA"},{"$f":"IFERROR(VLOOKUP(MID(BY$23,4,4)&$A25,Lista_Ubigeo!$J:$K,2,0),\" \")","v":"ECHARATE"},{"$f":"IFERROR(VLOOKUP(MID(BZ$23,5,4)&$A25,Lista_Ubigeo!$J:$K,2,0),\" \")","v":"ACCHA"},{"$f":"IFERROR(VLOOKUP(MID(CA$23,5,4)&$A25,Lista_Ubigeo!$J:$K,2,0),\" \")","v":"CAICAY"},{"$f":"IFERROR(VLOOKUP(MID(CB$23,5,4)&$A25,Lista_Ubigeo!$J:$K,2,0),\" \")","v":"ANDAHUAYLILLAS"},{"$f":"IFERROR(VLOOKUP(MID(CC$23,5,4)&$A25,Lista_Ubigeo!$J:$K,2,0),\" \")","v":"CHINCHERO"},{"$f":"IFERROR(VLOOKUP(MID(CD$23,5,4)&$A25,Lista_Ubigeo!$J:$K,2,0),\" \")","v":"ACOBAMBILLA"},{"$f":"IFERROR(VLOOKUP(MID(CE$23,5,4)&$A25,Lista_Ubigeo!$J:$K,2,0),\" \")","v":"ANDABAMBA"},{"$f":"IFERROR(VLOOKUP(MID(CF$23,5,4)&$A25,Lista_Ubigeo!$J:$K,2,0),\" \")","v":"ANCHONGA"},{"$f":"IFERROR(VLOOKUP(MID(CG$23,5,4)&$A25,Lista_Ubigeo!$J:$K,2,0),\" \")","v":"ARMA"},{"$f":"IFERROR(VLOOKUP(MID(CH$23,5,4)&$A25,Lista_Ubigeo!$J:$K,2,0),\" \")","v":"ANCO"},{"$f":"IFERROR(VLOOKUP(MID(CI$23,5,4)&$A25,Lista_Ubigeo!$J:$K,2,0),\" \")","v":"AYAVI"},{"$f":"IFERROR(VLOOKUP(MID(CJ$23,5,4)&$A25,Lista_Ubigeo!$J:$K,2,0),\" \")","v":"ACOSTAMBO"},{"$f":"IFERROR(VLOOKUP(MID(CK$23,5,4)&$A25,Lista_Ubigeo!$J:$K,2,0),\" \")","v":"AMARILIS"},{"$f":"IFERROR(VLOOKUP(MID(CL$23,5,4)&$A25,Lista_Ubigeo!$J:$K,2,0),\" \")","v":"CAYNA"},{"$f":"IFERROR(VLOOKUP(MID(CM$23,5,4)&$A30,Lista_Ubigeo!$J:$K,2,0),\" \")","v":"CHUQUIS"},{"$f":"IFERROR(VLOOKUP(MID(CN$23,5,4)&$A25,Lista_Ubigeo!$J:$K,2,0),\" \")","v":"CANCHABAMBA"},{"$f":"IFERROR(VLOOKUP(MID(CO$23,5,4)&$A25,Lista_Ubigeo!$J:$K,2,0),\" \")","v":"ARANCAY"},{"$f":"IFERROR(VLOOKUP(MID(CP$23,5,4)&$A25,Lista_Ubigeo!$J:$K,2,0),\" \")","v":"DANIEL ALOMIA ROBLES"},{"$f":"IFERROR(VLOOKUP(MID(CQ$23,5,4)&$A25,Lista_Ubigeo!$J:$K,2,0),\" \")","v":"CHOLON"},{"$f":"IFERROR(VLOOKUP(MID(CR$23,5,4)&$A25,Lista_Ubigeo!$J:$K,2,0),\" \")","v":"CHAGLLA"},{"$f":"IFERROR(VLOOKUP(MID(CS$23,5,4)&$A25,Lista_Ubigeo!$J:$K,2,0),\" \")","v":"CODO DEL POZUZO"},{"$f":"IFERROR(VLOOKUP(MID(CT$23,5,4)&$A25,Lista_Ubigeo!$J:$K,2,0),\" \")","v":"BAÑOS"},{"$f":"IFERROR(VLOOKUP(MID(CU$23,5,4)&$A25,Lista_Ubigeo!$J:$K,2,0),\" \")","v":"CAHUAC"},{"$f":"IFERROR(VLOOKUP(MID(CV$23,5,4)&$A25,Lista_Ubigeo!$J:$K,2,0),\" \")","v":"LA TINGUIÑA"},{"$f":"IFERROR(VLOOKUP(MID(CW$23,5,4)&$A25,Lista_Ubigeo!$J:$K,2,0),\" \")","v":"ALTO LARAN"},{"$f":"IFERROR(VLOOKUP(MID(CX$23,5,4)&$A25,Lista_Ubigeo!$J:$K,2,0),\" \")","v":"CHANGUILLO"},{"$f":"IFERROR(VLOOKUP(MID(CY$23,5,4)&$A25,Lista_Ubigeo!$J:$K,2,0),\" \")","v":"LLIPATA"},{"$f":"IFERROR(VLOOKUP(MID(CZ$23,5,4)&$A25,Lista_Ubigeo!$J:$K,2,0),\" \")","v":"HUANCANO"},{"$f":"IFERROR(VLOOKUP(MID(DA$23,5,4)&$A25,Lista_Ubigeo!$J:$K,2,0),\" \")","v":" "},{"$f":"IFERROR(VLOOKUP(MID(DB$23,5,4)&$A25,Lista_Ubigeo!$J:$K,2,0),\" \")","v":"ACO"},{"$f":"IFERROR(VLOOKUP(MID(DC$23,5,4)&$A25,Lista_Ubigeo!$J:$K,2,0),\" \")","v":"PERENE"},{"$f":"IFERROR(VLOOKUP(MID(DD$23,5,4)&$A25,Lista_Ubigeo!$J:$K,2,0),\" \")","v":"ACOLLA"},{"$f":"IFERROR(VLOOKUP(MID(DE$23,5,4)&$A25,Lista_Ubigeo!$J:$K,2,0),\" \")","v":"CARHUAMAYO"},{"$f":"IFERROR(VLOOKUP(MID(DF$23,5,4)&$A25,Lista_Ubigeo!$J:$K,2,0),\" \")","v":"COVIRIALI"},{"$f":"IFERROR(VLOOKUP(MID(DG$23,5,4)&$A25,Lista_Ubigeo!$J:$K,2,0),\" \")","v":"ACOBAMBA"},{"$f":"IFERROR(VLOOKUP(MID(DH$23,5,4)&$A25,Lista_Ubigeo!$J:$K,2,0),\" \")","v":"CHACAPALPA"},{"$f":"IFERROR(VLOOKUP(MID(DI$23,5,4)&$A25,Lista_Ubigeo!$J:$K,2,0),\" \")","v":"AHUAC"},{"$f":"IFERROR(VLOOKUP(MID(DJ$23,5,4)&$A25,Lista_Ubigeo!$J:$K,2,0),\" \")","v":"EL PORVENIR"},{"$f":"IFERROR(VLOOKUP(MID(DK$23,5,4)&$A25,Lista_Ubigeo!$J:$K,2,0),\" \")","v":"CHICAMA"},{"$f":"IFERROR(VLOOKUP(MID(DL$23,5,4)&$A25,Lista_Ubigeo!$J:$K,2,0),\" \")","v":"BAMBAMARCA"},{"$f":"IFERROR(VLOOKUP(MID(DM$23,5,4)&$A25,Lista_Ubigeo!$J:$K,2,0),\" \")","v":"PACANGA"},{"$f":"IFERROR(VLOOKUP(MID(DN$23,5,4)&$A25,Lista_Ubigeo!$J:$K,2,0),\" \")","v":"CALAMARCA"},{"$f":"IFERROR(VLOOKUP(MID(DO$23,5,4)&$A25,Lista_Ubigeo!$J:$K,2,0),\" \")","v":"AGALLPAMPA"},{"$f":"IFERROR(VLOOKUP(MID(DP$23,5,4)&$A25,Lista_Ubigeo!$J:$K,2,0),\" \")","v":"GUADALUPE"},{"$f":"IFERROR(VLOOKUP(MID(DQ$23,5,4)&$A25,Lista_Ubigeo!$J:$K,2,0),\" \")","v":"BULDIBUYO"},{"$f":"IFERROR(VLOOKUP(MID(DR$23,5,4)&$A25,Lista_Ubigeo!$J:$K,2,0),\" \")","v":"CHUGAY"},{"$f":"IFERROR(VLOOKUP(MID(DS$23,5,4)&$A25,Lista_Ubigeo!$J:$K,2,0),\" \")","v":"ANGASMARCA"},{"$f":"IFERROR(VLOOKUP(MID(DT$23,5,4)&$A25,Lista_Ubigeo!$J:$K,2,0),\" \")","v":"LUCMA"},{"$f":"IFERROR(VLOOKUP(MID(DU$23,5,4)&$A25,Lista_Ubigeo!$J:$K,2,0),\" \")","v":"CHAO"},{"$f":"IFERROR(VLOOKUP(MID(DV$23,5,4)&$A25,Lista_Ubigeo!$J:$K,2,0),\" \")","v":"CHONGOYAPE"},{"$f":"IFERROR(VLOOKUP(MID(DW$23,5,4)&$A25,Lista_Ubigeo!$J:$K,2,0),\" \")","v":"CAÑARIS"},{"$f":"IFERROR(VLOOKUP(MID(DX$23,5,4)&$A25,Lista_Ubigeo!$J:$K,2,0),\" \")","v":"CHOCHOPE"},{"$f":"IFERROR(VLOOKUP(MID(DY$23,5,4)&$A25,Lista_Ubigeo!$J:$K,2,0),\" \")","v":"ANCON"},{"$f":"IFERROR(VLOOKUP(MID(DZ$23,5,4)&$A25,Lista_Ubigeo!$J:$K,2,0),\" \")","v":"PARAMONGA"},{"$f":"IFERROR(VLOOKUP(MID(EA$23,5,4)&$A25,Lista_Ubigeo!$J:$K,2,0),\" \")","v":"COPA"},{"$f":"IFERROR(VLOOKUP(MID(EB$23,5,4)&$A25,Lista_Ubigeo!$J:$K,2,0),\" \")","v":"ARAHUAY"},{"$f":"IFERROR(VLOOKUP(MID(EC$23,5,4)&$A25,Lista_Ubigeo!$J:$K,2,0),\" \")","v":"ASIA"},{"$f":"IFERROR(VLOOKUP(MID(ED$23,5,4)&$A25,Lista_Ubigeo!$J:$K,2,0),\" \")","v":"ATAVILLOS ALTO"},{"$f":"IFERROR(VLOOKUP(MID(EE$23,5,4)&$A25,Lista_Ubigeo!$J:$K,2,0),\" \")","v":"ANTIOQUIA"},{"$f":"IFERROR(VLOOKUP(MID(EF$23,5,4)&$A25,Lista_Ubigeo!$J:$K,2,0),\" \")","v":"AMBAR"},{"$f":"IFERROR(VLOOKUP(MID(EG$23,5,4)&$A25,Lista_Ubigeo!$J:$K,2,0),\" \")","v":"ANDAJES"},{"$f":"IFERROR(VLOOKUP(MID(EH$23,5,4)&$A25,Lista_Ubigeo!$J:$K,2,0),\" \")","v":"ALIS"},{"$f":"IFERROR(VLOOKUP(MID(EI$23,5,4)&$A25,Lista_Ubigeo!$J:$K,2,0),\" \")","v":"ALTO NANAY"},{"$f":"IFERROR(VLOOKUP(MID(EJ$23,5,4)&$A25,Lista_Ubigeo!$J:$K,2,0),\" \")","v":"BALSAPUERTO"},{"$f":"IFERROR(VLOOKUP(MID(EK$23,5,4)&$A25,Lista_Ubigeo!$J:$K,2,0),\" \")","v":"PARINARI"},{"$f":"IFERROR(VLOOKUP(MID(EL$23,5,4)&$A25,Lista_Ubigeo!$J:$K,2,0),\" \")","v":"PEBAS"},{"$f":"IFERROR(VLOOKUP(MID(EM$23,5,4)&$A25,Lista_Ubigeo!$J:$K,2,0),\" \")","v":"ALTO TAPICHE"},{"$f":"IFERROR(VLOOKUP(MID(EN$23,5,4)&$A25,Lista_Ubigeo!$J:$K,2,0),\" \")","v":"INAHUAYA"},{"$f":"IFERROR(VLOOKUP(MID(EO$23,5,4)&$A25,Lista_Ubigeo!$J:$K,2,0),\" \")","v":"CAHUAPANAS"},{"$f":"IFERROR(VLOOKUP(MID(EP$23,5,4)&$A25,Lista_Ubigeo!$J:$K,2,0),\" \")","v":"ROSA PANDURO"},{"$f":"IFERROR(VLOOKUP(MID(EQ$23,5,4)&$A25,Lista_Ubigeo!$J:$K,2,0),\" \")","v":"INAMBARI"},{"$f":"IFERROR(VLOOKUP(MID(ER$23,5,4)&$A25,Lista_Ubigeo!$J:$K,2,0),\" \")","v":"FITZCARRALD"},{"$f":"IFERROR(VLOOKUP(MID(ES$23,5,4)&$A25,Lista_Ubigeo!$J:$K,2,0),\" \")","v":"IBERIA"},{"$f":"IFERROR(VLOOKUP(MID(ET$23,5,4)&$A25,Lista_Ubigeo!$J:$K,2,0),\" \")","v":"CARUMAS"},{"$f":"IFERROR(VLOOKUP(MID(EU$23,5,4)&$A25,Lista_Ubigeo!$J:$K,2,0),\" \")","v":"CHOJATA"},{"$f":"IFERROR(VLOOKUP(MID(EV$23,5,4)&$A25,Lista_Ubigeo!$J:$K,2,0),\" \")","v":"EL ALGARROBAL"},{"$f":"IFERROR(VLOOKUP(MID(EW$23,5,4)&$A25,Lista_Ubigeo!$J:$K,2,0),\" \")","v":"HUACHON"},{"$f":"IFERROR(VLOOKUP(MID(EX$23,5,4)&$A25,Lista_Ubigeo!$J:$K,2,0),\" \")","v":"CHACAYAN"},{"$f":"IFERROR(VLOOKUP(MID(EY$23,5,4)&$A25,Lista_Ubigeo!$J:$K,2,0),\" \")","v":"CHONTABAMBA"},{"$f":"IFERROR(VLOOKUP(MID(EZ$23,5,4)&$A27,Lista_Ubigeo!$J:$K,2,0),\" \")","v":"CASTILLA"},{"$f":"IFERROR(VLOOKUP(MID(FA$23,5,4)&$A25,Lista_Ubigeo!$J:$K,2,0),\" \")","v":"FRIAS"},{"$f":"IFERROR(VLOOKUP(MID(FB$23,5,4)&$A25,Lista_Ubigeo!$J:$K,2,0),\" \")","v":"CANCHAQUE"},{"$f":"IFERROR(VLOOKUP(MID(FC$23,5,4)&$A25,Lista_Ubigeo!$J:$K,2,0),\" \")","v":"BUENOS AIRES"},{"$f":"IFERROR(VLOOKUP(MID(FD$23,5,4)&$A25,Lista_Ubigeo!$J:$K,2,0),\" \")","v":"AMOTAPE"},{"$f":"IFERROR(VLOOKUP(MID(FE$23,5,4)&$A25,Lista_Ubigeo!$J:$K,2,0),\" \")","v":"BELLAVISTA"},{"$f":"IFERROR(VLOOKUP(MID(FF$23,5,4)&$A25,Lista_Ubigeo!$J:$K,2,0),\" \")","v":"EL ALTO"},{"$f":"IFERROR(VLOOKUP(MID(FG$23,5,4)&$A25,Lista_Ubigeo!$J:$K,2,0),\" \")","v":"BELLAVISTA DE LA UNION"},{"$f":"IFERROR(VLOOKUP(MID(FH$23,5,4)&$A25,Lista_Ubigeo!$J:$K,2,0),\" \")","v":"ACORA"},{"$f":"IFERROR(VLOOKUP(MID(FI$23,5,4)&$A25,Lista_Ubigeo!$J:$K,2,0),\" \")","v":"ACHAYA"},{"$f":"IFERROR(VLOOKUP(MID(FJ$23,5,4)&$A25,Lista_Ubigeo!$J:$K,2,0),\" \")","v":"AJOYANI"},{"$f":"IFERROR(VLOOKUP(MID(FK$23,5,4)&$A25,Lista_Ubigeo!$J:$K,2,0),\" \")","v":"DESAGUADERO"},{"$f":"IFERROR(VLOOKUP(MID(FL$23,5,4)&$A25,Lista_Ubigeo!$J:$K,2,0),\" \")","v":"CAPAZO"},{"$f":"IFERROR(VLOOKUP(MID(FM$23,5,4)&$A25,Lista_Ubigeo!$J:$K,2,0),\" \")","v":"COJATA"},{"$f":"IFERROR(VLOOKUP(MID(FN$23,5,4)&$A25,Lista_Ubigeo!$J:$K,2,0),\" \")","v":"CABANILLA"},{"$f":"IFERROR(VLOOKUP(MID(FO$23,5,4)&$A25,Lista_Ubigeo!$J:$K,2,0),\" \")","v":"ANTAUTA"},{"$f":"IFERROR(VLOOKUP(MID(FP$23,5,4)&$A25,Lista_Ubigeo!$J:$K,2,0),\" \")","v":"CONIMA"},{"$f":"IFERROR(VLOOKUP(MID(FQ$23,5,4)&$A25,Lista_Ubigeo!$J:$K,2,0),\" \")","v":"ANANEA"},{"$f":"IFERROR(VLOOKUP(MID(FR$23,5,4)&$A25,Lista_Ubigeo!$J:$K,2,0),\" \")","v":"CABANA"},{"$f":"IFERROR(VLOOKUP(MID(FS$23,5,4)&$A25,Lista_Ubigeo!$J:$K,2,0),\" \")","v":"CUYOCUYO"},{"$f":"IFERROR(VLOOKUP(MID(FT$23,5,4)&$A25,Lista_Ubigeo!$J:$K,2,0),\" \")","v":"ANAPIA"},{"$f":"IFERROR(VLOOKUP(MID(FU$23,5,4)&$A25,Lista_Ubigeo!$J:$K,2,0),\" \")","v":"CALZADA"},{"$f":"IFERROR(VLOOKUP(MID(FV$23,5,4)&$A25,Lista_Ubigeo!$J:$K,2,0),\" \")","v":"ALTO BIAVO"},{"$f":"IFERROR(VLOOKUP(MID(FW$23,5,4)&$A25,Lista_Ubigeo!$J:$K,2,0),\" \")","v":"AGUA BLANCA"},{"$f":"IFERROR(VLOOKUP(MID(FX$23,5,4)&$A25,Lista_Ubigeo!$J:$K,2,0),\" \")","v":"ALTO SAPOSOA"},{"$f":"IFERROR(VLOOKUP(MID(FY$23,5,4)&$A25,Lista_Ubigeo!$J:$K,2,0),\" \")","v":"ALONSO DE ALVARADO"},{"$f":"IFERROR(VLOOKUP(MID(FZ$23,5,4)&$A25,Lista_Ubigeo!$J:$K,2,0),\" \")","v":"CAMPANILLA"},{"$f":"IFERROR(VLOOKUP(MID(GA$23,5,4)&$A25,Lista_Ubigeo!$J:$K,2,0),\" \")","v":"BUENOS AIRES"},{"$f":"IFERROR(VLOOKUP(MID(GB$23,5,4)&$A25,Lista_Ubigeo!$J:$K,2,0),\" \")","v":"AWAJUN"},{"$f":"IFERROR(VLOOKUP(MID(GC$23,5,4)&$A25,Lista_Ubigeo!$J:$K,2,0),\" \")","v":"ALBERTO LEVEAU"},{"$f":"IFERROR(VLOOKUP(MID(GD$23,5,4)&$A25,Lista_Ubigeo!$J:$K,2,0),\" \")","v":"NUEVO PROGRESO"},{"$f":"IFERROR(VLOOKUP(MID(GE$23,5,4)&$A25,Lista_Ubigeo!$J:$K,2,0),\" \")","v":"ALTO DE LA ALIANZA"},{"$f":"IFERROR(VLOOKUP(MID(GF$23,5,4)&$A25,Lista_Ubigeo!$J:$K,2,0),\" \")","v":"CAIRANI"},{"$f":"IFERROR(VLOOKUP(MID(GG$23,5,4)&$A25,Lista_Ubigeo!$J:$K,2,0),\" \")","v":"ILABAYA"},{"$f":"IFERROR(VLOOKUP(MID(GH$23,5,4)&$A25,Lista_Ubigeo!$J:$K,2,0),\" \")","v":"HEROES ALBARRACIN"},{"$f":"IFERROR(VLOOKUP(MID(GI$23,5,4)&$A25,Lista_Ubigeo!$J:$K,2,0),\" \")","v":"CORRALES"},{"$f":"IFERROR(VLOOKUP(MID(GJ$23,5,4)&$A25,Lista_Ubigeo!$J:$K,2,0),\" \")","v":"CASITAS"},{"$f":"IFERROR(VLOOKUP(MID(GK$23,5,4)&$A25,Lista_Ubigeo!$J:$K,2,0),\" \")","v":"AGUAS VERDES"},{"$f":"IFERROR(VLOOKUP(MID(GL$23,5,4)&$A25,Lista_Ubigeo!$J:$K,2,0),\" \")","v":"CAMPOVERDE"},{"$f":"IFERROR(VLOOKUP(MID(GM$23,5,4)&$A25,Lista_Ubigeo!$J:$K,2,0),\" \")","v":"SEPAHUA"},{"$f":"IFERROR(VLOOKUP(MID(GN$23,5,4)&$A25,Lista_Ubigeo!$J:$K,2,0),\" \")","v":"IRAZOLA"},{"$f":"IFERROR(VLOOKUP(MID(GO$23,5,4)&$A25,Lista_Ubigeo!$J:$K,2,0),\" \")","v":" "},{"$f":"IFERROR(VLOOKUP(MID(GP$23,5,4)&$A25,Lista_Ubigeo!$J:$K,2,0),\" \")","v":"ACHAYA"}]
["03",{"$f":"IFERROR(VLOOKUP(MID(B$23,5,4)&$A26,Lista_Ubigeo!$J:$K,2,0),\" \")","v":"BALSAS"},{"$f":"IFERROR(VLOOKUP(MID(C$23,5,4)&$A26,Lista_Ubigeo!$J:$K,2,0),\" \")","v":"COPALLIN"},{"$f":"IFERROR(VLOOKUP(MID(D$23,5,4)&$A26,Lista_Ubigeo!$J:$K,2,0),\" \")","v":"CHURUJA"},{"$f":"IFERROR(VLOOKUP(MID(E$23,5,4)&$A26,Lista_Ubigeo!$J:$K,2,0),\" \")","v":"RIO SANTIAGO"},{"$f":"IFERROR(VLOOKUP(MID(F$23,5,4)&$A26,Lista_Ubigeo!$J:$K,2,0),\" \")","v":"COCABAMBA"},{"$f":"IFERROR(VLOOKUP(MID(G$23,5,4)&$A26,Lista_Ubigeo!$J:$K,2,0),\" \")","v":"COCHAMAL"},{"$f":"IFERROR(VLOOKUP(MID(H$23,5,4)&$A26,Lista_Ubigeo!$J:$K,2,0),\" \")","v":"CUMBA"},{"$f":"IFERROR(VLOOKUP(MID(I$23,5,4)&$A26,Lista_Ubigeo!$J:$K,2,0),\" \")","v":"COLCABAMBA"},{"$f":"IFERROR(VLOOKUP(MID(J$23,5,4)&$A26,Lista_Ubigeo!$J:$K,2,0),\" \")","v":"HUACLLAN"},{"$f":"IFERROR(VLOOKUP(MID(K$23,5,4)&$A26,Lista_Ubigeo!$J:$K,2,0),\" \")","v":"CHACCHO"},{"$f":"IFERROR(VLOOKUP(MID(L$23,5,4)&$A26,Lista_Ubigeo!$J:$K,2,0),\" \")","v":" "},{"$f":"IFERROR(VLOOKUP(MID(M$23,5,4)&$A26,Lista_Ubigeo!$J:$K,2,0),\" \")","v":"ANTONIO RAYMONDI"},{"$f":"IFERROR(VLOOKUP(MID(N$23,5,4)&$A26,Lista_Ubigeo!$J:$K,2,0),\" \")","v":"AMASHCA"},{"$f":"IFERROR(VLOOKUP(MID(O$23,5,4)&$A26,Lista_Ubigeo!$J:$K,2,0),\" \")","v":"YAUYA"},{"$f":"IFERROR(VLOOKUP(MID(P$23,5,4)&$A26,Lista_Ubigeo!$J:$K,2,0),\" \")","v":"COMANDANTE NOEL"},{"$f":"IFERROR(VLOOKUP(MID(Q$23,5,4)&$A26,Lista_Ubigeo!$J:$K,2,0),\" \")","v":"BAMBAS"},{"$f":"IFERROR(VLOOKUP(MID(R$23,5,4)&$A26,Lista_Ubigeo!$J:$K,2,0),\" \")","v":"CAJAY"},{"$f":"IFERROR(VLOOKUP(MID(S$23,5,4)&$A26,Lista_Ubigeo!$J:$K,2,0),\" \")","v":"CULEBRAS"},{"$f":"IFERROR(VLOOKUP(MID(T$23,5,4)&$A26,Lista_Ubigeo!$J:$K,2,0),\" \")","v":"HUATA"},{"$f":"IFERROR(VLOOKUP(MID(U$23,5,4)&$A26,Lista_Ubigeo!$J:$K,2,0),\" \")","v":"ELEAZAR GUZMAN BARRON"},{"$f":"IFERROR(VLOOKUP(MID(V$23,5,4)&$A26,Lista_Ubigeo!$J:$K,2,0),\" \")","v":"CAJAMARQUILLA"},{"$f":"IFERROR(VLOOKUP(MID(W$23,5,4)&$A26,Lista_Ubigeo!$J:$K,2,0),\" \")","v":"CONCHUCOS"},{"$f":"IFERROR(VLOOKUP(MID(X$23,5,4)&$A26,Lista_Ubigeo!$J:$K,2,0),\" \")","v":"PAROBAMBA"},{"$f":"IFERROR(VLOOKUP(MID(Y$23,5,4)&$A26,Lista_Ubigeo!$J:$K,2,0),\" \")","v":"COTAPARACO"},{"$f":"IFERROR(VLOOKUP(MID(Z$23,5,4)&$A26,Lista_Ubigeo!$J:$K,2,0),\" \")","v":"COISHCO"},{"$f":"IFERROR(VLOOKUP(MID(AA$23,5,4)&$A26,Lista_Ubigeo!$J:$K,2,0),\" \")","v":"ALFONSO UGARTE"},{"$f":"IFERROR(VLOOKUP(MID(AB$23,5,4)&$A26,Lista_Ubigeo!$J:$K,2,0),\" \")","v":"MANCOS"},{"$f":"IFERROR(VLOOKUP(MID(AC$23,5,4)&$A26,Lista_Ubigeo!$J:$K,2,0),\" \")","v":"CIRCA"},{"$f":"IFERROR(VLOOKUP(MID(AD$23,5,4)&$A26,Lista_Ubigeo!$J:$K,2,0),\" \")","v":"CHIARA"},{"$f":"IFERROR(VLOOKUP(MID(AE$23,5,4)&$A26,Lista_Ubigeo!$J:$K,2,0),\" \")","v":"HUAQUIRCA"},{"$f":"IFERROR(VLOOKUP(MID(AF$23,5,4)&$A26,Lista_Ubigeo!$J:$K,2,0),\" \")","v":"CARAYBAMBA"},{"$f":"IFERROR(VLOOKUP(MID(AG$23,5,4)&$A26,Lista_Ubigeo!$J:$K,2,0),\" \")","v":"COYLLURQUI"},{"$f":"IFERROR(VLOOKUP(MID(AH$23,5,4)&$A26,Lista_Ubigeo!$J:$K,2,0),\" \")","v":"COCHARCAS"},{"$f":"IFERROR(VLOOKUP(MID(AI$23,5,4)&$A26,Lista_Ubigeo!$J:$K,2,0),\" \")","v":"GAMARRA"},{"$f":"IFERROR(VLOOKUP(MID(AJ$23,5,4)&$A26,Lista_Ubigeo!$J:$K,2,0),\" \")","v":"CAYMA"},{"$f":"IFERROR(VLOOKUP(MID(AK$23,5,4)&$A26,Lista_Ubigeo!$J:$K,2,0),\" \")","v":"MARIANO NICOLAS VALCARCEL"},{"$f":"IFERROR(VLOOKUP(MID(AL$23,5,4)&$A26,Lista_Ubigeo!$J:$K,2,0),\" \")","v":"ATICO"},{"$f":"IFERROR(VLOOKUP(MID(AM$23,5,4)&$A26,Lista_Ubigeo!$J:$K,2,0),\" \")","v":"AYO"},{"$f":"IFERROR(VLOOKUP(MID(AN$23,5,4)&$A26,Lista_Ubigeo!$J:$K,2,0),\" \")","v":"CABANACONDE"},{"$f":"IFERROR(VLOOKUP(MID(AO$23,5,4)&$A26,Lista_Ubigeo!$J:$K,2,0),\" \")","v":"CAYARANI"},{"$f":"IFERROR(VLOOKUP(MID(AP$23,5,4)&$A26,Lista_Ubigeo!$J:$K,2,0),\" \")","v":"DEAN VALDIVIA"},{"$f":"IFERROR(VLOOKUP(MID(AQ$23,4,4)&$A26,Lista_Ubigeo!$J:$K,2,0),\" \")","v":"CHARCANA"},{"$f":"IFERROR(VLOOKUP(MID(AR$23,5,4)&$A26,Lista_Ubigeo!$J:$K,2,0),\" \")","v":"ACOS VINCHOS"},{"$f":"IFERROR(VLOOKUP(MID(AS$23,5,4)&$A26,Lista_Ubigeo!$J:$K,2,0),\" \")","v":"LOS MOROCHUCOS"},{"$f":"IFERROR(VLOOKUP(MID(AT$23,5,4)&$A26,Lista_Ubigeo!$J:$K,2,0),\" \")","v":"SACSAMARCA"},{"$f":"IFERROR(VLOOKUP(MID(AU$23,5,4)&$A26,Lista_Ubigeo!$J:$K,2,0),\" \")","v":"HUAMANGUILLA"},{"$f":"IFERROR(VLOOKUP(MID(AV$23,5,4)&$A26,Lista_Ubigeo!$J:$K,2,0),\" \")","v":"AYNA"},{"$f":"IFERROR(VLOOKUP(MID(AW$23,5,4)&$A26,Lista_Ubigeo!$J:$K,2,0),\" \")","v":"CABANA"},{"$f":"IFERROR(VLOOKUP(MID(AX$23,5,4)&$A26,Lista_Ubigeo!$J:$K,2,0),\" \")","v":"CORONEL CASTAÑEDA"},{"$f":"IFERROR(VLOOKUP(MID(AY$23,5,4)&$A26,Lista_Ubigeo!$J:$K,2,0),\" \")","v":"CORCULLA"},{"$f":"IFERROR(VLOOKUP(MID(AZ$23,5,4)&$A26,Lista_Ubigeo!$J:$K,2,0),\" \")","v":"CHALCOS"},{"$f":"IFERROR(VLOOKUP(MID(BA$23,5,4)&$A26,Lista_Ubigeo!$J:$K,2,0),\" \")","v":"APONGO"},{"$f":"IFERROR(VLOOKUP(MID(BB$23,5,4)&$A26,Lista_Ubigeo!$J:$K,2,0),\" \")","v":"CARHUANCA"},{"$f":"IFERROR(VLOOKUP(MID(BC$23,5,4)&$A26,Lista_Ubigeo!$J:$K,2,0),\" \")","v":"CHETILLA"},{"$f":"IFERROR(VLOOKUP(MID(BD$23,5,4)&$A26,Lista_Ubigeo!$J:$K,2,0),\" \")","v":"CONDEBAMBA"},{"$f":"IFERROR(VLOOKUP(MID(BE$23,5,4)&$A26,Lista_Ubigeo!$J:$K,2,0),\" \")","v":"CORTEGANA"},{"$f":"IFERROR(VLOOKUP(MID(BF$23,5,4)&$A26,Lista_Ubigeo!$J:$K,2,0),\" \")","v":"CHADIN"},{"$f":"IFERROR(VLOOKUP(MID(BG$23,5,4)&$A26,Lista_Ubigeo!$J:$K,2,0),\" \")","v":"CUPISNIQUE"},{"$f":"IFERROR(VLOOKUP(MID(BH$23,5,4)&$A26,Lista_Ubigeo!$J:$K,2,0),\" \")","v":"CHOROS"},{"$f":"IFERROR(VLOOKUP(MID(BI$23,5,4)&$A26,Lista_Ubigeo!$J:$K,2,0),\" \")","v":"HUALGAYOC"},{"$f":"IFERROR(VLOOKUP(MID(BJ$23,5,4)&$A26,Lista_Ubigeo!$J:$K,2,0),\" \")","v":"CHONTALI"},{"$f":"IFERROR(VLOOKUP(MID(BK$23,5,4)&$A26,Lista_Ubigeo!$J:$K,2,0),\" \")","v":"HUARANGO"},{"$f":"IFERROR(VLOOKUP(MID(BL$23,5,4)&$A26,Lista_Ubigeo!$J:$K,2,0),\" \")","v":"EDUARDO VILLANUEVA"},{"$f":"IFERROR(VLOOKUP(MID(BM$23,5,4)&$A26,Lista_Ubigeo!$J:$K,2,0),\" \")","v":"CALQUIS"},{"$f":"IFERROR(VLOOKUP(MID(BN$23,5,4)&$A26,Lista_Ubigeo!$J:$K,2,0),\" \")","v":"SAN LUIS"},{"$f":"IFERROR(VLOOKUP(MID(BO$23,5,4)&$A26,Lista_Ubigeo!$J:$K,2,0),\" \")","v":"CATACHE"},{"$f":"IFERROR(VLOOKUP(MID(BP$23,5,4)&$A26,Lista_Ubigeo!$J:$K,2,0),\" \")","v":"CARMEN DE LA LEGUA REYNOSO"},{"$f":"IFERROR(VLOOKUP(MID(BQ$23,5,4)&$A26,Lista_Ubigeo!$J:$K,2,0),\" \")","v":"POROY"},{"$f":"IFERROR(VLOOKUP(MID(BR$23,5,4)&$A26,Lista_Ubigeo!$J:$K,2,0),\" \")","v":"ACOS"},{"$f":"IFERROR(VLOOKUP(MID(BS$23,5,4)&$A26,Lista_Ubigeo!$J:$K,2,0),\" \")","v":"CACHIMAYO"},{"$f":"IFERROR(VLOOKUP(MID(BT$23,5,4)&$A26,Lista_Ubigeo!$J:$K,2,0),\" \")","v":"LAMAY"},{"$f":"IFERROR(VLOOKUP(MID(BU$23,5,4)&$A26,Lista_Ubigeo!$J:$K,2,0),\" \")","v":"KUNTURKANKI"},{"$f":"IFERROR(VLOOKUP(MID(BV$23,5,4)&$A26,Lista_Ubigeo!$J:$K,2,0),\" \")","v":"COMBAPATA"},{"$f":"IFERROR(VLOOKUP(MID(BW$23,5,4)&$A26,Lista_Ubigeo!$J:$K,2,0),\" \")","v":"CHAMACA"},{"$f":"IFERROR(VLOOKUP(MID(BX$23,5,4)&$A26,Lista_Ubigeo!$J:$K,2,0),\" \")","v":"COPORAQUE"},{"$f":"IFERROR(VLOOKUP(MID(BY$23,4,4)&$A26,Lista_Ubigeo!$J:$K,2,0),\" \")","v":"HUAYOPATA"},{"$f":"IFERROR(VLOOKUP(MID(BZ$23,5,4)&$A26,Lista_Ubigeo!$J:$K,2,0),\" \")","v":"CCAPI"},{"$f":"IFERROR(VLOOKUP(MID(CA$23,5,4)&$A26,Lista_Ubigeo!$J:$K,2,0),\" \")","v":"CHALLABAMBA"},{"$f":"IFERROR(VLOOKUP(MID(CB$23,5,4)&$A26,Lista_Ubigeo!$J:$K,2,0),\" \")","v":"CAMANTI"},{"$f":"IFERROR(VLOOKUP(MID(CC$23,5,4)&$A26,Lista_Ubigeo!$J:$K,2,0),\" \")","v":"HUAYLLABAMBA"},{"$f":"IFERROR(VLOOKUP(MID(CD$23,5,4)&$A26,Lista_Ubigeo!$J:$K,2,0),\" \")","v":"ACORIA"},{"$f":"IFERROR(VLOOKUP(MID(CE$23,5,4)&$A26,Lista_Ubigeo!$J:$K,2,0),\" \")","v":"ANTA"},{"$f":"IFERROR(VLOOKUP(MID(CF$23,5,4)&$A26,Lista_Ubigeo!$J:$K,2,0),\" \")","v":"CALLANMARCA"},{"$f":"IFERROR(VLOOKUP(MID(CG$23,5,4)&$A26,Lista_Ubigeo!$J:$K,2,0),\" \")","v":"AURAHUA"},{"$f":"IFERROR(VLOOKUP(MID(CH$23,5,4)&$A26,Lista_Ubigeo!$J:$K,2,0),\" \")","v":"CHINCHIHUASI"},{"$f":"IFERROR(VLOOKUP(MID(CI$23,5,4)&$A26,Lista_Ubigeo!$J:$K,2,0),\" \")","v":"CORDOVA"},{"$f":"IFERROR(VLOOKUP(MID(CJ$23,5,4)&$A26,Lista_Ubigeo!$J:$K,2,0),\" \")","v":"ACRAQUIA"},{"$f":"IFERROR(VLOOKUP(MID(CK$23,5,4)&$A26,Lista_Ubigeo!$J:$K,2,0),\" \")","v":"CHINCHAO"},{"$f":"IFERROR(VLOOKUP(MID(CL$23,5,4)&$A26,Lista_Ubigeo!$J:$K,2,0),\" \")","v":"COLPAS"},{"$f":"IFERROR(VLOOKUP(MID(CM$23,5,4)&$A34,Lista_Ubigeo!$J:$K,2,0),\" \")","v":"MARIAS"},{"$f":"IFERROR(VLOOKUP(MID(CN$23,5,4)&$A26,Lista_Ubigeo!$J:$K,2,0),\" \")","v":"COCHABAMBA"},{"$f":"IFERROR(VLOOKUP(MID(CO$23,5,4)&$A26,Lista_Ubigeo!$J:$K,2,0),\" \")","v":"CHAVIN DE PARIARCA"},{"$f":"IFERROR(VLOOKUP(MID(CP$23,5,4)&$A26,Lista_Ubigeo!$J:$K,2,0),\" \")","v":"HERMILIO VALDIZAN"},{"$f":"IFERROR(VLOOKUP(MID(CQ$23,5,4)&$A26,Lista_Ubigeo!$J:$K,2,0),\" \")","v":"SAN BUENAVENTURA"},{"$f":"IFERROR(VLOOKUP(MID(CR$23,5,4)&$A26,Lista_Ubigeo!$J:$K,2,0),\" \")","v":"MOLINO"},{"$f":"IFERROR(VLOOKUP(MID(CS$23,5,4)&$A26,Lista_Ubigeo!$J:$K,2,0),\" \")","v":"HONORIA"},{"$f":"IFERROR(VLOOKUP(MID(CT$23,5,4)&$A26,Lista_Ubigeo!$J:$K,2,0),\" \")","v":"JIVIA"},{"$f":"IFERROR(VLOOKUP(MID(CU$23,5,4)&$A26,Lista_Ubigeo!$J:$K,2,0),\" \")","v":"CHACABAMBA"},{"$f":"IFERROR(VLOOKUP(MID(CV$23,5,4)&$A26,Lista_Ubigeo!$J:$K,2,0),\" \")","v":"LOS AQUIJES"},{"$f":"IFERROR(VLOOKUP(MID(CW$23,5,4)&$A26,Lista_Ubigeo!$J:$K,2,0),\" \")","v":"CHAVIN"},{"$f":"IFERROR(VLOOKUP(MID(CX$23,5,4)&$A26,Lista_Ubigeo!$J:$K,2,0),\" \")","v":"EL INGENIO"},{"$f":"IFERROR(VLOOKUP(MID(CY$23,5,4)&$A26,Lista_Ubigeo!$J:$K,2,0),\" \")","v":"RIO GRANDE"},{"$f":"IFERROR(VLOOKUP(MID(CZ$23,5,4)&$A26,Lista_Ubigeo!$J:$K,2,0),\" \")","v":"HUMAY"},{"$f":"IFERROR(VLOOKUP(MID(DA$23,5,4)&$A26,Lista_Ubigeo!$J:$K,2,0),\" \")","v":" "},{"$f":"IFERROR(VLOOKUP(MID(DB$23,5,4)&$A26,Lista_Ubigeo!$J:$K,2,0),\" \")","v":"ANDAMARCA"},{"$f":"IFERROR(VLOOKUP(MID(DC$23,5,4)&$A26,Lista_Ubigeo!$J:$K,2,0),\" \")","v":"PICHANAQUI"},{"$f":"IFERROR(VLOOKUP(MID(DD$23,5,4)&$A26,Lista_Ubigeo!$J:$K,2,0),\" \")","v":"APATA"},{"$f":"IFERROR(VLOOKUP(MID(DE$23,5,4)&$A26,Lista_Ubigeo!$J:$K,2,0),\" \")","v":"ONDORES"},{"$f":"IFERROR(VLOOKUP(MID(DF$23,5,4)&$A26,Lista_Ubigeo!$J:$K,2,0),\" \")","v":"LLAYLLA"},{"$f":"IFERROR(VLOOKUP(MID(DG$23,5,4)&$A26,Lista_Ubigeo!$J:$K,2,0),\" \")","v":"HUARICOLCA"},{"$f":"IFERROR(VLOOKUP(MID(DH$23,5,4)&$A26,Lista_Ubigeo!$J:$K,2,0),\" \")","v":"HUAY-HUAY"},{"$f":"IFERROR(VLOOKUP(MID(DI$23,5,4)&$A26,Lista_Ubigeo!$J:$K,2,0),\" \")","v":"CHONGOS BAJO"},{"$f":"IFERROR(VLOOKUP(MID(DJ$23,5,4)&$A26,Lista_Ubigeo!$J:$K,2,0),\" \")","v":"FLORENCIA DE MORA"},{"$f":"IFERROR(VLOOKUP(MID(DK$23,5,4)&$A26,Lista_Ubigeo!$J:$K,2,0),\" \")","v":"CHOCOPE"},{"$f":"IFERROR(VLOOKUP(MID(DL$23,5,4)&$A26,Lista_Ubigeo!$J:$K,2,0),\" \")","v":"CONDORMARCA"},{"$f":"IFERROR(VLOOKUP(MID(DM$23,5,4)&$A26,Lista_Ubigeo!$J:$K,2,0),\" \")","v":"PUEBLO NUEVO"},{"$f":"IFERROR(VLOOKUP(MID(DN$23,5,4)&$A26,Lista_Ubigeo!$J:$K,2,0),\" \")","v":"CARABAMBA"},{"$f":"IFERROR(VLOOKUP(MID(DO$23,5,4)&$A27,Lista_Ubigeo!$J:$K,2,0),\" \")","v":"CHARAT"},{"$f":"IFERROR(VLOOKUP(MID(DP$23,5,4)&$A26,Lista_Ubigeo!$J:$K,2,0),\" \")","v":"JEQUETEPEQUE"},{"$f":"IFERROR(VLOOKUP(MID(DQ$23,5,4)&$A26,Lista_Ubigeo!$J:$K,2,0),\" \")","v":"CHILLIA"},{"$f":"IFERROR(VLOOKUP(MID(DR$23,5,4)&$A26,Lista_Ubigeo!$J:$K,2,0),\" \")","v":"COCHORCO"},{"$f":"IFERROR(VLOOKUP(MID(DS$23,5,4)&$A26,Lista_Ubigeo!$J:$K,2,0),\" \")","v":"CACHICADAN"},{"$f":"IFERROR(VLOOKUP(MID(DT$23,5,4)&$A26,Lista_Ubigeo!$J:$K,2,0),\" \")","v":"MARMOT"},{"$f":"IFERROR(VLOOKUP(MID(DU$23,5,4)&$A26,Lista_Ubigeo!$J:$K,2,0),\" \")","v":"GUADALUPITO"},{"$f":"IFERROR(VLOOKUP(MID(DV$23,5,4)&$A26,Lista_Ubigeo!$J:$K,2,0),\" \")","v":"ETEN"},{"$f":"IFERROR(VLOOKUP(MID(DW$23,5,4)&$A26,Lista_Ubigeo!$J:$K,2,0),\" \")","v":"INCAHUASI"},{"$f":"IFERROR(VLOOKUP(MID(DX$23,5,4)&$A26,Lista_Ubigeo!$J:$K,2,0),\" \")","v":"ILLIMO"},{"$f":"IFERROR(VLOOKUP(MID(DY$23,5,4)&$A26,Lista_Ubigeo!$J:$K,2,0),\" \")","v":"ATE"},{"$f":"IFERROR(VLOOKUP(MID(DZ$23,5,4)&$A26,Lista_Ubigeo!$J:$K,2,0),\" \")","v":"PATIVILCA"},{"$f":"IFERROR(VLOOKUP(MID(EA$23,5,4)&$A26,Lista_Ubigeo!$J:$K,2,0),\" \")","v":"GORGOR"},{"$f":"IFERROR(VLOOKUP(MID(EB$23,5,4)&$A26,Lista_Ubigeo!$J:$K,2,0),\" \")","v":"HUAMANTANGA"},{"$f":"IFERROR(VLOOKUP(MID(EC$23,5,4)&$A26,Lista_Ubigeo!$J:$K,2,0),\" \")","v":"CALANGO"},{"$f":"IFERROR(VLOOKUP(MID(ED$23,5,4)&$A26,Lista_Ubigeo!$J:$K,2,0),\" \")","v":"ATAVILLOS BAJO"},{"$f":"IFERROR(VLOOKUP(MID(EE$23,5,4)&$A26,Lista_Ubigeo!$J:$K,2,0),\" \")","v":"CALLAHUANCA"},{"$f":"IFERROR(VLOOKUP(MID(EF$23,5,4)&$A26,Lista_Ubigeo!$J:$K,2,0),\" \")","v":"CALETA DE CARQUIN"},{"$f":"IFERROR(VLOOKUP(MID(EG$23,5,4)&$A26,Lista_Ubigeo!$J:$K,2,0),\" \")","v":"CAUJUL"},{"$f":"IFERROR(VLOOKUP(MID(EH$23,5,4)&$A26,Lista_Ubigeo!$J:$K,2,0),\" \")","v":"AYAUCA"},{"$f":"IFERROR(VLOOKUP(MID(EI$23,5,4)&$A26,Lista_Ubigeo!$J:$K,2,0),\" \")","v":"FERNANDO LORES"},{"$f":"IFERROR(VLOOKUP(MID(EJ$23,5,4)&$A28,Lista_Ubigeo!$J:$K,2,0),\" \")","v":"JEBEROS"},{"$f":"IFERROR(VLOOKUP(MID(EK$23,5,4)&$A26,Lista_Ubigeo!$J:$K,2,0),\" \")","v":"TIGRE"},{"$f":"IFERROR(VLOOKUP(MID(EL$23,5,4)&$A26,Lista_Ubigeo!$J:$K,2,0),\" \")","v":"YAVARI"},{"$f":"IFERROR(VLOOKUP(MID(EM$23,5,4)&$A26,Lista_Ubigeo!$J:$K,2,0),\" \")","v":"CAPELO"},{"$f":"IFERROR(VLOOKUP(MID(EN$23,5,4)&$A26,Lista_Ubigeo!$J:$K,2,0),\" \")","v":"PADRE MARQUEZ"},{"$f":"IFERROR(VLOOKUP(MID(EO$23,5,4)&$A26,Lista_Ubigeo!$J:$K,2,0),\" \")","v":"MANSERICHE"},{"$f":"IFERROR(VLOOKUP(MID(EP$23,5,4)&$A26,Lista_Ubigeo!$J:$K,2,0),\" \")","v":"TENIENTE MANUEL CLAVERO"},{"$f":"IFERROR(VLOOKUP(MID(EQ$23,5,4)&$A26,Lista_Ubigeo!$J:$K,2,0),\" \")","v":"LAS PIEDRAS"},{"$f":"IFERROR(VLOOKUP(MID(ER$23,5,4)&$A26,Lista_Ubigeo!$J:$K,2,0),\" \")","v":"MADRE DE DIOS"},{"$f":"IFERROR(VLOOKUP(MID(ES$23,5,4)&$A26,Lista_Ubigeo!$J:$K,2,0),\" \")","v":"TAHUAMANU"},{"$f":"IFERROR(VLOOKUP(MID(ET$23,5,4)&$A26,Lista_Ubigeo!$J:$K,2,0),\" \")","v":"CUCHUMBAYA"},{"$f":"IFERROR(VLOOKUP(MID(EU$23,5,4)&$A26,Lista_Ubigeo!$J:$K,2,0),\" \")","v":"COALAQUE"},{"$f":"IFERROR(VLOOKUP(MID(EV$23,5,4)&$A26,Lista_Ubigeo!$J:$K,2,0),\" \")","v":"PACOCHA"},{"$f":"IFERROR(VLOOKUP(MID(EW$23,5,4)&$A26,Lista_Ubigeo!$J:$K,2,0),\" \")","v":"HUARIACA"},{"$f":"IFERROR(VLOOKUP(MID(EX$23,5,4)&$A26,Lista_Ubigeo!$J:$K,2,0),\" \")","v":"GOYLLARISQUIZGA"},{"$f":"IFERROR(VLOOKUP(MID(EY$23,5,4)&$A26,Lista_Ubigeo!$J:$K,2,0),\" \")","v":"HUANCABAMBA"},{"$f":"IFERROR(VLOOKUP(MID(EZ$23,5,4)&$A28,Lista_Ubigeo!$J:$K,2,0),\" \")","v":"CATACAOS"},{"$f":"IFERROR(VLOOKUP(MID(FA$23,5,4)&$A26,Lista_Ubigeo!$J:$K,2,0),\" \")","v":"JILILI"},{"$f":"IFERROR(VLOOKUP(MID(FB$23,5,4)&$A26,Lista_Ubigeo!$J:$K,2,0),\" \")","v":"EL CARMEN DE LA FRONTERA"},{"$f":"IFERROR(VLOOKUP(MID(FC$23,5,4)&$A26,Lista_Ubigeo!$J:$K,2,0),\" \")","v":"CHALACO"},{"$f":"IFERROR(VLOOKUP(MID(FD$23,5,4)&$A26,Lista_Ubigeo!$J:$K,2,0),\" \")","v":"ARENAL"},{"$f":"IFERROR(VLOOKUP(MID(FE$23,5,4)&$A26,Lista_Ubigeo!$J:$K,2,0),\" \")","v":"IGNACIO ESCUDERO"},{"$f":"IFERROR(VLOOKUP(MID(FF$23,5,4)&$A26,Lista_Ubigeo!$J:$K,2,0),\" \")","v":"LA BREA"},{"$f":"IFERROR(VLOOKUP(MID(FG$23,5,4)&$A26,Lista_Ubigeo!$J:$K,2,0),\" \")","v":"BERNAL"},{"$f":"IFERROR(VLOOKUP(MID(FH$23,5,4)&$A26,Lista_Ubigeo!$J:$K,2,0),\" \")","v":"AMANTANI"},{"$f":"IFERROR(VLOOKUP(MID(FI$23,5,4)&$A26,Lista_Ubigeo!$J:$K,2,0),\" \")","v":"ARAPA"},{"$f":"IFERROR(VLOOKUP(MID(FJ$23,5,4)&$A26,Lista_Ubigeo!$J:$K,2,0),\" \")","v":"AYAPATA"},{"$f":"IFERROR(VLOOKUP(MID(FK$23,5,4)&$A26,Lista_Ubigeo!$J:$K,2,0),\" \")","v":"HUACULLANI"},{"$f":"IFERROR(VLOOKUP(MID(FL$23,5,4)&$A26,Lista_Ubigeo!$J:$K,2,0),\" \")","v":"PILCUYO"},{"$f":"IFERROR(VLOOKUP(MID(FM$23,5,4)&$A26,Lista_Ubigeo!$J:$K,2,0),\" \")","v":"HUATASANI"},{"$f":"IFERROR(VLOOKUP(MID(FN$23,5,4)&$A26,Lista_Ubigeo!$J:$K,2,0),\" \")","v":"CALAPUJA"},{"$f":"IFERROR(VLOOKUP(MID(FO$23,5,4)&$A26,Lista_Ubigeo!$J:$K,2,0),\" \")","v":"CUPI"},{"$f":"IFERROR(VLOOKUP(MID(FP$23,5,4)&$A26,Lista_Ubigeo!$J:$K,2,0),\" \")","v":"HUAYRAPATA"},{"$f":"IFERROR(VLOOKUP(MID(FQ$23,5,4)&$A26,Lista_Ubigeo!$J:$K,2,0),\" \")","v":"PEDRO VILCA APAZA"},{"$f":"IFERROR(VLOOKUP(MID(FR$23,5,4)&$A26,Lista_Ubigeo!$J:$K,2,0),\" \")","v":"CABANILLAS"},{"$f":"IFERROR(VLOOKUP(MID(FS$23,5,4)&$A26,Lista_Ubigeo!$J:$K,2,0),\" \")","v":"LIMBANI"},{"$f":"IFERROR(VLOOKUP(MID(FT$23,5,4)&$A26,Lista_Ubigeo!$J:$K,2,0),\" \")","v":"COPANI"},{"$f":"IFERROR(VLOOKUP(MID(FU$23,5,4)&$A26,Lista_Ubigeo!$J:$K,2,0),\" \")","v":"HABANA"},{"$f":"IFERROR(VLOOKUP(MID(FV$23,5,4)&$A26,Lista_Ubigeo!$J:$K,2,0),\" \")","v":"BAJO BIAVO"},{"$f":"IFERROR(VLOOKUP(MID(FW$23,5,4)&$A26,Lista_Ubigeo!$J:$K,2,0),\" \")","v":"SAN MARTIN"},{"$f":"IFERROR(VLOOKUP(MID(FX$23,5,4)&$A26,Lista_Ubigeo!$J:$K,2,0),\" \")","v":"EL ESLABON"},{"$f":"IFERROR(VLOOKUP(MID(FY$23,5,4)&$A26,Lista_Ubigeo!$J:$K,2,0),\" \")","v":"BARRANQUITA"},{"$f":"IFERROR(VLOOKUP(MID(FZ$23,5,4)&$A26,Lista_Ubigeo!$J:$K,2,0),\" \")","v":"HUICUNGO"},{"$f":"IFERROR(VLOOKUP(MID(GA$23,5,4)&$A26,Lista_Ubigeo!$J:$K,2,0),\" \")","v":"CASPISAPA"},{"$f":"IFERROR(VLOOKUP(MID(GB$23,5,4)&$A26,Lista_Ubigeo!$J:$K,2,0),\" \")","v":"ELIAS SOPLIN VARGAS"},{"$f":"IFERROR(VLOOKUP(MID(GC$23,5,4)&$A26,Lista_Ubigeo!$J:$K,2,0),\" \")","v":"CACATACHI"},{"$f":"IFERROR(VLOOKUP(MID(GD$23,5,4)&$A26,Lista_Ubigeo!$J:$K,2,0),\" \")","v":"POLVORA"},{"$f":"IFERROR(VLOOKUP(MID(GE$23,5,4)&$A26,Lista_Ubigeo!$J:$K,2,0),\" \")","v":"CALANA"},{"$f":"IFERROR(VLOOKUP(MID(GF$23,5,4)&$A26,Lista_Ubigeo!$J:$K,2,0),\" \")","v":"CAMILACA"},{"$f":"IFERROR(VLOOKUP(MID(GG$23,5,4)&$A26,Lista_Ubigeo!$J:$K,2,0),\" \")","v":"ITE"},{"$f":"IFERROR(VLOOKUP(MID(GH$23,5,4)&$A26,Lista_Ubigeo!$J:$K,2,0),\" \")","v":"ESTIQUE"},{"$f":"IFERROR(VLOOKUP(MID(GI$23,5,4)&$A26,Lista_Ubigeo!$J:$K,2,0),\" \")","v":"LA CRUZ"},{"$f":"IFERROR(VLOOKUP(MID(GJ$23,5,4)&$A26,Lista_Ubigeo!$J:$K,2,0),\" \")","v":"CANOAS DE PUNTA SAL"},{"$f":"IFERROR(VLOOKUP(MID(GK$23,5,4)&$A26,Lista_Ubigeo!$J:$K,2,0),\" \")","v":"MATAPALO"},{"$f":"IFERROR(VLOOKUP(MID(GL$23,5,4)&$A26,Lista_Ubigeo!$J:$K,2,0),\" \")","v":"IPARIA"},{"$f":"IFERROR(VLOOKUP(MID(GM$23,5,4)&$A26,Lista_Ubigeo!$J:$K,2,0),\" \")","v":"TAHUANIA"},{"$f":"IFERROR(VLOOKUP(MID(GN$23,5,4)&$A26,Lista_Ubigeo!$J:$K,2,0),\" \")","v":"CURIMANA"},{"$f":"IFERROR(VLOOKUP(MID(GO$23,5,4)&$A26,Lista_Ubigeo!$J:$K,2,0),\" \")","v":" "},{"$f":"IFERROR(VLOOKUP(MID(GP$23,5,4)&$A26,Lista_Ubigeo!$J:$K,2,0),\" \")","v":"ARAPA"}]
["04",{"$f":"IFERROR(VLOOKUP(MID(B$23,5,4)&$A27,Lista_Ubigeo!$J:$K,2,0),\" \")","v":"CHETO"},{"$f":"IFERROR(VLOOKUP(MID(C$23,5,4)&$A27,Lista_Ubigeo!$J:$K,2,0),\" \")","v":"EL PARCO"},{"$f":"IFERROR(VLOOKUP(MID(D$23,5,4)&$A27,Lista_Ubigeo!$J:$K,2,0),\" \")","v":"COROSHA"},{"$f":"IFERROR(VLOOKUP(MID(E$23,5,4)&$A27,Lista_Ubigeo!$J:$K,2,0),\" \")","v":" "},{"$f":"IFERROR(VLOOKUP(MID(F$23,5,4)&$A27,Lista_Ubigeo!$J:$K,2,0),\" \")","v":"COLCAMAR"},{"$f":"IFERROR(VLOOKUP(MID(G$23,5,4)&$A27,Lista_Ubigeo!$J:$K,2,0),\" \")","v":"HUAMBO"},{"$f":"IFERROR(VLOOKUP(MID(H$23,5,4)&$A27,Lista_Ubigeo!$J:$K,2,0),\" \")","v":"EL MILAGRO"},{"$f":"IFERROR(VLOOKUP(MID(I$23,5,4)&$A27,Lista_Ubigeo!$J:$K,2,0),\" \")","v":"HUANCHAY"},{"$f":"IFERROR(VLOOKUP(MID(J$23,5,4)&$A27,Lista_Ubigeo!$J:$K,2,0),\" \")","v":"LA MERCED"},{"$f":"IFERROR(VLOOKUP(MID(K$23,5,4)&$A27,Lista_Ubigeo!$J:$K,2,0),\" \")","v":"CHINGAS"},{"$f":"IFERROR(VLOOKUP(MID(L$23,5,4)&$A27,Lista_Ubigeo!$J:$K,2,0),\" \")","v":" "},{"$f":"IFERROR(VLOOKUP(MID(M$23,5,4)&$A27,Lista_Ubigeo!$J:$K,2,0),\" \")","v":"AGUIA"},{"$f":"IFERROR(VLOOKUP(MID(N$23,5,4)&$A27,Lista_Ubigeo!$J:$K,2,0),\" \")","v":"ANTA"},{"$f":"IFERROR(VLOOKUP(MID(O$23,5,4)&$A27,Lista_Ubigeo!$J:$K,2,0),\" \")","v":" "},{"$f":"IFERROR(VLOOKUP(MID(P$23,5,4)&$A27,Lista_Ubigeo!$J:$K,2,0),\" \")","v":"YAUTAN"},{"$f":"IFERROR(VLOOKUP(MID(Q$23,5,4)&$A27,Lista_Ubigeo!$J:$K,2,0),\" \")","v":"CUSCA"},{"$f":"IFERROR(VLOOKUP(MID(R$23,5,4)&$A27,Lista_Ubigeo!$J:$K,2,0),\" \")","v":"CHAVIN DE HUANTAR"},{"$f":"IFERROR(VLOOKUP(MID(S$23,5,4)&$A27,Lista_Ubigeo!$J:$K,2,0),\" \")","v":"HUAYAN"},{"$f":"IFERROR(VLOOKUP(MID(T$23,5,4)&$A27,Lista_Ubigeo!$J:$K,2,0),\" \")","v":"HUAYLAS"},{"$f":"IFERROR(VLOOKUP(MID(U$23,5,4)&$A27,Lista_Ubigeo!$J:$K,2,0),\" \")","v":"FIDEL OLIVAS ESCUDERO"},{"$f":"IFERROR(VLOOKUP(MID(V$23,5,4)&$A27,Lista_Ubigeo!$J:$K,2,0),\" \")","v":"CARHUAPAMPA"},{"$f":"IFERROR(VLOOKUP(MID(W$23,5,4)&$A27,Lista_Ubigeo!$J:$K,2,0),\" \")","v":"HUACASCHUQUE"},{"$f":"IFERROR(VLOOKUP(MID(X$23,5,4)&$A27,Lista_Ubigeo!$J:$K,2,0),\" \")","v":"QUINUABAMBA"},{"$f":"IFERROR(VLOOKUP(MID(Y$23,5,4)&$A27,Lista_Ubigeo!$J:$K,2,0),\" \")","v":"HUAYLLAPAMPA"},{"$f":"IFERROR(VLOOKUP(MID(Z$23,5,4)&$A27,Lista_Ubigeo!$J:$K,2,0),\" \")","v":"MACATE"},{"$f":"IFERROR(VLOOKUP(MID(AA$23,5,4)&$A27,Lista_Ubigeo!$J:$K,2,0),\" \")","v":"CASHAPAMPA"},{"$f":"IFERROR(VLOOKUP(MID(AB$23,5,4)&$A27,Lista_Ubigeo!$J:$K,2,0),\" \")","v":"MATACOTO"},{"$f":"IFERROR(VLOOKUP(MID(AC$23,5,4)&$A27,Lista_Ubigeo!$J:$K,2,0),\" \")","v":"CURAHUASI"},{"$f":"IFERROR(VLOOKUP(MID(AD$23,5,4)&$A27,Lista_Ubigeo!$J:$K,2,0),\" \")","v":"HUANCARAMA"},{"$f":"IFERROR(VLOOKUP(MID(AE$23,5,4)&$A27,Lista_Ubigeo!$J:$K,2,0),\" \")","v":"JUAN ESPINOZA MEDRANO"},{"$f":"IFERROR(VLOOKUP(MID(AF$23,5,4)&$A27,Lista_Ubigeo!$J:$K,2,0),\" \")","v":"CHAPIMARCA"},{"$f":"IFERROR(VLOOKUP(MID(AG$23,5,4)&$A27,Lista_Ubigeo!$J:$K,2,0),\" \")","v":"HAQUIRA"},{"$f":"IFERROR(VLOOKUP(MID(AH$23,5,4)&$A27,Lista_Ubigeo!$J:$K,2,0),\" \")","v":"HUACCANA"},{"$f":"IFERROR(VLOOKUP(MID(AI$23,5,4)&$A27,Lista_Ubigeo!$J:$K,2,0),\" \")","v":"HUAYLLATI"},{"$f":"IFERROR(VLOOKUP(MID(AJ$23,5,4)&$A27,Lista_Ubigeo!$J:$K,2,0),\" \")","v":"CERRO COLORADO"},{"$f":"IFERROR(VLOOKUP(MID(AK$23,5,4)&$A27,Lista_Ubigeo!$J:$K,2,0),\" \")","v":"MARISCAL CACERES"},{"$f":"IFERROR(VLOOKUP(MID(AL$23,5,4)&$A27,Lista_Ubigeo!$J:$K,2,0),\" \")","v":"ATIQUIPA"},{"$f":"IFERROR(VLOOKUP(MID(AM$23,5,4)&$A27,Lista_Ubigeo!$J:$K,2,0),\" \")","v":"CHACHAS"},{"$f":"IFERROR(VLOOKUP(MID(AN$23,5,4)&$A27,Lista_Ubigeo!$J:$K,2,0),\" \")","v":"CALLALLI"},{"$f":"IFERROR(VLOOKUP(MID(AO$23,5,4)&$A27,Lista_Ubigeo!$J:$K,2,0),\" \")","v":"CHICHAS"},{"$f":"IFERROR(VLOOKUP(MID(AP$23,5,4)&$A27,Lista_Ubigeo!$J:$K,2,0),\" \")","v":"ISLAY"},{"$f":"IFERROR(VLOOKUP(MID(AQ$23,4,4)&$A27,Lista_Ubigeo!$J:$K,2,0),\" \")","v":"HUAYNACOTAS"},{"$f":"IFERROR(VLOOKUP(MID(AR$23,5,4)&$A27,Lista_Ubigeo!$J:$K,2,0),\" \")","v":"CARMEN ALTO"},{"$f":"IFERROR(VLOOKUP(MID(AS$23,5,4)&$A27,Lista_Ubigeo!$J:$K,2,0),\" \")","v":"MARIA PARADO DE BELLIDO"},{"$f":"IFERROR(VLOOKUP(MID(AT$23,5,4)&$A27,Lista_Ubigeo!$J:$K,2,0),\" \")","v":"SANTIAGO DE LUCANAMARCA"},{"$f":"IFERROR(VLOOKUP(MID(AU$23,5,4)&$A27,Lista_Ubigeo!$J:$K,2,0),\" \")","v":"IGUAIN"},{"$f":"IFERROR(VLOOKUP(MID(AV$23,5,4)&$A27,Lista_Ubigeo!$J:$K,2,0),\" \")","v":"CHILCAS"},{"$f":"IFERROR(VLOOKUP(MID(AW$23,5,4)&$A27,Lista_Ubigeo!$J:$K,2,0),\" \")","v":"CARMEN SALCEDO"},{"$f":"IFERROR(VLOOKUP(MID(AX$23,5,4)&$A27,Lista_Ubigeo!$J:$K,2,0),\" \")","v":"PACAPAUSA"},{"$f":"IFERROR(VLOOKUP(MID(AY$23,5,4)&$A27,Lista_Ubigeo!$J:$K,2,0),\" \")","v":"LAMPA"},{"$f":"IFERROR(VLOOKUP(MID(AZ$23,5,4)&$A27,Lista_Ubigeo!$J:$K,2,0),\" \")","v":"CHILCAYOC"},{"$f":"IFERROR(VLOOKUP(MID(BA$23,5,4)&$A27,Lista_Ubigeo!$J:$K,2,0),\" \")","v":"ASQUIPATA"},{"$f":"IFERROR(VLOOKUP(MID(BB$23,5,4)&$A27,Lista_Ubigeo!$J:$K,2,0),\" \")","v":"CONCEPCION"},{"$f":"IFERROR(VLOOKUP(MID(BC$23,5,4)&$A27,Lista_Ubigeo!$J:$K,2,0),\" \")","v":"COSPAN"},{"$f":"IFERROR(VLOOKUP(MID(BD$23,5,4)&$A27,Lista_Ubigeo!$J:$K,2,0),\" \")","v":"SITACOCHA"},{"$f":"IFERROR(VLOOKUP(MID(BE$23,5,4)&$A27,Lista_Ubigeo!$J:$K,2,0),\" \")","v":"HUASMIN"},{"$f":"IFERROR(VLOOKUP(MID(BF$23,5,4)&$A27,Lista_Ubigeo!$J:$K,2,0),\" \")","v":"CHIGUIRIP"},{"$f":"IFERROR(VLOOKUP(MID(BG$23,5,4)&$A27,Lista_Ubigeo!$J:$K,2,0),\" \")","v":"GUZMANGO"},{"$f":"IFERROR(VLOOKUP(MID(BH$23,5,4)&$A27,Lista_Ubigeo!$J:$K,2,0),\" \")","v":"CUJILLO"},{"$f":"IFERROR(VLOOKUP(MID(BI$23,5,4)&$A27,Lista_Ubigeo!$J:$K,2,0),\" \")","v":" "},{"$f":"IFERROR(VLOOKUP(MID(BJ$23,5,4)&$A27,Lista_Ubigeo!$J:$K,2,0),\" \")","v":"COLASAY"},{"$f":"IFERROR(VLOOKUP(MID(BK$23,5,4)&$A27,Lista_Ubigeo!$J:$K,2,0),\" \")","v":"LA COIPA"},{"$f":"IFERROR(VLOOKUP(MID(BL$23,5,4)&$A27,Lista_Ubigeo!$J:$K,2,0),\" \")","v":"GREGORIO PITA"},{"$f":"IFERROR(VLOOKUP(MID(BM$23,5,4)&$A27,Lista_Ubigeo!$J:$K,2,0),\" \")","v":"CATILLUC"},{"$f":"IFERROR(VLOOKUP(MID(BN$23,5,4)&$A27,Lista_Ubigeo!$J:$K,2,0),\" \")","v":"TUMBADEN"},{"$f":"IFERROR(VLOOKUP(MID(BO$23,5,4)&$A27,Lista_Ubigeo!$J:$K,2,0),\" \")","v":"CHANCAYBAÑOS"},{"$f":"IFERROR(VLOOKUP(MID(BP$23,5,4)&$A27,Lista_Ubigeo!$J:$K,2,0),\" \")","v":"LA PERLA"},{"$f":"IFERROR(VLOOKUP(MID(BQ$23,5,4)&$A27,Lista_Ubigeo!$J:$K,2,0),\" \")","v":"SAN JERONIMO"},{"$f":"IFERROR(VLOOKUP(MID(BR$23,5,4)&$A27,Lista_Ubigeo!$J:$K,2,0),\" \")","v":"MOSOC LLACTA"},{"$f":"IFERROR(VLOOKUP(MID(BS$23,5,4)&$A27,Lista_Ubigeo!$J:$K,2,0),\" \")","v":"CHINCHAYPUJIO"},{"$f":"IFERROR(VLOOKUP(MID(BT$23,5,4)&$A27,Lista_Ubigeo!$J:$K,2,0),\" \")","v":"LARES"},{"$f":"IFERROR(VLOOKUP(MID(BU$23,5,4)&$A27,Lista_Ubigeo!$J:$K,2,0),\" \")","v":"LANGUI"},{"$f":"IFERROR(VLOOKUP(MID(BV$23,5,4)&$A27,Lista_Ubigeo!$J:$K,2,0),\" \")","v":"MARANGANI"},{"$f":"IFERROR(VLOOKUP(MID(BW$23,5,4)&$A27,Lista_Ubigeo!$J:$K,2,0),\" \")","v":"COLQUEMARCA"},{"$f":"IFERROR(VLOOKUP(MID(BX$23,5,4)&$A27,Lista_Ubigeo!$J:$K,2,0),\" \")","v":"OCORURO"},{"$f":"IFERROR(VLOOKUP(MID(BY$23,4,4)&$A27,Lista_Ubigeo!$J:$K,2,0),\" \")","v":"MARANURA"},{"$f":"IFERROR(VLOOKUP(MID(BZ$23,5,4)&$A27,Lista_Ubigeo!$J:$K,2,0),\" \")","v":"COLCHA"},{"$f":"IFERROR(VLOOKUP(MID(CA$23,5,4)&$A27,Lista_Ubigeo!$J:$K,2,0),\" \")","v":"COLQUEPATA"},{"$f":"IFERROR(VLOOKUP(MID(CB$23,5,4)&$A27,Lista_Ubigeo!$J:$K,2,0),\" \")","v":"CCARHUAYO"},{"$f":"IFERROR(VLOOKUP(MID(CC$23,5,4)&$A27,Lista_Ubigeo!$J:$K,2,0),\" \")","v":"MACHUPICCHU"},{"$f":"IFERROR(VLOOKUP(MID(CD$23,5,4)&$A27,Lista_Ubigeo!$J:$K,2,0),\" \")","v":"CONAYCA"},{"$f":"IFERROR(VLOOKUP(MID(CE$23,5,4)&$A27,Lista_Ubigeo!$J:$K,2,0),\" \")","v":"CAJA"},{"$f":"IFERROR(VLOOKUP(MID(CF$23,5,4)&$A27,Lista_Ubigeo!$J:$K,2,0),\" \")","v":"CCOCHACCASA"},{"$f":"IFERROR(VLOOKUP(MID(CG$23,5,4)&$A27,Lista_Ubigeo!$J:$K,2,0),\" \")","v":"CAPILLAS"},{"$f":"IFERROR(VLOOKUP(MID(CH$23,5,4)&$A27,Lista_Ubigeo!$J:$K,2,0),\" \")","v":"EL CARMEN"},{"$f":"IFERROR(VLOOKUP(MID(CI$23,5,4)&$A27,Lista_Ubigeo!$J:$K,2,0),\" \")","v":"HUAYACUNDO ARMA"},{"$f":"IFERROR(VLOOKUP(MID(CJ$23,5,4)&$A27,Lista_Ubigeo!$J:$K,2,0),\" \")","v":"AHUAYCHA"},{"$f":"IFERROR(VLOOKUP(MID(CK$23,5,4)&$A27,Lista_Ubigeo!$J:$K,2,0),\" \")","v":"CHURUBAMBA"},{"$f":"IFERROR(VLOOKUP(MID(CL$23,5,4)&$A27,Lista_Ubigeo!$J:$K,2,0),\" \")","v":"CONCHAMARCA"},{"$f":"IFERROR(VLOOKUP(MID(CM$23,5,4)&$A36,Lista_Ubigeo!$J:$K,2,0),\" \")","v":"PACHAS"},{"$f":"IFERROR(VLOOKUP(MID(CN$23,5,4)&$A27,Lista_Ubigeo!$J:$K,2,0),\" \")","v":"PINRA"},{"$f":"IFERROR(VLOOKUP(MID(CO$23,5,4)&$A27,Lista_Ubigeo!$J:$K,2,0),\" \")","v":"JACAS GRANDE"},{"$f":"IFERROR(VLOOKUP(MID(CP$23,5,4)&$A27,Lista_Ubigeo!$J:$K,2,0),\" \")","v":"JOSE CRESPO Y CASTILLO"},{"$f":"IFERROR(VLOOKUP(MID(CQ$23,5,4)&$A27,Lista_Ubigeo!$J:$K,2,0),\" \")","v":"LA MORADA"},{"$f":"IFERROR(VLOOKUP(MID(CR$23,5,4)&$A27,Lista_Ubigeo!$J:$K,2,0),\" \")","v":"UMARI"},{"$f":"IFERROR(VLOOKUP(MID(CS$23,5,4)&$A27,Lista_Ubigeo!$J:$K,2,0),\" \")","v":"TOURNAVISTA"},{"$f":"IFERROR(VLOOKUP(MID(CT$23,5,4)&$A27,Lista_Ubigeo!$J:$K,2,0),\" \")","v":"QUEROPALCA"},{"$f":"IFERROR(VLOOKUP(MID(CU$23,5,4)&$A27,Lista_Ubigeo!$J:$K,2,0),\" \")","v":"APARICIO POMARES"},{"$f":"IFERROR(VLOOKUP(MID(CV$23,5,4)&$A27,Lista_Ubigeo!$J:$K,2,0),\" \")","v":"OCUCAJE"},{"$f":"IFERROR(VLOOKUP(MID(CW$23,5,4)&$A27,Lista_Ubigeo!$J:$K,2,0),\" \")","v":"CHINCHA BAJA"},{"$f":"IFERROR(VLOOKUP(MID(CX$23,5,4)&$A27,Lista_Ubigeo!$J:$K,2,0),\" \")","v":"MARCONA"},{"$f":"IFERROR(VLOOKUP(MID(CY$23,5,4)&$A27,Lista_Ubigeo!$J:$K,2,0),\" \")","v":"SANTA CRUZ"},{"$f":"IFERROR(VLOOKUP(MID(CZ$23,5,4)&$A27,Lista_Ubigeo!$J:$K,2,0),\" \")","v":"INDEPENDENCIA"},{"$f":"IFERROR(VLOOKUP(MID(DA$23,5,4)&$A27,Lista_Ubigeo!$J:$K,2,0),\" \")","v":"CARHUACALLANGA"},{"$f":"IFERROR(VLOOKUP(MID(DB$23,5,4)&$A27,Lista_Ubigeo!$J:$K,2,0),\" \")","v":"CHAMBARA"},{"$f":"IFERROR(VLOOKUP(MID(DC$23,5,4)&$A27,Lista_Ubigeo!$J:$K,2,0),\" \")","v":"SAN LUIS DE SHUARO"},{"$f":"IFERROR(VLOOKUP(MID(DD$23,5,4)&$A27,Lista_Ubigeo!$J:$K,2,0),\" \")","v":"ATAURA"},{"$f":"IFERROR(VLOOKUP(MID(DE$23,5,4)&$A27,Lista_Ubigeo!$J:$K,2,0),\" \")","v":"ULCUMAYO"},{"$f":"IFERROR(VLOOKUP(MID(DF$23,5,4)&$A27,Lista_Ubigeo!$J:$K,2,0),\" \")","v":"MAZAMARI"},{"$f":"IFERROR(VLOOKUP(MID(DG$23,5,4)&$A27,Lista_Ubigeo!$J:$K,2,0),\" \")","v":"HUASAHUASI"},{"$f":"IFERROR(VLOOKUP(MID(DH$23,5,4)&$A27,Lista_Ubigeo!$J:$K,2,0),\" \")","v":"MARCAPOMACOCHA"},{"$f":"IFERROR(VLOOKUP(MID(DI$23,5,4)&$A27,Lista_Ubigeo!$J:$K,2,0),\" \")","v":"HUACHAC"},{"$f":"IFERROR(VLOOKUP(MID(DJ$23,5,4)&$A27,Lista_Ubigeo!$J:$K,2,0),\" \")","v":"HUANCHACO"},{"$f":"IFERROR(VLOOKUP(MID(DK$23,5,4)&$A27,Lista_Ubigeo!$J:$K,2,0),\" \")","v":"MAGDALENA DE CAO"},{"$f":"IFERROR(VLOOKUP(MID(DL$23,5,4)&$A27,Lista_Ubigeo!$J:$K,2,0),\" \")","v":"LONGOTEA"},{"$f":"IFERROR(VLOOKUP(MID(DM$23,5,4)&$A27,Lista_Ubigeo!$J:$K,2,0),\" \")","v":" "},{"$f":"IFERROR(VLOOKUP(MID(DN$23,5,4)&$A27,Lista_Ubigeo!$J:$K,2,0),\" \")","v":"HUASO"},{"$f":"IFERROR(VLOOKUP(MID(DO$23,5,4)&$A28,Lista_Ubigeo!$J:$K,2,0),\" \")","v":"HUARANCHAL"},{"$f":"IFERROR(VLOOKUP(MID(DP$23,5,4)&$A27,Lista_Ubigeo!$J:$K,2,0),\" \")","v":"PACASMAYO"},{"$f":"IFERROR(VLOOKUP(MID(DQ$23,5,4)&$A27,Lista_Ubigeo!$J:$K,2,0),\" \")","v":"HUANCASPATA"},{"$f":"IFERROR(VLOOKUP(MID(DR$23,5,4)&$A27,Lista_Ubigeo!$J:$K,2,0),\" \")","v":"CURGOS"},{"$f":"IFERROR(VLOOKUP(MID(DS$23,5,4)&$A27,Lista_Ubigeo!$J:$K,2,0),\" \")","v":"MOLLEBAMBA"},{"$f":"IFERROR(VLOOKUP(MID(DT$23,5,4)&$A27,Lista_Ubigeo!$J:$K,2,0),\" \")","v":"SAYAPULLO"},null,{"$f":"IFERROR(VLOOKUP(MID(DV$23,5,4)&$A27,Lista_Ubigeo!$J:$K,2,0),\" \")","v":"ETEN PUERTO"},{"$f":"IFERROR(VLOOKUP(MID(DW$23,5,4)&$A27,Lista_Ubigeo!$J:$K,2,0),\" \")","v":"MANUEL ANTONIO MESONES MURO"},{"$f":"IFERROR(VLOOKUP(MID(DX$23,5,4)&$A27,Lista_Ubigeo!$J:$K,2,0),\" \")","v":"JAYANCA"},{"$f":"IFERROR(VLOOKUP(MID(DY$23,5,4)&$A27,Lista_Ubigeo!$J:$K,2,0),\" \")","v":"BARRANCO"},{"$f":"IFERROR(VLOOKUP(MID(DZ$23,5,4)&$A27,Lista_Ubigeo!$J:$K,2,0),\" \")","v":"SUPE"},{"$f":"IFERROR(VLOOKUP(MID(EA$23,5,4)&$A27,Lista_Ubigeo!$J:$K,2,0),\" \")","v":"HUANCAPON"},{"$f":"IFERROR(VLOOKUP(MID(EB$23,5,4)&$A27,Lista_Ubigeo!$J:$K,2,0),\" \")","v":"HUAROS"},{"$f":"IFERROR(VLOOKUP(MID(EC$23,5,4)&$A27,Lista_Ubigeo!$J:$K,2,0),\" \")","v":"CERRO AZUL"},{"$f":"IFERROR(VLOOKUP(MID(ED$23,5,4)&$A27,Lista_Ubigeo!$J:$K,2,0),\" \")","v":"AUCALLAMA"},{"$f":"IFERROR(VLOOKUP(MID(EE$23,5,4)&$A27,Lista_Ubigeo!$J:$K,2,0),\" \")","v":"CARAMPOMA"},{"$f":"IFERROR(VLOOKUP(MID(EF$23,5,4)&$A27,Lista_Ubigeo!$J:$K,2,0),\" \")","v":"CHECRAS"},{"$f":"IFERROR(VLOOKUP(MID(EG$23,5,4)&$A27,Lista_Ubigeo!$J:$K,2,0),\" \")","v":"COCHAMARCA"},{"$f":"IFERROR(VLOOKUP(MID(EH$23,5,4)&$A27,Lista_Ubigeo!$J:$K,2,0),\" \")","v":"AYAVIRI"},{"$f":"IFERROR(VLOOKUP(MID(EI$23,5,4)&$A27,Lista_Ubigeo!$J:$K,2,0),\" \")","v":"INDIANA"},{"$f":"IFERROR(VLOOKUP(MID(EJ$23,5,4)&$A29,Lista_Ubigeo!$J:$K,2,0),\" \")","v":"LAGUNAS"},{"$f":"IFERROR(VLOOKUP(MID(EK$23,5,4)&$A27,Lista_Ubigeo!$J:$K,2,0),\" \")","v":"TROMPETEROS"},{"$f":"IFERROR(VLOOKUP(MID(EL$23,5,4)&$A27,Lista_Ubigeo!$J:$K,2,0),\" \")","v":"SAN PABLO"},{"$f":"IFERROR(VLOOKUP(MID(EM$23,5,4)&$A27,Lista_Ubigeo!$J:$K,2,0),\" \")","v":"EMILIO SAN MARTIN"},{"$f":"IFERROR(VLOOKUP(MID(EN$23,5,4)&$A27,Lista_Ubigeo!$J:$K,2,0),\" \")","v":"PAMPA HERMOSA"},{"$f":"IFERROR(VLOOKUP(MID(EO$23,5,4)&$A27,Lista_Ubigeo!$J:$K,2,0),\" \")","v":"MORONA"},{"$f":"IFERROR(VLOOKUP(MID(EP$23,5,4)&$A27,Lista_Ubigeo!$J:$K,2,0),\" \")","v":"YAGUAS"},{"$f":"IFERROR(VLOOKUP(MID(EQ$23,5,4)&$A27,Lista_Ubigeo!$J:$K,2,0),\" \")","v":"LABERINTO"},{"$f":"IFERROR(VLOOKUP(MID(ER$23,5,4)&$A27,Lista_Ubigeo!$J:$K,2,0),\" \")","v":"HUEPETUHE"},{"$f":"IFERROR(VLOOKUP(MID(ES$23,5,4)&$A27,Lista_Ubigeo!$J:$K,2,0),\" \")","v":" "},{"$f":"IFERROR(VLOOKUP(MID(ET$23,5,4)&$A27,Lista_Ubigeo!$J:$K,2,0),\" \")","v":"SAMEGUA"},{"$f":"IFERROR(VLOOKUP(MID(EU$23,5,4)&$A27,Lista_Ubigeo!$J:$K,2,0),\" \")","v":"ICHUÑA"},{"$f":"IFERROR(VLOOKUP(MID(EV$23,5,4)&$A27,Lista_Ubigeo!$J:$K,2,0),\" \")","v":" "},{"$f":"IFERROR(VLOOKUP(MID(EW$23,5,4)&$A27,Lista_Ubigeo!$J:$K,2,0),\" \")","v":"HUAYLLAY"},{"$f":"IFERROR(VLOOKUP(MID(EX$23,5,4)&$A27,Lista_Ubigeo!$J:$K,2,0),\" \")","v":"PAUCAR"},{"$f":"IFERROR(VLOOKUP(MID(EY$23,5,4)&$A27,Lista_Ubigeo!$J:$K,2,0),\" \")","v":"PALCAZU"},{"$f":"IFERROR(VLOOKUP(MID(EZ$23,5,4)&$A30,Lista_Ubigeo!$J:$K,2,0),\" \")","v":"CURA MORI"},{"$f":"IFERROR(VLOOKUP(MID(FA$23,5,4)&$A27,Lista_Ubigeo!$J:$K,2,0),\" \")","v":"LAGUNAS"},{"$f":"IFERROR(VLOOKUP(MID(FB$23,5,4)&$A27,Lista_Ubigeo!$J:$K,2,0),\" \")","v":"HUARMACA"},{"$f":"IFERROR(VLOOKUP(MID(FC$23,5,4)&$A27,Lista_Ubigeo!$J:$K,2,0),\" \")","v":"LA MATANZA"},{"$f":"IFERROR(VLOOKUP(MID(FD$23,5,4)&$A27,Lista_Ubigeo!$J:$K,2,0),\" \")","v":"COLAN"},{"$f":"IFERROR(VLOOKUP(MID(FE$23,5,4)&$A27,Lista_Ubigeo!$J:$K,2,0),\" \")","v":"LANCONES"},{"$f":"IFERROR(VLOOKUP(MID(FF$23,5,4)&$A27,Lista_Ubigeo!$J:$K,2,0),\" \")","v":"LOBITOS"},{"$f":"IFERROR(VLOOKUP(MID(FG$23,5,4)&$A27,Lista_Ubigeo!$J:$K,2,0),\" \")","v":"CRISTO NOS VALGA"},{"$f":"IFERROR(VLOOKUP(MID(FH$23,5,4)&$A27,Lista_Ubigeo!$J:$K,2,0),\" \")","v":"ATUNCOLLA"},{"$f":"IFERROR(VLOOKUP(MID(FI$23,5,4)&$A27,Lista_Ubigeo!$J:$K,2,0),\" \")","v":"ASILLO"},{"$f":"IFERROR(VLOOKUP(MID(FJ$23,5,4)&$A27,Lista_Ubigeo!$J:$K,2,0),\" \")","v":"COASA"},{"$f":"IFERROR(VLOOKUP(MID(FK$23,5,4)&$A27,Lista_Ubigeo!$J:$K,2,0),\" \")","v":"KELLUYO"},{"$f":"IFERROR(VLOOKUP(MID(FL$23,5,4)&$A27,Lista_Ubigeo!$J:$K,2,0),\" \")","v":"SANTA ROSA"},{"$f":"IFERROR(VLOOKUP(MID(FM$23,5,4)&$A27,Lista_Ubigeo!$J:$K,2,0),\" \")","v":"INCHUPALLA"},{"$f":"IFERROR(VLOOKUP(MID(FN$23,5,4)&$A27,Lista_Ubigeo!$J:$K,2,0),\" \")","v":"NICASIO"},{"$f":"IFERROR(VLOOKUP(MID(FO$23,5,4)&$A27,Lista_Ubigeo!$J:$K,2,0),\" \")","v":"LLALLI"},{"$f":"IFERROR(VLOOKUP(MID(FP$23,5,4)&$A27,Lista_Ubigeo!$J:$K,2,0),\" \")","v":"TILALI"},{"$f":"IFERROR(VLOOKUP(MID(FQ$23,5,4)&$A27,Lista_Ubigeo!$J:$K,2,0),\" \")","v":"QUILCAPUNCU"},{"$f":"IFERROR(VLOOKUP(MID(FR$23,5,4)&$A27,Lista_Ubigeo!$J:$K,2,0),\" \")","v":"CARACOTO"},{"$f":"IFERROR(VLOOKUP(MID(FS$23,5,4)&$A27,Lista_Ubigeo!$J:$K,2,0),\" \")","v":"PATAMBUCO"},{"$f":"IFERROR(VLOOKUP(MID(FT$23,5,4)&$A27,Lista_Ubigeo!$J:$K,2,0),\" \")","v":"CUTURAPI"},{"$f":"IFERROR(VLOOKUP(MID(FU$23,5,4)&$A27,Lista_Ubigeo!$J:$K,2,0),\" \")","v":"JEPELACIO"},{"$f":"IFERROR(VLOOKUP(MID(FV$23,5,4)&$A27,Lista_Ubigeo!$J:$K,2,0),\" \")","v":"HUALLAGA"},{"$f":"IFERROR(VLOOKUP(MID(FW$23,5,4)&$A27,Lista_Ubigeo!$J:$K,2,0),\" \")","v":"SANTA ROSA"},{"$f":"IFERROR(VLOOKUP(MID(FX$23,5,4)&$A27,Lista_Ubigeo!$J:$K,2,0),\" \")","v":"PISCOYACU"},{"$f":"IFERROR(VLOOKUP(MID(FY$23,5,4)&$A27,Lista_Ubigeo!$J:$K,2,0),\" \")","v":"CAYNARACHI"},{"$f":"IFERROR(VLOOKUP(MID(FZ$23,5,4)&$A27,Lista_Ubigeo!$J:$K,2,0),\" \")","v":"PACHIZA"},{"$f":"IFERROR(VLOOKUP(MID(GA$23,5,4)&$A27,Lista_Ubigeo!$J:$K,2,0),\" \")","v":"PILLUANA"},{"$f":"IFERROR(VLOOKUP(MID(GB$23,5,4)&$A27,Lista_Ubigeo!$J:$K,2,0),\" \")","v":"NUEVA CAJAMARCA"},{"$f":"IFERROR(VLOOKUP(MID(GC$23,5,4)&$A27,Lista_Ubigeo!$J:$K,2,0),\" \")","v":"CHAZUTA"},{"$f":"IFERROR(VLOOKUP(MID(GD$23,5,4)&$A27,Lista_Ubigeo!$J:$K,2,0),\" \")","v":"SHUNTE"},{"$f":"IFERROR(VLOOKUP(MID(GE$23,5,4)&$A27,Lista_Ubigeo!$J:$K,2,0),\" \")","v":"CIUDAD NUEVA"},{"$f":"IFERROR(VLOOKUP(MID(GF$23,5,4)&$A27,Lista_Ubigeo!$J:$K,2,0),\" \")","v":"CURIBAYA"},{"$f":"IFERROR(VLOOKUP(MID(GG$23,5,4)&$A27,Lista_Ubigeo!$J:$K,2,0),\" \")","v":" "},{"$f":"IFERROR(VLOOKUP(MID(GH$23,5,4)&$A27,Lista_Ubigeo!$J:$K,2,0),\" \")","v":"ESTIQUE-PAMPA"},{"$f":"IFERROR(VLOOKUP(MID(GI$23,5,4)&$A27,Lista_Ubigeo!$J:$K,2,0),\" \")","v":"PAMPAS DE HOSPITAL"},{"$f":"IFERROR(VLOOKUP(MID(GJ$23,5,4)&$A27,Lista_Ubigeo!$J:$K,2,0),\" \")","v":" "},{"$f":"IFERROR(VLOOKUP(MID(GK$23,5,4)&$A27,Lista_Ubigeo!$J:$K,2,0),\" \")","v":"PAPAYAL"},{"$f":"IFERROR(VLOOKUP(MID(GL$23,5,4)&$A27,Lista_Ubigeo!$J:$K,2,0),\" \")","v":"MASISEA"},{"$f":"IFERROR(VLOOKUP(MID(GM$23,5,4)&$A27,Lista_Ubigeo!$J:$K,2,0),\" \")","v":"YURUA"},{"$f":"IFERROR(VLOOKUP(MID(GN$23,5,4)&$A27,Lista_Ubigeo!$J:$K,2,0),\" \")","v":"NESHUYA"},{"$f":"IFERROR(VLOOKUP(MID(GO$23,5,4)&$A27,Lista_Ubigeo!$J:$K,2,0),\" \")","v":" "},{"$f":"IFERROR(VLOOKUP(MID(GP$23,5,4)&$A27,Lista_Ubigeo!$J:$K,2,0),\" \")","v":"ASILLO"}]
["05",{"$f":"IFERROR(VLOOKUP(MID(B$23,5,4)&$A28,Lista_Ubigeo!$J:$K,2,0),\" \")","v":"CHILIQUIN"},{"$f":"IFERROR(VLOOKUP(MID(C$23,5,4)&$A28,Lista_Ubigeo!$J:$K,2,0),\" \")","v":"IMAZA"},{"$f":"IFERROR(VLOOKUP(MID(D$23,5,4)&$A28,Lista_Ubigeo!$J:$K,2,0),\" \")","v":"CUISPES"},{"$f":"IFERROR(VLOOKUP(MID(E$23,5,4)&$A28,Lista_Ubigeo!$J:$K,2,0),\" \")","v":" "},{"$f":"IFERROR(VLOOKUP(MID(F$23,5,4)&$A28,Lista_Ubigeo!$J:$K,2,0),\" \")","v":"CONILA"},{"$f":"IFERROR(VLOOKUP(MID(G$23,5,4)&$A28,Lista_Ubigeo!$J:$K,2,0),\" \")","v":"LIMABAMBA"},{"$f":"IFERROR(VLOOKUP(MID(H$23,5,4)&$A28,Lista_Ubigeo!$J:$K,2,0),\" \")","v":"JAMALCA"},{"$f":"IFERROR(VLOOKUP(MID(I$23,5,4)&$A28,Lista_Ubigeo!$J:$K,2,0),\" \")","v":"INDEPENDENCIA"},{"$f":"IFERROR(VLOOKUP(MID(J$23,5,4)&$A28,Lista_Ubigeo!$J:$K,2,0),\" \")","v":"SUCCHA"},{"$f":"IFERROR(VLOOKUP(MID(K$23,5,4)&$A28,Lista_Ubigeo!$J:$K,2,0),\" \")","v":"MIRGAS"},{"$f":"IFERROR(VLOOKUP(MID(L$23,5,4)&$A28,Lista_Ubigeo!$J:$K,2,0),\" \")","v":" "},{"$f":"IFERROR(VLOOKUP(MID(M$23,5,4)&$A28,Lista_Ubigeo!$J:$K,2,0),\" \")","v":"CAJACAY"},{"$f":"IFERROR(VLOOKUP(MID(N$23,5,4)&$A28,Lista_Ubigeo!$J:$K,2,0),\" \")","v":"ATAQUERO"},{"$f":"IFERROR(VLOOKUP(MID(O$23,5,4)&$A28,Lista_Ubigeo!$J:$K,2,0),\" \")","v":" "},{"$f":"IFERROR(VLOOKUP(MID(P$23,5,4)&$A28,Lista_Ubigeo!$J:$K,2,0),\" \")","v":" "},{"$f":"IFERROR(VLOOKUP(MID(Q$23,5,4)&$A28,Lista_Ubigeo!$J:$K,2,0),\" \")","v":"LA PAMPA"},{"$f":"IFERROR(VLOOKUP(MID(R$23,5,4)&$A28,Lista_Ubigeo!$J:$K,2,0),\" \")","v":"HUACACHI"},{"$f":"IFERROR(VLOOKUP(MID(S$23,5,4)&$A28,Lista_Ubigeo!$J:$K,2,0),\" \")","v":"MALVAS"},{"$f":"IFERROR(VLOOKUP(MID(T$23,5,4)&$A28,Lista_Ubigeo!$J:$K,2,0),\" \")","v":"MATO"},{"$f":"IFERROR(VLOOKUP(MID(U$23,5,4)&$A28,Lista_Ubigeo!$J:$K,2,0),\" \")","v":"LLAMA"},{"$f":"IFERROR(VLOOKUP(MID(V$23,5,4)&$A28,Lista_Ubigeo!$J:$K,2,0),\" \")","v":"COCHAS"},{"$f":"IFERROR(VLOOKUP(MID(W$23,5,4)&$A28,Lista_Ubigeo!$J:$K,2,0),\" \")","v":"HUANDOVAL"},{"$f":"IFERROR(VLOOKUP(MID(X$23,5,4)&$A28,Lista_Ubigeo!$J:$K,2,0),\" \")","v":" "},{"$f":"IFERROR(VLOOKUP(MID(Y$23,5,4)&$A28,Lista_Ubigeo!$J:$K,2,0),\" \")","v":"LLACLLIN"},{"$f":"IFERROR(VLOOKUP(MID(Z$23,5,4)&$A28,Lista_Ubigeo!$J:$K,2,0),\" \")","v":"MORO"},{"$f":"IFERROR(VLOOKUP(MID(AA$23,5,4)&$A28,Lista_Ubigeo!$J:$K,2,0),\" \")","v":"CHINGALPO"},{"$f":"IFERROR(VLOOKUP(MID(AB$23,5,4)&$A28,Lista_Ubigeo!$J:$K,2,0),\" \")","v":"QUILLO"},{"$f":"IFERROR(VLOOKUP(MID(AC$23,5,4)&$A28,Lista_Ubigeo!$J:$K,2,0),\" \")","v":"HUANIPACA"},{"$f":"IFERROR(VLOOKUP(MID(AD$23,5,4)&$A28,Lista_Ubigeo!$J:$K,2,0),\" \")","v":"HUANCARAY"},{"$f":"IFERROR(VLOOKUP(MID(AE$23,5,4)&$A28,Lista_Ubigeo!$J:$K,2,0),\" \")","v":"OROPESA"},{"$f":"IFERROR(VLOOKUP(MID(AF$23,5,4)&$A28,Lista_Ubigeo!$J:$K,2,0),\" \")","v":"COLCABAMBA"},{"$f":"IFERROR(VLOOKUP(MID(AG$23,5,4)&$A28,Lista_Ubigeo!$J:$K,2,0),\" \")","v":"MARA"},{"$f":"IFERROR(VLOOKUP(MID(AH$23,5,4)&$A28,Lista_Ubigeo!$J:$K,2,0),\" \")","v":"OCOBAMBA"},{"$f":"IFERROR(VLOOKUP(MID(AI$23,5,4)&$A28,Lista_Ubigeo!$J:$K,2,0),\" \")","v":"MAMARA"},{"$f":"IFERROR(VLOOKUP(MID(AJ$23,5,4)&$A28,Lista_Ubigeo!$J:$K,2,0),\" \")","v":"CHARACATO"},{"$f":"IFERROR(VLOOKUP(MID(AK$23,5,4)&$A28,Lista_Ubigeo!$J:$K,2,0),\" \")","v":"NICOLAS DE PIEROLA"},{"$f":"IFERROR(VLOOKUP(MID(AL$23,5,4)&$A28,Lista_Ubigeo!$J:$K,2,0),\" \")","v":"BELLA UNION"},{"$f":"IFERROR(VLOOKUP(MID(AM$23,5,4)&$A28,Lista_Ubigeo!$J:$K,2,0),\" \")","v":"CHILCAYMARCA"},{"$f":"IFERROR(VLOOKUP(MID(AN$23,5,4)&$A28,Lista_Ubigeo!$J:$K,2,0),\" \")","v":"CAYLLOMA"},{"$f":"IFERROR(VLOOKUP(MID(AO$23,5,4)&$A28,Lista_Ubigeo!$J:$K,2,0),\" \")","v":"IRAY"},{"$f":"IFERROR(VLOOKUP(MID(AP$23,5,4)&$A28,Lista_Ubigeo!$J:$K,2,0),\" \")","v":"MEJIA"},{"$f":"IFERROR(VLOOKUP(MID(AQ$23,4,4)&$A28,Lista_Ubigeo!$J:$K,2,0),\" \")","v":"PAMPAMARCA"},{"$f":"IFERROR(VLOOKUP(MID(AR$23,5,4)&$A28,Lista_Ubigeo!$J:$K,2,0),\" \")","v":"CHIARA"},{"$f":"IFERROR(VLOOKUP(MID(AS$23,5,4)&$A28,Lista_Ubigeo!$J:$K,2,0),\" \")","v":"PARAS"},{"$f":"IFERROR(VLOOKUP(MID(AT$23,5,4)&$A28,Lista_Ubigeo!$J:$K,2,0),\" \")","v":" "},{"$f":"IFERROR(VLOOKUP(MID(AU$23,5,4)&$A28,Lista_Ubigeo!$J:$K,2,0),\" \")","v":"LURICOCHA"},{"$f":"IFERROR(VLOOKUP(MID(AV$23,5,4)&$A28,Lista_Ubigeo!$J:$K,2,0),\" \")","v":"CHUNGUI"},{"$f":"IFERROR(VLOOKUP(MID(AW$23,5,4)&$A28,Lista_Ubigeo!$J:$K,2,0),\" \")","v":"CHAVIÑA"},{"$f":"IFERROR(VLOOKUP(MID(AX$23,5,4)&$A28,Lista_Ubigeo!$J:$K,2,0),\" \")","v":"PULLO"},{"$f":"IFERROR(VLOOKUP(MID(AY$23,5,4)&$A28,Lista_Ubigeo!$J:$K,2,0),\" \")","v":"MARCABAMBA"},{"$f":"IFERROR(VLOOKUP(MID(AZ$23,5,4)&$A28,Lista_Ubigeo!$J:$K,2,0),\" \")","v":"HUACAÑA"},{"$f":"IFERROR(VLOOKUP(MID(BA$23,5,4)&$A28,Lista_Ubigeo!$J:$K,2,0),\" \")","v":"CANARIA"},{"$f":"IFERROR(VLOOKUP(MID(BB$23,5,4)&$A28,Lista_Ubigeo!$J:$K,2,0),\" \")","v":"HUAMBALPA"},{"$f":"IFERROR(VLOOKUP(MID(BC$23,5,4)&$A28,Lista_Ubigeo!$J:$K,2,0),\" \")","v":"ENCAÑADA"},{"$f":"IFERROR(VLOOKUP(MID(BD$23,5,4)&$A28,Lista_Ubigeo!$J:$K,2,0),\" \")","v":" "},{"$f":"IFERROR(VLOOKUP(MID(BE$23,5,4)&$A28,Lista_Ubigeo!$J:$K,2,0),\" \")","v":"JORGE CHAVEZ"},{"$f":"IFERROR(VLOOKUP(MID(BF$23,5,4)&$A28,Lista_Ubigeo!$J:$K,2,0),\" \")","v":"CHIMBAN"},{"$f":"IFERROR(VLOOKUP(MID(BG$23,5,4)&$A28,Lista_Ubigeo!$J:$K,2,0),\" \")","v":"SAN BENITO"},{"$f":"IFERROR(VLOOKUP(MID(BH$23,5,4)&$A28,Lista_Ubigeo!$J:$K,2,0),\" \")","v":"LA RAMADA"},{"$f":"IFERROR(VLOOKUP(MID(BI$23,5,4)&$A28,Lista_Ubigeo!$J:$K,2,0),\" \")","v":" "},{"$f":"IFERROR(VLOOKUP(MID(BJ$23,5,4)&$A28,Lista_Ubigeo!$J:$K,2,0),\" \")","v":"HUABAL"},{"$f":"IFERROR(VLOOKUP(MID(BK$23,5,4)&$A28,Lista_Ubigeo!$J:$K,2,0),\" \")","v":"NAMBALLE"},{"$f":"IFERROR(VLOOKUP(MID(BL$23,5,4)&$A28,Lista_Ubigeo!$J:$K,2,0),\" \")","v":"ICHOCAN"},{"$f":"IFERROR(VLOOKUP(MID(BM$23,5,4)&$A28,Lista_Ubigeo!$J:$K,2,0),\" \")","v":"EL PRADO"},{"$f":"IFERROR(VLOOKUP(MID(BN$23,5,4)&$A28,Lista_Ubigeo!$J:$K,2,0),\" \")","v":" "},{"$f":"IFERROR(VLOOKUP(MID(BO$23,5,4)&$A28,Lista_Ubigeo!$J:$K,2,0),\" \")","v":"LA ESPERANZA"},{"$f":"IFERROR(VLOOKUP(MID(BP$23,5,4)&$A28,Lista_Ubigeo!$J:$K,2,0),\" \")","v":"LA PUNTA"},{"$f":"IFERROR(VLOOKUP(MID(BQ$23,5,4)&$A28,Lista_Ubigeo!$J:$K,2,0),\" \")","v":"SAN SEBASTIAN"},{"$f":"IFERROR(VLOOKUP(MID(BR$23,5,4)&$A28,Lista_Ubigeo!$J:$K,2,0),\" \")","v":"POMACANCHI"},{"$f":"IFERROR(VLOOKUP(MID(BS$23,5,4)&$A28,Lista_Ubigeo!$J:$K,2,0),\" \")","v":"HUAROCONDO"},{"$f":"IFERROR(VLOOKUP(MID(BT$23,5,4)&$A28,Lista_Ubigeo!$J:$K,2,0),\" \")","v":"PISAC"},{"$f":"IFERROR(VLOOKUP(MID(BU$23,5,4)&$A28,Lista_Ubigeo!$J:$K,2,0),\" \")","v":"LAYO"},{"$f":"IFERROR(VLOOKUP(MID(BV$23,5,4)&$A28,Lista_Ubigeo!$J:$K,2,0),\" \")","v":"PITUMARCA"},{"$f":"IFERROR(VLOOKUP(MID(BW$23,5,4)&$A28,Lista_Ubigeo!$J:$K,2,0),\" \")","v":"LIVITACA"},{"$f":"IFERROR(VLOOKUP(MID(BX$23,5,4)&$A28,Lista_Ubigeo!$J:$K,2,0),\" \")","v":"PALLPATA"},{"$f":"IFERROR(VLOOKUP(MID(BY$23,4,4)&$A28,Lista_Ubigeo!$J:$K,2,0),\" \")","v":"OCOBAMBA"},{"$f":"IFERROR(VLOOKUP(MID(BZ$23,5,4)&$A28,Lista_Ubigeo!$J:$K,2,0),\" \")","v":"HUANOQUITE"},{"$f":"IFERROR(VLOOKUP(MID(CA$23,5,4)&$A28,Lista_Ubigeo!$J:$K,2,0),\" \")","v":"HUANCARANI"},{"$f":"IFERROR(VLOOKUP(MID(CB$23,5,4)&$A28,Lista_Ubigeo!$J:$K,2,0),\" \")","v":"CCATCA"},{"$f":"IFERROR(VLOOKUP(MID(CC$23,5,4)&$A28,Lista_Ubigeo!$J:$K,2,0),\" \")","v":"MARAS"},{"$f":"IFERROR(VLOOKUP(MID(CD$23,5,4)&$A28,Lista_Ubigeo!$J:$K,2,0),\" \")","v":"CUENCA"},{"$f":"IFERROR(VLOOKUP(MID(CE$23,5,4)&$A28,Lista_Ubigeo!$J:$K,2,0),\" \")","v":"MARCAS"},{"$f":"IFERROR(VLOOKUP(MID(CF$23,5,4)&$A28,Lista_Ubigeo!$J:$K,2,0),\" \")","v":"CHINCHO"},{"$f":"IFERROR(VLOOKUP(MID(CG$23,5,4)&$A28,Lista_Ubigeo!$J:$K,2,0),\" \")","v":"CHUPAMARCA"},{"$f":"IFERROR(VLOOKUP(MID(CH$23,5,4)&$A28,Lista_Ubigeo!$J:$K,2,0),\" \")","v":"LA MERCED"},{"$f":"IFERROR(VLOOKUP(MID(CI$23,5,4)&$A28,Lista_Ubigeo!$J:$K,2,0),\" \")","v":"LARAMARCA"},{"$f":"IFERROR(VLOOKUP(MID(CJ$23,5,4)&$A28,Lista_Ubigeo!$J:$K,2,0),\" \")","v":"COLCABAMBA"},{"$f":"IFERROR(VLOOKUP(MID(CK$23,5,4)&$A28,Lista_Ubigeo!$J:$K,2,0),\" \")","v":"MARGOS"},{"$f":"IFERROR(VLOOKUP(MID(CL$23,5,4)&$A28,Lista_Ubigeo!$J:$K,2,0),\" \")","v":"HUACAR"},{"$f":"IFERROR(VLOOKUP(MID(CM$23,5,4)&$A39,Lista_Ubigeo!$J:$K,2,0),\" \")","v":"QUIVILLA"},{"$f":"IFERROR(VLOOKUP(MID(CN$23,5,4)&$A28,Lista_Ubigeo!$J:$K,2,0),\" \")","v":" "},{"$f":"IFERROR(VLOOKUP(MID(CO$23,5,4)&$A28,Lista_Ubigeo!$J:$K,2,0),\" \")","v":"JIRCAN"},{"$f":"IFERROR(VLOOKUP(MID(CP$23,5,4)&$A28,Lista_Ubigeo!$J:$K,2,0),\" \")","v":"LUYANDO"},{"$f":"IFERROR(VLOOKUP(MID(CQ$23,5,4)&$A28,Lista_Ubigeo!$J:$K,2,0),\" \")","v":"SANTA ROSA DE ALTO YANAJANCA"},{"$f":"IFERROR(VLOOKUP(MID(CR$23,5,4)&$A28,Lista_Ubigeo!$J:$K,2,0),\" \")","v":" "},{"$f":"IFERROR(VLOOKUP(MID(CS$23,5,4)&$A28,Lista_Ubigeo!$J:$K,2,0),\" \")","v":"YUYAPICHIS"},{"$f":"IFERROR(VLOOKUP(MID(CT$23,5,4)&$A28,Lista_Ubigeo!$J:$K,2,0),\" \")","v":"RONDOS"},{"$f":"IFERROR(VLOOKUP(MID(CU$23,5,4)&$A28,Lista_Ubigeo!$J:$K,2,0),\" \")","v":"JACAS CHICO"},{"$f":"IFERROR(VLOOKUP(MID(CV$23,5,4)&$A28,Lista_Ubigeo!$J:$K,2,0),\" \")","v":"PACHACUTEC"},{"$f":"IFERROR(VLOOKUP(MID(CW$23,5,4)&$A28,Lista_Ubigeo!$J:$K,2,0),\" \")","v":"EL CARMEN"},{"$f":"IFERROR(VLOOKUP(MID(CX$23,5,4)&$A28,Lista_Ubigeo!$J:$K,2,0),\" \")","v":"VISTA ALEGRE"},{"$f":"IFERROR(VLOOKUP(MID(CY$23,5,4)&$A28,Lista_Ubigeo!$J:$K,2,0),\" \")","v":"TIBILLO"},{"$f":"IFERROR(VLOOKUP(MID(CZ$23,5,4)&$A28,Lista_Ubigeo!$J:$K,2,0),\" \")","v":"PARACAS"},{"$f":"IFERROR(VLOOKUP(MID(DA$23,5,4)&$A28,Lista_Ubigeo!$J:$K,2,0),\" \")","v":"CHACAPAMPA"},{"$f":"IFERROR(VLOOKUP(MID(DB$23,5,4)&$A28,Lista_Ubigeo!$J:$K,2,0),\" \")","v":"COCHAS"},{"$f":"IFERROR(VLOOKUP(MID(DC$23,5,4)&$A28,Lista_Ubigeo!$J:$K,2,0),\" \")","v":"SAN RAMON"},{"$f":"IFERROR(VLOOKUP(MID(DD$23,5,4)&$A28,Lista_Ubigeo!$J:$K,2,0),\" \")","v":"CANCHAYLLO"},{"$f":"IFERROR(VLOOKUP(MID(DE$23,5,4)&$A28,Lista_Ubigeo!$J:$K,2,0),\" \")","v":" "},{"$f":"IFERROR(VLOOKUP(MID(DF$23,5,4)&$A28,Lista_Ubigeo!$J:$K,2,0),\" \")","v":"PAMPA HERMOSA"},{"$f":"IFERROR(VLOOKUP(MID(DG$23,5,4)&$A28,Lista_Ubigeo!$J:$K,2,0),\" \")","v":"LA UNION"},{"$f":"IFERROR(VLOOKUP(MID(DH$23,5,4)&$A28,Lista_Ubigeo!$J:$K,2,0),\" \")","v":"MOROCOCHA"},{"$f":"IFERROR(VLOOKUP(MID(DI$23,5,4)&$A28,Lista_Ubigeo!$J:$K,2,0),\" \")","v":"HUAMANCACA CHICO"},{"$f":"IFERROR(VLOOKUP(MID(DJ$23,5,4)&$A28,Lista_Ubigeo!$J:$K,2,0),\" \")","v":"LA ESPERANZA"},{"$f":"IFERROR(VLOOKUP(MID(DK$23,5,4)&$A28,Lista_Ubigeo!$J:$K,2,0),\" \")","v":"PAIJAN"},{"$f":"IFERROR(VLOOKUP(MID(DL$23,5,4)&$A28,Lista_Ubigeo!$J:$K,2,0),\" \")","v":"UCHUMARCA"},{"$f":"IFERROR(VLOOKUP(MID(DM$23,5,4)&$A28,Lista_Ubigeo!$J:$K,2,0),\" \")","v":" "},{"$f":"IFERROR(VLOOKUP(MID(DN$23,5,4)&$A28,Lista_Ubigeo!$J:$K,2,0),\" \")","v":" "},{"$f":"IFERROR(VLOOKUP(MID(DO$23,5,4)&$A29,Lista_Ubigeo!$J:$K,2,0),\" \")","v":"LA CUESTA"},{"$f":"IFERROR(VLOOKUP(MID(DP$23,5,4)&$A28,Lista_Ubigeo!$J:$K,2,0),\" \")","v":"SAN JOSE"},{"$f":"IFERROR(VLOOKUP(MID(DQ$23,5,4)&$A28,Lista_Ubigeo!$J:$K,2,0),\" \")","v":"HUAYLILLAS"},{"$f":"IFERROR(VLOOKUP(MID(DR$23,5,4)&$A28,Lista_Ubigeo!$J:$K,2,0),\" \")","v":"MARCABAL"},{"$f":"IFERROR(VLOOKUP(MID(DS$23,5,4)&$A28,Lista_Ubigeo!$J:$K,2,0),\" \")","v":"MOLLEPATA"},null,null,{"$f":"IFERROR(VLOOKUP(MID(DV$23,5,4)&$A28,Lista_Ubigeo!$J:$K,2,0),\" \")","v":"JOSE LEONARDO ORTIZ"},{"$f":"IFERROR(VLOOKUP(MID(DW$23,5,4)&$A28,Lista_Ubigeo!$J:$K,2,0),\" \")","v":"PITIPO"},{"$f":"IFERROR(VLOOKUP(MID(DX$23,5,4)&$A28,Lista_Ubigeo!$J:$K,2,0),\" \")","v":"MOCHUMI"},{"$f":"IFERROR(VLOOKUP(MID(DY$23,5,4)&$A28,Lista_Ubigeo!$J:$K,2,0),\" \")","v":"BREÑA"},{"$f":"IFERROR(VLOOKUP(MID(DZ$23,5,4)&$A28,Lista_Ubigeo!$J:$K,2,0),\" \")","v":"SUPE PUERTO"},{"$f":"IFERROR(VLOOKUP(MID(EA$23,5,4)&$A28,Lista_Ubigeo!$J:$K,2,0),\" \")","v":"MANAS"},{"$f":"IFERROR(VLOOKUP(MID(EB$23,5,4)&$A28,Lista_Ubigeo!$J:$K,2,0),\" \")","v":"LACHAQUI"},{"$f":"IFERROR(VLOOKUP(MID(EC$23,5,4)&$A28,Lista_Ubigeo!$J:$K,2,0),\" \")","v":"CHILCA"},{"$f":"IFERROR(VLOOKUP(MID(ED$23,5,4)&$A28,Lista_Ubigeo!$J:$K,2,0),\" \")","v":"CHANCAY"},{"$f":"IFERROR(VLOOKUP(MID(EE$23,5,4)&$A28,Lista_Ubigeo!$J:$K,2,0),\" \")","v":"CHICLA"},{"$f":"IFERROR(VLOOKUP(MID(EF$23,5,4)&$A28,Lista_Ubigeo!$J:$K,2,0),\" \")","v":"HUALMAY"},{"$f":"IFERROR(VLOOKUP(MID(EG$23,5,4)&$A28,Lista_Ubigeo!$J:$K,2,0),\" \")","v":"NAVAN"},{"$f":"IFERROR(VLOOKUP(MID(EH$23,5,4)&$A28,Lista_Ubigeo!$J:$K,2,0),\" \")","v":"AZANGARO"},{"$f":"IFERROR(VLOOKUP(MID(EI$23,5,4)&$A28,Lista_Ubigeo!$J:$K,2,0),\" \")","v":"AMAZONAS"},{"$f":"IFERROR(VLOOKUP(MID(EJ$23,5,4)&$A33,Lista_Ubigeo!$J:$K,2,0),\" \")","v":"SANTA CRUZ"},{"$f":"IFERROR(VLOOKUP(MID(EK$23,5,4)&$A28,Lista_Ubigeo!$J:$K,2,0),\" \")","v":"URARINAS"},{"$f":"IFERROR(VLOOKUP(MID(EL$23,5,4)&$A28,Lista_Ubigeo!$J:$K,2,0),\" \")","v":" "},{"$f":"IFERROR(VLOOKUP(MID(EM$23,5,4)&$A28,Lista_Ubigeo!$J:$K,2,0),\" \")","v":"MAQUIA"},{"$f":"IFERROR(VLOOKUP(MID(EN$23,5,4)&$A28,Lista_Ubigeo!$J:$K,2,0),\" \")","v":"SARAYACU"},{"$f":"IFERROR(VLOOKUP(MID(EO$23,5,4)&$A28,Lista_Ubigeo!$J:$K,2,0),\" \")","v":"PASTAZA"},{"$f":"IFERROR(VLOOKUP(MID(EP$23,5,4)&$A28,Lista_Ubigeo!$J:$K,2,0),\" \")","v":" "},{"$f":"IFERROR(VLOOKUP(MID(EQ$23,5,4)&$A28,Lista_Ubigeo!$J:$K,2,0),\" \")","v":" "},{"$f":"IFERROR(VLOOKUP(MID(ER$23,5,4)&$A28,Lista_Ubigeo!$J:$K,2,0),\" \")","v":" "},{"$f":"IFERROR(VLOOKUP(MID(ES$23,5,4)&$A28,Lista_Ubigeo!$J:$K,2,0),\" \")","v":" "},{"$f":"IFERROR(VLOOKUP(MID(ET$23,5,4)&$A28,Lista_Ubigeo!$J:$K,2,0),\" \")","v":"SAN CRISTOBAL"},{"$f":"IFERROR(VLOOKUP(MID(EU$23,5,4)&$A28,Lista_Ubigeo!$J:$K,2,0),\" \")","v":"LA CAPILLA"},{"$f":"IFERROR(VLOOKUP(MID(EV$23,5,4)&$A28,Lista_Ubigeo!$J:$K,2,0),\" \")","v":" "},{"$f":"IFERROR(VLOOKUP(MID(EW$23,5,4)&$A28,Lista_Ubigeo!$J:$K,2,0),\" \")","v":"NINACACA"},{"$f":"IFERROR(VLOOKUP(MID(EX$23,5,4)&$A28,Lista_Ubigeo!$J:$K,2,0),\" \")","v":"SAN PEDRO DE PILLAO"},{"$f":"IFERROR(VLOOKUP(MID(EY$23,5,4)&$A28,Lista_Ubigeo!$J:$K,2,0),\" \")","v":"POZUZO"},{"$f":"IFERROR(VLOOKUP(MID(EZ$23,5,4)&$A31,Lista_Ubigeo!$J:$K,2,0),\" \")","v":"EL TALLAN"},{"$f":"IFERROR(VLOOKUP(MID(FA$23,5,4)&$A28,Lista_Ubigeo!$J:$K,2,0),\" \")","v":"MONTERO"},{"$f":"IFERROR(VLOOKUP(MID(FB$23,5,4)&$A28,Lista_Ubigeo!$J:$K,2,0),\" \")","v":"LALAQUIZ"},{"$f":"IFERROR(VLOOKUP(MID(FC$23,5,4)&$A28,Lista_Ubigeo!$J:$K,2,0),\" \")","v":"MORROPON"},{"$f":"IFERROR(VLOOKUP(MID(FD$23,5,4)&$A28,Lista_Ubigeo!$J:$K,2,0),\" \")","v":"LA HUACA"},{"$f":"IFERROR(VLOOKUP(MID(FE$23,5,4)&$A28,Lista_Ubigeo!$J:$K,2,0),\" \")","v":"MARCAVELICA"},{"$f":"IFERROR(VLOOKUP(MID(FF$23,5,4)&$A28,Lista_Ubigeo!$J:$K,2,0),\" \")","v":"LOS ORGANOS"},{"$f":"IFERROR(VLOOKUP(MID(FG$23,5,4)&$A28,Lista_Ubigeo!$J:$K,2,0),\" \")","v":"VICE"},{"$f":"IFERROR(VLOOKUP(MID(FH$23,5,4)&$A28,Lista_Ubigeo!$J:$K,2,0),\" \")","v":"CAPACHICA"},{"$f":"IFERROR(VLOOKUP(MID(FI$23,5,4)&$A28,Lista_Ubigeo!$J:$K,2,0),\" \")","v":"CAMINACA"},{"$f":"IFERROR(VLOOKUP(MID(FJ$23,5,4)&$A28,Lista_Ubigeo!$J:$K,2,0),\" \")","v":"CORANI"},{"$f":"IFERROR(VLOOKUP(MID(FK$23,5,4)&$A28,Lista_Ubigeo!$J:$K,2,0),\" \")","v":"PISACOMA"},{"$f":"IFERROR(VLOOKUP(MID(FL$23,5,4)&$A28,Lista_Ubigeo!$J:$K,2,0),\" \")","v":"CONDURIRI"},{"$f":"IFERROR(VLOOKUP(MID(FM$23,5,4)&$A28,Lista_Ubigeo!$J:$K,2,0),\" \")","v":"PUSI"},{"$f":"IFERROR(VLOOKUP(MID(FN$23,5,4)&$A28,Lista_Ubigeo!$J:$K,2,0),\" \")","v":"OCUVIRI"},{"$f":"IFERROR(VLOOKUP(MID(FO$23,5,4)&$A28,Lista_Ubigeo!$J:$K,2,0),\" \")","v":"MACARI"},{"$f":"IFERROR(VLOOKUP(MID(FP$23,5,4)&$A28,Lista_Ubigeo!$J:$K,2,0),\" \")","v":" "},{"$f":"IFERROR(VLOOKUP(MID(FQ$23,5,4)&$A28,Lista_Ubigeo!$J:$K,2,0),\" \")","v":"SINA"},{"$f":"IFERROR(VLOOKUP(MID(FR$23,5,4)&$A28,Lista_Ubigeo!$J:$K,2,0),\" \")","v":"SAN MIGUEL"},{"$f":"IFERROR(VLOOKUP(MID(FS$23,5,4)&$A28,Lista_Ubigeo!$J:$K,2,0),\" \")","v":"PHARA"},{"$f":"IFERROR(VLOOKUP(MID(FT$23,5,4)&$A28,Lista_Ubigeo!$J:$K,2,0),\" \")","v":"OLLARAYA"},{"$f":"IFERROR(VLOOKUP(MID(FU$23,5,4)&$A28,Lista_Ubigeo!$J:$K,2,0),\" \")","v":"SORITOR"},{"$f":"IFERROR(VLOOKUP(MID(FV$23,5,4)&$A28,Lista_Ubigeo!$J:$K,2,0),\" \")","v":"SAN PABLO"},{"$f":"IFERROR(VLOOKUP(MID(FW$23,5,4)&$A28,Lista_Ubigeo!$J:$K,2,0),\" \")","v":"SHATOJA"},{"$f":"IFERROR(VLOOKUP(MID(FX$23,5,4)&$A28,Lista_Ubigeo!$J:$K,2,0),\" \")","v":"SACANCHE"},{"$f":"IFERROR(VLOOKUP(MID(FY$23,5,4)&$A28,Lista_Ubigeo!$J:$K,2,0),\" \")","v":"CUÑUMBUQUI"},{"$f":"IFERROR(VLOOKUP(MID(FZ$23,5,4)&$A28,Lista_Ubigeo!$J:$K,2,0),\" \")","v":"PAJARILLO"},{"$f":"IFERROR(VLOOKUP(MID(GA$23,5,4)&$A28,Lista_Ubigeo!$J:$K,2,0),\" \")","v":"PUCACACA"},{"$f":"IFERROR(VLOOKUP(MID(GB$23,5,4)&$A28,Lista_Ubigeo!$J:$K,2,0),\" \")","v":"PARDO MIGUEL"},{"$f":"IFERROR(VLOOKUP(MID(GC$23,5,4)&$A28,Lista_Ubigeo!$J:$K,2,0),\" \")","v":"CHIPURANA"},{"$f":"IFERROR(VLOOKUP(MID(GD$23,5,4)&$A28,Lista_Ubigeo!$J:$K,2,0),\" \")","v":"UCHIZA"},{"$f":"IFERROR(VLOOKUP(MID(GE$23,5,4)&$A28,Lista_Ubigeo!$J:$K,2,0),\" \")","v":"INCLAN"},{"$f":"IFERROR(VLOOKUP(MID(GF$23,5,4)&$A28,Lista_Ubigeo!$J:$K,2,0),\" \")","v":"HUANUARA"},{"$f":"IFERROR(VLOOKUP(MID(GG$23,5,4)&$A28,Lista_Ubigeo!$J:$K,2,0),\" \")","v":" "},{"$f":"IFERROR(VLOOKUP(MID(GH$23,5,4)&$A28,Lista_Ubigeo!$J:$K,2,0),\" \")","v":"SITAJARA"},{"$f":"IFERROR(VLOOKUP(MID(GI$23,5,4)&$A28,Lista_Ubigeo!$J:$K,2,0),\" \")","v":"SAN JACINTO"},{"$f":"IFERROR(VLOOKUP(MID(GJ$23,5,4)&$A28,Lista_Ubigeo!$J:$K,2,0),\" \")","v":" "},{"$f":"IFERROR(VLOOKUP(MID(GK$23,5,4)&$A28,Lista_Ubigeo!$J:$K,2,0),\" \")","v":" "},{"$f":"IFERROR(VLOOKUP(MID(GL$23,5,4)&$A28,Lista_Ubigeo!$J:$K,2,0),\" \")","v":"YARINACOCHA"},{"$f":"IFERROR(VLOOKUP(MID(GM$23,5,4)&$A28,Lista_Ubigeo!$J:$K,2,0),\" \")","v":" "},{"$f":"IFERROR(VLOOKUP(MID(GN$23,5,4)&$A28,Lista_Ubigeo!$J:$K,2,0),\" \")","v":"ALEXANDER VON HUMBOLDT"},{"$f":"IFERROR(VLOOKUP(MID(GO$23,5,4)&$A28,Lista_Ubigeo!$J:$K,2,0),\" \")","v":" "},{"$f":"IFERROR(VLOOKUP(MID(GP$23,5,4)&$A28,Lista_Ubigeo!$J:$K,2,0),\" \")","v":"CAMINACA"}]
["06",{"$f":"IFERROR(VLOOKUP(MID(B$23,5,4)&$A29,Lista_Ubigeo!$J:$K,2,0),\" \")","v":"CHUQUIBAMBA"},{"$f":"IFERROR(VLOOKUP(MID(C$23,5,4)&$A29,Lista_Ubigeo!$J:$K,2,0),\" \")","v":"LA PECA"},{"$f":"IFERROR(VLOOKUP(MID(D$23,5,4)&$A29,Lista_Ubigeo!$J:$K,2,0),\" \")","v":"FLORIDA"},{"$f":"IFERROR(VLOOKUP(MID(E$23,5,4)&$A29,Lista_Ubigeo!$J:$K,2,0),\" \")","v":" "},{"$f":"IFERROR(VLOOKUP(MID(F$23,5,4)&$A29,Lista_Ubigeo!$J:$K,2,0),\" \")","v":"INGUILPATA"},{"$f":"IFERROR(VLOOKUP(MID(G$23,5,4)&$A29,Lista_Ubigeo!$J:$K,2,0),\" \")","v":"LONGAR"},{"$f":"IFERROR(VLOOKUP(MID(H$23,5,4)&$A29,Lista_Ubigeo!$J:$K,2,0),\" \")","v":"LONYA GRANDE"},{"$f":"IFERROR(VLOOKUP(MID(I$23,5,4)&$A29,Lista_Ubigeo!$J:$K,2,0),\" \")","v":"JANGAS"},{"$f":"IFERROR(VLOOKUP(MID(J$23,5,4)&$A29,Lista_Ubigeo!$J:$K,2,0),\" \")","v":" "},{"$f":"IFERROR(VLOOKUP(MID(K$23,5,4)&$A29,Lista_Ubigeo!$J:$K,2,0),\" \")","v":"SAN JUAN DE RONTOY"},{"$f":"IFERROR(VLOOKUP(MID(L$23,5,4)&$A29,Lista_Ubigeo!$J:$K,2,0),\" \")","v":" "},{"$f":"IFERROR(VLOOKUP(MID(M$23,5,4)&$A29,Lista_Ubigeo!$J:$K,2,0),\" \")","v":"CANIS"},{"$f":"IFERROR(VLOOKUP(MID(N$23,5,4)&$A29,Lista_Ubigeo!$J:$K,2,0),\" \")","v":"MARCARA"},{"$f":"IFERROR(VLOOKUP(MID(O$23,5,4)&$A29,Lista_Ubigeo!$J:$K,2,0),\" \")","v":" "},{"$f":"IFERROR(VLOOKUP(MID(P$23,5,4)&$A29,Lista_Ubigeo!$J:$K,2,0),\" \")","v":" "},{"$f":"IFERROR(VLOOKUP(MID(Q$23,5,4)&$A29,Lista_Ubigeo!$J:$K,2,0),\" \")","v":"YANAC"},{"$f":"IFERROR(VLOOKUP(MID(R$23,5,4)&$A29,Lista_Ubigeo!$J:$K,2,0),\" \")","v":"HUACCHIS"},{"$f":"IFERROR(VLOOKUP(MID(S$23,5,4)&$A29,Lista_Ubigeo!$J:$K,2,0),\" \")","v":" "},{"$f":"IFERROR(VLOOKUP(MID(T$23,5,4)&$A29,Lista_Ubigeo!$J:$K,2,0),\" \")","v":"PAMPAROMAS"},{"$f":"IFERROR(VLOOKUP(MID(U$23,5,4)&$A29,Lista_Ubigeo!$J:$K,2,0),\" \")","v":"LLUMPA"},{"$f":"IFERROR(VLOOKUP(MID(V$23,5,4)&$A29,Lista_Ubigeo!$J:$K,2,0),\" \")","v":"CONGAS"},{"$f":"IFERROR(VLOOKUP(MID(W$23,5,4)&$A29,Lista_Ubigeo!$J:$K,2,0),\" \")","v":"LACABAMBA"},{"$f":"IFERROR(VLOOKUP(MID(X$23,5,4)&$A29,Lista_Ubigeo!$J:$K,2,0),\" \")","v":" "},{"$f":"IFERROR(VLOOKUP(MID(Y$23,5,4)&$A29,Lista_Ubigeo!$J:$K,2,0),\" \")","v":"MARCA"},{"$f":"IFERROR(VLOOKUP(MID(Z$23,5,4)&$A29,Lista_Ubigeo!$J:$K,2,0),\" \")","v":"NEPEÑA"},{"$f":"IFERROR(VLOOKUP(MID(AA$23,5,4)&$A29,Lista_Ubigeo!$J:$K,2,0),\" \")","v":"HUAYLLABAMBA"},{"$f":"IFERROR(VLOOKUP(MID(AB$23,5,4)&$A29,Lista_Ubigeo!$J:$K,2,0),\" \")","v":"RANRAHIRCA"},{"$f":"IFERROR(VLOOKUP(MID(AC$23,5,4)&$A29,Lista_Ubigeo!$J:$K,2,0),\" \")","v":"LAMBRAMA"},{"$f":"IFERROR(VLOOKUP(MID(AD$23,5,4)&$A29,Lista_Ubigeo!$J:$K,2,0),\" \")","v":"HUAYANA"},{"$f":"IFERROR(VLOOKUP(MID(AE$23,5,4)&$A29,Lista_Ubigeo!$J:$K,2,0),\" \")","v":"PACHACONAS"},{"$f":"IFERROR(VLOOKUP(MID(AF$23,5,4)&$A29,Lista_Ubigeo!$J:$K,2,0),\" \")","v":"COTARUSE"},{"$f":"IFERROR(VLOOKUP(MID(AG$23,5,4)&$A29,Lista_Ubigeo!$J:$K,2,0),\" \")","v":"CHALLHUAHUACHO"},{"$f":"IFERROR(VLOOKUP(MID(AH$23,5,4)&$A29,Lista_Ubigeo!$J:$K,2,0),\" \")","v":"ONGOY"},{"$f":"IFERROR(VLOOKUP(MID(AI$23,5,4)&$A29,Lista_Ubigeo!$J:$K,2,0),\" \")","v":"MICAELA BASTIDAS"},{"$f":"IFERROR(VLOOKUP(MID(AJ$23,5,4)&$A29,Lista_Ubigeo!$J:$K,2,0),\" \")","v":"CHIGUATA"},{"$f":"IFERROR(VLOOKUP(MID(AK$23,5,4)&$A29,Lista_Ubigeo!$J:$K,2,0),\" \")","v":"OCOÑA"},{"$f":"IFERROR(VLOOKUP(MID(AL$23,5,4)&$A29,Lista_Ubigeo!$J:$K,2,0),\" \")","v":"CAHUACHO"},{"$f":"IFERROR(VLOOKUP(MID(AM$23,5,4)&$A29,Lista_Ubigeo!$J:$K,2,0),\" \")","v":"CHOCO"},{"$f":"IFERROR(VLOOKUP(MID(AN$23,5,4)&$A29,Lista_Ubigeo!$J:$K,2,0),\" \")","v":"COPORAQUE"},{"$f":"IFERROR(VLOOKUP(MID(AO$23,5,4)&$A29,Lista_Ubigeo!$J:$K,2,0),\" \")","v":"RIO GRANDE"},{"$f":"IFERROR(VLOOKUP(MID(AP$23,5,4)&$A29,Lista_Ubigeo!$J:$K,2,0),\" \")","v":"PUNTA DE BOMBON"},{"$f":"IFERROR(VLOOKUP(MID(AQ$23,4,4)&$A29,Lista_Ubigeo!$J:$K,2,0),\" \")","v":"PUYCA"},{"$f":"IFERROR(VLOOKUP(MID(AR$23,5,4)&$A29,Lista_Ubigeo!$J:$K,2,0),\" \")","v":"OCROS"},{"$f":"IFERROR(VLOOKUP(MID(AS$23,5,4)&$A29,Lista_Ubigeo!$J:$K,2,0),\" \")","v":"TOTOS"},{"$f":"IFERROR(VLOOKUP(MID(AT$23,5,4)&$A29,Lista_Ubigeo!$J:$K,2,0),\" \")","v":" "},{"$f":"IFERROR(VLOOKUP(MID(AU$23,5,4)&$A29,Lista_Ubigeo!$J:$K,2,0),\" \")","v":"SANTILLANA"},{"$f":"IFERROR(VLOOKUP(MID(AV$23,5,4)&$A29,Lista_Ubigeo!$J:$K,2,0),\" \")","v":"LUIS CARRANZA"},{"$f":"IFERROR(VLOOKUP(MID(AW$23,5,4)&$A29,Lista_Ubigeo!$J:$K,2,0),\" \")","v":"CHIPAO"},{"$f":"IFERROR(VLOOKUP(MID(AX$23,5,4)&$A29,Lista_Ubigeo!$J:$K,2,0),\" \")","v":"PUYUSCA"},{"$f":"IFERROR(VLOOKUP(MID(AY$23,5,4)&$A29,Lista_Ubigeo!$J:$K,2,0),\" \")","v":"OYOLO"},{"$f":"IFERROR(VLOOKUP(MID(AZ$23,5,4)&$A29,Lista_Ubigeo!$J:$K,2,0),\" \")","v":"MORCOLLA"},{"$f":"IFERROR(VLOOKUP(MID(BA$23,5,4)&$A29,Lista_Ubigeo!$J:$K,2,0),\" \")","v":"CAYARA"},{"$f":"IFERROR(VLOOKUP(MID(BB$23,5,4)&$A29,Lista_Ubigeo!$J:$K,2,0),\" \")","v":"INDEPENDENCIA"},{"$f":"IFERROR(VLOOKUP(MID(BC$23,5,4)&$A29,Lista_Ubigeo!$J:$K,2,0),\" \")","v":"JESUS"},{"$f":"IFERROR(VLOOKUP(MID(BD$23,5,4)&$A29,Lista_Ubigeo!$J:$K,2,0),\" \")","v":" "},{"$f":"IFERROR(VLOOKUP(MID(BE$23,5,4)&$A29,Lista_Ubigeo!$J:$K,2,0),\" \")","v":"JOSE GALVEZ"},{"$f":"IFERROR(VLOOKUP(MID(BF$23,5,4)&$A29,Lista_Ubigeo!$J:$K,2,0),\" \")","v":"CHOROPAMPA"},{"$f":"IFERROR(VLOOKUP(MID(BG$23,5,4)&$A29,Lista_Ubigeo!$J:$K,2,0),\" \")","v":"SANTA CRUZ DE TOLED"},{"$f":"IFERROR(VLOOKUP(MID(BH$23,5,4)&$A29,Lista_Ubigeo!$J:$K,2,0),\" \")","v":"PIMPINGOS"},{"$f":"IFERROR(VLOOKUP(MID(BI$23,5,4)&$A29,Lista_Ubigeo!$J:$K,2,0),\" \")","v":" "},{"$f":"IFERROR(VLOOKUP(MID(BJ$23,5,4)&$A29,Lista_Ubigeo!$J:$K,2,0),\" \")","v":"LAS PIRIAS"},{"$f":"IFERROR(VLOOKUP(MID(BK$23,5,4)&$A29,Lista_Ubigeo!$J:$K,2,0),\" \")","v":"SAN JOSE DE LOURDES"},{"$f":"IFERROR(VLOOKUP(MID(BL$23,5,4)&$A29,Lista_Ubigeo!$J:$K,2,0),\" \")","v":"JOSE MANUEL QUIROZ"},{"$f":"IFERROR(VLOOKUP(MID(BM$23,5,4)&$A29,Lista_Ubigeo!$J:$K,2,0),\" \")","v":"LA FLORIDA"},{"$f":"IFERROR(VLOOKUP(MID(BN$23,5,4)&$A29,Lista_Ubigeo!$J:$K,2,0),\" \")","v":" "},{"$f":"IFERROR(VLOOKUP(MID(BO$23,5,4)&$A29,Lista_Ubigeo!$J:$K,2,0),\" \")","v":"NINABAMBA"},{"$f":"IFERROR(VLOOKUP(MID(BP$23,5,4)&$A29,Lista_Ubigeo!$J:$K,2,0),\" \")","v":"VENTANILLA"},{"$f":"IFERROR(VLOOKUP(MID(BQ$23,5,4)&$A29,Lista_Ubigeo!$J:$K,2,0),\" \")","v":"SANTIAGO"},{"$f":"IFERROR(VLOOKUP(MID(BR$23,5,4)&$A29,Lista_Ubigeo!$J:$K,2,0),\" \")","v":"RONDOCAN"},{"$f":"IFERROR(VLOOKUP(MID(BS$23,5,4)&$A29,Lista_Ubigeo!$J:$K,2,0),\" \")","v":"LIMATAMBO"},{"$f":"IFERROR(VLOOKUP(MID(BT$23,5,4)&$A29,Lista_Ubigeo!$J:$K,2,0),\" \")","v":"SAN SALVADOR"},{"$f":"IFERROR(VLOOKUP(MID(BU$23,5,4)&$A29,Lista_Ubigeo!$J:$K,2,0),\" \")","v":"PAMPAMARCA"},{"$f":"IFERROR(VLOOKUP(MID(BV$23,5,4)&$A29,Lista_Ubigeo!$J:$K,2,0),\" \")","v":"SAN PABLO"},{"$f":"IFERROR(VLOOKUP(MID(BW$23,5,4)&$A29,Lista_Ubigeo!$J:$K,2,0),\" \")","v":"LLUSCO"},{"$f":"IFERROR(VLOOKUP(MID(BX$23,5,4)&$A29,Lista_Ubigeo!$J:$K,2,0),\" \")","v":"PICHIGUA"},{"$f":"IFERROR(VLOOKUP(MID(BY$23,4,4)&$A29,Lista_Ubigeo!$J:$K,2,0),\" \")","v":"QUELLOUNO"},{"$f":"IFERROR(VLOOKUP(MID(BZ$23,5,4)&$A29,Lista_Ubigeo!$J:$K,2,0),\" \")","v":"OMACHA"},{"$f":"IFERROR(VLOOKUP(MID(CA$23,5,4)&$A29,Lista_Ubigeo!$J:$K,2,0),\" \")","v":"KOSÑIPATA"},{"$f":"IFERROR(VLOOKUP(MID(CB$23,5,4)&$A29,Lista_Ubigeo!$J:$K,2,0),\" \")","v":"CUSIPATA"},{"$f":"IFERROR(VLOOKUP(MID(CC$23,5,4)&$A29,Lista_Ubigeo!$J:$K,2,0),\" \")","v":"OLLANTAYTAMBO"},{"$f":"IFERROR(VLOOKUP(MID(CD$23,5,4)&$A29,Lista_Ubigeo!$J:$K,2,0),\" \")","v":"HUACHOCOLPA"},{"$f":"IFERROR(VLOOKUP(MID(CE$23,5,4)&$A29,Lista_Ubigeo!$J:$K,2,0),\" \")","v":"PAUCARA"},{"$f":"IFERROR(VLOOKUP(MID(CF$23,5,4)&$A29,Lista_Ubigeo!$J:$K,2,0),\" \")","v":"CONGALLA"},{"$f":"IFERROR(VLOOKUP(MID(CG$23,5,4)&$A29,Lista_Ubigeo!$J:$K,2,0),\" \")","v":"COCAS"},{"$f":"IFERROR(VLOOKUP(MID(CH$23,5,4)&$A29,Lista_Ubigeo!$J:$K,2,0),\" \")","v":"LACROJA"},{"$f":"IFERROR(VLOOKUP(MID(CI$23,5,4)&$A29,Lista_Ubigeo!$J:$K,2,0),\" \")","v":"OCOYO"},{"$f":"IFERROR(VLOOKUP(MID(CJ$23,5,4)&$A29,Lista_Ubigeo!$J:$K,2,0),\" \")","v":"DANIEL HERNANDEZ"},{"$f":"IFERROR(VLOOKUP(MID(CK$23,5,4)&$A29,Lista_Ubigeo!$J:$K,2,0),\" \")","v":"QUISQUI"},{"$f":"IFERROR(VLOOKUP(MID(CL$23,5,4)&$A29,Lista_Ubigeo!$J:$K,2,0),\" \")","v":"SAN FRANCISCO"},{"$f":"IFERROR(VLOOKUP(MID(CM$23,5,4)&$A40,Lista_Ubigeo!$J:$K,2,0),\" \")","v":"RIPAN"},{"$f":"IFERROR(VLOOKUP(MID(CN$23,5,4)&$A29,Lista_Ubigeo!$J:$K,2,0),\" \")","v":" "},{"$f":"IFERROR(VLOOKUP(MID(CO$23,5,4)&$A29,Lista_Ubigeo!$J:$K,2,0),\" \")","v":"MIRAFLORES"},{"$f":"IFERROR(VLOOKUP(MID(CP$23,5,4)&$A29,Lista_Ubigeo!$J:$K,2,0),\" \")","v":"MARINO DAMASO BERAUN"},{"$f":"IFERROR(VLOOKUP(MID(CQ$23,5,4)&$A29,Lista_Ubigeo!$J:$K,2,0),\" \")","v":" "},{"$f":"IFERROR(VLOOKUP(MID(CR$23,5,4)&$A29,Lista_Ubigeo!$J:$K,2,0),\" \")","v":" "},{"$f":"IFERROR(VLOOKUP(MID(CS$23,5,4)&$A29,Lista_Ubigeo!$J:$K,2,0),\" \")","v":" "},{"$f":"IFERROR(VLOOKUP(MID(CT$23,5,4)&$A29,Lista_Ubigeo!$J:$K,2,0),\" \")","v":"SAN FRANCISCO DE ASIS"},{"$f":"IFERROR(VLOOKUP(MID(CU$23,5,4)&$A29,Lista_Ubigeo!$J:$K,2,0),\" \")","v":"OBAS"},{"$f":"IFERROR(VLOOKUP(MID(CV$23,5,4)&$A29,Lista_Ubigeo!$J:$K,2,0),\" \")","v":"PARCONA"},{"$f":"IFERROR(VLOOKUP(MID(CW$23,5,4)&$A29,Lista_Ubigeo!$J:$K,2,0),\" \")","v":"GROCIO PRADO"},{"$f":"IFERROR(VLOOKUP(MID(CX$23,5,4)&$A29,Lista_Ubigeo!$J:$K,2,0),\" \")","v":" "},{"$f":"IFERROR(VLOOKUP(MID(CY$23,5,4)&$A29,Lista_Ubigeo!$J:$K,2,0),\" \")","v":" "},{"$f":"IFERROR(VLOOKUP(MID(CZ$23,5,4)&$A29,Lista_Ubigeo!$J:$K,2,0),\" \")","v":"SAN ANDRES"},{"$f":"IFERROR(VLOOKUP(MID(DA$23,5,4)&$A29,Lista_Ubigeo!$J:$K,2,0),\" \")","v":"CHICCHE"},{"$f":"IFERROR(VLOOKUP(MID(DB$23,5,4)&$A29,Lista_Ubigeo!$J:$K,2,0),\" \")","v":"COMAS"},{"$f":"IFERROR(VLOOKUP(MID(DC$23,5,4)&$A29,Lista_Ubigeo!$J:$K,2,0),\" \")","v":"VITOC"},{"$f":"IFERROR(VLOOKUP(MID(DD$23,5,4)&$A29,Lista_Ubigeo!$J:$K,2,0),\" \")","v":"CURICACA"},{"$f":"IFERROR(VLOOKUP(MID(DE$23,5,4)&$A29,Lista_Ubigeo!$J:$K,2,0),\" \")","v":" "},{"$f":"IFERROR(VLOOKUP(MID(DF$23,5,4)&$A29,Lista_Ubigeo!$J:$K,2,0),\" \")","v":"PANGOA"},{"$f":"IFERROR(VLOOKUP(MID(DG$23,5,4)&$A29,Lista_Ubigeo!$J:$K,2,0),\" \")","v":"PALCA"},{"$f":"IFERROR(VLOOKUP(MID(DH$23,5,4)&$A29,Lista_Ubigeo!$J:$K,2,0),\" \")","v":"PACCHA"},{"$f":"IFERROR(VLOOKUP(MID(DI$23,5,4)&$A29,Lista_Ubigeo!$J:$K,2,0),\" \")","v":"SAN JUAN DE ISCOS"},{"$f":"IFERROR(VLOOKUP(MID(DJ$23,5,4)&$A29,Lista_Ubigeo!$J:$K,2,0),\" \")","v":"LAREDO"},{"$f":"IFERROR(VLOOKUP(MID(DK$23,5,4)&$A29,Lista_Ubigeo!$J:$K,2,0),\" \")","v":"RAZURI"},{"$f":"IFERROR(VLOOKUP(MID(DL$23,5,4)&$A29,Lista_Ubigeo!$J:$K,2,0),\" \")","v":"UCUNCHA"},{"$f":"IFERROR(VLOOKUP(MID(DM$23,5,4)&$A29,Lista_Ubigeo!$J:$K,2,0),\" \")","v":" "},{"$f":"IFERROR(VLOOKUP(MID(DN$23,5,4)&$A29,Lista_Ubigeo!$J:$K,2,0),\" \")","v":" "},{"$f":"IFERROR(VLOOKUP(MID(DO$23,5,4)&$A30,Lista_Ubigeo!$J:$K,2,0),\" \")","v":" "},{"$f":"IFERROR(VLOOKUP(MID(DP$23,5,4)&$A29,Lista_Ubigeo!$J:$K,2,0),\" \")","v":" "},{"$f":"IFERROR(VLOOKUP(MID(DQ$23,5,4)&$A29,Lista_Ubigeo!$J:$K,2,0),\" \")","v":"HUAYO"},{"$f":"IFERROR(VLOOKUP(MID(DR$23,5,4)&$A29,Lista_Ubigeo!$J:$K,2,0),\" \")","v":"SANAGORAN"},{"$f":"IFERROR(VLOOKUP(MID(DS$23,5,4)&$A29,Lista_Ubigeo!$J:$K,2,0),\" \")","v":"QUIRUVILCA"},null,null,{"$f":"IFERROR(VLOOKUP(MID(DV$23,5,4)&$A29,Lista_Ubigeo!$J:$K,2,0),\" \")","v":"LA VICTORIA"},{"$f":"IFERROR(VLOOKUP(MID(DW$23,5,4)&$A29,Lista_Ubigeo!$J:$K,2,0),\" \")","v":"PUEBLO NUEVO"},{"$f":"IFERROR(VLOOKUP(MID(DX$23,5,4)&$A29,Lista_Ubigeo!$J:$K,2,0),\" \")","v":"MORROPE"},{"$f":"IFERROR(VLOOKUP(MID(DY$23,5,4)&$A29,Lista_Ubigeo!$J:$K,2,0),\" \")","v":"CARABAYLLO"},{"$f":"IFERROR(VLOOKUP(MID(DZ$23,5,4)&$A29,Lista_Ubigeo!$J:$K,2,0),\" \")","v":" "},{"$f":"IFERROR(VLOOKUP(MID(EA$23,5,4)&$A29,Lista_Ubigeo!$J:$K,2,0),\" \")","v":" "},{"$f":"IFERROR(VLOOKUP(MID(EB$23,5,4)&$A29,Lista_Ubigeo!$J:$K,2,0),\" \")","v":"SAN BUENAVENTURA"},{"$f":"IFERROR(VLOOKUP(MID(EC$23,5,4)&$A29,Lista_Ubigeo!$J:$K,2,0),\" \")","v":"COAYLLO"},{"$f":"IFERROR(VLOOKUP(MID(ED$23,5,4)&$A29,Lista_Ubigeo!$J:$K,2,0),\" \")","v":"IHUARI"},{"$f":"IFERROR(VLOOKUP(MID(EE$23,5,4)&$A29,Lista_Ubigeo!$J:$K,2,0),\" \")","v":"CUENCA"},{"$f":"IFERROR(VLOOKUP(MID(EF$23,5,4)&$A29,Lista_Ubigeo!$J:$K,2,0),\" \")","v":"HUAURA"},{"$f":"IFERROR(VLOOKUP(MID(EG$23,5,4)&$A29,Lista_Ubigeo!$J:$K,2,0),\" \")","v":"PACHANGARA"},{"$f":"IFERROR(VLOOKUP(MID(EH$23,5,4)&$A29,Lista_Ubigeo!$J:$K,2,0),\" \")","v":"CACRA"},{"$f":"IFERROR(VLOOKUP(MID(EI$23,5,4)&$A29,Lista_Ubigeo!$J:$K,2,0),\" \")","v":"MAZAN"},{"$f":"IFERROR(VLOOKUP(MID(EJ$23,5,4)&$A34,Lista_Ubigeo!$J:$K,2,0),\" \")","v":"TENIENTE CESAR LOPEZ ROJAS"},{"$f":"IFERROR(VLOOKUP(MID(EK$23,5,4)&$A29,Lista_Ubigeo!$J:$K,2,0),\" \")","v":" "},{"$f":"IFERROR(VLOOKUP(MID(EL$23,5,4)&$A29,Lista_Ubigeo!$J:$K,2,0),\" \")","v":" "},{"$f":"IFERROR(VLOOKUP(MID(EM$23,5,4)&$A29,Lista_Ubigeo!$J:$K,2,0),\" \")","v":"PUINAHUA"},{"$f":"IFERROR(VLOOKUP(MID(EN$23,5,4)&$A29,Lista_Ubigeo!$J:$K,2,0),\" \")","v":"VARGAS GUERRA"},{"$f":"IFERROR(VLOOKUP(MID(EO$23,5,4)&$A29,Lista_Ubigeo!$J:$K,2,0),\" \")","v":"ANDOAS"},{"$f":"IFERROR(VLOOKUP(MID(EP$23,5,4)&$A29,Lista_Ubigeo!$J:$K,2,0),\" \")","v":" "},{"$f":"IFERROR(VLOOKUP(MID(EQ$23,5,4)&$A29,Lista_Ubigeo!$J:$K,2,0),\" \")","v":" "},{"$f":"IFERROR(VLOOKUP(MID(ER$23,5,4)&$A29,Lista_Ubigeo!$J:$K,2,0),\" \")","v":" "},{"$f":"IFERROR(VLOOKUP(MID(ES$23,5,4)&$A29,Lista_Ubigeo!$J:$K,2,0),\" \")","v":" "},{"$f":"IFERROR(VLOOKUP(MID(ET$23,5,4)&$A29,Lista_Ubigeo!$J:$K,2,0),\" \")","v":"TORATA"},{"$f":"IFERROR(VLOOKUP(MID(EU$23,5,4)&$A29,Lista_Ubigeo!$J:$K,2,0),\" \")","v":"LLOQUE"},{"$f":"IFERROR(VLOOKUP(MID(EV$23,5,4)&$A29,Lista_Ubigeo!$J:$K,2,0),\" \")","v":" "},{"$f":"IFERROR(VLOOKUP(MID(EW$23,5,4)&$A29,Lista_Ubigeo!$J:$K,2,0),\" \")","v":"PALLANCHACRA"},{"$f":"IFERROR(VLOOKUP(MID(EX$23,5,4)&$A29,Lista_Ubigeo!$J:$K,2,0),\" \")","v":"SANTA ANA DE TUSI"},{"$f":"IFERROR(VLOOKUP(MID(EY$23,5,4)&$A29,Lista_Ubigeo!$J:$K,2,0),\" \")","v":"PUERTO BERMUDEZ"},{"$f":"IFERROR(VLOOKUP(MID(EZ$23,5,4)&$A32,Lista_Ubigeo!$J:$K,2,0),\" \")","v":"LA ARENA"},{"$f":"IFERROR(VLOOKUP(MID(FA$23,5,4)&$A29,Lista_Ubigeo!$J:$K,2,0),\" \")","v":"PACAIPAMPA"},{"$f":"IFERROR(VLOOKUP(MID(FB$23,5,4)&$A29,Lista_Ubigeo!$J:$K,2,0),\" \")","v":"SAN MIGUEL DE EL FAIQUE"},{"$f":"IFERROR(VLOOKUP(MID(FC$23,5,4)&$A29,Lista_Ubigeo!$J:$K,2,0),\" \")","v":"SALITRAL"},{"$f":"IFERROR(VLOOKUP(MID(FD$23,5,4)&$A29,Lista_Ubigeo!$J:$K,2,0),\" \")","v":"TAMARINDO"},{"$f":"IFERROR(VLOOKUP(MID(FE$23,5,4)&$A29,Lista_Ubigeo!$J:$K,2,0),\" \")","v":"MIGUEL CHECA"},{"$f":"IFERROR(VLOOKUP(MID(FF$23,5,4)&$A29,Lista_Ubigeo!$J:$K,2,0),\" \")","v":"MANCORA"},{"$f":"IFERROR(VLOOKUP(MID(FG$23,5,4)&$A29,Lista_Ubigeo!$J:$K,2,0),\" \")","v":"RINCONADA LLICUAR"},{"$f":"IFERROR(VLOOKUP(MID(FH$23,5,4)&$A29,Lista_Ubigeo!$J:$K,2,0),\" \")","v":"CHUCUITO"},{"$f":"IFERROR(VLOOKUP(MID(FI$23,5,4)&$A29,Lista_Ubigeo!$J:$K,2,0),\" \")","v":"CHUPA"},{"$f":"IFERROR(VLOOKUP(MID(FJ$23,5,4)&$A29,Lista_Ubigeo!$J:$K,2,0),\" \")","v":"CRUCERO"},{"$f":"IFERROR(VLOOKUP(MID(FK$23,5,4)&$A29,Lista_Ubigeo!$J:$K,2,0),\" \")","v":"POMATA"},{"$f":"IFERROR(VLOOKUP(MID(FL$23,5,4)&$A29,Lista_Ubigeo!$J:$K,2,0),\" \")","v":" "},{"$f":"IFERROR(VLOOKUP(MID(FM$23,5,4)&$A29,Lista_Ubigeo!$J:$K,2,0),\" \")","v":"ROSASPATA"},{"$f":"IFERROR(VLOOKUP(MID(FN$23,5,4)&$A29,Lista_Ubigeo!$J:$K,2,0),\" \")","v":"PALCA"},{"$f":"IFERROR(VLOOKUP(MID(FO$23,5,4)&$A29,Lista_Ubigeo!$J:$K,2,0),\" \")","v":"NUNOA"},{"$f":"IFERROR(VLOOKUP(MID(FP$23,5,4)&$A29,Lista_Ubigeo!$J:$K,2,0),\" \")","v":" "},{"$f":"IFERROR(VLOOKUP(MID(FQ$23,5,4)&$A29,Lista_Ubigeo!$J:$K,2,0),\" \")","v":" "},{"$f":"IFERROR(VLOOKUP(MID(FR$23,5,4)&$A29,Lista_Ubigeo!$J:$K,2,0),\" \")","v":" "},{"$f":"IFERROR(VLOOKUP(MID(FS$23,5,4)&$A29,Lista_Ubigeo!$J:$K,2,0),\" \")","v":"QUIACA"},{"$f":"IFERROR(VLOOKUP(MID(FT$23,5,4)&$A29,Lista_Ubigeo!$J:$K,2,0),\" \")","v":"TINICACHI"},{"$f":"IFERROR(VLOOKUP(MID(FU$23,5,4)&$A29,Lista_Ubigeo!$J:$K,2,0),\" \")","v":"YANTALO"},{"$f":"IFERROR(VLOOKUP(MID(FV$23,5,4)&$A29,Lista_Ubigeo!$J:$K,2,0),\" \")","v":"SAN RAFAEL"},{"$f":"IFERROR(VLOOKUP(MID(FW$23,5,4)&$A29,Lista_Ubigeo!$J:$K,2,0),\" \")","v":" "},{"$f":"IFERROR(VLOOKUP(MID(FX$23,5,4)&$A29,Lista_Ubigeo!$J:$K,2,0),\" \")","v":"TINGO DE SAPOSOA"},{"$f":"IFERROR(VLOOKUP(MID(FY$23,5,4)&$A29,Lista_Ubigeo!$J:$K,2,0),\" \")","v":"PINTO RECODO"},{"$f":"IFERROR(VLOOKUP(MID(FZ$23,5,4)&$A29,Lista_Ubigeo!$J:$K,2,0),\" \")","v":" "},{"$f":"IFERROR(VLOOKUP(MID(GA$23,5,4)&$A29,Lista_Ubigeo!$J:$K,2,0),\" \")","v":"SAN CRISTOBAL"},{"$f":"IFERROR(VLOOKUP(MID(GB$23,5,4)&$A29,Lista_Ubigeo!$J:$K,2,0),\" \")","v":"POSIC"},{"$f":"IFERROR(VLOOKUP(MID(GC$23,5,4)&$A29,Lista_Ubigeo!$J:$K,2,0),\" \")","v":"EL PORVENIR"},{"$f":"IFERROR(VLOOKUP(MID(GD$23,5,4)&$A29,Lista_Ubigeo!$J:$K,2,0),\" \")","v":" "},{"$f":"IFERROR(VLOOKUP(MID(GE$23,5,4)&$A29,Lista_Ubigeo!$J:$K,2,0),\" \")","v":"PACHIA"},{"$f":"IFERROR(VLOOKUP(MID(GF$23,5,4)&$A29,Lista_Ubigeo!$J:$K,2,0),\" \")","v":"QUILAHUANI"},{"$f":"IFERROR(VLOOKUP(MID(GG$23,5,4)&$A29,Lista_Ubigeo!$J:$K,2,0),\" \")","v":" "},{"$f":"IFERROR(VLOOKUP(MID(GH$23,5,4)&$A29,Lista_Ubigeo!$J:$K,2,0),\" \")","v":"SUSAPAYA"},{"$f":"IFERROR(VLOOKUP(MID(GI$23,5,4)&$A29,Lista_Ubigeo!$J:$K,2,0),\" \")","v":"SAN JUAN DE LA VIRGEN"},{"$f":"IFERROR(VLOOKUP(MID(GJ$23,5,4)&$A29,Lista_Ubigeo!$J:$K,2,0),\" \")","v":" "},{"$f":"IFERROR(VLOOKUP(MID(GK$23,5,4)&$A29,Lista_Ubigeo!$J:$K,2,0),\" \")","v":" "},{"$f":"IFERROR(VLOOKUP(MID(GL$23,5,4)&$A29,Lista_Ubigeo!$J:$K,2,0),\" \")","v":"NUEVA REQUENA"},{"$f":"IFERROR(VLOOKUP(MID(GM$23,5,4)&$A29,Lista_Ubigeo!$J:$K,2,0),\" \")","v":" "},{"$f":"IFERROR(VLOOKUP(MID(GN$23,5,4)&$A29,Lista_Ubigeo!$J:$K,2,0),\" \")","v":" "},{"$f":"IFERROR(VLOOKUP(MID(GO$23,5,4)&$A29,Lista_Ubigeo!$J:$K,2,0),\" \")","v":" "},{"$f":"IFERROR(VLOOKUP(MID(GP$23,5,4)&$A29,Lista_Ubigeo!$J:$K,2,0),\" \")","v":"CHUPA"}]
["07",{"$f":"IFERROR(VLOOKUP(MID(B$23,5,4)&$A30,Lista_Ubigeo!$J:$K,2,0),\" \")","v":"GRANADA"},{"$f":"IFERROR(VLOOKUP(MID(C$23,5,4)&$A30,Lista_Ubigeo!$J:$K,2,0),\" \")","v":" "},{"$f":"IFERROR(VLOOKUP(MID(D$23,5,4)&$A30,Lista_Ubigeo!$J:$K,2,0),\" \")","v":"JAZAN"},{"$f":"IFERROR(VLOOKUP(MID(E$23,5,4)&$A30,Lista_Ubigeo!$J:$K,2,0),\" \")","v":" "},{"$f":"IFERROR(VLOOKUP(MID(F$23,5,4)&$A30,Lista_Ubigeo!$J:$K,2,0),\" \")","v":"LONGUITA"},{"$f":"IFERROR(VLOOKUP(MID(G$23,5,4)&$A30,Lista_Ubigeo!$J:$K,2,0),\" \")","v":"MARISCAL BENAVIDES"},{"$f":"IFERROR(VLOOKUP(MID(H$23,5,4)&$A30,Lista_Ubigeo!$J:$K,2,0),\" \")","v":"YAMON"},{"$f":"IFERROR(VLOOKUP(MID(I$23,5,4)&$A30,Lista_Ubigeo!$J:$K,2,0),\" \")","v":"LA LIBERTAD"},{"$f":"IFERROR(VLOOKUP(MID(J$23,5,4)&$A30,Lista_Ubigeo!$J:$K,2,0),\" \")","v":" "},{"$f":"IFERROR(VLOOKUP(MID(K$23,5,4)&$A30,Lista_Ubigeo!$J:$K,2,0),\" \")","v":" "},{"$f":"IFERROR(VLOOKUP(MID(L$23,5,4)&$A30,Lista_Ubigeo!$J:$K,2,0),\" \")","v":" "},{"$f":"IFERROR(VLOOKUP(MID(M$23,5,4)&$A30,Lista_Ubigeo!$J:$K,2,0),\" \")","v":"COLQUIOC"},{"$f":"IFERROR(VLOOKUP(MID(N$23,5,4)&$A30,Lista_Ubigeo!$J:$K,2,0),\" \")","v":"PARIAHUANCA"},{"$f":"IFERROR(VLOOKUP(MID(O$23,5,4)&$A30,Lista_Ubigeo!$J:$K,2,0),\" \")","v":" "},{"$f":"IFERROR(VLOOKUP(MID(P$23,5,4)&$A30,Lista_Ubigeo!$J:$K,2,0),\" \")","v":" "},{"$f":"IFERROR(VLOOKUP(MID(Q$23,5,4)&$A30,Lista_Ubigeo!$J:$K,2,0),\" \")","v":"YUPAN"},{"$f":"IFERROR(VLOOKUP(MID(R$23,5,4)&$A30,Lista_Ubigeo!$J:$K,2,0),\" \")","v":"HUACHIS"},{"$f":"IFERROR(VLOOKUP(MID(S$23,5,4)&$A30,Lista_Ubigeo!$J:$K,2,0),\" \")","v":" "},{"$f":"IFERROR(VLOOKUP(MID(T$23,5,4)&$A30,Lista_Ubigeo!$J:$K,2,0),\" \")","v":"PUEBLO LIBRE"},{"$f":"IFERROR(VLOOKUP(MID(U$23,5,4)&$A30,Lista_Ubigeo!$J:$K,2,0),\" \")","v":"LUCMA"},{"$f":"IFERROR(VLOOKUP(MID(V$23,5,4)&$A30,Lista_Ubigeo!$J:$K,2,0),\" \")","v":"LLIPA"},{"$f":"IFERROR(VLOOKUP(MID(W$23,5,4)&$A30,Lista_Ubigeo!$J:$K,2,0),\" \")","v":"LLAPO"},{"$f":"IFERROR(VLOOKUP(MID(X$23,5,4)&$A30,Lista_Ubigeo!$J:$K,2,0),\" \")","v":" "},{"$f":"IFERROR(VLOOKUP(MID(Y$23,5,4)&$A30,Lista_Ubigeo!$J:$K,2,0),\" \")","v":"PAMPAS CHICO"},{"$f":"IFERROR(VLOOKUP(MID(Z$23,5,4)&$A30,Lista_Ubigeo!$J:$K,2,0),\" \")","v":"SAMANCO"},{"$f":"IFERROR(VLOOKUP(MID(AA$23,5,4)&$A30,Lista_Ubigeo!$J:$K,2,0),\" \")","v":"QUICHES"},{"$f":"IFERROR(VLOOKUP(MID(AB$23,5,4)&$A30,Lista_Ubigeo!$J:$K,2,0),\" \")","v":"SHUPLUY"},{"$f":"IFERROR(VLOOKUP(MID(AC$23,5,4)&$A30,Lista_Ubigeo!$J:$K,2,0),\" \")","v":"PICHIRHUA"},{"$f":"IFERROR(VLOOKUP(MID(AD$23,5,4)&$A30,Lista_Ubigeo!$J:$K,2,0),\" \")","v":"KISHUARA"},{"$f":"IFERROR(VLOOKUP(MID(AE$23,5,4)&$A30,Lista_Ubigeo!$J:$K,2,0),\" \")","v":"SABAINO"},{"$f":"IFERROR(VLOOKUP(MID(AF$23,5,4)&$A30,Lista_Ubigeo!$J:$K,2,0),\" \")","v":"HUAYLLO"},{"$f":"IFERROR(VLOOKUP(MID(AG$23,5,4)&$A30,Lista_Ubigeo!$J:$K,2,0),\" \")","v":" "},{"$f":"IFERROR(VLOOKUP(MID(AH$23,5,4)&$A30,Lista_Ubigeo!$J:$K,2,0),\" \")","v":"URANMARCA"},{"$f":"IFERROR(VLOOKUP(MID(AI$23,5,4)&$A30,Lista_Ubigeo!$J:$K,2,0),\" \")","v":"PATAYPAMPA"},{"$f":"IFERROR(VLOOKUP(MID(AJ$23,5,4)&$A30,Lista_Ubigeo!$J:$K,2,0),\" \")","v":"JACOBO HUNTER"},{"$f":"IFERROR(VLOOKUP(MID(AK$23,5,4)&$A30,Lista_Ubigeo!$J:$K,2,0),\" \")","v":"QUILCA"},{"$f":"IFERROR(VLOOKUP(MID(AL$23,5,4)&$A30,Lista_Ubigeo!$J:$K,2,0),\" \")","v":"CHALA"},{"$f":"IFERROR(VLOOKUP(MID(AM$23,5,4)&$A30,Lista_Ubigeo!$J:$K,2,0),\" \")","v":"HUANCARQUI"},{"$f":"IFERROR(VLOOKUP(MID(AN$23,5,4)&$A30,Lista_Ubigeo!$J:$K,2,0),\" \")","v":"HUAMBO"},{"$f":"IFERROR(VLOOKUP(MID(AO$23,5,4)&$A30,Lista_Ubigeo!$J:$K,2,0),\" \")","v":"SALAMANCA"},{"$f":"IFERROR(VLOOKUP(MID(AP$23,5,4)&$A30,Lista_Ubigeo!$J:$K,2,0),\" \")","v":" "},{"$f":"IFERROR(VLOOKUP(MID(AQ$23,4,4)&$A30,Lista_Ubigeo!$J:$K,2,0),\" \")","v":"QUECHUALLA"},{"$f":"IFERROR(VLOOKUP(MID(AR$23,5,4)&$A30,Lista_Ubigeo!$J:$K,2,0),\" \")","v":"PACAYCASA"},{"$f":"IFERROR(VLOOKUP(MID(AS$23,5,4)&$A30,Lista_Ubigeo!$J:$K,2,0),\" \")","v":" "},{"$f":"IFERROR(VLOOKUP(MID(AT$23,5,4)&$A30,Lista_Ubigeo!$J:$K,2,0),\" \")","v":" "},{"$f":"IFERROR(VLOOKUP(MID(AU$23,5,4)&$A30,Lista_Ubigeo!$J:$K,2,0),\" \")","v":"SIVIA"},{"$f":"IFERROR(VLOOKUP(MID(AV$23,5,4)&$A30,Lista_Ubigeo!$J:$K,2,0),\" \")","v":"SANTA ROSA"},{"$f":"IFERROR(VLOOKUP(MID(AW$23,5,4)&$A30,Lista_Ubigeo!$J:$K,2,0),\" \")","v":"HUAC-HUAS"},{"$f":"IFERROR(VLOOKUP(MID(AX$23,5,4)&$A30,Lista_Ubigeo!$J:$K,2,0),\" \")","v":"SAN FRANCISCO DE RAVACAYCO"},{"$f":"IFERROR(VLOOKUP(MID(AY$23,5,4)&$A30,Lista_Ubigeo!$J:$K,2,0),\" \")","v":"PARARCA"},{"$f":"IFERROR(VLOOKUP(MID(AZ$23,5,4)&$A30,Lista_Ubigeo!$J:$K,2,0),\" \")","v":"PAICO"},{"$f":"IFERROR(VLOOKUP(MID(BA$23,5,4)&$A30,Lista_Ubigeo!$J:$K,2,0),\" \")","v":"COLCA"},{"$f":"IFERROR(VLOOKUP(MID(BB$23,5,4)&$A30,Lista_Ubigeo!$J:$K,2,0),\" \")","v":"SAURAMA"},{"$f":"IFERROR(VLOOKUP(MID(BC$23,5,4)&$A30,Lista_Ubigeo!$J:$K,2,0),\" \")","v":"LLACANORA"},{"$f":"IFERROR(VLOOKUP(MID(BD$23,5,4)&$A30,Lista_Ubigeo!$J:$K,2,0),\" \")","v":" "},{"$f":"IFERROR(VLOOKUP(MID(BE$23,5,4)&$A30,Lista_Ubigeo!$J:$K,2,0),\" \")","v":"MIGUEL IGLESIAS"},{"$f":"IFERROR(VLOOKUP(MID(BF$23,5,4)&$A30,Lista_Ubigeo!$J:$K,2,0),\" \")","v":"COCHABAMBA"},{"$f":"IFERROR(VLOOKUP(MID(BG$23,5,4)&$A30,Lista_Ubigeo!$J:$K,2,0),\" \")","v":"TANTARICA"},{"$f":"IFERROR(VLOOKUP(MID(BH$23,5,4)&$A30,Lista_Ubigeo!$J:$K,2,0),\" \")","v":"QUEROCOTILLO"},{"$f":"IFERROR(VLOOKUP(MID(BI$23,5,4)&$A30,Lista_Ubigeo!$J:$K,2,0),\" \")","v":" "},{"$f":"IFERROR(VLOOKUP(MID(BJ$23,5,4)&$A30,Lista_Ubigeo!$J:$K,2,0),\" \")","v":"POMAHUACA"},{"$f":"IFERROR(VLOOKUP(MID(BK$23,5,4)&$A30,Lista_Ubigeo!$J:$K,2,0),\" \")","v":"TABACONAS"},{"$f":"IFERROR(VLOOKUP(MID(BL$23,5,4)&$A30,Lista_Ubigeo!$J:$K,2,0),\" \")","v":"JOSE SABOGAL"},{"$f":"IFERROR(VLOOKUP(MID(BM$23,5,4)&$A30,Lista_Ubigeo!$J:$K,2,0),\" \")","v":"LLAPA"},{"$f":"IFERROR(VLOOKUP(MID(BN$23,5,4)&$A30,Lista_Ubigeo!$J:$K,2,0),\" \")","v":" "},{"$f":"IFERROR(VLOOKUP(MID(BO$23,5,4)&$A30,Lista_Ubigeo!$J:$K,2,0),\" \")","v":"PULAN"},{"$f":"IFERROR(VLOOKUP(MID(BP$23,5,4)&$A30,Lista_Ubigeo!$J:$K,2,0),\" \")","v":"MI PERU"},{"$f":"IFERROR(VLOOKUP(MID(BQ$23,5,4)&$A30,Lista_Ubigeo!$J:$K,2,0),\" \")","v":"SAYLLA"},{"$f":"IFERROR(VLOOKUP(MID(BR$23,5,4)&$A30,Lista_Ubigeo!$J:$K,2,0),\" \")","v":"SANGARARA"},{"$f":"IFERROR(VLOOKUP(MID(BS$23,5,4)&$A30,Lista_Ubigeo!$J:$K,2,0),\" \")","v":"MOLLEPATA"},{"$f":"IFERROR(VLOOKUP(MID(BT$23,5,4)&$A30,Lista_Ubigeo!$J:$K,2,0),\" \")","v":"TARAY"},{"$f":"IFERROR(VLOOKUP(MID(BU$23,5,4)&$A30,Lista_Ubigeo!$J:$K,2,0),\" \")","v":"QUEHUE"},{"$f":"IFERROR(VLOOKUP(MID(BV$23,5,4)&$A30,Lista_Ubigeo!$J:$K,2,0),\" \")","v":"SAN PEDRO"},{"$f":"IFERROR(VLOOKUP(MID(BW$23,5,4)&$A30,Lista_Ubigeo!$J:$K,2,0),\" \")","v":"QUINOTA"},{"$f":"IFERROR(VLOOKUP(MID(BX$23,5,4)&$A30,Lista_Ubigeo!$J:$K,2,0),\" \")","v":"SUYCKUTAMBO"},{"$f":"IFERROR(VLOOKUP(MID(BY$23,4,4)&$A30,Lista_Ubigeo!$J:$K,2,0),\" \")","v":"KIMBIRI"},{"$f":"IFERROR(VLOOKUP(MID(BZ$23,5,4)&$A30,Lista_Ubigeo!$J:$K,2,0),\" \")","v":"PACCARITAMBO"},{"$f":"IFERROR(VLOOKUP(MID(CA$23,5,4)&$A30,Lista_Ubigeo!$J:$K,2,0),\" \")","v":" "},{"$f":"IFERROR(VLOOKUP(MID(CB$23,5,4)&$A30,Lista_Ubigeo!$J:$K,2,0),\" \")","v":"HUARO"},{"$f":"IFERROR(VLOOKUP(MID(CC$23,5,4)&$A30,Lista_Ubigeo!$J:$K,2,0),\" \")","v":"YUCAY"},{"$f":"IFERROR(VLOOKUP(MID(CD$23,5,4)&$A30,Lista_Ubigeo!$J:$K,2,0),\" \")","v":"HUAYLLAHUARA"},{"$f":"IFERROR(VLOOKUP(MID(CE$23,5,4)&$A30,Lista_Ubigeo!$J:$K,2,0),\" \")","v":"POMACOCHA"},{"$f":"IFERROR(VLOOKUP(MID(CF$23,5,4)&$A30,Lista_Ubigeo!$J:$K,2,0),\" \")","v":"HUANCA-HUANCA"},{"$f":"IFERROR(VLOOKUP(MID(CG$23,5,4)&$A30,Lista_Ubigeo!$J:$K,2,0),\" \")","v":"HUACHOS"},{"$f":"IFERROR(VLOOKUP(MID(CH$23,5,4)&$A30,Lista_Ubigeo!$J:$K,2,0),\" \")","v":"PAUCARBAMBA"},{"$f":"IFERROR(VLOOKUP(MID(CI$23,5,4)&$A30,Lista_Ubigeo!$J:$K,2,0),\" \")","v":"PILPICHACA"},{"$f":"IFERROR(VLOOKUP(MID(CJ$23,5,4)&$A30,Lista_Ubigeo!$J:$K,2,0),\" \")","v":"HUACHOCOLPA"},{"$f":"IFERROR(VLOOKUP(MID(CK$23,5,4)&$A30,Lista_Ubigeo!$J:$K,2,0),\" \")","v":"SAN FRANCISCO DE CAYRAN"},{"$f":"IFERROR(VLOOKUP(MID(CL$23,5,4)&$A30,Lista_Ubigeo!$J:$K,2,0),\" \")","v":"SAN RAFAEL"},{"$f":"IFERROR(VLOOKUP(MID(CM$23,5,4)&$A41,Lista_Ubigeo!$J:$K,2,0),\" \")","v":" "},{"$f":"IFERROR(VLOOKUP(MID(CN$23,5,4)&$A30,Lista_Ubigeo!$J:$K,2,0),\" \")","v":" "},{"$f":"IFERROR(VLOOKUP(MID(CO$23,5,4)&$A30,Lista_Ubigeo!$J:$K,2,0),\" \")","v":"MONZON"},{"$f":"IFERROR(VLOOKUP(MID(CP$23,5,4)&$A30,Lista_Ubigeo!$J:$K,2,0),\" \")","v":"PUCAYACU"},{"$f":"IFERROR(VLOOKUP(MID(CQ$23,5,4)&$A30,Lista_Ubigeo!$J:$K,2,0),\" \")","v":" "},{"$f":"IFERROR(VLOOKUP(MID(CR$23,5,4)&$A30,Lista_Ubigeo!$J:$K,2,0),\" \")","v":" "},{"$f":"IFERROR(VLOOKUP(MID(CS$23,5,4)&$A30,Lista_Ubigeo!$J:$K,2,0),\" \")","v":" "},{"$f":"IFERROR(VLOOKUP(MID(CT$23,5,4)&$A30,Lista_Ubigeo!$J:$K,2,0),\" \")","v":"SAN MIGUEL DE CAURI"},{"$f":"IFERROR(VLOOKUP(MID(CU$23,5,4)&$A30,Lista_Ubigeo!$J:$K,2,0),\" \")","v":"PAMPAMARCA"},{"$f":"IFERROR(VLOOKUP(MID(CV$23,5,4)&$A30,Lista_Ubigeo!$J:$K,2,0),\" \")","v":"PUEBLO NUEVO"},{"$f":"IFERROR(VLOOKUP(MID(CW$23,5,4)&$A30,Lista_Ubigeo!$J:$K,2,0),\" \")","v":"PUEBLO NUEVO"},{"$f":"IFERROR(VLOOKUP(MID(CX$23,5,4)&$A30,Lista_Ubigeo!$J:$K,2,0),\" \")","v":" "},{"$f":"IFERROR(VLOOKUP(MID(CY$23,5,4)&$A30,Lista_Ubigeo!$J:$K,2,0),\" \")","v":" "},{"$f":"IFERROR(VLOOKUP(MID(CZ$23,5,4)&$A30,Lista_Ubigeo!$J:$K,2,0),\" \")","v":"SAN CLEMENTE"},{"$f":"IFERROR(VLOOKUP(MID(DA$23,5,4)&$A30,Lista_Ubigeo!$J:$K,2,0),\" \")","v":"CHILCA"},{"$f":"IFERROR(VLOOKUP(MID(DB$23,5,4)&$A30,Lista_Ubigeo!$J:$K,2,0),\" \")","v":"HEROINAS TOLEDO"},{"$f":"IFERROR(VLOOKUP(MID(DC$23,5,4)&$A30,Lista_Ubigeo!$J:$K,2,0),\" \")","v":" "},{"$f":"IFERROR(VLOOKUP(MID(DD$23,5,4)&$A30,Lista_Ubigeo!$J:$K,2,0),\" \")","v":"EL MANTARO"},{"$f":"IFERROR(VLOOKUP(MID(DE$23,5,4)&$A30,Lista_Ubigeo!$J:$K,2,0),\" \")","v":" "},{"$f":"IFERROR(VLOOKUP(MID(DF$23,5,4)&$A30,Lista_Ubigeo!$J:$K,2,0),\" \")","v":"RIO NEGRO"},{"$f":"IFERROR(VLOOKUP(MID(DG$23,5,4)&$A30,Lista_Ubigeo!$J:$K,2,0),\" \")","v":"PALCAMAYO"},{"$f":"IFERROR(VLOOKUP(MID(DH$23,5,4)&$A30,Lista_Ubigeo!$J:$K,2,0),\" \")","v":"SANTA BARBARA DE CARHUACAYAN"},{"$f":"IFERROR(VLOOKUP(MID(DI$23,5,4)&$A30,Lista_Ubigeo!$J:$K,2,0),\" \")","v":"SAN JUAN DE JARPA"},{"$f":"IFERROR(VLOOKUP(MID(DJ$23,5,4)&$A30,Lista_Ubigeo!$J:$K,2,0),\" \")","v":"MOCHE"},{"$f":"IFERROR(VLOOKUP(MID(DK$23,5,4)&$A30,Lista_Ubigeo!$J:$K,2,0),\" \")","v":"SANTIAGO DE CAO"},{"$f":"IFERROR(VLOOKUP(MID(DL$23,5,4)&$A30,Lista_Ubigeo!$J:$K,2,0),\" \")","v":" "},{"$f":"IFERROR(VLOOKUP(MID(DM$23,5,4)&$A30,Lista_Ubigeo!$J:$K,2,0),\" \")","v":" "},{"$f":"IFERROR(VLOOKUP(MID(DN$23,5,4)&$A30,Lista_Ubigeo!$J:$K,2,0),\" \")","v":" "},{"$f":"IFERROR(VLOOKUP(MID(DO$23,5,4)&$A31,Lista_Ubigeo!$J:$K,2,0),\" \")","v":"MACHE"},{"$f":"IFERROR(VLOOKUP(MID(DP$23,5,4)&$A30,Lista_Ubigeo!$J:$K,2,0),\" \")","v":" "},{"$f":"IFERROR(VLOOKUP(MID(DQ$23,5,4)&$A30,Lista_Ubigeo!$J:$K,2,0),\" \")","v":"ONGON"},{"$f":"IFERROR(VLOOKUP(MID(DR$23,5,4)&$A30,Lista_Ubigeo!$J:$K,2,0),\" \")","v":"SARIN"},{"$f":"IFERROR(VLOOKUP(MID(DS$23,5,4)&$A30,Lista_Ubigeo!$J:$K,2,0),\" \")","v":"SANTA CRUZ DE CHUCA"},null,null,{"$f":"IFERROR(VLOOKUP(MID(DV$23,5,4)&$A30,Lista_Ubigeo!$J:$K,2,0),\" \")","v":"LAGUNAS"},{"$f":"IFERROR(VLOOKUP(MID(DW$23,5,4)&$A30,Lista_Ubigeo!$J:$K,2,0),\" \")","v":" "},{"$f":"IFERROR(VLOOKUP(MID(DX$23,5,4)&$A30,Lista_Ubigeo!$J:$K,2,0),\" \")","v":"MOTUPE"},{"$f":"IFERROR(VLOOKUP(MID(DY$23,5,4)&$A30,Lista_Ubigeo!$J:$K,2,0),\" \")","v":"CHACLACAYO"},{"$f":"IFERROR(VLOOKUP(MID(DZ$23,5,4)&$A30,Lista_Ubigeo!$J:$K,2,0),\" \")","v":" "},{"$f":"IFERROR(VLOOKUP(MID(EA$23,5,4)&$A30,Lista_Ubigeo!$J:$K,2,0),\" \")","v":" "},{"$f":"IFERROR(VLOOKUP(MID(EB$23,5,4)&$A30,Lista_Ubigeo!$J:$K,2,0),\" \")","v":"SANTA ROSA DE QUIVES"},{"$f":"IFERROR(VLOOKUP(MID(EC$23,5,4)&$A30,Lista_Ubigeo!$J:$K,2,0),\" \")","v":"IMPERIAL"},{"$f":"IFERROR(VLOOKUP(MID(ED$23,5,4)&$A30,Lista_Ubigeo!$J:$K,2,0),\" \")","v":"LAMPIAN"},{"$f":"IFERROR(VLOOKUP(MID(EE$23,5,4)&$A30,Lista_Ubigeo!$J:$K,2,0),\" \")","v":"HUACHUPAMPA"},{"$f":"IFERROR(VLOOKUP(MID(EF$23,5,4)&$A30,Lista_Ubigeo!$J:$K,2,0),\" \")","v":"LEONCIO PRADO"},{"$f":"IFERROR(VLOOKUP(MID(EG$23,5,4)&$A30,Lista_Ubigeo!$J:$K,2,0),\" \")","v":" "},{"$f":"IFERROR(VLOOKUP(MID(EH$23,5,4)&$A30,Lista_Ubigeo!$J:$K,2,0),\" \")","v":"CARANIA"},{"$f":"IFERROR(VLOOKUP(MID(EI$23,5,4)&$A30,Lista_Ubigeo!$J:$K,2,0),\" \")","v":"NAPO"},{"$f":"IFERROR(VLOOKUP(MID(EJ$23,5,4)&$A35,Lista_Ubigeo!$J:$K,2,0),\" \")","v":" "},{"$f":"IFERROR(VLOOKUP(MID(EK$23,5,4)&$A30,Lista_Ubigeo!$J:$K,2,0),\" \")","v":" "},{"$f":"IFERROR(VLOOKUP(MID(EL$23,5,4)&$A30,Lista_Ubigeo!$J:$K,2,0),\" \")","v":" "},{"$f":"IFERROR(VLOOKUP(MID(EM$23,5,4)&$A30,Lista_Ubigeo!$J:$K,2,0),\" \")","v":"SAQUENA"},{"$f":"IFERROR(VLOOKUP(MID(EN$23,5,4)&$A30,Lista_Ubigeo!$J:$K,2,0),\" \")","v":" "},{"$f":"IFERROR(VLOOKUP(MID(EO$23,5,4)&$A30,Lista_Ubigeo!$J:$K,2,0),\" \")","v":" "},{"$f":"IFERROR(VLOOKUP(MID(EP$23,5,4)&$A30,Lista_Ubigeo!$J:$K,2,0),\" \")","v":" "},{"$f":"IFERROR(VLOOKUP(MID(EQ$23,5,4)&$A30,Lista_Ubigeo!$J:$K,2,0),\" \")","v":" "},{"$f":"IFERROR(VLOOKUP(MID(ER$23,5,4)&$A30,Lista_Ubigeo!$J:$K,2,0),\" \")","v":" "},{"$f":"IFERROR(VLOOKUP(MID(ES$23,5,4)&$A30,Lista_Ubigeo!$J:$K,2,0),\" \")","v":" "},{"$f":"IFERROR(VLOOKUP(MID(ET$23,5,4)&$A30,Lista_Ubigeo!$J:$K,2,0),\" \")","v":" "},{"$f":"IFERROR(VLOOKUP(MID(EU$23,5,4)&$A30,Lista_Ubigeo!$J:$K,2,0),\" \")","v":"MATALAQUE"},{"$f":"IFERROR(VLOOKUP(MID(EV$23,5,4)&$A30,Lista_Ubigeo!$J:$K,2,0),\" \")","v":" "},{"$f":"IFERROR(VLOOKUP(MID(EW$23,5,4)&$A30,Lista_Ubigeo!$J:$K,2,0),\" \")","v":"PAUCARTAMBO"},{"$f":"IFERROR(VLOOKUP(MID(EX$23,5,4)&$A30,Lista_Ubigeo!$J:$K,2,0),\" \")","v":"TAPUC"},{"$f":"IFERROR(VLOOKUP(MID(EY$23,5,4)&$A30,Lista_Ubigeo!$J:$K,2,0),\" \")","v":"VILLA RICA"},{"$f":"IFERROR(VLOOKUP(MID(EZ$23,5,4)&$A33,Lista_Ubigeo!$J:$K,2,0),\" \")","v":"LA UNION"},{"$f":"IFERROR(VLOOKUP(MID(FA$23,5,4)&$A30,Lista_Ubigeo!$J:$K,2,0),\" \")","v":"PAIMAS"},{"$f":"IFERROR(VLOOKUP(MID(FB$23,5,4)&$A30,Lista_Ubigeo!$J:$K,2,0),\" \")","v":"SONDOR"},{"$f":"IFERROR(VLOOKUP(MID(FC$23,5,4)&$A30,Lista_Ubigeo!$J:$K,2,0),\" \")","v":"SAN JUAN DE BIGOTE"},{"$f":"IFERROR(VLOOKUP(MID(FD$23,5,4)&$A30,Lista_Ubigeo!$J:$K,2,0),\" \")","v":"VICHAYAL"},{"$f":"IFERROR(VLOOKUP(MID(FE$23,5,4)&$A30,Lista_Ubigeo!$J:$K,2,0),\" \")","v":"QUERECOTILLO"},{"$f":"IFERROR(VLOOKUP(MID(FF$23,5,4)&$A30,Lista_Ubigeo!$J:$K,2,0),\" \")","v":"TALARA"},{"$f":"IFERROR(VLOOKUP(MID(FG$23,5,4)&$A30,Lista_Ubigeo!$J:$K,2,0),\" \")","v":" "},{"$f":"IFERROR(VLOOKUP(MID(FH$23,5,4)&$A30,Lista_Ubigeo!$J:$K,2,0),\" \")","v":"COATA"},{"$f":"IFERROR(VLOOKUP(MID(FI$23,5,4)&$A30,Lista_Ubigeo!$J:$K,2,0),\" \")","v":"JOSE DIEGO CHOQUEHUANCA"},{"$f":"IFERROR(VLOOKUP(MID(FJ$23,5,4)&$A30,Lista_Ubigeo!$J:$K,2,0),\" \")","v":"ITUATA"},{"$f":"IFERROR(VLOOKUP(MID(FK$23,5,4)&$A30,Lista_Ubigeo!$J:$K,2,0),\" \")","v":"ZEPITA"},{"$f":"IFERROR(VLOOKUP(MID(FL$23,5,4)&$A30,Lista_Ubigeo!$J:$K,2,0),\" \")","v":" "},{"$f":"IFERROR(VLOOKUP(MID(FM$23,5,4)&$A30,Lista_Ubigeo!$J:$K,2,0),\" \")","v":"TARACO"},{"$f":"IFERROR(VLOOKUP(MID(FN$23,5,4)&$A30,Lista_Ubigeo!$J:$K,2,0),\" \")","v":"PARATIA"},{"$f":"IFERROR(VLOOKUP(MID(FO$23,5,4)&$A30,Lista_Ubigeo!$J:$K,2,0),\" \")","v":"ORURILLO"},{"$f":"IFERROR(VLOOKUP(MID(FP$23,5,4)&$A30,Lista_Ubigeo!$J:$K,2,0),\" \")","v":" "},{"$f":"IFERROR(VLOOKUP(MID(FQ$23,5,4)&$A30,Lista_Ubigeo!$J:$K,2,0),\" \")","v":" "},{"$f":"IFERROR(VLOOKUP(MID(FR$23,5,4)&$A30,Lista_Ubigeo!$J:$K,2,0),\" \")","v":" "},{"$f":"IFERROR(VLOOKUP(MID(FS$23,5,4)&$A30,Lista_Ubigeo!$J:$K,2,0),\" \")","v":"SAN JUAN DEL ORO"},{"$f":"IFERROR(VLOOKUP(MID(FT$23,5,4)&$A30,Lista_Ubigeo!$J:$K,2,0),\" \")","v":"UNICACHI"},{"$f":"IFERROR(VLOOKUP(MID(FU$23,5,4)&$A30,Lista_Ubigeo!$J:$K,2,0),\" \")","v":" "},{"$f":"IFERROR(VLOOKUP(MID(FV$23,5,4)&$A30,Lista_Ubigeo!$J:$K,2,0),\" \")","v":" "},{"$f":"IFERROR(VLOOKUP(MID(FW$23,5,4)&$A30,Lista_Ubigeo!$J:$K,2,0),\" \")","v":" "},{"$f":"IFERROR(VLOOKUP(MID(FX$23,5,4)&$A30,Lista_Ubigeo!$J:$K,2,0),\" \")","v":" "},{"$f":"IFERROR(VLOOKUP(MID(FY$23,5,4)&$A30,Lista_Ubigeo!$J:$K,2,0),\" \")","v":"RUMISAPA"},{"$f":"IFERROR(VLOOKUP(MID(FZ$23,5,4)&$A30,Lista_Ubigeo!$J:$K,2,0),\" \")","v":" "},{"$f":"IFERROR(VLOOKUP(MID(GA$23,5,4)&$A30,Lista_Ubigeo!$J:$K,2,0),\" \")","v":"SAN HILARION"},{"$f":"IFERROR(VLOOKUP(MID(GB$23,5,4)&$A30,Lista_Ubigeo!$J:$K,2,0),\" \")","v":"SAN FERNANDO"},{"$f":"IFERROR(VLOOKUP(MID(GC$23,5,4)&$A30,Lista_Ubigeo!$J:$K,2,0),\" \")","v":"HUIMBAYOC"},{"$f":"IFERROR(VLOOKUP(MID(GD$23,5,4)&$A30,Lista_Ubigeo!$J:$K,2,0),\" \")","v":" "},{"$f":"IFERROR(VLOOKUP(MID(GE$23,5,4)&$A30,Lista_Ubigeo!$J:$K,2,0),\" \")","v":"PALCA"},{"$f":"IFERROR(VLOOKUP(MID(GF$23,5,4)&$A30,Lista_Ubigeo!$J:$K,2,0),\" \")","v":" "},{"$f":"IFERROR(VLOOKUP(MID(GG$23,5,4)&$A30,Lista_Ubigeo!$J:$K,2,0),\" \")","v":" "},{"$f":"IFERROR(VLOOKUP(MID(GH$23,5,4)&$A30,Lista_Ubigeo!$J:$K,2,0),\" \")","v":"TARUCACHI"},{"$f":"IFERROR(VLOOKUP(MID(GI$23,5,4)&$A30,Lista_Ubigeo!$J:$K,2,0),\" \")","v":" "},{"$f":"IFERROR(VLOOKUP(MID(GJ$23,5,4)&$A30,Lista_Ubigeo!$J:$K,2,0),\" \")","v":" "},{"$f":"IFERROR(VLOOKUP(MID(GK$23,5,4)&$A30,Lista_Ubigeo!$J:$K,2,0),\" \")","v":" "},{"$f":"IFERROR(VLOOKUP(MID(GL$23,5,4)&$A30,Lista_Ubigeo!$J:$K,2,0),\" \")","v":"MANANTAY"},{"$f":"IFERROR(VLOOKUP(MID(GM$23,5,4)&$A30,Lista_Ubigeo!$J:$K,2,0),\" \")","v":" "},{"$f":"IFERROR(VLOOKUP(MID(GN$23,5,4)&$A30,Lista_Ubigeo!$J:$K,2,0),\" \")","v":" "},{"$f":"IFERROR(VLOOKUP(MID(GO$23,5,4)&$A30,Lista_Ubigeo!$J:$K,2,0),\" \")","v":" "},{"$f":"IFERROR(VLOOKUP(MID(GP$23,5,4)&$A30,Lista_Ubigeo!$J:$K,2,0),\" \")","v":"JOSE DIEGO CHOQUEHUANCA"}]
["08",{"$f":"IFERROR(VLOOKUP(MID(B$23,5,4)&$A31,Lista_Ubigeo!$J:$K,2,0),\" \")","v":"HUANCAS"},{"$f":"IFERROR(VLOOKUP(MID(C$23,5,4)&$A31,Lista_Ubigeo!$J:$K,2,0),\" \")","v":" "},{"$f":"IFERROR(VLOOKUP(MID(D$23,5,4)&$A31,Lista_Ubigeo!$J:$K,2,0),\" \")","v":"RECTA"},{"$f":"IFERROR(VLOOKUP(MID(E$23,5,4)&$A31,Lista_Ubigeo!$J:$K,2,0),\" \")","v":" "},{"$f":"IFERROR(VLOOKUP(MID(F$23,5,4)&$A31,Lista_Ubigeo!$J:$K,2,0),\" \")","v":"LONYA CHICO"},{"$f":"IFERROR(VLOOKUP(MID(G$23,5,4)&$A31,Lista_Ubigeo!$J:$K,2,0),\" \")","v":"MILPUC"},{"$f":"IFERROR(VLOOKUP(MID(H$23,5,4)&$A31,Lista_Ubigeo!$J:$K,2,0),\" \")","v":" "},{"$f":"IFERROR(VLOOKUP(MID(I$23,5,4)&$A31,Lista_Ubigeo!$J:$K,2,0),\" \")","v":"OLLEROS"},{"$f":"IFERROR(VLOOKUP(MID(J$23,5,4)&$A31,Lista_Ubigeo!$J:$K,2,0),\" \")","v":" "},{"$f":"IFERROR(VLOOKUP(MID(K$23,5,4)&$A31,Lista_Ubigeo!$J:$K,2,0),\" \")","v":" "},{"$f":"IFERROR(VLOOKUP(MID(L$23,5,4)&$A31,Lista_Ubigeo!$J:$K,2,0),\" \")","v":" "},{"$f":"IFERROR(VLOOKUP(MID(M$23,5,4)&$A31,Lista_Ubigeo!$J:$K,2,0),\" \")","v":"HUALLANCA"},{"$f":"IFERROR(VLOOKUP(MID(N$23,5,4)&$A31,Lista_Ubigeo!$J:$K,2,0),\" \")","v":"SAN MIGUEL DE ACO"},{"$f":"IFERROR(VLOOKUP(MID(O$23,5,4)&$A31,Lista_Ubigeo!$J:$K,2,0),\" \")","v":" "},{"$f":"IFERROR(VLOOKUP(MID(P$23,5,4)&$A31,Lista_Ubigeo!$J:$K,2,0),\" \")","v":" "},{"$f":"IFERROR(VLOOKUP(MID(Q$23,5,4)&$A31,Lista_Ubigeo!$J:$K,2,0),\" \")","v":" "},{"$f":"IFERROR(VLOOKUP(MID(R$23,5,4)&$A31,Lista_Ubigeo!$J:$K,2,0),\" \")","v":"HUANTAR"},{"$f":"IFERROR(VLOOKUP(MID(S$23,5,4)&$A31,Lista_Ubigeo!$J:$K,2,0),\" \")","v":" "},{"$f":"IFERROR(VLOOKUP(MID(T$23,5,4)&$A31,Lista_Ubigeo!$J:$K,2,0),\" \")","v":"SANTA CRUZ"},{"$f":"IFERROR(VLOOKUP(MID(U$23,5,4)&$A31,Lista_Ubigeo!$J:$K,2,0),\" \")","v":"MUSGA"},{"$f":"IFERROR(VLOOKUP(MID(V$23,5,4)&$A31,Lista_Ubigeo!$J:$K,2,0),\" \")","v":"SAN CRISTOBAL DE RAJAN"},{"$f":"IFERROR(VLOOKUP(MID(W$23,5,4)&$A31,Lista_Ubigeo!$J:$K,2,0),\" \")","v":"PALLASCA"},{"$f":"IFERROR(VLOOKUP(MID(X$23,5,4)&$A31,Lista_Ubigeo!$J:$K,2,0),\" \")","v":" "},{"$f":"IFERROR(VLOOKUP(MID(Y$23,5,4)&$A31,Lista_Ubigeo!$J:$K,2,0),\" \")","v":"PARARIN"},{"$f":"IFERROR(VLOOKUP(MID(Z$23,5,4)&$A31,Lista_Ubigeo!$J:$K,2,0),\" \")","v":"SANTA"},{"$f":"IFERROR(VLOOKUP(MID(AA$23,5,4)&$A31,Lista_Ubigeo!$J:$K,2,0),\" \")","v":"RAGASH"},{"$f":"IFERROR(VLOOKUP(MID(AB$23,5,4)&$A31,Lista_Ubigeo!$J:$K,2,0),\" \")","v":"YANAMA"},{"$f":"IFERROR(VLOOKUP(MID(AC$23,5,4)&$A31,Lista_Ubigeo!$J:$K,2,0),\" \")","v":"SAN PEDRO DE CACHORA"},{"$f":"IFERROR(VLOOKUP(MID(AD$23,5,4)&$A31,Lista_Ubigeo!$J:$K,2,0),\" \")","v":"PACOBAMBA"},{"$f":"IFERROR(VLOOKUP(MID(AE$23,5,4)&$A31,Lista_Ubigeo!$J:$K,2,0),\" \")","v":" "},{"$f":"IFERROR(VLOOKUP(MID(AF$23,5,4)&$A31,Lista_Ubigeo!$J:$K,2,0),\" \")","v":"JUSTO APU SAHUARAURA"},{"$f":"IFERROR(VLOOKUP(MID(AG$23,5,4)&$A31,Lista_Ubigeo!$J:$K,2,0),\" \")","v":" "},{"$f":"IFERROR(VLOOKUP(MID(AH$23,5,4)&$A31,Lista_Ubigeo!$J:$K,2,0),\" \")","v":"RANRACANCHA"},{"$f":"IFERROR(VLOOKUP(MID(AI$23,5,4)&$A31,Lista_Ubigeo!$J:$K,2,0),\" \")","v":"PROGRESO"},{"$f":"IFERROR(VLOOKUP(MID(AJ$23,5,4)&$A31,Lista_Ubigeo!$J:$K,2,0),\" \")","v":"LA JOYA"},{"$f":"IFERROR(VLOOKUP(MID(AK$23,5,4)&$A31,Lista_Ubigeo!$J:$K,2,0),\" \")","v":"SAMUEL PASTOR"},{"$f":"IFERROR(VLOOKUP(MID(AL$23,5,4)&$A31,Lista_Ubigeo!$J:$K,2,0),\" \")","v":"CHAPARRA"},{"$f":"IFERROR(VLOOKUP(MID(AM$23,5,4)&$A31,Lista_Ubigeo!$J:$K,2,0),\" \")","v":"MACHAGUAY"},{"$f":"IFERROR(VLOOKUP(MID(AN$23,5,4)&$A31,Lista_Ubigeo!$J:$K,2,0),\" \")","v":"HUANCA"},{"$f":"IFERROR(VLOOKUP(MID(AO$23,5,4)&$A31,Lista_Ubigeo!$J:$K,2,0),\" \")","v":"YANAQUIHUA"},{"$f":"IFERROR(VLOOKUP(MID(AP$23,5,4)&$A31,Lista_Ubigeo!$J:$K,2,0),\" \")","v":" "},{"$f":"IFERROR(VLOOKUP(MID(AQ$23,4,4)&$A31,Lista_Ubigeo!$J:$K,2,0),\" \")","v":"SAYLA"},{"$f":"IFERROR(VLOOKUP(MID(AR$23,5,4)&$A31,Lista_Ubigeo!$J:$K,2,0),\" \")","v":"QUINUA"},{"$f":"IFERROR(VLOOKUP(MID(AS$23,5,4)&$A31,Lista_Ubigeo!$J:$K,2,0),\" \")","v":" "},{"$f":"IFERROR(VLOOKUP(MID(AT$23,5,4)&$A31,Lista_Ubigeo!$J:$K,2,0),\" \")","v":" "},{"$f":"IFERROR(VLOOKUP(MID(AU$23,5,4)&$A31,Lista_Ubigeo!$J:$K,2,0),\" \")","v":"LLOCHEGUA"},{"$f":"IFERROR(VLOOKUP(MID(AV$23,5,4)&$A31,Lista_Ubigeo!$J:$K,2,0),\" \")","v":"TAMBO"},{"$f":"IFERROR(VLOOKUP(MID(AW$23,5,4)&$A31,Lista_Ubigeo!$J:$K,2,0),\" \")","v":"LARAMATE"},{"$f":"IFERROR(VLOOKUP(MID(AX$23,5,4)&$A31,Lista_Ubigeo!$J:$K,2,0),\" \")","v":"UPAHUACHO"},{"$f":"IFERROR(VLOOKUP(MID(AY$23,5,4)&$A31,Lista_Ubigeo!$J:$K,2,0),\" \")","v":"SAN JAVIER DE ALPABAMBA"},{"$f":"IFERROR(VLOOKUP(MID(AZ$23,5,4)&$A31,Lista_Ubigeo!$J:$K,2,0),\" \")","v":"SAN PEDRO DE LARCAY"},{"$f":"IFERROR(VLOOKUP(MID(BA$23,5,4)&$A31,Lista_Ubigeo!$J:$K,2,0),\" \")","v":"HUAMANQUIQUIA"},{"$f":"IFERROR(VLOOKUP(MID(BB$23,5,4)&$A31,Lista_Ubigeo!$J:$K,2,0),\" \")","v":"VISCHONGO"},{"$f":"IFERROR(VLOOKUP(MID(BC$23,5,4)&$A31,Lista_Ubigeo!$J:$K,2,0),\" \")","v":"LOS BAÑOS DEL INCA"},{"$f":"IFERROR(VLOOKUP(MID(BD$23,5,4)&$A31,Lista_Ubigeo!$J:$K,2,0),\" \")","v":" "},{"$f":"IFERROR(VLOOKUP(MID(BE$23,5,4)&$A31,Lista_Ubigeo!$J:$K,2,0),\" \")","v":"OXAMARCA"},{"$f":"IFERROR(VLOOKUP(MID(BF$23,5,4)&$A31,Lista_Ubigeo!$J:$K,2,0),\" \")","v":"CONCHAN"},{"$f":"IFERROR(VLOOKUP(MID(BG$23,5,4)&$A31,Lista_Ubigeo!$J:$K,2,0),\" \")","v":"YONAN"},{"$f":"IFERROR(VLOOKUP(MID(BH$23,5,4)&$A31,Lista_Ubigeo!$J:$K,2,0),\" \")","v":"SAN ANDRES DE CUTERVO"},{"$f":"IFERROR(VLOOKUP(MID(BI$23,5,4)&$A31,Lista_Ubigeo!$J:$K,2,0),\" \")","v":" "},{"$f":"IFERROR(VLOOKUP(MID(BJ$23,5,4)&$A31,Lista_Ubigeo!$J:$K,2,0),\" \")","v":"PUCARA"},{"$f":"IFERROR(VLOOKUP(MID(BK$23,5,4)&$A31,Lista_Ubigeo!$J:$K,2,0),\" \")","v":" "},{"$f":"IFERROR(VLOOKUP(MID(BL$23,5,4)&$A31,Lista_Ubigeo!$J:$K,2,0),\" \")","v":" "},{"$f":"IFERROR(VLOOKUP(MID(BM$23,5,4)&$A31,Lista_Ubigeo!$J:$K,2,0),\" \")","v":"NANCHOC"},{"$f":"IFERROR(VLOOKUP(MID(BN$23,5,4)&$A31,Lista_Ubigeo!$J:$K,2,0),\" \")","v":" "},{"$f":"IFERROR(VLOOKUP(MID(BO$23,5,4)&$A31,Lista_Ubigeo!$J:$K,2,0),\" \")","v":"SAUCEPAMPA"},{"$f":"IFERROR(VLOOKUP(MID(BP$23,5,4)&$A31,Lista_Ubigeo!$J:$K,2,0),\" \")","v":" "},{"$f":"IFERROR(VLOOKUP(MID(BQ$23,5,4)&$A31,Lista_Ubigeo!$J:$K,2,0),\" \")","v":"WANCHAQ"},{"$f":"IFERROR(VLOOKUP(MID(BR$23,5,4)&$A31,Lista_Ubigeo!$J:$K,2,0),\" \")","v":" "},{"$f":"IFERROR(VLOOKUP(MID(BS$23,5,4)&$A31,Lista_Ubigeo!$J:$K,2,0),\" \")","v":"PUCYURA"},{"$f":"IFERROR(VLOOKUP(MID(BT$23,5,4)&$A31,Lista_Ubigeo!$J:$K,2,0),\" \")","v":"YANATILE"},{"$f":"IFERROR(VLOOKUP(MID(BU$23,5,4)&$A31,Lista_Ubigeo!$J:$K,2,0),\" \")","v":"TUPAC AMARU"},{"$f":"IFERROR(VLOOKUP(MID(BV$23,5,4)&$A31,Lista_Ubigeo!$J:$K,2,0),\" \")","v":"TINTA"},{"$f":"IFERROR(VLOOKUP(MID(BW$23,5,4)&$A31,Lista_Ubigeo!$J:$K,2,0),\" \")","v":"VELILLE"},{"$f":"IFERROR(VLOOKUP(MID(BX$23,5,4)&$A31,Lista_Ubigeo!$J:$K,2,0),\" \")","v":"ALTO PICHIGUA"},{"$f":"IFERROR(VLOOKUP(MID(BY$23,4,4)&$A31,Lista_Ubigeo!$J:$K,2,0),\" \")","v":"SANTA TERESA"},{"$f":"IFERROR(VLOOKUP(MID(BZ$23,5,4)&$A31,Lista_Ubigeo!$J:$K,2,0),\" \")","v":"PILLPINTO"},{"$f":"IFERROR(VLOOKUP(MID(CA$23,5,4)&$A31,Lista_Ubigeo!$J:$K,2,0),\" \")","v":" "},{"$f":"IFERROR(VLOOKUP(MID(CB$23,5,4)&$A31,Lista_Ubigeo!$J:$K,2,0),\" \")","v":"LUCRE"},{"$f":"IFERROR(VLOOKUP(MID(CC$23,5,4)&$A31,Lista_Ubigeo!$J:$K,2,0),\" \")","v":" "},{"$f":"IFERROR(VLOOKUP(MID(CD$23,5,4)&$A31,Lista_Ubigeo!$J:$K,2,0),\" \")","v":"IZCUCHACA"},{"$f":"IFERROR(VLOOKUP(MID(CE$23,5,4)&$A31,Lista_Ubigeo!$J:$K,2,0),\" \")","v":"ROSARIO"},{"$f":"IFERROR(VLOOKUP(MID(CF$23,5,4)&$A31,Lista_Ubigeo!$J:$K,2,0),\" \")","v":"HUAYLLAY GRANDE"},{"$f":"IFERROR(VLOOKUP(MID(CG$23,5,4)&$A31,Lista_Ubigeo!$J:$K,2,0),\" \")","v":"HUAMATAMBO"},{"$f":"IFERROR(VLOOKUP(MID(CH$23,5,4)&$A31,Lista_Ubigeo!$J:$K,2,0),\" \")","v":"SAN MIGUEL DE MAYOCC"},{"$f":"IFERROR(VLOOKUP(MID(CI$23,5,4)&$A31,Lista_Ubigeo!$J:$K,2,0),\" \")","v":"QUERCO"},{"$f":"IFERROR(VLOOKUP(MID(CJ$23,5,4)&$A31,Lista_Ubigeo!$J:$K,2,0),\" \")","v":" "},{"$f":"IFERROR(VLOOKUP(MID(CK$23,5,4)&$A31,Lista_Ubigeo!$J:$K,2,0),\" \")","v":"SAN PEDRO DE CHAULAN"},{"$f":"IFERROR(VLOOKUP(MID(CL$23,5,4)&$A31,Lista_Ubigeo!$J:$K,2,0),\" \")","v":"TOMAY KICHWA"},{"$f":"IFERROR(VLOOKUP(MID(CM$23,5,4)&$A42,Lista_Ubigeo!$J:$K,2,0),\" \")","v":" "},{"$f":"IFERROR(VLOOKUP(MID(CN$23,5,4)&$A31,Lista_Ubigeo!$J:$K,2,0),\" \")","v":" "},{"$f":"IFERROR(VLOOKUP(MID(CO$23,5,4)&$A31,Lista_Ubigeo!$J:$K,2,0),\" \")","v":"PUNCHAO"},{"$f":"IFERROR(VLOOKUP(MID(CP$23,5,4)&$A31,Lista_Ubigeo!$J:$K,2,0),\" \")","v":"CASTILLO GRANDE"},{"$f":"IFERROR(VLOOKUP(MID(CQ$23,5,4)&$A31,Lista_Ubigeo!$J:$K,2,0),\" \")","v":" "},{"$f":"IFERROR(VLOOKUP(MID(CR$23,5,4)&$A31,Lista_Ubigeo!$J:$K,2,0),\" \")","v":" "},{"$f":"IFERROR(VLOOKUP(MID(CS$23,5,4)&$A31,Lista_Ubigeo!$J:$K,2,0),\" \")","v":" "},{"$f":"IFERROR(VLOOKUP(MID(CT$23,5,4)&$A31,Lista_Ubigeo!$J:$K,2,0),\" \")","v":" "},{"$f":"IFERROR(VLOOKUP(MID(CU$23,5,4)&$A31,Lista_Ubigeo!$J:$K,2,0),\" \")","v":"CHORAS"},{"$f":"IFERROR(VLOOKUP(MID(CV$23,5,4)&$A31,Lista_Ubigeo!$J:$K,2,0),\" \")","v":"SALAS"},{"$f":"IFERROR(VLOOKUP(MID(CW$23,5,4)&$A31,Lista_Ubigeo!$J:$K,2,0),\" \")","v":"SAN JUAN DE YANAC"},{"$f":"IFERROR(VLOOKUP(MID(CX$23,5,4)&$A31,Lista_Ubigeo!$J:$K,2,0),\" \")","v":" "},{"$f":"IFERROR(VLOOKUP(MID(CY$23,5,4)&$A31,Lista_Ubigeo!$J:$K,2,0),\" \")","v":" "},{"$f":"IFERROR(VLOOKUP(MID(CZ$23,5,4)&$A31,Lista_Ubigeo!$J:$K,2,0),\" \")","v":"TUPAC AMARU INCA"},{"$f":"IFERROR(VLOOKUP(MID(DA$23,5,4)&$A31,Lista_Ubigeo!$J:$K,2,0),\" \")","v":"CHONGOS ALTO"},{"$f":"IFERROR(VLOOKUP(MID(DB$23,5,4)&$A31,Lista_Ubigeo!$J:$K,2,0),\" \")","v":"MANZANARES"},{"$f":"IFERROR(VLOOKUP(MID(DC$23,5,4)&$A31,Lista_Ubigeo!$J:$K,2,0),\" \")","v":" "},{"$f":"IFERROR(VLOOKUP(MID(DD$23,5,4)&$A31,Lista_Ubigeo!$J:$K,2,0),\" \")","v":"HUAMALI"},{"$f":"IFERROR(VLOOKUP(MID(DE$23,5,4)&$A31,Lista_Ubigeo!$J:$K,2,0),\" \")","v":" "},{"$f":"IFERROR(VLOOKUP(MID(DF$23,5,4)&$A31,Lista_Ubigeo!$J:$K,2,0),\" \")","v":"RIO TAMBO"},{"$f":"IFERROR(VLOOKUP(MID(DG$23,5,4)&$A31,Lista_Ubigeo!$J:$K,2,0),\" \")","v":"SAN PEDRO DE CAJAS"},{"$f":"IFERROR(VLOOKUP(MID(DH$23,5,4)&$A31,Lista_Ubigeo!$J:$K,2,0),\" \")","v":"SANTA ROSA DE SACCO"},{"$f":"IFERROR(VLOOKUP(MID(DI$23,5,4)&$A31,Lista_Ubigeo!$J:$K,2,0),\" \")","v":"TRES DE DICIEMBRE"},{"$f":"IFERROR(VLOOKUP(MID(DJ$23,5,4)&$A31,Lista_Ubigeo!$J:$K,2,0),\" \")","v":"POROTO"},{"$f":"IFERROR(VLOOKUP(MID(DK$23,5,4)&$A31,Lista_Ubigeo!$J:$K,2,0),\" \")","v":"CASA GRANDE"},{"$f":"IFERROR(VLOOKUP(MID(DL$23,5,4)&$A31,Lista_Ubigeo!$J:$K,2,0),\" \")","v":" "},{"$f":"IFERROR(VLOOKUP(MID(DM$23,5,4)&$A31,Lista_Ubigeo!$J:$K,2,0),\" \")","v":" "},{"$f":"IFERROR(VLOOKUP(MID(DN$23,5,4)&$A31,Lista_Ubigeo!$J:$K,2,0),\" \")","v":" "},{"$f":"IFERROR(VLOOKUP(MID(DO$23,5,4)&$A32,Lista_Ubigeo!$J:$K,2,0),\" \")","v":" "},{"$f":"IFERROR(VLOOKUP(MID(DP$23,5,4)&$A31,Lista_Ubigeo!$J:$K,2,0),\" \")","v":" "},{"$f":"IFERROR(VLOOKUP(MID(DQ$23,5,4)&$A31,Lista_Ubigeo!$J:$K,2,0),\" \")","v":"PARCOY"},{"$f":"IFERROR(VLOOKUP(MID(DR$23,5,4)&$A31,Lista_Ubigeo!$J:$K,2,0),\" \")","v":"SARTIMBAMBA"},{"$f":"IFERROR(VLOOKUP(MID(DS$23,5,4)&$A31,Lista_Ubigeo!$J:$K,2,0),\" \")","v":"SITABAMBA"},null,null,{"$f":"IFERROR(VLOOKUP(MID(DV$23,5,4)&$A31,Lista_Ubigeo!$J:$K,2,0),\" \")","v":"MONSEFU"},{"$f":"IFERROR(VLOOKUP(MID(DW$23,5,4)&$A31,Lista_Ubigeo!$J:$K,2,0),\" \")","v":" "},{"$f":"IFERROR(VLOOKUP(MID(DX$23,5,4)&$A31,Lista_Ubigeo!$J:$K,2,0),\" \")","v":"OLMOS"},{"$f":"IFERROR(VLOOKUP(MID(DY$23,5,4)&$A31,Lista_Ubigeo!$J:$K,2,0),\" \")","v":"CHORRILLOS"},{"$f":"IFERROR(VLOOKUP(MID(DZ$23,5,4)&$A31,Lista_Ubigeo!$J:$K,2,0),\" \")","v":" "},{"$f":"IFERROR(VLOOKUP(MID(EA$23,5,4)&$A31,Lista_Ubigeo!$J:$K,2,0),\" \")","v":" "},{"$f":"IFERROR(VLOOKUP(MID(EB$23,5,4)&$A31,Lista_Ubigeo!$J:$K,2,0),\" \")","v":" "},{"$f":"IFERROR(VLOOKUP(MID(EC$23,5,4)&$A31,Lista_Ubigeo!$J:$K,2,0),\" \")","v":"LUNAHUANA"},{"$f":"IFERROR(VLOOKUP(MID(ED$23,5,4)&$A31,Lista_Ubigeo!$J:$K,2,0),\" \")","v":"PACARAOS"},{"$f":"IFERROR(VLOOKUP(MID(EE$23,5,4)&$A31,Lista_Ubigeo!$J:$K,2,0),\" \")","v":"HUANZA"},{"$f":"IFERROR(VLOOKUP(MID(EF$23,5,4)&$A31,Lista_Ubigeo!$J:$K,2,0),\" \")","v":"PACCHO"},{"$f":"IFERROR(VLOOKUP(MID(EG$23,5,4)&$A31,Lista_Ubigeo!$J:$K,2,0),\" \")","v":" "},{"$f":"IFERROR(VLOOKUP(MID(EH$23,5,4)&$A31,Lista_Ubigeo!$J:$K,2,0),\" \")","v":"CATAHUASI"},{"$f":"IFERROR(VLOOKUP(MID(EI$23,5,4)&$A31,Lista_Ubigeo!$J:$K,2,0),\" \")","v":"PUNCHANA"},{"$f":"IFERROR(VLOOKUP(MID(EJ$23,5,4)&$A36,Lista_Ubigeo!$J:$K,2,0),\" \")","v":" "},{"$f":"IFERROR(VLOOKUP(MID(EK$23,5,4)&$A31,Lista_Ubigeo!$J:$K,2,0),\" \")","v":" "},{"$f":"IFERROR(VLOOKUP(MID(EL$23,5,4)&$A31,Lista_Ubigeo!$J:$K,2,0),\" \")","v":" "},{"$f":"IFERROR(VLOOKUP(MID(EM$23,5,4)&$A31,Lista_Ubigeo!$J:$K,2,0),\" \")","v":"SOPLIN"},{"$f":"IFERROR(VLOOKUP(MID(EN$23,5,4)&$A31,Lista_Ubigeo!$J:$K,2,0),\" \")","v":" "},{"$f":"IFERROR(VLOOKUP(MID(EO$23,5,4)&$A31,Lista_Ubigeo!$J:$K,2,0),\" \")","v":" "},{"$f":"IFERROR(VLOOKUP(MID(EP$23,5,4)&$A31,Lista_Ubigeo!$J:$K,2,0),\" \")","v":" "},{"$f":"IFERROR(VLOOKUP(MID(EQ$23,5,4)&$A31,Lista_Ubigeo!$J:$K,2,0),\" \")","v":" "},{"$f":"IFERROR(VLOOKUP(MID(ER$23,5,4)&$A31,Lista_Ubigeo!$J:$K,2,0),\" \")","v":" "},{"$f":"IFERROR(VLOOKUP(MID(ES$23,5,4)&$A31,Lista_Ubigeo!$J:$K,2,0),\" \")","v":" "},{"$f":"IFERROR(VLOOKUP(MID(ET$23,5,4)&$A31,Lista_Ubigeo!$J:$K,2,0),\" \")","v":" "},{"$f":"IFERROR(VLOOKUP(MID(EU$23,5,4)&$A31,Lista_Ubigeo!$J:$K,2,0),\" \")","v":"PUQUINA"},{"$f":"IFERROR(VLOOKUP(MID(EV$23,5,4)&$A31,Lista_Ubigeo!$J:$K,2,0),\" \")","v":" "},{"$f":"IFERROR(VLOOKUP(MID(EW$23,5,4)&$A31,Lista_Ubigeo!$J:$K,2,0),\" \")","v":"SAN FRANCISCO DE ASIS DE YARUSYACAN"},{"$f":"IFERROR(VLOOKUP(MID(EX$23,5,4)&$A31,Lista_Ubigeo!$J:$K,2,0),\" \")","v":"VILCABAMBA"},{"$f":"IFERROR(VLOOKUP(MID(EY$23,5,4)&$A31,Lista_Ubigeo!$J:$K,2,0),\" \")","v":"CONSTITUCION"},{"$f":"IFERROR(VLOOKUP(MID(EZ$23,5,4)&$A34,Lista_Ubigeo!$J:$K,2,0),\" \")","v":"LAS LOMAS"},{"$f":"IFERROR(VLOOKUP(MID(FA$23,5,4)&$A31,Lista_Ubigeo!$J:$K,2,0),\" \")","v":"SAPILLICA"},{"$f":"IFERROR(VLOOKUP(MID(FB$23,5,4)&$A31,Lista_Ubigeo!$J:$K,2,0),\" \")","v":"SONDORILLO"},{"$f":"IFERROR(VLOOKUP(MID(FC$23,5,4)&$A31,Lista_Ubigeo!$J:$K,2,0),\" \")","v":"SANTA CATALINA DE MOSSA"},{"$f":"IFERROR(VLOOKUP(MID(FD$23,5,4)&$A31,Lista_Ubigeo!$J:$K,2,0),\" \")","v":" "},{"$f":"IFERROR(VLOOKUP(MID(FE$23,5,4)&$A31,Lista_Ubigeo!$J:$K,2,0),\" \")","v":"SALITRAL"},{"$f":"IFERROR(VLOOKUP(MID(FF$23,5,4)&$A31,Lista_Ubigeo!$J:$K,2,0),\" \")","v":" "},{"$f":"IFERROR(VLOOKUP(MID(FG$23,5,4)&$A31,Lista_Ubigeo!$J:$K,2,0),\" \")","v":" "},{"$f":"IFERROR(VLOOKUP(MID(FH$23,5,4)&$A31,Lista_Ubigeo!$J:$K,2,0),\" \")","v":"HUATA"},{"$f":"IFERROR(VLOOKUP(MID(FI$23,5,4)&$A31,Lista_Ubigeo!$J:$K,2,0),\" \")","v":"MUNANI"},{"$f":"IFERROR(VLOOKUP(MID(FJ$23,5,4)&$A31,Lista_Ubigeo!$J:$K,2,0),\" \")","v":"OLLACHEA"},{"$f":"IFERROR(VLOOKUP(MID(FK$23,5,4)&$A31,Lista_Ubigeo!$J:$K,2,0),\" \")","v":" "},{"$f":"IFERROR(VLOOKUP(MID(FL$23,5,4)&$A31,Lista_Ubigeo!$J:$K,2,0),\" \")","v":" "},{"$f":"IFERROR(VLOOKUP(MID(FM$23,5,4)&$A31,Lista_Ubigeo!$J:$K,2,0),\" \")","v":"VILQUE CHICO"},{"$f":"IFERROR(VLOOKUP(MID(FN$23,5,4)&$A31,Lista_Ubigeo!$J:$K,2,0),\" \")","v":"PUCARA"},{"$f":"IFERROR(VLOOKUP(MID(FO$23,5,4)&$A31,Lista_Ubigeo!$J:$K,2,0),\" \")","v":"SANTA ROSA"},{"$f":"IFERROR(VLOOKUP(MID(FP$23,5,4)&$A31,Lista_Ubigeo!$J:$K,2,0),\" \")","v":" "},{"$f":"IFERROR(VLOOKUP(MID(FQ$23,5,4)&$A31,Lista_Ubigeo!$J:$K,2,0),\" \")","v":" "},{"$f":"IFERROR(VLOOKUP(MID(FR$23,5,4)&$A31,Lista_Ubigeo!$J:$K,2,0),\" \")","v":" "},{"$f":"IFERROR(VLOOKUP(MID(FS$23,5,4)&$A31,Lista_Ubigeo!$J:$K,2,0),\" \")","v":"YANAHUAYA"},{"$f":"IFERROR(VLOOKUP(MID(FT$23,5,4)&$A31,Lista_Ubigeo!$J:$K,2,0),\" \")","v":" "},{"$f":"IFERROR(VLOOKUP(MID(FU$23,5,4)&$A31,Lista_Ubigeo!$J:$K,2,0),\" \")","v":" "},{"$f":"IFERROR(VLOOKUP(MID(FV$23,5,4)&$A31,Lista_Ubigeo!$J:$K,2,0),\" \")","v":" "},{"$f":"IFERROR(VLOOKUP(MID(FW$23,5,4)&$A31,Lista_Ubigeo!$J:$K,2,0),\" \")","v":" "},{"$f":"IFERROR(VLOOKUP(MID(FX$23,5,4)&$A31,Lista_Ubigeo!$J:$K,2,0),\" \")","v":" "},{"$f":"IFERROR(VLOOKUP(MID(FY$23,5,4)&$A31,Lista_Ubigeo!$J:$K,2,0),\" \")","v":"SAN ROQUE DE CUMBAZA"},{"$f":"IFERROR(VLOOKUP(MID(FZ$23,5,4)&$A31,Lista_Ubigeo!$J:$K,2,0),\" \")","v":" "},{"$f":"IFERROR(VLOOKUP(MID(GA$23,5,4)&$A31,Lista_Ubigeo!$J:$K,2,0),\" \")","v":"SHAMBOYACU"},{"$f":"IFERROR(VLOOKUP(MID(GB$23,5,4)&$A31,Lista_Ubigeo!$J:$K,2,0),\" \")","v":"YORONGOS"},{"$f":"IFERROR(VLOOKUP(MID(GC$23,5,4)&$A31,Lista_Ubigeo!$J:$K,2,0),\" \")","v":"JUAN GUERRA"},{"$f":"IFERROR(VLOOKUP(MID(GD$23,5,4)&$A31,Lista_Ubigeo!$J:$K,2,0),\" \")","v":" "},{"$f":"IFERROR(VLOOKUP(MID(GE$23,5,4)&$A31,Lista_Ubigeo!$J:$K,2,0),\" \")","v":"POCOLLAY"},{"$f":"IFERROR(VLOOKUP(MID(GF$23,5,4)&$A31,Lista_Ubigeo!$J:$K,2,0),\" \")","v":" "},{"$f":"IFERROR(VLOOKUP(MID(GG$23,5,4)&$A31,Lista_Ubigeo!$J:$K,2,0),\" \")","v":" "},{"$f":"IFERROR(VLOOKUP(MID(GH$23,5,4)&$A31,Lista_Ubigeo!$J:$K,2,0),\" \")","v":"TICACO"},{"$f":"IFERROR(VLOOKUP(MID(GI$23,5,4)&$A31,Lista_Ubigeo!$J:$K,2,0),\" \")","v":" "},{"$f":"IFERROR(VLOOKUP(MID(GJ$23,5,4)&$A31,Lista_Ubigeo!$J:$K,2,0),\" \")","v":" "},{"$f":"IFERROR(VLOOKUP(MID(GK$23,5,4)&$A31,Lista_Ubigeo!$J:$K,2,0),\" \")","v":" "},{"$f":"IFERROR(VLOOKUP(MID(GL$23,5,4)&$A31,Lista_Ubigeo!$J:$K,2,0),\" \")","v":" "},{"$f":"IFERROR(VLOOKUP(MID(GM$23,5,4)&$A31,Lista_Ubigeo!$J:$K,2,0),\" \")","v":" "},{"$f":"IFERROR(VLOOKUP(MID(GN$23,5,4)&$A31,Lista_Ubigeo!$J:$K,2,0),\" \")","v":" "},{"$f":"IFERROR(VLOOKUP(MID(GO$23,5,4)&$A31,Lista_Ubigeo!$J:$K,2,0),\" \")","v":" "},{"$f":"IFERROR(VLOOKUP(MID(GP$23,5,4)&$A31,Lista_Ubigeo!$J:$K,2,0),\" \")","v":"MUNANI"}]
["09",{"$f":"IFERROR(VLOOKUP(MID(B$23,5,4)&$A32,Lista_Ubigeo!$J:$K,2,0),\" \")","v":"LA JALCA"},{"$f":"IFERROR(VLOOKUP(MID(C$23,5,4)&$A32,Lista_Ubigeo!$J:$K,2,0),\" \")","v":" "},{"$f":"IFERROR(VLOOKUP(MID(D$23,5,4)&$A32,Lista_Ubigeo!$J:$K,2,0),\" \")","v":"SAN CARLOS"},{"$f":"IFERROR(VLOOKUP(MID(E$23,5,4)&$A32,Lista_Ubigeo!$J:$K,2,0),\" \")","v":" "},{"$f":"IFERROR(VLOOKUP(MID(F$23,5,4)&$A32,Lista_Ubigeo!$J:$K,2,0),\" \")","v":"LUYA"},{"$f":"IFERROR(VLOOKUP(MID(G$23,5,4)&$A32,Lista_Ubigeo!$J:$K,2,0),\" \")","v":"OMIA"},{"$f":"IFERROR(VLOOKUP(MID(H$23,5,4)&$A32,Lista_Ubigeo!$J:$K,2,0),\" \")","v":" "},{"$f":"IFERROR(VLOOKUP(MID(I$23,5,4)&$A32,Lista_Ubigeo!$J:$K,2,0),\" \")","v":"PAMPAS GRANDE"},{"$f":"IFERROR(VLOOKUP(MID(J$23,5,4)&$A32,Lista_Ubigeo!$J:$K,2,0),\" \")","v":" "},{"$f":"IFERROR(VLOOKUP(MID(K$23,5,4)&$A32,Lista_Ubigeo!$J:$K,2,0),\" \")","v":" "},{"$f":"IFERROR(VLOOKUP(MID(L$23,5,4)&$A32,Lista_Ubigeo!$J:$K,2,0),\" \")","v":" "},{"$f":"IFERROR(VLOOKUP(MID(M$23,5,4)&$A32,Lista_Ubigeo!$J:$K,2,0),\" \")","v":"HUASTA"},{"$f":"IFERROR(VLOOKUP(MID(N$23,5,4)&$A32,Lista_Ubigeo!$J:$K,2,0),\" \")","v":"SHILLA"},{"$f":"IFERROR(VLOOKUP(MID(O$23,5,4)&$A32,Lista_Ubigeo!$J:$K,2,0),\" \")","v":" "},{"$f":"IFERROR(VLOOKUP(MID(P$23,5,4)&$A32,Lista_Ubigeo!$J:$K,2,0),\" \")","v":" "},{"$f":"IFERROR(VLOOKUP(MID(Q$23,5,4)&$A32,Lista_Ubigeo!$J:$K,2,0),\" \")","v":" "},{"$f":"IFERROR(VLOOKUP(MID(R$23,5,4)&$A32,Lista_Ubigeo!$J:$K,2,0),\" \")","v":"MASIN"},{"$f":"IFERROR(VLOOKUP(MID(S$23,5,4)&$A32,Lista_Ubigeo!$J:$K,2,0),\" \")","v":" "},{"$f":"IFERROR(VLOOKUP(MID(T$23,5,4)&$A32,Lista_Ubigeo!$J:$K,2,0),\" \")","v":"SANTO TORIBIO"},{"$f":"IFERROR(VLOOKUP(MID(U$23,5,4)&$A32,Lista_Ubigeo!$J:$K,2,0),\" \")","v":" "},{"$f":"IFERROR(VLOOKUP(MID(V$23,5,4)&$A32,Lista_Ubigeo!$J:$K,2,0),\" \")","v":"SAN PEDRO"},{"$f":"IFERROR(VLOOKUP(MID(W$23,5,4)&$A32,Lista_Ubigeo!$J:$K,2,0),\" \")","v":"PAMPAS"},{"$f":"IFERROR(VLOOKUP(MID(X$23,5,4)&$A32,Lista_Ubigeo!$J:$K,2,0),\" \")","v":" "},{"$f":"IFERROR(VLOOKUP(MID(Y$23,5,4)&$A32,Lista_Ubigeo!$J:$K,2,0),\" \")","v":"TAPACOCHA"},{"$f":"IFERROR(VLOOKUP(MID(Z$23,5,4)&$A32,Lista_Ubigeo!$J:$K,2,0),\" \")","v":"NUEVO CHIMBOTE"},{"$f":"IFERROR(VLOOKUP(MID(AA$23,5,4)&$A32,Lista_Ubigeo!$J:$K,2,0),\" \")","v":"SAN JUAN"},{"$f":"IFERROR(VLOOKUP(MID(AB$23,5,4)&$A32,Lista_Ubigeo!$J:$K,2,0),\" \")","v":" "},{"$f":"IFERROR(VLOOKUP(MID(AC$23,5,4)&$A32,Lista_Ubigeo!$J:$K,2,0),\" \")","v":"TAMBURCO"},{"$f":"IFERROR(VLOOKUP(MID(AD$23,5,4)&$A32,Lista_Ubigeo!$J:$K,2,0),\" \")","v":"PACUCHA"},{"$f":"IFERROR(VLOOKUP(MID(AE$23,5,4)&$A32,Lista_Ubigeo!$J:$K,2,0),\" \")","v":" "},{"$f":"IFERROR(VLOOKUP(MID(AF$23,5,4)&$A32,Lista_Ubigeo!$J:$K,2,0),\" \")","v":"LUCRE"},{"$f":"IFERROR(VLOOKUP(MID(AG$23,5,4)&$A32,Lista_Ubigeo!$J:$K,2,0),\" \")","v":" "},{"$f":"IFERROR(VLOOKUP(MID(AH$23,5,4)&$A32,Lista_Ubigeo!$J:$K,2,0),\" \")","v":"ROCCHACC"},{"$f":"IFERROR(VLOOKUP(MID(AI$23,5,4)&$A32,Lista_Ubigeo!$J:$K,2,0),\" \")","v":"SAN ANTONIO"},{"$f":"IFERROR(VLOOKUP(MID(AJ$23,5,4)&$A32,Lista_Ubigeo!$J:$K,2,0),\" \")","v":"MARIANO MELGAR"},{"$f":"IFERROR(VLOOKUP(MID(AK$23,5,4)&$A32,Lista_Ubigeo!$J:$K,2,0),\" \")","v":" "},{"$f":"IFERROR(VLOOKUP(MID(AL$23,5,4)&$A32,Lista_Ubigeo!$J:$K,2,0),\" \")","v":"HUANUHUANU"},{"$f":"IFERROR(VLOOKUP(MID(AM$23,5,4)&$A32,Lista_Ubigeo!$J:$K,2,0),\" \")","v":"ORCOPAMPA"},{"$f":"IFERROR(VLOOKUP(MID(AN$23,5,4)&$A32,Lista_Ubigeo!$J:$K,2,0),\" \")","v":"ICHUPAMPA"},{"$f":"IFERROR(VLOOKUP(MID(AO$23,5,4)&$A32,Lista_Ubigeo!$J:$K,2,0),\" \")","v":" "},{"$f":"IFERROR(VLOOKUP(MID(AP$23,5,4)&$A32,Lista_Ubigeo!$J:$K,2,0),\" \")","v":" "},{"$f":"IFERROR(VLOOKUP(MID(AQ$23,4,4)&$A32,Lista_Ubigeo!$J:$K,2,0),\" \")","v":"TAURIA"},{"$f":"IFERROR(VLOOKUP(MID(AR$23,5,4)&$A32,Lista_Ubigeo!$J:$K,2,0),\" \")","v":"SAN JOSE DE TICLLAS"},{"$f":"IFERROR(VLOOKUP(MID(AS$23,5,4)&$A32,Lista_Ubigeo!$J:$K,2,0),\" \")","v":" "},{"$f":"IFERROR(VLOOKUP(MID(AT$23,5,4)&$A32,Lista_Ubigeo!$J:$K,2,0),\" \")","v":" "},{"$f":"IFERROR(VLOOKUP(MID(AU$23,5,4)&$A32,Lista_Ubigeo!$J:$K,2,0),\" \")","v":"CANAYRE"},{"$f":"IFERROR(VLOOKUP(MID(AV$23,5,4)&$A32,Lista_Ubigeo!$J:$K,2,0),\" \")","v":"SAMUGARI"},{"$f":"IFERROR(VLOOKUP(MID(AW$23,5,4)&$A32,Lista_Ubigeo!$J:$K,2,0),\" \")","v":"LEONCIO PRADO"},{"$f":"IFERROR(VLOOKUP(MID(AX$23,5,4)&$A32,Lista_Ubigeo!$J:$K,2,0),\" \")","v":" "},{"$f":"IFERROR(VLOOKUP(MID(AY$23,5,4)&$A32,Lista_Ubigeo!$J:$K,2,0),\" \")","v":"SAN JOSE DE USHUA"},{"$f":"IFERROR(VLOOKUP(MID(AZ$23,5,4)&$A32,Lista_Ubigeo!$J:$K,2,0),\" \")","v":"SAN SALVADOR DE QUIJE"},{"$f":"IFERROR(VLOOKUP(MID(BA$23,5,4)&$A32,Lista_Ubigeo!$J:$K,2,0),\" \")","v":"HUANCARAYLLA"},{"$f":"IFERROR(VLOOKUP(MID(BB$23,5,4)&$A32,Lista_Ubigeo!$J:$K,2,0),\" \")","v":" "},{"$f":"IFERROR(VLOOKUP(MID(BC$23,5,4)&$A32,Lista_Ubigeo!$J:$K,2,0),\" \")","v":"MAGDALENA"},{"$f":"IFERROR(VLOOKUP(MID(BD$23,5,4)&$A32,Lista_Ubigeo!$J:$K,2,0),\" \")","v":" "},{"$f":"IFERROR(VLOOKUP(MID(BE$23,5,4)&$A32,Lista_Ubigeo!$J:$K,2,0),\" \")","v":"SOROCHUCO"},{"$f":"IFERROR(VLOOKUP(MID(BF$23,5,4)&$A32,Lista_Ubigeo!$J:$K,2,0),\" \")","v":"HUAMBOS"},{"$f":"IFERROR(VLOOKUP(MID(BG$23,5,4)&$A32,Lista_Ubigeo!$J:$K,2,0),\" \")","v":" "},{"$f":"IFERROR(VLOOKUP(MID(BH$23,5,4)&$A32,Lista_Ubigeo!$J:$K,2,0),\" \")","v":"SAN JUAN DE CUTERVO"},{"$f":"IFERROR(VLOOKUP(MID(BI$23,5,4)&$A32,Lista_Ubigeo!$J:$K,2,0),\" \")","v":" "},{"$f":"IFERROR(VLOOKUP(MID(BJ$23,5,4)&$A32,Lista_Ubigeo!$J:$K,2,0),\" \")","v":"SALLIQUE"},{"$f":"IFERROR(VLOOKUP(MID(BK$23,5,4)&$A32,Lista_Ubigeo!$J:$K,2,0),\" \")","v":" "},{"$f":"IFERROR(VLOOKUP(MID(BL$23,5,4)&$A32,Lista_Ubigeo!$J:$K,2,0),\" \")","v":" "},{"$f":"IFERROR(VLOOKUP(MID(BM$23,5,4)&$A32,Lista_Ubigeo!$J:$K,2,0),\" \")","v":"NIEPOS"},{"$f":"IFERROR(VLOOKUP(MID(BN$23,5,4)&$A32,Lista_Ubigeo!$J:$K,2,0),\" \")","v":" "},{"$f":"IFERROR(VLOOKUP(MID(BO$23,5,4)&$A32,Lista_Ubigeo!$J:$K,2,0),\" \")","v":"SEXI"},{"$f":"IFERROR(VLOOKUP(MID(BP$23,5,4)&$A32,Lista_Ubigeo!$J:$K,2,0),\" \")","v":" "},{"$f":"IFERROR(VLOOKUP(MID(BQ$23,5,4)&$A32,Lista_Ubigeo!$J:$K,2,0),\" \")","v":"QUILLABAMBA"},{"$f":"IFERROR(VLOOKUP(MID(BR$23,5,4)&$A32,Lista_Ubigeo!$J:$K,2,0),\" \")","v":" "},{"$f":"IFERROR(VLOOKUP(MID(BS$23,5,4)&$A32,Lista_Ubigeo!$J:$K,2,0),\" \")","v":"ZURITE"},{"$f":"IFERROR(VLOOKUP(MID(BT$23,5,4)&$A32,Lista_Ubigeo!$J:$K,2,0),\" \")","v":" "},{"$f":"IFERROR(VLOOKUP(MID(BU$23,5,4)&$A32,Lista_Ubigeo!$J:$K,2,0),\" \")","v":" "},{"$f":"IFERROR(VLOOKUP(MID(BV$23,5,4)&$A32,Lista_Ubigeo!$J:$K,2,0),\" \")","v":" "},{"$f":"IFERROR(VLOOKUP(MID(BW$23,5,4)&$A32,Lista_Ubigeo!$J:$K,2,0),\" \")","v":" "},{"$f":"IFERROR(VLOOKUP(MID(BX$23,5,4)&$A32,Lista_Ubigeo!$J:$K,2,0),\" \")","v":" "},{"$f":"IFERROR(VLOOKUP(MID(BY$23,4,4)&$A32,Lista_Ubigeo!$J:$K,2,0),\" \")","v":"VILCABAMBA"},{"$f":"IFERROR(VLOOKUP(MID(BZ$23,5,4)&$A32,Lista_Ubigeo!$J:$K,2,0),\" \")","v":"YAURISQUE"},{"$f":"IFERROR(VLOOKUP(MID(CA$23,5,4)&$A32,Lista_Ubigeo!$J:$K,2,0),\" \")","v":" "},{"$f":"IFERROR(VLOOKUP(MID(CB$23,5,4)&$A32,Lista_Ubigeo!$J:$K,2,0),\" \")","v":"MARCAPATA"},{"$f":"IFERROR(VLOOKUP(MID(CC$23,5,4)&$A32,Lista_Ubigeo!$J:$K,2,0),\" \")","v":" "},{"$f":"IFERROR(VLOOKUP(MID(CD$23,5,4)&$A32,Lista_Ubigeo!$J:$K,2,0),\" \")","v":"LARIA"},{"$f":"IFERROR(VLOOKUP(MID(CE$23,5,4)&$A32,Lista_Ubigeo!$J:$K,2,0),\" \")","v":" "},{"$f":"IFERROR(VLOOKUP(MID(CF$23,5,4)&$A32,Lista_Ubigeo!$J:$K,2,0),\" \")","v":"JULCAMARCA"},{"$f":"IFERROR(VLOOKUP(MID(CG$23,5,4)&$A32,Lista_Ubigeo!$J:$K,2,0),\" \")","v":"MOLLEPAMPA"},{"$f":"IFERROR(VLOOKUP(MID(CH$23,5,4)&$A32,Lista_Ubigeo!$J:$K,2,0),\" \")","v":"SAN PEDRO DE CORIS"},{"$f":"IFERROR(VLOOKUP(MID(CI$23,5,4)&$A32,Lista_Ubigeo!$J:$K,2,0),\" \")","v":"QUITO-ARMA"},{"$f":"IFERROR(VLOOKUP(MID(CJ$23,5,4)&$A32,Lista_Ubigeo!$J:$K,2,0),\" \")","v":"HUARIBAMBA"},{"$f":"IFERROR(VLOOKUP(MID(CK$23,5,4)&$A32,Lista_Ubigeo!$J:$K,2,0),\" \")","v":"SANTA MARIA DEL VALLE"},{"$f":"IFERROR(VLOOKUP(MID(CL$23,5,4)&$A32,Lista_Ubigeo!$J:$K,2,0),\" \")","v":" "},{"$f":"IFERROR(VLOOKUP(MID(CM$23,5,4)&$A43,Lista_Ubigeo!$J:$K,2,0),\" \")","v":" "},{"$f":"IFERROR(VLOOKUP(MID(CN$23,5,4)&$A32,Lista_Ubigeo!$J:$K,2,0),\" \")","v":" "},{"$f":"IFERROR(VLOOKUP(MID(CO$23,5,4)&$A32,Lista_Ubigeo!$J:$K,2,0),\" \")","v":"PUÑOS"},{"$f":"IFERROR(VLOOKUP(MID(CP$23,5,4)&$A32,Lista_Ubigeo!$J:$K,2,0),\" \")","v":"PUEBLO NUEVO"},{"$f":"IFERROR(VLOOKUP(MID(CQ$23,5,4)&$A32,Lista_Ubigeo!$J:$K,2,0),\" \")","v":" "},{"$f":"IFERROR(VLOOKUP(MID(CR$23,5,4)&$A32,Lista_Ubigeo!$J:$K,2,0),\" \")","v":" "},{"$f":"IFERROR(VLOOKUP(MID(CS$23,5,4)&$A32,Lista_Ubigeo!$J:$K,2,0),\" \")","v":" "},{"$f":"IFERROR(VLOOKUP(MID(CT$23,5,4)&$A32,Lista_Ubigeo!$J:$K,2,0),\" \")","v":" "},{"$f":"IFERROR(VLOOKUP(MID(CU$23,5,4)&$A32,Lista_Ubigeo!$J:$K,2,0),\" \")","v":" "},{"$f":"IFERROR(VLOOKUP(MID(CV$23,5,4)&$A32,Lista_Ubigeo!$J:$K,2,0),\" \")","v":"SAN JOSE DE LOS MOLINOS"},{"$f":"IFERROR(VLOOKUP(MID(CW$23,5,4)&$A32,Lista_Ubigeo!$J:$K,2,0),\" \")","v":"SAN PEDRO DE HUACARPANA"},{"$f":"IFERROR(VLOOKUP(MID(CX$23,5,4)&$A32,Lista_Ubigeo!$J:$K,2,0),\" \")","v":" "},{"$f":"IFERROR(VLOOKUP(MID(CY$23,5,4)&$A32,Lista_Ubigeo!$J:$K,2,0),\" \")","v":" "},{"$f":"IFERROR(VLOOKUP(MID(CZ$23,5,4)&$A32,Lista_Ubigeo!$J:$K,2,0),\" \")","v":" "},{"$f":"IFERROR(VLOOKUP(MID(DA$23,5,4)&$A32,Lista_Ubigeo!$J:$K,2,0),\" \")","v":" "},{"$f":"IFERROR(VLOOKUP(MID(DB$23,5,4)&$A32,Lista_Ubigeo!$J:$K,2,0),\" \")","v":"MARISCAL CASTILLA"},{"$f":"IFERROR(VLOOKUP(MID(DC$23,5,4)&$A32,Lista_Ubigeo!$J:$K,2,0),\" \")","v":" "},{"$f":"IFERROR(VLOOKUP(MID(DD$23,5,4)&$A32,Lista_Ubigeo!$J:$K,2,0),\" \")","v":"HUARIPAMPA"},{"$f":"IFERROR(VLOOKUP(MID(DE$23,5,4)&$A32,Lista_Ubigeo!$J:$K,2,0),\" \")","v":" "},{"$f":"IFERROR(VLOOKUP(MID(DF$23,5,4)&$A32,Lista_Ubigeo!$J:$K,2,0),\" \")","v":"VIZCATAN DEL ENE"},{"$f":"IFERROR(VLOOKUP(MID(DG$23,5,4)&$A32,Lista_Ubigeo!$J:$K,2,0),\" \")","v":"TAPO"},{"$f":"IFERROR(VLOOKUP(MID(DH$23,5,4)&$A32,Lista_Ubigeo!$J:$K,2,0),\" \")","v":"SUITUCANCHA"},{"$f":"IFERROR(VLOOKUP(MID(DI$23,5,4)&$A32,Lista_Ubigeo!$J:$K,2,0),\" \")","v":"YANACANCHA"},{"$f":"IFERROR(VLOOKUP(MID(DJ$23,5,4)&$A32,Lista_Ubigeo!$J:$K,2,0),\" \")","v":"SALAVERRY"},{"$f":"IFERROR(VLOOKUP(MID(DK$23,5,4)&$A32,Lista_Ubigeo!$J:$K,2,0),\" \")","v":" "},{"$f":"IFERROR(VLOOKUP(MID(DL$23,5,4)&$A32,Lista_Ubigeo!$J:$K,2,0),\" \")","v":" "},{"$f":"IFERROR(VLOOKUP(MID(DM$23,5,4)&$A32,Lista_Ubigeo!$J:$K,2,0),\" \")","v":" "},{"$f":"IFERROR(VLOOKUP(MID(DN$23,5,4)&$A32,Lista_Ubigeo!$J:$K,2,0),\" \")","v":" "},{"$f":"IFERROR(VLOOKUP(MID(DO$23,5,4)&$A33,Lista_Ubigeo!$J:$K,2,0),\" \")","v":"PARANDAY"},{"$f":"IFERROR(VLOOKUP(MID(DP$23,5,4)&$A32,Lista_Ubigeo!$J:$K,2,0),\" \")","v":" "},{"$f":"IFERROR(VLOOKUP(MID(DQ$23,5,4)&$A32,Lista_Ubigeo!$J:$K,2,0),\" \")","v":"PATAZ"},{"$f":"IFERROR(VLOOKUP(MID(DR$23,5,4)&$A32,Lista_Ubigeo!$J:$K,2,0),\" \")","v":" "},{"$f":"IFERROR(VLOOKUP(MID(DS$23,5,4)&$A32,Lista_Ubigeo!$J:$K,2,0),\" \")","v":" "},null,null,{"$f":"IFERROR(VLOOKUP(MID(DV$23,5,4)&$A32,Lista_Ubigeo!$J:$K,2,0),\" \")","v":"NUEVA ARICA"},{"$f":"IFERROR(VLOOKUP(MID(DW$23,5,4)&$A32,Lista_Ubigeo!$J:$K,2,0),\" \")","v":" "},{"$f":"IFERROR(VLOOKUP(MID(DX$23,5,4)&$A32,Lista_Ubigeo!$J:$K,2,0),\" \")","v":"PACORA"},{"$f":"IFERROR(VLOOKUP(MID(DY$23,5,4)&$A32,Lista_Ubigeo!$J:$K,2,0),\" \")","v":"CIENEGUILLA"},{"$f":"IFERROR(VLOOKUP(MID(DZ$23,5,4)&$A32,Lista_Ubigeo!$J:$K,2,0),\" \")","v":" "},{"$f":"IFERROR(VLOOKUP(MID(EA$23,5,4)&$A32,Lista_Ubigeo!$J:$K,2,0),\" \")","v":" "},{"$f":"IFERROR(VLOOKUP(MID(EB$23,5,4)&$A32,Lista_Ubigeo!$J:$K,2,0),\" \")","v":" "},{"$f":"IFERROR(VLOOKUP(MID(EC$23,5,4)&$A32,Lista_Ubigeo!$J:$K,2,0),\" \")","v":"MALA"},{"$f":"IFERROR(VLOOKUP(MID(ED$23,5,4)&$A32,Lista_Ubigeo!$J:$K,2,0),\" \")","v":"SAN MIGUEL DE ACOS"},{"$f":"IFERROR(VLOOKUP(MID(EE$23,5,4)&$A32,Lista_Ubigeo!$J:$K,2,0),\" \")","v":"HUAROCHIRI"},{"$f":"IFERROR(VLOOKUP(MID(EF$23,5,4)&$A32,Lista_Ubigeo!$J:$K,2,0),\" \")","v":"SANTA LEONOR"},{"$f":"IFERROR(VLOOKUP(MID(EG$23,5,4)&$A32,Lista_Ubigeo!$J:$K,2,0),\" \")","v":" "},{"$f":"IFERROR(VLOOKUP(MID(EH$23,5,4)&$A32,Lista_Ubigeo!$J:$K,2,0),\" \")","v":"CHOCOS"},{"$f":"IFERROR(VLOOKUP(MID(EI$23,5,4)&$A32,Lista_Ubigeo!$J:$K,2,0),\" \")","v":" "},{"$f":"IFERROR(VLOOKUP(MID(EJ$23,5,4)&$A37,Lista_Ubigeo!$J:$K,2,0),\" \")","v":" "},{"$f":"IFERROR(VLOOKUP(MID(EK$23,5,4)&$A32,Lista_Ubigeo!$J:$K,2,0),\" \")","v":" "},{"$f":"IFERROR(VLOOKUP(MID(EL$23,5,4)&$A32,Lista_Ubigeo!$J:$K,2,0),\" \")","v":" "},{"$f":"IFERROR(VLOOKUP(MID(EM$23,5,4)&$A32,Lista_Ubigeo!$J:$K,2,0),\" \")","v":"TAPICHE"},{"$f":"IFERROR(VLOOKUP(MID(EN$23,5,4)&$A32,Lista_Ubigeo!$J:$K,2,0),\" \")","v":" "},{"$f":"IFERROR(VLOOKUP(MID(EO$23,5,4)&$A32,Lista_Ubigeo!$J:$K,2,0),\" \")","v":" "},{"$f":"IFERROR(VLOOKUP(MID(EP$23,5,4)&$A32,Lista_Ubigeo!$J:$K,2,0),\" \")","v":" "},{"$f":"IFERROR(VLOOKUP(MID(EQ$23,5,4)&$A32,Lista_Ubigeo!$J:$K,2,0),\" \")","v":" "},{"$f":"IFERROR(VLOOKUP(MID(ER$23,5,4)&$A32,Lista_Ubigeo!$J:$K,2,0),\" \")","v":" "},{"$f":"IFERROR(VLOOKUP(MID(ES$23,5,4)&$A32,Lista_Ubigeo!$J:$K,2,0),\" \")","v":" "},{"$f":"IFERROR(VLOOKUP(MID(ET$23,5,4)&$A32,Lista_Ubigeo!$J:$K,2,0),\" \")","v":" "},{"$f":"IFERROR(VLOOKUP(MID(EU$23,5,4)&$A32,Lista_Ubigeo!$J:$K,2,0),\" \")","v":"QUINISTAQUILLAS"},{"$f":"IFERROR(VLOOKUP(MID(EV$23,5,4)&$A32,Lista_Ubigeo!$J:$K,2,0),\" \")","v":" "},{"$f":"IFERROR(VLOOKUP(MID(EW$23,5,4)&$A32,Lista_Ubigeo!$J:$K,2,0),\" \")","v":"SIMON BOLIVAR"},{"$f":"IFERROR(VLOOKUP(MID(EX$23,5,4)&$A32,Lista_Ubigeo!$J:$K,2,0),\" \")","v":" "},{"$f":"IFERROR(VLOOKUP(MID(EY$23,5,4)&$A32,Lista_Ubigeo!$J:$K,2,0),\" \")","v":" "},{"$f":"IFERROR(VLOOKUP(MID(EZ$23,5,4)&$A35,Lista_Ubigeo!$J:$K,2,0),\" \")","v":" "},{"$f":"IFERROR(VLOOKUP(MID(FA$23,5,4)&$A32,Lista_Ubigeo!$J:$K,2,0),\" \")","v":"SICCHEZ"},{"$f":"IFERROR(VLOOKUP(MID(FB$23,5,4)&$A32,Lista_Ubigeo!$J:$K,2,0),\" \")","v":" "},{"$f":"IFERROR(VLOOKUP(MID(FC$23,5,4)&$A32,Lista_Ubigeo!$J:$K,2,0),\" \")","v":"SANTO DOMINGO"},{"$f":"IFERROR(VLOOKUP(MID(FD$23,5,4)&$A32,Lista_Ubigeo!$J:$K,2,0),\" \")","v":" "},{"$f":"IFERROR(VLOOKUP(MID(FE$23,5,4)&$A32,Lista_Ubigeo!$J:$K,2,0),\" \")","v":" "},{"$f":"IFERROR(VLOOKUP(MID(FF$23,5,4)&$A32,Lista_Ubigeo!$J:$K,2,0),\" \")","v":" "},{"$f":"IFERROR(VLOOKUP(MID(FG$23,5,4)&$A32,Lista_Ubigeo!$J:$K,2,0),\" \")","v":" "},{"$f":"IFERROR(VLOOKUP(MID(FH$23,5,4)&$A32,Lista_Ubigeo!$J:$K,2,0),\" \")","v":"MANAZO"},{"$f":"IFERROR(VLOOKUP(MID(FI$23,5,4)&$A32,Lista_Ubigeo!$J:$K,2,0),\" \")","v":"POTONI"},{"$f":"IFERROR(VLOOKUP(MID(FJ$23,5,4)&$A32,Lista_Ubigeo!$J:$K,2,0),\" \")","v":"SAN GABAN"},{"$f":"IFERROR(VLOOKUP(MID(FK$23,5,4)&$A32,Lista_Ubigeo!$J:$K,2,0),\" \")","v":" "},{"$f":"IFERROR(VLOOKUP(MID(FL$23,5,4)&$A32,Lista_Ubigeo!$J:$K,2,0),\" \")","v":" "},{"$f":"IFERROR(VLOOKUP(MID(FM$23,5,4)&$A32,Lista_Ubigeo!$J:$K,2,0),\" \")","v":" "},{"$f":"IFERROR(VLOOKUP(MID(FN$23,5,4)&$A32,Lista_Ubigeo!$J:$K,2,0),\" \")","v":"SANTA LUCIA"},{"$f":"IFERROR(VLOOKUP(MID(FO$23,5,4)&$A32,Lista_Ubigeo!$J:$K,2,0),\" \")","v":"UMACHIRI"},{"$f":"IFERROR(VLOOKUP(MID(FP$23,5,4)&$A32,Lista_Ubigeo!$J:$K,2,0),\" \")","v":" "},{"$f":"IFERROR(VLOOKUP(MID(FQ$23,5,4)&$A32,Lista_Ubigeo!$J:$K,2,0),\" \")","v":" "},{"$f":"IFERROR(VLOOKUP(MID(FR$23,5,4)&$A32,Lista_Ubigeo!$J:$K,2,0),\" \")","v":" "},{"$f":"IFERROR(VLOOKUP(MID(FS$23,5,4)&$A32,Lista_Ubigeo!$J:$K,2,0),\" \")","v":"ALTO INAMBARI"},{"$f":"IFERROR(VLOOKUP(MID(FT$23,5,4)&$A32,Lista_Ubigeo!$J:$K,2,0),\" \")","v":" "},{"$f":"IFERROR(VLOOKUP(MID(FU$23,5,4)&$A32,Lista_Ubigeo!$J:$K,2,0),\" \")","v":" "},{"$f":"IFERROR(VLOOKUP(MID(FV$23,5,4)&$A32,Lista_Ubigeo!$J:$K,2,0),\" \")","v":" "},{"$f":"IFERROR(VLOOKUP(MID(FW$23,5,4)&$A32,Lista_Ubigeo!$J:$K,2,0),\" \")","v":" "},{"$f":"IFERROR(VLOOKUP(MID(FX$23,5,4)&$A32,Lista_Ubigeo!$J:$K,2,0),\" \")","v":" "},{"$f":"IFERROR(VLOOKUP(MID(FY$23,5,4)&$A32,Lista_Ubigeo!$J:$K,2,0),\" \")","v":"SHANAO"},{"$f":"IFERROR(VLOOKUP(MID(FZ$23,5,4)&$A32,Lista_Ubigeo!$J:$K,2,0),\" \")","v":" "},{"$f":"IFERROR(VLOOKUP(MID(GA$23,5,4)&$A32,Lista_Ubigeo!$J:$K,2,0),\" \")","v":"TINGO DE PONASA"},{"$f":"IFERROR(VLOOKUP(MID(GB$23,5,4)&$A32,Lista_Ubigeo!$J:$K,2,0),\" \")","v":"YURACYACU"},{"$f":"IFERROR(VLOOKUP(MID(GC$23,5,4)&$A32,Lista_Ubigeo!$J:$K,2,0),\" \")","v":"LA BANDA DE SHILCAYO"},{"$f":"IFERROR(VLOOKUP(MID(GD$23,5,4)&$A32,Lista_Ubigeo!$J:$K,2,0),\" \")","v":" "},{"$f":"IFERROR(VLOOKUP(MID(GE$23,5,4)&$A32,Lista_Ubigeo!$J:$K,2,0),\" \")","v":"SAMA"},{"$f":"IFERROR(VLOOKUP(MID(GF$23,5,4)&$A32,Lista_Ubigeo!$J:$K,2,0),\" \")","v":" "},{"$f":"IFERROR(VLOOKUP(MID(GG$23,5,4)&$A32,Lista_Ubigeo!$J:$K,2,0),\" \")","v":" "},{"$f":"IFERROR(VLOOKUP(MID(GH$23,5,4)&$A32,Lista_Ubigeo!$J:$K,2,0),\" \")","v":" "},{"$f":"IFERROR(VLOOKUP(MID(GI$23,5,4)&$A32,Lista_Ubigeo!$J:$K,2,0),\" \")","v":" "},{"$f":"IFERROR(VLOOKUP(MID(GJ$23,5,4)&$A32,Lista_Ubigeo!$J:$K,2,0),\" \")","v":" "},{"$f":"IFERROR(VLOOKUP(MID(GK$23,5,4)&$A32,Lista_Ubigeo!$J:$K,2,0),\" \")","v":" "},{"$f":"IFERROR(VLOOKUP(MID(GL$23,5,4)&$A32,Lista_Ubigeo!$J:$K,2,0),\" \")","v":" "},{"$f":"IFERROR(VLOOKUP(MID(GM$23,5,4)&$A32,Lista_Ubigeo!$J:$K,2,0),\" \")","v":" "},{"$f":"IFERROR(VLOOKUP(MID(GN$23,5,4)&$A32,Lista_Ubigeo!$J:$K,2,0),\" \")","v":" "},{"$f":"IFERROR(VLOOKUP(MID(GO$23,5,4)&$A32,Lista_Ubigeo!$J:$K,2,0),\" \")","v":" "},{"$f":"IFERROR(VLOOKUP(MID(GP$23,5,4)&$A32,Lista_Ubigeo!$J:$K,2,0),\" \")","v":"POTONI"}]
["10",{"$f":"IFERROR(VLOOKUP(MID(B$23,5,4)&$A33,Lista_Ubigeo!$J:$K,2,0),\" \")","v":"LEIMEBAMBA"},{"$f":"IFERROR(VLOOKUP(MID(C$23,5,4)&$A33,Lista_Ubigeo!$J:$K,2,0),\" \")","v":" "},{"$f":"IFERROR(VLOOKUP(MID(D$23,5,4)&$A33,Lista_Ubigeo!$J:$K,2,0),\" \")","v":"SHIPASBAMBA"},{"$f":"IFERROR(VLOOKUP(MID(E$23,5,4)&$A33,Lista_Ubigeo!$J:$K,2,0),\" \")","v":" "},{"$f":"IFERROR(VLOOKUP(MID(F$23,5,4)&$A33,Lista_Ubigeo!$J:$K,2,0),\" \")","v":"LUYA VIEJO"},{"$f":"IFERROR(VLOOKUP(MID(G$23,5,4)&$A33,Lista_Ubigeo!$J:$K,2,0),\" \")","v":"SANTA ROSA"},{"$f":"IFERROR(VLOOKUP(MID(H$23,5,4)&$A33,Lista_Ubigeo!$J:$K,2,0),\" \")","v":" "},{"$f":"IFERROR(VLOOKUP(MID(I$23,5,4)&$A33,Lista_Ubigeo!$J:$K,2,0),\" \")","v":"PARIACOTO"},{"$f":"IFERROR(VLOOKUP(MID(J$23,5,4)&$A33,Lista_Ubigeo!$J:$K,2,0),\" \")","v":" "},{"$f":"IFERROR(VLOOKUP(MID(K$23,5,4)&$A33,Lista_Ubigeo!$J:$K,2,0),\" \")","v":" "},{"$f":"IFERROR(VLOOKUP(MID(L$23,5,4)&$A33,Lista_Ubigeo!$J:$K,2,0),\" \")","v":" "},{"$f":"IFERROR(VLOOKUP(MID(M$23,5,4)&$A33,Lista_Ubigeo!$J:$K,2,0),\" \")","v":"HUAYLLACAYAN"},{"$f":"IFERROR(VLOOKUP(MID(N$23,5,4)&$A33,Lista_Ubigeo!$J:$K,2,0),\" \")","v":"TINCO"},{"$f":"IFERROR(VLOOKUP(MID(O$23,5,4)&$A33,Lista_Ubigeo!$J:$K,2,0),\" \")","v":" "},{"$f":"IFERROR(VLOOKUP(MID(P$23,5,4)&$A33,Lista_Ubigeo!$J:$K,2,0),\" \")","v":" "},{"$f":"IFERROR(VLOOKUP(MID(Q$23,5,4)&$A33,Lista_Ubigeo!$J:$K,2,0),\" \")","v":" "},{"$f":"IFERROR(VLOOKUP(MID(R$23,5,4)&$A33,Lista_Ubigeo!$J:$K,2,0),\" \")","v":"PAUCAS"},{"$f":"IFERROR(VLOOKUP(MID(S$23,5,4)&$A33,Lista_Ubigeo!$J:$K,2,0),\" \")","v":" "},{"$f":"IFERROR(VLOOKUP(MID(T$23,5,4)&$A33,Lista_Ubigeo!$J:$K,2,0),\" \")","v":"YURACMARCA"},{"$f":"IFERROR(VLOOKUP(MID(U$23,5,4)&$A33,Lista_Ubigeo!$J:$K,2,0),\" \")","v":" "},{"$f":"IFERROR(VLOOKUP(MID(V$23,5,4)&$A33,Lista_Ubigeo!$J:$K,2,0),\" \")","v":"SANTIAGO DE CHILCAS"},{"$f":"IFERROR(VLOOKUP(MID(W$23,5,4)&$A33,Lista_Ubigeo!$J:$K,2,0),\" \")","v":"SANTA ROSA"},{"$f":"IFERROR(VLOOKUP(MID(X$23,5,4)&$A33,Lista_Ubigeo!$J:$K,2,0),\" \")","v":" "},{"$f":"IFERROR(VLOOKUP(MID(Y$23,5,4)&$A33,Lista_Ubigeo!$J:$K,2,0),\" \")","v":"TICAPAMPA"},{"$f":"IFERROR(VLOOKUP(MID(Z$23,5,4)&$A33,Lista_Ubigeo!$J:$K,2,0),\" \")","v":" "},{"$f":"IFERROR(VLOOKUP(MID(AA$23,5,4)&$A33,Lista_Ubigeo!$J:$K,2,0),\" \")","v":"SICSIBAMBA"},{"$f":"IFERROR(VLOOKUP(MID(AB$23,5,4)&$A33,Lista_Ubigeo!$J:$K,2,0),\" \")","v":" "},{"$f":"IFERROR(VLOOKUP(MID(AC$23,5,4)&$A33,Lista_Ubigeo!$J:$K,2,0),\" \")","v":" "},{"$f":"IFERROR(VLOOKUP(MID(AD$23,5,4)&$A33,Lista_Ubigeo!$J:$K,2,0),\" \")","v":"PAMPACHIRI"},{"$f":"IFERROR(VLOOKUP(MID(AE$23,5,4)&$A33,Lista_Ubigeo!$J:$K,2,0),\" \")","v":" "},{"$f":"IFERROR(VLOOKUP(MID(AF$23,5,4)&$A33,Lista_Ubigeo!$J:$K,2,0),\" \")","v":"POCOHUANCA"},{"$f":"IFERROR(VLOOKUP(MID(AG$23,5,4)&$A33,Lista_Ubigeo!$J:$K,2,0),\" \")","v":" "},{"$f":"IFERROR(VLOOKUP(MID(AH$23,5,4)&$A33,Lista_Ubigeo!$J:$K,2,0),\" \")","v":"EL PORVENIR"},{"$f":"IFERROR(VLOOKUP(MID(AI$23,5,4)&$A33,Lista_Ubigeo!$J:$K,2,0),\" \")","v":"SANTA ROSA"},{"$f":"IFERROR(VLOOKUP(MID(AJ$23,5,4)&$A33,Lista_Ubigeo!$J:$K,2,0),\" \")","v":"MIRAFLORES"},{"$f":"IFERROR(VLOOKUP(MID(AK$23,5,4)&$A33,Lista_Ubigeo!$J:$K,2,0),\" \")","v":" "},{"$f":"IFERROR(VLOOKUP(MID(AL$23,5,4)&$A33,Lista_Ubigeo!$J:$K,2,0),\" \")","v":"JAQUI"},{"$f":"IFERROR(VLOOKUP(MID(AM$23,5,4)&$A33,Lista_Ubigeo!$J:$K,2,0),\" \")","v":"PAMPACOLCA"},{"$f":"IFERROR(VLOOKUP(MID(AN$23,5,4)&$A33,Lista_Ubigeo!$J:$K,2,0),\" \")","v":"LARI"},{"$f":"IFERROR(VLOOKUP(MID(AO$23,5,4)&$A33,Lista_Ubigeo!$J:$K,2,0),\" \")","v":" "},{"$f":"IFERROR(VLOOKUP(MID(AP$23,5,4)&$A33,Lista_Ubigeo!$J:$K,2,0),\" \")","v":" "},{"$f":"IFERROR(VLOOKUP(MID(AQ$23,4,4)&$A33,Lista_Ubigeo!$J:$K,2,0),\" \")","v":"TOMEPAMPA"},{"$f":"IFERROR(VLOOKUP(MID(AR$23,5,4)&$A33,Lista_Ubigeo!$J:$K,2,0),\" \")","v":"SAN JUAN BAUTISTA"},{"$f":"IFERROR(VLOOKUP(MID(AS$23,5,4)&$A33,Lista_Ubigeo!$J:$K,2,0),\" \")","v":" "},{"$f":"IFERROR(VLOOKUP(MID(AT$23,5,4)&$A33,Lista_Ubigeo!$J:$K,2,0),\" \")","v":" "},{"$f":"IFERROR(VLOOKUP(MID(AU$23,5,4)&$A33,Lista_Ubigeo!$J:$K,2,0),\" \")","v":"UCHURACCAY"},{"$f":"IFERROR(VLOOKUP(MID(AV$23,5,4)&$A33,Lista_Ubigeo!$J:$K,2,0),\" \")","v":"ANCHIHUAY"},{"$f":"IFERROR(VLOOKUP(MID(AW$23,5,4)&$A33,Lista_Ubigeo!$J:$K,2,0),\" \")","v":"LLAUTA"},{"$f":"IFERROR(VLOOKUP(MID(AX$23,5,4)&$A33,Lista_Ubigeo!$J:$K,2,0),\" \")","v":" "},{"$f":"IFERROR(VLOOKUP(MID(AY$23,5,4)&$A33,Lista_Ubigeo!$J:$K,2,0),\" \")","v":"SARA SARA"},{"$f":"IFERROR(VLOOKUP(MID(AZ$23,5,4)&$A33,Lista_Ubigeo!$J:$K,2,0),\" \")","v":"SANTIAGO DE PAUCARAY"},{"$f":"IFERROR(VLOOKUP(MID(BA$23,5,4)&$A33,Lista_Ubigeo!$J:$K,2,0),\" \")","v":"HUAYA"},{"$f":"IFERROR(VLOOKUP(MID(BB$23,5,4)&$A33,Lista_Ubigeo!$J:$K,2,0),\" \")","v":" "},{"$f":"IFERROR(VLOOKUP(MID(BC$23,5,4)&$A33,Lista_Ubigeo!$J:$K,2,0),\" \")","v":"MATARA"},{"$f":"IFERROR(VLOOKUP(MID(BD$23,5,4)&$A33,Lista_Ubigeo!$J:$K,2,0),\" \")","v":" "},{"$f":"IFERROR(VLOOKUP(MID(BE$23,5,4)&$A33,Lista_Ubigeo!$J:$K,2,0),\" \")","v":"SUCRE"},{"$f":"IFERROR(VLOOKUP(MID(BF$23,5,4)&$A33,Lista_Ubigeo!$J:$K,2,0),\" \")","v":"LAJAS"},{"$f":"IFERROR(VLOOKUP(MID(BG$23,5,4)&$A33,Lista_Ubigeo!$J:$K,2,0),\" \")","v":" "},{"$f":"IFERROR(VLOOKUP(MID(BH$23,5,4)&$A33,Lista_Ubigeo!$J:$K,2,0),\" \")","v":"SAN LUIS DE LUCMA"},{"$f":"IFERROR(VLOOKUP(MID(BI$23,5,4)&$A33,Lista_Ubigeo!$J:$K,2,0),\" \")","v":" "},{"$f":"IFERROR(VLOOKUP(MID(BJ$23,5,4)&$A33,Lista_Ubigeo!$J:$K,2,0),\" \")","v":"SAN FELIPE"},{"$f":"IFERROR(VLOOKUP(MID(BK$23,5,4)&$A33,Lista_Ubigeo!$J:$K,2,0),\" \")","v":" "},{"$f":"IFERROR(VLOOKUP(MID(BL$23,5,4)&$A33,Lista_Ubigeo!$J:$K,2,0),\" \")","v":" "},{"$f":"IFERROR(VLOOKUP(MID(BM$23,5,4)&$A33,Lista_Ubigeo!$J:$K,2,0),\" \")","v":"SAN GREGORIO"},{"$f":"IFERROR(VLOOKUP(MID(BN$23,5,4)&$A33,Lista_Ubigeo!$J:$K,2,0),\" \")","v":" "},{"$f":"IFERROR(VLOOKUP(MID(BO$23,5,4)&$A33,Lista_Ubigeo!$J:$K,2,0),\" \")","v":"UTICYACU"},{"$f":"IFERROR(VLOOKUP(MID(BP$23,5,4)&$A33,Lista_Ubigeo!$J:$K,2,0),\" \")","v":" "},{"$f":"IFERROR(VLOOKUP(MID(BQ$23,5,4)&$A33,Lista_Ubigeo!$J:$K,2,0),\" \")","v":" "},{"$f":"IFERROR(VLOOKUP(MID(BR$23,5,4)&$A33,Lista_Ubigeo!$J:$K,2,0),\" \")","v":" "},{"$f":"IFERROR(VLOOKUP(MID(BS$23,5,4)&$A33,Lista_Ubigeo!$J:$K,2,0),\" \")","v":" "},{"$f":"IFERROR(VLOOKUP(MID(BT$23,5,4)&$A33,Lista_Ubigeo!$J:$K,2,0),\" \")","v":" "},{"$f":"IFERROR(VLOOKUP(MID(BU$23,5,4)&$A33,Lista_Ubigeo!$J:$K,2,0),\" \")","v":" "},{"$f":"IFERROR(VLOOKUP(MID(BV$23,5,4)&$A33,Lista_Ubigeo!$J:$K,2,0),\" \")","v":" "},{"$f":"IFERROR(VLOOKUP(MID(BW$23,5,4)&$A33,Lista_Ubigeo!$J:$K,2,0),\" \")","v":" "},{"$f":"IFERROR(VLOOKUP(MID(BX$23,5,4)&$A33,Lista_Ubigeo!$J:$K,2,0),\" \")","v":" "},{"$f":"IFERROR(VLOOKUP(MID(BY$23,4,4)&$A33,Lista_Ubigeo!$J:$K,2,0),\" \")","v":"PICHARI"},{"$f":"IFERROR(VLOOKUP(MID(BZ$23,5,4)&$A33,Lista_Ubigeo!$J:$K,2,0),\" \")","v":" "},{"$f":"IFERROR(VLOOKUP(MID(CA$23,5,4)&$A33,Lista_Ubigeo!$J:$K,2,0),\" \")","v":" "},{"$f":"IFERROR(VLOOKUP(MID(CB$23,5,4)&$A33,Lista_Ubigeo!$J:$K,2,0),\" \")","v":"OCONGATE"},{"$f":"IFERROR(VLOOKUP(MID(CC$23,5,4)&$A33,Lista_Ubigeo!$J:$K,2,0),\" \")","v":" "},{"$f":"IFERROR(VLOOKUP(MID(CD$23,5,4)&$A33,Lista_Ubigeo!$J:$K,2,0),\" \")","v":"MANTA"},{"$f":"IFERROR(VLOOKUP(MID(CE$23,5,4)&$A33,Lista_Ubigeo!$J:$K,2,0),\" \")","v":" "},{"$f":"IFERROR(VLOOKUP(MID(CF$23,5,4)&$A33,Lista_Ubigeo!$J:$K,2,0),\" \")","v":"SAN ANTONIO DE ANTAPARCO"},{"$f":"IFERROR(VLOOKUP(MID(CG$23,5,4)&$A33,Lista_Ubigeo!$J:$K,2,0),\" \")","v":"SAN JUAN"},{"$f":"IFERROR(VLOOKUP(MID(CH$23,5,4)&$A33,Lista_Ubigeo!$J:$K,2,0),\" \")","v":"PACHAMARCA"},{"$f":"IFERROR(VLOOKUP(MID(CI$23,5,4)&$A33,Lista_Ubigeo!$J:$K,2,0),\" \")","v":"SAN ANTONIO DE CUSICANCHA"},{"$f":"IFERROR(VLOOKUP(MID(CJ$23,5,4)&$A33,Lista_Ubigeo!$J:$K,2,0),\" \")","v":"ÑAHUIMPUQUIO"},{"$f":"IFERROR(VLOOKUP(MID(CK$23,5,4)&$A33,Lista_Ubigeo!$J:$K,2,0),\" \")","v":"YARUMAYO"},{"$f":"IFERROR(VLOOKUP(MID(CL$23,5,4)&$A33,Lista_Ubigeo!$J:$K,2,0),\" \")","v":" "},{"$f":"IFERROR(VLOOKUP(MID(CM$23,5,4)&$A44,Lista_Ubigeo!$J:$K,2,0),\" \")","v":"SHUNQUI"},{"$f":"IFERROR(VLOOKUP(MID(CN$23,5,4)&$A33,Lista_Ubigeo!$J:$K,2,0),\" \")","v":" "},{"$f":"IFERROR(VLOOKUP(MID(CO$23,5,4)&$A33,Lista_Ubigeo!$J:$K,2,0),\" \")","v":"SINGA"},{"$f":"IFERROR(VLOOKUP(MID(CP$23,5,4)&$A33,Lista_Ubigeo!$J:$K,2,0),\" \")","v":"SANTA DOMIENGO DE ANDA"},{"$f":"IFERROR(VLOOKUP(MID(CQ$23,5,4)&$A33,Lista_Ubigeo!$J:$K,2,0),\" \")","v":" "},{"$f":"IFERROR(VLOOKUP(MID(CR$23,5,4)&$A33,Lista_Ubigeo!$J:$K,2,0),\" \")","v":" "},{"$f":"IFERROR(VLOOKUP(MID(CS$23,5,4)&$A33,Lista_Ubigeo!$J:$K,2,0),\" \")","v":" "},{"$f":"IFERROR(VLOOKUP(MID(CT$23,5,4)&$A33,Lista_Ubigeo!$J:$K,2,0),\" \")","v":" "},{"$f":"IFERROR(VLOOKUP(MID(CU$23,5,4)&$A33,Lista_Ubigeo!$J:$K,2,0),\" \")","v":" "},{"$f":"IFERROR(VLOOKUP(MID(CV$23,5,4)&$A33,Lista_Ubigeo!$J:$K,2,0),\" \")","v":"SAN JUAN BAUTISTA"},{"$f":"IFERROR(VLOOKUP(MID(CW$23,5,4)&$A33,Lista_Ubigeo!$J:$K,2,0),\" \")","v":"SUNAMPE"},{"$f":"IFERROR(VLOOKUP(MID(CX$23,5,4)&$A33,Lista_Ubigeo!$J:$K,2,0),\" \")","v":" "},{"$f":"IFERROR(VLOOKUP(MID(CY$23,5,4)&$A33,Lista_Ubigeo!$J:$K,2,0),\" \")","v":" "},{"$f":"IFERROR(VLOOKUP(MID(CZ$23,5,4)&$A33,Lista_Ubigeo!$J:$K,2,0),\" \")","v":" "},{"$f":"IFERROR(VLOOKUP(MID(DA$23,5,4)&$A33,Lista_Ubigeo!$J:$K,2,0),\" \")","v":" "},{"$f":"IFERROR(VLOOKUP(MID(DB$23,5,4)&$A33,Lista_Ubigeo!$J:$K,2,0),\" \")","v":"MATAHUASI"},{"$f":"IFERROR(VLOOKUP(MID(DC$23,5,4)&$A33,Lista_Ubigeo!$J:$K,2,0),\" \")","v":" "},{"$f":"IFERROR(VLOOKUP(MID(DD$23,5,4)&$A33,Lista_Ubigeo!$J:$K,2,0),\" \")","v":"HUERTAS"},{"$f":"IFERROR(VLOOKUP(MID(DE$23,5,4)&$A33,Lista_Ubigeo!$J:$K,2,0),\" \")","v":" "},{"$f":"IFERROR(VLOOKUP(MID(DF$23,5,4)&$A33,Lista_Ubigeo!$J:$K,2,0),\" \")","v":" "},{"$f":"IFERROR(VLOOKUP(MID(DG$23,5,4)&$A33,Lista_Ubigeo!$J:$K,2,0),\" \")","v":" "},{"$f":"IFERROR(VLOOKUP(MID(DH$23,5,4)&$A33,Lista_Ubigeo!$J:$K,2,0),\" \")","v":"YAULI"},{"$f":"IFERROR(VLOOKUP(MID(DI$23,5,4)&$A33,Lista_Ubigeo!$J:$K,2,0),\" \")","v":" "},{"$f":"IFERROR(VLOOKUP(MID(DJ$23,5,4)&$A33,Lista_Ubigeo!$J:$K,2,0),\" \")","v":"SIMBAL"},{"$f":"IFERROR(VLOOKUP(MID(DK$23,5,4)&$A33,Lista_Ubigeo!$J:$K,2,0),\" \")","v":" "},{"$f":"IFERROR(VLOOKUP(MID(DL$23,5,4)&$A33,Lista_Ubigeo!$J:$K,2,0),\" \")","v":" "},{"$f":"IFERROR(VLOOKUP(MID(DM$23,5,4)&$A33,Lista_Ubigeo!$J:$K,2,0),\" \")","v":" "},{"$f":"IFERROR(VLOOKUP(MID(DN$23,5,4)&$A33,Lista_Ubigeo!$J:$K,2,0),\" \")","v":" "},{"$f":"IFERROR(VLOOKUP(MID(DO$23,5,4)&$A34,Lista_Ubigeo!$J:$K,2,0),\" \")","v":"SALPO"},{"$f":"IFERROR(VLOOKUP(MID(DP$23,5,4)&$A33,Lista_Ubigeo!$J:$K,2,0),\" \")","v":" "},{"$f":"IFERROR(VLOOKUP(MID(DQ$23,5,4)&$A33,Lista_Ubigeo!$J:$K,2,0),\" \")","v":"PIAS"},{"$f":"IFERROR(VLOOKUP(MID(DR$23,5,4)&$A33,Lista_Ubigeo!$J:$K,2,0),\" \")","v":" "},{"$f":"IFERROR(VLOOKUP(MID(DS$23,5,4)&$A33,Lista_Ubigeo!$J:$K,2,0),\" \")","v":" "},null,null,{"$f":"IFERROR(VLOOKUP(MID(DV$23,5,4)&$A33,Lista_Ubigeo!$J:$K,2,0),\" \")","v":"OYOTUN"},{"$f":"IFERROR(VLOOKUP(MID(DW$23,5,4)&$A33,Lista_Ubigeo!$J:$K,2,0),\" \")","v":" "},{"$f":"IFERROR(VLOOKUP(MID(DX$23,5,4)&$A33,Lista_Ubigeo!$J:$K,2,0),\" \")","v":"SALAS"},{"$f":"IFERROR(VLOOKUP(MID(DY$23,5,4)&$A33,Lista_Ubigeo!$J:$K,2,0),\" \")","v":"COMAS"},{"$f":"IFERROR(VLOOKUP(MID(DZ$23,5,4)&$A33,Lista_Ubigeo!$J:$K,2,0),\" \")","v":" "},{"$f":"IFERROR(VLOOKUP(MID(EA$23,5,4)&$A33,Lista_Ubigeo!$J:$K,2,0),\" \")","v":" "},{"$f":"IFERROR(VLOOKUP(MID(EB$23,5,4)&$A33,Lista_Ubigeo!$J:$K,2,0),\" \")","v":" "},{"$f":"IFERROR(VLOOKUP(MID(EC$23,5,4)&$A33,Lista_Ubigeo!$J:$K,2,0),\" \")","v":"NUEVO IMPERIAL"},{"$f":"IFERROR(VLOOKUP(MID(ED$23,5,4)&$A33,Lista_Ubigeo!$J:$K,2,0),\" \")","v":"SANTA CRUZ DE ANDAMARCA"},{"$f":"IFERROR(VLOOKUP(MID(EE$23,5,4)&$A33,Lista_Ubigeo!$J:$K,2,0),\" \")","v":"LAHUAYTAMBO"},{"$f":"IFERROR(VLOOKUP(MID(EF$23,5,4)&$A33,Lista_Ubigeo!$J:$K,2,0),\" \")","v":"SANTA MARIA"},{"$f":"IFERROR(VLOOKUP(MID(EG$23,5,4)&$A33,Lista_Ubigeo!$J:$K,2,0),\" \")","v":" "},{"$f":"IFERROR(VLOOKUP(MID(EH$23,5,4)&$A33,Lista_Ubigeo!$J:$K,2,0),\" \")","v":"COCHAS"},{"$f":"IFERROR(VLOOKUP(MID(EI$23,5,4)&$A33,Lista_Ubigeo!$J:$K,2,0),\" \")","v":"TORRES CAUSANA"},{"$f":"IFERROR(VLOOKUP(MID(EJ$23,5,4)&$A38,Lista_Ubigeo!$J:$K,2,0),\" \")","v":" "},{"$f":"IFERROR(VLOOKUP(MID(EK$23,5,4)&$A33,Lista_Ubigeo!$J:$K,2,0),\" \")","v":" "},{"$f":"IFERROR(VLOOKUP(MID(EL$23,5,4)&$A33,Lista_Ubigeo!$J:$K,2,0),\" \")","v":" "},{"$f":"IFERROR(VLOOKUP(MID(EM$23,5,4)&$A33,Lista_Ubigeo!$J:$K,2,0),\" \")","v":"JENARO HERRERA"},{"$f":"IFERROR(VLOOKUP(MID(EN$23,5,4)&$A33,Lista_Ubigeo!$J:$K,2,0),\" \")","v":" "},{"$f":"IFERROR(VLOOKUP(MID(EO$23,5,4)&$A33,Lista_Ubigeo!$J:$K,2,0),\" \")","v":" "},{"$f":"IFERROR(VLOOKUP(MID(EP$23,5,4)&$A33,Lista_Ubigeo!$J:$K,2,0),\" \")","v":" "},{"$f":"IFERROR(VLOOKUP(MID(EQ$23,5,4)&$A33,Lista_Ubigeo!$J:$K,2,0),\" \")","v":" "},{"$f":"IFERROR(VLOOKUP(MID(ER$23,5,4)&$A33,Lista_Ubigeo!$J:$K,2,0),\" \")","v":" "},{"$f":"IFERROR(VLOOKUP(MID(ES$23,5,4)&$A33,Lista_Ubigeo!$J:$K,2,0),\" \")","v":" "},{"$f":"IFERROR(VLOOKUP(MID(ET$23,5,4)&$A33,Lista_Ubigeo!$J:$K,2,0),\" \")","v":" "},{"$f":"IFERROR(VLOOKUP(MID(EU$23,5,4)&$A33,Lista_Ubigeo!$J:$K,2,0),\" \")","v":"UBINAS"},{"$f":"IFERROR(VLOOKUP(MID(EV$23,5,4)&$A33,Lista_Ubigeo!$J:$K,2,0),\" \")","v":" "},{"$f":"IFERROR(VLOOKUP(MID(EW$23,5,4)&$A33,Lista_Ubigeo!$J:$K,2,0),\" \")","v":"TICLACAYAN"},{"$f":"IFERROR(VLOOKUP(MID(EX$23,5,4)&$A33,Lista_Ubigeo!$J:$K,2,0),\" \")","v":" "},{"$f":"IFERROR(VLOOKUP(MID(EY$23,5,4)&$A33,Lista_Ubigeo!$J:$K,2,0),\" \")","v":" "},{"$f":"IFERROR(VLOOKUP(MID(EZ$23,5,4)&$A36,Lista_Ubigeo!$J:$K,2,0),\" \")","v":" "},{"$f":"IFERROR(VLOOKUP(MID(FA$23,5,4)&$A33,Lista_Ubigeo!$J:$K,2,0),\" \")","v":"SUYO"},{"$f":"IFERROR(VLOOKUP(MID(FB$23,5,4)&$A33,Lista_Ubigeo!$J:$K,2,0),\" \")","v":" "},{"$f":"IFERROR(VLOOKUP(MID(FC$23,5,4)&$A33,Lista_Ubigeo!$J:$K,2,0),\" \")","v":"YAMANGO"},{"$f":"IFERROR(VLOOKUP(MID(FD$23,5,4)&$A33,Lista_Ubigeo!$J:$K,2,0),\" \")","v":" "},{"$f":"IFERROR(VLOOKUP(MID(FE$23,5,4)&$A33,Lista_Ubigeo!$J:$K,2,0),\" \")","v":" "},{"$f":"IFERROR(VLOOKUP(MID(FF$23,5,4)&$A33,Lista_Ubigeo!$J:$K,2,0),\" \")","v":" "},{"$f":"IFERROR(VLOOKUP(MID(FG$23,5,4)&$A33,Lista_Ubigeo!$J:$K,2,0),\" \")","v":" "},{"$f":"IFERROR(VLOOKUP(MID(FH$23,5,4)&$A33,Lista_Ubigeo!$J:$K,2,0),\" \")","v":"PAUCARCOLLA"},{"$f":"IFERROR(VLOOKUP(MID(FI$23,5,4)&$A33,Lista_Ubigeo!$J:$K,2,0),\" \")","v":"SAMAN"},{"$f":"IFERROR(VLOOKUP(MID(FJ$23,5,4)&$A33,Lista_Ubigeo!$J:$K,2,0),\" \")","v":"USICAYOS"},{"$f":"IFERROR(VLOOKUP(MID(FK$23,5,4)&$A33,Lista_Ubigeo!$J:$K,2,0),\" \")","v":" "},{"$f":"IFERROR(VLOOKUP(MID(FL$23,5,4)&$A33,Lista_Ubigeo!$J:$K,2,0),\" \")","v":" "},{"$f":"IFERROR(VLOOKUP(MID(FM$23,5,4)&$A33,Lista_Ubigeo!$J:$K,2,0),\" \")","v":" "},{"$f":"IFERROR(VLOOKUP(MID(FN$23,5,4)&$A33,Lista_Ubigeo!$J:$K,2,0),\" \")","v":"VILAVILA"},{"$f":"IFERROR(VLOOKUP(MID(FO$23,5,4)&$A33,Lista_Ubigeo!$J:$K,2,0),\" \")","v":" "},{"$f":"IFERROR(VLOOKUP(MID(FP$23,5,4)&$A33,Lista_Ubigeo!$J:$K,2,0),\" \")","v":" "},{"$f":"IFERROR(VLOOKUP(MID(FQ$23,5,4)&$A33,Lista_Ubigeo!$J:$K,2,0),\" \")","v":" "},{"$f":"IFERROR(VLOOKUP(MID(FR$23,5,4)&$A33,Lista_Ubigeo!$J:$K,2,0),\" \")","v":" "},{"$f":"IFERROR(VLOOKUP(MID(FS$23,5,4)&$A33,Lista_Ubigeo!$J:$K,2,0),\" \")","v":"SAN PEDRO DE PUTINA PUNCO"},{"$f":"IFERROR(VLOOKUP(MID(FT$23,5,4)&$A33,Lista_Ubigeo!$J:$K,2,0),\" \")","v":" "},{"$f":"IFERROR(VLOOKUP(MID(FU$23,5,4)&$A33,Lista_Ubigeo!$J:$K,2,0),\" \")","v":" "},{"$f":"IFERROR(VLOOKUP(MID(FV$23,5,4)&$A33,Lista_Ubigeo!$J:$K,2,0),\" \")","v":" "},{"$f":"IFERROR(VLOOKUP(MID(FW$23,5,4)&$A33,Lista_Ubigeo!$J:$K,2,0),\" \")","v":" "},{"$f":"IFERROR(VLOOKUP(MID(FX$23,5,4)&$A33,Lista_Ubigeo!$J:$K,2,0),\" \")","v":" "},{"$f":"IFERROR(VLOOKUP(MID(FY$23,5,4)&$A33,Lista_Ubigeo!$J:$K,2,0),\" \")","v":"TABALOSOS"},{"$f":"IFERROR(VLOOKUP(MID(FZ$23,5,4)&$A33,Lista_Ubigeo!$J:$K,2,0),\" \")","v":" "},{"$f":"IFERROR(VLOOKUP(MID(GA$23,5,4)&$A33,Lista_Ubigeo!$J:$K,2,0),\" \")","v":"TRES UNIDOS"},{"$f":"IFERROR(VLOOKUP(MID(GB$23,5,4)&$A33,Lista_Ubigeo!$J:$K,2,0),\" \")","v":" "},{"$f":"IFERROR(VLOOKUP(MID(GC$23,5,4)&$A33,Lista_Ubigeo!$J:$K,2,0),\" \")","v":"MORALES"},{"$f":"IFERROR(VLOOKUP(MID(GD$23,5,4)&$A33,Lista_Ubigeo!$J:$K,2,0),\" \")","v":" "},{"$f":"IFERROR(VLOOKUP(MID(GE$23,5,4)&$A33,Lista_Ubigeo!$J:$K,2,0),\" \")","v":"CORONEL GREGORIO ALBARRACIN LANCHIPA"},{"$f":"IFERROR(VLOOKUP(MID(GF$23,5,4)&$A33,Lista_Ubigeo!$J:$K,2,0),\" \")","v":" "},{"$f":"IFERROR(VLOOKUP(MID(GG$23,5,4)&$A33,Lista_Ubigeo!$J:$K,2,0),\" \")","v":" "},{"$f":"IFERROR(VLOOKUP(MID(GH$23,5,4)&$A33,Lista_Ubigeo!$J:$K,2,0),\" \")","v":" "},{"$f":"IFERROR(VLOOKUP(MID(GI$23,5,4)&$A33,Lista_Ubigeo!$J:$K,2,0),\" \")","v":" "},{"$f":"IFERROR(VLOOKUP(MID(GJ$23,5,4)&$A33,Lista_Ubigeo!$J:$K,2,0),\" \")","v":" "},{"$f":"IFERROR(VLOOKUP(MID(GK$23,5,4)&$A33,Lista_Ubigeo!$J:$K,2,0),\" \")","v":" "},{"$f":"IFERROR(VLOOKUP(MID(GL$23,5,4)&$A33,Lista_Ubigeo!$J:$K,2,0),\" \")","v":" "},{"$f":"IFERROR(VLOOKUP(MID(GM$23,5,4)&$A33,Lista_Ubigeo!$J:$K,2,0),\" \")","v":" "},{"$f":"IFERROR(VLOOKUP(MID(GN$23,5,4)&$A33,Lista_Ubigeo!$J:$K,2,0),\" \")","v":" "},{"$f":"IFERROR(VLOOKUP(MID(GO$23,5,4)&$A33,Lista_Ubigeo!$J:$K,2,0),\" \")","v":" "},{"$f":"IFERROR(VLOOKUP(MID(GP$23,5,4)&$A33,Lista_Ubigeo!$J:$K,2,0),\" \")","v":"SAMAN"}]
["11",{"$f":"IFERROR(VLOOKUP(MID(B$23,5,4)&$A34,Lista_Ubigeo!$J:$K,2,0),\" \")","v":"LEVANTO"},{"$f":"IFERROR(VLOOKUP(MID(C$23,5,4)&$A34,Lista_Ubigeo!$J:$K,2,0),\" \")","v":" "},{"$f":"IFERROR(VLOOKUP(MID(D$23,5,4)&$A34,Lista_Ubigeo!$J:$K,2,0),\" \")","v":"VALERA"},{"$f":"IFERROR(VLOOKUP(MID(E$23,5,4)&$A34,Lista_Ubigeo!$J:$K,2,0),\" \")","v":" "},{"$f":"IFERROR(VLOOKUP(MID(F$23,5,4)&$A34,Lista_Ubigeo!$J:$K,2,0),\" \")","v":"MARIA"},{"$f":"IFERROR(VLOOKUP(MID(G$23,5,4)&$A34,Lista_Ubigeo!$J:$K,2,0),\" \")","v":"TOTORA"},{"$f":"IFERROR(VLOOKUP(MID(H$23,5,4)&$A34,Lista_Ubigeo!$J:$K,2,0),\" \")","v":" "},{"$f":"IFERROR(VLOOKUP(MID(I$23,5,4)&$A34,Lista_Ubigeo!$J:$K,2,0),\" \")","v":"PIRA"},{"$f":"IFERROR(VLOOKUP(MID(J$23,5,4)&$A34,Lista_Ubigeo!$J:$K,2,0),\" \")","v":" "},{"$f":"IFERROR(VLOOKUP(MID(K$23,5,4)&$A34,Lista_Ubigeo!$J:$K,2,0),\" \")","v":" "},{"$f":"IFERROR(VLOOKUP(MID(L$23,5,4)&$A34,Lista_Ubigeo!$J:$K,2,0),\" \")","v":" "},{"$f":"IFERROR(VLOOKUP(MID(M$23,5,4)&$A34,Lista_Ubigeo!$J:$K,2,0),\" \")","v":"LA PRIMAVERA"},{"$f":"IFERROR(VLOOKUP(MID(N$23,5,4)&$A34,Lista_Ubigeo!$J:$K,2,0),\" \")","v":"YUNGAR"},{"$f":"IFERROR(VLOOKUP(MID(O$23,5,4)&$A34,Lista_Ubigeo!$J:$K,2,0),\" \")","v":" "},{"$f":"IFERROR(VLOOKUP(MID(P$23,5,4)&$A34,Lista_Ubigeo!$J:$K,2,0),\" \")","v":" "},{"$f":"IFERROR(VLOOKUP(MID(Q$23,5,4)&$A34,Lista_Ubigeo!$J:$K,2,0),\" \")","v":" "},{"$f":"IFERROR(VLOOKUP(MID(R$23,5,4)&$A34,Lista_Ubigeo!$J:$K,2,0),\" \")","v":"PONTO"},{"$f":"IFERROR(VLOOKUP(MID(S$23,5,4)&$A34,Lista_Ubigeo!$J:$K,2,0),\" \")","v":" "},{"$f":"IFERROR(VLOOKUP(MID(T$23,5,4)&$A34,Lista_Ubigeo!$J:$K,2,0),\" \")","v":" "},{"$f":"IFERROR(VLOOKUP(MID(U$23,5,4)&$A34,Lista_Ubigeo!$J:$K,2,0),\" \")","v":" "},{"$f":"IFERROR(VLOOKUP(MID(V$23,5,4)&$A34,Lista_Ubigeo!$J:$K,2,0),\" \")","v":" "},{"$f":"IFERROR(VLOOKUP(MID(W$23,5,4)&$A34,Lista_Ubigeo!$J:$K,2,0),\" \")","v":"TAUCA"},{"$f":"IFERROR(VLOOKUP(MID(X$23,5,4)&$A34,Lista_Ubigeo!$J:$K,2,0),\" \")","v":" "},{"$f":"IFERROR(VLOOKUP(MID(Y$23,5,4)&$A34,Lista_Ubigeo!$J:$K,2,0),\" \")","v":" "},{"$f":"IFERROR(VLOOKUP(MID(Z$23,5,4)&$A34,Lista_Ubigeo!$J:$K,2,0),\" \")","v":" "},{"$f":"IFERROR(VLOOKUP(MID(AA$23,5,4)&$A34,Lista_Ubigeo!$J:$K,2,0),\" \")","v":" "},{"$f":"IFERROR(VLOOKUP(MID(AB$23,5,4)&$A34,Lista_Ubigeo!$J:$K,2,0),\" \")","v":" "},{"$f":"IFERROR(VLOOKUP(MID(AC$23,5,4)&$A34,Lista_Ubigeo!$J:$K,2,0),\" \")","v":" "},{"$f":"IFERROR(VLOOKUP(MID(AD$23,5,4)&$A34,Lista_Ubigeo!$J:$K,2,0),\" \")","v":"POMACOCHA"},{"$f":"IFERROR(VLOOKUP(MID(AE$23,5,4)&$A34,Lista_Ubigeo!$J:$K,2,0),\" \")","v":" "},{"$f":"IFERROR(VLOOKUP(MID(AF$23,5,4)&$A34,Lista_Ubigeo!$J:$K,2,0),\" \")","v":"SAN JUAN DE CHACÑA"},{"$f":"IFERROR(VLOOKUP(MID(AG$23,5,4)&$A34,Lista_Ubigeo!$J:$K,2,0),\" \")","v":" "},{"$f":"IFERROR(VLOOKUP(MID(AH$23,5,4)&$A34,Lista_Ubigeo!$J:$K,2,0),\" \")","v":"LOS CHANKAS"},{"$f":"IFERROR(VLOOKUP(MID(AI$23,5,4)&$A34,Lista_Ubigeo!$J:$K,2,0),\" \")","v":"TURPAY"},{"$f":"IFERROR(VLOOKUP(MID(AJ$23,5,4)&$A34,Lista_Ubigeo!$J:$K,2,0),\" \")","v":"MOLLEBAYA"},{"$f":"IFERROR(VLOOKUP(MID(AK$23,5,4)&$A34,Lista_Ubigeo!$J:$K,2,0),\" \")","v":" "},{"$f":"IFERROR(VLOOKUP(MID(AL$23,5,4)&$A34,Lista_Ubigeo!$J:$K,2,0),\" \")","v":"LOMAS"},{"$f":"IFERROR(VLOOKUP(MID(AM$23,5,4)&$A34,Lista_Ubigeo!$J:$K,2,0),\" \")","v":"TIPAN"},{"$f":"IFERROR(VLOOKUP(MID(AN$23,5,4)&$A34,Lista_Ubigeo!$J:$K,2,0),\" \")","v":"LLUTA"},{"$f":"IFERROR(VLOOKUP(MID(AO$23,5,4)&$A34,Lista_Ubigeo!$J:$K,2,0),\" \")","v":" "},{"$f":"IFERROR(VLOOKUP(MID(AP$23,5,4)&$A34,Lista_Ubigeo!$J:$K,2,0),\" \")","v":" "},{"$f":"IFERROR(VLOOKUP(MID(AQ$23,4,4)&$A34,Lista_Ubigeo!$J:$K,2,0),\" \")","v":"TORO"},{"$f":"IFERROR(VLOOKUP(MID(AR$23,5,4)&$A34,Lista_Ubigeo!$J:$K,2,0),\" \")","v":"SANTIAGO DE PISCHA"},{"$f":"IFERROR(VLOOKUP(MID(AS$23,5,4)&$A34,Lista_Ubigeo!$J:$K,2,0),\" \")","v":" "},{"$f":"IFERROR(VLOOKUP(MID(AT$23,5,4)&$A34,Lista_Ubigeo!$J:$K,2,0),\" \")","v":" "},{"$f":"IFERROR(VLOOKUP(MID(AU$23,5,4)&$A34,Lista_Ubigeo!$J:$K,2,0),\" \")","v":"PUCACOLPA"},{"$f":"IFERROR(VLOOKUP(MID(AV$23,5,4)&$A34,Lista_Ubigeo!$J:$K,2,0),\" \")","v":"ORONCCOY"},{"$f":"IFERROR(VLOOKUP(MID(AW$23,5,4)&$A34,Lista_Ubigeo!$J:$K,2,0),\" \")","v":"LUCANAS"},{"$f":"IFERROR(VLOOKUP(MID(AX$23,5,4)&$A34,Lista_Ubigeo!$J:$K,2,0),\" \")","v":" "},{"$f":"IFERROR(VLOOKUP(MID(AY$23,5,4)&$A34,Lista_Ubigeo!$J:$K,2,0),\" \")","v":" "},{"$f":"IFERROR(VLOOKUP(MID(AZ$23,5,4)&$A34,Lista_Ubigeo!$J:$K,2,0),\" \")","v":"SORAS"},{"$f":"IFERROR(VLOOKUP(MID(BA$23,5,4)&$A34,Lista_Ubigeo!$J:$K,2,0),\" \")","v":"SARHUA"},{"$f":"IFERROR(VLOOKUP(MID(BB$23,5,4)&$A34,Lista_Ubigeo!$J:$K,2,0),\" \")","v":" "},{"$f":"IFERROR(VLOOKUP(MID(BC$23,5,4)&$A34,Lista_Ubigeo!$J:$K,2,0),\" \")","v":"NAMORA"},{"$f":"IFERROR(VLOOKUP(MID(BD$23,5,4)&$A34,Lista_Ubigeo!$J:$K,2,0),\" \")","v":" "},{"$f":"IFERROR(VLOOKUP(MID(BE$23,5,4)&$A34,Lista_Ubigeo!$J:$K,2,0),\" \")","v":"UTCO"},{"$f":"IFERROR(VLOOKUP(MID(BF$23,5,4)&$A34,Lista_Ubigeo!$J:$K,2,0),\" \")","v":"LLAMA"},{"$f":"IFERROR(VLOOKUP(MID(BG$23,5,4)&$A34,Lista_Ubigeo!$J:$K,2,0),\" \")","v":" "},{"$f":"IFERROR(VLOOKUP(MID(BH$23,5,4)&$A34,Lista_Ubigeo!$J:$K,2,0),\" \")","v":"SANTA CRUZ"},{"$f":"IFERROR(VLOOKUP(MID(BI$23,5,4)&$A34,Lista_Ubigeo!$J:$K,2,0),\" \")","v":" "},{"$f":"IFERROR(VLOOKUP(MID(BJ$23,5,4)&$A34,Lista_Ubigeo!$J:$K,2,0),\" \")","v":"SAN JOSE DEL ALTO"},{"$f":"IFERROR(VLOOKUP(MID(BK$23,5,4)&$A34,Lista_Ubigeo!$J:$K,2,0),\" \")","v":" "},{"$f":"IFERROR(VLOOKUP(MID(BL$23,5,4)&$A34,Lista_Ubigeo!$J:$K,2,0),\" \")","v":" "},{"$f":"IFERROR(VLOOKUP(MID(BM$23,5,4)&$A34,Lista_Ubigeo!$J:$K,2,0),\" \")","v":"SAN SILVESTRE DE COCHAN"},{"$f":"IFERROR(VLOOKUP(MID(BN$23,5,4)&$A34,Lista_Ubigeo!$J:$K,2,0),\" \")","v":" "},{"$f":"IFERROR(VLOOKUP(MID(BO$23,5,4)&$A34,Lista_Ubigeo!$J:$K,2,0),\" \")","v":"YAUYUCAN"},{"$f":"IFERROR(VLOOKUP(MID(BP$23,5,4)&$A34,Lista_Ubigeo!$J:$K,2,0),\" \")","v":" "},{"$f":"IFERROR(VLOOKUP(MID(BQ$23,5,4)&$A34,Lista_Ubigeo!$J:$K,2,0),\" \")","v":" "},{"$f":"IFERROR(VLOOKUP(MID(BR$23,5,4)&$A34,Lista_Ubigeo!$J:$K,2,0),\" \")","v":" "},{"$f":"IFERROR(VLOOKUP(MID(BS$23,5,4)&$A34,Lista_Ubigeo!$J:$K,2,0),\" \")","v":" "},{"$f":"IFERROR(VLOOKUP(MID(BT$23,5,4)&$A34,Lista_Ubigeo!$J:$K,2,0),\" \")","v":" "},{"$f":"IFERROR(VLOOKUP(MID(BU$23,5,4)&$A34,Lista_Ubigeo!$J:$K,2,0),\" \")","v":" "},{"$f":"IFERROR(VLOOKUP(MID(BV$23,5,4)&$A34,Lista_Ubigeo!$J:$K,2,0),\" \")","v":" "},{"$f":"IFERROR(VLOOKUP(MID(BW$23,5,4)&$A34,Lista_Ubigeo!$J:$K,2,0),\" \")","v":" "},{"$f":"IFERROR(VLOOKUP(MID(BX$23,5,4)&$A34,Lista_Ubigeo!$J:$K,2,0),\" \")","v":" "},{"$f":"IFERROR(VLOOKUP(MID(BY$23,4,4)&$A34,Lista_Ubigeo!$J:$K,2,0),\" \")","v":"INKAWASI"},{"$f":"IFERROR(VLOOKUP(MID(BZ$23,5,4)&$A34,Lista_Ubigeo!$J:$K,2,0),\" \")","v":" "},{"$f":"IFERROR(VLOOKUP(MID(CA$23,5,4)&$A34,Lista_Ubigeo!$J:$K,2,0),\" \")","v":" "},{"$f":"IFERROR(VLOOKUP(MID(CB$23,5,4)&$A34,Lista_Ubigeo!$J:$K,2,0),\" \")","v":"OROPESA"},{"$f":"IFERROR(VLOOKUP(MID(CC$23,5,4)&$A34,Lista_Ubigeo!$J:$K,2,0),\" \")","v":" "},{"$f":"IFERROR(VLOOKUP(MID(CD$23,5,4)&$A34,Lista_Ubigeo!$J:$K,2,0),\" \")","v":"MARISCAL CACERES"},{"$f":"IFERROR(VLOOKUP(MID(CE$23,5,4)&$A34,Lista_Ubigeo!$J:$K,2,0),\" \")","v":" "},{"$f":"IFERROR(VLOOKUP(MID(CF$23,5,4)&$A34,Lista_Ubigeo!$J:$K,2,0),\" \")","v":"SANTO TOMAS DE PATA"},{"$f":"IFERROR(VLOOKUP(MID(CG$23,5,4)&$A34,Lista_Ubigeo!$J:$K,2,0),\" \")","v":"SANTA ANA"},{"$f":"IFERROR(VLOOKUP(MID(CH$23,5,4)&$A34,Lista_Ubigeo!$J:$K,2,0),\" \")","v":"COSME"},{"$f":"IFERROR(VLOOKUP(MID(CI$23,5,4)&$A34,Lista_Ubigeo!$J:$K,2,0),\" \")","v":"SAN FRANCISCO DE SANGAYAICO"},{"$f":"IFERROR(VLOOKUP(MID(CJ$23,5,4)&$A34,Lista_Ubigeo!$J:$K,2,0),\" \")","v":"PAZOS"},{"$f":"IFERROR(VLOOKUP(MID(CK$23,5,4)&$A34,Lista_Ubigeo!$J:$K,2,0),\" \")","v":"PILLCO MARCA"},{"$f":"IFERROR(VLOOKUP(MID(CL$23,5,4)&$A34,Lista_Ubigeo!$J:$K,2,0),\" \")","v":" "},{"$f":"IFERROR(VLOOKUP(MID(CM$23,5,4)&$A45,Lista_Ubigeo!$J:$K,2,0),\" \")","v":"SILLAPATA"},{"$f":"IFERROR(VLOOKUP(MID(CN$23,5,4)&$A34,Lista_Ubigeo!$J:$K,2,0),\" \")","v":" "},{"$f":"IFERROR(VLOOKUP(MID(CO$23,5,4)&$A34,Lista_Ubigeo!$J:$K,2,0),\" \")","v":"TANTAMAYO"},{"$f":"IFERROR(VLOOKUP(MID(CP$23,5,4)&$A34,Lista_Ubigeo!$J:$K,2,0),\" \")","v":" "},{"$f":"IFERROR(VLOOKUP(MID(CQ$23,5,4)&$A34,Lista_Ubigeo!$J:$K,2,0),\" \")","v":" "},{"$f":"IFERROR(VLOOKUP(MID(CR$23,5,4)&$A34,Lista_Ubigeo!$J:$K,2,0),\" \")","v":" "},{"$f":"IFERROR(VLOOKUP(MID(CS$23,5,4)&$A34,Lista_Ubigeo!$J:$K,2,0),\" \")","v":" "},{"$f":"IFERROR(VLOOKUP(MID(CT$23,5,4)&$A34,Lista_Ubigeo!$J:$K,2,0),\" \")","v":" "},{"$f":"IFERROR(VLOOKUP(MID(CU$23,5,4)&$A34,Lista_Ubigeo!$J:$K,2,0),\" \")","v":" "},{"$f":"IFERROR(VLOOKUP(MID(CV$23,5,4)&$A34,Lista_Ubigeo!$J:$K,2,0),\" \")","v":"SANTIAGO"},{"$f":"IFERROR(VLOOKUP(MID(CW$23,5,4)&$A34,Lista_Ubigeo!$J:$K,2,0),\" \")","v":"TAMBO DE MORA"},{"$f":"IFERROR(VLOOKUP(MID(CX$23,5,4)&$A34,Lista_Ubigeo!$J:$K,2,0),\" \")","v":" "},{"$f":"IFERROR(VLOOKUP(MID(CY$23,5,4)&$A34,Lista_Ubigeo!$J:$K,2,0),\" \")","v":" "},{"$f":"IFERROR(VLOOKUP(MID(CZ$23,5,4)&$A34,Lista_Ubigeo!$J:$K,2,0),\" \")","v":" "},{"$f":"IFERROR(VLOOKUP(MID(DA$23,5,4)&$A34,Lista_Ubigeo!$J:$K,2,0),\" \")","v":"CHUPURO"},{"$f":"IFERROR(VLOOKUP(MID(DB$23,5,4)&$A34,Lista_Ubigeo!$J:$K,2,0),\" \")","v":"MITO"},{"$f":"IFERROR(VLOOKUP(MID(DC$23,5,4)&$A34,Lista_Ubigeo!$J:$K,2,0),\" \")","v":" "},{"$f":"IFERROR(VLOOKUP(MID(DD$23,5,4)&$A34,Lista_Ubigeo!$J:$K,2,0),\" \")","v":"JANJAILLO"},{"$f":"IFERROR(VLOOKUP(MID(DE$23,5,4)&$A34,Lista_Ubigeo!$J:$K,2,0),\" \")","v":" "},{"$f":"IFERROR(VLOOKUP(MID(DF$23,5,4)&$A34,Lista_Ubigeo!$J:$K,2,0),\" \")","v":" "},{"$f":"IFERROR(VLOOKUP(MID(DG$23,5,4)&$A34,Lista_Ubigeo!$J:$K,2,0),\" \")","v":" "},{"$f":"IFERROR(VLOOKUP(MID(DH$23,5,4)&$A34,Lista_Ubigeo!$J:$K,2,0),\" \")","v":" "},{"$f":"IFERROR(VLOOKUP(MID(DI$23,5,4)&$A34,Lista_Ubigeo!$J:$K,2,0),\" \")","v":" "},{"$f":"IFERROR(VLOOKUP(MID(DJ$23,5,4)&$A34,Lista_Ubigeo!$J:$K,2,0),\" \")","v":"VICTOR LARCO HERRERA"},{"$f":"IFERROR(VLOOKUP(MID(DK$23,5,4)&$A34,Lista_Ubigeo!$J:$K,2,0),\" \")","v":" "},{"$f":"IFERROR(VLOOKUP(MID(DL$23,5,4)&$A34,Lista_Ubigeo!$J:$K,2,0),\" \")","v":" "},{"$f":"IFERROR(VLOOKUP(MID(DM$23,5,4)&$A34,Lista_Ubigeo!$J:$K,2,0),\" \")","v":" "},{"$f":"IFERROR(VLOOKUP(MID(DN$23,5,4)&$A34,Lista_Ubigeo!$J:$K,2,0),\" \")","v":" "},{"$f":"IFERROR(VLOOKUP(MID(DO$23,5,4)&$A35,Lista_Ubigeo!$J:$K,2,0),\" \")","v":" "},{"$f":"IFERROR(VLOOKUP(MID(DP$23,5,4)&$A34,Lista_Ubigeo!$J:$K,2,0),\" \")","v":" "},{"$f":"IFERROR(VLOOKUP(MID(DQ$23,5,4)&$A34,Lista_Ubigeo!$J:$K,2,0),\" \")","v":"SANTIAGO DE CHALLAS"},{"$f":"IFERROR(VLOOKUP(MID(DR$23,5,4)&$A34,Lista_Ubigeo!$J:$K,2,0),\" \")","v":" "},{"$f":"IFERROR(VLOOKUP(MID(DS$23,5,4)&$A34,Lista_Ubigeo!$J:$K,2,0),\" \")","v":" "},null,null,{"$f":"IFERROR(VLOOKUP(MID(DV$23,5,4)&$A34,Lista_Ubigeo!$J:$K,2,0),\" \")","v":"PICSI"},{"$f":"IFERROR(VLOOKUP(MID(DW$23,5,4)&$A34,Lista_Ubigeo!$J:$K,2,0),\" \")","v":" "},{"$f":"IFERROR(VLOOKUP(MID(DX$23,5,4)&$A34,Lista_Ubigeo!$J:$K,2,0),\" \")","v":"SAN JOSE"},{"$f":"IFERROR(VLOOKUP(MID(DY$23,5,4)&$A34,Lista_Ubigeo!$J:$K,2,0),\" \")","v":"EL AGUSTINO"},{"$f":"IFERROR(VLOOKUP(MID(DZ$23,5,4)&$A34,Lista_Ubigeo!$J:$K,2,0),\" \")","v":" "},{"$f":"IFERROR(VLOOKUP(MID(EA$23,5,4)&$A34,Lista_Ubigeo!$J:$K,2,0),\" \")","v":" "},{"$f":"IFERROR(VLOOKUP(MID(EB$23,5,4)&$A34,Lista_Ubigeo!$J:$K,2,0),\" \")","v":" "},{"$f":"IFERROR(VLOOKUP(MID(EC$23,5,4)&$A34,Lista_Ubigeo!$J:$K,2,0),\" \")","v":"PACARAN"},{"$f":"IFERROR(VLOOKUP(MID(ED$23,5,4)&$A34,Lista_Ubigeo!$J:$K,2,0),\" \")","v":"SUMBILCA"},{"$f":"IFERROR(VLOOKUP(MID(EE$23,5,4)&$A34,Lista_Ubigeo!$J:$K,2,0),\" \")","v":"LANGA"},{"$f":"IFERROR(VLOOKUP(MID(EF$23,5,4)&$A34,Lista_Ubigeo!$J:$K,2,0),\" \")","v":"SAYAN"},{"$f":"IFERROR(VLOOKUP(MID(EG$23,5,4)&$A34,Lista_Ubigeo!$J:$K,2,0),\" \")","v":" "},{"$f":"IFERROR(VLOOKUP(MID(EH$23,5,4)&$A34,Lista_Ubigeo!$J:$K,2,0),\" \")","v":"COLONIA"},{"$f":"IFERROR(VLOOKUP(MID(EI$23,5,4)&$A34,Lista_Ubigeo!$J:$K,2,0),\" \")","v":" "},{"$f":"IFERROR(VLOOKUP(MID(EJ$23,5,4)&$A39,Lista_Ubigeo!$J:$K,2,0),\" \")","v":" "},{"$f":"IFERROR(VLOOKUP(MID(EK$23,5,4)&$A34,Lista_Ubigeo!$J:$K,2,0),\" \")","v":" "},{"$f":"IFERROR(VLOOKUP(MID(EL$23,5,4)&$A34,Lista_Ubigeo!$J:$K,2,0),\" \")","v":" "},{"$f":"IFERROR(VLOOKUP(MID(EM$23,5,4)&$A34,Lista_Ubigeo!$J:$K,2,0),\" \")","v":"YAQUERANA"},{"$f":"IFERROR(VLOOKUP(MID(EN$23,5,4)&$A34,Lista_Ubigeo!$J:$K,2,0),\" \")","v":" "},{"$f":"IFERROR(VLOOKUP(MID(EO$23,5,4)&$A34,Lista_Ubigeo!$J:$K,2,0),\" \")","v":" "},{"$f":"IFERROR(VLOOKUP(MID(EP$23,5,4)&$A34,Lista_Ubigeo!$J:$K,2,0),\" \")","v":" "},{"$f":"IFERROR(VLOOKUP(MID(EQ$23,5,4)&$A34,Lista_Ubigeo!$J:$K,2,0),\" \")","v":" "},{"$f":"IFERROR(VLOOKUP(MID(ER$23,5,4)&$A34,Lista_Ubigeo!$J:$K,2,0),\" \")","v":" "},{"$f":"IFERROR(VLOOKUP(MID(ES$23,5,4)&$A34,Lista_Ubigeo!$J:$K,2,0),\" \")","v":" "},{"$f":"IFERROR(VLOOKUP(MID(ET$23,5,4)&$A34,Lista_Ubigeo!$J:$K,2,0),\" \")","v":" "},{"$f":"IFERROR(VLOOKUP(MID(EU$23,5,4)&$A34,Lista_Ubigeo!$J:$K,2,0),\" \")","v":"YUNGA"},{"$f":"IFERROR(VLOOKUP(MID(EV$23,5,4)&$A34,Lista_Ubigeo!$J:$K,2,0),\" \")","v":" "},{"$f":"IFERROR(VLOOKUP(MID(EW$23,5,4)&$A34,Lista_Ubigeo!$J:$K,2,0),\" \")","v":"TINYAHUARCO"},{"$f":"IFERROR(VLOOKUP(MID(EX$23,5,4)&$A34,Lista_Ubigeo!$J:$K,2,0),\" \")","v":" "},{"$f":"IFERROR(VLOOKUP(MID(EY$23,5,4)&$A34,Lista_Ubigeo!$J:$K,2,0),\" \")","v":" "},{"$f":"IFERROR(VLOOKUP(MID(EZ$23,5,4)&$A37,Lista_Ubigeo!$J:$K,2,0),\" \")","v":"TAMBO GRANDE"},{"$f":"IFERROR(VLOOKUP(MID(FA$23,5,4)&$A34,Lista_Ubigeo!$J:$K,2,0),\" \")","v":" "},{"$f":"IFERROR(VLOOKUP(MID(FB$23,5,4)&$A34,Lista_Ubigeo!$J:$K,2,0),\" \")","v":" "},{"$f":"IFERROR(VLOOKUP(MID(FC$23,5,4)&$A34,Lista_Ubigeo!$J:$K,2,0),\" \")","v":" "},{"$f":"IFERROR(VLOOKUP(MID(FD$23,5,4)&$A34,Lista_Ubigeo!$J:$K,2,0),\" \")","v":" "},{"$f":"IFERROR(VLOOKUP(MID(FE$23,5,4)&$A34,Lista_Ubigeo!$J:$K,2,0),\" \")","v":" "},{"$f":"IFERROR(VLOOKUP(MID(FF$23,5,4)&$A34,Lista_Ubigeo!$J:$K,2,0),\" \")","v":" "},{"$f":"IFERROR(VLOOKUP(MID(FG$23,5,4)&$A34,Lista_Ubigeo!$J:$K,2,0),\" \")","v":" "},{"$f":"IFERROR(VLOOKUP(MID(FH$23,5,4)&$A34,Lista_Ubigeo!$J:$K,2,0),\" \")","v":"PICHACANI"},{"$f":"IFERROR(VLOOKUP(MID(FI$23,5,4)&$A34,Lista_Ubigeo!$J:$K,2,0),\" \")","v":"SAN ANTON"},{"$f":"IFERROR(VLOOKUP(MID(FJ$23,5,4)&$A34,Lista_Ubigeo!$J:$K,2,0),\" \")","v":" "},{"$f":"IFERROR(VLOOKUP(MID(FK$23,5,4)&$A34,Lista_Ubigeo!$J:$K,2,0),\" \")","v":" "},{"$f":"IFERROR(VLOOKUP(MID(FL$23,5,4)&$A34,Lista_Ubigeo!$J:$K,2,0),\" \")","v":" "},{"$f":"IFERROR(VLOOKUP(MID(FM$23,5,4)&$A34,Lista_Ubigeo!$J:$K,2,0),\" \")","v":" "},{"$f":"IFERROR(VLOOKUP(MID(FN$23,5,4)&$A34,Lista_Ubigeo!$J:$K,2,0),\" \")","v":" "},{"$f":"IFERROR(VLOOKUP(MID(FO$23,5,4)&$A34,Lista_Ubigeo!$J:$K,2,0),\" \")","v":" "},{"$f":"IFERROR(VLOOKUP(MID(FP$23,5,4)&$A34,Lista_Ubigeo!$J:$K,2,0),\" \")","v":" "},{"$f":"IFERROR(VLOOKUP(MID(FQ$23,5,4)&$A34,Lista_Ubigeo!$J:$K,2,0),\" \")","v":" "},{"$f":"IFERROR(VLOOKUP(MID(FR$23,5,4)&$A34,Lista_Ubigeo!$J:$K,2,0),\" \")","v":" "},{"$f":"IFERROR(VLOOKUP(MID(FS$23,5,4)&$A34,Lista_Ubigeo!$J:$K,2,0),\" \")","v":" "},{"$f":"IFERROR(VLOOKUP(MID(FT$23,5,4)&$A34,Lista_Ubigeo!$J:$K,2,0),\" \")","v":" "},{"$f":"IFERROR(VLOOKUP(MID(FU$23,5,4)&$A34,Lista_Ubigeo!$J:$K,2,0),\" \")","v":" "},{"$f":"IFERROR(VLOOKUP(MID(FV$23,5,4)&$A34,Lista_Ubigeo!$J:$K,2,0),\" \")","v":" "},{"$f":"IFERROR(VLOOKUP(MID(FW$23,5,4)&$A34,Lista_Ubigeo!$J:$K,2,0),\" \")","v":" "},{"$f":"IFERROR(VLOOKUP(MID(FX$23,5,4)&$A34,Lista_Ubigeo!$J:$K,2,0),\" \")","v":" "},{"$f":"IFERROR(VLOOKUP(MID(FY$23,5,4)&$A34,Lista_Ubigeo!$J:$K,2,0),\" \")","v":"ZAPATERO"},{"$f":"IFERROR(VLOOKUP(MID(FZ$23,5,4)&$A34,Lista_Ubigeo!$J:$K,2,0),\" \")","v":" "},{"$f":"IFERROR(VLOOKUP(MID(GA$23,5,4)&$A34,Lista_Ubigeo!$J:$K,2,0),\" \")","v":" "},{"$f":"IFERROR(VLOOKUP(MID(GB$23,5,4)&$A34,Lista_Ubigeo!$J:$K,2,0),\" \")","v":" "},{"$f":"IFERROR(VLOOKUP(MID(GC$23,5,4)&$A34,Lista_Ubigeo!$J:$K,2,0),\" \")","v":"PAPAPLAYA"},{"$f":"IFERROR(VLOOKUP(MID(GD$23,5,4)&$A34,Lista_Ubigeo!$J:$K,2,0),\" \")","v":" "},{"$f":"IFERROR(VLOOKUP(MID(GE$23,5,4)&$A34,Lista_Ubigeo!$J:$K,2,0),\" \")","v":"LA YARADA-LOS PALOS"},{"$f":"IFERROR(VLOOKUP(MID(GF$23,5,4)&$A34,Lista_Ubigeo!$J:$K,2,0),\" \")","v":" "},{"$f":"IFERROR(VLOOKUP(MID(GG$23,5,4)&$A34,Lista_Ubigeo!$J:$K,2,0),\" \")","v":" "},{"$f":"IFERROR(VLOOKUP(MID(GH$23,5,4)&$A34,Lista_Ubigeo!$J:$K,2,0),\" \")","v":" "},{"$f":"IFERROR(VLOOKUP(MID(GI$23,5,4)&$A34,Lista_Ubigeo!$J:$K,2,0),\" \")","v":" "},{"$f":"IFERROR(VLOOKUP(MID(GJ$23,5,4)&$A34,Lista_Ubigeo!$J:$K,2,0),\" \")","v":" "},{"$f":"IFERROR(VLOOKUP(MID(GK$23,5,4)&$A34,Lista_Ubigeo!$J:$K,2,0),\" \")","v":" "},{"$f":"IFERROR(VLOOKUP(MID(GL$23,5,4)&$A34,Lista_Ubigeo!$J:$K,2,0),\" \")","v":" "},{"$f":"IFERROR(VLOOKUP(MID(GM$23,5,4)&$A34,Lista_Ubigeo!$J:$K,2,0),\" \")","v":" "},{"$f":"IFERROR(VLOOKUP(MID(GN$23,5,4)&$A34,Lista_Ubigeo!$J:$K,2,0),\" \")","v":" "},{"$f":"IFERROR(VLOOKUP(MID(GO$23,5,4)&$A34,Lista_Ubigeo!$J:$K,2,0),\" \")","v":" "},{"$f":"IFERROR(VLOOKUP(MID(GP$23,5,4)&$A34,Lista_Ubigeo!$J:$K,2,0),\" \")","v":"SAN ANTON"}]
["12",{"$f":"IFERROR(VLOOKUP(MID(B$23,5,4)&$A35,Lista_Ubigeo!$J:$K,2,0),\" \")","v":"MAGDALENA"},{"$f":"IFERROR(VLOOKUP(MID(C$23,5,4)&$A35,Lista_Ubigeo!$J:$K,2,0),\" \")","v":" "},{"$f":"IFERROR(VLOOKUP(MID(D$23,5,4)&$A35,Lista_Ubigeo!$J:$K,2,0),\" \")","v":"YAMBRASBAMBA"},{"$f":"IFERROR(VLOOKUP(MID(E$23,5,4)&$A35,Lista_Ubigeo!$J:$K,2,0),\" \")","v":" "},{"$f":"IFERROR(VLOOKUP(MID(F$23,5,4)&$A35,Lista_Ubigeo!$J:$K,2,0),\" \")","v":"OCALLI"},{"$f":"IFERROR(VLOOKUP(MID(G$23,5,4)&$A35,Lista_Ubigeo!$J:$K,2,0),\" \")","v":"VISTA ALEGRE"},{"$f":"IFERROR(VLOOKUP(MID(H$23,5,4)&$A35,Lista_Ubigeo!$J:$K,2,0),\" \")","v":" "},{"$f":"IFERROR(VLOOKUP(MID(I$23,5,4)&$A35,Lista_Ubigeo!$J:$K,2,0),\" \")","v":"TARICA"},{"$f":"IFERROR(VLOOKUP(MID(J$23,5,4)&$A35,Lista_Ubigeo!$J:$K,2,0),\" \")","v":" "},{"$f":"IFERROR(VLOOKUP(MID(K$23,5,4)&$A35,Lista_Ubigeo!$J:$K,2,0),\" \")","v":" "},{"$f":"IFERROR(VLOOKUP(MID(L$23,5,4)&$A35,Lista_Ubigeo!$J:$K,2,0),\" \")","v":" "},{"$f":"IFERROR(VLOOKUP(MID(M$23,5,4)&$A35,Lista_Ubigeo!$J:$K,2,0),\" \")","v":"MANGAS"},{"$f":"IFERROR(VLOOKUP(MID(N$23,5,4)&$A35,Lista_Ubigeo!$J:$K,2,0),\" \")","v":" "},{"$f":"IFERROR(VLOOKUP(MID(O$23,5,4)&$A35,Lista_Ubigeo!$J:$K,2,0),\" \")","v":" "},{"$f":"IFERROR(VLOOKUP(MID(P$23,5,4)&$A35,Lista_Ubigeo!$J:$K,2,0),\" \")","v":" "},{"$f":"IFERROR(VLOOKUP(MID(Q$23,5,4)&$A35,Lista_Ubigeo!$J:$K,2,0),\" \")","v":" "},{"$f":"IFERROR(VLOOKUP(MID(R$23,5,4)&$A35,Lista_Ubigeo!$J:$K,2,0),\" \")","v":"RAHUAPAMPA"},{"$f":"IFERROR(VLOOKUP(MID(S$23,5,4)&$A35,Lista_Ubigeo!$J:$K,2,0),\" \")","v":" "},{"$f":"IFERROR(VLOOKUP(MID(T$23,5,4)&$A35,Lista_Ubigeo!$J:$K,2,0),\" \")","v":" "},{"$f":"IFERROR(VLOOKUP(MID(U$23,5,4)&$A35,Lista_Ubigeo!$J:$K,2,0),\" \")","v":" "},{"$f":"IFERROR(VLOOKUP(MID(V$23,5,4)&$A35,Lista_Ubigeo!$J:$K,2,0),\" \")","v":" "},{"$f":"IFERROR(VLOOKUP(MID(W$23,5,4)&$A35,Lista_Ubigeo!$J:$K,2,0),\" \")","v":" "},{"$f":"IFERROR(VLOOKUP(MID(X$23,5,4)&$A35,Lista_Ubigeo!$J:$K,2,0),\" \")","v":" "},{"$f":"IFERROR(VLOOKUP(MID(Y$23,5,4)&$A35,Lista_Ubigeo!$J:$K,2,0),\" \")","v":" "},{"$f":"IFERROR(VLOOKUP(MID(Z$23,5,4)&$A35,Lista_Ubigeo!$J:$K,2,0),\" \")","v":" "},{"$f":"IFERROR(VLOOKUP(MID(AA$23,5,4)&$A35,Lista_Ubigeo!$J:$K,2,0),\" \")","v":" "},{"$f":"IFERROR(VLOOKUP(MID(AB$23,5,4)&$A35,Lista_Ubigeo!$J:$K,2,0),\" \")","v":" "},{"$f":"IFERROR(VLOOKUP(MID(AC$23,5,4)&$A35,Lista_Ubigeo!$J:$K,2,0),\" \")","v":" "},{"$f":"IFERROR(VLOOKUP(MID(AD$23,5,4)&$A35,Lista_Ubigeo!$J:$K,2,0),\" \")","v":"SAN ANTONIO DE CACHI"},{"$f":"IFERROR(VLOOKUP(MID(AE$23,5,4)&$A35,Lista_Ubigeo!$J:$K,2,0),\" \")","v":" "},{"$f":"IFERROR(VLOOKUP(MID(AF$23,5,4)&$A35,Lista_Ubigeo!$J:$K,2,0),\" \")","v":"SAÑAYCA"},{"$f":"IFERROR(VLOOKUP(MID(AG$23,5,4)&$A35,Lista_Ubigeo!$J:$K,2,0),\" \")","v":" "},{"$f":"IFERROR(VLOOKUP(MID(AH$23,5,4)&$A35,Lista_Ubigeo!$J:$K,2,0),\" \")","v":" "},{"$f":"IFERROR(VLOOKUP(MID(AI$23,5,4)&$A35,Lista_Ubigeo!$J:$K,2,0),\" \")","v":"VILCABAMBA"},{"$f":"IFERROR(VLOOKUP(MID(AJ$23,5,4)&$A35,Lista_Ubigeo!$J:$K,2,0),\" \")","v":"PAUCARPATA"},{"$f":"IFERROR(VLOOKUP(MID(AK$23,5,4)&$A35,Lista_Ubigeo!$J:$K,2,0),\" \")","v":" "},{"$f":"IFERROR(VLOOKUP(MID(AL$23,5,4)&$A35,Lista_Ubigeo!$J:$K,2,0),\" \")","v":"QUICACHA"},{"$f":"IFERROR(VLOOKUP(MID(AM$23,5,4)&$A35,Lista_Ubigeo!$J:$K,2,0),\" \")","v":"UÑON"},{"$f":"IFERROR(VLOOKUP(MID(AN$23,5,4)&$A35,Lista_Ubigeo!$J:$K,2,0),\" \")","v":"MACA"},{"$f":"IFERROR(VLOOKUP(MID(AO$23,5,4)&$A35,Lista_Ubigeo!$J:$K,2,0),\" \")","v":" "},{"$f":"IFERROR(VLOOKUP(MID(AP$23,5,4)&$A35,Lista_Ubigeo!$J:$K,2,0),\" \")","v":" "},{"$f":"IFERROR(VLOOKUP(MID(AQ$23,4,4)&$A35,Lista_Ubigeo!$J:$K,2,0),\" \")","v":" "},{"$f":"IFERROR(VLOOKUP(MID(AR$23,5,4)&$A35,Lista_Ubigeo!$J:$K,2,0),\" \")","v":"SOCOS"},{"$f":"IFERROR(VLOOKUP(MID(AS$23,5,4)&$A35,Lista_Ubigeo!$J:$K,2,0),\" \")","v":" "},{"$f":"IFERROR(VLOOKUP(MID(AT$23,5,4)&$A35,Lista_Ubigeo!$J:$K,2,0),\" \")","v":" "},{"$f":"IFERROR(VLOOKUP(MID(AU$23,5,4)&$A35,Lista_Ubigeo!$J:$K,2,0),\" \")","v":"CHACA"},{"$f":"IFERROR(VLOOKUP(MID(AV$23,5,4)&$A35,Lista_Ubigeo!$J:$K,2,0),\" \")","v":" "},{"$f":"IFERROR(VLOOKUP(MID(AW$23,5,4)&$A35,Lista_Ubigeo!$J:$K,2,0),\" \")","v":"OCAÑA"},{"$f":"IFERROR(VLOOKUP(MID(AX$23,5,4)&$A35,Lista_Ubigeo!$J:$K,2,0),\" \")","v":" "},{"$f":"IFERROR(VLOOKUP(MID(AY$23,5,4)&$A35,Lista_Ubigeo!$J:$K,2,0),\" \")","v":" "},{"$f":"IFERROR(VLOOKUP(MID(AZ$23,5,4)&$A35,Lista_Ubigeo!$J:$K,2,0),\" \")","v":" "},{"$f":"IFERROR(VLOOKUP(MID(BA$23,5,4)&$A35,Lista_Ubigeo!$J:$K,2,0),\" \")","v":"VILCANCHOS"},{"$f":"IFERROR(VLOOKUP(MID(BB$23,5,4)&$A35,Lista_Ubigeo!$J:$K,2,0),\" \")","v":" "},{"$f":"IFERROR(VLOOKUP(MID(BC$23,5,4)&$A35,Lista_Ubigeo!$J:$K,2,0),\" \")","v":"SAN JUAN"},{"$f":"IFERROR(VLOOKUP(MID(BD$23,5,4)&$A35,Lista_Ubigeo!$J:$K,2,0),\" \")","v":" "},{"$f":"IFERROR(VLOOKUP(MID(BE$23,5,4)&$A35,Lista_Ubigeo!$J:$K,2,0),\" \")","v":"LA LIBERTAD DE PALLAN"},{"$f":"IFERROR(VLOOKUP(MID(BF$23,5,4)&$A35,Lista_Ubigeo!$J:$K,2,0),\" \")","v":"MIRACOSTA"},{"$f":"IFERROR(VLOOKUP(MID(BG$23,5,4)&$A35,Lista_Ubigeo!$J:$K,2,0),\" \")","v":" "},{"$f":"IFERROR(VLOOKUP(MID(BH$23,5,4)&$A35,Lista_Ubigeo!$J:$K,2,0),\" \")","v":"SANTO DOMINGO DE LA CAPILLA"},{"$f":"IFERROR(VLOOKUP(MID(BI$23,5,4)&$A35,Lista_Ubigeo!$J:$K,2,0),\" \")","v":" "},{"$f":"IFERROR(VLOOKUP(MID(BJ$23,5,4)&$A35,Lista_Ubigeo!$J:$K,2,0),\" \")","v":"SANTA ROSA"},{"$f":"IFERROR(VLOOKUP(MID(BK$23,5,4)&$A35,Lista_Ubigeo!$J:$K,2,0),\" \")","v":" "},{"$f":"IFERROR(VLOOKUP(MID(BL$23,5,4)&$A35,Lista_Ubigeo!$J:$K,2,0),\" \")","v":" "},{"$f":"IFERROR(VLOOKUP(MID(BM$23,5,4)&$A35,Lista_Ubigeo!$J:$K,2,0),\" \")","v":"TONGOD"},{"$f":"IFERROR(VLOOKUP(MID(BN$23,5,4)&$A35,Lista_Ubigeo!$J:$K,2,0),\" \")","v":" "},{"$f":"IFERROR(VLOOKUP(MID(BO$23,5,4)&$A35,Lista_Ubigeo!$J:$K,2,0),\" \")","v":" "},{"$f":"IFERROR(VLOOKUP(MID(BP$23,5,4)&$A35,Lista_Ubigeo!$J:$K,2,0),\" \")","v":" "},{"$f":"IFERROR(VLOOKUP(MID(BQ$23,5,4)&$A35,Lista_Ubigeo!$J:$K,2,0),\" \")","v":" "},{"$f":"IFERROR(VLOOKUP(MID(BR$23,5,4)&$A35,Lista_Ubigeo!$J:$K,2,0),\" \")","v":" "},{"$f":"IFERROR(VLOOKUP(MID(BS$23,5,4)&$A35,Lista_Ubigeo!$J:$K,2,0),\" \")","v":" "},{"$f":"IFERROR(VLOOKUP(MID(BT$23,5,4)&$A35,Lista_Ubigeo!$J:$K,2,0),\" \")","v":" "},{"$f":"IFERROR(VLOOKUP(MID(BU$23,5,4)&$A35,Lista_Ubigeo!$J:$K,2,0),\" \")","v":" "},{"$f":"IFERROR(VLOOKUP(MID(BV$23,5,4)&$A35,Lista_Ubigeo!$J:$K,2,0),\" \")","v":" "},{"$f":"IFERROR(VLOOKUP(MID(BW$23,5,4)&$A35,Lista_Ubigeo!$J:$K,2,0),\" \")","v":" "},{"$f":"IFERROR(VLOOKUP(MID(BX$23,5,4)&$A35,Lista_Ubigeo!$J:$K,2,0),\" \")","v":" "},{"$f":"IFERROR(VLOOKUP(MID(BY$23,4,4)&$A35,Lista_Ubigeo!$J:$K,2,0),\" \")","v":"VILLA VIRGEN"},{"$f":"IFERROR(VLOOKUP(MID(BZ$23,5,4)&$A35,Lista_Ubigeo!$J:$K,2,0),\" \")","v":" "},{"$f":"IFERROR(VLOOKUP(MID(CA$23,5,4)&$A35,Lista_Ubigeo!$J:$K,2,0),\" \")","v":" "},{"$f":"IFERROR(VLOOKUP(MID(CB$23,5,4)&$A35,Lista_Ubigeo!$J:$K,2,0),\" \")","v":"QUIQUIJANA"},{"$f":"IFERROR(VLOOKUP(MID(CC$23,5,4)&$A35,Lista_Ubigeo!$J:$K,2,0),\" \")","v":" "},{"$f":"IFERROR(VLOOKUP(MID(CD$23,5,4)&$A35,Lista_Ubigeo!$J:$K,2,0),\" \")","v":"MOYA"},{"$f":"IFERROR(VLOOKUP(MID(CE$23,5,4)&$A35,Lista_Ubigeo!$J:$K,2,0),\" \")","v":" "},{"$f":"IFERROR(VLOOKUP(MID(CF$23,5,4)&$A35,Lista_Ubigeo!$J:$K,2,0),\" \")","v":"SECCLLA"},{"$f":"IFERROR(VLOOKUP(MID(CG$23,5,4)&$A35,Lista_Ubigeo!$J:$K,2,0),\" \")","v":"TANTARA"},{"$f":"IFERROR(VLOOKUP(MID(CH$23,5,4)&$A35,Lista_Ubigeo!$J:$K,2,0),\" \")","v":" "},{"$f":"IFERROR(VLOOKUP(MID(CI$23,5,4)&$A35,Lista_Ubigeo!$J:$K,2,0),\" \")","v":"SAN ISIDRO"},{"$f":"IFERROR(VLOOKUP(MID(CJ$23,5,4)&$A35,Lista_Ubigeo!$J:$K,2,0),\" \")","v":" "},{"$f":"IFERROR(VLOOKUP(MID(CK$23,5,4)&$A35,Lista_Ubigeo!$J:$K,2,0),\" \")","v":"YACUS"},{"$f":"IFERROR(VLOOKUP(MID(CL$23,5,4)&$A35,Lista_Ubigeo!$J:$K,2,0),\" \")","v":" "},{"$f":"IFERROR(VLOOKUP(MID(CM$23,5,4)&$A46,Lista_Ubigeo!$J:$K,2,0),\" \")","v":"YANAS"},{"$f":"IFERROR(VLOOKUP(MID(CN$23,5,4)&$A35,Lista_Ubigeo!$J:$K,2,0),\" \")","v":" "},{"$f":"IFERROR(VLOOKUP(MID(CO$23,5,4)&$A35,Lista_Ubigeo!$J:$K,2,0),\" \")","v":" "},{"$f":"IFERROR(VLOOKUP(MID(CP$23,5,4)&$A35,Lista_Ubigeo!$J:$K,2,0),\" \")","v":" "},{"$f":"IFERROR(VLOOKUP(MID(CQ$23,5,4)&$A35,Lista_Ubigeo!$J:$K,2,0),\" \")","v":" "},{"$f":"IFERROR(VLOOKUP(MID(CR$23,5,4)&$A35,Lista_Ubigeo!$J:$K,2,0),\" \")","v":" "},{"$f":"IFERROR(VLOOKUP(MID(CS$23,5,4)&$A35,Lista_Ubigeo!$J:$K,2,0),\" \")","v":" "},{"$f":"IFERROR(VLOOKUP(MID(CT$23,5,4)&$A35,Lista_Ubigeo!$J:$K,2,0),\" \")","v":" "},{"$f":"IFERROR(VLOOKUP(MID(CU$23,5,4)&$A35,Lista_Ubigeo!$J:$K,2,0),\" \")","v":" "},{"$f":"IFERROR(VLOOKUP(MID(CV$23,5,4)&$A35,Lista_Ubigeo!$J:$K,2,0),\" \")","v":"SUBTANJALLA"},{"$f":"IFERROR(VLOOKUP(MID(CW$23,5,4)&$A35,Lista_Ubigeo!$J:$K,2,0),\" \")","v":" "},{"$f":"IFERROR(VLOOKUP(MID(CX$23,5,4)&$A35,Lista_Ubigeo!$J:$K,2,0),\" \")","v":" "},{"$f":"IFERROR(VLOOKUP(MID(CY$23,5,4)&$A35,Lista_Ubigeo!$J:$K,2,0),\" \")","v":" "},{"$f":"IFERROR(VLOOKUP(MID(CZ$23,5,4)&$A35,Lista_Ubigeo!$J:$K,2,0),\" \")","v":" "},{"$f":"IFERROR(VLOOKUP(MID(DA$23,5,4)&$A35,Lista_Ubigeo!$J:$K,2,0),\" \")","v":"COLCA"},{"$f":"IFERROR(VLOOKUP(MID(DB$23,5,4)&$A35,Lista_Ubigeo!$J:$K,2,0),\" \")","v":"NUEVE DE JULIO"},{"$f":"IFERROR(VLOOKUP(MID(DC$23,5,4)&$A35,Lista_Ubigeo!$J:$K,2,0),\" \")","v":" "},{"$f":"IFERROR(VLOOKUP(MID(DD$23,5,4)&$A35,Lista_Ubigeo!$J:$K,2,0),\" \")","v":"JULCAN"},{"$f":"IFERROR(VLOOKUP(MID(DE$23,5,4)&$A35,Lista_Ubigeo!$J:$K,2,0),\" \")","v":" "},{"$f":"IFERROR(VLOOKUP(MID(DF$23,5,4)&$A35,Lista_Ubigeo!$J:$K,2,0),\" \")","v":" "},{"$f":"IFERROR(VLOOKUP(MID(DG$23,5,4)&$A35,Lista_Ubigeo!$J:$K,2,0),\" \")","v":" "},{"$f":"IFERROR(VLOOKUP(MID(DH$23,5,4)&$A35,Lista_Ubigeo!$J:$K,2,0),\" \")","v":" "},{"$f":"IFERROR(VLOOKUP(MID(DI$23,5,4)&$A35,Lista_Ubigeo!$J:$K,2,0),\" \")","v":" "},{"$f":"IFERROR(VLOOKUP(MID(DJ$23,5,4)&$A35,Lista_Ubigeo!$J:$K,2,0),\" \")","v":" "},{"$f":"IFERROR(VLOOKUP(MID(DK$23,5,4)&$A35,Lista_Ubigeo!$J:$K,2,0),\" \")","v":" "},{"$f":"IFERROR(VLOOKUP(MID(DL$23,5,4)&$A35,Lista_Ubigeo!$J:$K,2,0),\" \")","v":" "},{"$f":"IFERROR(VLOOKUP(MID(DM$23,5,4)&$A35,Lista_Ubigeo!$J:$K,2,0),\" \")","v":" "},{"$f":"IFERROR(VLOOKUP(MID(DN$23,5,4)&$A35,Lista_Ubigeo!$J:$K,2,0),\" \")","v":" "},{"$f":"IFERROR(VLOOKUP(MID(DO$23,5,4)&$A36,Lista_Ubigeo!$J:$K,2,0),\" \")","v":"SINSICAP"},{"$f":"IFERROR(VLOOKUP(MID(DP$23,5,4)&$A35,Lista_Ubigeo!$J:$K,2,0),\" \")","v":" "},{"$f":"IFERROR(VLOOKUP(MID(DQ$23,5,4)&$A35,Lista_Ubigeo!$J:$K,2,0),\" \")","v":"TAURIJA"},{"$f":"IFERROR(VLOOKUP(MID(DR$23,5,4)&$A35,Lista_Ubigeo!$J:$K,2,0),\" \")","v":" "},{"$f":"IFERROR(VLOOKUP(MID(DS$23,5,4)&$A35,Lista_Ubigeo!$J:$K,2,0),\" \")","v":" "},null,null,{"$f":"IFERROR(VLOOKUP(MID(DV$23,5,4)&$A35,Lista_Ubigeo!$J:$K,2,0),\" \")","v":"PIMENTEL"},{"$f":"IFERROR(VLOOKUP(MID(DW$23,5,4)&$A35,Lista_Ubigeo!$J:$K,2,0),\" \")","v":" "},{"$f":"IFERROR(VLOOKUP(MID(DX$23,5,4)&$A35,Lista_Ubigeo!$J:$K,2,0),\" \")","v":"TUCUME"},{"$f":"IFERROR(VLOOKUP(MID(DY$23,5,4)&$A35,Lista_Ubigeo!$J:$K,2,0),\" \")","v":"INDEPENDENCIA"},{"$f":"IFERROR(VLOOKUP(MID(DZ$23,5,4)&$A35,Lista_Ubigeo!$J:$K,2,0),\" \")","v":" "},{"$f":"IFERROR(VLOOKUP(MID(EA$23,5,4)&$A35,Lista_Ubigeo!$J:$K,2,0),\" \")","v":" "},{"$f":"IFERROR(VLOOKUP(MID(EB$23,5,4)&$A35,Lista_Ubigeo!$J:$K,2,0),\" \")","v":" "},{"$f":"IFERROR(VLOOKUP(MID(EC$23,5,4)&$A35,Lista_Ubigeo!$J:$K,2,0),\" \")","v":"QUILMANA"},{"$f":"IFERROR(VLOOKUP(MID(ED$23,5,4)&$A35,Lista_Ubigeo!$J:$K,2,0),\" \")","v":"VEINTISIETE DE NOVIEMBRE"},{"$f":"IFERROR(VLOOKUP(MID(EE$23,5,4)&$A35,Lista_Ubigeo!$J:$K,2,0),\" \")","v":"LARAOS"},{"$f":"IFERROR(VLOOKUP(MID(EF$23,5,4)&$A35,Lista_Ubigeo!$J:$K,2,0),\" \")","v":"VEGUETA"},{"$f":"IFERROR(VLOOKUP(MID(EG$23,5,4)&$A35,Lista_Ubigeo!$J:$K,2,0),\" \")","v":" "},{"$f":"IFERROR(VLOOKUP(MID(EH$23,5,4)&$A35,Lista_Ubigeo!$J:$K,2,0),\" \")","v":"HONGOS"},{"$f":"IFERROR(VLOOKUP(MID(EI$23,5,4)&$A35,Lista_Ubigeo!$J:$K,2,0),\" \")","v":"BELEN"},{"$f":"IFERROR(VLOOKUP(MID(EJ$23,5,4)&$A40,Lista_Ubigeo!$J:$K,2,0),\" \")","v":" "},{"$f":"IFERROR(VLOOKUP(MID(EK$23,5,4)&$A35,Lista_Ubigeo!$J:$K,2,0),\" \")","v":" "},{"$f":"IFERROR(VLOOKUP(MID(EL$23,5,4)&$A35,Lista_Ubigeo!$J:$K,2,0),\" \")","v":" "},{"$f":"IFERROR(VLOOKUP(MID(EM$23,5,4)&$A35,Lista_Ubigeo!$J:$K,2,0),\" \")","v":" "},{"$f":"IFERROR(VLOOKUP(MID(EN$23,5,4)&$A35,Lista_Ubigeo!$J:$K,2,0),\" \")","v":" "},{"$f":"IFERROR(VLOOKUP(MID(EO$23,5,4)&$A35,Lista_Ubigeo!$J:$K,2,0),\" \")","v":" "},{"$f":"IFERROR(VLOOKUP(MID(EP$23,5,4)&$A35,Lista_Ubigeo!$J:$K,2,0),\" \")","v":" "},{"$f":"IFERROR(VLOOKUP(MID(EQ$23,5,4)&$A35,Lista_Ubigeo!$J:$K,2,0),\" \")","v":" "},{"$f":"IFERROR(VLOOKUP(MID(ER$23,5,4)&$A35,Lista_Ubigeo!$J:$K,2,0),\" \")","v":" "},{"$f":"IFERROR(VLOOKUP(MID(ES$23,5,4)&$A35,Lista_Ubigeo!$J:$K,2,0),\" \")","v":" "},{"$f":"IFERROR(VLOOKUP(MID(ET$23,5,4)&$A35,Lista_Ubigeo!$J:$K,2,0),\" \")","v":" "},{"$f":"IFERROR(VLOOKUP(MID(EU$23,5,4)&$A35,Lista_Ubigeo!$J:$K,2,0),\" \")","v":" "},{"$f":"IFERROR(VLOOKUP(MID(EV$23,5,4)&$A35,Lista_Ubigeo!$J:$K,2,0),\" \")","v":" "},{"$f":"IFERROR(VLOOKUP(MID(EW$23,5,4)&$A35,Lista_Ubigeo!$J:$K,2,0),\" \")","v":"VICCO"},{"$f":"IFERROR(VLOOKUP(MID(EX$23,5,4)&$A35,Lista_Ubigeo!$J:$K,2,0),\" \")","v":" "},{"$f":"IFERROR(VLOOKUP(MID(EY$23,5,4)&$A35,Lista_Ubigeo!$J:$K,2,0),\" \")","v":" "},{"$f":"IFERROR(VLOOKUP(MID(EZ$23,5,4)&$A38,Lista_Ubigeo!$J:$K,2,0),\" \")","v":"26 DE OCTUBRE"},{"$f":"IFERROR(VLOOKUP(MID(FA$23,5,4)&$A35,Lista_Ubigeo!$J:$K,2,0),\" \")","v":" "},{"$f":"IFERROR(VLOOKUP(MID(FB$23,5,4)&$A35,Lista_Ubigeo!$J:$K,2,0),\" \")","v":" "},{"$f":"IFERROR(VLOOKUP(MID(FC$23,5,4)&$A35,Lista_Ubigeo!$J:$K,2,0),\" \")","v":" "},{"$f":"IFERROR(VLOOKUP(MID(FD$23,5,4)&$A35,Lista_Ubigeo!$J:$K,2,0),\" \")","v":" "},{"$f":"IFERROR(VLOOKUP(MID(FE$23,5,4)&$A35,Lista_Ubigeo!$J:$K,2,0),\" \")","v":" "},{"$f":"IFERROR(VLOOKUP(MID(FF$23,5,4)&$A35,Lista_Ubigeo!$J:$K,2,0),\" \")","v":" "},{"$f":"IFERROR(VLOOKUP(MID(FG$23,5,4)&$A35,Lista_Ubigeo!$J:$K,2,0),\" \")","v":" "},{"$f":"IFERROR(VLOOKUP(MID(FH$23,5,4)&$A35,Lista_Ubigeo!$J:$K,2,0),\" \")","v":"PLATERIA"},{"$f":"IFERROR(VLOOKUP(MID(FI$23,5,4)&$A35,Lista_Ubigeo!$J:$K,2,0),\" \")","v":"SAN JOSE"},{"$f":"IFERROR(VLOOKUP(MID(FJ$23,5,4)&$A35,Lista_Ubigeo!$J:$K,2,0),\" \")","v":" "},{"$f":"IFERROR(VLOOKUP(MID(FK$23,5,4)&$A35,Lista_Ubigeo!$J:$K,2,0),\" \")","v":" "},{"$f":"IFERROR(VLOOKUP(MID(FL$23,5,4)&$A35,Lista_Ubigeo!$J:$K,2,0),\" \")","v":" "},{"$f":"IFERROR(VLOOKUP(MID(FM$23,5,4)&$A35,Lista_Ubigeo!$J:$K,2,0),\" \")","v":" "},{"$f":"IFERROR(VLOOKUP(MID(FN$23,5,4)&$A35,Lista_Ubigeo!$J:$K,2,0),\" \")","v":" "},{"$f":"IFERROR(VLOOKUP(MID(FO$23,5,4)&$A35,Lista_Ubigeo!$J:$K,2,0),\" \")","v":" "},{"$f":"IFERROR(VLOOKUP(MID(FP$23,5,4)&$A35,Lista_Ubigeo!$J:$K,2,0),\" \")","v":" "},{"$f":"IFERROR(VLOOKUP(MID(FQ$23,5,4)&$A35,Lista_Ubigeo!$J:$K,2,0),\" \")","v":" "},{"$f":"IFERROR(VLOOKUP(MID(FR$23,5,4)&$A35,Lista_Ubigeo!$J:$K,2,0),\" \")","v":" "},{"$f":"IFERROR(VLOOKUP(MID(FS$23,5,4)&$A35,Lista_Ubigeo!$J:$K,2,0),\" \")","v":" "},{"$f":"IFERROR(VLOOKUP(MID(FT$23,5,4)&$A35,Lista_Ubigeo!$J:$K,2,0),\" \")","v":" "},{"$f":"IFERROR(VLOOKUP(MID(FU$23,5,4)&$A35,Lista_Ubigeo!$J:$K,2,0),\" \")","v":" "},{"$f":"IFERROR(VLOOKUP(MID(FV$23,5,4)&$A35,Lista_Ubigeo!$J:$K,2,0),\" \")","v":" "},{"$f":"IFERROR(VLOOKUP(MID(FW$23,5,4)&$A35,Lista_Ubigeo!$J:$K,2,0),\" \")","v":" "},{"$f":"IFERROR(VLOOKUP(MID(FX$23,5,4)&$A35,Lista_Ubigeo!$J:$K,2,0),\" \")","v":" "},{"$f":"IFERROR(VLOOKUP(MID(FY$23,5,4)&$A35,Lista_Ubigeo!$J:$K,2,0),\" \")","v":" "},{"$f":"IFERROR(VLOOKUP(MID(FZ$23,5,4)&$A35,Lista_Ubigeo!$J:$K,2,0),\" \")","v":" "},{"$f":"IFERROR(VLOOKUP(MID(GA$23,5,4)&$A35,Lista_Ubigeo!$J:$K,2,0),\" \")","v":" "},{"$f":"IFERROR(VLOOKUP(MID(GB$23,5,4)&$A35,Lista_Ubigeo!$J:$K,2,0),\" \")","v":" "},{"$f":"IFERROR(VLOOKUP(MID(GC$23,5,4)&$A35,Lista_Ubigeo!$J:$K,2,0),\" \")","v":"SAN ANTONIO"},{"$f":"IFERROR(VLOOKUP(MID(GD$23,5,4)&$A35,Lista_Ubigeo!$J:$K,2,0),\" \")","v":" "},{"$f":"IFERROR(VLOOKUP(MID(GE$23,5,4)&$A35,Lista_Ubigeo!$J:$K,2,0),\" \")","v":" "},{"$f":"IFERROR(VLOOKUP(MID(GF$23,5,4)&$A35,Lista_Ubigeo!$J:$K,2,0),\" \")","v":" "},{"$f":"IFERROR(VLOOKUP(MID(GG$23,5,4)&$A35,Lista_Ubigeo!$J:$K,2,0),\" \")","v":" "},{"$f":"IFERROR(VLOOKUP(MID(GH$23,5,4)&$A35,Lista_Ubigeo!$J:$K,2,0),\" \")","v":" "},{"$f":"IFERROR(VLOOKUP(MID(GI$23,5,4)&$A35,Lista_Ubigeo!$J:$K,2,0),\" \")","v":" "},{"$f":"IFERROR(VLOOKUP(MID(GJ$23,5,4)&$A35,Lista_Ubigeo!$J:$K,2,0),\" \")","v":" "},{"$f":"IFERROR(VLOOKUP(MID(GK$23,5,4)&$A35,Lista_Ubigeo!$J:$K,2,0),\" \")","v":" "},{"$f":"IFERROR(VLOOKUP(MID(GL$23,5,4)&$A35,Lista_Ubigeo!$J:$K,2,0),\" \")","v":" "},{"$f":"IFERROR(VLOOKUP(MID(GM$23,5,4)&$A35,Lista_Ubigeo!$J:$K,2,0),\" \")","v":" "},{"$f":"IFERROR(VLOOKUP(MID(GN$23,5,4)&$A35,Lista_Ubigeo!$J:$K,2,0),\" \")","v":" "},{"$f":"IFERROR(VLOOKUP(MID(GO$23,5,4)&$A35,Lista_Ubigeo!$J:$K,2,0),\" \")","v":" "},{"$f":"IFERROR(VLOOKUP(MID(GP$23,5,4)&$A35,Lista_Ubigeo!$J:$K,2,0),\" \")","v":"SAN JOSE"}]
["13",{"$f":"IFERROR(VLOOKUP(MID(B$23,5,4)&$A36,Lista_Ubigeo!$J:$K,2,0),\" \")","v":"MARISCAL CASTILLA"},{"$f":"IFERROR(VLOOKUP(MID(C$23,5,4)&$A36,Lista_Ubigeo!$J:$K,2,0),\" \")","v":" "},{"$f":"IFERROR(VLOOKUP(MID(D$23,5,4)&$A36,Lista_Ubigeo!$J:$K,2,0),\" \")","v":" "},{"$f":"IFERROR(VLOOKUP(MID(E$23,5,4)&$A36,Lista_Ubigeo!$J:$K,2,0),\" \")","v":" "},{"$f":"IFERROR(VLOOKUP(MID(F$23,5,4)&$A36,Lista_Ubigeo!$J:$K,2,0),\" \")","v":"OCUMAL"},{"$f":"IFERROR(VLOOKUP(MID(G$23,5,4)&$A36,Lista_Ubigeo!$J:$K,2,0),\" \")","v":" "},{"$f":"IFERROR(VLOOKUP(MID(H$23,5,4)&$A36,Lista_Ubigeo!$J:$K,2,0),\" \")","v":" "},{"$f":"IFERROR(VLOOKUP(MID(I$23,5,4)&$A36,Lista_Ubigeo!$J:$K,2,0),\" \")","v":" "},{"$f":"IFERROR(VLOOKUP(MID(J$23,5,4)&$A36,Lista_Ubigeo!$J:$K,2,0),\" \")","v":" "},{"$f":"IFERROR(VLOOKUP(MID(K$23,5,4)&$A36,Lista_Ubigeo!$J:$K,2,0),\" \")","v":" "},{"$f":"IFERROR(VLOOKUP(MID(L$23,5,4)&$A36,Lista_Ubigeo!$J:$K,2,0),\" \")","v":" "},{"$f":"IFERROR(VLOOKUP(MID(M$23,5,4)&$A36,Lista_Ubigeo!$J:$K,2,0),\" \")","v":"PACLLON"},{"$f":"IFERROR(VLOOKUP(MID(N$23,5,4)&$A36,Lista_Ubigeo!$J:$K,2,0),\" \")","v":" "},{"$f":"IFERROR(VLOOKUP(MID(O$23,5,4)&$A36,Lista_Ubigeo!$J:$K,2,0),\" \")","v":" "},{"$f":"IFERROR(VLOOKUP(MID(P$23,5,4)&$A36,Lista_Ubigeo!$J:$K,2,0),\" \")","v":" "},{"$f":"IFERROR(VLOOKUP(MID(Q$23,5,4)&$A36,Lista_Ubigeo!$J:$K,2,0),\" \")","v":" "},{"$f":"IFERROR(VLOOKUP(MID(R$23,5,4)&$A36,Lista_Ubigeo!$J:$K,2,0),\" \")","v":"RAPAYAN"},{"$f":"IFERROR(VLOOKUP(MID(S$23,5,4)&$A36,Lista_Ubigeo!$J:$K,2,0),\" \")","v":" "},{"$f":"IFERROR(VLOOKUP(MID(T$23,5,4)&$A36,Lista_Ubigeo!$J:$K,2,0),\" \")","v":" "},{"$f":"IFERROR(VLOOKUP(MID(U$23,5,4)&$A36,Lista_Ubigeo!$J:$K,2,0),\" \")","v":" "},{"$f":"IFERROR(VLOOKUP(MID(V$23,5,4)&$A36,Lista_Ubigeo!$J:$K,2,0),\" \")","v":" "},{"$f":"IFERROR(VLOOKUP(MID(W$23,5,4)&$A36,Lista_Ubigeo!$J:$K,2,0),\" \")","v":" "},{"$f":"IFERROR(VLOOKUP(MID(X$23,5,4)&$A36,Lista_Ubigeo!$J:$K,2,0),\" \")","v":" "},{"$f":"IFERROR(VLOOKUP(MID(Y$23,5,4)&$A36,Lista_Ubigeo!$J:$K,2,0),\" \")","v":" "},{"$f":"IFERROR(VLOOKUP(MID(Z$23,5,4)&$A36,Lista_Ubigeo!$J:$K,2,0),\" \")","v":" "},{"$f":"IFERROR(VLOOKUP(MID(AA$23,5,4)&$A36,Lista_Ubigeo!$J:$K,2,0),\" \")","v":" "},{"$f":"IFERROR(VLOOKUP(MID(AB$23,5,4)&$A36,Lista_Ubigeo!$J:$K,2,0),\" \")","v":" "},{"$f":"IFERROR(VLOOKUP(MID(AC$23,5,4)&$A36,Lista_Ubigeo!$J:$K,2,0),\" \")","v":" "},{"$f":"IFERROR(VLOOKUP(MID(AD$23,5,4)&$A36,Lista_Ubigeo!$J:$K,2,0),\" \")","v":"SAN JERONIMO"},{"$f":"IFERROR(VLOOKUP(MID(AE$23,5,4)&$A36,Lista_Ubigeo!$J:$K,2,0),\" \")","v":" "},{"$f":"IFERROR(VLOOKUP(MID(AF$23,5,4)&$A36,Lista_Ubigeo!$J:$K,2,0),\" \")","v":"SORAYA"},{"$f":"IFERROR(VLOOKUP(MID(AG$23,5,4)&$A36,Lista_Ubigeo!$J:$K,2,0),\" \")","v":" "},{"$f":"IFERROR(VLOOKUP(MID(AH$23,5,4)&$A36,Lista_Ubigeo!$J:$K,2,0),\" \")","v":" "},{"$f":"IFERROR(VLOOKUP(MID(AI$23,5,4)&$A36,Lista_Ubigeo!$J:$K,2,0),\" \")","v":"VIRUNDO"},{"$f":"IFERROR(VLOOKUP(MID(AJ$23,5,4)&$A36,Lista_Ubigeo!$J:$K,2,0),\" \")","v":"POCSI"},{"$f":"IFERROR(VLOOKUP(MID(AK$23,5,4)&$A36,Lista_Ubigeo!$J:$K,2,0),\" \")","v":" "},{"$f":"IFERROR(VLOOKUP(MID(AL$23,5,4)&$A36,Lista_Ubigeo!$J:$K,2,0),\" \")","v":"YAUCA"},{"$f":"IFERROR(VLOOKUP(MID(AM$23,5,4)&$A36,Lista_Ubigeo!$J:$K,2,0),\" \")","v":"URACA"},{"$f":"IFERROR(VLOOKUP(MID(AN$23,5,4)&$A36,Lista_Ubigeo!$J:$K,2,0),\" \")","v":"MADRIGAL"},{"$f":"IFERROR(VLOOKUP(MID(AO$23,5,4)&$A36,Lista_Ubigeo!$J:$K,2,0),\" \")","v":" "},{"$f":"IFERROR(VLOOKUP(MID(AP$23,5,4)&$A36,Lista_Ubigeo!$J:$K,2,0),\" \")","v":" "},{"$f":"IFERROR(VLOOKUP(MID(AQ$23,4,4)&$A36,Lista_Ubigeo!$J:$K,2,0),\" \")","v":" "},{"$f":"IFERROR(VLOOKUP(MID(AR$23,5,4)&$A36,Lista_Ubigeo!$J:$K,2,0),\" \")","v":"TAMBILLO"},{"$f":"IFERROR(VLOOKUP(MID(AS$23,5,4)&$A36,Lista_Ubigeo!$J:$K,2,0),\" \")","v":" "},{"$f":"IFERROR(VLOOKUP(MID(AT$23,5,4)&$A36,Lista_Ubigeo!$J:$K,2,0),\" \")","v":" "},{"$f":"IFERROR(VLOOKUP(MID(AU$23,5,4)&$A36,Lista_Ubigeo!$J:$K,2,0),\" \")","v":" "},{"$f":"IFERROR(VLOOKUP(MID(AV$23,5,4)&$A36,Lista_Ubigeo!$J:$K,2,0),\" \")","v":" "},{"$f":"IFERROR(VLOOKUP(MID(AW$23,5,4)&$A36,Lista_Ubigeo!$J:$K,2,0),\" \")","v":"OTOCA"},{"$f":"IFERROR(VLOOKUP(MID(AX$23,5,4)&$A36,Lista_Ubigeo!$J:$K,2,0),\" \")","v":" "},{"$f":"IFERROR(VLOOKUP(MID(AY$23,5,4)&$A36,Lista_Ubigeo!$J:$K,2,0),\" \")","v":" "},{"$f":"IFERROR(VLOOKUP(MID(AZ$23,5,4)&$A36,Lista_Ubigeo!$J:$K,2,0),\" \")","v":" "},{"$f":"IFERROR(VLOOKUP(MID(BA$23,5,4)&$A36,Lista_Ubigeo!$J:$K,2,0),\" \")","v":" "},{"$f":"IFERROR(VLOOKUP(MID(BB$23,5,4)&$A36,Lista_Ubigeo!$J:$K,2,0),\" \")","v":" "},{"$f":"IFERROR(VLOOKUP(MID(BC$23,5,4)&$A36,Lista_Ubigeo!$J:$K,2,0),\" \")","v":" "},{"$f":"IFERROR(VLOOKUP(MID(BD$23,5,4)&$A36,Lista_Ubigeo!$J:$K,2,0),\" \")","v":" "},{"$f":"IFERROR(VLOOKUP(MID(BE$23,5,4)&$A36,Lista_Ubigeo!$J:$K,2,0),\" \")","v":" "},{"$f":"IFERROR(VLOOKUP(MID(BF$23,5,4)&$A36,Lista_Ubigeo!$J:$K,2,0),\" \")","v":"PACCHA"},{"$f":"IFERROR(VLOOKUP(MID(BG$23,5,4)&$A36,Lista_Ubigeo!$J:$K,2,0),\" \")","v":" "},{"$f":"IFERROR(VLOOKUP(MID(BH$23,5,4)&$A36,Lista_Ubigeo!$J:$K,2,0),\" \")","v":"SANTO TOMAS"},{"$f":"IFERROR(VLOOKUP(MID(BI$23,5,4)&$A36,Lista_Ubigeo!$J:$K,2,0),\" \")","v":" "},{"$f":"IFERROR(VLOOKUP(MID(BJ$23,5,4)&$A36,Lista_Ubigeo!$J:$K,2,0),\" \")","v":" "},{"$f":"IFERROR(VLOOKUP(MID(BK$23,5,4)&$A36,Lista_Ubigeo!$J:$K,2,0),\" \")","v":" "},{"$f":"IFERROR(VLOOKUP(MID(BL$23,5,4)&$A36,Lista_Ubigeo!$J:$K,2,0),\" \")","v":" "},{"$f":"IFERROR(VLOOKUP(MID(BM$23,5,4)&$A36,Lista_Ubigeo!$J:$K,2,0),\" \")","v":"UNION AGUA BLANCA"},{"$f":"IFERROR(VLOOKUP(MID(BN$23,5,4)&$A36,Lista_Ubigeo!$J:$K,2,0),\" \")","v":" "},{"$f":"IFERROR(VLOOKUP(MID(BO$23,5,4)&$A36,Lista_Ubigeo!$J:$K,2,0),\" \")","v":" "},{"$f":"IFERROR(VLOOKUP(MID(BP$23,5,4)&$A36,Lista_Ubigeo!$J:$K,2,0),\" \")","v":" "},{"$f":"IFERROR(VLOOKUP(MID(BQ$23,5,4)&$A36,Lista_Ubigeo!$J:$K,2,0),\" \")","v":" "},{"$f":"IFERROR(VLOOKUP(MID(BR$23,5,4)&$A36,Lista_Ubigeo!$J:$K,2,0),\" \")","v":" "},{"$f":"IFERROR(VLOOKUP(MID(BS$23,5,4)&$A36,Lista_Ubigeo!$J:$K,2,0),\" \")","v":" "},{"$f":"IFERROR(VLOOKUP(MID(BT$23,5,4)&$A36,Lista_Ubigeo!$J:$K,2,0),\" \")","v":" "},{"$f":"IFERROR(VLOOKUP(MID(BU$23,5,4)&$A36,Lista_Ubigeo!$J:$K,2,0),\" \")","v":" "},{"$f":"IFERROR(VLOOKUP(MID(BV$23,5,4)&$A36,Lista_Ubigeo!$J:$K,2,0),\" \")","v":" "},{"$f":"IFERROR(VLOOKUP(MID(BW$23,5,4)&$A36,Lista_Ubigeo!$J:$K,2,0),\" \")","v":" "},{"$f":"IFERROR(VLOOKUP(MID(BX$23,5,4)&$A36,Lista_Ubigeo!$J:$K,2,0),\" \")","v":" "},{"$f":"IFERROR(VLOOKUP(MID(BY$23,4,4)&$A36,Lista_Ubigeo!$J:$K,2,0),\" \")","v":"VILLA KINTIARINA"},{"$f":"IFERROR(VLOOKUP(MID(BZ$23,5,4)&$A36,Lista_Ubigeo!$J:$K,2,0),\" \")","v":" "},{"$f":"IFERROR(VLOOKUP(MID(CA$23,5,4)&$A36,Lista_Ubigeo!$J:$K,2,0),\" \")","v":" "},{"$f":"IFERROR(VLOOKUP(MID(CB$23,5,4)&$A36,Lista_Ubigeo!$J:$K,2,0),\" \")","v":" "},{"$f":"IFERROR(VLOOKUP(MID(CC$23,5,4)&$A36,Lista_Ubigeo!$J:$K,2,0),\" \")","v":" "},{"$f":"IFERROR(VLOOKUP(MID(CD$23,5,4)&$A36,Lista_Ubigeo!$J:$K,2,0),\" \")","v":"NUEVO OCCORO"},{"$f":"IFERROR(VLOOKUP(MID(CE$23,5,4)&$A36,Lista_Ubigeo!$J:$K,2,0),\" \")","v":" "},{"$f":"IFERROR(VLOOKUP(MID(CF$23,5,4)&$A36,Lista_Ubigeo!$J:$K,2,0),\" \")","v":" "},{"$f":"IFERROR(VLOOKUP(MID(CG$23,5,4)&$A36,Lista_Ubigeo!$J:$K,2,0),\" \")","v":"TICRAPO"},{"$f":"IFERROR(VLOOKUP(MID(CH$23,5,4)&$A36,Lista_Ubigeo!$J:$K,2,0),\" \")","v":" "},{"$f":"IFERROR(VLOOKUP(MID(CI$23,5,4)&$A36,Lista_Ubigeo!$J:$K,2,0),\" \")","v":"SANTIAGO DE CHOCORVOS"},{"$f":"IFERROR(VLOOKUP(MID(CJ$23,5,4)&$A36,Lista_Ubigeo!$J:$K,2,0),\" \")","v":"QUISHUAR"},{"$f":"IFERROR(VLOOKUP(MID(CK$23,5,4)&$A36,Lista_Ubigeo!$J:$K,2,0),\" \")","v":"SAN PABLO DE PILLAO"},{"$f":"IFERROR(VLOOKUP(MID(CL$23,5,4)&$A36,Lista_Ubigeo!$J:$K,2,0),\" \")","v":" "},{"$f":"IFERROR(VLOOKUP(MID(CM$23,5,4)&$A47,Lista_Ubigeo!$J:$K,2,0),\" \")","v":" "},{"$f":"IFERROR(VLOOKUP(MID(CN$23,5,4)&$A36,Lista_Ubigeo!$J:$K,2,0),\" \")","v":" "},{"$f":"IFERROR(VLOOKUP(MID(CO$23,5,4)&$A36,Lista_Ubigeo!$J:$K,2,0),\" \")","v":" "},{"$f":"IFERROR(VLOOKUP(MID(CP$23,5,4)&$A36,Lista_Ubigeo!$J:$K,2,0),\" \")","v":" "},{"$f":"IFERROR(VLOOKUP(MID(CQ$23,5,4)&$A36,Lista_Ubigeo!$J:$K,2,0),\" \")","v":" "},{"$f":"IFERROR(VLOOKUP(MID(CR$23,5,4)&$A36,Lista_Ubigeo!$J:$K,2,0),\" \")","v":" "},{"$f":"IFERROR(VLOOKUP(MID(CS$23,5,4)&$A36,Lista_Ubigeo!$J:$K,2,0),\" \")","v":" "},{"$f":"IFERROR(VLOOKUP(MID(CT$23,5,4)&$A36,Lista_Ubigeo!$J:$K,2,0),\" \")","v":" "},{"$f":"IFERROR(VLOOKUP(MID(CU$23,5,4)&$A36,Lista_Ubigeo!$J:$K,2,0),\" \")","v":" "},{"$f":"IFERROR(VLOOKUP(MID(CV$23,5,4)&$A36,Lista_Ubigeo!$J:$K,2,0),\" \")","v":"TATE"},{"$f":"IFERROR(VLOOKUP(MID(CW$23,5,4)&$A36,Lista_Ubigeo!$J:$K,2,0),\" \")","v":" "},{"$f":"IFERROR(VLOOKUP(MID(CX$23,5,4)&$A36,Lista_Ubigeo!$J:$K,2,0),\" \")","v":" "},{"$f":"IFERROR(VLOOKUP(MID(CY$23,5,4)&$A36,Lista_Ubigeo!$J:$K,2,0),\" \")","v":" "},{"$f":"IFERROR(VLOOKUP(MID(CZ$23,5,4)&$A36,Lista_Ubigeo!$J:$K,2,0),\" \")","v":" "},{"$f":"IFERROR(VLOOKUP(MID(DA$23,5,4)&$A36,Lista_Ubigeo!$J:$K,2,0),\" \")","v":"CULLHUAS"},{"$f":"IFERROR(VLOOKUP(MID(DB$23,5,4)&$A36,Lista_Ubigeo!$J:$K,2,0),\" \")","v":"ORCOTUNA"},{"$f":"IFERROR(VLOOKUP(MID(DC$23,5,4)&$A36,Lista_Ubigeo!$J:$K,2,0),\" \")","v":" "},{"$f":"IFERROR(VLOOKUP(MID(DD$23,5,4)&$A36,Lista_Ubigeo!$J:$K,2,0),\" \")","v":"LEONOR ORDOÑEZ"},{"$f":"IFERROR(VLOOKUP(MID(DE$23,5,4)&$A36,Lista_Ubigeo!$J:$K,2,0),\" \")","v":" "},{"$f":"IFERROR(VLOOKUP(MID(DF$23,5,4)&$A36,Lista_Ubigeo!$J:$K,2,0),\" \")","v":" "},{"$f":"IFERROR(VLOOKUP(MID(DG$23,5,4)&$A36,Lista_Ubigeo!$J:$K,2,0),\" \")","v":" "},{"$f":"IFERROR(VLOOKUP(MID(DH$23,5,4)&$A36,Lista_Ubigeo!$J:$K,2,0),\" \")","v":" "},{"$f":"IFERROR(VLOOKUP(MID(DI$23,5,4)&$A36,Lista_Ubigeo!$J:$K,2,0),\" \")","v":" "},{"$f":"IFERROR(VLOOKUP(MID(DJ$23,5,4)&$A36,Lista_Ubigeo!$J:$K,2,0),\" \")","v":" "},{"$f":"IFERROR(VLOOKUP(MID(DK$23,5,4)&$A36,Lista_Ubigeo!$J:$K,2,0),\" \")","v":" "},{"$f":"IFERROR(VLOOKUP(MID(DL$23,5,4)&$A36,Lista_Ubigeo!$J:$K,2,0),\" \")","v":" "},{"$f":"IFERROR(VLOOKUP(MID(DM$23,5,4)&$A36,Lista_Ubigeo!$J:$K,2,0),\" \")","v":" "},{"$f":"IFERROR(VLOOKUP(MID(DN$23,5,4)&$A36,Lista_Ubigeo!$J:$K,2,0),\" \")","v":" "},{"$f":"IFERROR(VLOOKUP(MID(DO$23,5,4)&$A37,Lista_Ubigeo!$J:$K,2,0),\" \")","v":"USQUIL"},{"$f":"IFERROR(VLOOKUP(MID(DP$23,5,4)&$A36,Lista_Ubigeo!$J:$K,2,0),\" \")","v":" "},{"$f":"IFERROR(VLOOKUP(MID(DQ$23,5,4)&$A36,Lista_Ubigeo!$J:$K,2,0),\" \")","v":"URPAY"},{"$f":"IFERROR(VLOOKUP(MID(DR$23,5,4)&$A36,Lista_Ubigeo!$J:$K,2,0),\" \")","v":" "},{"$f":"IFERROR(VLOOKUP(MID(DS$23,5,4)&$A36,Lista_Ubigeo!$J:$K,2,0),\" \")","v":" "},null,null,{"$f":"IFERROR(VLOOKUP(MID(DV$23,5,4)&$A36,Lista_Ubigeo!$J:$K,2,0),\" \")","v":"REQUE"},{"$f":"IFERROR(VLOOKUP(MID(DW$23,5,4)&$A36,Lista_Ubigeo!$J:$K,2,0),\" \")","v":" "},{"$f":"IFERROR(VLOOKUP(MID(DX$23,5,4)&$A36,Lista_Ubigeo!$J:$K,2,0),\" \")","v":" "},{"$f":"IFERROR(VLOOKUP(MID(DY$23,5,4)&$A36,Lista_Ubigeo!$J:$K,2,0),\" \")","v":"JESUS MARIA"},{"$f":"IFERROR(VLOOKUP(MID(DZ$23,5,4)&$A36,Lista_Ubigeo!$J:$K,2,0),\" \")","v":" "},{"$f":"IFERROR(VLOOKUP(MID(EA$23,5,4)&$A36,Lista_Ubigeo!$J:$K,2,0),\" \")","v":" "},{"$f":"IFERROR(VLOOKUP(MID(EB$23,5,4)&$A36,Lista_Ubigeo!$J:$K,2,0),\" \")","v":" "},{"$f":"IFERROR(VLOOKUP(MID(EC$23,5,4)&$A36,Lista_Ubigeo!$J:$K,2,0),\" \")","v":"SAN ANTONIO"},{"$f":"IFERROR(VLOOKUP(MID(ED$23,5,4)&$A36,Lista_Ubigeo!$J:$K,2,0),\" \")","v":" "},{"$f":"IFERROR(VLOOKUP(MID(EE$23,5,4)&$A36,Lista_Ubigeo!$J:$K,2,0),\" \")","v":"MARIATANA"},{"$f":"IFERROR(VLOOKUP(MID(EF$23,5,4)&$A36,Lista_Ubigeo!$J:$K,2,0),\" \")","v":" "},{"$f":"IFERROR(VLOOKUP(MID(EG$23,5,4)&$A36,Lista_Ubigeo!$J:$K,2,0),\" \")","v":" "},{"$f":"IFERROR(VLOOKUP(MID(EH$23,5,4)&$A36,Lista_Ubigeo!$J:$K,2,0),\" \")","v":"HUAMPARA"},{"$f":"IFERROR(VLOOKUP(MID(EI$23,5,4)&$A36,Lista_Ubigeo!$J:$K,2,0),\" \")","v":"SAN JUAN BAUTISTA"},{"$f":"IFERROR(VLOOKUP(MID(EJ$23,5,4)&$A41,Lista_Ubigeo!$J:$K,2,0),\" \")","v":" "},{"$f":"IFERROR(VLOOKUP(MID(EK$23,5,4)&$A36,Lista_Ubigeo!$J:$K,2,0),\" \")","v":" "},{"$f":"IFERROR(VLOOKUP(MID(EL$23,5,4)&$A36,Lista_Ubigeo!$J:$K,2,0),\" \")","v":" "},{"$f":"IFERROR(VLOOKUP(MID(EM$23,5,4)&$A36,Lista_Ubigeo!$J:$K,2,0),\" \")","v":" "},{"$f":"IFERROR(VLOOKUP(MID(EN$23,5,4)&$A36,Lista_Ubigeo!$J:$K,2,0),\" \")","v":" "},{"$f":"IFERROR(VLOOKUP(MID(EO$23,5,4)&$A36,Lista_Ubigeo!$J:$K,2,0),\" \")","v":" "},{"$f":"IFERROR(VLOOKUP(MID(EP$23,5,4)&$A36,Lista_Ubigeo!$J:$K,2,0),\" \")","v":" "},{"$f":"IFERROR(VLOOKUP(MID(EQ$23,5,4)&$A36,Lista_Ubigeo!$J:$K,2,0),\" \")","v":" "},{"$f":"IFERROR(VLOOKUP(MID(ER$23,5,4)&$A36,Lista_Ubigeo!$J:$K,2,0),\" \")","v":" "},{"$f":"IFERROR(VLOOKUP(MID(ES$23,5,4)&$A36,Lista_Ubigeo!$J:$K,2,0),\" \")","v":" "},{"$f":"IFERROR(VLOOKUP(MID(ET$23,5,4)&$A36,Lista_Ubigeo!$J:$K,2,0),\" \")","v":" "},{"$f":"IFERROR(VLOOKUP(MID(EU$23,5,4)&$A36,Lista_Ubigeo!$J:$K,2,0),\" \")","v":" "},{"$f":"IFERROR(VLOOKUP(MID(EV$23,5,4)&$A36,Lista_Ubigeo!$J:$K,2,0),\" \")","v":" "},{"$f":"IFERROR(VLOOKUP(MID(EW$23,5,4)&$A36,Lista_Ubigeo!$J:$K,2,0),\" \")","v":"YANACANCHA"},{"$f":"IFERROR(VLOOKUP(MID(EX$23,5,4)&$A36,Lista_Ubigeo!$J:$K,2,0),\" \")","v":" "},{"$f":"IFERROR(VLOOKUP(MID(EY$23,5,4)&$A36,Lista_Ubigeo!$J:$K,2,0),\" \")","v":" "},{"$f":"IFERROR(VLOOKUP(MID(EZ$23,5,4)&$A39,Lista_Ubigeo!$J:$K,2,0),\" \")","v":" "},{"$f":"IFERROR(VLOOKUP(MID(FA$23,5,4)&$A36,Lista_Ubigeo!$J:$K,2,0),\" \")","v":" "},{"$f":"IFERROR(VLOOKUP(MID(FB$23,5,4)&$A36,Lista_Ubigeo!$J:$K,2,0),\" \")","v":" "},{"$f":"IFERROR(VLOOKUP(MID(FC$23,5,4)&$A36,Lista_Ubigeo!$J:$K,2,0),\" \")","v":" "},{"$f":"IFERROR(VLOOKUP(MID(FD$23,5,4)&$A36,Lista_Ubigeo!$J:$K,2,0),\" \")","v":" "},{"$f":"IFERROR(VLOOKUP(MID(FE$23,5,4)&$A36,Lista_Ubigeo!$J:$K,2,0),\" \")","v":" "},{"$f":"IFERROR(VLOOKUP(MID(FF$23,5,4)&$A36,Lista_Ubigeo!$J:$K,2,0),\" \")","v":" "},{"$f":"IFERROR(VLOOKUP(MID(FG$23,5,4)&$A36,Lista_Ubigeo!$J:$K,2,0),\" \")","v":" "},{"$f":"IFERROR(VLOOKUP(MID(FH$23,5,4)&$A36,Lista_Ubigeo!$J:$K,2,0),\" \")","v":"SAN ANTONIO"},{"$f":"IFERROR(VLOOKUP(MID(FI$23,5,4)&$A36,Lista_Ubigeo!$J:$K,2,0),\" \")","v":"SAN JUAN DE SALINAS"},{"$f":"IFERROR(VLOOKUP(MID(FJ$23,5,4)&$A36,Lista_Ubigeo!$J:$K,2,0),\" \")","v":" "},{"$f":"IFERROR(VLOOKUP(MID(FK$23,5,4)&$A36,Lista_Ubigeo!$J:$K,2,0),\" \")","v":" "},{"$f":"IFERROR(VLOOKUP(MID(FL$23,5,4)&$A36,Lista_Ubigeo!$J:$K,2,0),\" \")","v":" "},{"$f":"IFERROR(VLOOKUP(MID(FM$23,5,4)&$A36,Lista_Ubigeo!$J:$K,2,0),\" \")","v":" "},{"$f":"IFERROR(VLOOKUP(MID(FN$23,5,4)&$A36,Lista_Ubigeo!$J:$K,2,0),\" \")","v":" "},{"$f":"IFERROR(VLOOKUP(MID(FO$23,5,4)&$A36,Lista_Ubigeo!$J:$K,2,0),\" \")","v":" "},{"$f":"IFERROR(VLOOKUP(MID(FP$23,5,4)&$A36,Lista_Ubigeo!$J:$K,2,0),\" \")","v":" "},{"$f":"IFERROR(VLOOKUP(MID(FQ$23,5,4)&$A36,Lista_Ubigeo!$J:$K,2,0),\" \")","v":" "},{"$f":"IFERROR(VLOOKUP(MID(FR$23,5,4)&$A36,Lista_Ubigeo!$J:$K,2,0),\" \")","v":" "},{"$f":"IFERROR(VLOOKUP(MID(FS$23,5,4)&$A36,Lista_Ubigeo!$J:$K,2,0),\" \")","v":" "},{"$f":"IFERROR(VLOOKUP(MID(FT$23,5,4)&$A36,Lista_Ubigeo!$J:$K,2,0),\" \")","v":" "},{"$f":"IFERROR(VLOOKUP(MID(FU$23,5,4)&$A36,Lista_Ubigeo!$J:$K,2,0),\" \")","v":" "},{"$f":"IFERROR(VLOOKUP(MID(FV$23,5,4)&$A36,Lista_Ubigeo!$J:$K,2,0),\" \")","v":" "},{"$f":"IFERROR(VLOOKUP(MID(FW$23,5,4)&$A36,Lista_Ubigeo!$J:$K,2,0),\" \")","v":" "},{"$f":"IFERROR(VLOOKUP(MID(FX$23,5,4)&$A36,Lista_Ubigeo!$J:$K,2,0),\" \")","v":" "},{"$f":"IFERROR(VLOOKUP(MID(FY$23,5,4)&$A36,Lista_Ubigeo!$J:$K,2,0),\" \")","v":" "},{"$f":"IFERROR(VLOOKUP(MID(FZ$23,5,4)&$A36,Lista_Ubigeo!$J:$K,2,0),\" \")","v":" "},{"$f":"IFERROR(VLOOKUP(MID(GA$23,5,4)&$A36,Lista_Ubigeo!$J:$K,2,0),\" \")","v":" "},{"$f":"IFERROR(VLOOKUP(MID(GB$23,5,4)&$A36,Lista_Ubigeo!$J:$K,2,0),\" \")","v":" "},{"$f":"IFERROR(VLOOKUP(MID(GC$23,5,4)&$A36,Lista_Ubigeo!$J:$K,2,0),\" \")","v":"SAUCE"},{"$f":"IFERROR(VLOOKUP(MID(GD$23,5,4)&$A36,Lista_Ubigeo!$J:$K,2,0),\" \")","v":" "},{"$f":"IFERROR(VLOOKUP(MID(GE$23,5,4)&$A36,Lista_Ubigeo!$J:$K,2,0),\" \")","v":" "},{"$f":"IFERROR(VLOOKUP(MID(GF$23,5,4)&$A36,Lista_Ubigeo!$J:$K,2,0),\" \")","v":" "},{"$f":"IFERROR(VLOOKUP(MID(GG$23,5,4)&$A36,Lista_Ubigeo!$J:$K,2,0),\" \")","v":" "},{"$f":"IFERROR(VLOOKUP(MID(GH$23,5,4)&$A36,Lista_Ubigeo!$J:$K,2,0),\" \")","v":" "},{"$f":"IFERROR(VLOOKUP(MID(GI$23,5,4)&$A36,Lista_Ubigeo!$J:$K,2,0),\" \")","v":" "},{"$f":"IFERROR(VLOOKUP(MID(GJ$23,5,4)&$A36,Lista_Ubigeo!$J:$K,2,0),\" \")","v":" "},{"$f":"IFERROR(VLOOKUP(MID(GK$23,5,4)&$A36,Lista_Ubigeo!$J:$K,2,0),\" \")","v":" "},{"$f":"IFERROR(VLOOKUP(MID(GL$23,5,4)&$A36,Lista_Ubigeo!$J:$K,2,0),\" \")","v":" "},{"$f":"IFERROR(VLOOKUP(MID(GM$23,5,4)&$A36,Lista_Ubigeo!$J:$K,2,0),\" \")","v":" "},{"$f":"IFERROR(VLOOKUP(MID(GN$23,5,4)&$A36,Lista_Ubigeo!$J:$K,2,0),\" \")","v":" "},{"$f":"IFERROR(VLOOKUP(MID(GO$23,5,4)&$A36,Lista_Ubigeo!$J:$K,2,0),\" \")","v":" "},{"$f":"IFERROR(VLOOKUP(MID(GP$23,5,4)&$A36,Lista_Ubigeo!$J:$K,2,0),\" \")","v":"SAN JUAN DE SALINAS"}]
["14",{"$f":"IFERROR(VLOOKUP(MID(B$23,5,4)&$A37,Lista_Ubigeo!$J:$K,2,0),\" \")","v":"MOLINOPAMPA"},{"$f":"IFERROR(VLOOKUP(MID(C$23,5,4)&$A37,Lista_Ubigeo!$J:$K,2,0),\" \")","v":" "},{"$f":"IFERROR(VLOOKUP(MID(D$23,5,4)&$A37,Lista_Ubigeo!$J:$K,2,0),\" \")","v":" "},{"$f":"IFERROR(VLOOKUP(MID(E$23,5,4)&$A37,Lista_Ubigeo!$J:$K,2,0),\" \")","v":" "},{"$f":"IFERROR(VLOOKUP(MID(F$23,5,4)&$A37,Lista_Ubigeo!$J:$K,2,0),\" \")","v":"PISUQUIA"},{"$f":"IFERROR(VLOOKUP(MID(G$23,5,4)&$A37,Lista_Ubigeo!$J:$K,2,0),\" \")","v":" "},{"$f":"IFERROR(VLOOKUP(MID(H$23,5,4)&$A37,Lista_Ubigeo!$J:$K,2,0),\" \")","v":" "},{"$f":"IFERROR(VLOOKUP(MID(I$23,5,4)&$A37,Lista_Ubigeo!$J:$K,2,0),\" \")","v":" "},{"$f":"IFERROR(VLOOKUP(MID(J$23,5,4)&$A37,Lista_Ubigeo!$J:$K,2,0),\" \")","v":" "},{"$f":"IFERROR(VLOOKUP(MID(K$23,5,4)&$A37,Lista_Ubigeo!$J:$K,2,0),\" \")","v":" "},{"$f":"IFERROR(VLOOKUP(MID(L$23,5,4)&$A37,Lista_Ubigeo!$J:$K,2,0),\" \")","v":" "},{"$f":"IFERROR(VLOOKUP(MID(M$23,5,4)&$A37,Lista_Ubigeo!$J:$K,2,0),\" \")","v":"SAN MIGUEL DE CORPANQUI"},{"$f":"IFERROR(VLOOKUP(MID(N$23,5,4)&$A37,Lista_Ubigeo!$J:$K,2,0),\" \")","v":" "},{"$f":"IFERROR(VLOOKUP(MID(O$23,5,4)&$A37,Lista_Ubigeo!$J:$K,2,0),\" \")","v":" "},{"$f":"IFERROR(VLOOKUP(MID(P$23,5,4)&$A37,Lista_Ubigeo!$J:$K,2,0),\" \")","v":" "},{"$f":"IFERROR(VLOOKUP(MID(Q$23,5,4)&$A37,Lista_Ubigeo!$J:$K,2,0),\" \")","v":" "},{"$f":"IFERROR(VLOOKUP(MID(R$23,5,4)&$A37,Lista_Ubigeo!$J:$K,2,0),\" \")","v":"SAN MARCOS"},{"$f":"IFERROR(VLOOKUP(MID(S$23,5,4)&$A37,Lista_Ubigeo!$J:$K,2,0),\" \")","v":" "},{"$f":"IFERROR(VLOOKUP(MID(T$23,5,4)&$A37,Lista_Ubigeo!$J:$K,2,0),\" \")","v":" "},{"$f":"IFERROR(VLOOKUP(MID(U$23,5,4)&$A37,Lista_Ubigeo!$J:$K,2,0),\" \")","v":" "},{"$f":"IFERROR(VLOOKUP(MID(V$23,5,4)&$A37,Lista_Ubigeo!$J:$K,2,0),\" \")","v":" "},{"$f":"IFERROR(VLOOKUP(MID(W$23,5,4)&$A37,Lista_Ubigeo!$J:$K,2,0),\" \")","v":" "},{"$f":"IFERROR(VLOOKUP(MID(X$23,5,4)&$A37,Lista_Ubigeo!$J:$K,2,0),\" \")","v":" "},{"$f":"IFERROR(VLOOKUP(MID(Y$23,5,4)&$A37,Lista_Ubigeo!$J:$K,2,0),\" \")","v":" "},{"$f":"IFERROR(VLOOKUP(MID(Z$23,5,4)&$A37,Lista_Ubigeo!$J:$K,2,0),\" \")","v":" "},{"$f":"IFERROR(VLOOKUP(MID(AA$23,5,4)&$A37,Lista_Ubigeo!$J:$K,2,0),\" \")","v":" "},{"$f":"IFERROR(VLOOKUP(MID(AB$23,5,4)&$A37,Lista_Ubigeo!$J:$K,2,0),\" \")","v":" "},{"$f":"IFERROR(VLOOKUP(MID(AC$23,5,4)&$A37,Lista_Ubigeo!$J:$K,2,0),\" \")","v":" "},{"$f":"IFERROR(VLOOKUP(MID(AD$23,5,4)&$A37,Lista_Ubigeo!$J:$K,2,0),\" \")","v":"SAN MIGUEL DE CHACCRAMPA"},{"$f":"IFERROR(VLOOKUP(MID(AE$23,5,4)&$A37,Lista_Ubigeo!$J:$K,2,0),\" \")","v":" "},{"$f":"IFERROR(VLOOKUP(MID(AF$23,5,4)&$A37,Lista_Ubigeo!$J:$K,2,0),\" \")","v":"TAPAIRIHUA"},{"$f":"IFERROR(VLOOKUP(MID(AG$23,5,4)&$A37,Lista_Ubigeo!$J:$K,2,0),\" \")","v":" "},{"$f":"IFERROR(VLOOKUP(MID(AH$23,5,4)&$A37,Lista_Ubigeo!$J:$K,2,0),\" \")","v":" "},{"$f":"IFERROR(VLOOKUP(MID(AI$23,5,4)&$A37,Lista_Ubigeo!$J:$K,2,0),\" \")","v":"CURASCO"},{"$f":"IFERROR(VLOOKUP(MID(AJ$23,5,4)&$A37,Lista_Ubigeo!$J:$K,2,0),\" \")","v":"POLOBAYA"},{"$f":"IFERROR(VLOOKUP(MID(AK$23,5,4)&$A37,Lista_Ubigeo!$J:$K,2,0),\" \")","v":" "},{"$f":"IFERROR(VLOOKUP(MID(AL$23,5,4)&$A37,Lista_Ubigeo!$J:$K,2,0),\" \")","v":" "},{"$f":"IFERROR(VLOOKUP(MID(AM$23,5,4)&$A37,Lista_Ubigeo!$J:$K,2,0),\" \")","v":"VIRACO"},{"$f":"IFERROR(VLOOKUP(MID(AN$23,5,4)&$A37,Lista_Ubigeo!$J:$K,2,0),\" \")","v":"SAN ANTONIO DE CHUCA"},{"$f":"IFERROR(VLOOKUP(MID(AO$23,5,4)&$A37,Lista_Ubigeo!$J:$K,2,0),\" \")","v":" "},{"$f":"IFERROR(VLOOKUP(MID(AP$23,5,4)&$A37,Lista_Ubigeo!$J:$K,2,0),\" \")","v":" "},{"$f":"IFERROR(VLOOKUP(MID(AQ$23,4,4)&$A37,Lista_Ubigeo!$J:$K,2,0),\" \")","v":" "},{"$f":"IFERROR(VLOOKUP(MID(AR$23,5,4)&$A37,Lista_Ubigeo!$J:$K,2,0),\" \")","v":"VINCHOS"},{"$f":"IFERROR(VLOOKUP(MID(AS$23,5,4)&$A37,Lista_Ubigeo!$J:$K,2,0),\" \")","v":" "},{"$f":"IFERROR(VLOOKUP(MID(AT$23,5,4)&$A37,Lista_Ubigeo!$J:$K,2,0),\" \")","v":" "},{"$f":"IFERROR(VLOOKUP(MID(AU$23,5,4)&$A37,Lista_Ubigeo!$J:$K,2,0),\" \")","v":" "},{"$f":"IFERROR(VLOOKUP(MID(AV$23,5,4)&$A37,Lista_Ubigeo!$J:$K,2,0),\" \")","v":" "},{"$f":"IFERROR(VLOOKUP(MID(AW$23,5,4)&$A37,Lista_Ubigeo!$J:$K,2,0),\" \")","v":"SAISA"},{"$f":"IFERROR(VLOOKUP(MID(AX$23,5,4)&$A37,Lista_Ubigeo!$J:$K,2,0),\" \")","v":" "},{"$f":"IFERROR(VLOOKUP(MID(AY$23,5,4)&$A37,Lista_Ubigeo!$J:$K,2,0),\" \")","v":" "},{"$f":"IFERROR(VLOOKUP(MID(AZ$23,5,4)&$A37,Lista_Ubigeo!$J:$K,2,0),\" \")","v":" "},{"$f":"IFERROR(VLOOKUP(MID(BA$23,5,4)&$A37,Lista_Ubigeo!$J:$K,2,0),\" \")","v":" "},{"$f":"IFERROR(VLOOKUP(MID(BB$23,5,4)&$A37,Lista_Ubigeo!$J:$K,2,0),\" \")","v":" "},{"$f":"IFERROR(VLOOKUP(MID(BC$23,5,4)&$A37,Lista_Ubigeo!$J:$K,2,0),\" \")","v":" "},{"$f":"IFERROR(VLOOKUP(MID(BD$23,5,4)&$A37,Lista_Ubigeo!$J:$K,2,0),\" \")","v":" "},{"$f":"IFERROR(VLOOKUP(MID(BE$23,5,4)&$A37,Lista_Ubigeo!$J:$K,2,0),\" \")","v":" "},{"$f":"IFERROR(VLOOKUP(MID(BF$23,5,4)&$A37,Lista_Ubigeo!$J:$K,2,0),\" \")","v":"PION"},{"$f":"IFERROR(VLOOKUP(MID(BG$23,5,4)&$A37,Lista_Ubigeo!$J:$K,2,0),\" \")","v":" "},{"$f":"IFERROR(VLOOKUP(MID(BH$23,5,4)&$A37,Lista_Ubigeo!$J:$K,2,0),\" \")","v":"SOCOTA"},{"$f":"IFERROR(VLOOKUP(MID(BI$23,5,4)&$A37,Lista_Ubigeo!$J:$K,2,0),\" \")","v":" "},{"$f":"IFERROR(VLOOKUP(MID(BJ$23,5,4)&$A37,Lista_Ubigeo!$J:$K,2,0),\" \")","v":" "},{"$f":"IFERROR(VLOOKUP(MID(BK$23,5,4)&$A37,Lista_Ubigeo!$J:$K,2,0),\" \")","v":" "},{"$f":"IFERROR(VLOOKUP(MID(BL$23,5,4)&$A37,Lista_Ubigeo!$J:$K,2,0),\" \")","v":" "},{"$f":"IFERROR(VLOOKUP(MID(BM$23,5,4)&$A37,Lista_Ubigeo!$J:$K,2,0),\" \")","v":" "},{"$f":"IFERROR(VLOOKUP(MID(BN$23,5,4)&$A37,Lista_Ubigeo!$J:$K,2,0),\" \")","v":" "},{"$f":"IFERROR(VLOOKUP(MID(BO$23,5,4)&$A37,Lista_Ubigeo!$J:$K,2,0),\" \")","v":" "},{"$f":"IFERROR(VLOOKUP(MID(BP$23,5,4)&$A37,Lista_Ubigeo!$J:$K,2,0),\" \")","v":" "},{"$f":"IFERROR(VLOOKUP(MID(BQ$23,5,4)&$A37,Lista_Ubigeo!$J:$K,2,0),\" \")","v":" "},{"$f":"IFERROR(VLOOKUP(MID(BR$23,5,4)&$A37,Lista_Ubigeo!$J:$K,2,0),\" \")","v":" "},{"$f":"IFERROR(VLOOKUP(MID(BS$23,5,4)&$A37,Lista_Ubigeo!$J:$K,2,0),\" \")","v":" "},{"$f":"IFERROR(VLOOKUP(MID(BT$23,5,4)&$A37,Lista_Ubigeo!$J:$K,2,0),\" \")","v":" "},{"$f":"IFERROR(VLOOKUP(MID(BU$23,5,4)&$A37,Lista_Ubigeo!$J:$K,2,0),\" \")","v":" "},{"$f":"IFERROR(VLOOKUP(MID(BV$23,5,4)&$A37,Lista_Ubigeo!$J:$K,2,0),\" \")","v":" "},{"$f":"IFERROR(VLOOKUP(MID(BW$23,5,4)&$A37,Lista_Ubigeo!$J:$K,2,0),\" \")","v":" "},{"$f":"IFERROR(VLOOKUP(MID(BX$23,5,4)&$A37,Lista_Ubigeo!$J:$K,2,0),\" \")","v":" "},{"$f":"IFERROR(VLOOKUP(MID(BY$23,4,4)&$A37,Lista_Ubigeo!$J:$K,2,0),\" \")","v":"MEGANTONI"},{"$f":"IFERROR(VLOOKUP(MID(BZ$23,5,4)&$A37,Lista_Ubigeo!$J:$K,2,0),\" \")","v":" "},{"$f":"IFERROR(VLOOKUP(MID(CA$23,5,4)&$A37,Lista_Ubigeo!$J:$K,2,0),\" \")","v":" "},{"$f":"IFERROR(VLOOKUP(MID(CB$23,5,4)&$A37,Lista_Ubigeo!$J:$K,2,0),\" \")","v":" "},{"$f":"IFERROR(VLOOKUP(MID(CC$23,5,4)&$A37,Lista_Ubigeo!$J:$K,2,0),\" \")","v":" "},{"$f":"IFERROR(VLOOKUP(MID(CD$23,5,4)&$A37,Lista_Ubigeo!$J:$K,2,0),\" \")","v":"PALCA"},{"$f":"IFERROR(VLOOKUP(MID(CE$23,5,4)&$A37,Lista_Ubigeo!$J:$K,2,0),\" \")","v":" "},{"$f":"IFERROR(VLOOKUP(MID(CF$23,5,4)&$A37,Lista_Ubigeo!$J:$K,2,0),\" \")","v":" "},{"$f":"IFERROR(VLOOKUP(MID(CG$23,5,4)&$A37,Lista_Ubigeo!$J:$K,2,0),\" \")","v":" "},{"$f":"IFERROR(VLOOKUP(MID(CH$23,5,4)&$A37,Lista_Ubigeo!$J:$K,2,0),\" \")","v":" "},{"$f":"IFERROR(VLOOKUP(MID(CI$23,5,4)&$A37,Lista_Ubigeo!$J:$K,2,0),\" \")","v":"SANTIAGO DE QUIRAHUARA"},{"$f":"IFERROR(VLOOKUP(MID(CJ$23,5,4)&$A37,Lista_Ubigeo!$J:$K,2,0),\" \")","v":"SALCABAMBA"},{"$f":"IFERROR(VLOOKUP(MID(CK$23,5,4)&$A37,Lista_Ubigeo!$J:$K,2,0),\" \")","v":" "},{"$f":"IFERROR(VLOOKUP(MID(CL$23,5,4)&$A37,Lista_Ubigeo!$J:$K,2,0),\" \")","v":" "},{"$f":"IFERROR(VLOOKUP(MID(CM$23,5,4)&$A48,Lista_Ubigeo!$J:$K,2,0),\" \")","v":" "},{"$f":"IFERROR(VLOOKUP(MID(CN$23,5,4)&$A37,Lista_Ubigeo!$J:$K,2,0),\" \")","v":" "},{"$f":"IFERROR(VLOOKUP(MID(CO$23,5,4)&$A37,Lista_Ubigeo!$J:$K,2,0),\" \")","v":" "},{"$f":"IFERROR(VLOOKUP(MID(CP$23,5,4)&$A37,Lista_Ubigeo!$J:$K,2,0),\" \")","v":" "},{"$f":"IFERROR(VLOOKUP(MID(CQ$23,5,4)&$A37,Lista_Ubigeo!$J:$K,2,0),\" \")","v":" "},{"$f":"IFERROR(VLOOKUP(MID(CR$23,5,4)&$A37,Lista_Ubigeo!$J:$K,2,0),\" \")","v":" "},{"$f":"IFERROR(VLOOKUP(MID(CS$23,5,4)&$A37,Lista_Ubigeo!$J:$K,2,0),\" \")","v":" "},{"$f":"IFERROR(VLOOKUP(MID(CT$23,5,4)&$A37,Lista_Ubigeo!$J:$K,2,0),\" \")","v":" "},{"$f":"IFERROR(VLOOKUP(MID(CU$23,5,4)&$A37,Lista_Ubigeo!$J:$K,2,0),\" \")","v":" "},{"$f":"IFERROR(VLOOKUP(MID(CV$23,5,4)&$A37,Lista_Ubigeo!$J:$K,2,0),\" \")","v":"YAUCA DEL ROSARIO"},{"$f":"IFERROR(VLOOKUP(MID(CW$23,5,4)&$A37,Lista_Ubigeo!$J:$K,2,0),\" \")","v":" "},{"$f":"IFERROR(VLOOKUP(MID(CX$23,5,4)&$A37,Lista_Ubigeo!$J:$K,2,0),\" \")","v":" "},{"$f":"IFERROR(VLOOKUP(MID(CY$23,5,4)&$A37,Lista_Ubigeo!$J:$K,2,0),\" \")","v":" "},{"$f":"IFERROR(VLOOKUP(MID(CZ$23,5,4)&$A37,Lista_Ubigeo!$J:$K,2,0),\" \")","v":" "},{"$f":"IFERROR(VLOOKUP(MID(DA$23,5,4)&$A37,Lista_Ubigeo!$J:$K,2,0),\" \")","v":"EL TAMBO"},{"$f":"IFERROR(VLOOKUP(MID(DB$23,5,4)&$A37,Lista_Ubigeo!$J:$K,2,0),\" \")","v":"SAN JOSE DE QUERO"},{"$f":"IFERROR(VLOOKUP(MID(DC$23,5,4)&$A37,Lista_Ubigeo!$J:$K,2,0),\" \")","v":" "},{"$f":"IFERROR(VLOOKUP(MID(DD$23,5,4)&$A37,Lista_Ubigeo!$J:$K,2,0),\" \")","v":"LLOCLLAPAMPA"},{"$f":"IFERROR(VLOOKUP(MID(DE$23,5,4)&$A37,Lista_Ubigeo!$J:$K,2,0),\" \")","v":" "},{"$f":"IFERROR(VLOOKUP(MID(DF$23,5,4)&$A37,Lista_Ubigeo!$J:$K,2,0),\" \")","v":" "},{"$f":"IFERROR(VLOOKUP(MID(DG$23,5,4)&$A37,Lista_Ubigeo!$J:$K,2,0),\" \")","v":" "},{"$f":"IFERROR(VLOOKUP(MID(DH$23,5,4)&$A37,Lista_Ubigeo!$J:$K,2,0),\" \")","v":" "},{"$f":"IFERROR(VLOOKUP(MID(DI$23,5,4)&$A37,Lista_Ubigeo!$J:$K,2,0),\" \")","v":" "},{"$f":"IFERROR(VLOOKUP(MID(DJ$23,5,4)&$A37,Lista_Ubigeo!$J:$K,2,0),\" \")","v":" "},{"$f":"IFERROR(VLOOKUP(MID(DK$23,5,4)&$A37,Lista_Ubigeo!$J:$K,2,0),\" \")","v":" "},{"$f":"IFERROR(VLOOKUP(MID(DL$23,5,4)&$A37,Lista_Ubigeo!$J:$K,2,0),\" \")","v":" "},{"$f":"IFERROR(VLOOKUP(MID(DM$23,5,4)&$A37,Lista_Ubigeo!$J:$K,2,0),\" \")","v":" "},{"$f":"IFERROR(VLOOKUP(MID(DN$23,5,4)&$A37,Lista_Ubigeo!$J:$K,2,0),\" \")","v":" "},{"$f":"IFERROR(VLOOKUP(MID(DO$23,5,4)&$A38,Lista_Ubigeo!$J:$K,2,0),\" \")","v":" "},{"$f":"IFERROR(VLOOKUP(MID(DP$23,5,4)&$A37,Lista_Ubigeo!$J:$K,2,0),\" \")","v":" "},{"$f":"IFERROR(VLOOKUP(MID(DQ$23,5,4)&$A37,Lista_Ubigeo!$J:$K,2,0),\" \")","v":" "},{"$f":"IFERROR(VLOOKUP(MID(DR$23,5,4)&$A37,Lista_Ubigeo!$J:$K,2,0),\" \")","v":" "},{"$f":"IFERROR(VLOOKUP(MID(DS$23,5,4)&$A37,Lista_Ubigeo!$J:$K,2,0),\" \")","v":" "},null,null,{"$f":"IFERROR(VLOOKUP(MID(DV$23,5,4)&$A37,Lista_Ubigeo!$J:$K,2,0),\" \")","v":"SANTA ROSA"},{"$f":"IFERROR(VLOOKUP(MID(DW$23,5,4)&$A37,Lista_Ubigeo!$J:$K,2,0),\" \")","v":" "},{"$f":"IFERROR(VLOOKUP(MID(DX$23,5,4)&$A37,Lista_Ubigeo!$J:$K,2,0),\" \")","v":" "},{"$f":"IFERROR(VLOOKUP(MID(DY$23,5,4)&$A37,Lista_Ubigeo!$J:$K,2,0),\" \")","v":"LA MOLINA"},{"$f":"IFERROR(VLOOKUP(MID(DZ$23,5,4)&$A37,Lista_Ubigeo!$J:$K,2,0),\" \")","v":" "},{"$f":"IFERROR(VLOOKUP(MID(EA$23,5,4)&$A37,Lista_Ubigeo!$J:$K,2,0),\" \")","v":" "},{"$f":"IFERROR(VLOOKUP(MID(EB$23,5,4)&$A37,Lista_Ubigeo!$J:$K,2,0),\" \")","v":" "},{"$f":"IFERROR(VLOOKUP(MID(EC$23,5,4)&$A37,Lista_Ubigeo!$J:$K,2,0),\" \")","v":"SAN LUIS"},{"$f":"IFERROR(VLOOKUP(MID(ED$23,5,4)&$A37,Lista_Ubigeo!$J:$K,2,0),\" \")","v":" "},{"$f":"IFERROR(VLOOKUP(MID(EE$23,5,4)&$A37,Lista_Ubigeo!$J:$K,2,0),\" \")","v":"RICARDO PALMA"},{"$f":"IFERROR(VLOOKUP(MID(EF$23,5,4)&$A37,Lista_Ubigeo!$J:$K,2,0),\" \")","v":" "},{"$f":"IFERROR(VLOOKUP(MID(EG$23,5,4)&$A37,Lista_Ubigeo!$J:$K,2,0),\" \")","v":" "},{"$f":"IFERROR(VLOOKUP(MID(EH$23,5,4)&$A37,Lista_Ubigeo!$J:$K,2,0),\" \")","v":"HUANCAYA"},{"$f":"IFERROR(VLOOKUP(MID(EI$23,5,4)&$A37,Lista_Ubigeo!$J:$K,2,0),\" \")","v":" "},{"$f":"IFERROR(VLOOKUP(MID(EJ$23,5,4)&$A42,Lista_Ubigeo!$J:$K,2,0),\" \")","v":" "},{"$f":"IFERROR(VLOOKUP(MID(EK$23,5,4)&$A37,Lista_Ubigeo!$J:$K,2,0),\" \")","v":" "},{"$f":"IFERROR(VLOOKUP(MID(EL$23,5,4)&$A37,Lista_Ubigeo!$J:$K,2,0),\" \")","v":" "},{"$f":"IFERROR(VLOOKUP(MID(EM$23,5,4)&$A37,Lista_Ubigeo!$J:$K,2,0),\" \")","v":" "},{"$f":"IFERROR(VLOOKUP(MID(EN$23,5,4)&$A37,Lista_Ubigeo!$J:$K,2,0),\" \")","v":" "},{"$f":"IFERROR(VLOOKUP(MID(EO$23,5,4)&$A37,Lista_Ubigeo!$J:$K,2,0),\" \")","v":" "},{"$f":"IFERROR(VLOOKUP(MID(EP$23,5,4)&$A37,Lista_Ubigeo!$J:$K,2,0),\" \")","v":" "},{"$f":"IFERROR(VLOOKUP(MID(EQ$23,5,4)&$A37,Lista_Ubigeo!$J:$K,2,0),\" \")","v":" "},{"$f":"IFERROR(VLOOKUP(MID(ER$23,5,4)&$A37,Lista_Ubigeo!$J:$K,2,0),\" \")","v":" "},{"$f":"IFERROR(VLOOKUP(MID(ES$23,5,4)&$A37,Lista_Ubigeo!$J:$K,2,0),\" \")","v":" "},{"$f":"IFERROR(VLOOKUP(MID(ET$23,5,4)&$A37,Lista_Ubigeo!$J:$K,2,0),\" \")","v":" "},{"$f":"IFERROR(VLOOKUP(MID(EU$23,5,4)&$A37,Lista_Ubigeo!$J:$K,2,0),\" \")","v":" "},{"$f":"IFERROR(VLOOKUP(MID(EV$23,5,4)&$A37,Lista_Ubigeo!$J:$K,2,0),\" \")","v":" "},{"$f":"IFERROR(VLOOKUP(MID(EW$23,5,4)&$A37,Lista_Ubigeo!$J:$K,2,0),\" \")","v":" "},{"$f":"IFERROR(VLOOKUP(MID(EX$23,5,4)&$A37,Lista_Ubigeo!$J:$K,2,0),\" \")","v":" "},{"$f":"IFERROR(VLOOKUP(MID(EY$23,5,4)&$A37,Lista_Ubigeo!$J:$K,2,0),\" \")","v":" "},{"$f":"IFERROR(VLOOKUP(MID(EZ$23,5,4)&$A40,Lista_Ubigeo!$J:$K,2,0),\" \")","v":" "},{"$f":"IFERROR(VLOOKUP(MID(FA$23,5,4)&$A37,Lista_Ubigeo!$J:$K,2,0),\" \")","v":" "},{"$f":"IFERROR(VLOOKUP(MID(FB$23,5,4)&$A37,Lista_Ubigeo!$J:$K,2,0),\" \")","v":" "},{"$f":"IFERROR(VLOOKUP(MID(FC$23,5,4)&$A37,Lista_Ubigeo!$J:$K,2,0),\" \")","v":" "},{"$f":"IFERROR(VLOOKUP(MID(FD$23,5,4)&$A37,Lista_Ubigeo!$J:$K,2,0),\" \")","v":" "},{"$f":"IFERROR(VLOOKUP(MID(FE$23,5,4)&$A37,Lista_Ubigeo!$J:$K,2,0),\" \")","v":" "},{"$f":"IFERROR(VLOOKUP(MID(FF$23,5,4)&$A37,Lista_Ubigeo!$J:$K,2,0),\" \")","v":" "},{"$f":"IFERROR(VLOOKUP(MID(FG$23,5,4)&$A37,Lista_Ubigeo!$J:$K,2,0),\" \")","v":" "},{"$f":"IFERROR(VLOOKUP(MID(FH$23,5,4)&$A37,Lista_Ubigeo!$J:$K,2,0),\" \")","v":"TIQUILLACA"},{"$f":"IFERROR(VLOOKUP(MID(FI$23,5,4)&$A37,Lista_Ubigeo!$J:$K,2,0),\" \")","v":"SANTIAGO DE PUPUJA"},{"$f":"IFERROR(VLOOKUP(MID(FJ$23,5,4)&$A37,Lista_Ubigeo!$J:$K,2,0),\" \")","v":" "},{"$f":"IFERROR(VLOOKUP(MID(FK$23,5,4)&$A37,Lista_Ubigeo!$J:$K,2,0),\" \")","v":" "},{"$f":"IFERROR(VLOOKUP(MID(FL$23,5,4)&$A37,Lista_Ubigeo!$J:$K,2,0),\" \")","v":" "},{"$f":"IFERROR(VLOOKUP(MID(FM$23,5,4)&$A37,Lista_Ubigeo!$J:$K,2,0),\" \")","v":" "},{"$f":"IFERROR(VLOOKUP(MID(FN$23,5,4)&$A37,Lista_Ubigeo!$J:$K,2,0),\" \")","v":" "},{"$f":"IFERROR(VLOOKUP(MID(FO$23,5,4)&$A37,Lista_Ubigeo!$J:$K,2,0),\" \")","v":" "},{"$f":"IFERROR(VLOOKUP(MID(FP$23,5,4)&$A37,Lista_Ubigeo!$J:$K,2,0),\" \")","v":" "},{"$f":"IFERROR(VLOOKUP(MID(FQ$23,5,4)&$A37,Lista_Ubigeo!$J:$K,2,0),\" \")","v":" "},{"$f":"IFERROR(VLOOKUP(MID(FR$23,5,4)&$A37,Lista_Ubigeo!$J:$K,2,0),\" \")","v":" "},{"$f":"IFERROR(VLOOKUP(MID(FS$23,5,4)&$A37,Lista_Ubigeo!$J:$K,2,0),\" \")","v":" "},{"$f":"IFERROR(VLOOKUP(MID(FT$23,5,4)&$A37,Lista_Ubigeo!$J:$K,2,0),\" \")","v":" "},{"$f":"IFERROR(VLOOKUP(MID(FU$23,5,4)&$A37,Lista_Ubigeo!$J:$K,2,0),\" \")","v":" "},{"$f":"IFERROR(VLOOKUP(MID(FV$23,5,4)&$A37,Lista_Ubigeo!$J:$K,2,0),\" \")","v":" "},{"$f":"IFERROR(VLOOKUP(MID(FW$23,5,4)&$A37,Lista_Ubigeo!$J:$K,2,0),\" \")","v":" "},{"$f":"IFERROR(VLOOKUP(MID(FX$23,5,4)&$A37,Lista_Ubigeo!$J:$K,2,0),\" \")","v":" "},{"$f":"IFERROR(VLOOKUP(MID(FY$23,5,4)&$A37,Lista_Ubigeo!$J:$K,2,0),\" \")","v":" "},{"$f":"IFERROR(VLOOKUP(MID(FZ$23,5,4)&$A37,Lista_Ubigeo!$J:$K,2,0),\" \")","v":" "},{"$f":"IFERROR(VLOOKUP(MID(GA$23,5,4)&$A37,Lista_Ubigeo!$J:$K,2,0),\" \")","v":" "},{"$f":"IFERROR(VLOOKUP(MID(GB$23,5,4)&$A37,Lista_Ubigeo!$J:$K,2,0),\" \")","v":" "},{"$f":"IFERROR(VLOOKUP(MID(GC$23,5,4)&$A37,Lista_Ubigeo!$J:$K,2,0),\" \")","v":"SHAPAJA"},{"$f":"IFERROR(VLOOKUP(MID(GD$23,5,4)&$A37,Lista_Ubigeo!$J:$K,2,0),\" \")","v":" "},{"$f":"IFERROR(VLOOKUP(MID(GE$23,5,4)&$A37,Lista_Ubigeo!$J:$K,2,0),\" \")","v":" "},{"$f":"IFERROR(VLOOKUP(MID(GF$23,5,4)&$A37,Lista_Ubigeo!$J:$K,2,0),\" \")","v":" "},{"$f":"IFERROR(VLOOKUP(MID(GG$23,5,4)&$A37,Lista_Ubigeo!$J:$K,2,0),\" \")","v":" "},{"$f":"IFERROR(VLOOKUP(MID(GH$23,5,4)&$A37,Lista_Ubigeo!$J:$K,2,0),\" \")","v":" "},{"$f":"IFERROR(VLOOKUP(MID(GI$23,5,4)&$A37,Lista_Ubigeo!$J:$K,2,0),\" \")","v":" "},{"$f":"IFERROR(VLOOKUP(MID(GJ$23,5,4)&$A37,Lista_Ubigeo!$J:$K,2,0),\" \")","v":" "},{"$f":"IFERROR(VLOOKUP(MID(GK$23,5,4)&$A37,Lista_Ubigeo!$J:$K,2,0),\" \")","v":" "},{"$f":"IFERROR(VLOOKUP(MID(GL$23,5,4)&$A37,Lista_Ubigeo!$J:$K,2,0),\" \")","v":" "},{"$f":"IFERROR(VLOOKUP(MID(GM$23,5,4)&$A37,Lista_Ubigeo!$J:$K,2,0),\" \")","v":" "},{"$f":"IFERROR(VLOOKUP(MID(GN$23,5,4)&$A37,Lista_Ubigeo!$J:$K,2,0),\" \")","v":" "},{"$f":"IFERROR(VLOOKUP(MID(GO$23,5,4)&$A37,Lista_Ubigeo!$J:$K,2,0),\" \")","v":" "},{"$f":"IFERROR(VLOOKUP(MID(GP$23,5,4)&$A37,Lista_Ubigeo!$J:$K,2,0),\" \")","v":"SANTIAGO DE PUPUJA"}]
["15",{"$f":"IFERROR(VLOOKUP(MID(B$23,5,4)&$A38,Lista_Ubigeo!$J:$K,2,0),\" \")","v":"MONTEVIDEO"},{"$f":"IFERROR(VLOOKUP(MID(C$23,5,4)&$A38,Lista_Ubigeo!$J:$K,2,0),\" \")","v":" "},{"$f":"IFERROR(VLOOKUP(MID(D$23,5,4)&$A38,Lista_Ubigeo!$J:$K,2,0),\" \")","v":" "},{"$f":"IFERROR(VLOOKUP(MID(E$23,5,4)&$A38,Lista_Ubigeo!$J:$K,2,0),\" \")","v":" "},{"$f":"IFERROR(VLOOKUP(MID(F$23,5,4)&$A38,Lista_Ubigeo!$J:$K,2,0),\" \")","v":"PROVIDENCIA"},{"$f":"IFERROR(VLOOKUP(MID(G$23,5,4)&$A38,Lista_Ubigeo!$J:$K,2,0),\" \")","v":" "},{"$f":"IFERROR(VLOOKUP(MID(H$23,5,4)&$A38,Lista_Ubigeo!$J:$K,2,0),\" \")","v":" "},{"$f":"IFERROR(VLOOKUP(MID(I$23,5,4)&$A38,Lista_Ubigeo!$J:$K,2,0),\" \")","v":" "},{"$f":"IFERROR(VLOOKUP(MID(J$23,5,4)&$A38,Lista_Ubigeo!$J:$K,2,0),\" \")","v":" "},{"$f":"IFERROR(VLOOKUP(MID(K$23,5,4)&$A38,Lista_Ubigeo!$J:$K,2,0),\" \")","v":" "},{"$f":"IFERROR(VLOOKUP(MID(L$23,5,4)&$A38,Lista_Ubigeo!$J:$K,2,0),\" \")","v":" "},{"$f":"IFERROR(VLOOKUP(MID(M$23,5,4)&$A38,Lista_Ubigeo!$J:$K,2,0),\" \")","v":"TICLLOS"},{"$f":"IFERROR(VLOOKUP(MID(N$23,5,4)&$A38,Lista_Ubigeo!$J:$K,2,0),\" \")","v":" "},{"$f":"IFERROR(VLOOKUP(MID(O$23,5,4)&$A38,Lista_Ubigeo!$J:$K,2,0),\" \")","v":" "},{"$f":"IFERROR(VLOOKUP(MID(P$23,5,4)&$A38,Lista_Ubigeo!$J:$K,2,0),\" \")","v":" "},{"$f":"IFERROR(VLOOKUP(MID(Q$23,5,4)&$A38,Lista_Ubigeo!$J:$K,2,0),\" \")","v":" "},{"$f":"IFERROR(VLOOKUP(MID(R$23,5,4)&$A38,Lista_Ubigeo!$J:$K,2,0),\" \")","v":"SAN PEDRO DE CHANA"},{"$f":"IFERROR(VLOOKUP(MID(S$23,5,4)&$A38,Lista_Ubigeo!$J:$K,2,0),\" \")","v":" "},{"$f":"IFERROR(VLOOKUP(MID(T$23,5,4)&$A38,Lista_Ubigeo!$J:$K,2,0),\" \")","v":" "},{"$f":"IFERROR(VLOOKUP(MID(U$23,5,4)&$A38,Lista_Ubigeo!$J:$K,2,0),\" \")","v":" "},{"$f":"IFERROR(VLOOKUP(MID(V$23,5,4)&$A38,Lista_Ubigeo!$J:$K,2,0),\" \")","v":" "},{"$f":"IFERROR(VLOOKUP(MID(W$23,5,4)&$A38,Lista_Ubigeo!$J:$K,2,0),\" \")","v":" "},{"$f":"IFERROR(VLOOKUP(MID(X$23,5,4)&$A38,Lista_Ubigeo!$J:$K,2,0),\" \")","v":" "},{"$f":"IFERROR(VLOOKUP(MID(Y$23,5,4)&$A38,Lista_Ubigeo!$J:$K,2,0),\" \")","v":" "},{"$f":"IFERROR(VLOOKUP(MID(Z$23,5,4)&$A38,Lista_Ubigeo!$J:$K,2,0),\" \")","v":" "},{"$f":"IFERROR(VLOOKUP(MID(AA$23,5,4)&$A38,Lista_Ubigeo!$J:$K,2,0),\" \")","v":" "},{"$f":"IFERROR(VLOOKUP(MID(AB$23,5,4)&$A38,Lista_Ubigeo!$J:$K,2,0),\" \")","v":" "},{"$f":"IFERROR(VLOOKUP(MID(AC$23,5,4)&$A38,Lista_Ubigeo!$J:$K,2,0),\" \")","v":" "},{"$f":"IFERROR(VLOOKUP(MID(AD$23,5,4)&$A38,Lista_Ubigeo!$J:$K,2,0),\" \")","v":"SANTA MARIA DE CHICMO"},{"$f":"IFERROR(VLOOKUP(MID(AE$23,5,4)&$A38,Lista_Ubigeo!$J:$K,2,0),\" \")","v":" "},{"$f":"IFERROR(VLOOKUP(MID(AF$23,5,4)&$A38,Lista_Ubigeo!$J:$K,2,0),\" \")","v":"TINTAY"},{"$f":"IFERROR(VLOOKUP(MID(AG$23,5,4)&$A38,Lista_Ubigeo!$J:$K,2,0),\" \")","v":" "},{"$f":"IFERROR(VLOOKUP(MID(AH$23,5,4)&$A38,Lista_Ubigeo!$J:$K,2,0),\" \")","v":" "},{"$f":"IFERROR(VLOOKUP(MID(AI$23,5,4)&$A38,Lista_Ubigeo!$J:$K,2,0),\" \")","v":" "},{"$f":"IFERROR(VLOOKUP(MID(AJ$23,5,4)&$A38,Lista_Ubigeo!$J:$K,2,0),\" \")","v":"QUEQUEÑA"},{"$f":"IFERROR(VLOOKUP(MID(AK$23,5,4)&$A38,Lista_Ubigeo!$J:$K,2,0),\" \")","v":" "},{"$f":"IFERROR(VLOOKUP(MID(AL$23,5,4)&$A38,Lista_Ubigeo!$J:$K,2,0),\" \")","v":" "},{"$f":"IFERROR(VLOOKUP(MID(AM$23,5,4)&$A38,Lista_Ubigeo!$J:$K,2,0),\" \")","v":" "},{"$f":"IFERROR(VLOOKUP(MID(AN$23,5,4)&$A38,Lista_Ubigeo!$J:$K,2,0),\" \")","v":"SIBAYO"},{"$f":"IFERROR(VLOOKUP(MID(AO$23,5,4)&$A38,Lista_Ubigeo!$J:$K,2,0),\" \")","v":" "},{"$f":"IFERROR(VLOOKUP(MID(AP$23,5,4)&$A38,Lista_Ubigeo!$J:$K,2,0),\" \")","v":" "},{"$f":"IFERROR(VLOOKUP(MID(AQ$23,4,4)&$A38,Lista_Ubigeo!$J:$K,2,0),\" \")","v":" "},{"$f":"IFERROR(VLOOKUP(MID(AR$23,5,4)&$A38,Lista_Ubigeo!$J:$K,2,0),\" \")","v":"JESUS NAZARENO"},{"$f":"IFERROR(VLOOKUP(MID(AS$23,5,4)&$A38,Lista_Ubigeo!$J:$K,2,0),\" \")","v":" "},{"$f":"IFERROR(VLOOKUP(MID(AT$23,5,4)&$A38,Lista_Ubigeo!$J:$K,2,0),\" \")","v":" "},{"$f":"IFERROR(VLOOKUP(MID(AU$23,5,4)&$A38,Lista_Ubigeo!$J:$K,2,0),\" \")","v":" "},{"$f":"IFERROR(VLOOKUP(MID(AV$23,5,4)&$A38,Lista_Ubigeo!$J:$K,2,0),\" \")","v":" "},{"$f":"IFERROR(VLOOKUP(MID(AW$23,5,4)&$A38,Lista_Ubigeo!$J:$K,2,0),\" \")","v":"SAN CRISTOBAL"},{"$f":"IFERROR(VLOOKUP(MID(AX$23,5,4)&$A38,Lista_Ubigeo!$J:$K,2,0),\" \")","v":" "},{"$f":"IFERROR(VLOOKUP(MID(AY$23,5,4)&$A38,Lista_Ubigeo!$J:$K,2,0),\" \")","v":" "},{"$f":"IFERROR(VLOOKUP(MID(AZ$23,5,4)&$A38,Lista_Ubigeo!$J:$K,2,0),\" \")","v":" "},{"$f":"IFERROR(VLOOKUP(MID(BA$23,5,4)&$A38,Lista_Ubigeo!$J:$K,2,0),\" \")","v":" "},{"$f":"IFERROR(VLOOKUP(MID(BB$23,5,4)&$A38,Lista_Ubigeo!$J:$K,2,0),\" \")","v":" "},{"$f":"IFERROR(VLOOKUP(MID(BC$23,5,4)&$A38,Lista_Ubigeo!$J:$K,2,0),\" \")","v":" "},{"$f":"IFERROR(VLOOKUP(MID(BD$23,5,4)&$A38,Lista_Ubigeo!$J:$K,2,0),\" \")","v":" "},{"$f":"IFERROR(VLOOKUP(MID(BE$23,5,4)&$A38,Lista_Ubigeo!$J:$K,2,0),\" \")","v":" "},{"$f":"IFERROR(VLOOKUP(MID(BF$23,5,4)&$A38,Lista_Ubigeo!$J:$K,2,0),\" \")","v":"QUEROCOTO"},{"$f":"IFERROR(VLOOKUP(MID(BG$23,5,4)&$A38,Lista_Ubigeo!$J:$K,2,0),\" \")","v":" "},{"$f":"IFERROR(VLOOKUP(MID(BH$23,5,4)&$A38,Lista_Ubigeo!$J:$K,2,0),\" \")","v":"TORIBIO CASANOVA"},{"$f":"IFERROR(VLOOKUP(MID(BI$23,5,4)&$A38,Lista_Ubigeo!$J:$K,2,0),\" \")","v":" "},{"$f":"IFERROR(VLOOKUP(MID(BJ$23,5,4)&$A38,Lista_Ubigeo!$J:$K,2,0),\" \")","v":" "},{"$f":"IFERROR(VLOOKUP(MID(BK$23,5,4)&$A38,Lista_Ubigeo!$J:$K,2,0),\" \")","v":" "},{"$f":"IFERROR(VLOOKUP(MID(BL$23,5,4)&$A38,Lista_Ubigeo!$J:$K,2,0),\" \")","v":" "},{"$f":"IFERROR(VLOOKUP(MID(BM$23,5,4)&$A38,Lista_Ubigeo!$J:$K,2,0),\" \")","v":" "},{"$f":"IFERROR(VLOOKUP(MID(BN$23,5,4)&$A38,Lista_Ubigeo!$J:$K,2,0),\" \")","v":" "},{"$f":"IFERROR(VLOOKUP(MID(BO$23,5,4)&$A38,Lista_Ubigeo!$J:$K,2,0),\" \")","v":" "},{"$f":"IFERROR(VLOOKUP(MID(BP$23,5,4)&$A38,Lista_Ubigeo!$J:$K,2,0),\" \")","v":" "},{"$f":"IFERROR(VLOOKUP(MID(BQ$23,5,4)&$A38,Lista_Ubigeo!$J:$K,2,0),\" \")","v":" "},{"$f":"IFERROR(VLOOKUP(MID(BR$23,5,4)&$A38,Lista_Ubigeo!$J:$K,2,0),\" \")","v":" "},{"$f":"IFERROR(VLOOKUP(MID(BS$23,5,4)&$A38,Lista_Ubigeo!$J:$K,2,0),\" \")","v":" "},{"$f":"IFERROR(VLOOKUP(MID(BT$23,5,4)&$A38,Lista_Ubigeo!$J:$K,2,0),\" \")","v":" "},{"$f":"IFERROR(VLOOKUP(MID(BU$23,5,4)&$A38,Lista_Ubigeo!$J:$K,2,0),\" \")","v":" "},{"$f":"IFERROR(VLOOKUP(MID(BV$23,5,4)&$A38,Lista_Ubigeo!$J:$K,2,0),\" \")","v":" "},{"$f":"IFERROR(VLOOKUP(MID(BW$23,5,4)&$A38,Lista_Ubigeo!$J:$K,2,0),\" \")","v":" "},{"$f":"IFERROR(VLOOKUP(MID(BX$23,5,4)&$A38,Lista_Ubigeo!$J:$K,2,0),\" \")","v":" "},{"$f":"IFERROR(VLOOKUP(MID(BY$23,4,4)&$A38,Lista_Ubigeo!$J:$K,2,0),\" \")","v":" "},{"$f":"IFERROR(VLOOKUP(MID(BZ$23,5,4)&$A38,Lista_Ubigeo!$J:$K,2,0),\" \")","v":" "},{"$f":"IFERROR(VLOOKUP(MID(CA$23,5,4)&$A38,Lista_Ubigeo!$J:$K,2,0),\" \")","v":" "},{"$f":"IFERROR(VLOOKUP(MID(CB$23,5,4)&$A38,Lista_Ubigeo!$J:$K,2,0),\" \")","v":" "},{"$f":"IFERROR(VLOOKUP(MID(CC$23,5,4)&$A38,Lista_Ubigeo!$J:$K,2,0),\" \")","v":" "},{"$f":"IFERROR(VLOOKUP(MID(CD$23,5,4)&$A38,Lista_Ubigeo!$J:$K,2,0),\" \")","v":"PILCHACA"},{"$f":"IFERROR(VLOOKUP(MID(CE$23,5,4)&$A38,Lista_Ubigeo!$J:$K,2,0),\" \")","v":" "},{"$f":"IFERROR(VLOOKUP(MID(CF$23,5,4)&$A38,Lista_Ubigeo!$J:$K,2,0),\" \")","v":" "},{"$f":"IFERROR(VLOOKUP(MID(CG$23,5,4)&$A38,Lista_Ubigeo!$J:$K,2,0),\" \")","v":" "},{"$f":"IFERROR(VLOOKUP(MID(CH$23,5,4)&$A38,Lista_Ubigeo!$J:$K,2,0),\" \")","v":" "},{"$f":"IFERROR(VLOOKUP(MID(CI$23,5,4)&$A38,Lista_Ubigeo!$J:$K,2,0),\" \")","v":"SANTO DOMINGO DE CAPILLAS"},{"$f":"IFERROR(VLOOKUP(MID(CJ$23,5,4)&$A38,Lista_Ubigeo!$J:$K,2,0),\" \")","v":"SALCAHUASI"},{"$f":"IFERROR(VLOOKUP(MID(CK$23,5,4)&$A38,Lista_Ubigeo!$J:$K,2,0),\" \")","v":" "},{"$f":"IFERROR(VLOOKUP(MID(CL$23,5,4)&$A38,Lista_Ubigeo!$J:$K,2,0),\" \")","v":" "},{"$f":"IFERROR(VLOOKUP(MID(CM$23,5,4)&$A49,Lista_Ubigeo!$J:$K,2,0),\" \")","v":" "},{"$f":"IFERROR(VLOOKUP(MID(CN$23,5,4)&$A38,Lista_Ubigeo!$J:$K,2,0),\" \")","v":" "},{"$f":"IFERROR(VLOOKUP(MID(CO$23,5,4)&$A38,Lista_Ubigeo!$J:$K,2,0),\" \")","v":" "},{"$f":"IFERROR(VLOOKUP(MID(CP$23,5,4)&$A38,Lista_Ubigeo!$J:$K,2,0),\" \")","v":" "},{"$f":"IFERROR(VLOOKUP(MID(CQ$23,5,4)&$A38,Lista_Ubigeo!$J:$K,2,0),\" \")","v":" "},{"$f":"IFERROR(VLOOKUP(MID(CR$23,5,4)&$A38,Lista_Ubigeo!$J:$K,2,0),\" \")","v":" "},{"$f":"IFERROR(VLOOKUP(MID(CS$23,5,4)&$A38,Lista_Ubigeo!$J:$K,2,0),\" \")","v":" "},{"$f":"IFERROR(VLOOKUP(MID(CT$23,5,4)&$A38,Lista_Ubigeo!$J:$K,2,0),\" \")","v":" "},{"$f":"IFERROR(VLOOKUP(MID(CU$23,5,4)&$A38,Lista_Ubigeo!$J:$K,2,0),\" \")","v":" "},{"$f":"IFERROR(VLOOKUP(MID(CV$23,5,4)&$A38,Lista_Ubigeo!$J:$K,2,0),\" \")","v":" "},{"$f":"IFERROR(VLOOKUP(MID(CW$23,5,4)&$A38,Lista_Ubigeo!$J:$K,2,0),\" \")","v":" "},{"$f":"IFERROR(VLOOKUP(MID(CX$23,5,4)&$A38,Lista_Ubigeo!$J:$K,2,0),\" \")","v":" "},{"$f":"IFERROR(VLOOKUP(MID(CY$23,5,4)&$A38,Lista_Ubigeo!$J:$K,2,0),\" \")","v":" "},{"$f":"IFERROR(VLOOKUP(MID(CZ$23,5,4)&$A38,Lista_Ubigeo!$J:$K,2,0),\" \")","v":" "},{"$f":"IFERROR(VLOOKUP(MID(DA$23,5,4)&$A38,Lista_Ubigeo!$J:$K,2,0),\" \")","v":" "},{"$f":"IFERROR(VLOOKUP(MID(DB$23,5,4)&$A38,Lista_Ubigeo!$J:$K,2,0),\" \")","v":"SANTA ROSA DE OCOPA"},{"$f":"IFERROR(VLOOKUP(MID(DC$23,5,4)&$A38,Lista_Ubigeo!$J:$K,2,0),\" \")","v":" "},{"$f":"IFERROR(VLOOKUP(MID(DD$23,5,4)&$A38,Lista_Ubigeo!$J:$K,2,0),\" \")","v":"MARCO"},{"$f":"IFERROR(VLOOKUP(MID(DE$23,5,4)&$A38,Lista_Ubigeo!$J:$K,2,0),\" \")","v":" "},{"$f":"IFERROR(VLOOKUP(MID(DF$23,5,4)&$A38,Lista_Ubigeo!$J:$K,2,0),\" \")","v":" "},{"$f":"IFERROR(VLOOKUP(MID(DG$23,5,4)&$A38,Lista_Ubigeo!$J:$K,2,0),\" \")","v":" "},{"$f":"IFERROR(VLOOKUP(MID(DH$23,5,4)&$A38,Lista_Ubigeo!$J:$K,2,0),\" \")","v":" "},{"$f":"IFERROR(VLOOKUP(MID(DI$23,5,4)&$A38,Lista_Ubigeo!$J:$K,2,0),\" \")","v":" "},{"$f":"IFERROR(VLOOKUP(MID(DJ$23,5,4)&$A38,Lista_Ubigeo!$J:$K,2,0),\" \")","v":" "},{"$f":"IFERROR(VLOOKUP(MID(DK$23,5,4)&$A38,Lista_Ubigeo!$J:$K,2,0),\" \")","v":" "},{"$f":"IFERROR(VLOOKUP(MID(DL$23,5,4)&$A38,Lista_Ubigeo!$J:$K,2,0),\" \")","v":" "},{"$f":"IFERROR(VLOOKUP(MID(DM$23,5,4)&$A38,Lista_Ubigeo!$J:$K,2,0),\" \")","v":" "},{"$f":"IFERROR(VLOOKUP(MID(DN$23,5,4)&$A38,Lista_Ubigeo!$J:$K,2,0),\" \")","v":" "},{"$f":"IFERROR(VLOOKUP(MID(DO$23,5,4)&$A39,Lista_Ubigeo!$J:$K,2,0),\" \")","v":" "},{"$f":"IFERROR(VLOOKUP(MID(DP$23,5,4)&$A38,Lista_Ubigeo!$J:$K,2,0),\" \")","v":" "},{"$f":"IFERROR(VLOOKUP(MID(DQ$23,5,4)&$A38,Lista_Ubigeo!$J:$K,2,0),\" \")","v":" "},{"$f":"IFERROR(VLOOKUP(MID(DR$23,5,4)&$A38,Lista_Ubigeo!$J:$K,2,0),\" \")","v":" "},{"$f":"IFERROR(VLOOKUP(MID(DS$23,5,4)&$A38,Lista_Ubigeo!$J:$K,2,0),\" \")","v":" "},null,null,{"$f":"IFERROR(VLOOKUP(MID(DV$23,5,4)&$A38,Lista_Ubigeo!$J:$K,2,0),\" \")","v":"SAÑA"},{"$f":"IFERROR(VLOOKUP(MID(DW$23,5,4)&$A38,Lista_Ubigeo!$J:$K,2,0),\" \")","v":" "},{"$f":"IFERROR(VLOOKUP(MID(DX$23,5,4)&$A38,Lista_Ubigeo!$J:$K,2,0),\" \")","v":" "},{"$f":"IFERROR(VLOOKUP(MID(DY$23,5,4)&$A38,Lista_Ubigeo!$J:$K,2,0),\" \")","v":"LA VICTORIA"},{"$f":"IFERROR(VLOOKUP(MID(DZ$23,5,4)&$A38,Lista_Ubigeo!$J:$K,2,0),\" \")","v":" "},{"$f":"IFERROR(VLOOKUP(MID(EA$23,5,4)&$A38,Lista_Ubigeo!$J:$K,2,0),\" \")","v":" "},{"$f":"IFERROR(VLOOKUP(MID(EB$23,5,4)&$A38,Lista_Ubigeo!$J:$K,2,0),\" \")","v":" "},{"$f":"IFERROR(VLOOKUP(MID(EC$23,5,4)&$A38,Lista_Ubigeo!$J:$K,2,0),\" \")","v":"SANTA CRUZ DE FLORES"},{"$f":"IFERROR(VLOOKUP(MID(ED$23,5,4)&$A38,Lista_Ubigeo!$J:$K,2,0),\" \")","v":" "},{"$f":"IFERROR(VLOOKUP(MID(EE$23,5,4)&$A38,Lista_Ubigeo!$J:$K,2,0),\" \")","v":"SAN ANDRES DE TUPICOCHA"},{"$f":"IFERROR(VLOOKUP(MID(EF$23,5,4)&$A38,Lista_Ubigeo!$J:$K,2,0),\" \")","v":" "},{"$f":"IFERROR(VLOOKUP(MID(EG$23,5,4)&$A38,Lista_Ubigeo!$J:$K,2,0),\" \")","v":" "},{"$f":"IFERROR(VLOOKUP(MID(EH$23,5,4)&$A38,Lista_Ubigeo!$J:$K,2,0),\" \")","v":"HUANGASCAR"},{"$f":"IFERROR(VLOOKUP(MID(EI$23,5,4)&$A38,Lista_Ubigeo!$J:$K,2,0),\" \")","v":" "},{"$f":"IFERROR(VLOOKUP(MID(EJ$23,5,4)&$A43,Lista_Ubigeo!$J:$K,2,0),\" \")","v":" "},{"$f":"IFERROR(VLOOKUP(MID(EK$23,5,4)&$A38,Lista_Ubigeo!$J:$K,2,0),\" \")","v":" "},{"$f":"IFERROR(VLOOKUP(MID(EL$23,5,4)&$A38,Lista_Ubigeo!$J:$K,2,0),\" \")","v":" "},{"$f":"IFERROR(VLOOKUP(MID(EM$23,5,4)&$A38,Lista_Ubigeo!$J:$K,2,0),\" \")","v":" "},{"$f":"IFERROR(VLOOKUP(MID(EN$23,5,4)&$A38,Lista_Ubigeo!$J:$K,2,0),\" \")","v":" "},{"$f":"IFERROR(VLOOKUP(MID(EO$23,5,4)&$A38,Lista_Ubigeo!$J:$K,2,0),\" \")","v":" "},{"$f":"IFERROR(VLOOKUP(MID(EP$23,5,4)&$A38,Lista_Ubigeo!$J:$K,2,0),\" \")","v":" "},{"$f":"IFERROR(VLOOKUP(MID(EQ$23,5,4)&$A38,Lista_Ubigeo!$J:$K,2,0),\" \")","v":" "},{"$f":"IFERROR(VLOOKUP(MID(ER$23,5,4)&$A38,Lista_Ubigeo!$J:$K,2,0),\" \")","v":" "},{"$f":"IFERROR(VLOOKUP(MID(ES$23,5,4)&$A38,Lista_Ubigeo!$J:$K,2,0),\" \")","v":" "},{"$f":"IFERROR(VLOOKUP(MID(ET$23,5,4)&$A38,Lista_Ubigeo!$J:$K,2,0),\" \")","v":" "},{"$f":"IFERROR(VLOOKUP(MID(EU$23,5,4)&$A38,Lista_Ubigeo!$J:$K,2,0),\" \")","v":" "},{"$f":"IFERROR(VLOOKUP(MID(EV$23,5,4)&$A38,Lista_Ubigeo!$J:$K,2,0),\" \")","v":" "},{"$f":"IFERROR(VLOOKUP(MID(EW$23,5,4)&$A38,Lista_Ubigeo!$J:$K,2,0),\" \")","v":" "},{"$f":"IFERROR(VLOOKUP(MID(EX$23,5,4)&$A38,Lista_Ubigeo!$J:$K,2,0),\" \")","v":" "},{"$f":"IFERROR(VLOOKUP(MID(EY$23,5,4)&$A38,Lista_Ubigeo!$J:$K,2,0),\" \")","v":" "},{"$f":"IFERROR(VLOOKUP(MID(EZ$23,5,4)&$A41,Lista_Ubigeo!$J:$K,2,0),\" \")","v":" "},{"$f":"IFERROR(VLOOKUP(MID(FA$23,5,4)&$A38,Lista_Ubigeo!$J:$K,2,0),\" \")","v":" "},{"$f":"IFERROR(VLOOKUP(MID(FB$23,5,4)&$A38,Lista_Ubigeo!$J:$K,2,0),\" \")","v":" "},{"$f":"IFERROR(VLOOKUP(MID(FC$23,5,4)&$A38,Lista_Ubigeo!$J:$K,2,0),\" \")","v":" "},{"$f":"IFERROR(VLOOKUP(MID(FD$23,5,4)&$A38,Lista_Ubigeo!$J:$K,2,0),\" \")","v":" "},{"$f":"IFERROR(VLOOKUP(MID(FE$23,5,4)&$A38,Lista_Ubigeo!$J:$K,2,0),\" \")","v":" "},{"$f":"IFERROR(VLOOKUP(MID(FF$23,5,4)&$A38,Lista_Ubigeo!$J:$K,2,0),\" \")","v":" "},{"$f":"IFERROR(VLOOKUP(MID(FG$23,5,4)&$A38,Lista_Ubigeo!$J:$K,2,0),\" \")","v":" "},{"$f":"IFERROR(VLOOKUP(MID(FH$23,5,4)&$A38,Lista_Ubigeo!$J:$K,2,0),\" \")","v":"VILQUE"},{"$f":"IFERROR(VLOOKUP(MID(FI$23,5,4)&$A38,Lista_Ubigeo!$J:$K,2,0),\" \")","v":"TIRAPATA"},{"$f":"IFERROR(VLOOKUP(MID(FJ$23,5,4)&$A38,Lista_Ubigeo!$J:$K,2,0),\" \")","v":" "},{"$f":"IFERROR(VLOOKUP(MID(FK$23,5,4)&$A38,Lista_Ubigeo!$J:$K,2,0),\" \")","v":" "},{"$f":"IFERROR(VLOOKUP(MID(FL$23,5,4)&$A38,Lista_Ubigeo!$J:$K,2,0),\" \")","v":" "},{"$f":"IFERROR(VLOOKUP(MID(FM$23,5,4)&$A38,Lista_Ubigeo!$J:$K,2,0),\" \")","v":" "},{"$f":"IFERROR(VLOOKUP(MID(FN$23,5,4)&$A38,Lista_Ubigeo!$J:$K,2,0),\" \")","v":" "},{"$f":"IFERROR(VLOOKUP(MID(FO$23,5,4)&$A38,Lista_Ubigeo!$J:$K,2,0),\" \")","v":" "},{"$f":"IFERROR(VLOOKUP(MID(FP$23,5,4)&$A38,Lista_Ubigeo!$J:$K,2,0),\" \")","v":" "},{"$f":"IFERROR(VLOOKUP(MID(FQ$23,5,4)&$A38,Lista_Ubigeo!$J:$K,2,0),\" \")","v":" "},{"$f":"IFERROR(VLOOKUP(MID(FR$23,5,4)&$A38,Lista_Ubigeo!$J:$K,2,0),\" \")","v":" "},{"$f":"IFERROR(VLOOKUP(MID(FS$23,5,4)&$A38,Lista_Ubigeo!$J:$K,2,0),\" \")","v":" "},{"$f":"IFERROR(VLOOKUP(MID(FT$23,5,4)&$A38,Lista_Ubigeo!$J:$K,2,0),\" \")","v":" "},{"$f":"IFERROR(VLOOKUP(MID(FU$23,5,4)&$A38,Lista_Ubigeo!$J:$K,2,0),\" \")","v":" "},{"$f":"IFERROR(VLOOKUP(MID(FV$23,5,4)&$A38,Lista_Ubigeo!$J:$K,2,0),\" \")","v":" "},{"$f":"IFERROR(VLOOKUP(MID(FW$23,5,4)&$A38,Lista_Ubigeo!$J:$K,2,0),\" \")","v":" "},{"$f":"IFERROR(VLOOKUP(MID(FX$23,5,4)&$A38,Lista_Ubigeo!$J:$K,2,0),\" \")","v":" "},{"$f":"IFERROR(VLOOKUP(MID(FY$23,5,4)&$A38,Lista_Ubigeo!$J:$K,2,0),\" \")","v":" "},{"$f":"IFERROR(VLOOKUP(MID(FZ$23,5,4)&$A38,Lista_Ubigeo!$J:$K,2,0),\" \")","v":" "},{"$f":"IFERROR(VLOOKUP(MID(GA$23,5,4)&$A38,Lista_Ubigeo!$J:$K,2,0),\" \")","v":" "},{"$f":"IFERROR(VLOOKUP(MID(GB$23,5,4)&$A38,Lista_Ubigeo!$J:$K,2,0),\" \")","v":" "},{"$f":"IFERROR(VLOOKUP(MID(GC$23,5,4)&$A38,Lista_Ubigeo!$J:$K,2,0),\" \")","v":" "},{"$f":"IFERROR(VLOOKUP(MID(GD$23,5,4)&$A38,Lista_Ubigeo!$J:$K,2,0),\" \")","v":" "},{"$f":"IFERROR(VLOOKUP(MID(GE$23,5,4)&$A38,Lista_Ubigeo!$J:$K,2,0),\" \")","v":" "},{"$f":"IFERROR(VLOOKUP(MID(GF$23,5,4)&$A38,Lista_Ubigeo!$J:$K,2,0),\" \")","v":" "},{"$f":"IFERROR(VLOOKUP(MID(GG$23,5,4)&$A38,Lista_Ubigeo!$J:$K,2,0),\" \")","v":" "},{"$f":"IFERROR(VLOOKUP(MID(GH$23,5,4)&$A38,Lista_Ubigeo!$J:$K,2,0),\" \")","v":" "},{"$f":"IFERROR(VLOOKUP(MID(GI$23,5,4)&$A38,Lista_Ubigeo!$J:$K,2,0),\" \")","v":" "},{"$f":"IFERROR(VLOOKUP(MID(GJ$23,5,4)&$A38,Lista_Ubigeo!$J:$K,2,0),\" \")","v":" "},{"$f":"IFERROR(VLOOKUP(MID(GK$23,5,4)&$A38,Lista_Ubigeo!$J:$K,2,0),\" \")","v":" "},{"$f":"IFERROR(VLOOKUP(MID(GL$23,5,4)&$A38,Lista_Ubigeo!$J:$K,2,0),\" \")","v":" "},{"$f":"IFERROR(VLOOKUP(MID(GM$23,5,4)&$A38,Lista_Ubigeo!$J:$K,2,0),\" \")","v":" "},{"$f":"IFERROR(VLOOKUP(MID(GN$23,5,4)&$A38,Lista_Ubigeo!$J:$K,2,0),\" \")","v":" "},{"$f":"IFERROR(VLOOKUP(MID(GO$23,5,4)&$A38,Lista_Ubigeo!$J:$K,2,0),\" \")","v":" "},{"$f":"IFERROR(VLOOKUP(MID(GP$23,5,4)&$A38,Lista_Ubigeo!$J:$K,2,0),\" \")","v":"TIRAPATA"}]
["16",{"$f":"IFERROR(VLOOKUP(MID(B$23,5,4)&$A39,Lista_Ubigeo!$J:$K,2,0),\" \")","v":"OLLEROS"},{"$f":"IFERROR(VLOOKUP(MID(C$23,5,4)&$A39,Lista_Ubigeo!$J:$K,2,0),\" \")","v":" "},{"$f":"IFERROR(VLOOKUP(MID(D$23,5,4)&$A39,Lista_Ubigeo!$J:$K,2,0),\" \")","v":" "},{"$f":"IFERROR(VLOOKUP(MID(E$23,5,4)&$A39,Lista_Ubigeo!$J:$K,2,0),\" \")","v":" "},{"$f":"IFERROR(VLOOKUP(MID(F$23,5,4)&$A39,Lista_Ubigeo!$J:$K,2,0),\" \")","v":"SAN CRISTOBAL"},{"$f":"IFERROR(VLOOKUP(MID(G$23,5,4)&$A39,Lista_Ubigeo!$J:$K,2,0),\" \")","v":" "},{"$f":"IFERROR(VLOOKUP(MID(H$23,5,4)&$A39,Lista_Ubigeo!$J:$K,2,0),\" \")","v":" "},{"$f":"IFERROR(VLOOKUP(MID(I$23,5,4)&$A39,Lista_Ubigeo!$J:$K,2,0),\" \")","v":" "},{"$f":"IFERROR(VLOOKUP(MID(J$23,5,4)&$A39,Lista_Ubigeo!$J:$K,2,0),\" \")","v":" "},{"$f":"IFERROR(VLOOKUP(MID(K$23,5,4)&$A39,Lista_Ubigeo!$J:$K,2,0),\" \")","v":" "},{"$f":"IFERROR(VLOOKUP(MID(L$23,5,4)&$A39,Lista_Ubigeo!$J:$K,2,0),\" \")","v":" "},{"$f":"IFERROR(VLOOKUP(MID(M$23,5,4)&$A39,Lista_Ubigeo!$J:$K,2,0),\" \")","v":" "},{"$f":"IFERROR(VLOOKUP(MID(N$23,5,4)&$A39,Lista_Ubigeo!$J:$K,2,0),\" \")","v":" "},{"$f":"IFERROR(VLOOKUP(MID(O$23,5,4)&$A39,Lista_Ubigeo!$J:$K,2,0),\" \")","v":" "},{"$f":"IFERROR(VLOOKUP(MID(P$23,5,4)&$A39,Lista_Ubigeo!$J:$K,2,0),\" \")","v":" "},{"$f":"IFERROR(VLOOKUP(MID(Q$23,5,4)&$A39,Lista_Ubigeo!$J:$K,2,0),\" \")","v":" "},{"$f":"IFERROR(VLOOKUP(MID(R$23,5,4)&$A39,Lista_Ubigeo!$J:$K,2,0),\" \")","v":"UCO"},{"$f":"IFERROR(VLOOKUP(MID(S$23,5,4)&$A39,Lista_Ubigeo!$J:$K,2,0),\" \")","v":" "},{"$f":"IFERROR(VLOOKUP(MID(T$23,5,4)&$A39,Lista_Ubigeo!$J:$K,2,0),\" \")","v":" "},{"$f":"IFERROR(VLOOKUP(MID(U$23,5,4)&$A39,Lista_Ubigeo!$J:$K,2,0),\" \")","v":" "},{"$f":"IFERROR(VLOOKUP(MID(V$23,5,4)&$A39,Lista_Ubigeo!$J:$K,2,0),\" \")","v":" "},{"$f":"IFERROR(VLOOKUP(MID(W$23,5,4)&$A39,Lista_Ubigeo!$J:$K,2,0),\" \")","v":" "},{"$f":"IFERROR(VLOOKUP(MID(X$23,5,4)&$A39,Lista_Ubigeo!$J:$K,2,0),\" \")","v":" "},{"$f":"IFERROR(VLOOKUP(MID(Y$23,5,4)&$A39,Lista_Ubigeo!$J:$K,2,0),\" \")","v":" "},{"$f":"IFERROR(VLOOKUP(MID(Z$23,5,4)&$A39,Lista_Ubigeo!$J:$K,2,0),\" \")","v":" "},{"$f":"IFERROR(VLOOKUP(MID(AA$23,5,4)&$A39,Lista_Ubigeo!$J:$K,2,0),\" \")","v":" "},{"$f":"IFERROR(VLOOKUP(MID(AB$23,5,4)&$A39,Lista_Ubigeo!$J:$K,2,0),\" \")","v":" "},{"$f":"IFERROR(VLOOKUP(MID(AC$23,5,4)&$A39,Lista_Ubigeo!$J:$K,2,0),\" \")","v":" "},{"$f":"IFERROR(VLOOKUP(MID(AD$23,5,4)&$A39,Lista_Ubigeo!$J:$K,2,0),\" \")","v":"TALAVERA"},{"$f":"IFERROR(VLOOKUP(MID(AE$23,5,4)&$A39,Lista_Ubigeo!$J:$K,2,0),\" \")","v":" "},{"$f":"IFERROR(VLOOKUP(MID(AF$23,5,4)&$A39,Lista_Ubigeo!$J:$K,2,0),\" \")","v":"TORAYA"},{"$f":"IFERROR(VLOOKUP(MID(AG$23,5,4)&$A39,Lista_Ubigeo!$J:$K,2,0),\" \")","v":" "},{"$f":"IFERROR(VLOOKUP(MID(AH$23,5,4)&$A39,Lista_Ubigeo!$J:$K,2,0),\" \")","v":" "},{"$f":"IFERROR(VLOOKUP(MID(AI$23,5,4)&$A39,Lista_Ubigeo!$J:$K,2,0),\" \")","v":" "},{"$f":"IFERROR(VLOOKUP(MID(AJ$23,5,4)&$A39,Lista_Ubigeo!$J:$K,2,0),\" \")","v":"SABANDIA"},{"$f":"IFERROR(VLOOKUP(MID(AK$23,5,4)&$A39,Lista_Ubigeo!$J:$K,2,0),\" \")","v":" "},{"$f":"IFERROR(VLOOKUP(MID(AL$23,5,4)&$A39,Lista_Ubigeo!$J:$K,2,0),\" \")","v":" "},{"$f":"IFERROR(VLOOKUP(MID(AM$23,5,4)&$A39,Lista_Ubigeo!$J:$K,2,0),\" \")","v":" "},{"$f":"IFERROR(VLOOKUP(MID(AN$23,5,4)&$A39,Lista_Ubigeo!$J:$K,2,0),\" \")","v":"TAPAY"},{"$f":"IFERROR(VLOOKUP(MID(AO$23,5,4)&$A39,Lista_Ubigeo!$J:$K,2,0),\" \")","v":" "},{"$f":"IFERROR(VLOOKUP(MID(AP$23,5,4)&$A39,Lista_Ubigeo!$J:$K,2,0),\" \")","v":" "},{"$f":"IFERROR(VLOOKUP(MID(AQ$23,4,4)&$A39,Lista_Ubigeo!$J:$K,2,0),\" \")","v":" "},{"$f":"IFERROR(VLOOKUP(MID(AR$23,5,4)&$A39,Lista_Ubigeo!$J:$K,2,0),\" \")","v":"ANDRES AVELINO CACERES DORREGARAY"},{"$f":"IFERROR(VLOOKUP(MID(AS$23,5,4)&$A39,Lista_Ubigeo!$J:$K,2,0),\" \")","v":" "},{"$f":"IFERROR(VLOOKUP(MID(AT$23,5,4)&$A39,Lista_Ubigeo!$J:$K,2,0),\" \")","v":" "},{"$f":"IFERROR(VLOOKUP(MID(AU$23,5,4)&$A39,Lista_Ubigeo!$J:$K,2,0),\" \")","v":" "},{"$f":"IFERROR(VLOOKUP(MID(AV$23,5,4)&$A39,Lista_Ubigeo!$J:$K,2,0),\" \")","v":" "},{"$f":"IFERROR(VLOOKUP(MID(AW$23,5,4)&$A39,Lista_Ubigeo!$J:$K,2,0),\" \")","v":"SAN JUAN"},{"$f":"IFERROR(VLOOKUP(MID(AX$23,5,4)&$A39,Lista_Ubigeo!$J:$K,2,0),\" \")","v":" "},{"$f":"IFERROR(VLOOKUP(MID(AY$23,5,4)&$A39,Lista_Ubigeo!$J:$K,2,0),\" \")","v":" "},{"$f":"IFERROR(VLOOKUP(MID(AZ$23,5,4)&$A39,Lista_Ubigeo!$J:$K,2,0),\" \")","v":" "},{"$f":"IFERROR(VLOOKUP(MID(BA$23,5,4)&$A39,Lista_Ubigeo!$J:$K,2,0),\" \")","v":" "},{"$f":"IFERROR(VLOOKUP(MID(BB$23,5,4)&$A39,Lista_Ubigeo!$J:$K,2,0),\" \")","v":" "},{"$f":"IFERROR(VLOOKUP(MID(BC$23,5,4)&$A39,Lista_Ubigeo!$J:$K,2,0),\" \")","v":" "},{"$f":"IFERROR(VLOOKUP(MID(BD$23,5,4)&$A39,Lista_Ubigeo!$J:$K,2,0),\" \")","v":" "},{"$f":"IFERROR(VLOOKUP(MID(BE$23,5,4)&$A39,Lista_Ubigeo!$J:$K,2,0),\" \")","v":" "},{"$f":"IFERROR(VLOOKUP(MID(BF$23,5,4)&$A39,Lista_Ubigeo!$J:$K,2,0),\" \")","v":"SAN JUAN DE LICUPIS"},{"$f":"IFERROR(VLOOKUP(MID(BG$23,5,4)&$A39,Lista_Ubigeo!$J:$K,2,0),\" \")","v":" "},{"$f":"IFERROR(VLOOKUP(MID(BH$23,5,4)&$A39,Lista_Ubigeo!$J:$K,2,0),\" \")","v":" "},{"$f":"IFERROR(VLOOKUP(MID(BI$23,5,4)&$A39,Lista_Ubigeo!$J:$K,2,0),\" \")","v":" "},{"$f":"IFERROR(VLOOKUP(MID(BJ$23,5,4)&$A39,Lista_Ubigeo!$J:$K,2,0),\" \")","v":" "},{"$f":"IFERROR(VLOOKUP(MID(BK$23,5,4)&$A39,Lista_Ubigeo!$J:$K,2,0),\" \")","v":" "},{"$f":"IFERROR(VLOOKUP(MID(BL$23,5,4)&$A39,Lista_Ubigeo!$J:$K,2,0),\" \")","v":" "},{"$f":"IFERROR(VLOOKUP(MID(BM$23,5,4)&$A39,Lista_Ubigeo!$J:$K,2,0),\" \")","v":" "},{"$f":"IFERROR(VLOOKUP(MID(BN$23,5,4)&$A39,Lista_Ubigeo!$J:$K,2,0),\" \")","v":" "},{"$f":"IFERROR(VLOOKUP(MID(BO$23,5,4)&$A39,Lista_Ubigeo!$J:$K,2,0),\" \")","v":" "},{"$f":"IFERROR(VLOOKUP(MID(BP$23,5,4)&$A39,Lista_Ubigeo!$J:$K,2,0),\" \")","v":" "},{"$f":"IFERROR(VLOOKUP(MID(BQ$23,5,4)&$A39,Lista_Ubigeo!$J:$K,2,0),\" \")","v":" "},{"$f":"IFERROR(VLOOKUP(MID(BR$23,5,4)&$A39,Lista_Ubigeo!$J:$K,2,0),\" \")","v":" "},{"$f":"IFERROR(VLOOKUP(MID(BS$23,5,4)&$A39,Lista_Ubigeo!$J:$K,2,0),\" \")","v":" "},{"$f":"IFERROR(VLOOKUP(MID(BT$23,5,4)&$A39,Lista_Ubigeo!$J:$K,2,0),\" \")","v":" "},{"$f":"IFERROR(VLOOKUP(MID(BU$23,5,4)&$A39,Lista_Ubigeo!$J:$K,2,0),\" \")","v":" "},{"$f":"IFERROR(VLOOKUP(MID(BV$23,5,4)&$A39,Lista_Ubigeo!$J:$K,2,0),\" \")","v":" "},{"$f":"IFERROR(VLOOKUP(MID(BW$23,5,4)&$A39,Lista_Ubigeo!$J:$K,2,0),\" \")","v":" "},{"$f":"IFERROR(VLOOKUP(MID(BX$23,5,4)&$A39,Lista_Ubigeo!$J:$K,2,0),\" \")","v":" "},{"$f":"IFERROR(VLOOKUP(MID(BY$23,4,4)&$A39,Lista_Ubigeo!$J:$K,2,0),\" \")","v":" "},{"$f":"IFERROR(VLOOKUP(MID(BZ$23,5,4)&$A39,Lista_Ubigeo!$J:$K,2,0),\" \")","v":" "},{"$f":"IFERROR(VLOOKUP(MID(CA$23,5,4)&$A39,Lista_Ubigeo!$J:$K,2,0),\" \")","v":" "},{"$f":"IFERROR(VLOOKUP(MID(CB$23,5,4)&$A39,Lista_Ubigeo!$J:$K,2,0),\" \")","v":" "},{"$f":"IFERROR(VLOOKUP(MID(CC$23,5,4)&$A39,Lista_Ubigeo!$J:$K,2,0),\" \")","v":" "},{"$f":"IFERROR(VLOOKUP(MID(CD$23,5,4)&$A39,Lista_Ubigeo!$J:$K,2,0),\" \")","v":"VILCA"},{"$f":"IFERROR(VLOOKUP(MID(CE$23,5,4)&$A39,Lista_Ubigeo!$J:$K,2,0),\" \")","v":" "},{"$f":"IFERROR(VLOOKUP(MID(CF$23,5,4)&$A39,Lista_Ubigeo!$J:$K,2,0),\" \")","v":" "},{"$f":"IFERROR(VLOOKUP(MID(CG$23,5,4)&$A39,Lista_Ubigeo!$J:$K,2,0),\" \")","v":" "},{"$f":"IFERROR(VLOOKUP(MID(CH$23,5,4)&$A39,Lista_Ubigeo!$J:$K,2,0),\" \")","v":" "},{"$f":"IFERROR(VLOOKUP(MID(CI$23,5,4)&$A39,Lista_Ubigeo!$J:$K,2,0),\" \")","v":"TAMBO"},{"$f":"IFERROR(VLOOKUP(MID(CJ$23,5,4)&$A39,Lista_Ubigeo!$J:$K,2,0),\" \")","v":"SAN MARCOS DE ROCCHAC"},{"$f":"IFERROR(VLOOKUP(MID(CK$23,5,4)&$A39,Lista_Ubigeo!$J:$K,2,0),\" \")","v":" "},{"$f":"IFERROR(VLOOKUP(MID(CL$23,5,4)&$A39,Lista_Ubigeo!$J:$K,2,0),\" \")","v":" "},{"$f":"IFERROR(VLOOKUP(MID(CM$23,5,4)&$A50,Lista_Ubigeo!$J:$K,2,0),\" \")","v":" "},{"$f":"IFERROR(VLOOKUP(MID(CN$23,5,4)&$A39,Lista_Ubigeo!$J:$K,2,0),\" \")","v":" "},{"$f":"IFERROR(VLOOKUP(MID(CO$23,5,4)&$A39,Lista_Ubigeo!$J:$K,2,0),\" \")","v":" "},{"$f":"IFERROR(VLOOKUP(MID(CP$23,5,4)&$A39,Lista_Ubigeo!$J:$K,2,0),\" \")","v":" "},{"$f":"IFERROR(VLOOKUP(MID(CQ$23,5,4)&$A39,Lista_Ubigeo!$J:$K,2,0),\" \")","v":" "},{"$f":"IFERROR(VLOOKUP(MID(CR$23,5,4)&$A39,Lista_Ubigeo!$J:$K,2,0),\" \")","v":" "},{"$f":"IFERROR(VLOOKUP(MID(CS$23,5,4)&$A39,Lista_Ubigeo!$J:$K,2,0),\" \")","v":" "},{"$f":"IFERROR(VLOOKUP(MID(CT$23,5,4)&$A39,Lista_Ubigeo!$J:$K,2,0),\" \")","v":" "},{"$f":"IFERROR(VLOOKUP(MID(CU$23,5,4)&$A39,Lista_Ubigeo!$J:$K,2,0),\" \")","v":" "},{"$f":"IFERROR(VLOOKUP(MID(CV$23,5,4)&$A39,Lista_Ubigeo!$J:$K,2,0),\" \")","v":" "},{"$f":"IFERROR(VLOOKUP(MID(CW$23,5,4)&$A39,Lista_Ubigeo!$J:$K,2,0),\" \")","v":" "},{"$f":"IFERROR(VLOOKUP(MID(CX$23,5,4)&$A39,Lista_Ubigeo!$J:$K,2,0),\" \")","v":" "},{"$f":"IFERROR(VLOOKUP(MID(CY$23,5,4)&$A39,Lista_Ubigeo!$J:$K,2,0),\" \")","v":" "},{"$f":"IFERROR(VLOOKUP(MID(CZ$23,5,4)&$A39,Lista_Ubigeo!$J:$K,2,0),\" \")","v":" "},{"$f":"IFERROR(VLOOKUP(MID(DA$23,5,4)&$A39,Lista_Ubigeo!$J:$K,2,0),\" \")","v":"HUACRAPUQUIO"},{"$f":"IFERROR(VLOOKUP(MID(DB$23,5,4)&$A39,Lista_Ubigeo!$J:$K,2,0),\" \")","v":" "},{"$f":"IFERROR(VLOOKUP(MID(DC$23,5,4)&$A39,Lista_Ubigeo!$J:$K,2,0),\" \")","v":" "},{"$f":"IFERROR(VLOOKUP(MID(DD$23,5,4)&$A39,Lista_Ubigeo!$J:$K,2,0),\" \")","v":"MASMA"},{"$f":"IFERROR(VLOOKUP(MID(DE$23,5,4)&$A39,Lista_Ubigeo!$J:$K,2,0),\" \")","v":" "},{"$f":"IFERROR(VLOOKUP(MID(DF$23,5,4)&$A39,Lista_Ubigeo!$J:$K,2,0),\" \")","v":" "},{"$f":"IFERROR(VLOOKUP(MID(DG$23,5,4)&$A39,Lista_Ubigeo!$J:$K,2,0),\" \")","v":" "},{"$f":"IFERROR(VLOOKUP(MID(DH$23,5,4)&$A39,Lista_Ubigeo!$J:$K,2,0),\" \")","v":" "},{"$f":"IFERROR(VLOOKUP(MID(DI$23,5,4)&$A39,Lista_Ubigeo!$J:$K,2,0),\" \")","v":" "},{"$f":"IFERROR(VLOOKUP(MID(DJ$23,5,4)&$A39,Lista_Ubigeo!$J:$K,2,0),\" \")","v":" "},{"$f":"IFERROR(VLOOKUP(MID(DK$23,5,4)&$A39,Lista_Ubigeo!$J:$K,2,0),\" \")","v":" "},{"$f":"IFERROR(VLOOKUP(MID(DL$23,5,4)&$A39,Lista_Ubigeo!$J:$K,2,0),\" \")","v":" "},{"$f":"IFERROR(VLOOKUP(MID(DM$23,5,4)&$A39,Lista_Ubigeo!$J:$K,2,0),\" \")","v":" "},{"$f":"IFERROR(VLOOKUP(MID(DN$23,5,4)&$A39,Lista_Ubigeo!$J:$K,2,0),\" \")","v":" "},{"$f":"IFERROR(VLOOKUP(MID(DO$23,5,4)&$A40,Lista_Ubigeo!$J:$K,2,0),\" \")","v":" "},{"$f":"IFERROR(VLOOKUP(MID(DP$23,5,4)&$A39,Lista_Ubigeo!$J:$K,2,0),\" \")","v":" "},{"$f":"IFERROR(VLOOKUP(MID(DQ$23,5,4)&$A39,Lista_Ubigeo!$J:$K,2,0),\" \")","v":" "},{"$f":"IFERROR(VLOOKUP(MID(DR$23,5,4)&$A39,Lista_Ubigeo!$J:$K,2,0),\" \")","v":" "},{"$f":"IFERROR(VLOOKUP(MID(DS$23,5,4)&$A39,Lista_Ubigeo!$J:$K,2,0),\" \")","v":" "},null,null,{"$f":"IFERROR(VLOOKUP(MID(DV$23,5,4)&$A39,Lista_Ubigeo!$J:$K,2,0),\" \")","v":"CAYALTI"},{"$f":"IFERROR(VLOOKUP(MID(DW$23,5,4)&$A39,Lista_Ubigeo!$J:$K,2,0),\" \")","v":" "},{"$f":"IFERROR(VLOOKUP(MID(DX$23,5,4)&$A39,Lista_Ubigeo!$J:$K,2,0),\" \")","v":" "},{"$f":"IFERROR(VLOOKUP(MID(DY$23,5,4)&$A39,Lista_Ubigeo!$J:$K,2,0),\" \")","v":"LINCE"},{"$f":"IFERROR(VLOOKUP(MID(DZ$23,5,4)&$A39,Lista_Ubigeo!$J:$K,2,0),\" \")","v":" "},{"$f":"IFERROR(VLOOKUP(MID(EA$23,5,4)&$A39,Lista_Ubigeo!$J:$K,2,0),\" \")","v":" "},{"$f":"IFERROR(VLOOKUP(MID(EB$23,5,4)&$A39,Lista_Ubigeo!$J:$K,2,0),\" \")","v":" "},{"$f":"IFERROR(VLOOKUP(MID(EC$23,5,4)&$A39,Lista_Ubigeo!$J:$K,2,0),\" \")","v":"ZUÑIGA"},{"$f":"IFERROR(VLOOKUP(MID(ED$23,5,4)&$A39,Lista_Ubigeo!$J:$K,2,0),\" \")","v":" "},{"$f":"IFERROR(VLOOKUP(MID(EE$23,5,4)&$A39,Lista_Ubigeo!$J:$K,2,0),\" \")","v":"SAN ANTONIO"},{"$f":"IFERROR(VLOOKUP(MID(EF$23,5,4)&$A39,Lista_Ubigeo!$J:$K,2,0),\" \")","v":" "},{"$f":"IFERROR(VLOOKUP(MID(EG$23,5,4)&$A39,Lista_Ubigeo!$J:$K,2,0),\" \")","v":" "},{"$f":"IFERROR(VLOOKUP(MID(EH$23,5,4)&$A39,Lista_Ubigeo!$J:$K,2,0),\" \")","v":"HUANTAN"},{"$f":"IFERROR(VLOOKUP(MID(EI$23,5,4)&$A39,Lista_Ubigeo!$J:$K,2,0),\" \")","v":" "},{"$f":"IFERROR(VLOOKUP(MID(EJ$23,5,4)&$A44,Lista_Ubigeo!$J:$K,2,0),\" \")","v":" "},{"$f":"IFERROR(VLOOKUP(MID(EK$23,5,4)&$A39,Lista_Ubigeo!$J:$K,2,0),\" \")","v":" "},{"$f":"IFERROR(VLOOKUP(MID(EL$23,5,4)&$A39,Lista_Ubigeo!$J:$K,2,0),\" \")","v":" "},{"$f":"IFERROR(VLOOKUP(MID(EM$23,5,4)&$A39,Lista_Ubigeo!$J:$K,2,0),\" \")","v":" "},{"$f":"IFERROR(VLOOKUP(MID(EN$23,5,4)&$A39,Lista_Ubigeo!$J:$K,2,0),\" \")","v":" "},{"$f":"IFERROR(VLOOKUP(MID(EO$23,5,4)&$A39,Lista_Ubigeo!$J:$K,2,0),\" \")","v":" "},{"$f":"IFERROR(VLOOKUP(MID(EP$23,5,4)&$A39,Lista_Ubigeo!$J:$K,2,0),\" \")","v":" "},{"$f":"IFERROR(VLOOKUP(MID(EQ$23,5,4)&$A39,Lista_Ubigeo!$J:$K,2,0),\" \")","v":" "},{"$f":"IFERROR(VLOOKUP(MID(ER$23,5,4)&$A39,Lista_Ubigeo!$J:$K,2,0),\" \")","v":" "},{"$f":"IFERROR(VLOOKUP(MID(ES$23,5,4)&$A39,Lista_Ubigeo!$J:$K,2,0),\" \")","v":" "},{"$f":"IFERROR(VLOOKUP(MID(ET$23,5,4)&$A39,Lista_Ubigeo!$J:$K,2,0),\" \")","v":" "},{"$f":"IFERROR(VLOOKUP(MID(EU$23,5,4)&$A39,Lista_Ubigeo!$J:$K,2,0),\" \")","v":" "},{"$f":"IFERROR(VLOOKUP(MID(EV$23,5,4)&$A39,Lista_Ubigeo!$J:$K,2,0),\" \")","v":" "},{"$f":"IFERROR(VLOOKUP(MID(EW$23,5,4)&$A39,Lista_Ubigeo!$J:$K,2,0),\" \")","v":" "},{"$f":"IFERROR(VLOOKUP(MID(EX$23,5,4)&$A39,Lista_Ubigeo!$J:$K,2,0),\" \")","v":" "},{"$f":"IFERROR(VLOOKUP(MID(EY$23,5,4)&$A39,Lista_Ubigeo!$J:$K,2,0),\" \")","v":" "},{"$f":"IFERROR(VLOOKUP(MID(EZ$23,5,4)&$A42,Lista_Ubigeo!$J:$K,2,0),\" \")","v":" "},{"$f":"IFERROR(VLOOKUP(MID(FA$23,5,4)&$A39,Lista_Ubigeo!$J:$K,2,0),\" \")","v":" "},{"$f":"IFERROR(VLOOKUP(MID(FB$23,5,4)&$A39,Lista_Ubigeo!$J:$K,2,0),\" \")","v":" "},{"$f":"IFERROR(VLOOKUP(MID(FC$23,5,4)&$A39,Lista_Ubigeo!$J:$K,2,0),\" \")","v":" "},{"$f":"IFERROR(VLOOKUP(MID(FD$23,5,4)&$A39,Lista_Ubigeo!$J:$K,2,0),\" \")","v":" "},{"$f":"IFERROR(VLOOKUP(MID(FE$23,5,4)&$A39,Lista_Ubigeo!$J:$K,2,0),\" \")","v":" "},{"$f":"IFERROR(VLOOKUP(MID(FF$23,5,4)&$A39,Lista_Ubigeo!$J:$K,2,0),\" \")","v":" "},{"$f":"IFERROR(VLOOKUP(MID(FG$23,5,4)&$A39,Lista_Ubigeo!$J:$K,2,0),\" \")","v":" "},{"$f":"IFERROR(VLOOKUP(MID(FH$23,5,4)&$A39,Lista_Ubigeo!$J:$K,2,0),\" \")","v":" "},{"$f":"IFERROR(VLOOKUP(MID(FI$23,5,4)&$A39,Lista_Ubigeo!$J:$K,2,0),\" \")","v":" "},{"$f":"IFERROR(VLOOKUP(MID(FJ$23,5,4)&$A39,Lista_Ubigeo!$J:$K,2,0),\" \")","v":" "},{"$f":"IFERROR(VLOOKUP(MID(FK$23,5,4)&$A39,Lista_Ubigeo!$J:$K,2,0),\" \")","v":" "},{"$f":"IFERROR(VLOOKUP(MID(FL$23,5,4)&$A39,Lista_Ubigeo!$J:$K,2,0),\" \")","v":" "},{"$f":"IFERROR(VLOOKUP(MID(FM$23,5,4)&$A39,Lista_Ubigeo!$J:$K,2,0),\" \")","v":" "},{"$f":"IFERROR(VLOOKUP(MID(FN$23,5,4)&$A39,Lista_Ubigeo!$J:$K,2,0),\" \")","v":" "},{"$f":"IFERROR(VLOOKUP(MID(FO$23,5,4)&$A39,Lista_Ubigeo!$J:$K,2,0),\" \")","v":" "},{"$f":"IFERROR(VLOOKUP(MID(FP$23,5,4)&$A39,Lista_Ubigeo!$J:$K,2,0),\" \")","v":" "},{"$f":"IFERROR(VLOOKUP(MID(FQ$23,5,4)&$A39,Lista_Ubigeo!$J:$K,2,0),\" \")","v":" "},{"$f":"IFERROR(VLOOKUP(MID(FR$23,5,4)&$A39,Lista_Ubigeo!$J:$K,2,0),\" \")","v":" "},{"$f":"IFERROR(VLOOKUP(MID(FS$23,5,4)&$A39,Lista_Ubigeo!$J:$K,2,0),\" \")","v":" "},{"$f":"IFERROR(VLOOKUP(MID(FT$23,5,4)&$A39,Lista_Ubigeo!$J:$K,2,0),\" \")","v":" "},{"$f":"IFERROR(VLOOKUP(MID(FU$23,5,4)&$A39,Lista_Ubigeo!$J:$K,2,0),\" \")","v":" "},{"$f":"IFERROR(VLOOKUP(MID(FV$23,5,4)&$A39,Lista_Ubigeo!$J:$K,2,0),\" \")","v":" "},{"$f":"IFERROR(VLOOKUP(MID(FW$23,5,4)&$A39,Lista_Ubigeo!$J:$K,2,0),\" \")","v":" "},{"$f":"IFERROR(VLOOKUP(MID(FX$23,5,4)&$A39,Lista_Ubigeo!$J:$K,2,0),\" \")","v":" "},{"$f":"IFERROR(VLOOKUP(MID(FY$23,5,4)&$A39,Lista_Ubigeo!$J:$K,2,0),\" \")","v":" "},{"$f":"IFERROR(VLOOKUP(MID(FZ$23,5,4)&$A39,Lista_Ubigeo!$J:$K,2,0),\" \")","v":" "},{"$f":"IFERROR(VLOOKUP(MID(GA$23,5,4)&$A39,Lista_Ubigeo!$J:$K,2,0),\" \")","v":" "},{"$f":"IFERROR(VLOOKUP(MID(GB$23,5,4)&$A39,Lista_Ubigeo!$J:$K,2,0),\" \")","v":" "},{"$f":"IFERROR(VLOOKUP(MID(GC$23,5,4)&$A39,Lista_Ubigeo!$J:$K,2,0),\" \")","v":" "},{"$f":"IFERROR(VLOOKUP(MID(GD$23,5,4)&$A39,Lista_Ubigeo!$J:$K,2,0),\" \")","v":" "},{"$f":"IFERROR(VLOOKUP(MID(GE$23,5,4)&$A39,Lista_Ubigeo!$J:$K,2,0),\" \")","v":" "},{"$f":"IFERROR(VLOOKUP(MID(GF$23,5,4)&$A39,Lista_Ubigeo!$J:$K,2,0),\" \")","v":" "},{"$f":"IFERROR(VLOOKUP(MID(GG$23,5,4)&$A39,Lista_Ubigeo!$J:$K,2,0),\" \")","v":" "},{"$f":"IFERROR(VLOOKUP(MID(GH$23,5,4)&$A39,Lista_Ubigeo!$J:$K,2,0),\" \")","v":" "},{"$f":"IFERROR(VLOOKUP(MID(GI$23,5,4)&$A39,Lista_Ubigeo!$J:$K,2,0),\" \")","v":" "},{"$f":"IFERROR(VLOOKUP(MID(GJ$23,5,4)&$A39,Lista_Ubigeo!$J:$K,2,0),\" \")","v":" "},{"$f":"IFERROR(VLOOKUP(MID(GK$23,5,4)&$A39,Lista_Ubigeo!$J:$K,2,0),\" \")","v":" "},{"$f":"IFERROR(VLOOKUP(MID(GL$23,5,4)&$A39,Lista_Ubigeo!$J:$K,2,0),\" \")","v":" "},{"$f":"IFERROR(VLOOKUP(MID(GM$23,5,4)&$A39,Lista_Ubigeo!$J:$K,2,0),\" \")","v":" "},{"$f":"IFERROR(VLOOKUP(MID(GN$23,5,4)&$A39,Lista_Ubigeo!$J:$K,2,0),\" \")","v":" "},{"$f":"IFERROR(VLOOKUP(MID(GO$23,5,4)&$A39,Lista_Ubigeo!$J:$K,2,0),\" \")","v":" "},{"$f":"IFERROR(VLOOKUP(MID(GP$23,5,4)&$A39,Lista_Ubigeo!$J:$K,2,0),\" \")","v":" "}]
["17",{"$f":"IFERROR(VLOOKUP(MID(B$23,5,4)&$A40,Lista_Ubigeo!$J:$K,2,0),\" \")","v":"QUIJALCA"},{"$f":"IFERROR(VLOOKUP(MID(C$23,5,4)&$A40,Lista_Ubigeo!$J:$K,2,0),\" \")","v":" "},{"$f":"IFERROR(VLOOKUP(MID(D$23,5,4)&$A40,Lista_Ubigeo!$J:$K,2,0),\" \")","v":" "},{"$f":"IFERROR(VLOOKUP(MID(E$23,5,4)&$A40,Lista_Ubigeo!$J:$K,2,0),\" \")","v":" "},{"$f":"IFERROR(VLOOKUP(MID(F$23,5,4)&$A40,Lista_Ubigeo!$J:$K,2,0),\" \")","v":"SAN FRANCISCO DEL YESO"},{"$f":"IFERROR(VLOOKUP(MID(G$23,5,4)&$A40,Lista_Ubigeo!$J:$K,2,0),\" \")","v":" "},{"$f":"IFERROR(VLOOKUP(MID(H$23,5,4)&$A40,Lista_Ubigeo!$J:$K,2,0),\" \")","v":" "},{"$f":"IFERROR(VLOOKUP(MID(I$23,5,4)&$A40,Lista_Ubigeo!$J:$K,2,0),\" \")","v":" "},{"$f":"IFERROR(VLOOKUP(MID(J$23,5,4)&$A40,Lista_Ubigeo!$J:$K,2,0),\" \")","v":" "},{"$f":"IFERROR(VLOOKUP(MID(K$23,5,4)&$A40,Lista_Ubigeo!$J:$K,2,0),\" \")","v":" "},{"$f":"IFERROR(VLOOKUP(MID(L$23,5,4)&$A40,Lista_Ubigeo!$J:$K,2,0),\" \")","v":" "},{"$f":"IFERROR(VLOOKUP(MID(M$23,5,4)&$A40,Lista_Ubigeo!$J:$K,2,0),\" \")","v":" "},{"$f":"IFERROR(VLOOKUP(MID(N$23,5,4)&$A40,Lista_Ubigeo!$J:$K,2,0),\" \")","v":" "},{"$f":"IFERROR(VLOOKUP(MID(O$23,5,4)&$A40,Lista_Ubigeo!$J:$K,2,0),\" \")","v":" "},{"$f":"IFERROR(VLOOKUP(MID(P$23,5,4)&$A40,Lista_Ubigeo!$J:$K,2,0),\" \")","v":" "},{"$f":"IFERROR(VLOOKUP(MID(Q$23,5,4)&$A40,Lista_Ubigeo!$J:$K,2,0),\" \")","v":" "},{"$f":"IFERROR(VLOOKUP(MID(R$23,5,4)&$A40,Lista_Ubigeo!$J:$K,2,0),\" \")","v":" "},{"$f":"IFERROR(VLOOKUP(MID(S$23,5,4)&$A40,Lista_Ubigeo!$J:$K,2,0),\" \")","v":" "},{"$f":"IFERROR(VLOOKUP(MID(T$23,5,4)&$A40,Lista_Ubigeo!$J:$K,2,0),\" \")","v":" "},{"$f":"IFERROR(VLOOKUP(MID(U$23,5,4)&$A40,Lista_Ubigeo!$J:$K,2,0),\" \")","v":" "},{"$f":"IFERROR(VLOOKUP(MID(V$23,5,4)&$A40,Lista_Ubigeo!$J:$K,2,0),\" \")","v":" "},{"$f":"IFERROR(VLOOKUP(MID(W$23,5,4)&$A40,Lista_Ubigeo!$J:$K,2,0),\" \")","v":" "},{"$f":"IFERROR(VLOOKUP(MID(X$23,5,4)&$A40,Lista_Ubigeo!$J:$K,2,0),\" \")","v":" "},{"$f":"IFERROR(VLOOKUP(MID(Y$23,5,4)&$A40,Lista_Ubigeo!$J:$K,2,0),\" \")","v":" "},{"$f":"IFERROR(VLOOKUP(MID(Z$23,5,4)&$A40,Lista_Ubigeo!$J:$K,2,0),\" \")","v":" "},{"$f":"IFERROR(VLOOKUP(MID(AA$23,5,4)&$A40,Lista_Ubigeo!$J:$K,2,0),\" \")","v":" "},{"$f":"IFERROR(VLOOKUP(MID(AB$23,5,4)&$A40,Lista_Ubigeo!$J:$K,2,0),\" \")","v":" "},{"$f":"IFERROR(VLOOKUP(MID(AC$23,5,4)&$A40,Lista_Ubigeo!$J:$K,2,0),\" \")","v":" "},{"$f":"IFERROR(VLOOKUP(MID(AD$23,5,4)&$A40,Lista_Ubigeo!$J:$K,2,0),\" \")","v":"TUMAY HUARACA"},{"$f":"IFERROR(VLOOKUP(MID(AE$23,5,4)&$A40,Lista_Ubigeo!$J:$K,2,0),\" \")","v":" "},{"$f":"IFERROR(VLOOKUP(MID(AF$23,5,4)&$A40,Lista_Ubigeo!$J:$K,2,0),\" \")","v":"YANACA"},{"$f":"IFERROR(VLOOKUP(MID(AG$23,5,4)&$A40,Lista_Ubigeo!$J:$K,2,0),\" \")","v":" "},{"$f":"IFERROR(VLOOKUP(MID(AH$23,5,4)&$A40,Lista_Ubigeo!$J:$K,2,0),\" \")","v":" "},{"$f":"IFERROR(VLOOKUP(MID(AI$23,5,4)&$A40,Lista_Ubigeo!$J:$K,2,0),\" \")","v":" "},{"$f":"IFERROR(VLOOKUP(MID(AJ$23,5,4)&$A40,Lista_Ubigeo!$J:$K,2,0),\" \")","v":"SACHACA"},{"$f":"IFERROR(VLOOKUP(MID(AK$23,5,4)&$A40,Lista_Ubigeo!$J:$K,2,0),\" \")","v":" "},{"$f":"IFERROR(VLOOKUP(MID(AL$23,5,4)&$A40,Lista_Ubigeo!$J:$K,2,0),\" \")","v":" "},{"$f":"IFERROR(VLOOKUP(MID(AM$23,5,4)&$A40,Lista_Ubigeo!$J:$K,2,0),\" \")","v":" "},{"$f":"IFERROR(VLOOKUP(MID(AN$23,5,4)&$A40,Lista_Ubigeo!$J:$K,2,0),\" \")","v":"TISCO"},{"$f":"IFERROR(VLOOKUP(MID(AO$23,5,4)&$A40,Lista_Ubigeo!$J:$K,2,0),\" \")","v":" "},{"$f":"IFERROR(VLOOKUP(MID(AP$23,5,4)&$A40,Lista_Ubigeo!$J:$K,2,0),\" \")","v":" "},{"$f":"IFERROR(VLOOKUP(MID(AQ$23,4,4)&$A40,Lista_Ubigeo!$J:$K,2,0),\" \")","v":" "},{"$f":"IFERROR(VLOOKUP(MID(AR$23,5,4)&$A40,Lista_Ubigeo!$J:$K,2,0),\" \")","v":" "},{"$f":"IFERROR(VLOOKUP(MID(AS$23,5,4)&$A40,Lista_Ubigeo!$J:$K,2,0),\" \")","v":" "},{"$f":"IFERROR(VLOOKUP(MID(AT$23,5,4)&$A40,Lista_Ubigeo!$J:$K,2,0),\" \")","v":" "},{"$f":"IFERROR(VLOOKUP(MID(AU$23,5,4)&$A40,Lista_Ubigeo!$J:$K,2,0),\" \")","v":" "},{"$f":"IFERROR(VLOOKUP(MID(AV$23,5,4)&$A40,Lista_Ubigeo!$J:$K,2,0),\" \")","v":" "},{"$f":"IFERROR(VLOOKUP(MID(AW$23,5,4)&$A40,Lista_Ubigeo!$J:$K,2,0),\" \")","v":"SAN PEDRO"},{"$f":"IFERROR(VLOOKUP(MID(AX$23,5,4)&$A40,Lista_Ubigeo!$J:$K,2,0),\" \")","v":" "},{"$f":"IFERROR(VLOOKUP(MID(AY$23,5,4)&$A40,Lista_Ubigeo!$J:$K,2,0),\" \")","v":" "},{"$f":"IFERROR(VLOOKUP(MID(AZ$23,5,4)&$A40,Lista_Ubigeo!$J:$K,2,0),\" \")","v":" "},{"$f":"IFERROR(VLOOKUP(MID(BA$23,5,4)&$A40,Lista_Ubigeo!$J:$K,2,0),\" \")","v":" "},{"$f":"IFERROR(VLOOKUP(MID(BB$23,5,4)&$A40,Lista_Ubigeo!$J:$K,2,0),\" \")","v":" "},{"$f":"IFERROR(VLOOKUP(MID(BC$23,5,4)&$A40,Lista_Ubigeo!$J:$K,2,0),\" \")","v":" "},{"$f":"IFERROR(VLOOKUP(MID(BD$23,5,4)&$A40,Lista_Ubigeo!$J:$K,2,0),\" \")","v":" "},{"$f":"IFERROR(VLOOKUP(MID(BE$23,5,4)&$A40,Lista_Ubigeo!$J:$K,2,0),\" \")","v":" "},{"$f":"IFERROR(VLOOKUP(MID(BF$23,5,4)&$A40,Lista_Ubigeo!$J:$K,2,0),\" \")","v":"TACABAMBA"},{"$f":"IFERROR(VLOOKUP(MID(BG$23,5,4)&$A40,Lista_Ubigeo!$J:$K,2,0),\" \")","v":" "},{"$f":"IFERROR(VLOOKUP(MID(BH$23,5,4)&$A40,Lista_Ubigeo!$J:$K,2,0),\" \")","v":" "},{"$f":"IFERROR(VLOOKUP(MID(BI$23,5,4)&$A40,Lista_Ubigeo!$J:$K,2,0),\" \")","v":" "},{"$f":"IFERROR(VLOOKUP(MID(BJ$23,5,4)&$A40,Lista_Ubigeo!$J:$K,2,0),\" \")","v":" "},{"$f":"IFERROR(VLOOKUP(MID(BK$23,5,4)&$A40,Lista_Ubigeo!$J:$K,2,0),\" \")","v":" "},{"$f":"IFERROR(VLOOKUP(MID(BL$23,5,4)&$A40,Lista_Ubigeo!$J:$K,2,0),\" \")","v":" "},{"$f":"IFERROR(VLOOKUP(MID(BM$23,5,4)&$A40,Lista_Ubigeo!$J:$K,2,0),\" \")","v":" "},{"$f":"IFERROR(VLOOKUP(MID(BN$23,5,4)&$A40,Lista_Ubigeo!$J:$K,2,0),\" \")","v":" "},{"$f":"IFERROR(VLOOKUP(MID(BO$23,5,4)&$A40,Lista_Ubigeo!$J:$K,2,0),\" \")","v":" "},{"$f":"IFERROR(VLOOKUP(MID(BP$23,5,4)&$A40,Lista_Ubigeo!$J:$K,2,0),\" \")","v":" "},{"$f":"IFERROR(VLOOKUP(MID(BQ$23,5,4)&$A40,Lista_Ubigeo!$J:$K,2,0),\" \")","v":" "},{"$f":"IFERROR(VLOOKUP(MID(BR$23,5,4)&$A40,Lista_Ubigeo!$J:$K,2,0),\" \")","v":" "},{"$f":"IFERROR(VLOOKUP(MID(BS$23,5,4)&$A40,Lista_Ubigeo!$J:$K,2,0),\" \")","v":" "},{"$f":"IFERROR(VLOOKUP(MID(BT$23,5,4)&$A40,Lista_Ubigeo!$J:$K,2,0),\" \")","v":" "},{"$f":"IFERROR(VLOOKUP(MID(BU$23,5,4)&$A40,Lista_Ubigeo!$J:$K,2,0),\" \")","v":" "},{"$f":"IFERROR(VLOOKUP(MID(BV$23,5,4)&$A40,Lista_Ubigeo!$J:$K,2,0),\" \")","v":" "},{"$f":"IFERROR(VLOOKUP(MID(BW$23,5,4)&$A40,Lista_Ubigeo!$J:$K,2,0),\" \")","v":" "},{"$f":"IFERROR(VLOOKUP(MID(BX$23,5,4)&$A40,Lista_Ubigeo!$J:$K,2,0),\" \")","v":" "},{"$f":"IFERROR(VLOOKUP(MID(BY$23,4,4)&$A40,Lista_Ubigeo!$J:$K,2,0),\" \")","v":" "},{"$f":"IFERROR(VLOOKUP(MID(BZ$23,5,4)&$A40,Lista_Ubigeo!$J:$K,2,0),\" \")","v":" "},{"$f":"IFERROR(VLOOKUP(MID(CA$23,5,4)&$A40,Lista_Ubigeo!$J:$K,2,0),\" \")","v":" "},{"$f":"IFERROR(VLOOKUP(MID(CB$23,5,4)&$A40,Lista_Ubigeo!$J:$K,2,0),\" \")","v":" "},{"$f":"IFERROR(VLOOKUP(MID(CC$23,5,4)&$A40,Lista_Ubigeo!$J:$K,2,0),\" \")","v":" "},{"$f":"IFERROR(VLOOKUP(MID(CD$23,5,4)&$A40,Lista_Ubigeo!$J:$K,2,0),\" \")","v":"YAULI"},{"$f":"IFERROR(VLOOKUP(MID(CE$23,5,4)&$A40,Lista_Ubigeo!$J:$K,2,0),\" \")","v":" "},{"$f":"IFERROR(VLOOKUP(MID(CF$23,5,4)&$A40,Lista_Ubigeo!$J:$K,2,0),\" \")","v":" "},{"$f":"IFERROR(VLOOKUP(MID(CG$23,5,4)&$A40,Lista_Ubigeo!$J:$K,2,0),\" \")","v":" "},{"$f":"IFERROR(VLOOKUP(MID(CH$23,5,4)&$A40,Lista_Ubigeo!$J:$K,2,0),\" \")","v":" "},{"$f":"IFERROR(VLOOKUP(MID(CI$23,5,4)&$A40,Lista_Ubigeo!$J:$K,2,0),\" \")","v":" "},{"$f":"IFERROR(VLOOKUP(MID(CJ$23,5,4)&$A40,Lista_Ubigeo!$J:$K,2,0),\" \")","v":"SURCUBAMBA"},{"$f":"IFERROR(VLOOKUP(MID(CK$23,5,4)&$A40,Lista_Ubigeo!$J:$K,2,0),\" \")","v":" "},{"$f":"IFERROR(VLOOKUP(MID(CL$23,5,4)&$A40,Lista_Ubigeo!$J:$K,2,0),\" \")","v":" "},{"$f":"IFERROR(VLOOKUP(MID(CM$23,5,4)&$A51,Lista_Ubigeo!$J:$K,2,0),\" \")","v":" "},{"$f":"IFERROR(VLOOKUP(MID(CN$23,5,4)&$A40,Lista_Ubigeo!$J:$K,2,0),\" \")","v":" "},{"$f":"IFERROR(VLOOKUP(MID(CO$23,5,4)&$A40,Lista_Ubigeo!$J:$K,2,0),\" \")","v":" "},{"$f":"IFERROR(VLOOKUP(MID(CP$23,5,4)&$A40,Lista_Ubigeo!$J:$K,2,0),\" \")","v":" "},{"$f":"IFERROR(VLOOKUP(MID(CQ$23,5,4)&$A40,Lista_Ubigeo!$J:$K,2,0),\" \")","v":" "},{"$f":"IFERROR(VLOOKUP(MID(CR$23,5,4)&$A40,Lista_Ubigeo!$J:$K,2,0),\" \")","v":" "},{"$f":"IFERROR(VLOOKUP(MID(CS$23,5,4)&$A40,Lista_Ubigeo!$J:$K,2,0),\" \")","v":" "},{"$f":"IFERROR(VLOOKUP(MID(CT$23,5,4)&$A40,Lista_Ubigeo!$J:$K,2,0),\" \")","v":" "},{"$f":"IFERROR(VLOOKUP(MID(CU$23,5,4)&$A40,Lista_Ubigeo!$J:$K,2,0),\" \")","v":" "},{"$f":"IFERROR(VLOOKUP(MID(CV$23,5,4)&$A40,Lista_Ubigeo!$J:$K,2,0),\" \")","v":" "},{"$f":"IFERROR(VLOOKUP(MID(CW$23,5,4)&$A40,Lista_Ubigeo!$J:$K,2,0),\" \")","v":" "},{"$f":"IFERROR(VLOOKUP(MID(CX$23,5,4)&$A40,Lista_Ubigeo!$J:$K,2,0),\" \")","v":" "},{"$f":"IFERROR(VLOOKUP(MID(CY$23,5,4)&$A40,Lista_Ubigeo!$J:$K,2,0),\" \")","v":" "},{"$f":"IFERROR(VLOOKUP(MID(CZ$23,5,4)&$A40,Lista_Ubigeo!$J:$K,2,0),\" \")","v":" "},{"$f":"IFERROR(VLOOKUP(MID(DA$23,5,4)&$A40,Lista_Ubigeo!$J:$K,2,0),\" \")","v":"HUALHUAS"},{"$f":"IFERROR(VLOOKUP(MID(DB$23,5,4)&$A40,Lista_Ubigeo!$J:$K,2,0),\" \")","v":" "},{"$f":"IFERROR(VLOOKUP(MID(DC$23,5,4)&$A40,Lista_Ubigeo!$J:$K,2,0),\" \")","v":" "},{"$f":"IFERROR(VLOOKUP(MID(DD$23,5,4)&$A40,Lista_Ubigeo!$J:$K,2,0),\" \")","v":"MASMA CHICCHE"},{"$f":"IFERROR(VLOOKUP(MID(DE$23,5,4)&$A40,Lista_Ubigeo!$J:$K,2,0),\" \")","v":" "},{"$f":"IFERROR(VLOOKUP(MID(DF$23,5,4)&$A40,Lista_Ubigeo!$J:$K,2,0),\" \")","v":" "},{"$f":"IFERROR(VLOOKUP(MID(DG$23,5,4)&$A40,Lista_Ubigeo!$J:$K,2,0),\" \")","v":" "},{"$f":"IFERROR(VLOOKUP(MID(DH$23,5,4)&$A40,Lista_Ubigeo!$J:$K,2,0),\" \")","v":" "},{"$f":"IFERROR(VLOOKUP(MID(DI$23,5,4)&$A40,Lista_Ubigeo!$J:$K,2,0),\" \")","v":" "},{"$f":"IFERROR(VLOOKUP(MID(DJ$23,5,4)&$A40,Lista_Ubigeo!$J:$K,2,0),\" \")","v":" "},{"$f":"IFERROR(VLOOKUP(MID(DK$23,5,4)&$A40,Lista_Ubigeo!$J:$K,2,0),\" \")","v":" "},{"$f":"IFERROR(VLOOKUP(MID(DL$23,5,4)&$A40,Lista_Ubigeo!$J:$K,2,0),\" \")","v":" "},{"$f":"IFERROR(VLOOKUP(MID(DM$23,5,4)&$A40,Lista_Ubigeo!$J:$K,2,0),\" \")","v":" "},{"$f":"IFERROR(VLOOKUP(MID(DN$23,5,4)&$A40,Lista_Ubigeo!$J:$K,2,0),\" \")","v":" "},{"$f":"IFERROR(VLOOKUP(MID(DO$23,5,4)&$A41,Lista_Ubigeo!$J:$K,2,0),\" \")","v":" "},{"$f":"IFERROR(VLOOKUP(MID(DP$23,5,4)&$A40,Lista_Ubigeo!$J:$K,2,0),\" \")","v":" "},{"$f":"IFERROR(VLOOKUP(MID(DQ$23,5,4)&$A40,Lista_Ubigeo!$J:$K,2,0),\" \")","v":" "},{"$f":"IFERROR(VLOOKUP(MID(DR$23,5,4)&$A40,Lista_Ubigeo!$J:$K,2,0),\" \")","v":" "},{"$f":"IFERROR(VLOOKUP(MID(DS$23,5,4)&$A40,Lista_Ubigeo!$J:$K,2,0),\" \")","v":" "},null,null,{"$f":"IFERROR(VLOOKUP(MID(DV$23,5,4)&$A40,Lista_Ubigeo!$J:$K,2,0),\" \")","v":"PATAPO"},{"$f":"IFERROR(VLOOKUP(MID(DW$23,5,4)&$A40,Lista_Ubigeo!$J:$K,2,0),\" \")","v":" "},{"$f":"IFERROR(VLOOKUP(MID(DX$23,5,4)&$A40,Lista_Ubigeo!$J:$K,2,0),\" \")","v":" "},{"$f":"IFERROR(VLOOKUP(MID(DY$23,5,4)&$A40,Lista_Ubigeo!$J:$K,2,0),\" \")","v":"LOS OLIVOS"},{"$f":"IFERROR(VLOOKUP(MID(DZ$23,5,4)&$A40,Lista_Ubigeo!$J:$K,2,0),\" \")","v":" "},{"$f":"IFERROR(VLOOKUP(MID(EA$23,5,4)&$A40,Lista_Ubigeo!$J:$K,2,0),\" \")","v":" "},{"$f":"IFERROR(VLOOKUP(MID(EB$23,5,4)&$A40,Lista_Ubigeo!$J:$K,2,0),\" \")","v":" "},{"$f":"IFERROR(VLOOKUP(MID(EC$23,5,4)&$A40,Lista_Ubigeo!$J:$K,2,0),\" \")","v":" "},{"$f":"IFERROR(VLOOKUP(MID(ED$23,5,4)&$A40,Lista_Ubigeo!$J:$K,2,0),\" \")","v":" "},{"$f":"IFERROR(VLOOKUP(MID(EE$23,5,4)&$A40,Lista_Ubigeo!$J:$K,2,0),\" \")","v":"SAN BARTOLOME"},{"$f":"IFERROR(VLOOKUP(MID(EF$23,5,4)&$A40,Lista_Ubigeo!$J:$K,2,0),\" \")","v":" "},{"$f":"IFERROR(VLOOKUP(MID(EG$23,5,4)&$A40,Lista_Ubigeo!$J:$K,2,0),\" \")","v":" "},{"$f":"IFERROR(VLOOKUP(MID(EH$23,5,4)&$A40,Lista_Ubigeo!$J:$K,2,0),\" \")","v":"HUAÑEC"},{"$f":"IFERROR(VLOOKUP(MID(EI$23,5,4)&$A40,Lista_Ubigeo!$J:$K,2,0),\" \")","v":" "},{"$f":"IFERROR(VLOOKUP(MID(EJ$23,5,4)&$A45,Lista_Ubigeo!$J:$K,2,0),\" \")","v":" "},{"$f":"IFERROR(VLOOKUP(MID(EK$23,5,4)&$A40,Lista_Ubigeo!$J:$K,2,0),\" \")","v":" "},{"$f":"IFERROR(VLOOKUP(MID(EL$23,5,4)&$A40,Lista_Ubigeo!$J:$K,2,0),\" \")","v":" "},{"$f":"IFERROR(VLOOKUP(MID(EM$23,5,4)&$A40,Lista_Ubigeo!$J:$K,2,0),\" \")","v":" "},{"$f":"IFERROR(VLOOKUP(MID(EN$23,5,4)&$A40,Lista_Ubigeo!$J:$K,2,0),\" \")","v":" "},{"$f":"IFERROR(VLOOKUP(MID(EO$23,5,4)&$A40,Lista_Ubigeo!$J:$K,2,0),\" \")","v":" "},{"$f":"IFERROR(VLOOKUP(MID(EP$23,5,4)&$A40,Lista_Ubigeo!$J:$K,2,0),\" \")","v":" "},{"$f":"IFERROR(VLOOKUP(MID(EQ$23,5,4)&$A40,Lista_Ubigeo!$J:$K,2,0),\" \")","v":" "},{"$f":"IFERROR(VLOOKUP(MID(ER$23,5,4)&$A40,Lista_Ubigeo!$J:$K,2,0),\" \")","v":" "},{"$f":"IFERROR(VLOOKUP(MID(ES$23,5,4)&$A40,Lista_Ubigeo!$J:$K,2,0),\" \")","v":" "},{"$f":"IFERROR(VLOOKUP(MID(ET$23,5,4)&$A40,Lista_Ubigeo!$J:$K,2,0),\" \")","v":" "},{"$f":"IFERROR(VLOOKUP(MID(EU$23,5,4)&$A40,Lista_Ubigeo!$J:$K,2,0),\" \")","v":" "},{"$f":"IFERROR(VLOOKUP(MID(EV$23,5,4)&$A40,Lista_Ubigeo!$J:$K,2,0),\" \")","v":" "},{"$f":"IFERROR(VLOOKUP(MID(EW$23,5,4)&$A40,Lista_Ubigeo!$J:$K,2,0),\" \")","v":" "},{"$f":"IFERROR(VLOOKUP(MID(EX$23,5,4)&$A40,Lista_Ubigeo!$J:$K,2,0),\" \")","v":" "},{"$f":"IFERROR(VLOOKUP(MID(EY$23,5,4)&$A40,Lista_Ubigeo!$J:$K,2,0),\" \")","v":" "},{"$f":"IFERROR(VLOOKUP(MID(EZ$23,5,4)&$A43,Lista_Ubigeo!$J:$K,2,0),\" \")","v":" "},{"$f":"IFERROR(VLOOKUP(MID(FA$23,5,4)&$A40,Lista_Ubigeo!$J:$K,2,0),\" \")","v":" "},{"$f":"IFERROR(VLOOKUP(MID(FB$23,5,4)&$A40,Lista_Ubigeo!$J:$K,2,0),\" \")","v":" "},{"$f":"IFERROR(VLOOKUP(MID(FC$23,5,4)&$A40,Lista_Ubigeo!$J:$K,2,0),\" \")","v":" "},{"$f":"IFERROR(VLOOKUP(MID(FD$23,5,4)&$A40,Lista_Ubigeo!$J:$K,2,0),\" \")","v":" "},{"$f":"IFERROR(VLOOKUP(MID(FE$23,5,4)&$A40,Lista_Ubigeo!$J:$K,2,0),\" \")","v":" "},{"$f":"IFERROR(VLOOKUP(MID(FF$23,5,4)&$A40,Lista_Ubigeo!$J:$K,2,0),\" \")","v":" "},{"$f":"IFERROR(VLOOKUP(MID(FG$23,5,4)&$A40,Lista_Ubigeo!$J:$K,2,0),\" \")","v":" "},{"$f":"IFERROR(VLOOKUP(MID(FH$23,5,4)&$A40,Lista_Ubigeo!$J:$K,2,0),\" \")","v":" "},{"$f":"IFERROR(VLOOKUP(MID(FI$23,5,4)&$A40,Lista_Ubigeo!$J:$K,2,0),\" \")","v":" "},{"$f":"IFERROR(VLOOKUP(MID(FJ$23,5,4)&$A40,Lista_Ubigeo!$J:$K,2,0),\" \")","v":" "},{"$f":"IFERROR(VLOOKUP(MID(FK$23,5,4)&$A40,Lista_Ubigeo!$J:$K,2,0),\" \")","v":" "},{"$f":"IFERROR(VLOOKUP(MID(FL$23,5,4)&$A40,Lista_Ubigeo!$J:$K,2,0),\" \")","v":" "},{"$f":"IFERROR(VLOOKUP(MID(FM$23,5,4)&$A40,Lista_Ubigeo!$J:$K,2,0),\" \")","v":" "},{"$f":"IFERROR(VLOOKUP(MID(FN$23,5,4)&$A40,Lista_Ubigeo!$J:$K,2,0),\" \")","v":" "},{"$f":"IFERROR(VLOOKUP(MID(FO$23,5,4)&$A40,Lista_Ubigeo!$J:$K,2,0),\" \")","v":" "},{"$f":"IFERROR(VLOOKUP(MID(FP$23,5,4)&$A40,Lista_Ubigeo!$J:$K,2,0),\" \")","v":" "},{"$f":"IFERROR(VLOOKUP(MID(FQ$23,5,4)&$A40,Lista_Ubigeo!$J:$K,2,0),\" \")","v":" "},{"$f":"IFERROR(VLOOKUP(MID(FR$23,5,4)&$A40,Lista_Ubigeo!$J:$K,2,0),\" \")","v":" "},{"$f":"IFERROR(VLOOKUP(MID(FS$23,5,4)&$A40,Lista_Ubigeo!$J:$K,2,0),\" \")","v":" "},{"$f":"IFERROR(VLOOKUP(MID(FT$23,5,4)&$A40,Lista_Ubigeo!$J:$K,2,0),\" \")","v":" "},{"$f":"IFERROR(VLOOKUP(MID(FU$23,5,4)&$A40,Lista_Ubigeo!$J:$K,2,0),\" \")","v":" "},{"$f":"IFERROR(VLOOKUP(MID(FV$23,5,4)&$A40,Lista_Ubigeo!$J:$K,2,0),\" \")","v":" "},{"$f":"IFERROR(VLOOKUP(MID(FW$23,5,4)&$A40,Lista_Ubigeo!$J:$K,2,0),\" \")","v":" "},{"$f":"IFERROR(VLOOKUP(MID(FX$23,5,4)&$A40,Lista_Ubigeo!$J:$K,2,0),\" \")","v":" "},{"$f":"IFERROR(VLOOKUP(MID(FY$23,5,4)&$A40,Lista_Ubigeo!$J:$K,2,0),\" \")","v":" "},{"$f":"IFERROR(VLOOKUP(MID(FZ$23,5,4)&$A40,Lista_Ubigeo!$J:$K,2,0),\" \")","v":" "},{"$f":"IFERROR(VLOOKUP(MID(GA$23,5,4)&$A40,Lista_Ubigeo!$J:$K,2,0),\" \")","v":" "},{"$f":"IFERROR(VLOOKUP(MID(GB$23,5,4)&$A40,Lista_Ubigeo!$J:$K,2,0),\" \")","v":" "},{"$f":"IFERROR(VLOOKUP(MID(GC$23,5,4)&$A40,Lista_Ubigeo!$J:$K,2,0),\" \")","v":" "},{"$f":"IFERROR(VLOOKUP(MID(GD$23,5,4)&$A40,Lista_Ubigeo!$J:$K,2,0),\" \")","v":" "},{"$f":"IFERROR(VLOOKUP(MID(GE$23,5,4)&$A40,Lista_Ubigeo!$J:$K,2,0),\" \")","v":" "},{"$f":"IFERROR(VLOOKUP(MID(GF$23,5,4)&$A40,Lista_Ubigeo!$J:$K,2,0),\" \")","v":" "},{"$f":"IFERROR(VLOOKUP(MID(GG$23,5,4)&$A40,Lista_Ubigeo!$J:$K,2,0),\" \")","v":" "},{"$f":"IFERROR(VLOOKUP(MID(GH$23,5,4)&$A40,Lista_Ubigeo!$J:$K,2,0),\" \")","v":" "},{"$f":"IFERROR(VLOOKUP(MID(GI$23,5,4)&$A40,Lista_Ubigeo!$J:$K,2,0),\" \")","v":" "},{"$f":"IFERROR(VLOOKUP(MID(GJ$23,5,4)&$A40,Lista_Ubigeo!$J:$K,2,0),\" \")","v":" "},{"$f":"IFERROR(VLOOKUP(MID(GK$23,5,4)&$A40,Lista_Ubigeo!$J:$K,2,0),\" \")","v":" "},{"$f":"IFERROR(VLOOKUP(MID(GL$23,5,4)&$A40,Lista_Ubigeo!$J:$K,2,0),\" \")","v":" "},{"$f":"IFERROR(VLOOKUP(MID(GM$23,5,4)&$A40,Lista_Ubigeo!$J:$K,2,0),\" \")","v":" "},{"$f":"IFERROR(VLOOKUP(MID(GN$23,5,4)&$A40,Lista_Ubigeo!$J:$K,2,0),\" \")","v":" "},{"$f":"IFERROR(VLOOKUP(MID(GO$23,5,4)&$A40,Lista_Ubigeo!$J:$K,2,0),\" \")","v":" "},{"$f":"IFERROR(VLOOKUP(MID(GP$23,5,4)&$A40,Lista_Ubigeo!$J:$K,2,0),\" \")","v":" "}]
["18",{"$f":"IFERROR(VLOOKUP(MID(B$23,5,4)&$A41,Lista_Ubigeo!$J:$K,2,0),\" \")","v":"SAN FRANCISCO DE DAGUAS"},{"$f":"IFERROR(VLOOKUP(MID(C$23,5,4)&$A41,Lista_Ubigeo!$J:$K,2,0),\" \")","v":" "},{"$f":"IFERROR(VLOOKUP(MID(D$23,5,4)&$A41,Lista_Ubigeo!$J:$K,2,0),\" \")","v":" "},{"$f":"IFERROR(VLOOKUP(MID(E$23,5,4)&$A41,Lista_Ubigeo!$J:$K,2,0),\" \")","v":" "},{"$f":"IFERROR(VLOOKUP(MID(F$23,5,4)&$A41,Lista_Ubigeo!$J:$K,2,0),\" \")","v":"SAN JERONIMO"},{"$f":"IFERROR(VLOOKUP(MID(G$23,5,4)&$A41,Lista_Ubigeo!$J:$K,2,0),\" \")","v":" "},{"$f":"IFERROR(VLOOKUP(MID(H$23,5,4)&$A41,Lista_Ubigeo!$J:$K,2,0),\" \")","v":" "},{"$f":"IFERROR(VLOOKUP(MID(I$23,5,4)&$A41,Lista_Ubigeo!$J:$K,2,0),\" \")","v":" "},{"$f":"IFERROR(VLOOKUP(MID(J$23,5,4)&$A41,Lista_Ubigeo!$J:$K,2,0),\" \")","v":" "},{"$f":"IFERROR(VLOOKUP(MID(K$23,5,4)&$A41,Lista_Ubigeo!$J:$K,2,0),\" \")","v":" "},{"$f":"IFERROR(VLOOKUP(MID(L$23,5,4)&$A41,Lista_Ubigeo!$J:$K,2,0),\" \")","v":" "},{"$f":"IFERROR(VLOOKUP(MID(M$23,5,4)&$A41,Lista_Ubigeo!$J:$K,2,0),\" \")","v":" "},{"$f":"IFERROR(VLOOKUP(MID(N$23,5,4)&$A41,Lista_Ubigeo!$J:$K,2,0),\" \")","v":" "},{"$f":"IFERROR(VLOOKUP(MID(O$23,5,4)&$A41,Lista_Ubigeo!$J:$K,2,0),\" \")","v":" "},{"$f":"IFERROR(VLOOKUP(MID(P$23,5,4)&$A41,Lista_Ubigeo!$J:$K,2,0),\" \")","v":" "},{"$f":"IFERROR(VLOOKUP(MID(Q$23,5,4)&$A41,Lista_Ubigeo!$J:$K,2,0),\" \")","v":" "},{"$f":"IFERROR(VLOOKUP(MID(R$23,5,4)&$A41,Lista_Ubigeo!$J:$K,2,0),\" \")","v":" "},{"$f":"IFERROR(VLOOKUP(MID(S$23,5,4)&$A41,Lista_Ubigeo!$J:$K,2,0),\" \")","v":" "},{"$f":"IFERROR(VLOOKUP(MID(T$23,5,4)&$A41,Lista_Ubigeo!$J:$K,2,0),\" \")","v":" "},{"$f":"IFERROR(VLOOKUP(MID(U$23,5,4)&$A41,Lista_Ubigeo!$J:$K,2,0),\" \")","v":" "},{"$f":"IFERROR(VLOOKUP(MID(V$23,5,4)&$A41,Lista_Ubigeo!$J:$K,2,0),\" \")","v":" "},{"$f":"IFERROR(VLOOKUP(MID(W$23,5,4)&$A41,Lista_Ubigeo!$J:$K,2,0),\" \")","v":" "},{"$f":"IFERROR(VLOOKUP(MID(X$23,5,4)&$A41,Lista_Ubigeo!$J:$K,2,0),\" \")","v":" "},{"$f":"IFERROR(VLOOKUP(MID(Y$23,5,4)&$A41,Lista_Ubigeo!$J:$K,2,0),\" \")","v":" "},{"$f":"IFERROR(VLOOKUP(MID(Z$23,5,4)&$A41,Lista_Ubigeo!$J:$K,2,0),\" \")","v":" "},{"$f":"IFERROR(VLOOKUP(MID(AA$23,5,4)&$A41,Lista_Ubigeo!$J:$K,2,0),\" \")","v":" "},{"$f":"IFERROR(VLOOKUP(MID(AB$23,5,4)&$A41,Lista_Ubigeo!$J:$K,2,0),\" \")","v":" "},{"$f":"IFERROR(VLOOKUP(MID(AC$23,5,4)&$A41,Lista_Ubigeo!$J:$K,2,0),\" \")","v":" "},{"$f":"IFERROR(VLOOKUP(MID(AD$23,5,4)&$A41,Lista_Ubigeo!$J:$K,2,0),\" \")","v":"TURPO"},{"$f":"IFERROR(VLOOKUP(MID(AE$23,5,4)&$A41,Lista_Ubigeo!$J:$K,2,0),\" \")","v":" "},{"$f":"IFERROR(VLOOKUP(MID(AF$23,5,4)&$A41,Lista_Ubigeo!$J:$K,2,0),\" \")","v":" "},{"$f":"IFERROR(VLOOKUP(MID(AG$23,5,4)&$A41,Lista_Ubigeo!$J:$K,2,0),\" \")","v":" "},{"$f":"IFERROR(VLOOKUP(MID(AH$23,5,4)&$A41,Lista_Ubigeo!$J:$K,2,0),\" \")","v":" "},{"$f":"IFERROR(VLOOKUP(MID(AI$23,5,4)&$A41,Lista_Ubigeo!$J:$K,2,0),\" \")","v":" "},{"$f":"IFERROR(VLOOKUP(MID(AJ$23,5,4)&$A41,Lista_Ubigeo!$J:$K,2,0),\" \")","v":"SAN JUAN DE SIGUAS"},{"$f":"IFERROR(VLOOKUP(MID(AK$23,5,4)&$A41,Lista_Ubigeo!$J:$K,2,0),\" \")","v":" "},{"$f":"IFERROR(VLOOKUP(MID(AL$23,5,4)&$A41,Lista_Ubigeo!$J:$K,2,0),\" \")","v":" "},{"$f":"IFERROR(VLOOKUP(MID(AM$23,5,4)&$A41,Lista_Ubigeo!$J:$K,2,0),\" \")","v":" "},{"$f":"IFERROR(VLOOKUP(MID(AN$23,5,4)&$A41,Lista_Ubigeo!$J:$K,2,0),\" \")","v":"TUTI"},{"$f":"IFERROR(VLOOKUP(MID(AO$23,5,4)&$A41,Lista_Ubigeo!$J:$K,2,0),\" \")","v":" "},{"$f":"IFERROR(VLOOKUP(MID(AP$23,5,4)&$A41,Lista_Ubigeo!$J:$K,2,0),\" \")","v":" "},{"$f":"IFERROR(VLOOKUP(MID(AQ$23,4,4)&$A41,Lista_Ubigeo!$J:$K,2,0),\" \")","v":" "},{"$f":"IFERROR(VLOOKUP(MID(AR$23,5,4)&$A41,Lista_Ubigeo!$J:$K,2,0),\" \")","v":" "},{"$f":"IFERROR(VLOOKUP(MID(AS$23,5,4)&$A41,Lista_Ubigeo!$J:$K,2,0),\" \")","v":" "},{"$f":"IFERROR(VLOOKUP(MID(AT$23,5,4)&$A41,Lista_Ubigeo!$J:$K,2,0),\" \")","v":" "},{"$f":"IFERROR(VLOOKUP(MID(AU$23,5,4)&$A41,Lista_Ubigeo!$J:$K,2,0),\" \")","v":" "},{"$f":"IFERROR(VLOOKUP(MID(AV$23,5,4)&$A41,Lista_Ubigeo!$J:$K,2,0),\" \")","v":" "},{"$f":"IFERROR(VLOOKUP(MID(AW$23,5,4)&$A41,Lista_Ubigeo!$J:$K,2,0),\" \")","v":"SAN PEDRO DE PALCO"},{"$f":"IFERROR(VLOOKUP(MID(AX$23,5,4)&$A41,Lista_Ubigeo!$J:$K,2,0),\" \")","v":" "},{"$f":"IFERROR(VLOOKUP(MID(AY$23,5,4)&$A41,Lista_Ubigeo!$J:$K,2,0),\" \")","v":" "},{"$f":"IFERROR(VLOOKUP(MID(AZ$23,5,4)&$A41,Lista_Ubigeo!$J:$K,2,0),\" \")","v":" "},{"$f":"IFERROR(VLOOKUP(MID(BA$23,5,4)&$A41,Lista_Ubigeo!$J:$K,2,0),\" \")","v":" "},{"$f":"IFERROR(VLOOKUP(MID(BB$23,5,4)&$A41,Lista_Ubigeo!$J:$K,2,0),\" \")","v":" "},{"$f":"IFERROR(VLOOKUP(MID(BC$23,5,4)&$A41,Lista_Ubigeo!$J:$K,2,0),\" \")","v":" "},{"$f":"IFERROR(VLOOKUP(MID(BD$23,5,4)&$A41,Lista_Ubigeo!$J:$K,2,0),\" \")","v":" "},{"$f":"IFERROR(VLOOKUP(MID(BE$23,5,4)&$A41,Lista_Ubigeo!$J:$K,2,0),\" \")","v":" "},{"$f":"IFERROR(VLOOKUP(MID(BF$23,5,4)&$A41,Lista_Ubigeo!$J:$K,2,0),\" \")","v":"TOCMOCHE"},{"$f":"IFERROR(VLOOKUP(MID(BG$23,5,4)&$A41,Lista_Ubigeo!$J:$K,2,0),\" \")","v":" "},{"$f":"IFERROR(VLOOKUP(MID(BH$23,5,4)&$A41,Lista_Ubigeo!$J:$K,2,0),\" \")","v":" "},{"$f":"IFERROR(VLOOKUP(MID(BI$23,5,4)&$A41,Lista_Ubigeo!$J:$K,2,0),\" \")","v":" "},{"$f":"IFERROR(VLOOKUP(MID(BJ$23,5,4)&$A41,Lista_Ubigeo!$J:$K,2,0),\" \")","v":" "},{"$f":"IFERROR(VLOOKUP(MID(BK$23,5,4)&$A41,Lista_Ubigeo!$J:$K,2,0),\" \")","v":" "},{"$f":"IFERROR(VLOOKUP(MID(BL$23,5,4)&$A41,Lista_Ubigeo!$J:$K,2,0),\" \")","v":" "},{"$f":"IFERROR(VLOOKUP(MID(BM$23,5,4)&$A41,Lista_Ubigeo!$J:$K,2,0),\" \")","v":" "},{"$f":"IFERROR(VLOOKUP(MID(BN$23,5,4)&$A41,Lista_Ubigeo!$J:$K,2,0),\" \")","v":" "},{"$f":"IFERROR(VLOOKUP(MID(BO$23,5,4)&$A41,Lista_Ubigeo!$J:$K,2,0),\" \")","v":" "},{"$f":"IFERROR(VLOOKUP(MID(BP$23,5,4)&$A41,Lista_Ubigeo!$J:$K,2,0),\" \")","v":" "},{"$f":"IFERROR(VLOOKUP(MID(BQ$23,5,4)&$A41,Lista_Ubigeo!$J:$K,2,0),\" \")","v":" "},{"$f":"IFERROR(VLOOKUP(MID(BR$23,5,4)&$A41,Lista_Ubigeo!$J:$K,2,0),\" \")","v":" "},{"$f":"IFERROR(VLOOKUP(MID(BS$23,5,4)&$A41,Lista_Ubigeo!$J:$K,2,0),\" \")","v":" "},{"$f":"IFERROR(VLOOKUP(MID(BT$23,5,4)&$A41,Lista_Ubigeo!$J:$K,2,0),\" \")","v":" "},{"$f":"IFERROR(VLOOKUP(MID(BU$23,5,4)&$A41,Lista_Ubigeo!$J:$K,2,0),\" \")","v":" "},{"$f":"IFERROR(VLOOKUP(MID(BV$23,5,4)&$A41,Lista_Ubigeo!$J:$K,2,0),\" \")","v":" "},{"$f":"IFERROR(VLOOKUP(MID(BW$23,5,4)&$A41,Lista_Ubigeo!$J:$K,2,0),\" \")","v":" "},{"$f":"IFERROR(VLOOKUP(MID(BX$23,5,4)&$A41,Lista_Ubigeo!$J:$K,2,0),\" \")","v":" "},{"$f":"IFERROR(VLOOKUP(MID(BY$23,4,4)&$A41,Lista_Ubigeo!$J:$K,2,0),\" \")","v":" "},{"$f":"IFERROR(VLOOKUP(MID(BZ$23,5,4)&$A41,Lista_Ubigeo!$J:$K,2,0),\" \")","v":" "},{"$f":"IFERROR(VLOOKUP(MID(CA$23,5,4)&$A41,Lista_Ubigeo!$J:$K,2,0),\" \")","v":" "},{"$f":"IFERROR(VLOOKUP(MID(CB$23,5,4)&$A41,Lista_Ubigeo!$J:$K,2,0),\" \")","v":" "},{"$f":"IFERROR(VLOOKUP(MID(CC$23,5,4)&$A41,Lista_Ubigeo!$J:$K,2,0),\" \")","v":" "},{"$f":"IFERROR(VLOOKUP(MID(CD$23,5,4)&$A41,Lista_Ubigeo!$J:$K,2,0),\" \")","v":"ASCENSION"},{"$f":"IFERROR(VLOOKUP(MID(CE$23,5,4)&$A41,Lista_Ubigeo!$J:$K,2,0),\" \")","v":" "},{"$f":"IFERROR(VLOOKUP(MID(CF$23,5,4)&$A41,Lista_Ubigeo!$J:$K,2,0),\" \")","v":" "},{"$f":"IFERROR(VLOOKUP(MID(CG$23,5,4)&$A41,Lista_Ubigeo!$J:$K,2,0),\" \")","v":" "},{"$f":"IFERROR(VLOOKUP(MID(CH$23,5,4)&$A41,Lista_Ubigeo!$J:$K,2,0),\" \")","v":" "},{"$f":"IFERROR(VLOOKUP(MID(CI$23,5,4)&$A41,Lista_Ubigeo!$J:$K,2,0),\" \")","v":" "},{"$f":"IFERROR(VLOOKUP(MID(CJ$23,5,4)&$A41,Lista_Ubigeo!$J:$K,2,0),\" \")","v":"TINTAY PUNCU"},{"$f":"IFERROR(VLOOKUP(MID(CK$23,5,4)&$A41,Lista_Ubigeo!$J:$K,2,0),\" \")","v":" "},{"$f":"IFERROR(VLOOKUP(MID(CL$23,5,4)&$A41,Lista_Ubigeo!$J:$K,2,0),\" \")","v":" "},{"$f":"IFERROR(VLOOKUP(MID(CM$23,5,4)&$A52,Lista_Ubigeo!$J:$K,2,0),\" \")","v":" "},{"$f":"IFERROR(VLOOKUP(MID(CN$23,5,4)&$A41,Lista_Ubigeo!$J:$K,2,0),\" \")","v":" "},{"$f":"IFERROR(VLOOKUP(MID(CO$23,5,4)&$A41,Lista_Ubigeo!$J:$K,2,0),\" \")","v":" "},{"$f":"IFERROR(VLOOKUP(MID(CP$23,5,4)&$A41,Lista_Ubigeo!$J:$K,2,0),\" \")","v":" "},{"$f":"IFERROR(VLOOKUP(MID(CQ$23,5,4)&$A41,Lista_Ubigeo!$J:$K,2,0),\" \")","v":" "},{"$f":"IFERROR(VLOOKUP(MID(CR$23,5,4)&$A41,Lista_Ubigeo!$J:$K,2,0),\" \")","v":" "},{"$f":"IFERROR(VLOOKUP(MID(CS$23,5,4)&$A41,Lista_Ubigeo!$J:$K,2,0),\" \")","v":" "},{"$f":"IFERROR(VLOOKUP(MID(CT$23,5,4)&$A41,Lista_Ubigeo!$J:$K,2,0),\" \")","v":" "},{"$f":"IFERROR(VLOOKUP(MID(CU$23,5,4)&$A41,Lista_Ubigeo!$J:$K,2,0),\" \")","v":" "},{"$f":"IFERROR(VLOOKUP(MID(CV$23,5,4)&$A41,Lista_Ubigeo!$J:$K,2,0),\" \")","v":" "},{"$f":"IFERROR(VLOOKUP(MID(CW$23,5,4)&$A41,Lista_Ubigeo!$J:$K,2,0),\" \")","v":" "},{"$f":"IFERROR(VLOOKUP(MID(CX$23,5,4)&$A41,Lista_Ubigeo!$J:$K,2,0),\" \")","v":" "},{"$f":"IFERROR(VLOOKUP(MID(CY$23,5,4)&$A41,Lista_Ubigeo!$J:$K,2,0),\" \")","v":" "},{"$f":"IFERROR(VLOOKUP(MID(CZ$23,5,4)&$A41,Lista_Ubigeo!$J:$K,2,0),\" \")","v":" "},{"$f":"IFERROR(VLOOKUP(MID(DA$23,5,4)&$A41,Lista_Ubigeo!$J:$K,2,0),\" \")","v":" "},{"$f":"IFERROR(VLOOKUP(MID(DB$23,5,4)&$A41,Lista_Ubigeo!$J:$K,2,0),\" \")","v":" "},{"$f":"IFERROR(VLOOKUP(MID(DC$23,5,4)&$A41,Lista_Ubigeo!$J:$K,2,0),\" \")","v":" "},{"$f":"IFERROR(VLOOKUP(MID(DD$23,5,4)&$A41,Lista_Ubigeo!$J:$K,2,0),\" \")","v":"MOLINOS"},{"$f":"IFERROR(VLOOKUP(MID(DE$23,5,4)&$A41,Lista_Ubigeo!$J:$K,2,0),\" \")","v":" "},{"$f":"IFERROR(VLOOKUP(MID(DF$23,5,4)&$A41,Lista_Ubigeo!$J:$K,2,0),\" \")","v":" "},{"$f":"IFERROR(VLOOKUP(MID(DG$23,5,4)&$A41,Lista_Ubigeo!$J:$K,2,0),\" \")","v":" "},{"$f":"IFERROR(VLOOKUP(MID(DH$23,5,4)&$A41,Lista_Ubigeo!$J:$K,2,0),\" \")","v":" "},{"$f":"IFERROR(VLOOKUP(MID(DI$23,5,4)&$A41,Lista_Ubigeo!$J:$K,2,0),\" \")","v":" "},{"$f":"IFERROR(VLOOKUP(MID(DJ$23,5,4)&$A41,Lista_Ubigeo!$J:$K,2,0),\" \")","v":" "},{"$f":"IFERROR(VLOOKUP(MID(DK$23,5,4)&$A41,Lista_Ubigeo!$J:$K,2,0),\" \")","v":" "},{"$f":"IFERROR(VLOOKUP(MID(DL$23,5,4)&$A41,Lista_Ubigeo!$J:$K,2,0),\" \")","v":" "},{"$f":"IFERROR(VLOOKUP(MID(DM$23,5,4)&$A41,Lista_Ubigeo!$J:$K,2,0),\" \")","v":" "},{"$f":"IFERROR(VLOOKUP(MID(DN$23,5,4)&$A41,Lista_Ubigeo!$J:$K,2,0),\" \")","v":" "},{"$f":"IFERROR(VLOOKUP(MID(DO$23,5,4)&$A42,Lista_Ubigeo!$J:$K,2,0),\" \")","v":" "},{"$f":"IFERROR(VLOOKUP(MID(DP$23,5,4)&$A41,Lista_Ubigeo!$J:$K,2,0),\" \")","v":" "},{"$f":"IFERROR(VLOOKUP(MID(DQ$23,5,4)&$A41,Lista_Ubigeo!$J:$K,2,0),\" \")","v":" "},{"$f":"IFERROR(VLOOKUP(MID(DR$23,5,4)&$A41,Lista_Ubigeo!$J:$K,2,0),\" \")","v":" "},{"$f":"IFERROR(VLOOKUP(MID(DS$23,5,4)&$A41,Lista_Ubigeo!$J:$K,2,0),\" \")","v":" "},null,null,{"$f":"IFERROR(VLOOKUP(MID(DV$23,5,4)&$A41,Lista_Ubigeo!$J:$K,2,0),\" \")","v":"POMALCA"},{"$f":"IFERROR(VLOOKUP(MID(DW$23,5,4)&$A41,Lista_Ubigeo!$J:$K,2,0),\" \")","v":" "},{"$f":"IFERROR(VLOOKUP(MID(DX$23,5,4)&$A41,Lista_Ubigeo!$J:$K,2,0),\" \")","v":" "},{"$f":"IFERROR(VLOOKUP(MID(DY$23,5,4)&$A41,Lista_Ubigeo!$J:$K,2,0),\" \")","v":"LURIGANCHO (CHOSICA)"},{"$f":"IFERROR(VLOOKUP(MID(DZ$23,5,4)&$A41,Lista_Ubigeo!$J:$K,2,0),\" \")","v":" "},{"$f":"IFERROR(VLOOKUP(MID(EA$23,5,4)&$A41,Lista_Ubigeo!$J:$K,2,0),\" \")","v":" "},{"$f":"IFERROR(VLOOKUP(MID(EB$23,5,4)&$A41,Lista_Ubigeo!$J:$K,2,0),\" \")","v":" "},{"$f":"IFERROR(VLOOKUP(MID(EC$23,5,4)&$A41,Lista_Ubigeo!$J:$K,2,0),\" \")","v":" "},{"$f":"IFERROR(VLOOKUP(MID(ED$23,5,4)&$A41,Lista_Ubigeo!$J:$K,2,0),\" \")","v":" "},{"$f":"IFERROR(VLOOKUP(MID(EE$23,5,4)&$A41,Lista_Ubigeo!$J:$K,2,0),\" \")","v":"SAN DAMIAN"},{"$f":"IFERROR(VLOOKUP(MID(EF$23,5,4)&$A41,Lista_Ubigeo!$J:$K,2,0),\" \")","v":" "},{"$f":"IFERROR(VLOOKUP(MID(EG$23,5,4)&$A41,Lista_Ubigeo!$J:$K,2,0),\" \")","v":" "},{"$f":"IFERROR(VLOOKUP(MID(EH$23,5,4)&$A41,Lista_Ubigeo!$J:$K,2,0),\" \")","v":"LARAOS"},{"$f":"IFERROR(VLOOKUP(MID(EI$23,5,4)&$A41,Lista_Ubigeo!$J:$K,2,0),\" \")","v":" "},{"$f":"IFERROR(VLOOKUP(MID(EJ$23,5,4)&$A46,Lista_Ubigeo!$J:$K,2,0),\" \")","v":" "},{"$f":"IFERROR(VLOOKUP(MID(EK$23,5,4)&$A41,Lista_Ubigeo!$J:$K,2,0),\" \")","v":" "},{"$f":"IFERROR(VLOOKUP(MID(EL$23,5,4)&$A41,Lista_Ubigeo!$J:$K,2,0),\" \")","v":" "},{"$f":"IFERROR(VLOOKUP(MID(EM$23,5,4)&$A41,Lista_Ubigeo!$J:$K,2,0),\" \")","v":" "},{"$f":"IFERROR(VLOOKUP(MID(EN$23,5,4)&$A41,Lista_Ubigeo!$J:$K,2,0),\" \")","v":" "},{"$f":"IFERROR(VLOOKUP(MID(EO$23,5,4)&$A41,Lista_Ubigeo!$J:$K,2,0),\" \")","v":" "},{"$f":"IFERROR(VLOOKUP(MID(EP$23,5,4)&$A41,Lista_Ubigeo!$J:$K,2,0),\" \")","v":" "},{"$f":"IFERROR(VLOOKUP(MID(EQ$23,5,4)&$A41,Lista_Ubigeo!$J:$K,2,0),\" \")","v":" "},{"$f":"IFERROR(VLOOKUP(MID(ER$23,5,4)&$A41,Lista_Ubigeo!$J:$K,2,0),\" \")","v":" "},{"$f":"IFERROR(VLOOKUP(MID(ES$23,5,4)&$A41,Lista_Ubigeo!$J:$K,2,0),\" \")","v":" "},{"$f":"IFERROR(VLOOKUP(MID(ET$23,5,4)&$A41,Lista_Ubigeo!$J:$K,2,0),\" \")","v":" "},{"$f":"IFERROR(VLOOKUP(MID(EU$23,5,4)&$A41,Lista_Ubigeo!$J:$K,2,0),\" \")","v":" "},{"$f":"IFERROR(VLOOKUP(MID(EV$23,5,4)&$A41,Lista_Ubigeo!$J:$K,2,0),\" \")","v":" "},{"$f":"IFERROR(VLOOKUP(MID(EW$23,5,4)&$A41,Lista_Ubigeo!$J:$K,2,0),\" \")","v":" "},{"$f":"IFERROR(VLOOKUP(MID(EX$23,5,4)&$A41,Lista_Ubigeo!$J:$K,2,0),\" \")","v":" "},{"$f":"IFERROR(VLOOKUP(MID(EY$23,5,4)&$A41,Lista_Ubigeo!$J:$K,2,0),\" \")","v":" "},{"$f":"IFERROR(VLOOKUP(MID(EZ$23,5,4)&$A44,Lista_Ubigeo!$J:$K,2,0),\" \")","v":" "},{"$f":"IFERROR(VLOOKUP(MID(FA$23,5,4)&$A41,Lista_Ubigeo!$J:$K,2,0),\" \")","v":" "},{"$f":"IFERROR(VLOOKUP(MID(FB$23,5,4)&$A41,Lista_Ubigeo!$J:$K,2,0),\" \")","v":" "},{"$f":"IFERROR(VLOOKUP(MID(FC$23,5,4)&$A41,Lista_Ubigeo!$J:$K,2,0),\" \")","v":" "},{"$f":"IFERROR(VLOOKUP(MID(FD$23,5,4)&$A41,Lista_Ubigeo!$J:$K,2,0),\" \")","v":" "},{"$f":"IFERROR(VLOOKUP(MID(FE$23,5,4)&$A41,Lista_Ubigeo!$J:$K,2,0),\" \")","v":" "},{"$f":"IFERROR(VLOOKUP(MID(FF$23,5,4)&$A41,Lista_Ubigeo!$J:$K,2,0),\" \")","v":" "},{"$f":"IFERROR(VLOOKUP(MID(FG$23,5,4)&$A41,Lista_Ubigeo!$J:$K,2,0),\" \")","v":" "},{"$f":"IFERROR(VLOOKUP(MID(FH$23,5,4)&$A41,Lista_Ubigeo!$J:$K,2,0),\" \")","v":" "},{"$f":"IFERROR(VLOOKUP(MID(FI$23,5,4)&$A41,Lista_Ubigeo!$J:$K,2,0),\" \")","v":"HUATANASI"},{"$f":"IFERROR(VLOOKUP(MID(FJ$23,5,4)&$A41,Lista_Ubigeo!$J:$K,2,0),\" \")","v":" "},{"$f":"IFERROR(VLOOKUP(MID(FK$23,5,4)&$A41,Lista_Ubigeo!$J:$K,2,0),\" \")","v":" "},{"$f":"IFERROR(VLOOKUP(MID(FL$23,5,4)&$A41,Lista_Ubigeo!$J:$K,2,0),\" \")","v":" "},{"$f":"IFERROR(VLOOKUP(MID(FM$23,5,4)&$A41,Lista_Ubigeo!$J:$K,2,0),\" \")","v":" "},{"$f":"IFERROR(VLOOKUP(MID(FN$23,5,4)&$A41,Lista_Ubigeo!$J:$K,2,0),\" \")","v":" "},{"$f":"IFERROR(VLOOKUP(MID(FO$23,5,4)&$A41,Lista_Ubigeo!$J:$K,2,0),\" \")","v":" "},{"$f":"IFERROR(VLOOKUP(MID(FP$23,5,4)&$A41,Lista_Ubigeo!$J:$K,2,0),\" \")","v":" "},{"$f":"IFERROR(VLOOKUP(MID(FQ$23,5,4)&$A41,Lista_Ubigeo!$J:$K,2,0),\" \")","v":" "},{"$f":"IFERROR(VLOOKUP(MID(FR$23,5,4)&$A41,Lista_Ubigeo!$J:$K,2,0),\" \")","v":" "},{"$f":"IFERROR(VLOOKUP(MID(FS$23,5,4)&$A41,Lista_Ubigeo!$J:$K,2,0),\" \")","v":" "},{"$f":"IFERROR(VLOOKUP(MID(FT$23,5,4)&$A41,Lista_Ubigeo!$J:$K,2,0),\" \")","v":" "},{"$f":"IFERROR(VLOOKUP(MID(FU$23,5,4)&$A41,Lista_Ubigeo!$J:$K,2,0),\" \")","v":" "},{"$f":"IFERROR(VLOOKUP(MID(FV$23,5,4)&$A41,Lista_Ubigeo!$J:$K,2,0),\" \")","v":" "},{"$f":"IFERROR(VLOOKUP(MID(FW$23,5,4)&$A41,Lista_Ubigeo!$J:$K,2,0),\" \")","v":" "},{"$f":"IFERROR(VLOOKUP(MID(FX$23,5,4)&$A41,Lista_Ubigeo!$J:$K,2,0),\" \")","v":" "},{"$f":"IFERROR(VLOOKUP(MID(FY$23,5,4)&$A41,Lista_Ubigeo!$J:$K,2,0),\" \")","v":" "},{"$f":"IFERROR(VLOOKUP(MID(FZ$23,5,4)&$A41,Lista_Ubigeo!$J:$K,2,0),\" \")","v":" "},{"$f":"IFERROR(VLOOKUP(MID(GA$23,5,4)&$A41,Lista_Ubigeo!$J:$K,2,0),\" \")","v":" "},{"$f":"IFERROR(VLOOKUP(MID(GB$23,5,4)&$A41,Lista_Ubigeo!$J:$K,2,0),\" \")","v":" "},{"$f":"IFERROR(VLOOKUP(MID(GC$23,5,4)&$A41,Lista_Ubigeo!$J:$K,2,0),\" \")","v":" "},{"$f":"IFERROR(VLOOKUP(MID(GD$23,5,4)&$A41,Lista_Ubigeo!$J:$K,2,0),\" \")","v":" "},{"$f":"IFERROR(VLOOKUP(MID(GE$23,5,4)&$A41,Lista_Ubigeo!$J:$K,2,0),\" \")","v":" "},{"$f":"IFERROR(VLOOKUP(MID(GF$23,5,4)&$A41,Lista_Ubigeo!$J:$K,2,0),\" \")","v":" "},{"$f":"IFERROR(VLOOKUP(MID(GG$23,5,4)&$A41,Lista_Ubigeo!$J:$K,2,0),\" \")","v":" "},{"$f":"IFERROR(VLOOKUP(MID(GH$23,5,4)&$A41,Lista_Ubigeo!$J:$K,2,0),\" \")","v":" "},{"$f":"IFERROR(VLOOKUP(MID(GI$23,5,4)&$A41,Lista_Ubigeo!$J:$K,2,0),\" \")","v":" "},{"$f":"IFERROR(VLOOKUP(MID(GJ$23,5,4)&$A41,Lista_Ubigeo!$J:$K,2,0),\" \")","v":" "},{"$f":"IFERROR(VLOOKUP(MID(GK$23,5,4)&$A41,Lista_Ubigeo!$J:$K,2,0),\" \")","v":" "},{"$f":"IFERROR(VLOOKUP(MID(GL$23,5,4)&$A41,Lista_Ubigeo!$J:$K,2,0),\" \")","v":" "},{"$f":"IFERROR(VLOOKUP(MID(GM$23,5,4)&$A41,Lista_Ubigeo!$J:$K,2,0),\" \")","v":" "},{"$f":"IFERROR(VLOOKUP(MID(GN$23,5,4)&$A41,Lista_Ubigeo!$J:$K,2,0),\" \")","v":" "},{"$f":"IFERROR(VLOOKUP(MID(GO$23,5,4)&$A41,Lista_Ubigeo!$J:$K,2,0),\" \")","v":" "},{"$f":"IFERROR(VLOOKUP(MID(GP$23,5,4)&$A41,Lista_Ubigeo!$J:$K,2,0),\" \")","v":"HUATANASI"}]
["19",{"$f":"IFERROR(VLOOKUP(MID(B$23,5,4)&$A42,Lista_Ubigeo!$J:$K,2,0),\" \")","v":"SAN ISIDRO DE MAINO"},{"$f":"IFERROR(VLOOKUP(MID(C$23,5,4)&$A42,Lista_Ubigeo!$J:$K,2,0),\" \")","v":" "},{"$f":"IFERROR(VLOOKUP(MID(D$23,5,4)&$A42,Lista_Ubigeo!$J:$K,2,0),\" \")","v":" "},{"$f":"IFERROR(VLOOKUP(MID(E$23,5,4)&$A42,Lista_Ubigeo!$J:$K,2,0),\" \")","v":" "},{"$f":"IFERROR(VLOOKUP(MID(F$23,5,4)&$A42,Lista_Ubigeo!$J:$K,2,0),\" \")","v":"SAN JUAN DE LOPECANCHA"},{"$f":"IFERROR(VLOOKUP(MID(G$23,5,4)&$A42,Lista_Ubigeo!$J:$K,2,0),\" \")","v":" "},{"$f":"IFERROR(VLOOKUP(MID(H$23,5,4)&$A42,Lista_Ubigeo!$J:$K,2,0),\" \")","v":" "},{"$f":"IFERROR(VLOOKUP(MID(I$23,5,4)&$A42,Lista_Ubigeo!$J:$K,2,0),\" \")","v":" "},{"$f":"IFERROR(VLOOKUP(MID(J$23,5,4)&$A42,Lista_Ubigeo!$J:$K,2,0),\" \")","v":" "},{"$f":"IFERROR(VLOOKUP(MID(K$23,5,4)&$A42,Lista_Ubigeo!$J:$K,2,0),\" \")","v":" "},{"$f":"IFERROR(VLOOKUP(MID(L$23,5,4)&$A42,Lista_Ubigeo!$J:$K,2,0),\" \")","v":" "},{"$f":"IFERROR(VLOOKUP(MID(M$23,5,4)&$A42,Lista_Ubigeo!$J:$K,2,0),\" \")","v":" "},{"$f":"IFERROR(VLOOKUP(MID(N$23,5,4)&$A42,Lista_Ubigeo!$J:$K,2,0),\" \")","v":" "},{"$f":"IFERROR(VLOOKUP(MID(O$23,5,4)&$A42,Lista_Ubigeo!$J:$K,2,0),\" \")","v":" "},{"$f":"IFERROR(VLOOKUP(MID(P$23,5,4)&$A42,Lista_Ubigeo!$J:$K,2,0),\" \")","v":" "},{"$f":"IFERROR(VLOOKUP(MID(Q$23,5,4)&$A42,Lista_Ubigeo!$J:$K,2,0),\" \")","v":" "},{"$f":"IFERROR(VLOOKUP(MID(R$23,5,4)&$A42,Lista_Ubigeo!$J:$K,2,0),\" \")","v":" "},{"$f":"IFERROR(VLOOKUP(MID(S$23,5,4)&$A42,Lista_Ubigeo!$J:$K,2,0),\" \")","v":" "},{"$f":"IFERROR(VLOOKUP(MID(T$23,5,4)&$A42,Lista_Ubigeo!$J:$K,2,0),\" \")","v":" "},{"$f":"IFERROR(VLOOKUP(MID(U$23,5,4)&$A42,Lista_Ubigeo!$J:$K,2,0),\" \")","v":" "},{"$f":"IFERROR(VLOOKUP(MID(V$23,5,4)&$A42,Lista_Ubigeo!$J:$K,2,0),\" \")","v":" "},{"$f":"IFERROR(VLOOKUP(MID(W$23,5,4)&$A42,Lista_Ubigeo!$J:$K,2,0),\" \")","v":" "},{"$f":"IFERROR(VLOOKUP(MID(X$23,5,4)&$A42,Lista_Ubigeo!$J:$K,2,0),\" \")","v":" "},{"$f":"IFERROR(VLOOKUP(MID(Y$23,5,4)&$A42,Lista_Ubigeo!$J:$K,2,0),\" \")","v":" "},{"$f":"IFERROR(VLOOKUP(MID(Z$23,5,4)&$A42,Lista_Ubigeo!$J:$K,2,0),\" \")","v":" "},{"$f":"IFERROR(VLOOKUP(MID(AA$23,5,4)&$A42,Lista_Ubigeo!$J:$K,2,0),\" \")","v":" "},{"$f":"IFERROR(VLOOKUP(MID(AB$23,5,4)&$A42,Lista_Ubigeo!$J:$K,2,0),\" \")","v":" "},{"$f":"IFERROR(VLOOKUP(MID(AC$23,5,4)&$A42,Lista_Ubigeo!$J:$K,2,0),\" \")","v":" "},{"$f":"IFERROR(VLOOKUP(MID(AD$23,5,4)&$A42,Lista_Ubigeo!$J:$K,2,0),\" \")","v":"KAQUIABAMBA"},{"$f":"IFERROR(VLOOKUP(MID(AE$23,5,4)&$A42,Lista_Ubigeo!$J:$K,2,0),\" \")","v":" "},{"$f":"IFERROR(VLOOKUP(MID(AF$23,5,4)&$A42,Lista_Ubigeo!$J:$K,2,0),\" \")","v":" "},{"$f":"IFERROR(VLOOKUP(MID(AG$23,5,4)&$A42,Lista_Ubigeo!$J:$K,2,0),\" \")","v":" "},{"$f":"IFERROR(VLOOKUP(MID(AH$23,5,4)&$A42,Lista_Ubigeo!$J:$K,2,0),\" \")","v":" "},{"$f":"IFERROR(VLOOKUP(MID(AI$23,5,4)&$A42,Lista_Ubigeo!$J:$K,2,0),\" \")","v":" "},{"$f":"IFERROR(VLOOKUP(MID(AJ$23,5,4)&$A42,Lista_Ubigeo!$J:$K,2,0),\" \")","v":"SAN JUAN DE TARUCANI"},{"$f":"IFERROR(VLOOKUP(MID(AK$23,5,4)&$A42,Lista_Ubigeo!$J:$K,2,0),\" \")","v":" "},{"$f":"IFERROR(VLOOKUP(MID(AL$23,5,4)&$A42,Lista_Ubigeo!$J:$K,2,0),\" \")","v":" "},{"$f":"IFERROR(VLOOKUP(MID(AM$23,5,4)&$A42,Lista_Ubigeo!$J:$K,2,0),\" \")","v":" "},{"$f":"IFERROR(VLOOKUP(MID(AN$23,5,4)&$A42,Lista_Ubigeo!$J:$K,2,0),\" \")","v":"YANQUE"},{"$f":"IFERROR(VLOOKUP(MID(AO$23,5,4)&$A42,Lista_Ubigeo!$J:$K,2,0),\" \")","v":" "},{"$f":"IFERROR(VLOOKUP(MID(AP$23,5,4)&$A42,Lista_Ubigeo!$J:$K,2,0),\" \")","v":" "},{"$f":"IFERROR(VLOOKUP(MID(AQ$23,4,4)&$A42,Lista_Ubigeo!$J:$K,2,0),\" \")","v":" "},{"$f":"IFERROR(VLOOKUP(MID(AR$23,5,4)&$A42,Lista_Ubigeo!$J:$K,2,0),\" \")","v":" "},{"$f":"IFERROR(VLOOKUP(MID(AS$23,5,4)&$A42,Lista_Ubigeo!$J:$K,2,0),\" \")","v":" "},{"$f":"IFERROR(VLOOKUP(MID(AT$23,5,4)&$A42,Lista_Ubigeo!$J:$K,2,0),\" \")","v":" "},{"$f":"IFERROR(VLOOKUP(MID(AU$23,5,4)&$A42,Lista_Ubigeo!$J:$K,2,0),\" \")","v":" "},{"$f":"IFERROR(VLOOKUP(MID(AV$23,5,4)&$A42,Lista_Ubigeo!$J:$K,2,0),\" \")","v":" "},{"$f":"IFERROR(VLOOKUP(MID(AW$23,5,4)&$A42,Lista_Ubigeo!$J:$K,2,0),\" \")","v":"SANCOS"},{"$f":"IFERROR(VLOOKUP(MID(AX$23,5,4)&$A42,Lista_Ubigeo!$J:$K,2,0),\" \")","v":" "},{"$f":"IFERROR(VLOOKUP(MID(AY$23,5,4)&$A42,Lista_Ubigeo!$J:$K,2,0),\" \")","v":" "},{"$f":"IFERROR(VLOOKUP(MID(AZ$23,5,4)&$A42,Lista_Ubigeo!$J:$K,2,0),\" \")","v":" "},{"$f":"IFERROR(VLOOKUP(MID(BA$23,5,4)&$A42,Lista_Ubigeo!$J:$K,2,0),\" \")","v":" "},{"$f":"IFERROR(VLOOKUP(MID(BB$23,5,4)&$A42,Lista_Ubigeo!$J:$K,2,0),\" \")","v":" "},{"$f":"IFERROR(VLOOKUP(MID(BC$23,5,4)&$A42,Lista_Ubigeo!$J:$K,2,0),\" \")","v":" "},{"$f":"IFERROR(VLOOKUP(MID(BD$23,5,4)&$A42,Lista_Ubigeo!$J:$K,2,0),\" \")","v":" "},{"$f":"IFERROR(VLOOKUP(MID(BE$23,5,4)&$A42,Lista_Ubigeo!$J:$K,2,0),\" \")","v":" "},{"$f":"IFERROR(VLOOKUP(MID(BF$23,5,4)&$A42,Lista_Ubigeo!$J:$K,2,0),\" \")","v":"CHALAMARCA"},{"$f":"IFERROR(VLOOKUP(MID(BG$23,5,4)&$A42,Lista_Ubigeo!$J:$K,2,0),\" \")","v":" "},{"$f":"IFERROR(VLOOKUP(MID(BH$23,5,4)&$A42,Lista_Ubigeo!$J:$K,2,0),\" \")","v":" "},{"$f":"IFERROR(VLOOKUP(MID(BI$23,5,4)&$A42,Lista_Ubigeo!$J:$K,2,0),\" \")","v":" "},{"$f":"IFERROR(VLOOKUP(MID(BJ$23,5,4)&$A42,Lista_Ubigeo!$J:$K,2,0),\" \")","v":" "},{"$f":"IFERROR(VLOOKUP(MID(BK$23,5,4)&$A42,Lista_Ubigeo!$J:$K,2,0),\" \")","v":" "},{"$f":"IFERROR(VLOOKUP(MID(BL$23,5,4)&$A42,Lista_Ubigeo!$J:$K,2,0),\" \")","v":" "},{"$f":"IFERROR(VLOOKUP(MID(BM$23,5,4)&$A42,Lista_Ubigeo!$J:$K,2,0),\" \")","v":" "},{"$f":"IFERROR(VLOOKUP(MID(BN$23,5,4)&$A42,Lista_Ubigeo!$J:$K,2,0),\" \")","v":" "},{"$f":"IFERROR(VLOOKUP(MID(BO$23,5,4)&$A42,Lista_Ubigeo!$J:$K,2,0),\" \")","v":" "},{"$f":"IFERROR(VLOOKUP(MID(BP$23,5,4)&$A42,Lista_Ubigeo!$J:$K,2,0),\" \")","v":" "},{"$f":"IFERROR(VLOOKUP(MID(BQ$23,5,4)&$A42,Lista_Ubigeo!$J:$K,2,0),\" \")","v":" "},{"$f":"IFERROR(VLOOKUP(MID(BR$23,5,4)&$A42,Lista_Ubigeo!$J:$K,2,0),\" \")","v":" "},{"$f":"IFERROR(VLOOKUP(MID(BS$23,5,4)&$A42,Lista_Ubigeo!$J:$K,2,0),\" \")","v":" "},{"$f":"IFERROR(VLOOKUP(MID(BT$23,5,4)&$A42,Lista_Ubigeo!$J:$K,2,0),\" \")","v":" "},{"$f":"IFERROR(VLOOKUP(MID(BU$23,5,4)&$A42,Lista_Ubigeo!$J:$K,2,0),\" \")","v":" "},{"$f":"IFERROR(VLOOKUP(MID(BV$23,5,4)&$A42,Lista_Ubigeo!$J:$K,2,0),\" \")","v":" "},{"$f":"IFERROR(VLOOKUP(MID(BW$23,5,4)&$A42,Lista_Ubigeo!$J:$K,2,0),\" \")","v":" "},{"$f":"IFERROR(VLOOKUP(MID(BX$23,5,4)&$A42,Lista_Ubigeo!$J:$K,2,0),\" \")","v":" "},{"$f":"IFERROR(VLOOKUP(MID(BY$23,4,4)&$A42,Lista_Ubigeo!$J:$K,2,0),\" \")","v":" "},{"$f":"IFERROR(VLOOKUP(MID(BZ$23,5,4)&$A42,Lista_Ubigeo!$J:$K,2,0),\" \")","v":" "},{"$f":"IFERROR(VLOOKUP(MID(CA$23,5,4)&$A42,Lista_Ubigeo!$J:$K,2,0),\" \")","v":" "},{"$f":"IFERROR(VLOOKUP(MID(CB$23,5,4)&$A42,Lista_Ubigeo!$J:$K,2,0),\" \")","v":" "},{"$f":"IFERROR(VLOOKUP(MID(CC$23,5,4)&$A42,Lista_Ubigeo!$J:$K,2,0),\" \")","v":" "},{"$f":"IFERROR(VLOOKUP(MID(CD$23,5,4)&$A42,Lista_Ubigeo!$J:$K,2,0),\" \")","v":"HUANDO"},{"$f":"IFERROR(VLOOKUP(MID(CE$23,5,4)&$A42,Lista_Ubigeo!$J:$K,2,0),\" \")","v":" "},{"$f":"IFERROR(VLOOKUP(MID(CF$23,5,4)&$A42,Lista_Ubigeo!$J:$K,2,0),\" \")","v":" "},{"$f":"IFERROR(VLOOKUP(MID(CG$23,5,4)&$A42,Lista_Ubigeo!$J:$K,2,0),\" \")","v":" "},{"$f":"IFERROR(VLOOKUP(MID(CH$23,5,4)&$A42,Lista_Ubigeo!$J:$K,2,0),\" \")","v":" "},{"$f":"IFERROR(VLOOKUP(MID(CI$23,5,4)&$A42,Lista_Ubigeo!$J:$K,2,0),\" \")","v":" "},{"$f":"IFERROR(VLOOKUP(MID(CJ$23,5,4)&$A42,Lista_Ubigeo!$J:$K,2,0),\" \")","v":"QUICHUAS"},{"$f":"IFERROR(VLOOKUP(MID(CK$23,5,4)&$A42,Lista_Ubigeo!$J:$K,2,0),\" \")","v":" "},{"$f":"IFERROR(VLOOKUP(MID(CL$23,5,4)&$A42,Lista_Ubigeo!$J:$K,2,0),\" \")","v":" "},{"$f":"IFERROR(VLOOKUP(MID(CM$23,5,4)&$A53,Lista_Ubigeo!$J:$K,2,0),\" \")","v":" "},{"$f":"IFERROR(VLOOKUP(MID(CN$23,5,4)&$A42,Lista_Ubigeo!$J:$K,2,0),\" \")","v":" "},{"$f":"IFERROR(VLOOKUP(MID(CO$23,5,4)&$A42,Lista_Ubigeo!$J:$K,2,0),\" \")","v":" "},{"$f":"IFERROR(VLOOKUP(MID(CP$23,5,4)&$A42,Lista_Ubigeo!$J:$K,2,0),\" \")","v":" "},{"$f":"IFERROR(VLOOKUP(MID(CQ$23,5,4)&$A42,Lista_Ubigeo!$J:$K,2,0),\" \")","v":" "},{"$f":"IFERROR(VLOOKUP(MID(CR$23,5,4)&$A42,Lista_Ubigeo!$J:$K,2,0),\" \")","v":" "},{"$f":"IFERROR(VLOOKUP(MID(CS$23,5,4)&$A42,Lista_Ubigeo!$J:$K,2,0),\" \")","v":" "},{"$f":"IFERROR(VLOOKUP(MID(CT$23,5,4)&$A42,Lista_Ubigeo!$J:$K,2,0),\" \")","v":" "},{"$f":"IFERROR(VLOOKUP(MID(CU$23,5,4)&$A42,Lista_Ubigeo!$J:$K,2,0),\" \")","v":" "},{"$f":"IFERROR(VLOOKUP(MID(CV$23,5,4)&$A42,Lista_Ubigeo!$J:$K,2,0),\" \")","v":" "},{"$f":"IFERROR(VLOOKUP(MID(CW$23,5,4)&$A42,Lista_Ubigeo!$J:$K,2,0),\" \")","v":" "},{"$f":"IFERROR(VLOOKUP(MID(CX$23,5,4)&$A42,Lista_Ubigeo!$J:$K,2,0),\" \")","v":" "},{"$f":"IFERROR(VLOOKUP(MID(CY$23,5,4)&$A42,Lista_Ubigeo!$J:$K,2,0),\" \")","v":" "},{"$f":"IFERROR(VLOOKUP(MID(CZ$23,5,4)&$A42,Lista_Ubigeo!$J:$K,2,0),\" \")","v":" "},{"$f":"IFERROR(VLOOKUP(MID(DA$23,5,4)&$A42,Lista_Ubigeo!$J:$K,2,0),\" \")","v":"HUANCAN"},{"$f":"IFERROR(VLOOKUP(MID(DB$23,5,4)&$A42,Lista_Ubigeo!$J:$K,2,0),\" \")","v":" "},{"$f":"IFERROR(VLOOKUP(MID(DC$23,5,4)&$A42,Lista_Ubigeo!$J:$K,2,0),\" \")","v":" "},{"$f":"IFERROR(VLOOKUP(MID(DD$23,5,4)&$A42,Lista_Ubigeo!$J:$K,2,0),\" \")","v":"MONOBAMBA"},{"$f":"IFERROR(VLOOKUP(MID(DE$23,5,4)&$A42,Lista_Ubigeo!$J:$K,2,0),\" \")","v":" "},{"$f":"IFERROR(VLOOKUP(MID(DF$23,5,4)&$A42,Lista_Ubigeo!$J:$K,2,0),\" \")","v":" "},{"$f":"IFERROR(VLOOKUP(MID(DG$23,5,4)&$A42,Lista_Ubigeo!$J:$K,2,0),\" \")","v":" "},{"$f":"IFERROR(VLOOKUP(MID(DH$23,5,4)&$A42,Lista_Ubigeo!$J:$K,2,0),\" \")","v":" "},{"$f":"IFERROR(VLOOKUP(MID(DI$23,5,4)&$A42,Lista_Ubigeo!$J:$K,2,0),\" \")","v":" "},{"$f":"IFERROR(VLOOKUP(MID(DJ$23,5,4)&$A42,Lista_Ubigeo!$J:$K,2,0),\" \")","v":" "},{"$f":"IFERROR(VLOOKUP(MID(DK$23,5,4)&$A42,Lista_Ubigeo!$J:$K,2,0),\" \")","v":" "},{"$f":"IFERROR(VLOOKUP(MID(DL$23,5,4)&$A42,Lista_Ubigeo!$J:$K,2,0),\" \")","v":" "},{"$f":"IFERROR(VLOOKUP(MID(DM$23,5,4)&$A42,Lista_Ubigeo!$J:$K,2,0),\" \")","v":" "},{"$f":"IFERROR(VLOOKUP(MID(DN$23,5,4)&$A42,Lista_Ubigeo!$J:$K,2,0),\" \")","v":" "},{"$f":"IFERROR(VLOOKUP(MID(DO$23,5,4)&$A43,Lista_Ubigeo!$J:$K,2,0),\" \")","v":" "},{"$f":"IFERROR(VLOOKUP(MID(DP$23,5,4)&$A42,Lista_Ubigeo!$J:$K,2,0),\" \")","v":" "},{"$f":"IFERROR(VLOOKUP(MID(DQ$23,5,4)&$A42,Lista_Ubigeo!$J:$K,2,0),\" \")","v":" "},{"$f":"IFERROR(VLOOKUP(MID(DR$23,5,4)&$A42,Lista_Ubigeo!$J:$K,2,0),\" \")","v":" "},{"$f":"IFERROR(VLOOKUP(MID(DS$23,5,4)&$A42,Lista_Ubigeo!$J:$K,2,0),\" \")","v":" "},null,null,{"$f":"IFERROR(VLOOKUP(MID(DV$23,5,4)&$A42,Lista_Ubigeo!$J:$K,2,0),\" \")","v":"PUCALA"},{"$f":"IFERROR(VLOOKUP(MID(DW$23,5,4)&$A42,Lista_Ubigeo!$J:$K,2,0),\" \")","v":" "},{"$f":"IFERROR(VLOOKUP(MID(DX$23,5,4)&$A42,Lista_Ubigeo!$J:$K,2,0),\" \")","v":" "},{"$f":"IFERROR(VLOOKUP(MID(DY$23,5,4)&$A42,Lista_Ubigeo!$J:$K,2,0),\" \")","v":"LURIN"},{"$f":"IFERROR(VLOOKUP(MID(DZ$23,5,4)&$A42,Lista_Ubigeo!$J:$K,2,0),\" \")","v":" "},{"$f":"IFERROR(VLOOKUP(MID(EA$23,5,4)&$A42,Lista_Ubigeo!$J:$K,2,0),\" \")","v":" "},{"$f":"IFERROR(VLOOKUP(MID(EB$23,5,4)&$A42,Lista_Ubigeo!$J:$K,2,0),\" \")","v":" "},{"$f":"IFERROR(VLOOKUP(MID(EC$23,5,4)&$A42,Lista_Ubigeo!$J:$K,2,0),\" \")","v":" "},{"$f":"IFERROR(VLOOKUP(MID(ED$23,5,4)&$A42,Lista_Ubigeo!$J:$K,2,0),\" \")","v":" "},{"$f":"IFERROR(VLOOKUP(MID(EE$23,5,4)&$A42,Lista_Ubigeo!$J:$K,2,0),\" \")","v":"SAN JUAN DE IRIS"},{"$f":"IFERROR(VLOOKUP(MID(EF$23,5,4)&$A42,Lista_Ubigeo!$J:$K,2,0),\" \")","v":" "},{"$f":"IFERROR(VLOOKUP(MID(EG$23,5,4)&$A42,Lista_Ubigeo!$J:$K,2,0),\" \")","v":" "},{"$f":"IFERROR(VLOOKUP(MID(EH$23,5,4)&$A42,Lista_Ubigeo!$J:$K,2,0),\" \")","v":"LINCHA"},{"$f":"IFERROR(VLOOKUP(MID(EI$23,5,4)&$A42,Lista_Ubigeo!$J:$K,2,0),\" \")","v":" "},{"$f":"IFERROR(VLOOKUP(MID(EJ$23,5,4)&$A47,Lista_Ubigeo!$J:$K,2,0),\" \")","v":" "},{"$f":"IFERROR(VLOOKUP(MID(EK$23,5,4)&$A42,Lista_Ubigeo!$J:$K,2,0),\" \")","v":" "},{"$f":"IFERROR(VLOOKUP(MID(EL$23,5,4)&$A42,Lista_Ubigeo!$J:$K,2,0),\" \")","v":" "},{"$f":"IFERROR(VLOOKUP(MID(EM$23,5,4)&$A42,Lista_Ubigeo!$J:$K,2,0),\" \")","v":" "},{"$f":"IFERROR(VLOOKUP(MID(EN$23,5,4)&$A42,Lista_Ubigeo!$J:$K,2,0),\" \")","v":" "},{"$f":"IFERROR(VLOOKUP(MID(EO$23,5,4)&$A42,Lista_Ubigeo!$J:$K,2,0),\" \")","v":" "},{"$f":"IFERROR(VLOOKUP(MID(EP$23,5,4)&$A42,Lista_Ubigeo!$J:$K,2,0),\" \")","v":" "},{"$f":"IFERROR(VLOOKUP(MID(EQ$23,5,4)&$A42,Lista_Ubigeo!$J:$K,2,0),\" \")","v":" "},{"$f":"IFERROR(VLOOKUP(MID(ER$23,5,4)&$A42,Lista_Ubigeo!$J:$K,2,0),\" \")","v":" "},{"$f":"IFERROR(VLOOKUP(MID(ES$23,5,4)&$A42,Lista_Ubigeo!$J:$K,2,0),\" \")","v":" "},{"$f":"IFERROR(VLOOKUP(MID(ET$23,5,4)&$A42,Lista_Ubigeo!$J:$K,2,0),\" \")","v":" "},{"$f":"IFERROR(VLOOKUP(MID(EU$23,5,4)&$A42,Lista_Ubigeo!$J:$K,2,0),\" \")","v":" "},{"$f":"IFERROR(VLOOKUP(MID(EV$23,5,4)&$A42,Lista_Ubigeo!$J:$K,2,0),\" \")","v":" "},{"$f":"IFERROR(VLOOKUP(MID(EW$23,5,4)&$A42,Lista_Ubigeo!$J:$K,2,0),\" \")","v":" "},{"$f":"IFERROR(VLOOKUP(MID(EX$23,5,4)&$A42,Lista_Ubigeo!$J:$K,2,0),\" \")","v":" "},{"$f":"IFERROR(VLOOKUP(MID(EY$23,5,4)&$A42,Lista_Ubigeo!$J:$K,2,0),\" \")","v":" "},{"$f":"IFERROR(VLOOKUP(MID(EZ$23,5,4)&$A45,Lista_Ubigeo!$J:$K,2,0),\" \")","v":" "},{"$f":"IFERROR(VLOOKUP(MID(FA$23,5,4)&$A42,Lista_Ubigeo!$J:$K,2,0),\" \")","v":" "},{"$f":"IFERROR(VLOOKUP(MID(FB$23,5,4)&$A42,Lista_Ubigeo!$J:$K,2,0),\" \")","v":" "},{"$f":"IFERROR(VLOOKUP(MID(FC$23,5,4)&$A42,Lista_Ubigeo!$J:$K,2,0),\" \")","v":" "},{"$f":"IFERROR(VLOOKUP(MID(FD$23,5,4)&$A42,Lista_Ubigeo!$J:$K,2,0),\" \")","v":" "},{"$f":"IFERROR(VLOOKUP(MID(FE$23,5,4)&$A42,Lista_Ubigeo!$J:$K,2,0),\" \")","v":" "},{"$f":"IFERROR(VLOOKUP(MID(FF$23,5,4)&$A42,Lista_Ubigeo!$J:$K,2,0),\" \")","v":" "},{"$f":"IFERROR(VLOOKUP(MID(FG$23,5,4)&$A42,Lista_Ubigeo!$J:$K,2,0),\" \")","v":" "},{"$f":"IFERROR(VLOOKUP(MID(FH$23,5,4)&$A42,Lista_Ubigeo!$J:$K,2,0),\" \")","v":" "},{"$f":"IFERROR(VLOOKUP(MID(FI$23,5,4)&$A42,Lista_Ubigeo!$J:$K,2,0),\" \")","v":" "},{"$f":"IFERROR(VLOOKUP(MID(FJ$23,5,4)&$A42,Lista_Ubigeo!$J:$K,2,0),\" \")","v":" "},{"$f":"IFERROR(VLOOKUP(MID(FK$23,5,4)&$A42,Lista_Ubigeo!$J:$K,2,0),\" \")","v":" "},{"$f":"IFERROR(VLOOKUP(MID(FL$23,5,4)&$A42,Lista_Ubigeo!$J:$K,2,0),\" \")","v":" "},{"$f":"IFERROR(VLOOKUP(MID(FM$23,5,4)&$A42,Lista_Ubigeo!$J:$K,2,0),\" \")","v":" "},{"$f":"IFERROR(VLOOKUP(MID(FN$23,5,4)&$A42,Lista_Ubigeo!$J:$K,2,0),\" \")","v":" "},{"$f":"IFERROR(VLOOKUP(MID(FO$23,5,4)&$A42,Lista_Ubigeo!$J:$K,2,0),\" \")","v":" "},{"$f":"IFERROR(VLOOKUP(MID(FP$23,5,4)&$A42,Lista_Ubigeo!$J:$K,2,0),\" \")","v":" "},{"$f":"IFERROR(VLOOKUP(MID(FQ$23,5,4)&$A42,Lista_Ubigeo!$J:$K,2,0),\" \")","v":" "},{"$f":"IFERROR(VLOOKUP(MID(FR$23,5,4)&$A42,Lista_Ubigeo!$J:$K,2,0),\" \")","v":" "},{"$f":"IFERROR(VLOOKUP(MID(FS$23,5,4)&$A42,Lista_Ubigeo!$J:$K,2,0),\" \")","v":" "},{"$f":"IFERROR(VLOOKUP(MID(FT$23,5,4)&$A42,Lista_Ubigeo!$J:$K,2,0),\" \")","v":" "},{"$f":"IFERROR(VLOOKUP(MID(FU$23,5,4)&$A42,Lista_Ubigeo!$J:$K,2,0),\" \")","v":" "},{"$f":"IFERROR(VLOOKUP(MID(FV$23,5,4)&$A42,Lista_Ubigeo!$J:$K,2,0),\" \")","v":" "},{"$f":"IFERROR(VLOOKUP(MID(FW$23,5,4)&$A42,Lista_Ubigeo!$J:$K,2,0),\" \")","v":" "},{"$f":"IFERROR(VLOOKUP(MID(FX$23,5,4)&$A42,Lista_Ubigeo!$J:$K,2,0),\" \")","v":" "},{"$f":"IFERROR(VLOOKUP(MID(FY$23,5,4)&$A42,Lista_Ubigeo!$J:$K,2,0),\" \")","v":" "},{"$f":"IFERROR(VLOOKUP(MID(FZ$23,5,4)&$A42,Lista_Ubigeo!$J:$K,2,0),\" \")","v":" "},{"$f":"IFERROR(VLOOKUP(MID(GA$23,5,4)&$A42,Lista_Ubigeo!$J:$K,2,0),\" \")","v":" "},{"$f":"IFERROR(VLOOKUP(MID(GB$23,5,4)&$A42,Lista_Ubigeo!$J:$K,2,0),\" \")","v":" "},{"$f":"IFERROR(VLOOKUP(MID(GC$23,5,4)&$A42,Lista_Ubigeo!$J:$K,2,0),\" \")","v":" "},{"$f":"IFERROR(VLOOKUP(MID(GD$23,5,4)&$A42,Lista_Ubigeo!$J:$K,2,0),\" \")","v":" "},{"$f":"IFERROR(VLOOKUP(MID(GE$23,5,4)&$A42,Lista_Ubigeo!$J:$K,2,0),\" \")","v":" "},{"$f":"IFERROR(VLOOKUP(MID(GF$23,5,4)&$A42,Lista_Ubigeo!$J:$K,2,0),\" \")","v":" "},{"$f":"IFERROR(VLOOKUP(MID(GG$23,5,4)&$A42,Lista_Ubigeo!$J:$K,2,0),\" \")","v":" "},{"$f":"IFERROR(VLOOKUP(MID(GH$23,5,4)&$A42,Lista_Ubigeo!$J:$K,2,0),\" \")","v":" "},{"$f":"IFERROR(VLOOKUP(MID(GI$23,5,4)&$A42,Lista_Ubigeo!$J:$K,2,0),\" \")","v":" "},{"$f":"IFERROR(VLOOKUP(MID(GJ$23,5,4)&$A42,Lista_Ubigeo!$J:$K,2,0),\" \")","v":" "},{"$f":"IFERROR(VLOOKUP(MID(GK$23,5,4)&$A42,Lista_Ubigeo!$J:$K,2,0),\" \")","v":" "},{"$f":"IFERROR(VLOOKUP(MID(GL$23,5,4)&$A42,Lista_Ubigeo!$J:$K,2,0),\" \")","v":" "},{"$f":"IFERROR(VLOOKUP(MID(GM$23,5,4)&$A42,Lista_Ubigeo!$J:$K,2,0),\" \")","v":" "},{"$f":"IFERROR(VLOOKUP(MID(GN$23,5,4)&$A42,Lista_Ubigeo!$J:$K,2,0),\" \")","v":" "},{"$f":"IFERROR(VLOOKUP(MID(GO$23,5,4)&$A42,Lista_Ubigeo!$J:$K,2,0),\" \")","v":" "},{"$f":"IFERROR(VLOOKUP(MID(GP$23,5,4)&$A42,Lista_Ubigeo!$J:$K,2,0),\" \")","v":" "}]
["20",{"$f":"IFERROR(VLOOKUP(MID(B$23,5,4)&$A43,Lista_Ubigeo!$J:$K,2,0),\" \")","v":"SOLOCO"},{"$f":"IFERROR(VLOOKUP(MID(C$23,5,4)&$A43,Lista_Ubigeo!$J:$K,2,0),\" \")","v":" "},{"$f":"IFERROR(VLOOKUP(MID(D$23,5,4)&$A43,Lista_Ubigeo!$J:$K,2,0),\" \")","v":" "},{"$f":"IFERROR(VLOOKUP(MID(E$23,5,4)&$A43,Lista_Ubigeo!$J:$K,2,0),\" \")","v":" "},{"$f":"IFERROR(VLOOKUP(MID(F$23,5,4)&$A43,Lista_Ubigeo!$J:$K,2,0),\" \")","v":"SANTA CATALINA"},{"$f":"IFERROR(VLOOKUP(MID(G$23,5,4)&$A43,Lista_Ubigeo!$J:$K,2,0),\" \")","v":" "},{"$f":"IFERROR(VLOOKUP(MID(H$23,5,4)&$A43,Lista_Ubigeo!$J:$K,2,0),\" \")","v":" "},{"$f":"IFERROR(VLOOKUP(MID(I$23,5,4)&$A43,Lista_Ubigeo!$J:$K,2,0),\" \")","v":" "},{"$f":"IFERROR(VLOOKUP(MID(J$23,5,4)&$A43,Lista_Ubigeo!$J:$K,2,0),\" \")","v":" "},{"$f":"IFERROR(VLOOKUP(MID(K$23,5,4)&$A43,Lista_Ubigeo!$J:$K,2,0),\" \")","v":" "},{"$f":"IFERROR(VLOOKUP(MID(L$23,5,4)&$A43,Lista_Ubigeo!$J:$K,2,0),\" \")","v":" "},{"$f":"IFERROR(VLOOKUP(MID(M$23,5,4)&$A43,Lista_Ubigeo!$J:$K,2,0),\" \")","v":" "},{"$f":"IFERROR(VLOOKUP(MID(N$23,5,4)&$A43,Lista_Ubigeo!$J:$K,2,0),\" \")","v":" "},{"$f":"IFERROR(VLOOKUP(MID(O$23,5,4)&$A43,Lista_Ubigeo!$J:$K,2,0),\" \")","v":" "},{"$f":"IFERROR(VLOOKUP(MID(P$23,5,4)&$A43,Lista_Ubigeo!$J:$K,2,0),\" \")","v":" "},{"$f":"IFERROR(VLOOKUP(MID(Q$23,5,4)&$A43,Lista_Ubigeo!$J:$K,2,0),\" \")","v":" "},{"$f":"IFERROR(VLOOKUP(MID(R$23,5,4)&$A43,Lista_Ubigeo!$J:$K,2,0),\" \")","v":" "},{"$f":"IFERROR(VLOOKUP(MID(S$23,5,4)&$A43,Lista_Ubigeo!$J:$K,2,0),\" \")","v":" "},{"$f":"IFERROR(VLOOKUP(MID(T$23,5,4)&$A43,Lista_Ubigeo!$J:$K,2,0),\" \")","v":" "},{"$f":"IFERROR(VLOOKUP(MID(U$23,5,4)&$A43,Lista_Ubigeo!$J:$K,2,0),\" \")","v":" "},{"$f":"IFERROR(VLOOKUP(MID(V$23,5,4)&$A43,Lista_Ubigeo!$J:$K,2,0),\" \")","v":" "},{"$f":"IFERROR(VLOOKUP(MID(W$23,5,4)&$A43,Lista_Ubigeo!$J:$K,2,0),\" \")","v":" "},{"$f":"IFERROR(VLOOKUP(MID(X$23,5,4)&$A43,Lista_Ubigeo!$J:$K,2,0),\" \")","v":" "},{"$f":"IFERROR(VLOOKUP(MID(Y$23,5,4)&$A43,Lista_Ubigeo!$J:$K,2,0),\" \")","v":" "},{"$f":"IFERROR(VLOOKUP(MID(Z$23,5,4)&$A43,Lista_Ubigeo!$J:$K,2,0),\" \")","v":" "},{"$f":"IFERROR(VLOOKUP(MID(AA$23,5,4)&$A43,Lista_Ubigeo!$J:$K,2,0),\" \")","v":" "},{"$f":"IFERROR(VLOOKUP(MID(AB$23,5,4)&$A43,Lista_Ubigeo!$J:$K,2,0),\" \")","v":" "},{"$f":"IFERROR(VLOOKUP(MID(AC$23,5,4)&$A43,Lista_Ubigeo!$J:$K,2,0),\" \")","v":" "},{"$f":"IFERROR(VLOOKUP(MID(AD$23,5,4)&$A43,Lista_Ubigeo!$J:$K,2,0),\" \")","v":"JOSE MARIA ARGUEDAZ"},{"$f":"IFERROR(VLOOKUP(MID(AE$23,5,4)&$A43,Lista_Ubigeo!$J:$K,2,0),\" \")","v":" "},{"$f":"IFERROR(VLOOKUP(MID(AF$23,5,4)&$A43,Lista_Ubigeo!$J:$K,2,0),\" \")","v":" "},{"$f":"IFERROR(VLOOKUP(MID(AG$23,5,4)&$A43,Lista_Ubigeo!$J:$K,2,0),\" \")","v":" "},{"$f":"IFERROR(VLOOKUP(MID(AH$23,5,4)&$A43,Lista_Ubigeo!$J:$K,2,0),\" \")","v":" "},{"$f":"IFERROR(VLOOKUP(MID(AI$23,5,4)&$A43,Lista_Ubigeo!$J:$K,2,0),\" \")","v":" "},{"$f":"IFERROR(VLOOKUP(MID(AJ$23,5,4)&$A43,Lista_Ubigeo!$J:$K,2,0),\" \")","v":"SANTA ISABEL DE SIGUAS"},{"$f":"IFERROR(VLOOKUP(MID(AK$23,5,4)&$A43,Lista_Ubigeo!$J:$K,2,0),\" \")","v":" "},{"$f":"IFERROR(VLOOKUP(MID(AL$23,5,4)&$A43,Lista_Ubigeo!$J:$K,2,0),\" \")","v":" "},{"$f":"IFERROR(VLOOKUP(MID(AM$23,5,4)&$A43,Lista_Ubigeo!$J:$K,2,0),\" \")","v":" "},{"$f":"IFERROR(VLOOKUP(MID(AN$23,5,4)&$A43,Lista_Ubigeo!$J:$K,2,0),\" \")","v":"MAJES"},{"$f":"IFERROR(VLOOKUP(MID(AO$23,5,4)&$A43,Lista_Ubigeo!$J:$K,2,0),\" \")","v":" "},{"$f":"IFERROR(VLOOKUP(MID(AP$23,5,4)&$A43,Lista_Ubigeo!$J:$K,2,0),\" \")","v":" "},{"$f":"IFERROR(VLOOKUP(MID(AQ$23,4,4)&$A43,Lista_Ubigeo!$J:$K,2,0),\" \")","v":" "},{"$f":"IFERROR(VLOOKUP(MID(AR$23,5,4)&$A43,Lista_Ubigeo!$J:$K,2,0),\" \")","v":" "},{"$f":"IFERROR(VLOOKUP(MID(AS$23,5,4)&$A43,Lista_Ubigeo!$J:$K,2,0),\" \")","v":" "},{"$f":"IFERROR(VLOOKUP(MID(AT$23,5,4)&$A43,Lista_Ubigeo!$J:$K,2,0),\" \")","v":" "},{"$f":"IFERROR(VLOOKUP(MID(AU$23,5,4)&$A43,Lista_Ubigeo!$J:$K,2,0),\" \")","v":" "},{"$f":"IFERROR(VLOOKUP(MID(AV$23,5,4)&$A43,Lista_Ubigeo!$J:$K,2,0),\" \")","v":" "},{"$f":"IFERROR(VLOOKUP(MID(AW$23,5,4)&$A43,Lista_Ubigeo!$J:$K,2,0),\" \")","v":"SANTA ANA DE HUAYCAHUACHO"},{"$f":"IFERROR(VLOOKUP(MID(AX$23,5,4)&$A43,Lista_Ubigeo!$J:$K,2,0),\" \")","v":" "},{"$f":"IFERROR(VLOOKUP(MID(AY$23,5,4)&$A43,Lista_Ubigeo!$J:$K,2,0),\" \")","v":" "},{"$f":"IFERROR(VLOOKUP(MID(AZ$23,5,4)&$A43,Lista_Ubigeo!$J:$K,2,0),\" \")","v":" "},{"$f":"IFERROR(VLOOKUP(MID(BA$23,5,4)&$A43,Lista_Ubigeo!$J:$K,2,0),\" \")","v":" "},{"$f":"IFERROR(VLOOKUP(MID(BB$23,5,4)&$A43,Lista_Ubigeo!$J:$K,2,0),\" \")","v":" "},{"$f":"IFERROR(VLOOKUP(MID(BC$23,5,4)&$A43,Lista_Ubigeo!$J:$K,2,0),\" \")","v":" "},{"$f":"IFERROR(VLOOKUP(MID(BD$23,5,4)&$A43,Lista_Ubigeo!$J:$K,2,0),\" \")","v":" "},{"$f":"IFERROR(VLOOKUP(MID(BE$23,5,4)&$A43,Lista_Ubigeo!$J:$K,2,0),\" \")","v":" "},{"$f":"IFERROR(VLOOKUP(MID(BF$23,5,4)&$A43,Lista_Ubigeo!$J:$K,2,0),\" \")","v":" "},{"$f":"IFERROR(VLOOKUP(MID(BG$23,5,4)&$A43,Lista_Ubigeo!$J:$K,2,0),\" \")","v":" "},{"$f":"IFERROR(VLOOKUP(MID(BH$23,5,4)&$A43,Lista_Ubigeo!$J:$K,2,0),\" \")","v":" "},{"$f":"IFERROR(VLOOKUP(MID(BI$23,5,4)&$A43,Lista_Ubigeo!$J:$K,2,0),\" \")","v":" "},{"$f":"IFERROR(VLOOKUP(MID(BJ$23,5,4)&$A43,Lista_Ubigeo!$J:$K,2,0),\" \")","v":" "},{"$f":"IFERROR(VLOOKUP(MID(BK$23,5,4)&$A43,Lista_Ubigeo!$J:$K,2,0),\" \")","v":" "},{"$f":"IFERROR(VLOOKUP(MID(BL$23,5,4)&$A43,Lista_Ubigeo!$J:$K,2,0),\" \")","v":" "},{"$f":"IFERROR(VLOOKUP(MID(BM$23,5,4)&$A43,Lista_Ubigeo!$J:$K,2,0),\" \")","v":" "},{"$f":"IFERROR(VLOOKUP(MID(BN$23,5,4)&$A43,Lista_Ubigeo!$J:$K,2,0),\" \")","v":" "},{"$f":"IFERROR(VLOOKUP(MID(BO$23,5,4)&$A43,Lista_Ubigeo!$J:$K,2,0),\" \")","v":" "},{"$f":"IFERROR(VLOOKUP(MID(BP$23,5,4)&$A43,Lista_Ubigeo!$J:$K,2,0),\" \")","v":" "},{"$f":"IFERROR(VLOOKUP(MID(BQ$23,5,4)&$A43,Lista_Ubigeo!$J:$K,2,0),\" \")","v":" "},{"$f":"IFERROR(VLOOKUP(MID(BR$23,5,4)&$A43,Lista_Ubigeo!$J:$K,2,0),\" \")","v":" "},{"$f":"IFERROR(VLOOKUP(MID(BS$23,5,4)&$A43,Lista_Ubigeo!$J:$K,2,0),\" \")","v":" "},{"$f":"IFERROR(VLOOKUP(MID(BT$23,5,4)&$A43,Lista_Ubigeo!$J:$K,2,0),\" \")","v":" "},{"$f":"IFERROR(VLOOKUP(MID(BU$23,5,4)&$A43,Lista_Ubigeo!$J:$K,2,0),\" \")","v":" "},{"$f":"IFERROR(VLOOKUP(MID(BV$23,5,4)&$A43,Lista_Ubigeo!$J:$K,2,0),\" \")","v":" "},{"$f":"IFERROR(VLOOKUP(MID(BW$23,5,4)&$A43,Lista_Ubigeo!$J:$K,2,0),\" \")","v":" "},{"$f":"IFERROR(VLOOKUP(MID(BX$23,5,4)&$A43,Lista_Ubigeo!$J:$K,2,0),\" \")","v":" "},{"$f":"IFERROR(VLOOKUP(MID(BY$23,4,4)&$A43,Lista_Ubigeo!$J:$K,2,0),\" \")","v":" "},{"$f":"IFERROR(VLOOKUP(MID(BZ$23,5,4)&$A43,Lista_Ubigeo!$J:$K,2,0),\" \")","v":" "},{"$f":"IFERROR(VLOOKUP(MID(CA$23,5,4)&$A43,Lista_Ubigeo!$J:$K,2,0),\" \")","v":" "},{"$f":"IFERROR(VLOOKUP(MID(CB$23,5,4)&$A43,Lista_Ubigeo!$J:$K,2,0),\" \")","v":" "},{"$f":"IFERROR(VLOOKUP(MID(CC$23,5,4)&$A43,Lista_Ubigeo!$J:$K,2,0),\" \")","v":" "},{"$f":"IFERROR(VLOOKUP(MID(CD$23,5,4)&$A43,Lista_Ubigeo!$J:$K,2,0),\" \")","v":" "},{"$f":"IFERROR(VLOOKUP(MID(CE$23,5,4)&$A43,Lista_Ubigeo!$J:$K,2,0),\" \")","v":" "},{"$f":"IFERROR(VLOOKUP(MID(CF$23,5,4)&$A43,Lista_Ubigeo!$J:$K,2,0),\" \")","v":" "},{"$f":"IFERROR(VLOOKUP(MID(CG$23,5,4)&$A43,Lista_Ubigeo!$J:$K,2,0),\" \")","v":" "},{"$f":"IFERROR(VLOOKUP(MID(CH$23,5,4)&$A43,Lista_Ubigeo!$J:$K,2,0),\" \")","v":" "},{"$f":"IFERROR(VLOOKUP(MID(CI$23,5,4)&$A43,Lista_Ubigeo!$J:$K,2,0),\" \")","v":" "},{"$f":"IFERROR(VLOOKUP(MID(CJ$23,5,4)&$A43,Lista_Ubigeo!$J:$K,2,0),\" \")","v":"ANDAYMARCA"},{"$f":"IFERROR(VLOOKUP(MID(CK$23,5,4)&$A43,Lista_Ubigeo!$J:$K,2,0),\" \")","v":" "},{"$f":"IFERROR(VLOOKUP(MID(CL$23,5,4)&$A43,Lista_Ubigeo!$J:$K,2,0),\" \")","v":" "},{"$f":"IFERROR(VLOOKUP(MID(CM$23,5,4)&$A54,Lista_Ubigeo!$J:$K,2,0),\" \")","v":" "},{"$f":"IFERROR(VLOOKUP(MID(CN$23,5,4)&$A43,Lista_Ubigeo!$J:$K,2,0),\" \")","v":" "},{"$f":"IFERROR(VLOOKUP(MID(CO$23,5,4)&$A43,Lista_Ubigeo!$J:$K,2,0),\" \")","v":" "},{"$f":"IFERROR(VLOOKUP(MID(CP$23,5,4)&$A43,Lista_Ubigeo!$J:$K,2,0),\" \")","v":" "},{"$f":"IFERROR(VLOOKUP(MID(CQ$23,5,4)&$A43,Lista_Ubigeo!$J:$K,2,0),\" \")","v":" "},{"$f":"IFERROR(VLOOKUP(MID(CR$23,5,4)&$A43,Lista_Ubigeo!$J:$K,2,0),\" \")","v":" "},{"$f":"IFERROR(VLOOKUP(MID(CS$23,5,4)&$A43,Lista_Ubigeo!$J:$K,2,0),\" \")","v":" "},{"$f":"IFERROR(VLOOKUP(MID(CT$23,5,4)&$A43,Lista_Ubigeo!$J:$K,2,0),\" \")","v":" "},{"$f":"IFERROR(VLOOKUP(MID(CU$23,5,4)&$A43,Lista_Ubigeo!$J:$K,2,0),\" \")","v":" "},{"$f":"IFERROR(VLOOKUP(MID(CV$23,5,4)&$A43,Lista_Ubigeo!$J:$K,2,0),\" \")","v":" "},{"$f":"IFERROR(VLOOKUP(MID(CW$23,5,4)&$A43,Lista_Ubigeo!$J:$K,2,0),\" \")","v":" "},{"$f":"IFERROR(VLOOKUP(MID(CX$23,5,4)&$A43,Lista_Ubigeo!$J:$K,2,0),\" \")","v":" "},{"$f":"IFERROR(VLOOKUP(MID(CY$23,5,4)&$A43,Lista_Ubigeo!$J:$K,2,0),\" \")","v":" "},{"$f":"IFERROR(VLOOKUP(MID(CZ$23,5,4)&$A43,Lista_Ubigeo!$J:$K,2,0),\" \")","v":" "},{"$f":"IFERROR(VLOOKUP(MID(DA$23,5,4)&$A43,Lista_Ubigeo!$J:$K,2,0),\" \")","v":"HUASICANCHA"},{"$f":"IFERROR(VLOOKUP(MID(DB$23,5,4)&$A43,Lista_Ubigeo!$J:$K,2,0),\" \")","v":" "},{"$f":"IFERROR(VLOOKUP(MID(DC$23,5,4)&$A43,Lista_Ubigeo!$J:$K,2,0),\" \")","v":" "},{"$f":"IFERROR(VLOOKUP(MID(DD$23,5,4)&$A43,Lista_Ubigeo!$J:$K,2,0),\" \")","v":"MUQUI"},{"$f":"IFERROR(VLOOKUP(MID(DE$23,5,4)&$A43,Lista_Ubigeo!$J:$K,2,0),\" \")","v":" "},{"$f":"IFERROR(VLOOKUP(MID(DF$23,5,4)&$A43,Lista_Ubigeo!$J:$K,2,0),\" \")","v":" "},{"$f":"IFERROR(VLOOKUP(MID(DG$23,5,4)&$A43,Lista_Ubigeo!$J:$K,2,0),\" \")","v":" "},{"$f":"IFERROR(VLOOKUP(MID(DH$23,5,4)&$A43,Lista_Ubigeo!$J:$K,2,0),\" \")","v":" "},{"$f":"IFERROR(VLOOKUP(MID(DI$23,5,4)&$A43,Lista_Ubigeo!$J:$K,2,0),\" \")","v":" "},{"$f":"IFERROR(VLOOKUP(MID(DJ$23,5,4)&$A43,Lista_Ubigeo!$J:$K,2,0),\" \")","v":" "},{"$f":"IFERROR(VLOOKUP(MID(DK$23,5,4)&$A43,Lista_Ubigeo!$J:$K,2,0),\" \")","v":" "},{"$f":"IFERROR(VLOOKUP(MID(DL$23,5,4)&$A43,Lista_Ubigeo!$J:$K,2,0),\" \")","v":" "},{"$f":"IFERROR(VLOOKUP(MID(DM$23,5,4)&$A43,Lista_Ubigeo!$J:$K,2,0),\" \")","v":" "},{"$f":"IFERROR(VLOOKUP(MID(DN$23,5,4)&$A43,Lista_Ubigeo!$J:$K,2,0),\" \")","v":" "},{"$f":"IFERROR(VLOOKUP(MID(DO$23,5,4)&$A44,Lista_Ubigeo!$J:$K,2,0),\" \")","v":" "},{"$f":"IFERROR(VLOOKUP(MID(DP$23,5,4)&$A43,Lista_Ubigeo!$J:$K,2,0),\" \")","v":" "},{"$f":"IFERROR(VLOOKUP(MID(DQ$23,5,4)&$A43,Lista_Ubigeo!$J:$K,2,0),\" \")","v":" "},{"$f":"IFERROR(VLOOKUP(MID(DR$23,5,4)&$A43,Lista_Ubigeo!$J:$K,2,0),\" \")","v":" "},{"$f":"IFERROR(VLOOKUP(MID(DS$23,5,4)&$A43,Lista_Ubigeo!$J:$K,2,0),\" \")","v":" "},null,null,{"$f":"IFERROR(VLOOKUP(MID(DV$23,5,4)&$A43,Lista_Ubigeo!$J:$K,2,0),\" \")","v":"TUMAN"},{"$f":"IFERROR(VLOOKUP(MID(DW$23,5,4)&$A43,Lista_Ubigeo!$J:$K,2,0),\" \")","v":" "},{"$f":"IFERROR(VLOOKUP(MID(DX$23,5,4)&$A43,Lista_Ubigeo!$J:$K,2,0),\" \")","v":" "},{"$f":"IFERROR(VLOOKUP(MID(DY$23,5,4)&$A43,Lista_Ubigeo!$J:$K,2,0),\" \")","v":"MAGDALENA DEL MAR"},{"$f":"IFERROR(VLOOKUP(MID(DZ$23,5,4)&$A43,Lista_Ubigeo!$J:$K,2,0),\" \")","v":" "},{"$f":"IFERROR(VLOOKUP(MID(EA$23,5,4)&$A43,Lista_Ubigeo!$J:$K,2,0),\" \")","v":" "},{"$f":"IFERROR(VLOOKUP(MID(EB$23,5,4)&$A43,Lista_Ubigeo!$J:$K,2,0),\" \")","v":" "},{"$f":"IFERROR(VLOOKUP(MID(EC$23,5,4)&$A43,Lista_Ubigeo!$J:$K,2,0),\" \")","v":" "},{"$f":"IFERROR(VLOOKUP(MID(ED$23,5,4)&$A43,Lista_Ubigeo!$J:$K,2,0),\" \")","v":" "},{"$f":"IFERROR(VLOOKUP(MID(EE$23,5,4)&$A43,Lista_Ubigeo!$J:$K,2,0),\" \")","v":"SAN JUAN DE TANTARANCHE"},{"$f":"IFERROR(VLOOKUP(MID(EF$23,5,4)&$A43,Lista_Ubigeo!$J:$K,2,0),\" \")","v":" "},{"$f":"IFERROR(VLOOKUP(MID(EG$23,5,4)&$A43,Lista_Ubigeo!$J:$K,2,0),\" \")","v":" "},{"$f":"IFERROR(VLOOKUP(MID(EH$23,5,4)&$A43,Lista_Ubigeo!$J:$K,2,0),\" \")","v":"MADEAN"},{"$f":"IFERROR(VLOOKUP(MID(EI$23,5,4)&$A43,Lista_Ubigeo!$J:$K,2,0),\" \")","v":" "},{"$f":"IFERROR(VLOOKUP(MID(EJ$23,5,4)&$A48,Lista_Ubigeo!$J:$K,2,0),\" \")","v":" "},{"$f":"IFERROR(VLOOKUP(MID(EK$23,5,4)&$A43,Lista_Ubigeo!$J:$K,2,0),\" \")","v":" "},{"$f":"IFERROR(VLOOKUP(MID(EL$23,5,4)&$A43,Lista_Ubigeo!$J:$K,2,0),\" \")","v":" "},{"$f":"IFERROR(VLOOKUP(MID(EM$23,5,4)&$A43,Lista_Ubigeo!$J:$K,2,0),\" \")","v":" "},{"$f":"IFERROR(VLOOKUP(MID(EN$23,5,4)&$A43,Lista_Ubigeo!$J:$K,2,0),\" \")","v":" "},{"$f":"IFERROR(VLOOKUP(MID(EO$23,5,4)&$A43,Lista_Ubigeo!$J:$K,2,0),\" \")","v":" "},{"$f":"IFERROR(VLOOKUP(MID(EP$23,5,4)&$A43,Lista_Ubigeo!$J:$K,2,0),\" \")","v":" "},{"$f":"IFERROR(VLOOKUP(MID(EQ$23,5,4)&$A43,Lista_Ubigeo!$J:$K,2,0),\" \")","v":" "},{"$f":"IFERROR(VLOOKUP(MID(ER$23,5,4)&$A43,Lista_Ubigeo!$J:$K,2,0),\" \")","v":" "},{"$f":"IFERROR(VLOOKUP(MID(ES$23,5,4)&$A43,Lista_Ubigeo!$J:$K,2,0),\" \")","v":" "},{"$f":"IFERROR(VLOOKUP(MID(ET$23,5,4)&$A43,Lista_Ubigeo!$J:$K,2,0),\" \")","v":" "},{"$f":"IFERROR(VLOOKUP(MID(EU$23,5,4)&$A43,Lista_Ubigeo!$J:$K,2,0),\" \")","v":" "},{"$f":"IFERROR(VLOOKUP(MID(EV$23,5,4)&$A43,Lista_Ubigeo!$J:$K,2,0),\" \")","v":" "},{"$f":"IFERROR(VLOOKUP(MID(EW$23,5,4)&$A43,Lista_Ubigeo!$J:$K,2,0),\" \")","v":" "},{"$f":"IFERROR(VLOOKUP(MID(EX$23,5,4)&$A43,Lista_Ubigeo!$J:$K,2,0),\" \")","v":" "},{"$f":"IFERROR(VLOOKUP(MID(EY$23,5,4)&$A43,Lista_Ubigeo!$J:$K,2,0),\" \")","v":" "},{"$f":"IFERROR(VLOOKUP(MID(EZ$23,5,4)&$A46,Lista_Ubigeo!$J:$K,2,0),\" \")","v":" "},{"$f":"IFERROR(VLOOKUP(MID(FA$23,5,4)&$A43,Lista_Ubigeo!$J:$K,2,0),\" \")","v":" "},{"$f":"IFERROR(VLOOKUP(MID(FB$23,5,4)&$A43,Lista_Ubigeo!$J:$K,2,0),\" \")","v":" "},{"$f":"IFERROR(VLOOKUP(MID(FC$23,5,4)&$A43,Lista_Ubigeo!$J:$K,2,0),\" \")","v":" "},{"$f":"IFERROR(VLOOKUP(MID(FD$23,5,4)&$A43,Lista_Ubigeo!$J:$K,2,0),\" \")","v":" "},{"$f":"IFERROR(VLOOKUP(MID(FE$23,5,4)&$A43,Lista_Ubigeo!$J:$K,2,0),\" \")","v":" "},{"$f":"IFERROR(VLOOKUP(MID(FF$23,5,4)&$A43,Lista_Ubigeo!$J:$K,2,0),\" \")","v":" "},{"$f":"IFERROR(VLOOKUP(MID(FG$23,5,4)&$A43,Lista_Ubigeo!$J:$K,2,0),\" \")","v":" "},{"$f":"IFERROR(VLOOKUP(MID(FH$23,5,4)&$A43,Lista_Ubigeo!$J:$K,2,0),\" \")","v":" "},{"$f":"IFERROR(VLOOKUP(MID(FI$23,5,4)&$A43,Lista_Ubigeo!$J:$K,2,0),\" \")","v":" "},{"$f":"IFERROR(VLOOKUP(MID(FJ$23,5,4)&$A43,Lista_Ubigeo!$J:$K,2,0),\" \")","v":" "},{"$f":"IFERROR(VLOOKUP(MID(FK$23,5,4)&$A43,Lista_Ubigeo!$J:$K,2,0),\" \")","v":" "},{"$f":"IFERROR(VLOOKUP(MID(FL$23,5,4)&$A43,Lista_Ubigeo!$J:$K,2,0),\" \")","v":" "},{"$f":"IFERROR(VLOOKUP(MID(FM$23,5,4)&$A43,Lista_Ubigeo!$J:$K,2,0),\" \")","v":" "},{"$f":"IFERROR(VLOOKUP(MID(FN$23,5,4)&$A43,Lista_Ubigeo!$J:$K,2,0),\" \")","v":" "},{"$f":"IFERROR(VLOOKUP(MID(FO$23,5,4)&$A43,Lista_Ubigeo!$J:$K,2,0),\" \")","v":" "},{"$f":"IFERROR(VLOOKUP(MID(FP$23,5,4)&$A43,Lista_Ubigeo!$J:$K,2,0),\" \")","v":" "},{"$f":"IFERROR(VLOOKUP(MID(FQ$23,5,4)&$A43,Lista_Ubigeo!$J:$K,2,0),\" \")","v":" "},{"$f":"IFERROR(VLOOKUP(MID(FR$23,5,4)&$A43,Lista_Ubigeo!$J:$K,2,0),\" \")","v":" "},{"$f":"IFERROR(VLOOKUP(MID(FS$23,5,4)&$A43,Lista_Ubigeo!$J:$K,2,0),\" \")","v":" "},{"$f":"IFERROR(VLOOKUP(MID(FT$23,5,4)&$A43,Lista_Ubigeo!$J:$K,2,0),\" \")","v":" "},{"$f":"IFERROR(VLOOKUP(MID(FU$23,5,4)&$A43,Lista_Ubigeo!$J:$K,2,0),\" \")","v":" "},{"$f":"IFERROR(VLOOKUP(MID(FV$23,5,4)&$A43,Lista_Ubigeo!$J:$K,2,0),\" \")","v":" "},{"$f":"IFERROR(VLOOKUP(MID(FW$23,5,4)&$A43,Lista_Ubigeo!$J:$K,2,0),\" \")","v":" "},{"$f":"IFERROR(VLOOKUP(MID(FX$23,5,4)&$A43,Lista_Ubigeo!$J:$K,2,0),\" \")","v":" "},{"$f":"IFERROR(VLOOKUP(MID(FY$23,5,4)&$A43,Lista_Ubigeo!$J:$K,2,0),\" \")","v":" "},{"$f":"IFERROR(VLOOKUP(MID(FZ$23,5,4)&$A43,Lista_Ubigeo!$J:$K,2,0),\" \")","v":" "},{"$f":"IFERROR(VLOOKUP(MID(GA$23,5,4)&$A43,Lista_Ubigeo!$J:$K,2,0),\" \")","v":" "},{"$f":"IFERROR(VLOOKUP(MID(GB$23,5,4)&$A43,Lista_Ubigeo!$J:$K,2,0),\" \")","v":" "},{"$f":"IFERROR(VLOOKUP(MID(GC$23,5,4)&$A43,Lista_Ubigeo!$J:$K,2,0),\" \")","v":" "},{"$f":"IFERROR(VLOOKUP(MID(GD$23,5,4)&$A43,Lista_Ubigeo!$J:$K,2,0),\" \")","v":" "},{"$f":"IFERROR(VLOOKUP(MID(GE$23,5,4)&$A43,Lista_Ubigeo!$J:$K,2,0),\" \")","v":" "},{"$f":"IFERROR(VLOOKUP(MID(GF$23,5,4)&$A43,Lista_Ubigeo!$J:$K,2,0),\" \")","v":" "},{"$f":"IFERROR(VLOOKUP(MID(GG$23,5,4)&$A43,Lista_Ubigeo!$J:$K,2,0),\" \")","v":" "},{"$f":"IFERROR(VLOOKUP(MID(GH$23,5,4)&$A43,Lista_Ubigeo!$J:$K,2,0),\" \")","v":" "},{"$f":"IFERROR(VLOOKUP(MID(GI$23,5,4)&$A43,Lista_Ubigeo!$J:$K,2,0),\" \")","v":" "},{"$f":"IFERROR(VLOOKUP(MID(GJ$23,5,4)&$A43,Lista_Ubigeo!$J:$K,2,0),\" \")","v":" "},{"$f":"IFERROR(VLOOKUP(MID(GK$23,5,4)&$A43,Lista_Ubigeo!$J:$K,2,0),\" \")","v":" "},{"$f":"IFERROR(VLOOKUP(MID(GL$23,5,4)&$A43,Lista_Ubigeo!$J:$K,2,0),\" \")","v":" "},{"$f":"IFERROR(VLOOKUP(MID(GM$23,5,4)&$A43,Lista_Ubigeo!$J:$K,2,0),\" \")","v":" "},{"$f":"IFERROR(VLOOKUP(MID(GN$23,5,4)&$A43,Lista_Ubigeo!$J:$K,2,0),\" \")","v":" "},{"$f":"IFERROR(VLOOKUP(MID(GO$23,5,4)&$A43,Lista_Ubigeo!$J:$K,2,0),\" \")","v":" "},{"$f":"IFERROR(VLOOKUP(MID(GP$23,5,4)&$A43,Lista_Ubigeo!$J:$K,2,0),\" \")","v":" "}]
["21",{"$f":"IFERROR(VLOOKUP(MID(B$23,5,4)&$A44,Lista_Ubigeo!$J:$K,2,0),\" \")","v":"SONCHE"},{"$f":"IFERROR(VLOOKUP(MID(C$23,5,4)&$A44,Lista_Ubigeo!$J:$K,2,0),\" \")","v":" "},{"$f":"IFERROR(VLOOKUP(MID(D$23,5,4)&$A44,Lista_Ubigeo!$J:$K,2,0),\" \")","v":" "},{"$f":"IFERROR(VLOOKUP(MID(E$23,5,4)&$A44,Lista_Ubigeo!$J:$K,2,0),\" \")","v":" "},{"$f":"IFERROR(VLOOKUP(MID(F$23,5,4)&$A44,Lista_Ubigeo!$J:$K,2,0),\" \")","v":"SANTO TOMAS"},{"$f":"IFERROR(VLOOKUP(MID(G$23,5,4)&$A44,Lista_Ubigeo!$J:$K,2,0),\" \")","v":" "},{"$f":"IFERROR(VLOOKUP(MID(H$23,5,4)&$A44,Lista_Ubigeo!$J:$K,2,0),\" \")","v":" "},{"$f":"IFERROR(VLOOKUP(MID(I$23,5,4)&$A44,Lista_Ubigeo!$J:$K,2,0),\" \")","v":" "},{"$f":"IFERROR(VLOOKUP(MID(J$23,5,4)&$A44,Lista_Ubigeo!$J:$K,2,0),\" \")","v":" "},{"$f":"IFERROR(VLOOKUP(MID(K$23,5,4)&$A44,Lista_Ubigeo!$J:$K,2,0),\" \")","v":" "},{"$f":"IFERROR(VLOOKUP(MID(L$23,5,4)&$A44,Lista_Ubigeo!$J:$K,2,0),\" \")","v":" "},{"$f":"IFERROR(VLOOKUP(MID(M$23,5,4)&$A44,Lista_Ubigeo!$J:$K,2,0),\" \")","v":" "},{"$f":"IFERROR(VLOOKUP(MID(N$23,5,4)&$A44,Lista_Ubigeo!$J:$K,2,0),\" \")","v":" "},{"$f":"IFERROR(VLOOKUP(MID(O$23,5,4)&$A44,Lista_Ubigeo!$J:$K,2,0),\" \")","v":" "},{"$f":"IFERROR(VLOOKUP(MID(P$23,5,4)&$A44,Lista_Ubigeo!$J:$K,2,0),\" \")","v":" "},{"$f":"IFERROR(VLOOKUP(MID(Q$23,5,4)&$A44,Lista_Ubigeo!$J:$K,2,0),\" \")","v":" "},{"$f":"IFERROR(VLOOKUP(MID(R$23,5,4)&$A44,Lista_Ubigeo!$J:$K,2,0),\" \")","v":" "},{"$f":"IFERROR(VLOOKUP(MID(S$23,5,4)&$A44,Lista_Ubigeo!$J:$K,2,0),\" \")","v":" "},{"$f":"IFERROR(VLOOKUP(MID(T$23,5,4)&$A44,Lista_Ubigeo!$J:$K,2,0),\" \")","v":" "},{"$f":"IFERROR(VLOOKUP(MID(U$23,5,4)&$A44,Lista_Ubigeo!$J:$K,2,0),\" \")","v":" "},{"$f":"IFERROR(VLOOKUP(MID(V$23,5,4)&$A44,Lista_Ubigeo!$J:$K,2,0),\" \")","v":" "},{"$f":"IFERROR(VLOOKUP(MID(W$23,5,4)&$A44,Lista_Ubigeo!$J:$K,2,0),\" \")","v":" "},{"$f":"IFERROR(VLOOKUP(MID(X$23,5,4)&$A44,Lista_Ubigeo!$J:$K,2,0),\" \")","v":" "},{"$f":"IFERROR(VLOOKUP(MID(Y$23,5,4)&$A44,Lista_Ubigeo!$J:$K,2,0),\" \")","v":" "},{"$f":"IFERROR(VLOOKUP(MID(Z$23,5,4)&$A44,Lista_Ubigeo!$J:$K,2,0),\" \")","v":" "},{"$f":"IFERROR(VLOOKUP(MID(AA$23,5,4)&$A44,Lista_Ubigeo!$J:$K,2,0),\" \")","v":" "},{"$f":"IFERROR(VLOOKUP(MID(AB$23,5,4)&$A44,Lista_Ubigeo!$J:$K,2,0),\" \")","v":" "},{"$f":"IFERROR(VLOOKUP(MID(AC$23,5,4)&$A44,Lista_Ubigeo!$J:$K,2,0),\" \")","v":" "},{"$f":"IFERROR(VLOOKUP(MID(AD$23,5,4)&$A44,Lista_Ubigeo!$J:$K,2,0),\" \")","v":" "},{"$f":"IFERROR(VLOOKUP(MID(AE$23,5,4)&$A44,Lista_Ubigeo!$J:$K,2,0),\" \")","v":" "},{"$f":"IFERROR(VLOOKUP(MID(AF$23,5,4)&$A44,Lista_Ubigeo!$J:$K,2,0),\" \")","v":" "},{"$f":"IFERROR(VLOOKUP(MID(AG$23,5,4)&$A44,Lista_Ubigeo!$J:$K,2,0),\" \")","v":" "},{"$f":"IFERROR(VLOOKUP(MID(AH$23,5,4)&$A44,Lista_Ubigeo!$J:$K,2,0),\" \")","v":" "},{"$f":"IFERROR(VLOOKUP(MID(AI$23,5,4)&$A44,Lista_Ubigeo!$J:$K,2,0),\" \")","v":" "},{"$f":"IFERROR(VLOOKUP(MID(AJ$23,5,4)&$A44,Lista_Ubigeo!$J:$K,2,0),\" \")","v":"SANTA RITA DE SIGUAS"},{"$f":"IFERROR(VLOOKUP(MID(AK$23,5,4)&$A44,Lista_Ubigeo!$J:$K,2,0),\" \")","v":" "},{"$f":"IFERROR(VLOOKUP(MID(AL$23,5,4)&$A44,Lista_Ubigeo!$J:$K,2,0),\" \")","v":" "},{"$f":"IFERROR(VLOOKUP(MID(AM$23,5,4)&$A44,Lista_Ubigeo!$J:$K,2,0),\" \")","v":" "},{"$f":"IFERROR(VLOOKUP(MID(AN$23,5,4)&$A44,Lista_Ubigeo!$J:$K,2,0),\" \")","v":" "},{"$f":"IFERROR(VLOOKUP(MID(AO$23,5,4)&$A44,Lista_Ubigeo!$J:$K,2,0),\" \")","v":" "},{"$f":"IFERROR(VLOOKUP(MID(AP$23,5,4)&$A44,Lista_Ubigeo!$J:$K,2,0),\" \")","v":" "},{"$f":"IFERROR(VLOOKUP(MID(AQ$23,4,4)&$A44,Lista_Ubigeo!$J:$K,2,0),\" \")","v":" "},{"$f":"IFERROR(VLOOKUP(MID(AR$23,5,4)&$A44,Lista_Ubigeo!$J:$K,2,0),\" \")","v":" "},{"$f":"IFERROR(VLOOKUP(MID(AS$23,5,4)&$A44,Lista_Ubigeo!$J:$K,2,0),\" \")","v":" "},{"$f":"IFERROR(VLOOKUP(MID(AT$23,5,4)&$A44,Lista_Ubigeo!$J:$K,2,0),\" \")","v":" "},{"$f":"IFERROR(VLOOKUP(MID(AU$23,5,4)&$A44,Lista_Ubigeo!$J:$K,2,0),\" \")","v":" "},{"$f":"IFERROR(VLOOKUP(MID(AV$23,5,4)&$A44,Lista_Ubigeo!$J:$K,2,0),\" \")","v":" "},{"$f":"IFERROR(VLOOKUP(MID(AW$23,5,4)&$A44,Lista_Ubigeo!$J:$K,2,0),\" \")","v":"SANTA LUCIA"},{"$f":"IFERROR(VLOOKUP(MID(AX$23,5,4)&$A44,Lista_Ubigeo!$J:$K,2,0),\" \")","v":" "},{"$f":"IFERROR(VLOOKUP(MID(AY$23,5,4)&$A44,Lista_Ubigeo!$J:$K,2,0),\" \")","v":" "},{"$f":"IFERROR(VLOOKUP(MID(AZ$23,5,4)&$A44,Lista_Ubigeo!$J:$K,2,0),\" \")","v":" "},{"$f":"IFERROR(VLOOKUP(MID(BA$23,5,4)&$A44,Lista_Ubigeo!$J:$K,2,0),\" \")","v":" "},{"$f":"IFERROR(VLOOKUP(MID(BB$23,5,4)&$A44,Lista_Ubigeo!$J:$K,2,0),\" \")","v":" "},{"$f":"IFERROR(VLOOKUP(MID(BC$23,5,4)&$A44,Lista_Ubigeo!$J:$K,2,0),\" \")","v":" "},{"$f":"IFERROR(VLOOKUP(MID(BD$23,5,4)&$A44,Lista_Ubigeo!$J:$K,2,0),\" \")","v":" "},{"$f":"IFERROR(VLOOKUP(MID(BE$23,5,4)&$A44,Lista_Ubigeo!$J:$K,2,0),\" \")","v":" "},{"$f":"IFERROR(VLOOKUP(MID(BF$23,5,4)&$A44,Lista_Ubigeo!$J:$K,2,0),\" \")","v":" "},{"$f":"IFERROR(VLOOKUP(MID(BG$23,5,4)&$A44,Lista_Ubigeo!$J:$K,2,0),\" \")","v":" "},{"$f":"IFERROR(VLOOKUP(MID(BH$23,5,4)&$A44,Lista_Ubigeo!$J:$K,2,0),\" \")","v":" "},{"$f":"IFERROR(VLOOKUP(MID(BI$23,5,4)&$A44,Lista_Ubigeo!$J:$K,2,0),\" \")","v":" "},{"$f":"IFERROR(VLOOKUP(MID(BJ$23,5,4)&$A44,Lista_Ubigeo!$J:$K,2,0),\" \")","v":" "},{"$f":"IFERROR(VLOOKUP(MID(BK$23,5,4)&$A44,Lista_Ubigeo!$J:$K,2,0),\" \")","v":" "},{"$f":"IFERROR(VLOOKUP(MID(BL$23,5,4)&$A44,Lista_Ubigeo!$J:$K,2,0),\" \")","v":" "},{"$f":"IFERROR(VLOOKUP(MID(BM$23,5,4)&$A44,Lista_Ubigeo!$J:$K,2,0),\" \")","v":" "},{"$f":"IFERROR(VLOOKUP(MID(BN$23,5,4)&$A44,Lista_Ubigeo!$J:$K,2,0),\" \")","v":" "},{"$f":"IFERROR(VLOOKUP(MID(BO$23,5,4)&$A44,Lista_Ubigeo!$J:$K,2,0),\" \")","v":" "},{"$f":"IFERROR(VLOOKUP(MID(BP$23,5,4)&$A44,Lista_Ubigeo!$J:$K,2,0),\" \")","v":" "},{"$f":"IFERROR(VLOOKUP(MID(BQ$23,5,4)&$A44,Lista_Ubigeo!$J:$K,2,0),\" \")","v":" "},{"$f":"IFERROR(VLOOKUP(MID(BR$23,5,4)&$A44,Lista_Ubigeo!$J:$K,2,0),\" \")","v":" "},{"$f":"IFERROR(VLOOKUP(MID(BS$23,5,4)&$A44,Lista_Ubigeo!$J:$K,2,0),\" \")","v":" "},{"$f":"IFERROR(VLOOKUP(MID(BT$23,5,4)&$A44,Lista_Ubigeo!$J:$K,2,0),\" \")","v":" "},{"$f":"IFERROR(VLOOKUP(MID(BU$23,5,4)&$A44,Lista_Ubigeo!$J:$K,2,0),\" \")","v":" "},{"$f":"IFERROR(VLOOKUP(MID(BV$23,5,4)&$A44,Lista_Ubigeo!$J:$K,2,0),\" \")","v":" "},{"$f":"IFERROR(VLOOKUP(MID(BW$23,5,4)&$A44,Lista_Ubigeo!$J:$K,2,0),\" \")","v":" "},{"$f":"IFERROR(VLOOKUP(MID(BX$23,5,4)&$A44,Lista_Ubigeo!$J:$K,2,0),\" \")","v":" "},{"$f":"IFERROR(VLOOKUP(MID(BY$23,4,4)&$A44,Lista_Ubigeo!$J:$K,2,0),\" \")","v":" "},{"$f":"IFERROR(VLOOKUP(MID(BZ$23,5,4)&$A44,Lista_Ubigeo!$J:$K,2,0),\" \")","v":" "},{"$f":"IFERROR(VLOOKUP(MID(CA$23,5,4)&$A44,Lista_Ubigeo!$J:$K,2,0),\" \")","v":" "},{"$f":"IFERROR(VLOOKUP(MID(CB$23,5,4)&$A44,Lista_Ubigeo!$J:$K,2,0),\" \")","v":" "},{"$f":"IFERROR(VLOOKUP(MID(CC$23,5,4)&$A44,Lista_Ubigeo!$J:$K,2,0),\" \")","v":" "},{"$f":"IFERROR(VLOOKUP(MID(CD$23,5,4)&$A44,Lista_Ubigeo!$J:$K,2,0),\" \")","v":" "},{"$f":"IFERROR(VLOOKUP(MID(CE$23,5,4)&$A44,Lista_Ubigeo!$J:$K,2,0),\" \")","v":" "},{"$f":"IFERROR(VLOOKUP(MID(CF$23,5,4)&$A44,Lista_Ubigeo!$J:$K,2,0),\" \")","v":" "},{"$f":"IFERROR(VLOOKUP(MID(CG$23,5,4)&$A44,Lista_Ubigeo!$J:$K,2,0),\" \")","v":" "},{"$f":"IFERROR(VLOOKUP(MID(CH$23,5,4)&$A44,Lista_Ubigeo!$J:$K,2,0),\" \")","v":" "},{"$f":"IFERROR(VLOOKUP(MID(CI$23,5,4)&$A44,Lista_Ubigeo!$J:$K,2,0),\" \")","v":" "},{"$f":"IFERROR(VLOOKUP(MID(CJ$23,5,4)&$A44,Lista_Ubigeo!$J:$K,2,0),\" \")","v":"ROBLE"},{"$f":"IFERROR(VLOOKUP(MID(CK$23,5,4)&$A44,Lista_Ubigeo!$J:$K,2,0),\" \")","v":" "},{"$f":"IFERROR(VLOOKUP(MID(CL$23,5,4)&$A44,Lista_Ubigeo!$J:$K,2,0),\" \")","v":" "},{"$f":"IFERROR(VLOOKUP(MID(CM$23,5,4)&$A55,Lista_Ubigeo!$J:$K,2,0),\" \")","v":" "},{"$f":"IFERROR(VLOOKUP(MID(CN$23,5,4)&$A44,Lista_Ubigeo!$J:$K,2,0),\" \")","v":" "},{"$f":"IFERROR(VLOOKUP(MID(CO$23,5,4)&$A44,Lista_Ubigeo!$J:$K,2,0),\" \")","v":" "},{"$f":"IFERROR(VLOOKUP(MID(CP$23,5,4)&$A44,Lista_Ubigeo!$J:$K,2,0),\" \")","v":" "},{"$f":"IFERROR(VLOOKUP(MID(CQ$23,5,4)&$A44,Lista_Ubigeo!$J:$K,2,0),\" \")","v":" "},{"$f":"IFERROR(VLOOKUP(MID(CR$23,5,4)&$A44,Lista_Ubigeo!$J:$K,2,0),\" \")","v":" "},{"$f":"IFERROR(VLOOKUP(MID(CS$23,5,4)&$A44,Lista_Ubigeo!$J:$K,2,0),\" \")","v":" "},{"$f":"IFERROR(VLOOKUP(MID(CT$23,5,4)&$A44,Lista_Ubigeo!$J:$K,2,0),\" \")","v":" "},{"$f":"IFERROR(VLOOKUP(MID(CU$23,5,4)&$A44,Lista_Ubigeo!$J:$K,2,0),\" \")","v":" "},{"$f":"IFERROR(VLOOKUP(MID(CV$23,5,4)&$A44,Lista_Ubigeo!$J:$K,2,0),\" \")","v":" "},{"$f":"IFERROR(VLOOKUP(MID(CW$23,5,4)&$A44,Lista_Ubigeo!$J:$K,2,0),\" \")","v":" "},{"$f":"IFERROR(VLOOKUP(MID(CX$23,5,4)&$A44,Lista_Ubigeo!$J:$K,2,0),\" \")","v":" "},{"$f":"IFERROR(VLOOKUP(MID(CY$23,5,4)&$A44,Lista_Ubigeo!$J:$K,2,0),\" \")","v":" "},{"$f":"IFERROR(VLOOKUP(MID(CZ$23,5,4)&$A44,Lista_Ubigeo!$J:$K,2,0),\" \")","v":" "},{"$f":"IFERROR(VLOOKUP(MID(DA$23,5,4)&$A44,Lista_Ubigeo!$J:$K,2,0),\" \")","v":"HUAYUCACHI"},{"$f":"IFERROR(VLOOKUP(MID(DB$23,5,4)&$A44,Lista_Ubigeo!$J:$K,2,0),\" \")","v":" "},{"$f":"IFERROR(VLOOKUP(MID(DC$23,5,4)&$A44,Lista_Ubigeo!$J:$K,2,0),\" \")","v":" "},{"$f":"IFERROR(VLOOKUP(MID(DD$23,5,4)&$A44,Lista_Ubigeo!$J:$K,2,0),\" \")","v":"MUQUIYAUYO"},{"$f":"IFERROR(VLOOKUP(MID(DE$23,5,4)&$A44,Lista_Ubigeo!$J:$K,2,0),\" \")","v":" "},{"$f":"IFERROR(VLOOKUP(MID(DF$23,5,4)&$A44,Lista_Ubigeo!$J:$K,2,0),\" \")","v":" "},{"$f":"IFERROR(VLOOKUP(MID(DG$23,5,4)&$A44,Lista_Ubigeo!$J:$K,2,0),\" \")","v":" "},{"$f":"IFERROR(VLOOKUP(MID(DH$23,5,4)&$A44,Lista_Ubigeo!$J:$K,2,0),\" \")","v":" "},{"$f":"IFERROR(VLOOKUP(MID(DI$23,5,4)&$A44,Lista_Ubigeo!$J:$K,2,0),\" \")","v":" "},{"$f":"IFERROR(VLOOKUP(MID(DJ$23,5,4)&$A44,Lista_Ubigeo!$J:$K,2,0),\" \")","v":" "},{"$f":"IFERROR(VLOOKUP(MID(DK$23,5,4)&$A44,Lista_Ubigeo!$J:$K,2,0),\" \")","v":" "},{"$f":"IFERROR(VLOOKUP(MID(DL$23,5,4)&$A44,Lista_Ubigeo!$J:$K,2,0),\" \")","v":" "},{"$f":"IFERROR(VLOOKUP(MID(DM$23,5,4)&$A44,Lista_Ubigeo!$J:$K,2,0),\" \")","v":" "},{"$f":"IFERROR(VLOOKUP(MID(DN$23,5,4)&$A44,Lista_Ubigeo!$J:$K,2,0),\" \")","v":" "},{"$f":"IFERROR(VLOOKUP(MID(DO$23,5,4)&$A45,Lista_Ubigeo!$J:$K,2,0),\" \")","v":" "},{"$f":"IFERROR(VLOOKUP(MID(DP$23,5,4)&$A44,Lista_Ubigeo!$J:$K,2,0),\" \")","v":" "},{"$f":"IFERROR(VLOOKUP(MID(DQ$23,5,4)&$A44,Lista_Ubigeo!$J:$K,2,0),\" \")","v":" "},{"$f":"IFERROR(VLOOKUP(MID(DR$23,5,4)&$A44,Lista_Ubigeo!$J:$K,2,0),\" \")","v":" "},{"$f":"IFERROR(VLOOKUP(MID(DS$23,5,4)&$A44,Lista_Ubigeo!$J:$K,2,0),\" \")","v":" "},null,null,{"$f":"IFERROR(VLOOKUP(MID(DV$23,5,4)&$A44,Lista_Ubigeo!$J:$K,2,0),\" \")","v":" "},{"$f":"IFERROR(VLOOKUP(MID(DW$23,5,4)&$A44,Lista_Ubigeo!$J:$K,2,0),\" \")","v":" "},{"$f":"IFERROR(VLOOKUP(MID(DX$23,5,4)&$A44,Lista_Ubigeo!$J:$K,2,0),\" \")","v":" "},{"$f":"IFERROR(VLOOKUP(MID(DY$23,5,4)&$A44,Lista_Ubigeo!$J:$K,2,0),\" \")","v":"PUEBLO LIBRE"},{"$f":"IFERROR(VLOOKUP(MID(DZ$23,5,4)&$A44,Lista_Ubigeo!$J:$K,2,0),\" \")","v":" "},{"$f":"IFERROR(VLOOKUP(MID(EA$23,5,4)&$A44,Lista_Ubigeo!$J:$K,2,0),\" \")","v":" "},{"$f":"IFERROR(VLOOKUP(MID(EB$23,5,4)&$A44,Lista_Ubigeo!$J:$K,2,0),\" \")","v":" "},{"$f":"IFERROR(VLOOKUP(MID(EC$23,5,4)&$A44,Lista_Ubigeo!$J:$K,2,0),\" \")","v":" "},{"$f":"IFERROR(VLOOKUP(MID(ED$23,5,4)&$A44,Lista_Ubigeo!$J:$K,2,0),\" \")","v":" "},{"$f":"IFERROR(VLOOKUP(MID(EE$23,5,4)&$A44,Lista_Ubigeo!$J:$K,2,0),\" \")","v":"SAN LORENZO DE QUINTI"},{"$f":"IFERROR(VLOOKUP(MID(EF$23,5,4)&$A44,Lista_Ubigeo!$J:$K,2,0),\" \")","v":" "},{"$f":"IFERROR(VLOOKUP(MID(EG$23,5,4)&$A44,Lista_Ubigeo!$J:$K,2,0),\" \")","v":" "},{"$f":"IFERROR(VLOOKUP(MID(EH$23,5,4)&$A44,Lista_Ubigeo!$J:$K,2,0),\" \")","v":"MIRAFLORES"},{"$f":"IFERROR(VLOOKUP(MID(EI$23,5,4)&$A44,Lista_Ubigeo!$J:$K,2,0),\" \")","v":" "},{"$f":"IFERROR(VLOOKUP(MID(EJ$23,5,4)&$A49,Lista_Ubigeo!$J:$K,2,0),\" \")","v":" "},{"$f":"IFERROR(VLOOKUP(MID(EK$23,5,4)&$A44,Lista_Ubigeo!$J:$K,2,0),\" \")","v":" "},{"$f":"IFERROR(VLOOKUP(MID(EL$23,5,4)&$A44,Lista_Ubigeo!$J:$K,2,0),\" \")","v":" "},{"$f":"IFERROR(VLOOKUP(MID(EM$23,5,4)&$A44,Lista_Ubigeo!$J:$K,2,0),\" \")","v":" "},{"$f":"IFERROR(VLOOKUP(MID(EN$23,5,4)&$A44,Lista_Ubigeo!$J:$K,2,0),\" \")","v":" "},{"$f":"IFERROR(VLOOKUP(MID(EO$23,5,4)&$A44,Lista_Ubigeo!$J:$K,2,0),\" \")","v":" "},{"$f":"IFERROR(VLOOKUP(MID(EP$23,5,4)&$A44,Lista_Ubigeo!$J:$K,2,0),\" \")","v":" "},{"$f":"IFERROR(VLOOKUP(MID(EQ$23,5,4)&$A44,Lista_Ubigeo!$J:$K,2,0),\" \")","v":" "},{"$f":"IFERROR(VLOOKUP(MID(ER$23,5,4)&$A44,Lista_Ubigeo!$J:$K,2,0),\" \")","v":" "},{"$f":"IFERROR(VLOOKUP(MID(ES$23,5,4)&$A44,Lista_Ubigeo!$J:$K,2,0),\" \")","v":" "},{"$f":"IFERROR(VLOOKUP(MID(ET$23,5,4)&$A44,Lista_Ubigeo!$J:$K,2,0),\" \")","v":" "},{"$f":"IFERROR(VLOOKUP(MID(EU$23,5,4)&$A44,Lista_Ubigeo!$J:$K,2,0),\" \")","v":" "},{"$f":"IFERROR(VLOOKUP(MID(EV$23,5,4)&$A44,Lista_Ubigeo!$J:$K,2,0),\" \")","v":" "},{"$f":"IFERROR(VLOOKUP(MID(EW$23,5,4)&$A44,Lista_Ubigeo!$J:$K,2,0),\" \")","v":" "},{"$f":"IFERROR(VLOOKUP(MID(EX$23,5,4)&$A44,Lista_Ubigeo!$J:$K,2,0),\" \")","v":" "},{"$f":"IFERROR(VLOOKUP(MID(EY$23,5,4)&$A44,Lista_Ubigeo!$J:$K,2,0),\" \")","v":" "},{"$f":"IFERROR(VLOOKUP(MID(EZ$23,5,4)&$A47,Lista_Ubigeo!$J:$K,2,0),\" \")","v":" "},{"$f":"IFERROR(VLOOKUP(MID(FA$23,5,4)&$A44,Lista_Ubigeo!$J:$K,2,0),\" \")","v":" "},{"$f":"IFERROR(VLOOKUP(MID(FB$23,5,4)&$A44,Lista_Ubigeo!$J:$K,2,0),\" \")","v":" "},{"$f":"IFERROR(VLOOKUP(MID(FC$23,5,4)&$A44,Lista_Ubigeo!$J:$K,2,0),\" \")","v":" "},{"$f":"IFERROR(VLOOKUP(MID(FD$23,5,4)&$A44,Lista_Ubigeo!$J:$K,2,0),\" \")","v":" "},{"$f":"IFERROR(VLOOKUP(MID(FE$23,5,4)&$A44,Lista_Ubigeo!$J:$K,2,0),\" \")","v":" "},{"$f":"IFERROR(VLOOKUP(MID(FF$23,5,4)&$A44,Lista_Ubigeo!$J:$K,2,0),\" \")","v":" "},{"$f":"IFERROR(VLOOKUP(MID(FG$23,5,4)&$A44,Lista_Ubigeo!$J:$K,2,0),\" \")","v":" "},{"$f":"IFERROR(VLOOKUP(MID(FH$23,5,4)&$A44,Lista_Ubigeo!$J:$K,2,0),\" \")","v":" "},{"$f":"IFERROR(VLOOKUP(MID(FI$23,5,4)&$A44,Lista_Ubigeo!$J:$K,2,0),\" \")","v":" "},{"$f":"IFERROR(VLOOKUP(MID(FJ$23,5,4)&$A44,Lista_Ubigeo!$J:$K,2,0),\" \")","v":" "},{"$f":"IFERROR(VLOOKUP(MID(FK$23,5,4)&$A44,Lista_Ubigeo!$J:$K,2,0),\" \")","v":" "},{"$f":"IFERROR(VLOOKUP(MID(FL$23,5,4)&$A44,Lista_Ubigeo!$J:$K,2,0),\" \")","v":" "},{"$f":"IFERROR(VLOOKUP(MID(FM$23,5,4)&$A44,Lista_Ubigeo!$J:$K,2,0),\" \")","v":" "},{"$f":"IFERROR(VLOOKUP(MID(FN$23,5,4)&$A44,Lista_Ubigeo!$J:$K,2,0),\" \")","v":" "},{"$f":"IFERROR(VLOOKUP(MID(FO$23,5,4)&$A44,Lista_Ubigeo!$J:$K,2,0),\" \")","v":" "},{"$f":"IFERROR(VLOOKUP(MID(FP$23,5,4)&$A44,Lista_Ubigeo!$J:$K,2,0),\" \")","v":" "},{"$f":"IFERROR(VLOOKUP(MID(FQ$23,5,4)&$A44,Lista_Ubigeo!$J:$K,2,0),\" \")","v":" "},{"$f":"IFERROR(VLOOKUP(MID(FR$23,5,4)&$A44,Lista_Ubigeo!$J:$K,2,0),\" \")","v":" "},{"$f":"IFERROR(VLOOKUP(MID(FS$23,5,4)&$A44,Lista_Ubigeo!$J:$K,2,0),\" \")","v":" "},{"$f":"IFERROR(VLOOKUP(MID(FT$23,5,4)&$A44,Lista_Ubigeo!$J:$K,2,0),\" \")","v":" "},{"$f":"IFERROR(VLOOKUP(MID(FU$23,5,4)&$A44,Lista_Ubigeo!$J:$K,2,0),\" \")","v":" "},{"$f":"IFERROR(VLOOKUP(MID(FV$23,5,4)&$A44,Lista_Ubigeo!$J:$K,2,0),\" \")","v":" "},{"$f":"IFERROR(VLOOKUP(MID(FW$23,5,4)&$A44,Lista_Ubigeo!$J:$K,2,0),\" \")","v":" "},{"$f":"IFERROR(VLOOKUP(MID(FX$23,5,4)&$A44,Lista_Ubigeo!$J:$K,2,0),\" \")","v":" "},{"$f":"IFERROR(VLOOKUP(MID(FY$23,5,4)&$A44,Lista_Ubigeo!$J:$K,2,0),\" \")","v":" "},{"$f":"IFERROR(VLOOKUP(MID(FZ$23,5,4)&$A44,Lista_Ubigeo!$J:$K,2,0),\" \")","v":" "},{"$f":"IFERROR(VLOOKUP(MID(GA$23,5,4)&$A44,Lista_Ubigeo!$J:$K,2,0),\" \")","v":" "},{"$f":"IFERROR(VLOOKUP(MID(GB$23,5,4)&$A44,Lista_Ubigeo!$J:$K,2,0),\" \")","v":" "},{"$f":"IFERROR(VLOOKUP(MID(GC$23,5,4)&$A44,Lista_Ubigeo!$J:$K,2,0),\" \")","v":" "},{"$f":"IFERROR(VLOOKUP(MID(GD$23,5,4)&$A44,Lista_Ubigeo!$J:$K,2,0),\" \")","v":" "},{"$f":"IFERROR(VLOOKUP(MID(GE$23,5,4)&$A44,Lista_Ubigeo!$J:$K,2,0),\" \")","v":" "},{"$f":"IFERROR(VLOOKUP(MID(GF$23,5,4)&$A44,Lista_Ubigeo!$J:$K,2,0),\" \")","v":" "},{"$f":"IFERROR(VLOOKUP(MID(GG$23,5,4)&$A44,Lista_Ubigeo!$J:$K,2,0),\" \")","v":" "},{"$f":"IFERROR(VLOOKUP(MID(GH$23,5,4)&$A44,Lista_Ubigeo!$J:$K,2,0),\" \")","v":" "},{"$f":"IFERROR(VLOOKUP(MID(GI$23,5,4)&$A44,Lista_Ubigeo!$J:$K,2,0),\" \")","v":" "},{"$f":"IFERROR(VLOOKUP(MID(GJ$23,5,4)&$A44,Lista_Ubigeo!$J:$K,2,0),\" \")","v":" "},{"$f":"IFERROR(VLOOKUP(MID(GK$23,5,4)&$A44,Lista_Ubigeo!$J:$K,2,0),\" \")","v":" "},{"$f":"IFERROR(VLOOKUP(MID(GL$23,5,4)&$A44,Lista_Ubigeo!$J:$K,2,0),\" \")","v":" "},{"$f":"IFERROR(VLOOKUP(MID(GM$23,5,4)&$A44,Lista_Ubigeo!$J:$K,2,0),\" \")","v":" "},{"$f":"IFERROR(VLOOKUP(MID(GN$23,5,4)&$A44,Lista_Ubigeo!$J:$K,2,0),\" \")","v":" "},{"$f":"IFERROR(VLOOKUP(MID(GO$23,5,4)&$A44,Lista_Ubigeo!$J:$K,2,0),\" \")","v":" "},{"$f":"IFERROR(VLOOKUP(MID(GP$23,5,4)&$A44,Lista_Ubigeo!$J:$K,2,0),\" \")","v":" "}]
["22",{"$f":"IFERROR(VLOOKUP(MID(B$23,5,4)&$A45,Lista_Ubigeo!$J:$K,2,0),\" \")","v":" "},{"$f":"IFERROR(VLOOKUP(MID(C$23,5,4)&$A45,Lista_Ubigeo!$J:$K,2,0),\" \")","v":" "},{"$f":"IFERROR(VLOOKUP(MID(D$23,5,4)&$A45,Lista_Ubigeo!$J:$K,2,0),\" \")","v":" "},{"$f":"IFERROR(VLOOKUP(MID(E$23,5,4)&$A45,Lista_Ubigeo!$J:$K,2,0),\" \")","v":" "},{"$f":"IFERROR(VLOOKUP(MID(F$23,5,4)&$A45,Lista_Ubigeo!$J:$K,2,0),\" \")","v":"TINGO"},{"$f":"IFERROR(VLOOKUP(MID(G$23,5,4)&$A45,Lista_Ubigeo!$J:$K,2,0),\" \")","v":" "},{"$f":"IFERROR(VLOOKUP(MID(H$23,5,4)&$A45,Lista_Ubigeo!$J:$K,2,0),\" \")","v":" "},{"$f":"IFERROR(VLOOKUP(MID(I$23,5,4)&$A45,Lista_Ubigeo!$J:$K,2,0),\" \")","v":" "},{"$f":"IFERROR(VLOOKUP(MID(J$23,5,4)&$A45,Lista_Ubigeo!$J:$K,2,0),\" \")","v":" "},{"$f":"IFERROR(VLOOKUP(MID(K$23,5,4)&$A45,Lista_Ubigeo!$J:$K,2,0),\" \")","v":" "},{"$f":"IFERROR(VLOOKUP(MID(L$23,5,4)&$A45,Lista_Ubigeo!$J:$K,2,0),\" \")","v":" "},{"$f":"IFERROR(VLOOKUP(MID(M$23,5,4)&$A45,Lista_Ubigeo!$J:$K,2,0),\" \")","v":" "},{"$f":"IFERROR(VLOOKUP(MID(N$23,5,4)&$A45,Lista_Ubigeo!$J:$K,2,0),\" \")","v":" "},{"$f":"IFERROR(VLOOKUP(MID(O$23,5,4)&$A45,Lista_Ubigeo!$J:$K,2,0),\" \")","v":" "},{"$f":"IFERROR(VLOOKUP(MID(P$23,5,4)&$A45,Lista_Ubigeo!$J:$K,2,0),\" \")","v":" "},{"$f":"IFERROR(VLOOKUP(MID(Q$23,5,4)&$A45,Lista_Ubigeo!$J:$K,2,0),\" \")","v":" "},{"$f":"IFERROR(VLOOKUP(MID(R$23,5,4)&$A45,Lista_Ubigeo!$J:$K,2,0),\" \")","v":" "},{"$f":"IFERROR(VLOOKUP(MID(S$23,5,4)&$A45,Lista_Ubigeo!$J:$K,2,0),\" \")","v":" "},{"$f":"IFERROR(VLOOKUP(MID(T$23,5,4)&$A45,Lista_Ubigeo!$J:$K,2,0),\" \")","v":" "},{"$f":"IFERROR(VLOOKUP(MID(U$23,5,4)&$A45,Lista_Ubigeo!$J:$K,2,0),\" \")","v":" "},{"$f":"IFERROR(VLOOKUP(MID(V$23,5,4)&$A45,Lista_Ubigeo!$J:$K,2,0),\" \")","v":" "},{"$f":"IFERROR(VLOOKUP(MID(W$23,5,4)&$A45,Lista_Ubigeo!$J:$K,2,0),\" \")","v":" "},{"$f":"IFERROR(VLOOKUP(MID(X$23,5,4)&$A45,Lista_Ubigeo!$J:$K,2,0),\" \")","v":" "},{"$f":"IFERROR(VLOOKUP(MID(Y$23,5,4)&$A45,Lista_Ubigeo!$J:$K,2,0),\" \")","v":" "},{"$f":"IFERROR(VLOOKUP(MID(Z$23,5,4)&$A45,Lista_Ubigeo!$J:$K,2,0),\" \")","v":" "},{"$f":"IFERROR(VLOOKUP(MID(AA$23,5,4)&$A45,Lista_Ubigeo!$J:$K,2,0),\" \")","v":" "},{"$f":"IFERROR(VLOOKUP(MID(AB$23,5,4)&$A45,Lista_Ubigeo!$J:$K,2,0),\" \")","v":" "},{"$f":"IFERROR(VLOOKUP(MID(AC$23,5,4)&$A45,Lista_Ubigeo!$J:$K,2,0),\" \")","v":" "},{"$f":"IFERROR(VLOOKUP(MID(AD$23,5,4)&$A45,Lista_Ubigeo!$J:$K,2,0),\" \")","v":" "},{"$f":"IFERROR(VLOOKUP(MID(AE$23,5,4)&$A45,Lista_Ubigeo!$J:$K,2,0),\" \")","v":" "},{"$f":"IFERROR(VLOOKUP(MID(AF$23,5,4)&$A45,Lista_Ubigeo!$J:$K,2,0),\" \")","v":" "},{"$f":"IFERROR(VLOOKUP(MID(AG$23,5,4)&$A45,Lista_Ubigeo!$J:$K,2,0),\" \")","v":" "},{"$f":"IFERROR(VLOOKUP(MID(AH$23,5,4)&$A45,Lista_Ubigeo!$J:$K,2,0),\" \")","v":" "},{"$f":"IFERROR(VLOOKUP(MID(AI$23,5,4)&$A45,Lista_Ubigeo!$J:$K,2,0),\" \")","v":" "},{"$f":"IFERROR(VLOOKUP(MID(AJ$23,5,4)&$A45,Lista_Ubigeo!$J:$K,2,0),\" \")","v":"SOCABAYA"},{"$f":"IFERROR(VLOOKUP(MID(AK$23,5,4)&$A45,Lista_Ubigeo!$J:$K,2,0),\" \")","v":" "},{"$f":"IFERROR(VLOOKUP(MID(AL$23,5,4)&$A45,Lista_Ubigeo!$J:$K,2,0),\" \")","v":" "},{"$f":"IFERROR(VLOOKUP(MID(AM$23,5,4)&$A45,Lista_Ubigeo!$J:$K,2,0),\" \")","v":" "},{"$f":"IFERROR(VLOOKUP(MID(AN$23,5,4)&$A45,Lista_Ubigeo!$J:$K,2,0),\" \")","v":" "},{"$f":"IFERROR(VLOOKUP(MID(AO$23,5,4)&$A45,Lista_Ubigeo!$J:$K,2,0),\" \")","v":" "},{"$f":"IFERROR(VLOOKUP(MID(AP$23,5,4)&$A45,Lista_Ubigeo!$J:$K,2,0),\" \")","v":" "},{"$f":"IFERROR(VLOOKUP(MID(AQ$23,4,4)&$A45,Lista_Ubigeo!$J:$K,2,0),\" \")","v":" "},{"$f":"IFERROR(VLOOKUP(MID(AR$23,5,4)&$A45,Lista_Ubigeo!$J:$K,2,0),\" \")","v":" "},{"$f":"IFERROR(VLOOKUP(MID(AS$23,5,4)&$A45,Lista_Ubigeo!$J:$K,2,0),\" \")","v":" "},{"$f":"IFERROR(VLOOKUP(MID(AT$23,5,4)&$A45,Lista_Ubigeo!$J:$K,2,0),\" \")","v":" "},{"$f":"IFERROR(VLOOKUP(MID(AU$23,5,4)&$A45,Lista_Ubigeo!$J:$K,2,0),\" \")","v":" "},{"$f":"IFERROR(VLOOKUP(MID(AV$23,5,4)&$A45,Lista_Ubigeo!$J:$K,2,0),\" \")","v":" "},{"$f":"IFERROR(VLOOKUP(MID(AW$23,5,4)&$A45,Lista_Ubigeo!$J:$K,2,0),\" \")","v":" "},{"$f":"IFERROR(VLOOKUP(MID(AX$23,5,4)&$A45,Lista_Ubigeo!$J:$K,2,0),\" \")","v":" "},{"$f":"IFERROR(VLOOKUP(MID(AY$23,5,4)&$A45,Lista_Ubigeo!$J:$K,2,0),\" \")","v":" "},{"$f":"IFERROR(VLOOKUP(MID(AZ$23,5,4)&$A45,Lista_Ubigeo!$J:$K,2,0),\" \")","v":" "},{"$f":"IFERROR(VLOOKUP(MID(BA$23,5,4)&$A45,Lista_Ubigeo!$J:$K,2,0),\" \")","v":" "},{"$f":"IFERROR(VLOOKUP(MID(BB$23,5,4)&$A45,Lista_Ubigeo!$J:$K,2,0),\" \")","v":" "},{"$f":"IFERROR(VLOOKUP(MID(BC$23,5,4)&$A45,Lista_Ubigeo!$J:$K,2,0),\" \")","v":" "},{"$f":"IFERROR(VLOOKUP(MID(BD$23,5,4)&$A45,Lista_Ubigeo!$J:$K,2,0),\" \")","v":" "},{"$f":"IFERROR(VLOOKUP(MID(BE$23,5,4)&$A45,Lista_Ubigeo!$J:$K,2,0),\" \")","v":" "},{"$f":"IFERROR(VLOOKUP(MID(BF$23,5,4)&$A45,Lista_Ubigeo!$J:$K,2,0),\" \")","v":" "},{"$f":"IFERROR(VLOOKUP(MID(BG$23,5,4)&$A45,Lista_Ubigeo!$J:$K,2,0),\" \")","v":" "},{"$f":"IFERROR(VLOOKUP(MID(BH$23,5,4)&$A45,Lista_Ubigeo!$J:$K,2,0),\" \")","v":" "},{"$f":"IFERROR(VLOOKUP(MID(BI$23,5,4)&$A45,Lista_Ubigeo!$J:$K,2,0),\" \")","v":" "},{"$f":"IFERROR(VLOOKUP(MID(BJ$23,5,4)&$A45,Lista_Ubigeo!$J:$K,2,0),\" \")","v":" "},{"$f":"IFERROR(VLOOKUP(MID(BK$23,5,4)&$A45,Lista_Ubigeo!$J:$K,2,0),\" \")","v":" "},{"$f":"IFERROR(VLOOKUP(MID(BL$23,5,4)&$A45,Lista_Ubigeo!$J:$K,2,0),\" \")","v":" "},{"$f":"IFERROR(VLOOKUP(MID(BM$23,5,4)&$A45,Lista_Ubigeo!$J:$K,2,0),\" \")","v":" "},{"$f":"IFERROR(VLOOKUP(MID(BN$23,5,4)&$A45,Lista_Ubigeo!$J:$K,2,0),\" \")","v":" "},{"$f":"IFERROR(VLOOKUP(MID(BO$23,5,4)&$A45,Lista_Ubigeo!$J:$K,2,0),\" \")","v":" "},{"$f":"IFERROR(VLOOKUP(MID(BP$23,5,4)&$A45,Lista_Ubigeo!$J:$K,2,0),\" \")","v":" "},{"$f":"IFERROR(VLOOKUP(MID(BQ$23,5,4)&$A45,Lista_Ubigeo!$J:$K,2,0),\" \")","v":" "},{"$f":"IFERROR(VLOOKUP(MID(BR$23,5,4)&$A45,Lista_Ubigeo!$J:$K,2,0),\" \")","v":" "},{"$f":"IFERROR(VLOOKUP(MID(BS$23,5,4)&$A45,Lista_Ubigeo!$J:$K,2,0),\" \")","v":" "},{"$f":"IFERROR(VLOOKUP(MID(BT$23,5,4)&$A45,Lista_Ubigeo!$J:$K,2,0),\" \")","v":" "},{"$f":"IFERROR(VLOOKUP(MID(BU$23,5,4)&$A45,Lista_Ubigeo!$J:$K,2,0),\" \")","v":" "},{"$f":"IFERROR(VLOOKUP(MID(BV$23,5,4)&$A45,Lista_Ubigeo!$J:$K,2,0),\" \")","v":" "},{"$f":"IFERROR(VLOOKUP(MID(BW$23,5,4)&$A45,Lista_Ubigeo!$J:$K,2,0),\" \")","v":" "},{"$f":"IFERROR(VLOOKUP(MID(BX$23,5,4)&$A45,Lista_Ubigeo!$J:$K,2,0),\" \")","v":" "},{"$f":"IFERROR(VLOOKUP(MID(BY$23,4,4)&$A45,Lista_Ubigeo!$J:$K,2,0),\" \")","v":" "},{"$f":"IFERROR(VLOOKUP(MID(BZ$23,5,4)&$A45,Lista_Ubigeo!$J:$K,2,0),\" \")","v":" "},{"$f":"IFERROR(VLOOKUP(MID(CA$23,5,4)&$A45,Lista_Ubigeo!$J:$K,2,0),\" \")","v":" "},{"$f":"IFERROR(VLOOKUP(MID(CB$23,5,4)&$A45,Lista_Ubigeo!$J:$K,2,0),\" \")","v":" "},{"$f":"IFERROR(VLOOKUP(MID(CC$23,5,4)&$A45,Lista_Ubigeo!$J:$K,2,0),\" \")","v":" "},{"$f":"IFERROR(VLOOKUP(MID(CD$23,5,4)&$A45,Lista_Ubigeo!$J:$K,2,0),\" \")","v":" "},{"$f":"IFERROR(VLOOKUP(MID(CE$23,5,4)&$A45,Lista_Ubigeo!$J:$K,2,0),\" \")","v":" "},{"$f":"IFERROR(VLOOKUP(MID(CF$23,5,4)&$A45,Lista_Ubigeo!$J:$K,2,0),\" \")","v":" "},{"$f":"IFERROR(VLOOKUP(MID(CG$23,5,4)&$A45,Lista_Ubigeo!$J:$K,2,0),\" \")","v":" "},{"$f":"IFERROR(VLOOKUP(MID(CH$23,5,4)&$A45,Lista_Ubigeo!$J:$K,2,0),\" \")","v":" "},{"$f":"IFERROR(VLOOKUP(MID(CI$23,5,4)&$A45,Lista_Ubigeo!$J:$K,2,0),\" \")","v":" "},{"$f":"IFERROR(VLOOKUP(MID(CJ$23,5,4)&$A45,Lista_Ubigeo!$J:$K,2,0),\" \")","v":"PICHOS"},{"$f":"IFERROR(VLOOKUP(MID(CK$23,5,4)&$A45,Lista_Ubigeo!$J:$K,2,0),\" \")","v":" "},{"$f":"IFERROR(VLOOKUP(MID(CL$23,5,4)&$A45,Lista_Ubigeo!$J:$K,2,0),\" \")","v":" "},{"$f":"IFERROR(VLOOKUP(MID(CM$23,5,4)&$A56,Lista_Ubigeo!$J:$K,2,0),\" \")","v":" "},{"$f":"IFERROR(VLOOKUP(MID(CN$23,5,4)&$A45,Lista_Ubigeo!$J:$K,2,0),\" \")","v":" "},{"$f":"IFERROR(VLOOKUP(MID(CO$23,5,4)&$A45,Lista_Ubigeo!$J:$K,2,0),\" \")","v":" "},{"$f":"IFERROR(VLOOKUP(MID(CP$23,5,4)&$A45,Lista_Ubigeo!$J:$K,2,0),\" \")","v":" "},{"$f":"IFERROR(VLOOKUP(MID(CQ$23,5,4)&$A45,Lista_Ubigeo!$J:$K,2,0),\" \")","v":" "},{"$f":"IFERROR(VLOOKUP(MID(CR$23,5,4)&$A45,Lista_Ubigeo!$J:$K,2,0),\" \")","v":" "},{"$f":"IFERROR(VLOOKUP(MID(CS$23,5,4)&$A45,Lista_Ubigeo!$J:$K,2,0),\" \")","v":" "},{"$f":"IFERROR(VLOOKUP(MID(CT$23,5,4)&$A45,Lista_Ubigeo!$J:$K,2,0),\" \")","v":" "},{"$f":"IFERROR(VLOOKUP(MID(CU$23,5,4)&$A45,Lista_Ubigeo!$J:$K,2,0),\" \")","v":" "},{"$f":"IFERROR(VLOOKUP(MID(CV$23,5,4)&$A45,Lista_Ubigeo!$J:$K,2,0),\" \")","v":" "},{"$f":"IFERROR(VLOOKUP(MID(CW$23,5,4)&$A45,Lista_Ubigeo!$J:$K,2,0),\" \")","v":" "},{"$f":"IFERROR(VLOOKUP(MID(CX$23,5,4)&$A45,Lista_Ubigeo!$J:$K,2,0),\" \")","v":" "},{"$f":"IFERROR(VLOOKUP(MID(CY$23,5,4)&$A45,Lista_Ubigeo!$J:$K,2,0),\" \")","v":" "},{"$f":"IFERROR(VLOOKUP(MID(CZ$23,5,4)&$A45,Lista_Ubigeo!$J:$K,2,0),\" \")","v":" "},{"$f":"IFERROR(VLOOKUP(MID(DA$23,5,4)&$A45,Lista_Ubigeo!$J:$K,2,0),\" \")","v":"INGENIO"},{"$f":"IFERROR(VLOOKUP(MID(DB$23,5,4)&$A45,Lista_Ubigeo!$J:$K,2,0),\" \")","v":" "},{"$f":"IFERROR(VLOOKUP(MID(DC$23,5,4)&$A45,Lista_Ubigeo!$J:$K,2,0),\" \")","v":" "},{"$f":"IFERROR(VLOOKUP(MID(DD$23,5,4)&$A45,Lista_Ubigeo!$J:$K,2,0),\" \")","v":"PACA"},{"$f":"IFERROR(VLOOKUP(MID(DE$23,5,4)&$A45,Lista_Ubigeo!$J:$K,2,0),\" \")","v":" "},{"$f":"IFERROR(VLOOKUP(MID(DF$23,5,4)&$A45,Lista_Ubigeo!$J:$K,2,0),\" \")","v":" "},{"$f":"IFERROR(VLOOKUP(MID(DG$23,5,4)&$A45,Lista_Ubigeo!$J:$K,2,0),\" \")","v":" "},{"$f":"IFERROR(VLOOKUP(MID(DH$23,5,4)&$A45,Lista_Ubigeo!$J:$K,2,0),\" \")","v":" "},{"$f":"IFERROR(VLOOKUP(MID(DI$23,5,4)&$A45,Lista_Ubigeo!$J:$K,2,0),\" \")","v":" "},{"$f":"IFERROR(VLOOKUP(MID(DJ$23,5,4)&$A45,Lista_Ubigeo!$J:$K,2,0),\" \")","v":" "},{"$f":"IFERROR(VLOOKUP(MID(DK$23,5,4)&$A45,Lista_Ubigeo!$J:$K,2,0),\" \")","v":" "},{"$f":"IFERROR(VLOOKUP(MID(DL$23,5,4)&$A45,Lista_Ubigeo!$J:$K,2,0),\" \")","v":" "},{"$f":"IFERROR(VLOOKUP(MID(DM$23,5,4)&$A45,Lista_Ubigeo!$J:$K,2,0),\" \")","v":" "},{"$f":"IFERROR(VLOOKUP(MID(DN$23,5,4)&$A45,Lista_Ubigeo!$J:$K,2,0),\" \")","v":" "},{"$f":"IFERROR(VLOOKUP(MID(DO$23,5,4)&$A46,Lista_Ubigeo!$J:$K,2,0),\" \")","v":" "},{"$f":"IFERROR(VLOOKUP(MID(DP$23,5,4)&$A45,Lista_Ubigeo!$J:$K,2,0),\" \")","v":" "},{"$f":"IFERROR(VLOOKUP(MID(DQ$23,5,4)&$A45,Lista_Ubigeo!$J:$K,2,0),\" \")","v":" "},{"$f":"IFERROR(VLOOKUP(MID(DR$23,5,4)&$A45,Lista_Ubigeo!$J:$K,2,0),\" \")","v":" "},{"$f":"IFERROR(VLOOKUP(MID(DS$23,5,4)&$A45,Lista_Ubigeo!$J:$K,2,0),\" \")","v":" "},null,null,{"$f":"IFERROR(VLOOKUP(MID(DV$23,5,4)&$A45,Lista_Ubigeo!$J:$K,2,0),\" \")","v":" "},{"$f":"IFERROR(VLOOKUP(MID(DW$23,5,4)&$A45,Lista_Ubigeo!$J:$K,2,0),\" \")","v":" "},{"$f":"IFERROR(VLOOKUP(MID(DX$23,5,4)&$A45,Lista_Ubigeo!$J:$K,2,0),\" \")","v":" "},{"$f":"IFERROR(VLOOKUP(MID(DY$23,5,4)&$A45,Lista_Ubigeo!$J:$K,2,0),\" \")","v":"MIRAFLORES"},{"$f":"IFERROR(VLOOKUP(MID(DZ$23,5,4)&$A45,Lista_Ubigeo!$J:$K,2,0),\" \")","v":" "},{"$f":"IFERROR(VLOOKUP(MID(EA$23,5,4)&$A45,Lista_Ubigeo!$J:$K,2,0),\" \")","v":" "},{"$f":"IFERROR(VLOOKUP(MID(EB$23,5,4)&$A45,Lista_Ubigeo!$J:$K,2,0),\" \")","v":" "},{"$f":"IFERROR(VLOOKUP(MID(EC$23,5,4)&$A45,Lista_Ubigeo!$J:$K,2,0),\" \")","v":" "},{"$f":"IFERROR(VLOOKUP(MID(ED$23,5,4)&$A45,Lista_Ubigeo!$J:$K,2,0),\" \")","v":" "},{"$f":"IFERROR(VLOOKUP(MID(EE$23,5,4)&$A45,Lista_Ubigeo!$J:$K,2,0),\" \")","v":"SAN MATEO"},{"$f":"IFERROR(VLOOKUP(MID(EF$23,5,4)&$A45,Lista_Ubigeo!$J:$K,2,0),\" \")","v":" "},{"$f":"IFERROR(VLOOKUP(MID(EG$23,5,4)&$A45,Lista_Ubigeo!$J:$K,2,0),\" \")","v":" "},{"$f":"IFERROR(VLOOKUP(MID(EH$23,5,4)&$A45,Lista_Ubigeo!$J:$K,2,0),\" \")","v":"OMAS"},{"$f":"IFERROR(VLOOKUP(MID(EI$23,5,4)&$A45,Lista_Ubigeo!$J:$K,2,0),\" \")","v":" "},{"$f":"IFERROR(VLOOKUP(MID(EJ$23,5,4)&$A50,Lista_Ubigeo!$J:$K,2,0),\" \")","v":" "},{"$f":"IFERROR(VLOOKUP(MID(EK$23,5,4)&$A45,Lista_Ubigeo!$J:$K,2,0),\" \")","v":" "},{"$f":"IFERROR(VLOOKUP(MID(EL$23,5,4)&$A45,Lista_Ubigeo!$J:$K,2,0),\" \")","v":" "},{"$f":"IFERROR(VLOOKUP(MID(EM$23,5,4)&$A45,Lista_Ubigeo!$J:$K,2,0),\" \")","v":" "},{"$f":"IFERROR(VLOOKUP(MID(EN$23,5,4)&$A45,Lista_Ubigeo!$J:$K,2,0),\" \")","v":" "},{"$f":"IFERROR(VLOOKUP(MID(EO$23,5,4)&$A45,Lista_Ubigeo!$J:$K,2,0),\" \")","v":" "},{"$f":"IFERROR(VLOOKUP(MID(EP$23,5,4)&$A45,Lista_Ubigeo!$J:$K,2,0),\" \")","v":" "},{"$f":"IFERROR(VLOOKUP(MID(EQ$23,5,4)&$A45,Lista_Ubigeo!$J:$K,2,0),\" \")","v":" "},{"$f":"IFERROR(VLOOKUP(MID(ER$23,5,4)&$A45,Lista_Ubigeo!$J:$K,2,0),\" \")","v":" "},{"$f":"IFERROR(VLOOKUP(MID(ES$23,5,4)&$A45,Lista_Ubigeo!$J:$K,2,0),\" \")","v":" "},{"$f":"IFERROR(VLOOKUP(MID(ET$23,5,4)&$A45,Lista_Ubigeo!$J:$K,2,0),\" \")","v":" "},{"$f":"IFERROR(VLOOKUP(MID(EU$23,5,4)&$A45,Lista_Ubigeo!$J:$K,2,0),\" \")","v":" "},{"$f":"IFERROR(VLOOKUP(MID(EV$23,5,4)&$A45,Lista_Ubigeo!$J:$K,2,0),\" \")","v":" "},{"$f":"IFERROR(VLOOKUP(MID(EW$23,5,4)&$A45,Lista_Ubigeo!$J:$K,2,0),\" \")","v":" "},{"$f":"IFERROR(VLOOKUP(MID(EX$23,5,4)&$A45,Lista_Ubigeo!$J:$K,2,0),\" \")","v":" "},{"$f":"IFERROR(VLOOKUP(MID(EY$23,5,4)&$A45,Lista_Ubigeo!$J:$K,2,0),\" \")","v":" "},{"$f":"IFERROR(VLOOKUP(MID(EZ$23,5,4)&$A48,Lista_Ubigeo!$J:$K,2,0),\" \")","v":" "},{"$f":"IFERROR(VLOOKUP(MID(FA$23,5,4)&$A45,Lista_Ubigeo!$J:$K,2,0),\" \")","v":" "},{"$f":"IFERROR(VLOOKUP(MID(FB$23,5,4)&$A45,Lista_Ubigeo!$J:$K,2,0),\" \")","v":" "},{"$f":"IFERROR(VLOOKUP(MID(FC$23,5,4)&$A45,Lista_Ubigeo!$J:$K,2,0),\" \")","v":" "},{"$f":"IFERROR(VLOOKUP(MID(FD$23,5,4)&$A45,Lista_Ubigeo!$J:$K,2,0),\" \")","v":" "},{"$f":"IFERROR(VLOOKUP(MID(FE$23,5,4)&$A45,Lista_Ubigeo!$J:$K,2,0),\" \")","v":" "},{"$f":"IFERROR(VLOOKUP(MID(FF$23,5,4)&$A45,Lista_Ubigeo!$J:$K,2,0),\" \")","v":" "},{"$f":"IFERROR(VLOOKUP(MID(FG$23,5,4)&$A45,Lista_Ubigeo!$J:$K,2,0),\" \")","v":" "},{"$f":"IFERROR(VLOOKUP(MID(FH$23,5,4)&$A45,Lista_Ubigeo!$J:$K,2,0),\" \")","v":" "},{"$f":"IFERROR(VLOOKUP(MID(FI$23,5,4)&$A45,Lista_Ubigeo!$J:$K,2,0),\" \")","v":" "},{"$f":"IFERROR(VLOOKUP(MID(FJ$23,5,4)&$A45,Lista_Ubigeo!$J:$K,2,0),\" \")","v":" "},{"$f":"IFERROR(VLOOKUP(MID(FK$23,5,4)&$A45,Lista_Ubigeo!$J:$K,2,0),\" \")","v":" "},{"$f":"IFERROR(VLOOKUP(MID(FL$23,5,4)&$A45,Lista_Ubigeo!$J:$K,2,0),\" \")","v":" "},{"$f":"IFERROR(VLOOKUP(MID(FM$23,5,4)&$A45,Lista_Ubigeo!$J:$K,2,0),\" \")","v":" "},{"$f":"IFERROR(VLOOKUP(MID(FN$23,5,4)&$A45,Lista_Ubigeo!$J:$K,2,0),\" \")","v":" "},{"$f":"IFERROR(VLOOKUP(MID(FO$23,5,4)&$A45,Lista_Ubigeo!$J:$K,2,0),\" \")","v":" "},{"$f":"IFERROR(VLOOKUP(MID(FP$23,5,4)&$A45,Lista_Ubigeo!$J:$K,2,0),\" \")","v":" "},{"$f":"IFERROR(VLOOKUP(MID(FQ$23,5,4)&$A45,Lista_Ubigeo!$J:$K,2,0),\" \")","v":" "},{"$f":"IFERROR(VLOOKUP(MID(FR$23,5,4)&$A45,Lista_Ubigeo!$J:$K,2,0),\" \")","v":" "},{"$f":"IFERROR(VLOOKUP(MID(FS$23,5,4)&$A45,Lista_Ubigeo!$J:$K,2,0),\" \")","v":" "},{"$f":"IFERROR(VLOOKUP(MID(FT$23,5,4)&$A45,Lista_Ubigeo!$J:$K,2,0),\" \")","v":" "},{"$f":"IFERROR(VLOOKUP(MID(FU$23,5,4)&$A45,Lista_Ubigeo!$J:$K,2,0),\" \")","v":" "},{"$f":"IFERROR(VLOOKUP(MID(FV$23,5,4)&$A45,Lista_Ubigeo!$J:$K,2,0),\" \")","v":" "},{"$f":"IFERROR(VLOOKUP(MID(FW$23,5,4)&$A45,Lista_Ubigeo!$J:$K,2,0),\" \")","v":" "},{"$f":"IFERROR(VLOOKUP(MID(FX$23,5,4)&$A45,Lista_Ubigeo!$J:$K,2,0),\" \")","v":" "},{"$f":"IFERROR(VLOOKUP(MID(FY$23,5,4)&$A45,Lista_Ubigeo!$J:$K,2,0),\" \")","v":" "},{"$f":"IFERROR(VLOOKUP(MID(FZ$23,5,4)&$A45,Lista_Ubigeo!$J:$K,2,0),\" \")","v":" "},{"$f":"IFERROR(VLOOKUP(MID(GA$23,5,4)&$A45,Lista_Ubigeo!$J:$K,2,0),\" \")","v":" "},{"$f":"IFERROR(VLOOKUP(MID(GB$23,5,4)&$A45,Lista_Ubigeo!$J:$K,2,0),\" \")","v":" "},{"$f":"IFERROR(VLOOKUP(MID(GC$23,5,4)&$A45,Lista_Ubigeo!$J:$K,2,0),\" \")","v":" "},{"$f":"IFERROR(VLOOKUP(MID(GD$23,5,4)&$A45,Lista_Ubigeo!$J:$K,2,0),\" \")","v":" "},{"$f":"IFERROR(VLOOKUP(MID(GE$23,5,4)&$A45,Lista_Ubigeo!$J:$K,2,0),\" \")","v":" "},{"$f":"IFERROR(VLOOKUP(MID(GF$23,5,4)&$A45,Lista_Ubigeo!$J:$K,2,0),\" \")","v":" "},{"$f":"IFERROR(VLOOKUP(MID(GG$23,5,4)&$A45,Lista_Ubigeo!$J:$K,2,0),\" \")","v":" "},{"$f":"IFERROR(VLOOKUP(MID(GH$23,5,4)&$A45,Lista_Ubigeo!$J:$K,2,0),\" \")","v":" "},{"$f":"IFERROR(VLOOKUP(MID(GI$23,5,4)&$A45,Lista_Ubigeo!$J:$K,2,0),\" \")","v":" "},{"$f":"IFERROR(VLOOKUP(MID(GJ$23,5,4)&$A45,Lista_Ubigeo!$J:$K,2,0),\" \")","v":" "},{"$f":"IFERROR(VLOOKUP(MID(GK$23,5,4)&$A45,Lista_Ubigeo!$J:$K,2,0),\" \")","v":" "},{"$f":"IFERROR(VLOOKUP(MID(GL$23,5,4)&$A45,Lista_Ubigeo!$J:$K,2,0),\" \")","v":" "},{"$f":"IFERROR(VLOOKUP(MID(GM$23,5,4)&$A45,Lista_Ubigeo!$J:$K,2,0),\" \")","v":" "},{"$f":"IFERROR(VLOOKUP(MID(GN$23,5,4)&$A45,Lista_Ubigeo!$J:$K,2,0),\" \")","v":" "},{"$f":"IFERROR(VLOOKUP(MID(GO$23,5,4)&$A45,Lista_Ubigeo!$J:$K,2,0),\" \")","v":" "},{"$f":"IFERROR(VLOOKUP(MID(GP$23,5,4)&$A45,Lista_Ubigeo!$J:$K,2,0),\" \")","v":" "}]
["23",{"$f":"IFERROR(VLOOKUP(MID(B$23,5,4)&$A46,Lista_Ubigeo!$J:$K,2,0),\" \")","v":" "},{"$f":"IFERROR(VLOOKUP(MID(C$23,5,4)&$A46,Lista_Ubigeo!$J:$K,2,0),\" \")","v":" "},{"$f":"IFERROR(VLOOKUP(MID(D$23,5,4)&$A46,Lista_Ubigeo!$J:$K,2,0),\" \")","v":" "},{"$f":"IFERROR(VLOOKUP(MID(E$23,5,4)&$A46,Lista_Ubigeo!$J:$K,2,0),\" \")","v":" "},{"$f":"IFERROR(VLOOKUP(MID(F$23,5,4)&$A46,Lista_Ubigeo!$J:$K,2,0),\" \")","v":"TRITA"},{"$f":"IFERROR(VLOOKUP(MID(G$23,5,4)&$A46,Lista_Ubigeo!$J:$K,2,0),\" \")","v":" "},{"$f":"IFERROR(VLOOKUP(MID(H$23,5,4)&$A46,Lista_Ubigeo!$J:$K,2,0),\" \")","v":" "},{"$f":"IFERROR(VLOOKUP(MID(I$23,5,4)&$A46,Lista_Ubigeo!$J:$K,2,0),\" \")","v":" "},{"$f":"IFERROR(VLOOKUP(MID(J$23,5,4)&$A46,Lista_Ubigeo!$J:$K,2,0),\" \")","v":" "},{"$f":"IFERROR(VLOOKUP(MID(K$23,5,4)&$A46,Lista_Ubigeo!$J:$K,2,0),\" \")","v":" "},{"$f":"IFERROR(VLOOKUP(MID(L$23,5,4)&$A46,Lista_Ubigeo!$J:$K,2,0),\" \")","v":" "},{"$f":"IFERROR(VLOOKUP(MID(M$23,5,4)&$A46,Lista_Ubigeo!$J:$K,2,0),\" \")","v":" "},{"$f":"IFERROR(VLOOKUP(MID(N$23,5,4)&$A46,Lista_Ubigeo!$J:$K,2,0),\" \")","v":" "},{"$f":"IFERROR(VLOOKUP(MID(O$23,5,4)&$A46,Lista_Ubigeo!$J:$K,2,0),\" \")","v":" "},{"$f":"IFERROR(VLOOKUP(MID(P$23,5,4)&$A46,Lista_Ubigeo!$J:$K,2,0),\" \")","v":" "},{"$f":"IFERROR(VLOOKUP(MID(Q$23,5,4)&$A46,Lista_Ubigeo!$J:$K,2,0),\" \")","v":" "},{"$f":"IFERROR(VLOOKUP(MID(R$23,5,4)&$A46,Lista_Ubigeo!$J:$K,2,0),\" \")","v":" "},{"$f":"IFERROR(VLOOKUP(MID(S$23,5,4)&$A46,Lista_Ubigeo!$J:$K,2,0),\" \")","v":" "},{"$f":"IFERROR(VLOOKUP(MID(T$23,5,4)&$A46,Lista_Ubigeo!$J:$K,2,0),\" \")","v":" "},{"$f":"IFERROR(VLOOKUP(MID(U$23,5,4)&$A46,Lista_Ubigeo!$J:$K,2,0),\" \")","v":" "},{"$f":"IFERROR(VLOOKUP(MID(V$23,5,4)&$A46,Lista_Ubigeo!$J:$K,2,0),\" \")","v":" "},{"$f":"IFERROR(VLOOKUP(MID(W$23,5,4)&$A46,Lista_Ubigeo!$J:$K,2,0),\" \")","v":" "},{"$f":"IFERROR(VLOOKUP(MID(X$23,5,4)&$A46,Lista_Ubigeo!$J:$K,2,0),\" \")","v":" "},{"$f":"IFERROR(VLOOKUP(MID(Y$23,5,4)&$A46,Lista_Ubigeo!$J:$K,2,0),\" \")","v":" "},{"$f":"IFERROR(VLOOKUP(MID(Z$23,5,4)&$A46,Lista_Ubigeo!$J:$K,2,0),\" \")","v":" "},{"$f":"IFERROR(VLOOKUP(MID(AA$23,5,4)&$A46,Lista_Ubigeo!$J:$K,2,0),\" \")","v":" "},{"$f":"IFERROR(VLOOKUP(MID(AB$23,5,4)&$A46,Lista_Ubigeo!$J:$K,2,0),\" \")","v":" "},{"$f":"IFERROR(VLOOKUP(MID(AC$23,5,4)&$A46,Lista_Ubigeo!$J:$K,2,0),\" \")","v":" "},{"$f":"IFERROR(VLOOKUP(MID(AD$23,5,4)&$A46,Lista_Ubigeo!$J:$K,2,0),\" \")","v":" "},{"$f":"IFERROR(VLOOKUP(MID(AE$23,5,4)&$A46,Lista_Ubigeo!$J:$K,2,0),\" \")","v":" "},{"$f":"IFERROR(VLOOKUP(MID(AF$23,5,4)&$A46,Lista_Ubigeo!$J:$K,2,0),\" \")","v":" "},{"$f":"IFERROR(VLOOKUP(MID(AG$23,5,4)&$A46,Lista_Ubigeo!$J:$K,2,0),\" \")","v":" "},{"$f":"IFERROR(VLOOKUP(MID(AH$23,5,4)&$A46,Lista_Ubigeo!$J:$K,2,0),\" \")","v":" "},{"$f":"IFERROR(VLOOKUP(MID(AI$23,5,4)&$A46,Lista_Ubigeo!$J:$K,2,0),\" \")","v":" "},{"$f":"IFERROR(VLOOKUP(MID(AJ$23,5,4)&$A46,Lista_Ubigeo!$J:$K,2,0),\" \")","v":"TIABAYA"},{"$f":"IFERROR(VLOOKUP(MID(AK$23,5,4)&$A46,Lista_Ubigeo!$J:$K,2,0),\" \")","v":" "},{"$f":"IFERROR(VLOOKUP(MID(AL$23,5,4)&$A46,Lista_Ubigeo!$J:$K,2,0),\" \")","v":" "},{"$f":"IFERROR(VLOOKUP(MID(AM$23,5,4)&$A46,Lista_Ubigeo!$J:$K,2,0),\" \")","v":" "},{"$f":"IFERROR(VLOOKUP(MID(AN$23,5,4)&$A46,Lista_Ubigeo!$J:$K,2,0),\" \")","v":" "},{"$f":"IFERROR(VLOOKUP(MID(AO$23,5,4)&$A46,Lista_Ubigeo!$J:$K,2,0),\" \")","v":" "},{"$f":"IFERROR(VLOOKUP(MID(AP$23,5,4)&$A46,Lista_Ubigeo!$J:$K,2,0),\" \")","v":" "},{"$f":"IFERROR(VLOOKUP(MID(AQ$23,4,4)&$A46,Lista_Ubigeo!$J:$K,2,0),\" \")","v":" "},{"$f":"IFERROR(VLOOKUP(MID(AR$23,5,4)&$A46,Lista_Ubigeo!$J:$K,2,0),\" \")","v":" "},{"$f":"IFERROR(VLOOKUP(MID(AS$23,5,4)&$A46,Lista_Ubigeo!$J:$K,2,0),\" \")","v":" "},{"$f":"IFERROR(VLOOKUP(MID(AT$23,5,4)&$A46,Lista_Ubigeo!$J:$K,2,0),\" \")","v":" "},{"$f":"IFERROR(VLOOKUP(MID(AU$23,5,4)&$A46,Lista_Ubigeo!$J:$K,2,0),\" \")","v":" "},{"$f":"IFERROR(VLOOKUP(MID(AV$23,5,4)&$A46,Lista_Ubigeo!$J:$K,2,0),\" \")","v":" "},{"$f":"IFERROR(VLOOKUP(MID(AW$23,5,4)&$A46,Lista_Ubigeo!$J:$K,2,0),\" \")","v":" "},{"$f":"IFERROR(VLOOKUP(MID(AX$23,5,4)&$A46,Lista_Ubigeo!$J:$K,2,0),\" \")","v":" "},{"$f":"IFERROR(VLOOKUP(MID(AY$23,5,4)&$A46,Lista_Ubigeo!$J:$K,2,0),\" \")","v":" "},{"$f":"IFERROR(VLOOKUP(MID(AZ$23,5,4)&$A46,Lista_Ubigeo!$J:$K,2,0),\" \")","v":" "},{"$f":"IFERROR(VLOOKUP(MID(BA$23,5,4)&$A46,Lista_Ubigeo!$J:$K,2,0),\" \")","v":" "},{"$f":"IFERROR(VLOOKUP(MID(BB$23,5,4)&$A46,Lista_Ubigeo!$J:$K,2,0),\" \")","v":" "},{"$f":"IFERROR(VLOOKUP(MID(BC$23,5,4)&$A46,Lista_Ubigeo!$J:$K,2,0),\" \")","v":" "},{"$f":"IFERROR(VLOOKUP(MID(BD$23,5,4)&$A46,Lista_Ubigeo!$J:$K,2,0),\" \")","v":" "},{"$f":"IFERROR(VLOOKUP(MID(BE$23,5,4)&$A46,Lista_Ubigeo!$J:$K,2,0),\" \")","v":" "},{"$f":"IFERROR(VLOOKUP(MID(BF$23,5,4)&$A46,Lista_Ubigeo!$J:$K,2,0),\" \")","v":" "},{"$f":"IFERROR(VLOOKUP(MID(BG$23,5,4)&$A46,Lista_Ubigeo!$J:$K,2,0),\" \")","v":" "},{"$f":"IFERROR(VLOOKUP(MID(BH$23,5,4)&$A46,Lista_Ubigeo!$J:$K,2,0),\" \")","v":" "},{"$f":"IFERROR(VLOOKUP(MID(BI$23,5,4)&$A46,Lista_Ubigeo!$J:$K,2,0),\" \")","v":" "},{"$f":"IFERROR(VLOOKUP(MID(BJ$23,5,4)&$A46,Lista_Ubigeo!$J:$K,2,0),\" \")","v":" "},{"$f":"IFERROR(VLOOKUP(MID(BK$23,5,4)&$A46,Lista_Ubigeo!$J:$K,2,0),\" \")","v":" "},{"$f":"IFERROR(VLOOKUP(MID(BL$23,5,4)&$A46,Lista_Ubigeo!$J:$K,2,0),\" \")","v":" "},{"$f":"IFERROR(VLOOKUP(MID(BM$23,5,4)&$A46,Lista_Ubigeo!$J:$K,2,0),\" \")","v":" "},{"$f":"IFERROR(VLOOKUP(MID(BN$23,5,4)&$A46,Lista_Ubigeo!$J:$K,2,0),\" \")","v":" "},{"$f":"IFERROR(VLOOKUP(MID(BO$23,5,4)&$A46,Lista_Ubigeo!$J:$K,2,0),\" \")","v":" "},{"$f":"IFERROR(VLOOKUP(MID(BP$23,5,4)&$A46,Lista_Ubigeo!$J:$K,2,0),\" \")","v":" "},{"$f":"IFERROR(VLOOKUP(MID(BQ$23,5,4)&$A46,Lista_Ubigeo!$J:$K,2,0),\" \")","v":" "},{"$f":"IFERROR(VLOOKUP(MID(BR$23,5,4)&$A46,Lista_Ubigeo!$J:$K,2,0),\" \")","v":" "},{"$f":"IFERROR(VLOOKUP(MID(BS$23,5,4)&$A46,Lista_Ubigeo!$J:$K,2,0),\" \")","v":" "},{"$f":"IFERROR(VLOOKUP(MID(BT$23,5,4)&$A46,Lista_Ubigeo!$J:$K,2,0),\" \")","v":" "},{"$f":"IFERROR(VLOOKUP(MID(BU$23,5,4)&$A46,Lista_Ubigeo!$J:$K,2,0),\" \")","v":" "},{"$f":"IFERROR(VLOOKUP(MID(BV$23,5,4)&$A46,Lista_Ubigeo!$J:$K,2,0),\" \")","v":" "},{"$f":"IFERROR(VLOOKUP(MID(BW$23,5,4)&$A46,Lista_Ubigeo!$J:$K,2,0),\" \")","v":" "},{"$f":"IFERROR(VLOOKUP(MID(BX$23,5,4)&$A46,Lista_Ubigeo!$J:$K,2,0),\" \")","v":" "},{"$f":"IFERROR(VLOOKUP(MID(BY$23,4,4)&$A46,Lista_Ubigeo!$J:$K,2,0),\" \")","v":" "},{"$f":"IFERROR(VLOOKUP(MID(BZ$23,5,4)&$A46,Lista_Ubigeo!$J:$K,2,0),\" \")","v":" "},{"$f":"IFERROR(VLOOKUP(MID(CA$23,5,4)&$A46,Lista_Ubigeo!$J:$K,2,0),\" \")","v":" "},{"$f":"IFERROR(VLOOKUP(MID(CB$23,5,4)&$A46,Lista_Ubigeo!$J:$K,2,0),\" \")","v":" "},{"$f":"IFERROR(VLOOKUP(MID(CC$23,5,4)&$A46,Lista_Ubigeo!$J:$K,2,0),\" \")","v":" "},{"$f":"IFERROR(VLOOKUP(MID(CD$23,5,4)&$A46,Lista_Ubigeo!$J:$K,2,0),\" \")","v":" "},{"$f":"IFERROR(VLOOKUP(MID(CE$23,5,4)&$A46,Lista_Ubigeo!$J:$K,2,0),\" \")","v":" "},{"$f":"IFERROR(VLOOKUP(MID(CF$23,5,4)&$A46,Lista_Ubigeo!$J:$K,2,0),\" \")","v":" "},{"$f":"IFERROR(VLOOKUP(MID(CG$23,5,4)&$A46,Lista_Ubigeo!$J:$K,2,0),\" \")","v":" "},{"$f":"IFERROR(VLOOKUP(MID(CH$23,5,4)&$A46,Lista_Ubigeo!$J:$K,2,0),\" \")","v":" "},{"$f":"IFERROR(VLOOKUP(MID(CI$23,5,4)&$A46,Lista_Ubigeo!$J:$K,2,0),\" \")","v":" "},{"$f":"IFERROR(VLOOKUP(MID(CJ$23,5,4)&$A46,Lista_Ubigeo!$J:$K,2,0),\" \")","v":"SANTIAGO DE TUCUMA"},{"$f":"IFERROR(VLOOKUP(MID(CK$23,5,4)&$A46,Lista_Ubigeo!$J:$K,2,0),\" \")","v":" "},{"$f":"IFERROR(VLOOKUP(MID(CL$23,5,4)&$A46,Lista_Ubigeo!$J:$K,2,0),\" \")","v":" "},{"$f":"IFERROR(VLOOKUP(MID(CM$23,5,4)&$A57,Lista_Ubigeo!$J:$K,2,0),\" \")","v":" "},{"$f":"IFERROR(VLOOKUP(MID(CN$23,5,4)&$A46,Lista_Ubigeo!$J:$K,2,0),\" \")","v":" "},{"$f":"IFERROR(VLOOKUP(MID(CO$23,5,4)&$A46,Lista_Ubigeo!$J:$K,2,0),\" \")","v":" "},{"$f":"IFERROR(VLOOKUP(MID(CP$23,5,4)&$A46,Lista_Ubigeo!$J:$K,2,0),\" \")","v":" "},{"$f":"IFERROR(VLOOKUP(MID(CQ$23,5,4)&$A46,Lista_Ubigeo!$J:$K,2,0),\" \")","v":" "},{"$f":"IFERROR(VLOOKUP(MID(CR$23,5,4)&$A46,Lista_Ubigeo!$J:$K,2,0),\" \")","v":" "},{"$f":"IFERROR(VLOOKUP(MID(CS$23,5,4)&$A46,Lista_Ubigeo!$J:$K,2,0),\" \")","v":" "},{"$f":"IFERROR(VLOOKUP(MID(CT$23,5,4)&$A46,Lista_Ubigeo!$J:$K,2,0),\" \")","v":" "},{"$f":"IFERROR(VLOOKUP(MID(CU$23,5,4)&$A46,Lista_Ubigeo!$J:$K,2,0),\" \")","v":" "},{"$f":"IFERROR(VLOOKUP(MID(CV$23,5,4)&$A46,Lista_Ubigeo!$J:$K,2,0),\" \")","v":" "},{"$f":"IFERROR(VLOOKUP(MID(CW$23,5,4)&$A46,Lista_Ubigeo!$J:$K,2,0),\" \")","v":" "},{"$f":"IFERROR(VLOOKUP(MID(CX$23,5,4)&$A46,Lista_Ubigeo!$J:$K,2,0),\" \")","v":" "},{"$f":"IFERROR(VLOOKUP(MID(CY$23,5,4)&$A46,Lista_Ubigeo!$J:$K,2,0),\" \")","v":" "},{"$f":"IFERROR(VLOOKUP(MID(CZ$23,5,4)&$A46,Lista_Ubigeo!$J:$K,2,0),\" \")","v":" "},{"$f":"IFERROR(VLOOKUP(MID(DA$23,5,4)&$A46,Lista_Ubigeo!$J:$K,2,0),\" \")","v":" "},{"$f":"IFERROR(VLOOKUP(MID(DB$23,5,4)&$A46,Lista_Ubigeo!$J:$K,2,0),\" \")","v":" "},{"$f":"IFERROR(VLOOKUP(MID(DC$23,5,4)&$A46,Lista_Ubigeo!$J:$K,2,0),\" \")","v":" "},{"$f":"IFERROR(VLOOKUP(MID(DD$23,5,4)&$A46,Lista_Ubigeo!$J:$K,2,0),\" \")","v":"PACCHA"},{"$f":"IFERROR(VLOOKUP(MID(DE$23,5,4)&$A46,Lista_Ubigeo!$J:$K,2,0),\" \")","v":" "},{"$f":"IFERROR(VLOOKUP(MID(DF$23,5,4)&$A46,Lista_Ubigeo!$J:$K,2,0),\" \")","v":" "},{"$f":"IFERROR(VLOOKUP(MID(DG$23,5,4)&$A46,Lista_Ubigeo!$J:$K,2,0),\" \")","v":" "},{"$f":"IFERROR(VLOOKUP(MID(DH$23,5,4)&$A46,Lista_Ubigeo!$J:$K,2,0),\" \")","v":" "},{"$f":"IFERROR(VLOOKUP(MID(DI$23,5,4)&$A46,Lista_Ubigeo!$J:$K,2,0),\" \")","v":" "},{"$f":"IFERROR(VLOOKUP(MID(DJ$23,5,4)&$A46,Lista_Ubigeo!$J:$K,2,0),\" \")","v":" "},{"$f":"IFERROR(VLOOKUP(MID(DK$23,5,4)&$A46,Lista_Ubigeo!$J:$K,2,0),\" \")","v":" "},{"$f":"IFERROR(VLOOKUP(MID(DL$23,5,4)&$A46,Lista_Ubigeo!$J:$K,2,0),\" \")","v":" "},{"$f":"IFERROR(VLOOKUP(MID(DM$23,5,4)&$A46,Lista_Ubigeo!$J:$K,2,0),\" \")","v":" "},{"$f":"IFERROR(VLOOKUP(MID(DN$23,5,4)&$A46,Lista_Ubigeo!$J:$K,2,0),\" \")","v":" "},{"$f":"IFERROR(VLOOKUP(MID(DO$23,5,4)&$A47,Lista_Ubigeo!$J:$K,2,0),\" \")","v":" "},{"$f":"IFERROR(VLOOKUP(MID(DP$23,5,4)&$A46,Lista_Ubigeo!$J:$K,2,0),\" \")","v":" "},{"$f":"IFERROR(VLOOKUP(MID(DQ$23,5,4)&$A46,Lista_Ubigeo!$J:$K,2,0),\" \")","v":" "},{"$f":"IFERROR(VLOOKUP(MID(DR$23,5,4)&$A46,Lista_Ubigeo!$J:$K,2,0),\" \")","v":" "},{"$f":"IFERROR(VLOOKUP(MID(DS$23,5,4)&$A46,Lista_Ubigeo!$J:$K,2,0),\" \")","v":" "},null,null,{"$f":"IFERROR(VLOOKUP(MID(DV$23,5,4)&$A46,Lista_Ubigeo!$J:$K,2,0),\" \")","v":" "},{"$f":"IFERROR(VLOOKUP(MID(DW$23,5,4)&$A46,Lista_Ubigeo!$J:$K,2,0),\" \")","v":" "},{"$f":"IFERROR(VLOOKUP(MID(DX$23,5,4)&$A46,Lista_Ubigeo!$J:$K,2,0),\" \")","v":" "},{"$f":"IFERROR(VLOOKUP(MID(DY$23,5,4)&$A46,Lista_Ubigeo!$J:$K,2,0),\" \")","v":"PACHACAMAC"},{"$f":"IFERROR(VLOOKUP(MID(DZ$23,5,4)&$A46,Lista_Ubigeo!$J:$K,2,0),\" \")","v":" "},{"$f":"IFERROR(VLOOKUP(MID(EA$23,5,4)&$A46,Lista_Ubigeo!$J:$K,2,0),\" \")","v":" "},{"$f":"IFERROR(VLOOKUP(MID(EB$23,5,4)&$A46,Lista_Ubigeo!$J:$K,2,0),\" \")","v":" "},{"$f":"IFERROR(VLOOKUP(MID(EC$23,5,4)&$A46,Lista_Ubigeo!$J:$K,2,0),\" \")","v":" "},{"$f":"IFERROR(VLOOKUP(MID(ED$23,5,4)&$A46,Lista_Ubigeo!$J:$K,2,0),\" \")","v":" "},{"$f":"IFERROR(VLOOKUP(MID(EE$23,5,4)&$A46,Lista_Ubigeo!$J:$K,2,0),\" \")","v":"SAN MATEO DE OTAO"},{"$f":"IFERROR(VLOOKUP(MID(EF$23,5,4)&$A46,Lista_Ubigeo!$J:$K,2,0),\" \")","v":" "},{"$f":"IFERROR(VLOOKUP(MID(EG$23,5,4)&$A46,Lista_Ubigeo!$J:$K,2,0),\" \")","v":" "},{"$f":"IFERROR(VLOOKUP(MID(EH$23,5,4)&$A46,Lista_Ubigeo!$J:$K,2,0),\" \")","v":"PUTINZA"},{"$f":"IFERROR(VLOOKUP(MID(EI$23,5,4)&$A46,Lista_Ubigeo!$J:$K,2,0),\" \")","v":" "},{"$f":"IFERROR(VLOOKUP(MID(EJ$23,5,4)&$A51,Lista_Ubigeo!$J:$K,2,0),\" \")","v":" "},{"$f":"IFERROR(VLOOKUP(MID(EK$23,5,4)&$A46,Lista_Ubigeo!$J:$K,2,0),\" \")","v":" "},{"$f":"IFERROR(VLOOKUP(MID(EL$23,5,4)&$A46,Lista_Ubigeo!$J:$K,2,0),\" \")","v":" "},{"$f":"IFERROR(VLOOKUP(MID(EM$23,5,4)&$A46,Lista_Ubigeo!$J:$K,2,0),\" \")","v":" "},{"$f":"IFERROR(VLOOKUP(MID(EN$23,5,4)&$A46,Lista_Ubigeo!$J:$K,2,0),\" \")","v":" "},{"$f":"IFERROR(VLOOKUP(MID(EO$23,5,4)&$A46,Lista_Ubigeo!$J:$K,2,0),\" \")","v":" "},{"$f":"IFERROR(VLOOKUP(MID(EP$23,5,4)&$A46,Lista_Ubigeo!$J:$K,2,0),\" \")","v":" "},{"$f":"IFERROR(VLOOKUP(MID(EQ$23,5,4)&$A46,Lista_Ubigeo!$J:$K,2,0),\" \")","v":" "},{"$f":"IFERROR(VLOOKUP(MID(ER$23,5,4)&$A46,Lista_Ubigeo!$J:$K,2,0),\" \")","v":" "},{"$f":"IFERROR(VLOOKUP(MID(ES$23,5,4)&$A46,Lista_Ubigeo!$J:$K,2,0),\" \")","v":" "},{"$f":"IFERROR(VLOOKUP(MID(ET$23,5,4)&$A46,Lista_Ubigeo!$J:$K,2,0),\" \")","v":" "},{"$f":"IFERROR(VLOOKUP(MID(EU$23,5,4)&$A46,Lista_Ubigeo!$J:$K,2,0),\" \")","v":" "},{"$f":"IFERROR(VLOOKUP(MID(EV$23,5,4)&$A46,Lista_Ubigeo!$J:$K,2,0),\" \")","v":" "},{"$f":"IFERROR(VLOOKUP(MID(EW$23,5,4)&$A46,Lista_Ubigeo!$J:$K,2,0),\" \")","v":" "},{"$f":"IFERROR(VLOOKUP(MID(EX$23,5,4)&$A46,Lista_Ubigeo!$J:$K,2,0),\" \")","v":" "},{"$f":"IFERROR(VLOOKUP(MID(EY$23,5,4)&$A46,Lista_Ubigeo!$J:$K,2,0),\" \")","v":" "},{"$f":"IFERROR(VLOOKUP(MID(EZ$23,5,4)&$A49,Lista_Ubigeo!$J:$K,2,0),\" \")","v":" "},{"$f":"IFERROR(VLOOKUP(MID(FA$23,5,4)&$A46,Lista_Ubigeo!$J:$K,2,0),\" \")","v":" "},{"$f":"IFERROR(VLOOKUP(MID(FB$23,5,4)&$A46,Lista_Ubigeo!$J:$K,2,0),\" \")","v":" "},{"$f":"IFERROR(VLOOKUP(MID(FC$23,5,4)&$A46,Lista_Ubigeo!$J:$K,2,0),\" \")","v":" "},{"$f":"IFERROR(VLOOKUP(MID(FD$23,5,4)&$A46,Lista_Ubigeo!$J:$K,2,0),\" \")","v":" "},{"$f":"IFERROR(VLOOKUP(MID(FE$23,5,4)&$A46,Lista_Ubigeo!$J:$K,2,0),\" \")","v":" "},{"$f":"IFERROR(VLOOKUP(MID(FF$23,5,4)&$A46,Lista_Ubigeo!$J:$K,2,0),\" \")","v":" "},{"$f":"IFERROR(VLOOKUP(MID(FG$23,5,4)&$A46,Lista_Ubigeo!$J:$K,2,0),\" \")","v":" "},{"$f":"IFERROR(VLOOKUP(MID(FH$23,5,4)&$A46,Lista_Ubigeo!$J:$K,2,0),\" \")","v":" "},{"$f":"IFERROR(VLOOKUP(MID(FI$23,5,4)&$A46,Lista_Ubigeo!$J:$K,2,0),\" \")","v":" "},{"$f":"IFERROR(VLOOKUP(MID(FJ$23,5,4)&$A46,Lista_Ubigeo!$J:$K,2,0),\" \")","v":" "},{"$f":"IFERROR(VLOOKUP(MID(FK$23,5,4)&$A46,Lista_Ubigeo!$J:$K,2,0),\" \")","v":" "},{"$f":"IFERROR(VLOOKUP(MID(FL$23,5,4)&$A46,Lista_Ubigeo!$J:$K,2,0),\" \")","v":" "},{"$f":"IFERROR(VLOOKUP(MID(FM$23,5,4)&$A46,Lista_Ubigeo!$J:$K,2,0),\" \")","v":" "},{"$f":"IFERROR(VLOOKUP(MID(FN$23,5,4)&$A46,Lista_Ubigeo!$J:$K,2,0),\" \")","v":" "},{"$f":"IFERROR(VLOOKUP(MID(FO$23,5,4)&$A46,Lista_Ubigeo!$J:$K,2,0),\" \")","v":" "},{"$f":"IFERROR(VLOOKUP(MID(FP$23,5,4)&$A46,Lista_Ubigeo!$J:$K,2,0),\" \")","v":" "},{"$f":"IFERROR(VLOOKUP(MID(FQ$23,5,4)&$A46,Lista_Ubigeo!$J:$K,2,0),\" \")","v":" "},{"$f":"IFERROR(VLOOKUP(MID(FR$23,5,4)&$A46,Lista_Ubigeo!$J:$K,2,0),\" \")","v":" "},{"$f":"IFERROR(VLOOKUP(MID(FS$23,5,4)&$A46,Lista_Ubigeo!$J:$K,2,0),\" \")","v":" "},{"$f":"IFERROR(VLOOKUP(MID(FT$23,5,4)&$A46,Lista_Ubigeo!$J:$K,2,0),\" \")","v":" "},{"$f":"IFERROR(VLOOKUP(MID(FU$23,5,4)&$A46,Lista_Ubigeo!$J:$K,2,0),\" \")","v":" "},{"$f":"IFERROR(VLOOKUP(MID(FV$23,5,4)&$A46,Lista_Ubigeo!$J:$K,2,0),\" \")","v":" "},{"$f":"IFERROR(VLOOKUP(MID(FW$23,5,4)&$A46,Lista_Ubigeo!$J:$K,2,0),\" \")","v":" "},{"$f":"IFERROR(VLOOKUP(MID(FX$23,5,4)&$A46,Lista_Ubigeo!$J:$K,2,0),\" \")","v":" "},{"$f":"IFERROR(VLOOKUP(MID(FY$23,5,4)&$A46,Lista_Ubigeo!$J:$K,2,0),\" \")","v":" "},{"$f":"IFERROR(VLOOKUP(MID(FZ$23,5,4)&$A46,Lista_Ubigeo!$J:$K,2,0),\" \")","v":" "},{"$f":"IFERROR(VLOOKUP(MID(GA$23,5,4)&$A46,Lista_Ubigeo!$J:$K,2,0),\" \")","v":" "},{"$f":"IFERROR(VLOOKUP(MID(GB$23,5,4)&$A46,Lista_Ubigeo!$J:$K,2,0),\" \")","v":" "},{"$f":"IFERROR(VLOOKUP(MID(GC$23,5,4)&$A46,Lista_Ubigeo!$J:$K,2,0),\" \")","v":" "},{"$f":"IFERROR(VLOOKUP(MID(GD$23,5,4)&$A46,Lista_Ubigeo!$J:$K,2,0),\" \")","v":" "},{"$f":"IFERROR(VLOOKUP(MID(GE$23,5,4)&$A46,Lista_Ubigeo!$J:$K,2,0),\" \")","v":" "},{"$f":"IFERROR(VLOOKUP(MID(GF$23,5,4)&$A46,Lista_Ubigeo!$J:$K,2,0),\" \")","v":" "},{"$f":"IFERROR(VLOOKUP(MID(GG$23,5,4)&$A46,Lista_Ubigeo!$J:$K,2,0),\" \")","v":" "},{"$f":"IFERROR(VLOOKUP(MID(GH$23,5,4)&$A46,Lista_Ubigeo!$J:$K,2,0),\" \")","v":" "},{"$f":"IFERROR(VLOOKUP(MID(GI$23,5,4)&$A46,Lista_Ubigeo!$J:$K,2,0),\" \")","v":" "},{"$f":"IFERROR(VLOOKUP(MID(GJ$23,5,4)&$A46,Lista_Ubigeo!$J:$K,2,0),\" \")","v":" "},{"$f":"IFERROR(VLOOKUP(MID(GK$23,5,4)&$A46,Lista_Ubigeo!$J:$K,2,0),\" \")","v":" "},{"$f":"IFERROR(VLOOKUP(MID(GL$23,5,4)&$A46,Lista_Ubigeo!$J:$K,2,0),\" \")","v":" "},{"$f":"IFERROR(VLOOKUP(MID(GM$23,5,4)&$A46,Lista_Ubigeo!$J:$K,2,0),\" \")","v":" "},{"$f":"IFERROR(VLOOKUP(MID(GN$23,5,4)&$A46,Lista_Ubigeo!$J:$K,2,0),\" \")","v":" "},{"$f":"IFERROR(VLOOKUP(MID(GO$23,5,4)&$A46,Lista_Ubigeo!$J:$K,2,0),\" \")","v":" "},{"$f":"IFERROR(VLOOKUP(MID(GP$23,5,4)&$A46,Lista_Ubigeo!$J:$K,2,0),\" \")","v":" "}]
["24",{"$f":"IFERROR(VLOOKUP(MID(B$23,5,4)&$A47,Lista_Ubigeo!$J:$K,2,0),\" \")","v":" "},{"$f":"IFERROR(VLOOKUP(MID(C$23,5,4)&$A47,Lista_Ubigeo!$J:$K,2,0),\" \")","v":" "},{"$f":"IFERROR(VLOOKUP(MID(D$23,5,4)&$A47,Lista_Ubigeo!$J:$K,2,0),\" \")","v":" "},{"$f":"IFERROR(VLOOKUP(MID(E$23,5,4)&$A47,Lista_Ubigeo!$J:$K,2,0),\" \")","v":" "},{"$f":"IFERROR(VLOOKUP(MID(F$23,5,4)&$A47,Lista_Ubigeo!$J:$K,2,0),\" \")","v":" "},{"$f":"IFERROR(VLOOKUP(MID(G$23,5,4)&$A47,Lista_Ubigeo!$J:$K,2,0),\" \")","v":" "},{"$f":"IFERROR(VLOOKUP(MID(H$23,5,4)&$A47,Lista_Ubigeo!$J:$K,2,0),\" \")","v":" "},{"$f":"IFERROR(VLOOKUP(MID(I$23,5,4)&$A47,Lista_Ubigeo!$J:$K,2,0),\" \")","v":" "},{"$f":"IFERROR(VLOOKUP(MID(J$23,5,4)&$A47,Lista_Ubigeo!$J:$K,2,0),\" \")","v":" "},{"$f":"IFERROR(VLOOKUP(MID(K$23,5,4)&$A47,Lista_Ubigeo!$J:$K,2,0),\" \")","v":" "},{"$f":"IFERROR(VLOOKUP(MID(L$23,5,4)&$A47,Lista_Ubigeo!$J:$K,2,0),\" \")","v":" "},{"$f":"IFERROR(VLOOKUP(MID(M$23,5,4)&$A47,Lista_Ubigeo!$J:$K,2,0),\" \")","v":" "},{"$f":"IFERROR(VLOOKUP(MID(N$23,5,4)&$A47,Lista_Ubigeo!$J:$K,2,0),\" \")","v":" "},{"$f":"IFERROR(VLOOKUP(MID(O$23,5,4)&$A47,Lista_Ubigeo!$J:$K,2,0),\" \")","v":" "},{"$f":"IFERROR(VLOOKUP(MID(P$23,5,4)&$A47,Lista_Ubigeo!$J:$K,2,0),\" \")","v":" "},{"$f":"IFERROR(VLOOKUP(MID(Q$23,5,4)&$A47,Lista_Ubigeo!$J:$K,2,0),\" \")","v":" "},{"$f":"IFERROR(VLOOKUP(MID(R$23,5,4)&$A47,Lista_Ubigeo!$J:$K,2,0),\" \")","v":" "},{"$f":"IFERROR(VLOOKUP(MID(S$23,5,4)&$A47,Lista_Ubigeo!$J:$K,2,0),\" \")","v":" "},{"$f":"IFERROR(VLOOKUP(MID(T$23,5,4)&$A47,Lista_Ubigeo!$J:$K,2,0),\" \")","v":" "},{"$f":"IFERROR(VLOOKUP(MID(U$23,5,4)&$A47,Lista_Ubigeo!$J:$K,2,0),\" \")","v":" "},{"$f":"IFERROR(VLOOKUP(MID(V$23,5,4)&$A47,Lista_Ubigeo!$J:$K,2,0),\" \")","v":" "},{"$f":"IFERROR(VLOOKUP(MID(W$23,5,4)&$A47,Lista_Ubigeo!$J:$K,2,0),\" \")","v":" "},{"$f":"IFERROR(VLOOKUP(MID(X$23,5,4)&$A47,Lista_Ubigeo!$J:$K,2,0),\" \")","v":" "},{"$f":"IFERROR(VLOOKUP(MID(Y$23,5,4)&$A47,Lista_Ubigeo!$J:$K,2,0),\" \")","v":" "},{"$f":"IFERROR(VLOOKUP(MID(Z$23,5,4)&$A47,Lista_Ubigeo!$J:$K,2,0),\" \")","v":" "},{"$f":"IFERROR(VLOOKUP(MID(AA$23,5,4)&$A47,Lista_Ubigeo!$J:$K,2,0),\" \")","v":" "},{"$f":"IFERROR(VLOOKUP(MID(AB$23,5,4)&$A47,Lista_Ubigeo!$J:$K,2,0),\" \")","v":" "},{"$f":"IFERROR(VLOOKUP(MID(AC$23,5,4)&$A47,Lista_Ubigeo!$J:$K,2,0),\" \")","v":" "},{"$f":"IFERROR(VLOOKUP(MID(AD$23,5,4)&$A47,Lista_Ubigeo!$J:$K,2,0),\" \")","v":" "},{"$f":"IFERROR(VLOOKUP(MID(AE$23,5,4)&$A47,Lista_Ubigeo!$J:$K,2,0),\" \")","v":" "},{"$f":"IFERROR(VLOOKUP(MID(AF$23,5,4)&$A47,Lista_Ubigeo!$J:$K,2,0),\" \")","v":" "},{"$f":"IFERROR(VLOOKUP(MID(AG$23,5,4)&$A47,Lista_Ubigeo!$J:$K,2,0),\" \")","v":" "},{"$f":"IFERROR(VLOOKUP(MID(AH$23,5,4)&$A47,Lista_Ubigeo!$J:$K,2,0),\" \")","v":" "},{"$f":"IFERROR(VLOOKUP(MID(AI$23,5,4)&$A47,Lista_Ubigeo!$J:$K,2,0),\" \")","v":" "},{"$f":"IFERROR(VLOOKUP(MID(AJ$23,5,4)&$A47,Lista_Ubigeo!$J:$K,2,0),\" \")","v":"UCHUMAYO"},{"$f":"IFERROR(VLOOKUP(MID(AK$23,5,4)&$A47,Lista_Ubigeo!$J:$K,2,0),\" \")","v":" "},{"$f":"IFERROR(VLOOKUP(MID(AL$23,5,4)&$A47,Lista_Ubigeo!$J:$K,2,0),\" \")","v":" "},{"$f":"IFERROR(VLOOKUP(MID(AM$23,5,4)&$A47,Lista_Ubigeo!$J:$K,2,0),\" \")","v":" "},{"$f":"IFERROR(VLOOKUP(MID(AN$23,5,4)&$A47,Lista_Ubigeo!$J:$K,2,0),\" \")","v":" "},{"$f":"IFERROR(VLOOKUP(MID(AO$23,5,4)&$A47,Lista_Ubigeo!$J:$K,2,0),\" \")","v":" "},{"$f":"IFERROR(VLOOKUP(MID(AP$23,5,4)&$A47,Lista_Ubigeo!$J:$K,2,0),\" \")","v":" "},{"$f":"IFERROR(VLOOKUP(MID(AQ$23,4,4)&$A47,Lista_Ubigeo!$J:$K,2,0),\" \")","v":" "},{"$f":"IFERROR(VLOOKUP(MID(AR$23,5,4)&$A47,Lista_Ubigeo!$J:$K,2,0),\" \")","v":" "},{"$f":"IFERROR(VLOOKUP(MID(AS$23,5,4)&$A47,Lista_Ubigeo!$J:$K,2,0),\" \")","v":" "},{"$f":"IFERROR(VLOOKUP(MID(AT$23,5,4)&$A47,Lista_Ubigeo!$J:$K,2,0),\" \")","v":" "},{"$f":"IFERROR(VLOOKUP(MID(AU$23,5,4)&$A47,Lista_Ubigeo!$J:$K,2,0),\" \")","v":" "},{"$f":"IFERROR(VLOOKUP(MID(AV$23,5,4)&$A47,Lista_Ubigeo!$J:$K,2,0),\" \")","v":" "},{"$f":"IFERROR(VLOOKUP(MID(AW$23,5,4)&$A47,Lista_Ubigeo!$J:$K,2,0),\" \")","v":" "},{"$f":"IFERROR(VLOOKUP(MID(AX$23,5,4)&$A47,Lista_Ubigeo!$J:$K,2,0),\" \")","v":" "},{"$f":"IFERROR(VLOOKUP(MID(AY$23,5,4)&$A47,Lista_Ubigeo!$J:$K,2,0),\" \")","v":" "},{"$f":"IFERROR(VLOOKUP(MID(AZ$23,5,4)&$A47,Lista_Ubigeo!$J:$K,2,0),\" \")","v":" "},{"$f":"IFERROR(VLOOKUP(MID(BA$23,5,4)&$A47,Lista_Ubigeo!$J:$K,2,0),\" \")","v":" "},{"$f":"IFERROR(VLOOKUP(MID(BB$23,5,4)&$A47,Lista_Ubigeo!$J:$K,2,0),\" \")","v":" "},{"$f":"IFERROR(VLOOKUP(MID(BC$23,5,4)&$A47,Lista_Ubigeo!$J:$K,2,0),\" \")","v":" "},{"$f":"IFERROR(VLOOKUP(MID(BD$23,5,4)&$A47,Lista_Ubigeo!$J:$K,2,0),\" \")","v":" "},{"$f":"IFERROR(VLOOKUP(MID(BE$23,5,4)&$A47,Lista_Ubigeo!$J:$K,2,0),\" \")","v":" "},{"$f":"IFERROR(VLOOKUP(MID(BF$23,5,4)&$A47,Lista_Ubigeo!$J:$K,2,0),\" \")","v":" "},{"$f":"IFERROR(VLOOKUP(MID(BG$23,5,4)&$A47,Lista_Ubigeo!$J:$K,2,0),\" \")","v":" "},{"$f":"IFERROR(VLOOKUP(MID(BH$23,5,4)&$A47,Lista_Ubigeo!$J:$K,2,0),\" \")","v":" "},{"$f":"IFERROR(VLOOKUP(MID(BI$23,5,4)&$A47,Lista_Ubigeo!$J:$K,2,0),\" \")","v":" "},{"$f":"IFERROR(VLOOKUP(MID(BJ$23,5,4)&$A47,Lista_Ubigeo!$J:$K,2,0),\" \")","v":" "},{"$f":"IFERROR(VLOOKUP(MID(BK$23,5,4)&$A47,Lista_Ubigeo!$J:$K,2,0),\" \")","v":" "},{"$f":"IFERROR(VLOOKUP(MID(BL$23,5,4)&$A47,Lista_Ubigeo!$J:$K,2,0),\" \")","v":" "},{"$f":"IFERROR(VLOOKUP(MID(BM$23,5,4)&$A47,Lista_Ubigeo!$J:$K,2,0),\" \")","v":" "},{"$f":"IFERROR(VLOOKUP(MID(BN$23,5,4)&$A47,Lista_Ubigeo!$J:$K,2,0),\" \")","v":" "},{"$f":"IFERROR(VLOOKUP(MID(BO$23,5,4)&$A47,Lista_Ubigeo!$J:$K,2,0),\" \")","v":" "},{"$f":"IFERROR(VLOOKUP(MID(BP$23,5,4)&$A47,Lista_Ubigeo!$J:$K,2,0),\" \")","v":" "},{"$f":"IFERROR(VLOOKUP(MID(BQ$23,5,4)&$A47,Lista_Ubigeo!$J:$K,2,0),\" \")","v":" "},{"$f":"IFERROR(VLOOKUP(MID(BR$23,5,4)&$A47,Lista_Ubigeo!$J:$K,2,0),\" \")","v":" "},{"$f":"IFERROR(VLOOKUP(MID(BS$23,5,4)&$A47,Lista_Ubigeo!$J:$K,2,0),\" \")","v":" "},{"$f":"IFERROR(VLOOKUP(MID(BT$23,5,4)&$A47,Lista_Ubigeo!$J:$K,2,0),\" \")","v":" "},{"$f":"IFERROR(VLOOKUP(MID(BU$23,5,4)&$A47,Lista_Ubigeo!$J:$K,2,0),\" \")","v":" "},{"$f":"IFERROR(VLOOKUP(MID(BV$23,5,4)&$A47,Lista_Ubigeo!$J:$K,2,0),\" \")","v":" "},{"$f":"IFERROR(VLOOKUP(MID(BW$23,5,4)&$A47,Lista_Ubigeo!$J:$K,2,0),\" \")","v":" "},{"$f":"IFERROR(VLOOKUP(MID(BX$23,5,4)&$A47,Lista_Ubigeo!$J:$K,2,0),\" \")","v":" "},{"$f":"IFERROR(VLOOKUP(MID(BY$23,4,4)&$A47,Lista_Ubigeo!$J:$K,2,0),\" \")","v":" "},{"$f":"IFERROR(VLOOKUP(MID(BZ$23,5,4)&$A47,Lista_Ubigeo!$J:$K,2,0),\" \")","v":" "},{"$f":"IFERROR(VLOOKUP(MID(CA$23,5,4)&$A47,Lista_Ubigeo!$J:$K,2,0),\" \")","v":" "},{"$f":"IFERROR(VLOOKUP(MID(CB$23,5,4)&$A47,Lista_Ubigeo!$J:$K,2,0),\" \")","v":" "},{"$f":"IFERROR(VLOOKUP(MID(CC$23,5,4)&$A47,Lista_Ubigeo!$J:$K,2,0),\" \")","v":" "},{"$f":"IFERROR(VLOOKUP(MID(CD$23,5,4)&$A47,Lista_Ubigeo!$J:$K,2,0),\" \")","v":" "},{"$f":"IFERROR(VLOOKUP(MID(CE$23,5,4)&$A47,Lista_Ubigeo!$J:$K,2,0),\" \")","v":" "},{"$f":"IFERROR(VLOOKUP(MID(CF$23,5,4)&$A47,Lista_Ubigeo!$J:$K,2,0),\" \")","v":" "},{"$f":"IFERROR(VLOOKUP(MID(CG$23,5,4)&$A47,Lista_Ubigeo!$J:$K,2,0),\" \")","v":" "},{"$f":"IFERROR(VLOOKUP(MID(CH$23,5,4)&$A47,Lista_Ubigeo!$J:$K,2,0),\" \")","v":" "},{"$f":"IFERROR(VLOOKUP(MID(CI$23,5,4)&$A47,Lista_Ubigeo!$J:$K,2,0),\" \")","v":" "},{"$f":"IFERROR(VLOOKUP(MID(CJ$23,5,4)&$A47,Lista_Ubigeo!$J:$K,2,0),\" \")","v":" "},{"$f":"IFERROR(VLOOKUP(MID(CK$23,5,4)&$A47,Lista_Ubigeo!$J:$K,2,0),\" \")","v":" "},{"$f":"IFERROR(VLOOKUP(MID(CL$23,5,4)&$A47,Lista_Ubigeo!$J:$K,2,0),\" \")","v":" "},{"$f":"IFERROR(VLOOKUP(MID(CM$23,5,4)&$A58,Lista_Ubigeo!$J:$K,2,0),\" \")","v":" "},{"$f":"IFERROR(VLOOKUP(MID(CN$23,5,4)&$A47,Lista_Ubigeo!$J:$K,2,0),\" \")","v":" "},{"$f":"IFERROR(VLOOKUP(MID(CO$23,5,4)&$A47,Lista_Ubigeo!$J:$K,2,0),\" \")","v":" "},{"$f":"IFERROR(VLOOKUP(MID(CP$23,5,4)&$A47,Lista_Ubigeo!$J:$K,2,0),\" \")","v":" "},{"$f":"IFERROR(VLOOKUP(MID(CQ$23,5,4)&$A47,Lista_Ubigeo!$J:$K,2,0),\" \")","v":" "},{"$f":"IFERROR(VLOOKUP(MID(CR$23,5,4)&$A47,Lista_Ubigeo!$J:$K,2,0),\" \")","v":" "},{"$f":"IFERROR(VLOOKUP(MID(CS$23,5,4)&$A47,Lista_Ubigeo!$J:$K,2,0),\" \")","v":" "},{"$f":"IFERROR(VLOOKUP(MID(CT$23,5,4)&$A47,Lista_Ubigeo!$J:$K,2,0),\" \")","v":" "},{"$f":"IFERROR(VLOOKUP(MID(CU$23,5,4)&$A47,Lista_Ubigeo!$J:$K,2,0),\" \")","v":" "},{"$f":"IFERROR(VLOOKUP(MID(CV$23,5,4)&$A47,Lista_Ubigeo!$J:$K,2,0),\" \")","v":" "},{"$f":"IFERROR(VLOOKUP(MID(CW$23,5,4)&$A47,Lista_Ubigeo!$J:$K,2,0),\" \")","v":" "},{"$f":"IFERROR(VLOOKUP(MID(CX$23,5,4)&$A47,Lista_Ubigeo!$J:$K,2,0),\" \")","v":" "},{"$f":"IFERROR(VLOOKUP(MID(CY$23,5,4)&$A47,Lista_Ubigeo!$J:$K,2,0),\" \")","v":" "},{"$f":"IFERROR(VLOOKUP(MID(CZ$23,5,4)&$A47,Lista_Ubigeo!$J:$K,2,0),\" \")","v":" "},{"$f":"IFERROR(VLOOKUP(MID(DA$23,5,4)&$A47,Lista_Ubigeo!$J:$K,2,0),\" \")","v":"PARIAHUANCA"},{"$f":"IFERROR(VLOOKUP(MID(DB$23,5,4)&$A47,Lista_Ubigeo!$J:$K,2,0),\" \")","v":" "},{"$f":"IFERROR(VLOOKUP(MID(DC$23,5,4)&$A47,Lista_Ubigeo!$J:$K,2,0),\" \")","v":" "},{"$f":"IFERROR(VLOOKUP(MID(DD$23,5,4)&$A47,Lista_Ubigeo!$J:$K,2,0),\" \")","v":"PANCAN"},{"$f":"IFERROR(VLOOKUP(MID(DE$23,5,4)&$A47,Lista_Ubigeo!$J:$K,2,0),\" \")","v":" "},{"$f":"IFERROR(VLOOKUP(MID(DF$23,5,4)&$A47,Lista_Ubigeo!$J:$K,2,0),\" \")","v":" "},{"$f":"IFERROR(VLOOKUP(MID(DG$23,5,4)&$A47,Lista_Ubigeo!$J:$K,2,0),\" \")","v":" "},{"$f":"IFERROR(VLOOKUP(MID(DH$23,5,4)&$A47,Lista_Ubigeo!$J:$K,2,0),\" \")","v":" "},{"$f":"IFERROR(VLOOKUP(MID(DI$23,5,4)&$A47,Lista_Ubigeo!$J:$K,2,0),\" \")","v":" "},{"$f":"IFERROR(VLOOKUP(MID(DJ$23,5,4)&$A47,Lista_Ubigeo!$J:$K,2,0),\" \")","v":" "},{"$f":"IFERROR(VLOOKUP(MID(DK$23,5,4)&$A47,Lista_Ubigeo!$J:$K,2,0),\" \")","v":" "},{"$f":"IFERROR(VLOOKUP(MID(DL$23,5,4)&$A47,Lista_Ubigeo!$J:$K,2,0),\" \")","v":" "},{"$f":"IFERROR(VLOOKUP(MID(DM$23,5,4)&$A47,Lista_Ubigeo!$J:$K,2,0),\" \")","v":" "},{"$f":"IFERROR(VLOOKUP(MID(DN$23,5,4)&$A47,Lista_Ubigeo!$J:$K,2,0),\" \")","v":" "},{"$f":"IFERROR(VLOOKUP(MID(DO$23,5,4)&$A48,Lista_Ubigeo!$J:$K,2,0),\" \")","v":" "},{"$f":"IFERROR(VLOOKUP(MID(DP$23,5,4)&$A47,Lista_Ubigeo!$J:$K,2,0),\" \")","v":" "},{"$f":"IFERROR(VLOOKUP(MID(DQ$23,5,4)&$A47,Lista_Ubigeo!$J:$K,2,0),\" \")","v":" "},{"$f":"IFERROR(VLOOKUP(MID(DR$23,5,4)&$A47,Lista_Ubigeo!$J:$K,2,0),\" \")","v":" "},{"$f":"IFERROR(VLOOKUP(MID(DS$23,5,4)&$A47,Lista_Ubigeo!$J:$K,2,0),\" \")","v":" "},null,null,{"$f":"IFERROR(VLOOKUP(MID(DV$23,5,4)&$A47,Lista_Ubigeo!$J:$K,2,0),\" \")","v":" "},{"$f":"IFERROR(VLOOKUP(MID(DW$23,5,4)&$A47,Lista_Ubigeo!$J:$K,2,0),\" \")","v":" "},{"$f":"IFERROR(VLOOKUP(MID(DX$23,5,4)&$A47,Lista_Ubigeo!$J:$K,2,0),\" \")","v":" "},{"$f":"IFERROR(VLOOKUP(MID(DY$23,5,4)&$A47,Lista_Ubigeo!$J:$K,2,0),\" \")","v":"PUCUSANA"},{"$f":"IFERROR(VLOOKUP(MID(DZ$23,5,4)&$A47,Lista_Ubigeo!$J:$K,2,0),\" \")","v":" "},{"$f":"IFERROR(VLOOKUP(MID(EA$23,5,4)&$A47,Lista_Ubigeo!$J:$K,2,0),\" \")","v":" "},{"$f":"IFERROR(VLOOKUP(MID(EB$23,5,4)&$A47,Lista_Ubigeo!$J:$K,2,0),\" \")","v":" "},{"$f":"IFERROR(VLOOKUP(MID(EC$23,5,4)&$A47,Lista_Ubigeo!$J:$K,2,0),\" \")","v":" "},{"$f":"IFERROR(VLOOKUP(MID(ED$23,5,4)&$A47,Lista_Ubigeo!$J:$K,2,0),\" \")","v":" "},{"$f":"IFERROR(VLOOKUP(MID(EE$23,5,4)&$A47,Lista_Ubigeo!$J:$K,2,0),\" \")","v":"SAN PEDRO DE CASTA"},{"$f":"IFERROR(VLOOKUP(MID(EF$23,5,4)&$A47,Lista_Ubigeo!$J:$K,2,0),\" \")","v":" "},{"$f":"IFERROR(VLOOKUP(MID(EG$23,5,4)&$A47,Lista_Ubigeo!$J:$K,2,0),\" \")","v":" "},{"$f":"IFERROR(VLOOKUP(MID(EH$23,5,4)&$A47,Lista_Ubigeo!$J:$K,2,0),\" \")","v":"QUINCHES"},{"$f":"IFERROR(VLOOKUP(MID(EI$23,5,4)&$A47,Lista_Ubigeo!$J:$K,2,0),\" \")","v":" "},{"$f":"IFERROR(VLOOKUP(MID(EJ$23,5,4)&$A52,Lista_Ubigeo!$J:$K,2,0),\" \")","v":" "},{"$f":"IFERROR(VLOOKUP(MID(EK$23,5,4)&$A47,Lista_Ubigeo!$J:$K,2,0),\" \")","v":" "},{"$f":"IFERROR(VLOOKUP(MID(EL$23,5,4)&$A47,Lista_Ubigeo!$J:$K,2,0),\" \")","v":" "},{"$f":"IFERROR(VLOOKUP(MID(EM$23,5,4)&$A47,Lista_Ubigeo!$J:$K,2,0),\" \")","v":" "},{"$f":"IFERROR(VLOOKUP(MID(EN$23,5,4)&$A47,Lista_Ubigeo!$J:$K,2,0),\" \")","v":" "},{"$f":"IFERROR(VLOOKUP(MID(EO$23,5,4)&$A47,Lista_Ubigeo!$J:$K,2,0),\" \")","v":" "},{"$f":"IFERROR(VLOOKUP(MID(EP$23,5,4)&$A47,Lista_Ubigeo!$J:$K,2,0),\" \")","v":" "},{"$f":"IFERROR(VLOOKUP(MID(EQ$23,5,4)&$A47,Lista_Ubigeo!$J:$K,2,0),\" \")","v":" "},{"$f":"IFERROR(VLOOKUP(MID(ER$23,5,4)&$A47,Lista_Ubigeo!$J:$K,2,0),\" \")","v":" "},{"$f":"IFERROR(VLOOKUP(MID(ES$23,5,4)&$A47,Lista_Ubigeo!$J:$K,2,0),\" \")","v":" "},{"$f":"IFERROR(VLOOKUP(MID(ET$23,5,4)&$A47,Lista_Ubigeo!$J:$K,2,0),\" \")","v":" "},{"$f":"IFERROR(VLOOKUP(MID(EU$23,5,4)&$A47,Lista_Ubigeo!$J:$K,2,0),\" \")","v":" "},{"$f":"IFERROR(VLOOKUP(MID(EV$23,5,4)&$A47,Lista_Ubigeo!$J:$K,2,0),\" \")","v":" "},{"$f":"IFERROR(VLOOKUP(MID(EW$23,5,4)&$A47,Lista_Ubigeo!$J:$K,2,0),\" \")","v":" "},{"$f":"IFERROR(VLOOKUP(MID(EX$23,5,4)&$A47,Lista_Ubigeo!$J:$K,2,0),\" \")","v":" "},{"$f":"IFERROR(VLOOKUP(MID(EY$23,5,4)&$A47,Lista_Ubigeo!$J:$K,2,0),\" \")","v":" "},{"$f":"IFERROR(VLOOKUP(MID(EZ$23,5,4)&$A50,Lista_Ubigeo!$J:$K,2,0),\" \")","v":" "},{"$f":"IFERROR(VLOOKUP(MID(FA$23,5,4)&$A47,Lista_Ubigeo!$J:$K,2,0),\" \")","v":" "},{"$f":"IFERROR(VLOOKUP(MID(FB$23,5,4)&$A47,Lista_Ubigeo!$J:$K,2,0),\" \")","v":" "},{"$f":"IFERROR(VLOOKUP(MID(FC$23,5,4)&$A47,Lista_Ubigeo!$J:$K,2,0),\" \")","v":" "},{"$f":"IFERROR(VLOOKUP(MID(FD$23,5,4)&$A47,Lista_Ubigeo!$J:$K,2,0),\" \")","v":" "},{"$f":"IFERROR(VLOOKUP(MID(FE$23,5,4)&$A47,Lista_Ubigeo!$J:$K,2,0),\" \")","v":" "},{"$f":"IFERROR(VLOOKUP(MID(FF$23,5,4)&$A47,Lista_Ubigeo!$J:$K,2,0),\" \")","v":" "},{"$f":"IFERROR(VLOOKUP(MID(FG$23,5,4)&$A47,Lista_Ubigeo!$J:$K,2,0),\" \")","v":" "},{"$f":"IFERROR(VLOOKUP(MID(FH$23,5,4)&$A47,Lista_Ubigeo!$J:$K,2,0),\" \")","v":" "},{"$f":"IFERROR(VLOOKUP(MID(FI$23,5,4)&$A47,Lista_Ubigeo!$J:$K,2,0),\" \")","v":" "},{"$f":"IFERROR(VLOOKUP(MID(FJ$23,5,4)&$A47,Lista_Ubigeo!$J:$K,2,0),\" \")","v":" "},{"$f":"IFERROR(VLOOKUP(MID(FK$23,5,4)&$A47,Lista_Ubigeo!$J:$K,2,0),\" \")","v":" "},{"$f":"IFERROR(VLOOKUP(MID(FL$23,5,4)&$A47,Lista_Ubigeo!$J:$K,2,0),\" \")","v":" "},{"$f":"IFERROR(VLOOKUP(MID(FM$23,5,4)&$A47,Lista_Ubigeo!$J:$K,2,0),\" \")","v":" "},{"$f":"IFERROR(VLOOKUP(MID(FN$23,5,4)&$A47,Lista_Ubigeo!$J:$K,2,0),\" \")","v":" "},{"$f":"IFERROR(VLOOKUP(MID(FO$23,5,4)&$A47,Lista_Ubigeo!$J:$K,2,0),\" \")","v":" "},{"$f":"IFERROR(VLOOKUP(MID(FP$23,5,4)&$A47,Lista_Ubigeo!$J:$K,2,0),\" \")","v":" "},{"$f":"IFERROR(VLOOKUP(MID(FQ$23,5,4)&$A47,Lista_Ubigeo!$J:$K,2,0),\" \")","v":" "},{"$f":"IFERROR(VLOOKUP(MID(FR$23,5,4)&$A47,Lista_Ubigeo!$J:$K,2,0),\" \")","v":" "},{"$f":"IFERROR(VLOOKUP(MID(FS$23,5,4)&$A47,Lista_Ubigeo!$J:$K,2,0),\" \")","v":" "},{"$f":"IFERROR(VLOOKUP(MID(FT$23,5,4)&$A47,Lista_Ubigeo!$J:$K,2,0),\" \")","v":" "},{"$f":"IFERROR(VLOOKUP(MID(FU$23,5,4)&$A47,Lista_Ubigeo!$J:$K,2,0),\" \")","v":" "},{"$f":"IFERROR(VLOOKUP(MID(FV$23,5,4)&$A47,Lista_Ubigeo!$J:$K,2,0),\" \")","v":" "},{"$f":"IFERROR(VLOOKUP(MID(FW$23,5,4)&$A47,Lista_Ubigeo!$J:$K,2,0),\" \")","v":" "},{"$f":"IFERROR(VLOOKUP(MID(FX$23,5,4)&$A47,Lista_Ubigeo!$J:$K,2,0),\" \")","v":" "},{"$f":"IFERROR(VLOOKUP(MID(FY$23,5,4)&$A47,Lista_Ubigeo!$J:$K,2,0),\" \")","v":" "},{"$f":"IFERROR(VLOOKUP(MID(FZ$23,5,4)&$A47,Lista_Ubigeo!$J:$K,2,0),\" \")","v":" "},{"$f":"IFERROR(VLOOKUP(MID(GA$23,5,4)&$A47,Lista_Ubigeo!$J:$K,2,0),\" \")","v":" "},{"$f":"IFERROR(VLOOKUP(MID(GB$23,5,4)&$A47,Lista_Ubigeo!$J:$K,2,0),\" \")","v":" "},{"$f":"IFERROR(VLOOKUP(MID(GC$23,5,4)&$A47,Lista_Ubigeo!$J:$K,2,0),\" \")","v":" "},{"$f":"IFERROR(VLOOKUP(MID(GD$23,5,4)&$A47,Lista_Ubigeo!$J:$K,2,0),\" \")","v":" "},{"$f":"IFERROR(VLOOKUP(MID(GE$23,5,4)&$A47,Lista_Ubigeo!$J:$K,2,0),\" \")","v":" "},{"$f":"IFERROR(VLOOKUP(MID(GF$23,5,4)&$A47,Lista_Ubigeo!$J:$K,2,0),\" \")","v":" "},{"$f":"IFERROR(VLOOKUP(MID(GG$23,5,4)&$A47,Lista_Ubigeo!$J:$K,2,0),\" \")","v":" "},{"$f":"IFERROR(VLOOKUP(MID(GH$23,5,4)&$A47,Lista_Ubigeo!$J:$K,2,0),\" \")","v":" "},{"$f":"IFERROR(VLOOKUP(MID(GI$23,5,4)&$A47,Lista_Ubigeo!$J:$K,2,0),\" \")","v":" "},{"$f":"IFERROR(VLOOKUP(MID(GJ$23,5,4)&$A47,Lista_Ubigeo!$J:$K,2,0),\" \")","v":" "},{"$f":"IFERROR(VLOOKUP(MID(GK$23,5,4)&$A47,Lista_Ubigeo!$J:$K,2,0),\" \")","v":" "},{"$f":"IFERROR(VLOOKUP(MID(GL$23,5,4)&$A47,Lista_Ubigeo!$J:$K,2,0),\" \")","v":" "},{"$f":"IFERROR(VLOOKUP(MID(GM$23,5,4)&$A47,Lista_Ubigeo!$J:$K,2,0),\" \")","v":" "},{"$f":"IFERROR(VLOOKUP(MID(GN$23,5,4)&$A47,Lista_Ubigeo!$J:$K,2,0),\" \")","v":" "},{"$f":"IFERROR(VLOOKUP(MID(GO$23,5,4)&$A47,Lista_Ubigeo!$J:$K,2,0),\" \")","v":" "},{"$f":"IFERROR(VLOOKUP(MID(GP$23,5,4)&$A47,Lista_Ubigeo!$J:$K,2,0),\" \")","v":" "}]
["25",{"$f":"IFERROR(VLOOKUP(MID(B$23,5,4)&$A48,Lista_Ubigeo!$J:$K,2,0),\" \")","v":" "},{"$f":"IFERROR(VLOOKUP(MID(C$23,5,4)&$A48,Lista_Ubigeo!$J:$K,2,0),\" \")","v":" "},{"$f":"IFERROR(VLOOKUP(MID(D$23,5,4)&$A48,Lista_Ubigeo!$J:$K,2,0),\" \")","v":" "},{"$f":"IFERROR(VLOOKUP(MID(E$23,5,4)&$A48,Lista_Ubigeo!$J:$K,2,0),\" \")","v":" "},{"$f":"IFERROR(VLOOKUP(MID(F$23,5,4)&$A48,Lista_Ubigeo!$J:$K,2,0),\" \")","v":" "},{"$f":"IFERROR(VLOOKUP(MID(G$23,5,4)&$A48,Lista_Ubigeo!$J:$K,2,0),\" \")","v":" "},{"$f":"IFERROR(VLOOKUP(MID(H$23,5,4)&$A48,Lista_Ubigeo!$J:$K,2,0),\" \")","v":" "},{"$f":"IFERROR(VLOOKUP(MID(I$23,5,4)&$A48,Lista_Ubigeo!$J:$K,2,0),\" \")","v":" "},{"$f":"IFERROR(VLOOKUP(MID(J$23,5,4)&$A48,Lista_Ubigeo!$J:$K,2,0),\" \")","v":" "},{"$f":"IFERROR(VLOOKUP(MID(K$23,5,4)&$A48,Lista_Ubigeo!$J:$K,2,0),\" \")","v":" "},{"$f":"IFERROR(VLOOKUP(MID(L$23,5,4)&$A48,Lista_Ubigeo!$J:$K,2,0),\" \")","v":" "},{"$f":"IFERROR(VLOOKUP(MID(M$23,5,4)&$A48,Lista_Ubigeo!$J:$K,2,0),\" \")","v":" "},{"$f":"IFERROR(VLOOKUP(MID(N$23,5,4)&$A48,Lista_Ubigeo!$J:$K,2,0),\" \")","v":" "},{"$f":"IFERROR(VLOOKUP(MID(O$23,5,4)&$A48,Lista_Ubigeo!$J:$K,2,0),\" \")","v":" "},{"$f":"IFERROR(VLOOKUP(MID(P$23,5,4)&$A48,Lista_Ubigeo!$J:$K,2,0),\" \")","v":" "},{"$f":"IFERROR(VLOOKUP(MID(Q$23,5,4)&$A48,Lista_Ubigeo!$J:$K,2,0),\" \")","v":" "},{"$f":"IFERROR(VLOOKUP(MID(R$23,5,4)&$A48,Lista_Ubigeo!$J:$K,2,0),\" \")","v":" "},{"$f":"IFERROR(VLOOKUP(MID(S$23,5,4)&$A48,Lista_Ubigeo!$J:$K,2,0),\" \")","v":" "},{"$f":"IFERROR(VLOOKUP(MID(T$23,5,4)&$A48,Lista_Ubigeo!$J:$K,2,0),\" \")","v":" "},{"$f":"IFERROR(VLOOKUP(MID(U$23,5,4)&$A48,Lista_Ubigeo!$J:$K,2,0),\" \")","v":" "},{"$f":"IFERROR(VLOOKUP(MID(V$23,5,4)&$A48,Lista_Ubigeo!$J:$K,2,0),\" \")","v":" "},{"$f":"IFERROR(VLOOKUP(MID(W$23,5,4)&$A48,Lista_Ubigeo!$J:$K,2,0),\" \")","v":" "},{"$f":"IFERROR(VLOOKUP(MID(X$23,5,4)&$A48,Lista_Ubigeo!$J:$K,2,0),\" \")","v":" "},{"$f":"IFERROR(VLOOKUP(MID(Y$23,5,4)&$A48,Lista_Ubigeo!$J:$K,2,0),\" \")","v":" "},{"$f":"IFERROR(VLOOKUP(MID(Z$23,5,4)&$A48,Lista_Ubigeo!$J:$K,2,0),\" \")","v":" "},{"$f":"IFERROR(VLOOKUP(MID(AA$23,5,4)&$A48,Lista_Ubigeo!$J:$K,2,0),\" \")","v":" "},{"$f":"IFERROR(VLOOKUP(MID(AB$23,5,4)&$A48,Lista_Ubigeo!$J:$K,2,0),\" \")","v":" "},{"$f":"IFERROR(VLOOKUP(MID(AC$23,5,4)&$A48,Lista_Ubigeo!$J:$K,2,0),\" \")","v":" "},{"$f":"IFERROR(VLOOKUP(MID(AD$23,5,4)&$A48,Lista_Ubigeo!$J:$K,2,0),\" \")","v":" "},{"$f":"IFERROR(VLOOKUP(MID(AE$23,5,4)&$A48,Lista_Ubigeo!$J:$K,2,0),\" \")","v":" "},{"$f":"IFERROR(VLOOKUP(MID(AF$23,5,4)&$A48,Lista_Ubigeo!$J:$K,2,0),\" \")","v":" "},{"$f":"IFERROR(VLOOKUP(MID(AG$23,5,4)&$A48,Lista_Ubigeo!$J:$K,2,0),\" \")","v":" "},{"$f":"IFERROR(VLOOKUP(MID(AH$23,5,4)&$A48,Lista_Ubigeo!$J:$K,2,0),\" \")","v":" "},{"$f":"IFERROR(VLOOKUP(MID(AI$23,5,4)&$A48,Lista_Ubigeo!$J:$K,2,0),\" \")","v":" "},{"$f":"IFERROR(VLOOKUP(MID(AJ$23,5,4)&$A48,Lista_Ubigeo!$J:$K,2,0),\" \")","v":"VITOR"},{"$f":"IFERROR(VLOOKUP(MID(AK$23,5,4)&$A48,Lista_Ubigeo!$J:$K,2,0),\" \")","v":" "},{"$f":"IFERROR(VLOOKUP(MID(AL$23,5,4)&$A48,Lista_Ubigeo!$J:$K,2,0),\" \")","v":" "},{"$f":"IFERROR(VLOOKUP(MID(AM$23,5,4)&$A48,Lista_Ubigeo!$J:$K,2,0),\" \")","v":" "},{"$f":"IFERROR(VLOOKUP(MID(AN$23,5,4)&$A48,Lista_Ubigeo!$J:$K,2,0),\" \")","v":" "},{"$f":"IFERROR(VLOOKUP(MID(AO$23,5,4)&$A48,Lista_Ubigeo!$J:$K,2,0),\" \")","v":" "},{"$f":"IFERROR(VLOOKUP(MID(AP$23,5,4)&$A48,Lista_Ubigeo!$J:$K,2,0),\" \")","v":" "},{"$f":"IFERROR(VLOOKUP(MID(AQ$23,4,4)&$A48,Lista_Ubigeo!$J:$K,2,0),\" \")","v":" "},{"$f":"IFERROR(VLOOKUP(MID(AR$23,5,4)&$A48,Lista_Ubigeo!$J:$K,2,0),\" \")","v":" "},{"$f":"IFERROR(VLOOKUP(MID(AS$23,5,4)&$A48,Lista_Ubigeo!$J:$K,2,0),\" \")","v":" "},{"$f":"IFERROR(VLOOKUP(MID(AT$23,5,4)&$A48,Lista_Ubigeo!$J:$K,2,0),\" \")","v":" "},{"$f":"IFERROR(VLOOKUP(MID(AU$23,5,4)&$A48,Lista_Ubigeo!$J:$K,2,0),\" \")","v":" "},{"$f":"IFERROR(VLOOKUP(MID(AV$23,5,4)&$A48,Lista_Ubigeo!$J:$K,2,0),\" \")","v":" "},{"$f":"IFERROR(VLOOKUP(MID(AW$23,5,4)&$A48,Lista_Ubigeo!$J:$K,2,0),\" \")","v":" "},{"$f":"IFERROR(VLOOKUP(MID(AX$23,5,4)&$A48,Lista_Ubigeo!$J:$K,2,0),\" \")","v":" "},{"$f":"IFERROR(VLOOKUP(MID(AY$23,5,4)&$A48,Lista_Ubigeo!$J:$K,2,0),\" \")","v":" "},{"$f":"IFERROR(VLOOKUP(MID(AZ$23,5,4)&$A48,Lista_Ubigeo!$J:$K,2,0),\" \")","v":" "},{"$f":"IFERROR(VLOOKUP(MID(BA$23,5,4)&$A48,Lista_Ubigeo!$J:$K,2,0),\" \")","v":" "},{"$f":"IFERROR(VLOOKUP(MID(BB$23,5,4)&$A48,Lista_Ubigeo!$J:$K,2,0),\" \")","v":" "},{"$f":"IFERROR(VLOOKUP(MID(BC$23,5,4)&$A48,Lista_Ubigeo!$J:$K,2,0),\" \")","v":" "},{"$f":"IFERROR(VLOOKUP(MID(BD$23,5,4)&$A48,Lista_Ubigeo!$J:$K,2,0),\" \")","v":" "},{"$f":"IFERROR(VLOOKUP(MID(BE$23,5,4)&$A48,Lista_Ubigeo!$J:$K,2,0),\" \")","v":" "},{"$f":"IFERROR(VLOOKUP(MID(BF$23,5,4)&$A48,Lista_Ubigeo!$J:$K,2,0),\" \")","v":" "},{"$f":"IFERROR(VLOOKUP(MID(BG$23,5,4)&$A48,Lista_Ubigeo!$J:$K,2,0),\" \")","v":" "},{"$f":"IFERROR(VLOOKUP(MID(BH$23,5,4)&$A48,Lista_Ubigeo!$J:$K,2,0),\" \")","v":" "},{"$f":"IFERROR(VLOOKUP(MID(BI$23,5,4)&$A48,Lista_Ubigeo!$J:$K,2,0),\" \")","v":" "},{"$f":"IFERROR(VLOOKUP(MID(BJ$23,5,4)&$A48,Lista_Ubigeo!$J:$K,2,0),\" \")","v":" "},{"$f":"IFERROR(VLOOKUP(MID(BK$23,5,4)&$A48,Lista_Ubigeo!$J:$K,2,0),\" \")","v":" "},{"$f":"IFERROR(VLOOKUP(MID(BL$23,5,4)&$A48,Lista_Ubigeo!$J:$K,2,0),\" \")","v":" "},{"$f":"IFERROR(VLOOKUP(MID(BM$23,5,4)&$A48,Lista_Ubigeo!$J:$K,2,0),\" \")","v":" "},{"$f":"IFERROR(VLOOKUP(MID(BN$23,5,4)&$A48,Lista_Ubigeo!$J:$K,2,0),\" \")","v":" "},{"$f":"IFERROR(VLOOKUP(MID(BO$23,5,4)&$A48,Lista_Ubigeo!$J:$K,2,0),\" \")","v":" "},{"$f":"IFERROR(VLOOKUP(MID(BP$23,5,4)&$A48,Lista_Ubigeo!$J:$K,2,0),\" \")","v":" "},{"$f":"IFERROR(VLOOKUP(MID(BQ$23,5,4)&$A48,Lista_Ubigeo!$J:$K,2,0),\" \")","v":" "},{"$f":"IFERROR(VLOOKUP(MID(BR$23,5,4)&$A48,Lista_Ubigeo!$J:$K,2,0),\" \")","v":" "},{"$f":"IFERROR(VLOOKUP(MID(BS$23,5,4)&$A48,Lista_Ubigeo!$J:$K,2,0),\" \")","v":" "},{"$f":"IFERROR(VLOOKUP(MID(BT$23,5,4)&$A48,Lista_Ubigeo!$J:$K,2,0),\" \")","v":" "},{"$f":"IFERROR(VLOOKUP(MID(BU$23,5,4)&$A48,Lista_Ubigeo!$J:$K,2,0),\" \")","v":" "},{"$f":"IFERROR(VLOOKUP(MID(BV$23,5,4)&$A48,Lista_Ubigeo!$J:$K,2,0),\" \")","v":" "},{"$f":"IFERROR(VLOOKUP(MID(BW$23,5,4)&$A48,Lista_Ubigeo!$J:$K,2,0),\" \")","v":" "},{"$f":"IFERROR(VLOOKUP(MID(BX$23,5,4)&$A48,Lista_Ubigeo!$J:$K,2,0),\" \")","v":" "},{"$f":"IFERROR(VLOOKUP(MID(BY$23,4,4)&$A48,Lista_Ubigeo!$J:$K,2,0),\" \")","v":" "},{"$f":"IFERROR(VLOOKUP(MID(BZ$23,5,4)&$A48,Lista_Ubigeo!$J:$K,2,0),\" \")","v":" "},{"$f":"IFERROR(VLOOKUP(MID(CA$23,5,4)&$A48,Lista_Ubigeo!$J:$K,2,0),\" \")","v":" "},{"$f":"IFERROR(VLOOKUP(MID(CB$23,5,4)&$A48,Lista_Ubigeo!$J:$K,2,0),\" \")","v":" "},{"$f":"IFERROR(VLOOKUP(MID(CC$23,5,4)&$A48,Lista_Ubigeo!$J:$K,2,0),\" \")","v":" "},{"$f":"IFERROR(VLOOKUP(MID(CD$23,5,4)&$A48,Lista_Ubigeo!$J:$K,2,0),\" \")","v":" "},{"$f":"IFERROR(VLOOKUP(MID(CE$23,5,4)&$A48,Lista_Ubigeo!$J:$K,2,0),\" \")","v":" "},{"$f":"IFERROR(VLOOKUP(MID(CF$23,5,4)&$A48,Lista_Ubigeo!$J:$K,2,0),\" \")","v":" "},{"$f":"IFERROR(VLOOKUP(MID(CG$23,5,4)&$A48,Lista_Ubigeo!$J:$K,2,0),\" \")","v":" "},{"$f":"IFERROR(VLOOKUP(MID(CH$23,5,4)&$A48,Lista_Ubigeo!$J:$K,2,0),\" \")","v":" "},{"$f":"IFERROR(VLOOKUP(MID(CI$23,5,4)&$A48,Lista_Ubigeo!$J:$K,2,0),\" \")","v":" "},{"$f":"IFERROR(VLOOKUP(MID(CJ$23,5,4)&$A48,Lista_Ubigeo!$J:$K,2,0),\" \")","v":" "},{"$f":"IFERROR(VLOOKUP(MID(CK$23,5,4)&$A48,Lista_Ubigeo!$J:$K,2,0),\" \")","v":" "},{"$f":"IFERROR(VLOOKUP(MID(CL$23,5,4)&$A48,Lista_Ubigeo!$J:$K,2,0),\" \")","v":" "},{"$f":"IFERROR(VLOOKUP(MID(CM$23,5,4)&$A59,Lista_Ubigeo!$J:$K,2,0),\" \")","v":" "},{"$f":"IFERROR(VLOOKUP(MID(CN$23,5,4)&$A48,Lista_Ubigeo!$J:$K,2,0),\" \")","v":" "},{"$f":"IFERROR(VLOOKUP(MID(CO$23,5,4)&$A48,Lista_Ubigeo!$J:$K,2,0),\" \")","v":" "},{"$f":"IFERROR(VLOOKUP(MID(CP$23,5,4)&$A48,Lista_Ubigeo!$J:$K,2,0),\" \")","v":" "},{"$f":"IFERROR(VLOOKUP(MID(CQ$23,5,4)&$A48,Lista_Ubigeo!$J:$K,2,0),\" \")","v":" "},{"$f":"IFERROR(VLOOKUP(MID(CR$23,5,4)&$A48,Lista_Ubigeo!$J:$K,2,0),\" \")","v":" "},{"$f":"IFERROR(VLOOKUP(MID(CS$23,5,4)&$A48,Lista_Ubigeo!$J:$K,2,0),\" \")","v":" "},{"$f":"IFERROR(VLOOKUP(MID(CT$23,5,4)&$A48,Lista_Ubigeo!$J:$K,2,0),\" \")","v":" "},{"$f":"IFERROR(VLOOKUP(MID(CU$23,5,4)&$A48,Lista_Ubigeo!$J:$K,2,0),\" \")","v":" "},{"$f":"IFERROR(VLOOKUP(MID(CV$23,5,4)&$A48,Lista_Ubigeo!$J:$K,2,0),\" \")","v":" "},{"$f":"IFERROR(VLOOKUP(MID(CW$23,5,4)&$A48,Lista_Ubigeo!$J:$K,2,0),\" \")","v":" "},{"$f":"IFERROR(VLOOKUP(MID(CX$23,5,4)&$A48,Lista_Ubigeo!$J:$K,2,0),\" \")","v":" "},{"$f":"IFERROR(VLOOKUP(MID(CY$23,5,4)&$A48,Lista_Ubigeo!$J:$K,2,0),\" \")","v":" "},{"$f":"IFERROR(VLOOKUP(MID(CZ$23,5,4)&$A48,Lista_Ubigeo!$J:$K,2,0),\" \")","v":" "},{"$f":"IFERROR(VLOOKUP(MID(DA$23,5,4)&$A48,Lista_Ubigeo!$J:$K,2,0),\" \")","v":"PILCOMAYO"},{"$f":"IFERROR(VLOOKUP(MID(DB$23,5,4)&$A48,Lista_Ubigeo!$J:$K,2,0),\" \")","v":" "},{"$f":"IFERROR(VLOOKUP(MID(DC$23,5,4)&$A48,Lista_Ubigeo!$J:$K,2,0),\" \")","v":" "},{"$f":"IFERROR(VLOOKUP(MID(DD$23,5,4)&$A48,Lista_Ubigeo!$J:$K,2,0),\" \")","v":"PARCO"},{"$f":"IFERROR(VLOOKUP(MID(DE$23,5,4)&$A48,Lista_Ubigeo!$J:$K,2,0),\" \")","v":" "},{"$f":"IFERROR(VLOOKUP(MID(DF$23,5,4)&$A48,Lista_Ubigeo!$J:$K,2,0),\" \")","v":" "},{"$f":"IFERROR(VLOOKUP(MID(DG$23,5,4)&$A48,Lista_Ubigeo!$J:$K,2,0),\" \")","v":" "},{"$f":"IFERROR(VLOOKUP(MID(DH$23,5,4)&$A48,Lista_Ubigeo!$J:$K,2,0),\" \")","v":" "},{"$f":"IFERROR(VLOOKUP(MID(DI$23,5,4)&$A48,Lista_Ubigeo!$J:$K,2,0),\" \")","v":" "},{"$f":"IFERROR(VLOOKUP(MID(DJ$23,5,4)&$A48,Lista_Ubigeo!$J:$K,2,0),\" \")","v":" "},{"$f":"IFERROR(VLOOKUP(MID(DK$23,5,4)&$A48,Lista_Ubigeo!$J:$K,2,0),\" \")","v":" "},{"$f":"IFERROR(VLOOKUP(MID(DL$23,5,4)&$A48,Lista_Ubigeo!$J:$K,2,0),\" \")","v":" "},{"$f":"IFERROR(VLOOKUP(MID(DM$23,5,4)&$A48,Lista_Ubigeo!$J:$K,2,0),\" \")","v":" "},{"$f":"IFERROR(VLOOKUP(MID(DN$23,5,4)&$A48,Lista_Ubigeo!$J:$K,2,0),\" \")","v":" "},{"$f":"IFERROR(VLOOKUP(MID(DO$23,5,4)&$A49,Lista_Ubigeo!$J:$K,2,0),\" \")","v":" "},{"$f":"IFERROR(VLOOKUP(MID(DP$23,5,4)&$A48,Lista_Ubigeo!$J:$K,2,0),\" \")","v":" "},{"$f":"IFERROR(VLOOKUP(MID(DQ$23,5,4)&$A48,Lista_Ubigeo!$J:$K,2,0),\" \")","v":" "},{"$f":"IFERROR(VLOOKUP(MID(DR$23,5,4)&$A48,Lista_Ubigeo!$J:$K,2,0),\" \")","v":" "},{"$f":"IFERROR(VLOOKUP(MID(DS$23,5,4)&$A48,Lista_Ubigeo!$J:$K,2,0),\" \")","v":" "},null,null,{"$f":"IFERROR(VLOOKUP(MID(DV$23,5,4)&$A48,Lista_Ubigeo!$J:$K,2,0),\" \")","v":" "},{"$f":"IFERROR(VLOOKUP(MID(DW$23,5,4)&$A48,Lista_Ubigeo!$J:$K,2,0),\" \")","v":" "},{"$f":"IFERROR(VLOOKUP(MID(DX$23,5,4)&$A48,Lista_Ubigeo!$J:$K,2,0),\" \")","v":" "},{"$f":"IFERROR(VLOOKUP(MID(DY$23,5,4)&$A48,Lista_Ubigeo!$J:$K,2,0),\" \")","v":"PUENTE PIEDRA"},{"$f":"IFERROR(VLOOKUP(MID(DZ$23,5,4)&$A48,Lista_Ubigeo!$J:$K,2,0),\" \")","v":" "},{"$f":"IFERROR(VLOOKUP(MID(EA$23,5,4)&$A48,Lista_Ubigeo!$J:$K,2,0),\" \")","v":" "},{"$f":"IFERROR(VLOOKUP(MID(EB$23,5,4)&$A48,Lista_Ubigeo!$J:$K,2,0),\" \")","v":" "},{"$f":"IFERROR(VLOOKUP(MID(EC$23,5,4)&$A48,Lista_Ubigeo!$J:$K,2,0),\" \")","v":" "},{"$f":"IFERROR(VLOOKUP(MID(ED$23,5,4)&$A48,Lista_Ubigeo!$J:$K,2,0),\" \")","v":" "},{"$f":"IFERROR(VLOOKUP(MID(EE$23,5,4)&$A48,Lista_Ubigeo!$J:$K,2,0),\" \")","v":"SAN PEDRO DE HUANCAYRE"},{"$f":"IFERROR(VLOOKUP(MID(EF$23,5,4)&$A48,Lista_Ubigeo!$J:$K,2,0),\" \")","v":" "},{"$f":"IFERROR(VLOOKUP(MID(EG$23,5,4)&$A48,Lista_Ubigeo!$J:$K,2,0),\" \")","v":" "},{"$f":"IFERROR(VLOOKUP(MID(EH$23,5,4)&$A48,Lista_Ubigeo!$J:$K,2,0),\" \")","v":"QUINOCAY"},{"$f":"IFERROR(VLOOKUP(MID(EI$23,5,4)&$A48,Lista_Ubigeo!$J:$K,2,0),\" \")","v":" "},{"$f":"IFERROR(VLOOKUP(MID(EJ$23,5,4)&$A53,Lista_Ubigeo!$J:$K,2,0),\" \")","v":" "},{"$f":"IFERROR(VLOOKUP(MID(EK$23,5,4)&$A48,Lista_Ubigeo!$J:$K,2,0),\" \")","v":" "},{"$f":"IFERROR(VLOOKUP(MID(EL$23,5,4)&$A48,Lista_Ubigeo!$J:$K,2,0),\" \")","v":" "},{"$f":"IFERROR(VLOOKUP(MID(EM$23,5,4)&$A48,Lista_Ubigeo!$J:$K,2,0),\" \")","v":" "},{"$f":"IFERROR(VLOOKUP(MID(EN$23,5,4)&$A48,Lista_Ubigeo!$J:$K,2,0),\" \")","v":" "},{"$f":"IFERROR(VLOOKUP(MID(EO$23,5,4)&$A48,Lista_Ubigeo!$J:$K,2,0),\" \")","v":" "},{"$f":"IFERROR(VLOOKUP(MID(EP$23,5,4)&$A48,Lista_Ubigeo!$J:$K,2,0),\" \")","v":" "},{"$f":"IFERROR(VLOOKUP(MID(EQ$23,5,4)&$A48,Lista_Ubigeo!$J:$K,2,0),\" \")","v":" "},{"$f":"IFERROR(VLOOKUP(MID(ER$23,5,4)&$A48,Lista_Ubigeo!$J:$K,2,0),\" \")","v":" "},{"$f":"IFERROR(VLOOKUP(MID(ES$23,5,4)&$A48,Lista_Ubigeo!$J:$K,2,0),\" \")","v":" "},{"$f":"IFERROR(VLOOKUP(MID(ET$23,5,4)&$A48,Lista_Ubigeo!$J:$K,2,0),\" \")","v":" "},{"$f":"IFERROR(VLOOKUP(MID(EU$23,5,4)&$A48,Lista_Ubigeo!$J:$K,2,0),\" \")","v":" "},{"$f":"IFERROR(VLOOKUP(MID(EV$23,5,4)&$A48,Lista_Ubigeo!$J:$K,2,0),\" \")","v":" "},{"$f":"IFERROR(VLOOKUP(MID(EW$23,5,4)&$A48,Lista_Ubigeo!$J:$K,2,0),\" \")","v":" "},{"$f":"IFERROR(VLOOKUP(MID(EX$23,5,4)&$A48,Lista_Ubigeo!$J:$K,2,0),\" \")","v":" "},{"$f":"IFERROR(VLOOKUP(MID(EY$23,5,4)&$A48,Lista_Ubigeo!$J:$K,2,0),\" \")","v":" "},{"$f":"IFERROR(VLOOKUP(MID(EZ$23,5,4)&$A51,Lista_Ubigeo!$J:$K,2,0),\" \")","v":" "},{"$f":"IFERROR(VLOOKUP(MID(FA$23,5,4)&$A48,Lista_Ubigeo!$J:$K,2,0),\" \")","v":" "},{"$f":"IFERROR(VLOOKUP(MID(FB$23,5,4)&$A48,Lista_Ubigeo!$J:$K,2,0),\" \")","v":" "},{"$f":"IFERROR(VLOOKUP(MID(FC$23,5,4)&$A48,Lista_Ubigeo!$J:$K,2,0),\" \")","v":" "},{"$f":"IFERROR(VLOOKUP(MID(FD$23,5,4)&$A48,Lista_Ubigeo!$J:$K,2,0),\" \")","v":" "},{"$f":"IFERROR(VLOOKUP(MID(FE$23,5,4)&$A48,Lista_Ubigeo!$J:$K,2,0),\" \")","v":" "},{"$f":"IFERROR(VLOOKUP(MID(FF$23,5,4)&$A48,Lista_Ubigeo!$J:$K,2,0),\" \")","v":" "},{"$f":"IFERROR(VLOOKUP(MID(FG$23,5,4)&$A48,Lista_Ubigeo!$J:$K,2,0),\" \")","v":" "},{"$f":"IFERROR(VLOOKUP(MID(FH$23,5,4)&$A48,Lista_Ubigeo!$J:$K,2,0),\" \")","v":" "},{"$f":"IFERROR(VLOOKUP(MID(FI$23,5,4)&$A48,Lista_Ubigeo!$J:$K,2,0),\" \")","v":" "},{"$f":"IFERROR(VLOOKUP(MID(FJ$23,5,4)&$A48,Lista_Ubigeo!$J:$K,2,0),\" \")","v":" "},{"$f":"IFERROR(VLOOKUP(MID(FK$23,5,4)&$A48,Lista_Ubigeo!$J:$K,2,0),\" \")","v":" "},{"$f":"IFERROR(VLOOKUP(MID(FL$23,5,4)&$A48,Lista_Ubigeo!$J:$K,2,0),\" \")","v":" "},{"$f":"IFERROR(VLOOKUP(MID(FM$23,5,4)&$A48,Lista_Ubigeo!$J:$K,2,0),\" \")","v":" "},{"$f":"IFERROR(VLOOKUP(MID(FN$23,5,4)&$A48,Lista_Ubigeo!$J:$K,2,0),\" \")","v":" "},{"$f":"IFERROR(VLOOKUP(MID(FO$23,5,4)&$A48,Lista_Ubigeo!$J:$K,2,0),\" \")","v":" "},{"$f":"IFERROR(VLOOKUP(MID(FP$23,5,4)&$A48,Lista_Ubigeo!$J:$K,2,0),\" \")","v":" "},{"$f":"IFERROR(VLOOKUP(MID(FQ$23,5,4)&$A48,Lista_Ubigeo!$J:$K,2,0),\" \")","v":" "},{"$f":"IFERROR(VLOOKUP(MID(FR$23,5,4)&$A48,Lista_Ubigeo!$J:$K,2,0),\" \")","v":" "},{"$f":"IFERROR(VLOOKUP(MID(FS$23,5,4)&$A48,Lista_Ubigeo!$J:$K,2,0),\" \")","v":" "},{"$f":"IFERROR(VLOOKUP(MID(FT$23,5,4)&$A48,Lista_Ubigeo!$J:$K,2,0),\" \")","v":" "},{"$f":"IFERROR(VLOOKUP(MID(FU$23,5,4)&$A48,Lista_Ubigeo!$J:$K,2,0),\" \")","v":" "},{"$f":"IFERROR(VLOOKUP(MID(FV$23,5,4)&$A48,Lista_Ubigeo!$J:$K,2,0),\" \")","v":" "},{"$f":"IFERROR(VLOOKUP(MID(FW$23,5,4)&$A48,Lista_Ubigeo!$J:$K,2,0),\" \")","v":" "},{"$f":"IFERROR(VLOOKUP(MID(FX$23,5,4)&$A48,Lista_Ubigeo!$J:$K,2,0),\" \")","v":" "},{"$f":"IFERROR(VLOOKUP(MID(FY$23,5,4)&$A48,Lista_Ubigeo!$J:$K,2,0),\" \")","v":" "},{"$f":"IFERROR(VLOOKUP(MID(FZ$23,5,4)&$A48,Lista_Ubigeo!$J:$K,2,0),\" \")","v":" "},{"$f":"IFERROR(VLOOKUP(MID(GA$23,5,4)&$A48,Lista_Ubigeo!$J:$K,2,0),\" \")","v":" "},{"$f":"IFERROR(VLOOKUP(MID(GB$23,5,4)&$A48,Lista_Ubigeo!$J:$K,2,0),\" \")","v":" "},{"$f":"IFERROR(VLOOKUP(MID(GC$23,5,4)&$A48,Lista_Ubigeo!$J:$K,2,0),\" \")","v":" "},{"$f":"IFERROR(VLOOKUP(MID(GD$23,5,4)&$A48,Lista_Ubigeo!$J:$K,2,0),\" \")","v":" "},{"$f":"IFERROR(VLOOKUP(MID(GE$23,5,4)&$A48,Lista_Ubigeo!$J:$K,2,0),\" \")","v":" "},{"$f":"IFERROR(VLOOKUP(MID(GF$23,5,4)&$A48,Lista_Ubigeo!$J:$K,2,0),\" \")","v":" "},{"$f":"IFERROR(VLOOKUP(MID(GG$23,5,4)&$A48,Lista_Ubigeo!$J:$K,2,0),\" \")","v":" "},{"$f":"IFERROR(VLOOKUP(MID(GH$23,5,4)&$A48,Lista_Ubigeo!$J:$K,2,0),\" \")","v":" "},{"$f":"IFERROR(VLOOKUP(MID(GI$23,5,4)&$A48,Lista_Ubigeo!$J:$K,2,0),\" \")","v":" "},{"$f":"IFERROR(VLOOKUP(MID(GJ$23,5,4)&$A48,Lista_Ubigeo!$J:$K,2,0),\" \")","v":" "},{"$f":"IFERROR(VLOOKUP(MID(GK$23,5,4)&$A48,Lista_Ubigeo!$J:$K,2,0),\" \")","v":" "},{"$f":"IFERROR(VLOOKUP(MID(GL$23,5,4)&$A48,Lista_Ubigeo!$J:$K,2,0),\" \")","v":" "},{"$f":"IFERROR(VLOOKUP(MID(GM$23,5,4)&$A48,Lista_Ubigeo!$J:$K,2,0),\" \")","v":" "},{"$f":"IFERROR(VLOOKUP(MID(GN$23,5,4)&$A48,Lista_Ubigeo!$J:$K,2,0),\" \")","v":" "},{"$f":"IFERROR(VLOOKUP(MID(GO$23,5,4)&$A48,Lista_Ubigeo!$J:$K,2,0),\" \")","v":" "},{"$f":"IFERROR(VLOOKUP(MID(GP$23,5,4)&$A48,Lista_Ubigeo!$J:$K,2,0),\" \")","v":" "}]
["26",{"$f":"IFERROR(VLOOKUP(MID(B$23,5,4)&$A49,Lista_Ubigeo!$J:$K,2,0),\" \")","v":" "},{"$f":"IFERROR(VLOOKUP(MID(C$23,5,4)&$A49,Lista_Ubigeo!$J:$K,2,0),\" \")","v":" "},{"$f":"IFERROR(VLOOKUP(MID(D$23,5,4)&$A49,Lista_Ubigeo!$J:$K,2,0),\" \")","v":" "},{"$f":"IFERROR(VLOOKUP(MID(E$23,5,4)&$A49,Lista_Ubigeo!$J:$K,2,0),\" \")","v":" "},{"$f":"IFERROR(VLOOKUP(MID(F$23,5,4)&$A49,Lista_Ubigeo!$J:$K,2,0),\" \")","v":" "},{"$f":"IFERROR(VLOOKUP(MID(G$23,5,4)&$A49,Lista_Ubigeo!$J:$K,2,0),\" \")","v":" "},{"$f":"IFERROR(VLOOKUP(MID(H$23,5,4)&$A49,Lista_Ubigeo!$J:$K,2,0),\" \")","v":" "},{"$f":"IFERROR(VLOOKUP(MID(I$23,5,4)&$A49,Lista_Ubigeo!$J:$K,2,0),\" \")","v":" "},{"$f":"IFERROR(VLOOKUP(MID(J$23,5,4)&$A49,Lista_Ubigeo!$J:$K,2,0),\" \")","v":" "},{"$f":"IFERROR(VLOOKUP(MID(K$23,5,4)&$A49,Lista_Ubigeo!$J:$K,2,0),\" \")","v":" "},{"$f":"IFERROR(VLOOKUP(MID(L$23,5,4)&$A49,Lista_Ubigeo!$J:$K,2,0),\" \")","v":" "},{"$f":"IFERROR(VLOOKUP(MID(M$23,5,4)&$A49,Lista_Ubigeo!$J:$K,2,0),\" \")","v":" "},{"$f":"IFERROR(VLOOKUP(MID(N$23,5,4)&$A49,Lista_Ubigeo!$J:$K,2,0),\" \")","v":" "},{"$f":"IFERROR(VLOOKUP(MID(O$23,5,4)&$A49,Lista_Ubigeo!$J:$K,2,0),\" \")","v":" "},{"$f":"IFERROR(VLOOKUP(MID(P$23,5,4)&$A49,Lista_Ubigeo!$J:$K,2,0),\" \")","v":" "},{"$f":"IFERROR(VLOOKUP(MID(Q$23,5,4)&$A49,Lista_Ubigeo!$J:$K,2,0),\" \")","v":" "},{"$f":"IFERROR(VLOOKUP(MID(R$23,5,4)&$A49,Lista_Ubigeo!$J:$K,2,0),\" \")","v":" "},{"$f":"IFERROR(VLOOKUP(MID(S$23,5,4)&$A49,Lista_Ubigeo!$J:$K,2,0),\" \")","v":" "},{"$f":"IFERROR(VLOOKUP(MID(T$23,5,4)&$A49,Lista_Ubigeo!$J:$K,2,0),\" \")","v":" "},{"$f":"IFERROR(VLOOKUP(MID(U$23,5,4)&$A49,Lista_Ubigeo!$J:$K,2,0),\" \")","v":" "},{"$f":"IFERROR(VLOOKUP(MID(V$23,5,4)&$A49,Lista_Ubigeo!$J:$K,2,0),\" \")","v":" "},{"$f":"IFERROR(VLOOKUP(MID(W$23,5,4)&$A49,Lista_Ubigeo!$J:$K,2,0),\" \")","v":" "},{"$f":"IFERROR(VLOOKUP(MID(X$23,5,4)&$A49,Lista_Ubigeo!$J:$K,2,0),\" \")","v":" "},{"$f":"IFERROR(VLOOKUP(MID(Y$23,5,4)&$A49,Lista_Ubigeo!$J:$K,2,0),\" \")","v":" "},{"$f":"IFERROR(VLOOKUP(MID(Z$23,5,4)&$A49,Lista_Ubigeo!$J:$K,2,0),\" \")","v":" "},{"$f":"IFERROR(VLOOKUP(MID(AA$23,5,4)&$A49,Lista_Ubigeo!$J:$K,2,0),\" \")","v":" "},{"$f":"IFERROR(VLOOKUP(MID(AB$23,5,4)&$A49,Lista_Ubigeo!$J:$K,2,0),\" \")","v":" "},{"$f":"IFERROR(VLOOKUP(MID(AC$23,5,4)&$A49,Lista_Ubigeo!$J:$K,2,0),\" \")","v":" "},{"$f":"IFERROR(VLOOKUP(MID(AD$23,5,4)&$A49,Lista_Ubigeo!$J:$K,2,0),\" \")","v":" "},{"$f":"IFERROR(VLOOKUP(MID(AE$23,5,4)&$A49,Lista_Ubigeo!$J:$K,2,0),\" \")","v":" "},{"$f":"IFERROR(VLOOKUP(MID(AF$23,5,4)&$A49,Lista_Ubigeo!$J:$K,2,0),\" \")","v":" "},{"$f":"IFERROR(VLOOKUP(MID(AG$23,5,4)&$A49,Lista_Ubigeo!$J:$K,2,0),\" \")","v":" "},{"$f":"IFERROR(VLOOKUP(MID(AH$23,5,4)&$A49,Lista_Ubigeo!$J:$K,2,0),\" \")","v":" "},{"$f":"IFERROR(VLOOKUP(MID(AI$23,5,4)&$A49,Lista_Ubigeo!$J:$K,2,0),\" \")","v":" "},{"$f":"IFERROR(VLOOKUP(MID(AJ$23,5,4)&$A49,Lista_Ubigeo!$J:$K,2,0),\" \")","v":"YANAHUARA"},{"$f":"IFERROR(VLOOKUP(MID(AK$23,5,4)&$A49,Lista_Ubigeo!$J:$K,2,0),\" \")","v":" "},{"$f":"IFERROR(VLOOKUP(MID(AL$23,5,4)&$A49,Lista_Ubigeo!$J:$K,2,0),\" \")","v":" "},{"$f":"IFERROR(VLOOKUP(MID(AM$23,5,4)&$A49,Lista_Ubigeo!$J:$K,2,0),\" \")","v":" "},{"$f":"IFERROR(VLOOKUP(MID(AN$23,5,4)&$A49,Lista_Ubigeo!$J:$K,2,0),\" \")","v":" "},{"$f":"IFERROR(VLOOKUP(MID(AO$23,5,4)&$A49,Lista_Ubigeo!$J:$K,2,0),\" \")","v":" "},{"$f":"IFERROR(VLOOKUP(MID(AP$23,5,4)&$A49,Lista_Ubigeo!$J:$K,2,0),\" \")","v":" "},{"$f":"IFERROR(VLOOKUP(MID(AQ$23,4,4)&$A49,Lista_Ubigeo!$J:$K,2,0),\" \")","v":" "},{"$f":"IFERROR(VLOOKUP(MID(AR$23,5,4)&$A49,Lista_Ubigeo!$J:$K,2,0),\" \")","v":" "},{"$f":"IFERROR(VLOOKUP(MID(AS$23,5,4)&$A49,Lista_Ubigeo!$J:$K,2,0),\" \")","v":" "},{"$f":"IFERROR(VLOOKUP(MID(AT$23,5,4)&$A49,Lista_Ubigeo!$J:$K,2,0),\" \")","v":" "},{"$f":"IFERROR(VLOOKUP(MID(AU$23,5,4)&$A49,Lista_Ubigeo!$J:$K,2,0),\" \")","v":" "},{"$f":"IFERROR(VLOOKUP(MID(AV$23,5,4)&$A49,Lista_Ubigeo!$J:$K,2,0),\" \")","v":" "},{"$f":"IFERROR(VLOOKUP(MID(AW$23,5,4)&$A49,Lista_Ubigeo!$J:$K,2,0),\" \")","v":" "},{"$f":"IFERROR(VLOOKUP(MID(AX$23,5,4)&$A49,Lista_Ubigeo!$J:$K,2,0),\" \")","v":" "},{"$f":"IFERROR(VLOOKUP(MID(AY$23,5,4)&$A49,Lista_Ubigeo!$J:$K,2,0),\" \")","v":" "},{"$f":"IFERROR(VLOOKUP(MID(AZ$23,5,4)&$A49,Lista_Ubigeo!$J:$K,2,0),\" \")","v":" "},{"$f":"IFERROR(VLOOKUP(MID(BA$23,5,4)&$A49,Lista_Ubigeo!$J:$K,2,0),\" \")","v":" "},{"$f":"IFERROR(VLOOKUP(MID(BB$23,5,4)&$A49,Lista_Ubigeo!$J:$K,2,0),\" \")","v":" "},{"$f":"IFERROR(VLOOKUP(MID(BC$23,5,4)&$A49,Lista_Ubigeo!$J:$K,2,0),\" \")","v":" "},{"$f":"IFERROR(VLOOKUP(MID(BD$23,5,4)&$A49,Lista_Ubigeo!$J:$K,2,0),\" \")","v":" "},{"$f":"IFERROR(VLOOKUP(MID(BE$23,5,4)&$A49,Lista_Ubigeo!$J:$K,2,0),\" \")","v":" "},{"$f":"IFERROR(VLOOKUP(MID(BF$23,5,4)&$A49,Lista_Ubigeo!$J:$K,2,0),\" \")","v":" "},{"$f":"IFERROR(VLOOKUP(MID(BG$23,5,4)&$A49,Lista_Ubigeo!$J:$K,2,0),\" \")","v":" "},{"$f":"IFERROR(VLOOKUP(MID(BH$23,5,4)&$A49,Lista_Ubigeo!$J:$K,2,0),\" \")","v":" "},{"$f":"IFERROR(VLOOKUP(MID(BI$23,5,4)&$A49,Lista_Ubigeo!$J:$K,2,0),\" \")","v":" "},{"$f":"IFERROR(VLOOKUP(MID(BJ$23,5,4)&$A49,Lista_Ubigeo!$J:$K,2,0),\" \")","v":" "},{"$f":"IFERROR(VLOOKUP(MID(BK$23,5,4)&$A49,Lista_Ubigeo!$J:$K,2,0),\" \")","v":" "},{"$f":"IFERROR(VLOOKUP(MID(BL$23,5,4)&$A49,Lista_Ubigeo!$J:$K,2,0),\" \")","v":" "},{"$f":"IFERROR(VLOOKUP(MID(BM$23,5,4)&$A49,Lista_Ubigeo!$J:$K,2,0),\" \")","v":" "},{"$f":"IFERROR(VLOOKUP(MID(BN$23,5,4)&$A49,Lista_Ubigeo!$J:$K,2,0),\" \")","v":" "},{"$f":"IFERROR(VLOOKUP(MID(BO$23,5,4)&$A49,Lista_Ubigeo!$J:$K,2,0),\" \")","v":" "},{"$f":"IFERROR(VLOOKUP(MID(BP$23,5,4)&$A49,Lista_Ubigeo!$J:$K,2,0),\" \")","v":" "},{"$f":"IFERROR(VLOOKUP(MID(BQ$23,5,4)&$A49,Lista_Ubigeo!$J:$K,2,0),\" \")","v":" "},{"$f":"IFERROR(VLOOKUP(MID(BR$23,5,4)&$A49,Lista_Ubigeo!$J:$K,2,0),\" \")","v":" "},{"$f":"IFERROR(VLOOKUP(MID(BS$23,5,4)&$A49,Lista_Ubigeo!$J:$K,2,0),\" \")","v":" "},{"$f":"IFERROR(VLOOKUP(MID(BT$23,5,4)&$A49,Lista_Ubigeo!$J:$K,2,0),\" \")","v":" "},{"$f":"IFERROR(VLOOKUP(MID(BU$23,5,4)&$A49,Lista_Ubigeo!$J:$K,2,0),\" \")","v":" "},{"$f":"IFERROR(VLOOKUP(MID(BV$23,5,4)&$A49,Lista_Ubigeo!$J:$K,2,0),\" \")","v":" "},{"$f":"IFERROR(VLOOKUP(MID(BW$23,5,4)&$A49,Lista_Ubigeo!$J:$K,2,0),\" \")","v":" "},{"$f":"IFERROR(VLOOKUP(MID(BX$23,5,4)&$A49,Lista_Ubigeo!$J:$K,2,0),\" \")","v":" "},{"$f":"IFERROR(VLOOKUP(MID(BY$23,4,4)&$A49,Lista_Ubigeo!$J:$K,2,0),\" \")","v":" "},{"$f":"IFERROR(VLOOKUP(MID(BZ$23,5,4)&$A49,Lista_Ubigeo!$J:$K,2,0),\" \")","v":" "},{"$f":"IFERROR(VLOOKUP(MID(CA$23,5,4)&$A49,Lista_Ubigeo!$J:$K,2,0),\" \")","v":" "},{"$f":"IFERROR(VLOOKUP(MID(CB$23,5,4)&$A49,Lista_Ubigeo!$J:$K,2,0),\" \")","v":" "},{"$f":"IFERROR(VLOOKUP(MID(CC$23,5,4)&$A49,Lista_Ubigeo!$J:$K,2,0),\" \")","v":" "},{"$f":"IFERROR(VLOOKUP(MID(CD$23,5,4)&$A49,Lista_Ubigeo!$J:$K,2,0),\" \")","v":" "},{"$f":"IFERROR(VLOOKUP(MID(CE$23,5,4)&$A49,Lista_Ubigeo!$J:$K,2,0),\" \")","v":" "},{"$f":"IFERROR(VLOOKUP(MID(CF$23,5,4)&$A49,Lista_Ubigeo!$J:$K,2,0),\" \")","v":" "},{"$f":"IFERROR(VLOOKUP(MID(CG$23,5,4)&$A49,Lista_Ubigeo!$J:$K,2,0),\" \")","v":" "},{"$f":"IFERROR(VLOOKUP(MID(CH$23,5,4)&$A49,Lista_Ubigeo!$J:$K,2,0),\" \")","v":" "},{"$f":"IFERROR(VLOOKUP(MID(CI$23,5,4)&$A49,Lista_Ubigeo!$J:$K,2,0),\" \")","v":" "},{"$f":"IFERROR(VLOOKUP(MID(CJ$23,5,4)&$A49,Lista_Ubigeo!$J:$K,2,0),\" \")","v":" "},{"$f":"IFERROR(VLOOKUP(MID(CK$23,5,4)&$A49,Lista_Ubigeo!$J:$K,2,0),\" \")","v":" "},{"$f":"IFERROR(VLOOKUP(MID(CL$23,5,4)&$A49,Lista_Ubigeo!$J:$K,2,0),\" \")","v":" "},{"$f":"IFERROR(VLOOKUP(MID(CM$23,5,4)&$A60,Lista_Ubigeo!$J:$K,2,0),\" \")","v":" "},{"$f":"IFERROR(VLOOKUP(MID(CN$23,5,4)&$A49,Lista_Ubigeo!$J:$K,2,0),\" \")","v":" "},{"$f":"IFERROR(VLOOKUP(MID(CO$23,5,4)&$A49,Lista_Ubigeo!$J:$K,2,0),\" \")","v":" "},{"$f":"IFERROR(VLOOKUP(MID(CP$23,5,4)&$A49,Lista_Ubigeo!$J:$K,2,0),\" \")","v":" "},{"$f":"IFERROR(VLOOKUP(MID(CQ$23,5,4)&$A49,Lista_Ubigeo!$J:$K,2,0),\" \")","v":" "},{"$f":"IFERROR(VLOOKUP(MID(CR$23,5,4)&$A49,Lista_Ubigeo!$J:$K,2,0),\" \")","v":" "},{"$f":"IFERROR(VLOOKUP(MID(CS$23,5,4)&$A49,Lista_Ubigeo!$J:$K,2,0),\" \")","v":" "},{"$f":"IFERROR(VLOOKUP(MID(CT$23,5,4)&$A49,Lista_Ubigeo!$J:$K,2,0),\" \")","v":" "},{"$f":"IFERROR(VLOOKUP(MID(CU$23,5,4)&$A49,Lista_Ubigeo!$J:$K,2,0),\" \")","v":" "},{"$f":"IFERROR(VLOOKUP(MID(CV$23,5,4)&$A49,Lista_Ubigeo!$J:$K,2,0),\" \")","v":" "},{"$f":"IFERROR(VLOOKUP(MID(CW$23,5,4)&$A49,Lista_Ubigeo!$J:$K,2,0),\" \")","v":" "},{"$f":"IFERROR(VLOOKUP(MID(CX$23,5,4)&$A49,Lista_Ubigeo!$J:$K,2,0),\" \")","v":" "},{"$f":"IFERROR(VLOOKUP(MID(CY$23,5,4)&$A49,Lista_Ubigeo!$J:$K,2,0),\" \")","v":" "},{"$f":"IFERROR(VLOOKUP(MID(CZ$23,5,4)&$A49,Lista_Ubigeo!$J:$K,2,0),\" \")","v":" "},{"$f":"IFERROR(VLOOKUP(MID(DA$23,5,4)&$A49,Lista_Ubigeo!$J:$K,2,0),\" \")","v":"PUCARA"},{"$f":"IFERROR(VLOOKUP(MID(DB$23,5,4)&$A49,Lista_Ubigeo!$J:$K,2,0),\" \")","v":" "},{"$f":"IFERROR(VLOOKUP(MID(DC$23,5,4)&$A49,Lista_Ubigeo!$J:$K,2,0),\" \")","v":" "},{"$f":"IFERROR(VLOOKUP(MID(DD$23,5,4)&$A49,Lista_Ubigeo!$J:$K,2,0),\" \")","v":"POMACANCHA"},{"$f":"IFERROR(VLOOKUP(MID(DE$23,5,4)&$A49,Lista_Ubigeo!$J:$K,2,0),\" \")","v":" "},{"$f":"IFERROR(VLOOKUP(MID(DF$23,5,4)&$A49,Lista_Ubigeo!$J:$K,2,0),\" \")","v":" "},{"$f":"IFERROR(VLOOKUP(MID(DG$23,5,4)&$A49,Lista_Ubigeo!$J:$K,2,0),\" \")","v":" "},{"$f":"IFERROR(VLOOKUP(MID(DH$23,5,4)&$A49,Lista_Ubigeo!$J:$K,2,0),\" \")","v":" "},{"$f":"IFERROR(VLOOKUP(MID(DI$23,5,4)&$A49,Lista_Ubigeo!$J:$K,2,0),\" \")","v":" "},{"$f":"IFERROR(VLOOKUP(MID(DJ$23,5,4)&$A49,Lista_Ubigeo!$J:$K,2,0),\" \")","v":" "},{"$f":"IFERROR(VLOOKUP(MID(DK$23,5,4)&$A49,Lista_Ubigeo!$J:$K,2,0),\" \")","v":" "},{"$f":"IFERROR(VLOOKUP(MID(DL$23,5,4)&$A49,Lista_Ubigeo!$J:$K,2,0),\" \")","v":" "},{"$f":"IFERROR(VLOOKUP(MID(DM$23,5,4)&$A49,Lista_Ubigeo!$J:$K,2,0),\" \")","v":" "},{"$f":"IFERROR(VLOOKUP(MID(DN$23,5,4)&$A49,Lista_Ubigeo!$J:$K,2,0),\" \")","v":" "},{"$f":"IFERROR(VLOOKUP(MID(DO$23,5,4)&$A50,Lista_Ubigeo!$J:$K,2,0),\" \")","v":" "},{"$f":"IFERROR(VLOOKUP(MID(DP$23,5,4)&$A49,Lista_Ubigeo!$J:$K,2,0),\" \")","v":" "},{"$f":"IFERROR(VLOOKUP(MID(DQ$23,5,4)&$A49,Lista_Ubigeo!$J:$K,2,0),\" \")","v":" "},{"$f":"IFERROR(VLOOKUP(MID(DR$23,5,4)&$A49,Lista_Ubigeo!$J:$K,2,0),\" \")","v":" "},{"$f":"IFERROR(VLOOKUP(MID(DS$23,5,4)&$A49,Lista_Ubigeo!$J:$K,2,0),\" \")","v":" "},null,null,{"$f":"IFERROR(VLOOKUP(MID(DV$23,5,4)&$A49,Lista_Ubigeo!$J:$K,2,0),\" \")","v":" "},{"$f":"IFERROR(VLOOKUP(MID(DW$23,5,4)&$A49,Lista_Ubigeo!$J:$K,2,0),\" \")","v":" "},{"$f":"IFERROR(VLOOKUP(MID(DX$23,5,4)&$A49,Lista_Ubigeo!$J:$K,2,0),\" \")","v":" "},{"$f":"IFERROR(VLOOKUP(MID(DY$23,5,4)&$A49,Lista_Ubigeo!$J:$K,2,0),\" \")","v":"PUNTA HERMOSA"},{"$f":"IFERROR(VLOOKUP(MID(DZ$23,5,4)&$A49,Lista_Ubigeo!$J:$K,2,0),\" \")","v":" "},{"$f":"IFERROR(VLOOKUP(MID(EA$23,5,4)&$A49,Lista_Ubigeo!$J:$K,2,0),\" \")","v":" "},{"$f":"IFERROR(VLOOKUP(MID(EB$23,5,4)&$A49,Lista_Ubigeo!$J:$K,2,0),\" \")","v":" "},{"$f":"IFERROR(VLOOKUP(MID(EC$23,5,4)&$A49,Lista_Ubigeo!$J:$K,2,0),\" \")","v":" "},{"$f":"IFERROR(VLOOKUP(MID(ED$23,5,4)&$A49,Lista_Ubigeo!$J:$K,2,0),\" \")","v":" "},{"$f":"IFERROR(VLOOKUP(MID(EE$23,5,4)&$A49,Lista_Ubigeo!$J:$K,2,0),\" \")","v":"SANGALLAYA"},{"$f":"IFERROR(VLOOKUP(MID(EF$23,5,4)&$A49,Lista_Ubigeo!$J:$K,2,0),\" \")","v":" "},{"$f":"IFERROR(VLOOKUP(MID(EG$23,5,4)&$A49,Lista_Ubigeo!$J:$K,2,0),\" \")","v":" "},{"$f":"IFERROR(VLOOKUP(MID(EH$23,5,4)&$A49,Lista_Ubigeo!$J:$K,2,0),\" \")","v":"SAN JOAQUIN"},{"$f":"IFERROR(VLOOKUP(MID(EI$23,5,4)&$A49,Lista_Ubigeo!$J:$K,2,0),\" \")","v":" "},{"$f":"IFERROR(VLOOKUP(MID(EJ$23,5,4)&$A54,Lista_Ubigeo!$J:$K,2,0),\" \")","v":" "},{"$f":"IFERROR(VLOOKUP(MID(EK$23,5,4)&$A49,Lista_Ubigeo!$J:$K,2,0),\" \")","v":" "},{"$f":"IFERROR(VLOOKUP(MID(EL$23,5,4)&$A49,Lista_Ubigeo!$J:$K,2,0),\" \")","v":" "},{"$f":"IFERROR(VLOOKUP(MID(EM$23,5,4)&$A49,Lista_Ubigeo!$J:$K,2,0),\" \")","v":" "},{"$f":"IFERROR(VLOOKUP(MID(EN$23,5,4)&$A49,Lista_Ubigeo!$J:$K,2,0),\" \")","v":" "},{"$f":"IFERROR(VLOOKUP(MID(EO$23,5,4)&$A49,Lista_Ubigeo!$J:$K,2,0),\" \")","v":" "},{"$f":"IFERROR(VLOOKUP(MID(EP$23,5,4)&$A49,Lista_Ubigeo!$J:$K,2,0),\" \")","v":" "},{"$f":"IFERROR(VLOOKUP(MID(EQ$23,5,4)&$A49,Lista_Ubigeo!$J:$K,2,0),\" \")","v":" "},{"$f":"IFERROR(VLOOKUP(MID(ER$23,5,4)&$A49,Lista_Ubigeo!$J:$K,2,0),\" \")","v":" "},{"$f":"IFERROR(VLOOKUP(MID(ES$23,5,4)&$A49,Lista_Ubigeo!$J:$K,2,0),\" \")","v":" "},{"$f":"IFERROR(VLOOKUP(MID(ET$23,5,4)&$A49,Lista_Ubigeo!$J:$K,2,0),\" \")","v":" "},{"$f":"IFERROR(VLOOKUP(MID(EU$23,5,4)&$A49,Lista_Ubigeo!$J:$K,2,0),\" \")","v":" "},{"$f":"IFERROR(VLOOKUP(MID(EV$23,5,4)&$A49,Lista_Ubigeo!$J:$K,2,0),\" \")","v":" "},{"$f":"IFERROR(VLOOKUP(MID(EW$23,5,4)&$A49,Lista_Ubigeo!$J:$K,2,0),\" \")","v":" "},{"$f":"IFERROR(VLOOKUP(MID(EX$23,5,4)&$A49,Lista_Ubigeo!$J:$K,2,0),\" \")","v":" "},{"$f":"IFERROR(VLOOKUP(MID(EY$23,5,4)&$A49,Lista_Ubigeo!$J:$K,2,0),\" \")","v":" "},{"$f":"IFERROR(VLOOKUP(MID(EZ$23,5,4)&$A52,Lista_Ubigeo!$J:$K,2,0),\" \")","v":" "},{"$f":"IFERROR(VLOOKUP(MID(FA$23,5,4)&$A49,Lista_Ubigeo!$J:$K,2,0),\" \")","v":" "},{"$f":"IFERROR(VLOOKUP(MID(FB$23,5,4)&$A49,Lista_Ubigeo!$J:$K,2,0),\" \")","v":" "},{"$f":"IFERROR(VLOOKUP(MID(FC$23,5,4)&$A49,Lista_Ubigeo!$J:$K,2,0),\" \")","v":" "},{"$f":"IFERROR(VLOOKUP(MID(FD$23,5,4)&$A49,Lista_Ubigeo!$J:$K,2,0),\" \")","v":" "},{"$f":"IFERROR(VLOOKUP(MID(FE$23,5,4)&$A49,Lista_Ubigeo!$J:$K,2,0),\" \")","v":" "},{"$f":"IFERROR(VLOOKUP(MID(FF$23,5,4)&$A49,Lista_Ubigeo!$J:$K,2,0),\" \")","v":" "},{"$f":"IFERROR(VLOOKUP(MID(FG$23,5,4)&$A49,Lista_Ubigeo!$J:$K,2,0),\" \")","v":" "},{"$f":"IFERROR(VLOOKUP(MID(FH$23,5,4)&$A49,Lista_Ubigeo!$J:$K,2,0),\" \")","v":" "},{"$f":"IFERROR(VLOOKUP(MID(FI$23,5,4)&$A49,Lista_Ubigeo!$J:$K,2,0),\" \")","v":" "},{"$f":"IFERROR(VLOOKUP(MID(FJ$23,5,4)&$A49,Lista_Ubigeo!$J:$K,2,0),\" \")","v":" "},{"$f":"IFERROR(VLOOKUP(MID(FK$23,5,4)&$A49,Lista_Ubigeo!$J:$K,2,0),\" \")","v":" "},{"$f":"IFERROR(VLOOKUP(MID(FL$23,5,4)&$A49,Lista_Ubigeo!$J:$K,2,0),\" \")","v":" "},{"$f":"IFERROR(VLOOKUP(MID(FM$23,5,4)&$A49,Lista_Ubigeo!$J:$K,2,0),\" \")","v":" "},{"$f":"IFERROR(VLOOKUP(MID(FN$23,5,4)&$A49,Lista_Ubigeo!$J:$K,2,0),\" \")","v":" "},{"$f":"IFERROR(VLOOKUP(MID(FO$23,5,4)&$A49,Lista_Ubigeo!$J:$K,2,0),\" \")","v":" "},{"$f":"IFERROR(VLOOKUP(MID(FP$23,5,4)&$A49,Lista_Ubigeo!$J:$K,2,0),\" \")","v":" "},{"$f":"IFERROR(VLOOKUP(MID(FQ$23,5,4)&$A49,Lista_Ubigeo!$J:$K,2,0),\" \")","v":" "},{"$f":"IFERROR(VLOOKUP(MID(FR$23,5,4)&$A49,Lista_Ubigeo!$J:$K,2,0),\" \")","v":" "},{"$f":"IFERROR(VLOOKUP(MID(FS$23,5,4)&$A49,Lista_Ubigeo!$J:$K,2,0),\" \")","v":" "},{"$f":"IFERROR(VLOOKUP(MID(FT$23,5,4)&$A49,Lista_Ubigeo!$J:$K,2,0),\" \")","v":" "},{"$f":"IFERROR(VLOOKUP(MID(FU$23,5,4)&$A49,Lista_Ubigeo!$J:$K,2,0),\" \")","v":" "},{"$f":"IFERROR(VLOOKUP(MID(FV$23,5,4)&$A49,Lista_Ubigeo!$J:$K,2,0),\" \")","v":" "},{"$f":"IFERROR(VLOOKUP(MID(FW$23,5,4)&$A49,Lista_Ubigeo!$J:$K,2,0),\" \")","v":" "},{"$f":"IFERROR(VLOOKUP(MID(FX$23,5,4)&$A49,Lista_Ubigeo!$J:$K,2,0),\" \")","v":" "},{"$f":"IFERROR(VLOOKUP(MID(FY$23,5,4)&$A49,Lista_Ubigeo!$J:$K,2,0),\" \")","v":" "},{"$f":"IFERROR(VLOOKUP(MID(FZ$23,5,4)&$A49,Lista_Ubigeo!$J:$K,2,0),\" \")","v":" "},{"$f":"IFERROR(VLOOKUP(MID(GA$23,5,4)&$A49,Lista_Ubigeo!$J:$K,2,0),\" \")","v":" "},{"$f":"IFERROR(VLOOKUP(MID(GB$23,5,4)&$A49,Lista_Ubigeo!$J:$K,2,0),\" \")","v":" "},{"$f":"IFERROR(VLOOKUP(MID(GC$23,5,4)&$A49,Lista_Ubigeo!$J:$K,2,0),\" \")","v":" "},{"$f":"IFERROR(VLOOKUP(MID(GD$23,5,4)&$A49,Lista_Ubigeo!$J:$K,2,0),\" \")","v":" "},{"$f":"IFERROR(VLOOKUP(MID(GE$23,5,4)&$A49,Lista_Ubigeo!$J:$K,2,0),\" \")","v":" "},{"$f":"IFERROR(VLOOKUP(MID(GF$23,5,4)&$A49,Lista_Ubigeo!$J:$K,2,0),\" \")","v":" "},{"$f":"IFERROR(VLOOKUP(MID(GG$23,5,4)&$A49,Lista_Ubigeo!$J:$K,2,0),\" \")","v":" "},{"$f":"IFERROR(VLOOKUP(MID(GH$23,5,4)&$A49,Lista_Ubigeo!$J:$K,2,0),\" \")","v":" "},{"$f":"IFERROR(VLOOKUP(MID(GI$23,5,4)&$A49,Lista_Ubigeo!$J:$K,2,0),\" \")","v":" "},{"$f":"IFERROR(VLOOKUP(MID(GJ$23,5,4)&$A49,Lista_Ubigeo!$J:$K,2,0),\" \")","v":" "},{"$f":"IFERROR(VLOOKUP(MID(GK$23,5,4)&$A49,Lista_Ubigeo!$J:$K,2,0),\" \")","v":" "},{"$f":"IFERROR(VLOOKUP(MID(GL$23,5,4)&$A49,Lista_Ubigeo!$J:$K,2,0),\" \")","v":" "},{"$f":"IFERROR(VLOOKUP(MID(GM$23,5,4)&$A49,Lista_Ubigeo!$J:$K,2,0),\" \")","v":" "},{"$f":"IFERROR(VLOOKUP(MID(GN$23,5,4)&$A49,Lista_Ubigeo!$J:$K,2,0),\" \")","v":" "},{"$f":"IFERROR(VLOOKUP(MID(GO$23,5,4)&$A49,Lista_Ubigeo!$J:$K,2,0),\" \")","v":" "},{"$f":"IFERROR(VLOOKUP(MID(GP$23,5,4)&$A49,Lista_Ubigeo!$J:$K,2,0),\" \")","v":" "}]
["27",{"$f":"IFERROR(VLOOKUP(MID(B$23,5,4)&$A50,Lista_Ubigeo!$J:$K,2,0),\" \")","v":" "},{"$f":"IFERROR(VLOOKUP(MID(C$23,5,4)&$A50,Lista_Ubigeo!$J:$K,2,0),\" \")","v":" "},{"$f":"IFERROR(VLOOKUP(MID(D$23,5,4)&$A50,Lista_Ubigeo!$J:$K,2,0),\" \")","v":" "},{"$f":"IFERROR(VLOOKUP(MID(E$23,5,4)&$A50,Lista_Ubigeo!$J:$K,2,0),\" \")","v":" "},{"$f":"IFERROR(VLOOKUP(MID(F$23,5,4)&$A50,Lista_Ubigeo!$J:$K,2,0),\" \")","v":" "},{"$f":"IFERROR(VLOOKUP(MID(G$23,5,4)&$A50,Lista_Ubigeo!$J:$K,2,0),\" \")","v":" "},{"$f":"IFERROR(VLOOKUP(MID(H$23,5,4)&$A50,Lista_Ubigeo!$J:$K,2,0),\" \")","v":" "},{"$f":"IFERROR(VLOOKUP(MID(I$23,5,4)&$A50,Lista_Ubigeo!$J:$K,2,0),\" \")","v":" "},{"$f":"IFERROR(VLOOKUP(MID(J$23,5,4)&$A50,Lista_Ubigeo!$J:$K,2,0),\" \")","v":" "},{"$f":"IFERROR(VLOOKUP(MID(K$23,5,4)&$A50,Lista_Ubigeo!$J:$K,2,0),\" \")","v":" "},{"$f":"IFERROR(VLOOKUP(MID(L$23,5,4)&$A50,Lista_Ubigeo!$J:$K,2,0),\" \")","v":" "},{"$f":"IFERROR(VLOOKUP(MID(M$23,5,4)&$A50,Lista_Ubigeo!$J:$K,2,0),\" \")","v":" "},{"$f":"IFERROR(VLOOKUP(MID(N$23,5,4)&$A50,Lista_Ubigeo!$J:$K,2,0),\" \")","v":" "},{"$f":"IFERROR(VLOOKUP(MID(O$23,5,4)&$A50,Lista_Ubigeo!$J:$K,2,0),\" \")","v":" "},{"$f":"IFERROR(VLOOKUP(MID(P$23,5,4)&$A50,Lista_Ubigeo!$J:$K,2,0),\" \")","v":" "},{"$f":"IFERROR(VLOOKUP(MID(Q$23,5,4)&$A50,Lista_Ubigeo!$J:$K,2,0),\" \")","v":" "},{"$f":"IFERROR(VLOOKUP(MID(R$23,5,4)&$A50,Lista_Ubigeo!$J:$K,2,0),\" \")","v":" "},{"$f":"IFERROR(VLOOKUP(MID(S$23,5,4)&$A50,Lista_Ubigeo!$J:$K,2,0),\" \")","v":" "},{"$f":"IFERROR(VLOOKUP(MID(T$23,5,4)&$A50,Lista_Ubigeo!$J:$K,2,0),\" \")","v":" "},{"$f":"IFERROR(VLOOKUP(MID(U$23,5,4)&$A50,Lista_Ubigeo!$J:$K,2,0),\" \")","v":" "},{"$f":"IFERROR(VLOOKUP(MID(V$23,5,4)&$A50,Lista_Ubigeo!$J:$K,2,0),\" \")","v":" "},{"$f":"IFERROR(VLOOKUP(MID(W$23,5,4)&$A50,Lista_Ubigeo!$J:$K,2,0),\" \")","v":" "},{"$f":"IFERROR(VLOOKUP(MID(X$23,5,4)&$A50,Lista_Ubigeo!$J:$K,2,0),\" \")","v":" "},{"$f":"IFERROR(VLOOKUP(MID(Y$23,5,4)&$A50,Lista_Ubigeo!$J:$K,2,0),\" \")","v":" "},{"$f":"IFERROR(VLOOKUP(MID(Z$23,5,4)&$A50,Lista_Ubigeo!$J:$K,2,0),\" \")","v":" "},{"$f":"IFERROR(VLOOKUP(MID(AA$23,5,4)&$A50,Lista_Ubigeo!$J:$K,2,0),\" \")","v":" "},{"$f":"IFERROR(VLOOKUP(MID(AB$23,5,4)&$A50,Lista_Ubigeo!$J:$K,2,0),\" \")","v":" "},{"$f":"IFERROR(VLOOKUP(MID(AC$23,5,4)&$A50,Lista_Ubigeo!$J:$K,2,0),\" \")","v":" "},{"$f":"IFERROR(VLOOKUP(MID(AD$23,5,4)&$A50,Lista_Ubigeo!$J:$K,2,0),\" \")","v":" "},{"$f":"IFERROR(VLOOKUP(MID(AE$23,5,4)&$A50,Lista_Ubigeo!$J:$K,2,0),\" \")","v":" "},{"$f":"IFERROR(VLOOKUP(MID(AF$23,5,4)&$A50,Lista_Ubigeo!$J:$K,2,0),\" \")","v":" "},{"$f":"IFERROR(VLOOKUP(MID(AG$23,5,4)&$A50,Lista_Ubigeo!$J:$K,2,0),\" \")","v":" "},{"$f":"IFERROR(VLOOKUP(MID(AH$23,5,4)&$A50,Lista_Ubigeo!$J:$K,2,0),\" \")","v":" "},{"$f":"IFERROR(VLOOKUP(MID(AI$23,5,4)&$A50,Lista_Ubigeo!$J:$K,2,0),\" \")","v":" "},{"$f":"IFERROR(VLOOKUP(MID(AJ$23,5,4)&$A50,Lista_Ubigeo!$J:$K,2,0),\" \")","v":"YARABAMBA"},{"$f":"IFERROR(VLOOKUP(MID(AK$23,5,4)&$A50,Lista_Ubigeo!$J:$K,2,0),\" \")","v":" "},{"$f":"IFERROR(VLOOKUP(MID(AL$23,5,4)&$A50,Lista_Ubigeo!$J:$K,2,0),\" \")","v":" "},{"$f":"IFERROR(VLOOKUP(MID(AM$23,5,4)&$A50,Lista_Ubigeo!$J:$K,2,0),\" \")","v":" "},{"$f":"IFERROR(VLOOKUP(MID(AN$23,5,4)&$A50,Lista_Ubigeo!$J:$K,2,0),\" \")","v":" "},{"$f":"IFERROR(VLOOKUP(MID(AO$23,5,4)&$A50,Lista_Ubigeo!$J:$K,2,0),\" \")","v":" "},{"$f":"IFERROR(VLOOKUP(MID(AP$23,5,4)&$A50,Lista_Ubigeo!$J:$K,2,0),\" \")","v":" "},{"$f":"IFERROR(VLOOKUP(MID(AQ$23,4,4)&$A50,Lista_Ubigeo!$J:$K,2,0),\" \")","v":" "},{"$f":"IFERROR(VLOOKUP(MID(AR$23,5,4)&$A50,Lista_Ubigeo!$J:$K,2,0),\" \")","v":" "},{"$f":"IFERROR(VLOOKUP(MID(AS$23,5,4)&$A50,Lista_Ubigeo!$J:$K,2,0),\" \")","v":" "},{"$f":"IFERROR(VLOOKUP(MID(AT$23,5,4)&$A50,Lista_Ubigeo!$J:$K,2,0),\" \")","v":" "},{"$f":"IFERROR(VLOOKUP(MID(AU$23,5,4)&$A50,Lista_Ubigeo!$J:$K,2,0),\" \")","v":" "},{"$f":"IFERROR(VLOOKUP(MID(AV$23,5,4)&$A50,Lista_Ubigeo!$J:$K,2,0),\" \")","v":" "},{"$f":"IFERROR(VLOOKUP(MID(AW$23,5,4)&$A50,Lista_Ubigeo!$J:$K,2,0),\" \")","v":" "},{"$f":"IFERROR(VLOOKUP(MID(AX$23,5,4)&$A50,Lista_Ubigeo!$J:$K,2,0),\" \")","v":" "},{"$f":"IFERROR(VLOOKUP(MID(AY$23,5,4)&$A50,Lista_Ubigeo!$J:$K,2,0),\" \")","v":" "},{"$f":"IFERROR(VLOOKUP(MID(AZ$23,5,4)&$A50,Lista_Ubigeo!$J:$K,2,0),\" \")","v":" "},{"$f":"IFERROR(VLOOKUP(MID(BA$23,5,4)&$A50,Lista_Ubigeo!$J:$K,2,0),\" \")","v":" "},{"$f":"IFERROR(VLOOKUP(MID(BB$23,5,4)&$A50,Lista_Ubigeo!$J:$K,2,0),\" \")","v":" "},{"$f":"IFERROR(VLOOKUP(MID(BC$23,5,4)&$A50,Lista_Ubigeo!$J:$K,2,0),\" \")","v":" "},{"$f":"IFERROR(VLOOKUP(MID(BD$23,5,4)&$A50,Lista_Ubigeo!$J:$K,2,0),\" \")","v":" "},{"$f":"IFERROR(VLOOKUP(MID(BE$23,5,4)&$A50,Lista_Ubigeo!$J:$K,2,0),\" \")","v":" "},{"$f":"IFERROR(VLOOKUP(MID(BF$23,5,4)&$A50,Lista_Ubigeo!$J:$K,2,0),\" \")","v":" "},{"$f":"IFERROR(VLOOKUP(MID(BG$23,5,4)&$A50,Lista_Ubigeo!$J:$K,2,0),\" \")","v":" "},{"$f":"IFERROR(VLOOKUP(MID(BH$23,5,4)&$A50,Lista_Ubigeo!$J:$K,2,0),\" \")","v":" "},{"$f":"IFERROR(VLOOKUP(MID(BI$23,5,4)&$A50,Lista_Ubigeo!$J:$K,2,0),\" \")","v":" "},{"$f":"IFERROR(VLOOKUP(MID(BJ$23,5,4)&$A50,Lista_Ubigeo!$J:$K,2,0),\" \")","v":" "},{"$f":"IFERROR(VLOOKUP(MID(BK$23,5,4)&$A50,Lista_Ubigeo!$J:$K,2,0),\" \")","v":" "},{"$f":"IFERROR(VLOOKUP(MID(BL$23,5,4)&$A50,Lista_Ubigeo!$J:$K,2,0),\" \")","v":" "},{"$f":"IFERROR(VLOOKUP(MID(BM$23,5,4)&$A50,Lista_Ubigeo!$J:$K,2,0),\" \")","v":" "},{"$f":"IFERROR(VLOOKUP(MID(BN$23,5,4)&$A50,Lista_Ubigeo!$J:$K,2,0),\" \")","v":" "},{"$f":"IFERROR(VLOOKUP(MID(BO$23,5,4)&$A50,Lista_Ubigeo!$J:$K,2,0),\" \")","v":" "},{"$f":"IFERROR(VLOOKUP(MID(BP$23,5,4)&$A50,Lista_Ubigeo!$J:$K,2,0),\" \")","v":" "},{"$f":"IFERROR(VLOOKUP(MID(BQ$23,5,4)&$A50,Lista_Ubigeo!$J:$K,2,0),\" \")","v":" "},{"$f":"IFERROR(VLOOKUP(MID(BR$23,5,4)&$A50,Lista_Ubigeo!$J:$K,2,0),\" \")","v":" "},{"$f":"IFERROR(VLOOKUP(MID(BS$23,5,4)&$A50,Lista_Ubigeo!$J:$K,2,0),\" \")","v":" "},{"$f":"IFERROR(VLOOKUP(MID(BT$23,5,4)&$A50,Lista_Ubigeo!$J:$K,2,0),\" \")","v":" "},{"$f":"IFERROR(VLOOKUP(MID(BU$23,5,4)&$A50,Lista_Ubigeo!$J:$K,2,0),\" \")","v":" "},{"$f":"IFERROR(VLOOKUP(MID(BV$23,5,4)&$A50,Lista_Ubigeo!$J:$K,2,0),\" \")","v":" "},{"$f":"IFERROR(VLOOKUP(MID(BW$23,5,4)&$A50,Lista_Ubigeo!$J:$K,2,0),\" \")","v":" "},{"$f":"IFERROR(VLOOKUP(MID(BX$23,5,4)&$A50,Lista_Ubigeo!$J:$K,2,0),\" \")","v":" "},{"$f":"IFERROR(VLOOKUP(MID(BY$23,4,4)&$A50,Lista_Ubigeo!$J:$K,2,0),\" \")","v":" "},{"$f":"IFERROR(VLOOKUP(MID(BZ$23,5,4)&$A50,Lista_Ubigeo!$J:$K,2,0),\" \")","v":" "},{"$f":"IFERROR(VLOOKUP(MID(CA$23,5,4)&$A50,Lista_Ubigeo!$J:$K,2,0),\" \")","v":" "},{"$f":"IFERROR(VLOOKUP(MID(CB$23,5,4)&$A50,Lista_Ubigeo!$J:$K,2,0),\" \")","v":" "},{"$f":"IFERROR(VLOOKUP(MID(CC$23,5,4)&$A50,Lista_Ubigeo!$J:$K,2,0),\" \")","v":" "},{"$f":"IFERROR(VLOOKUP(MID(CD$23,5,4)&$A50,Lista_Ubigeo!$J:$K,2,0),\" \")","v":" "},{"$f":"IFERROR(VLOOKUP(MID(CE$23,5,4)&$A50,Lista_Ubigeo!$J:$K,2,0),\" \")","v":" "},{"$f":"IFERROR(VLOOKUP(MID(CF$23,5,4)&$A50,Lista_Ubigeo!$J:$K,2,0),\" \")","v":" "},{"$f":"IFERROR(VLOOKUP(MID(CG$23,5,4)&$A50,Lista_Ubigeo!$J:$K,2,0),\" \")","v":" "},{"$f":"IFERROR(VLOOKUP(MID(CH$23,5,4)&$A50,Lista_Ubigeo!$J:$K,2,0),\" \")","v":" "},{"$f":"IFERROR(VLOOKUP(MID(CI$23,5,4)&$A50,Lista_Ubigeo!$J:$K,2,0),\" \")","v":" "},{"$f":"IFERROR(VLOOKUP(MID(CJ$23,5,4)&$A50,Lista_Ubigeo!$J:$K,2,0),\" \")","v":" "},{"$f":"IFERROR(VLOOKUP(MID(CK$23,5,4)&$A50,Lista_Ubigeo!$J:$K,2,0),\" \")","v":" "},{"$f":"IFERROR(VLOOKUP(MID(CL$23,5,4)&$A50,Lista_Ubigeo!$J:$K,2,0),\" \")","v":" "},{"$f":"IFERROR(VLOOKUP(MID(CM$23,5,4)&$A61,Lista_Ubigeo!$J:$K,2,0),\" \")","v":" "},{"$f":"IFERROR(VLOOKUP(MID(CN$23,5,4)&$A50,Lista_Ubigeo!$J:$K,2,0),\" \")","v":" "},{"$f":"IFERROR(VLOOKUP(MID(CO$23,5,4)&$A50,Lista_Ubigeo!$J:$K,2,0),\" \")","v":" "},{"$f":"IFERROR(VLOOKUP(MID(CP$23,5,4)&$A50,Lista_Ubigeo!$J:$K,2,0),\" \")","v":" "},{"$f":"IFERROR(VLOOKUP(MID(CQ$23,5,4)&$A50,Lista_Ubigeo!$J:$K,2,0),\" \")","v":" "},{"$f":"IFERROR(VLOOKUP(MID(CR$23,5,4)&$A50,Lista_Ubigeo!$J:$K,2,0),\" \")","v":" "},{"$f":"IFERROR(VLOOKUP(MID(CS$23,5,4)&$A50,Lista_Ubigeo!$J:$K,2,0),\" \")","v":" "},{"$f":"IFERROR(VLOOKUP(MID(CT$23,5,4)&$A50,Lista_Ubigeo!$J:$K,2,0),\" \")","v":" "},{"$f":"IFERROR(VLOOKUP(MID(CU$23,5,4)&$A50,Lista_Ubigeo!$J:$K,2,0),\" \")","v":" "},{"$f":"IFERROR(VLOOKUP(MID(CV$23,5,4)&$A50,Lista_Ubigeo!$J:$K,2,0),\" \")","v":" "},{"$f":"IFERROR(VLOOKUP(MID(CW$23,5,4)&$A50,Lista_Ubigeo!$J:$K,2,0),\" \")","v":" "},{"$f":"IFERROR(VLOOKUP(MID(CX$23,5,4)&$A50,Lista_Ubigeo!$J:$K,2,0),\" \")","v":" "},{"$f":"IFERROR(VLOOKUP(MID(CY$23,5,4)&$A50,Lista_Ubigeo!$J:$K,2,0),\" \")","v":" "},{"$f":"IFERROR(VLOOKUP(MID(CZ$23,5,4)&$A50,Lista_Ubigeo!$J:$K,2,0),\" \")","v":" "},{"$f":"IFERROR(VLOOKUP(MID(DA$23,5,4)&$A50,Lista_Ubigeo!$J:$K,2,0),\" \")","v":"QUICHUAY"},{"$f":"IFERROR(VLOOKUP(MID(DB$23,5,4)&$A50,Lista_Ubigeo!$J:$K,2,0),\" \")","v":" "},{"$f":"IFERROR(VLOOKUP(MID(DC$23,5,4)&$A50,Lista_Ubigeo!$J:$K,2,0),\" \")","v":" "},{"$f":"IFERROR(VLOOKUP(MID(DD$23,5,4)&$A50,Lista_Ubigeo!$J:$K,2,0),\" \")","v":"RICRAN"},{"$f":"IFERROR(VLOOKUP(MID(DE$23,5,4)&$A50,Lista_Ubigeo!$J:$K,2,0),\" \")","v":" "},{"$f":"IFERROR(VLOOKUP(MID(DF$23,5,4)&$A50,Lista_Ubigeo!$J:$K,2,0),\" \")","v":" "},{"$f":"IFERROR(VLOOKUP(MID(DG$23,5,4)&$A50,Lista_Ubigeo!$J:$K,2,0),\" \")","v":" "},{"$f":"IFERROR(VLOOKUP(MID(DH$23,5,4)&$A50,Lista_Ubigeo!$J:$K,2,0),\" \")","v":" "},{"$f":"IFERROR(VLOOKUP(MID(DI$23,5,4)&$A50,Lista_Ubigeo!$J:$K,2,0),\" \")","v":" "},{"$f":"IFERROR(VLOOKUP(MID(DJ$23,5,4)&$A50,Lista_Ubigeo!$J:$K,2,0),\" \")","v":" "},{"$f":"IFERROR(VLOOKUP(MID(DK$23,5,4)&$A50,Lista_Ubigeo!$J:$K,2,0),\" \")","v":" "},{"$f":"IFERROR(VLOOKUP(MID(DL$23,5,4)&$A50,Lista_Ubigeo!$J:$K,2,0),\" \")","v":" "},{"$f":"IFERROR(VLOOKUP(MID(DM$23,5,4)&$A50,Lista_Ubigeo!$J:$K,2,0),\" \")","v":" "},{"$f":"IFERROR(VLOOKUP(MID(DN$23,5,4)&$A50,Lista_Ubigeo!$J:$K,2,0),\" \")","v":" "},{"$f":"IFERROR(VLOOKUP(MID(DO$23,5,4)&$A51,Lista_Ubigeo!$J:$K,2,0),\" \")","v":" "},{"$f":"IFERROR(VLOOKUP(MID(DP$23,5,4)&$A50,Lista_Ubigeo!$J:$K,2,0),\" \")","v":" "},{"$f":"IFERROR(VLOOKUP(MID(DQ$23,5,4)&$A50,Lista_Ubigeo!$J:$K,2,0),\" \")","v":" "},{"$f":"IFERROR(VLOOKUP(MID(DR$23,5,4)&$A50,Lista_Ubigeo!$J:$K,2,0),\" \")","v":" "},{"$f":"IFERROR(VLOOKUP(MID(DS$23,5,4)&$A50,Lista_Ubigeo!$J:$K,2,0),\" \")","v":" "},null,null,{"$f":"IFERROR(VLOOKUP(MID(DV$23,5,4)&$A50,Lista_Ubigeo!$J:$K,2,0),\" \")","v":" "},{"$f":"IFERROR(VLOOKUP(MID(DW$23,5,4)&$A50,Lista_Ubigeo!$J:$K,2,0),\" \")","v":" "},{"$f":"IFERROR(VLOOKUP(MID(DX$23,5,4)&$A50,Lista_Ubigeo!$J:$K,2,0),\" \")","v":" "},{"$f":"IFERROR(VLOOKUP(MID(DY$23,5,4)&$A50,Lista_Ubigeo!$J:$K,2,0),\" \")","v":"PUNTA NEGRA"},{"$f":"IFERROR(VLOOKUP(MID(DZ$23,5,4)&$A50,Lista_Ubigeo!$J:$K,2,0),\" \")","v":" "},{"$f":"IFERROR(VLOOKUP(MID(EA$23,5,4)&$A50,Lista_Ubigeo!$J:$K,2,0),\" \")","v":" "},{"$f":"IFERROR(VLOOKUP(MID(EB$23,5,4)&$A50,Lista_Ubigeo!$J:$K,2,0),\" \")","v":" "},{"$f":"IFERROR(VLOOKUP(MID(EC$23,5,4)&$A50,Lista_Ubigeo!$J:$K,2,0),\" \")","v":" "},{"$f":"IFERROR(VLOOKUP(MID(ED$23,5,4)&$A50,Lista_Ubigeo!$J:$K,2,0),\" \")","v":" "},{"$f":"IFERROR(VLOOKUP(MID(EE$23,5,4)&$A50,Lista_Ubigeo!$J:$K,2,0),\" \")","v":"SANTA CRUZ DE COCACHACRA"},{"$f":"IFERROR(VLOOKUP(MID(EF$23,5,4)&$A50,Lista_Ubigeo!$J:$K,2,0),\" \")","v":" "},{"$f":"IFERROR(VLOOKUP(MID(EG$23,5,4)&$A50,Lista_Ubigeo!$J:$K,2,0),\" \")","v":" "},{"$f":"IFERROR(VLOOKUP(MID(EH$23,5,4)&$A50,Lista_Ubigeo!$J:$K,2,0),\" \")","v":"SAN PEDRO DE PILAS"},{"$f":"IFERROR(VLOOKUP(MID(EI$23,5,4)&$A50,Lista_Ubigeo!$J:$K,2,0),\" \")","v":" "},{"$f":"IFERROR(VLOOKUP(MID(EJ$23,5,4)&$A55,Lista_Ubigeo!$J:$K,2,0),\" \")","v":" "},{"$f":"IFERROR(VLOOKUP(MID(EK$23,5,4)&$A50,Lista_Ubigeo!$J:$K,2,0),\" \")","v":" "},{"$f":"IFERROR(VLOOKUP(MID(EL$23,5,4)&$A50,Lista_Ubigeo!$J:$K,2,0),\" \")","v":" "},{"$f":"IFERROR(VLOOKUP(MID(EM$23,5,4)&$A50,Lista_Ubigeo!$J:$K,2,0),\" \")","v":" "},{"$f":"IFERROR(VLOOKUP(MID(EN$23,5,4)&$A50,Lista_Ubigeo!$J:$K,2,0),\" \")","v":" "},{"$f":"IFERROR(VLOOKUP(MID(EO$23,5,4)&$A50,Lista_Ubigeo!$J:$K,2,0),\" \")","v":" "},{"$f":"IFERROR(VLOOKUP(MID(EP$23,5,4)&$A50,Lista_Ubigeo!$J:$K,2,0),\" \")","v":" "},{"$f":"IFERROR(VLOOKUP(MID(EQ$23,5,4)&$A50,Lista_Ubigeo!$J:$K,2,0),\" \")","v":" "},{"$f":"IFERROR(VLOOKUP(MID(ER$23,5,4)&$A50,Lista_Ubigeo!$J:$K,2,0),\" \")","v":" "},{"$f":"IFERROR(VLOOKUP(MID(ES$23,5,4)&$A50,Lista_Ubigeo!$J:$K,2,0),\" \")","v":" "},{"$f":"IFERROR(VLOOKUP(MID(ET$23,5,4)&$A50,Lista_Ubigeo!$J:$K,2,0),\" \")","v":" "},{"$f":"IFERROR(VLOOKUP(MID(EU$23,5,4)&$A50,Lista_Ubigeo!$J:$K,2,0),\" \")","v":" "},{"$f":"IFERROR(VLOOKUP(MID(EV$23,5,4)&$A50,Lista_Ubigeo!$J:$K,2,0),\" \")","v":" "},{"$f":"IFERROR(VLOOKUP(MID(EW$23,5,4)&$A50,Lista_Ubigeo!$J:$K,2,0),\" \")","v":" "},{"$f":"IFERROR(VLOOKUP(MID(EX$23,5,4)&$A50,Lista_Ubigeo!$J:$K,2,0),\" \")","v":" "},{"$f":"IFERROR(VLOOKUP(MID(EY$23,5,4)&$A50,Lista_Ubigeo!$J:$K,2,0),\" \")","v":" "},{"$f":"IFERROR(VLOOKUP(MID(EZ$23,5,4)&$A53,Lista_Ubigeo!$J:$K,2,0),\" \")","v":" "},{"$f":"IFERROR(VLOOKUP(MID(FA$23,5,4)&$A50,Lista_Ubigeo!$J:$K,2,0),\" \")","v":" "},{"$f":"IFERROR(VLOOKUP(MID(FB$23,5,4)&$A50,Lista_Ubigeo!$J:$K,2,0),\" \")","v":" "},{"$f":"IFERROR(VLOOKUP(MID(FC$23,5,4)&$A50,Lista_Ubigeo!$J:$K,2,0),\" \")","v":" "},{"$f":"IFERROR(VLOOKUP(MID(FD$23,5,4)&$A50,Lista_Ubigeo!$J:$K,2,0),\" \")","v":" "},{"$f":"IFERROR(VLOOKUP(MID(FE$23,5,4)&$A50,Lista_Ubigeo!$J:$K,2,0),\" \")","v":" "},{"$f":"IFERROR(VLOOKUP(MID(FF$23,5,4)&$A50,Lista_Ubigeo!$J:$K,2,0),\" \")","v":" "},{"$f":"IFERROR(VLOOKUP(MID(FG$23,5,4)&$A50,Lista_Ubigeo!$J:$K,2,0),\" \")","v":" "},{"$f":"IFERROR(VLOOKUP(MID(FH$23,5,4)&$A50,Lista_Ubigeo!$J:$K,2,0),\" \")","v":" "},{"$f":"IFERROR(VLOOKUP(MID(FI$23,5,4)&$A50,Lista_Ubigeo!$J:$K,2,0),\" \")","v":" "},{"$f":"IFERROR(VLOOKUP(MID(FJ$23,5,4)&$A50,Lista_Ubigeo!$J:$K,2,0),\" \")","v":" "},{"$f":"IFERROR(VLOOKUP(MID(FK$23,5,4)&$A50,Lista_Ubigeo!$J:$K,2,0),\" \")","v":" "},{"$f":"IFERROR(VLOOKUP(MID(FL$23,5,4)&$A50,Lista_Ubigeo!$J:$K,2,0),\" \")","v":" "},{"$f":"IFERROR(VLOOKUP(MID(FM$23,5,4)&$A50,Lista_Ubigeo!$J:$K,2,0),\" \")","v":" "},{"$f":"IFERROR(VLOOKUP(MID(FN$23,5,4)&$A50,Lista_Ubigeo!$J:$K,2,0),\" \")","v":" "},{"$f":"IFERROR(VLOOKUP(MID(FO$23,5,4)&$A50,Lista_Ubigeo!$J:$K,2,0),\" \")","v":" "},{"$f":"IFERROR(VLOOKUP(MID(FP$23,5,4)&$A50,Lista_Ubigeo!$J:$K,2,0),\" \")","v":" "},{"$f":"IFERROR(VLOOKUP(MID(FQ$23,5,4)&$A50,Lista_Ubigeo!$J:$K,2,0),\" \")","v":" "},{"$f":"IFERROR(VLOOKUP(MID(FR$23,5,4)&$A50,Lista_Ubigeo!$J:$K,2,0),\" \")","v":" "},{"$f":"IFERROR(VLOOKUP(MID(FS$23,5,4)&$A50,Lista_Ubigeo!$J:$K,2,0),\" \")","v":" "},{"$f":"IFERROR(VLOOKUP(MID(FT$23,5,4)&$A50,Lista_Ubigeo!$J:$K,2,0),\" \")","v":" "},{"$f":"IFERROR(VLOOKUP(MID(FU$23,5,4)&$A50,Lista_Ubigeo!$J:$K,2,0),\" \")","v":" "},{"$f":"IFERROR(VLOOKUP(MID(FV$23,5,4)&$A50,Lista_Ubigeo!$J:$K,2,0),\" \")","v":" "},{"$f":"IFERROR(VLOOKUP(MID(FW$23,5,4)&$A50,Lista_Ubigeo!$J:$K,2,0),\" \")","v":" "},{"$f":"IFERROR(VLOOKUP(MID(FX$23,5,4)&$A50,Lista_Ubigeo!$J:$K,2,0),\" \")","v":" "},{"$f":"IFERROR(VLOOKUP(MID(FY$23,5,4)&$A50,Lista_Ubigeo!$J:$K,2,0),\" \")","v":" "},{"$f":"IFERROR(VLOOKUP(MID(FZ$23,5,4)&$A50,Lista_Ubigeo!$J:$K,2,0),\" \")","v":" "},{"$f":"IFERROR(VLOOKUP(MID(GA$23,5,4)&$A50,Lista_Ubigeo!$J:$K,2,0),\" \")","v":" "},{"$f":"IFERROR(VLOOKUP(MID(GB$23,5,4)&$A50,Lista_Ubigeo!$J:$K,2,0),\" \")","v":" "},{"$f":"IFERROR(VLOOKUP(MID(GC$23,5,4)&$A50,Lista_Ubigeo!$J:$K,2,0),\" \")","v":" "},{"$f":"IFERROR(VLOOKUP(MID(GD$23,5,4)&$A50,Lista_Ubigeo!$J:$K,2,0),\" \")","v":" "},{"$f":"IFERROR(VLOOKUP(MID(GE$23,5,4)&$A50,Lista_Ubigeo!$J:$K,2,0),\" \")","v":" "},{"$f":"IFERROR(VLOOKUP(MID(GF$23,5,4)&$A50,Lista_Ubigeo!$J:$K,2,0),\" \")","v":" "},{"$f":"IFERROR(VLOOKUP(MID(GG$23,5,4)&$A50,Lista_Ubigeo!$J:$K,2,0),\" \")","v":" "},{"$f":"IFERROR(VLOOKUP(MID(GH$23,5,4)&$A50,Lista_Ubigeo!$J:$K,2,0),\" \")","v":" "},{"$f":"IFERROR(VLOOKUP(MID(GI$23,5,4)&$A50,Lista_Ubigeo!$J:$K,2,0),\" \")","v":" "},{"$f":"IFERROR(VLOOKUP(MID(GJ$23,5,4)&$A50,Lista_Ubigeo!$J:$K,2,0),\" \")","v":" "},{"$f":"IFERROR(VLOOKUP(MID(GK$23,5,4)&$A50,Lista_Ubigeo!$J:$K,2,0),\" \")","v":" "},{"$f":"IFERROR(VLOOKUP(MID(GL$23,5,4)&$A50,Lista_Ubigeo!$J:$K,2,0),\" \")","v":" "},{"$f":"IFERROR(VLOOKUP(MID(GM$23,5,4)&$A50,Lista_Ubigeo!$J:$K,2,0),\" \")","v":" "},{"$f":"IFERROR(VLOOKUP(MID(GN$23,5,4)&$A50,Lista_Ubigeo!$J:$K,2,0),\" \")","v":" "},{"$f":"IFERROR(VLOOKUP(MID(GO$23,5,4)&$A50,Lista_Ubigeo!$J:$K,2,0),\" \")","v":" "},{"$f":"IFERROR(VLOOKUP(MID(GP$23,5,4)&$A50,Lista_Ubigeo!$J:$K,2,0),\" \")","v":" "}]
["28",{"$f":"IFERROR(VLOOKUP(MID(B$23,5,4)&$A51,Lista_Ubigeo!$J:$K,2,0),\" \")","v":" "},{"$f":"IFERROR(VLOOKUP(MID(C$23,5,4)&$A51,Lista_Ubigeo!$J:$K,2,0),\" \")","v":" "},{"$f":"IFERROR(VLOOKUP(MID(D$23,5,4)&$A51,Lista_Ubigeo!$J:$K,2,0),\" \")","v":" "},{"$f":"IFERROR(VLOOKUP(MID(E$23,5,4)&$A51,Lista_Ubigeo!$J:$K,2,0),\" \")","v":" "},{"$f":"IFERROR(VLOOKUP(MID(F$23,5,4)&$A51,Lista_Ubigeo!$J:$K,2,0),\" \")","v":" "},{"$f":"IFERROR(VLOOKUP(MID(G$23,5,4)&$A51,Lista_Ubigeo!$J:$K,2,0),\" \")","v":" "},{"$f":"IFERROR(VLOOKUP(MID(H$23,5,4)&$A51,Lista_Ubigeo!$J:$K,2,0),\" \")","v":" "},{"$f":"IFERROR(VLOOKUP(MID(I$23,5,4)&$A51,Lista_Ubigeo!$J:$K,2,0),\" \")","v":" "},{"$f":"IFERROR(VLOOKUP(MID(J$23,5,4)&$A51,Lista_Ubigeo!$J:$K,2,0),\" \")","v":" "},{"$f":"IFERROR(VLOOKUP(MID(K$23,5,4)&$A51,Lista_Ubigeo!$J:$K,2,0),\" \")","v":" "},{"$f":"IFERROR(VLOOKUP(MID(L$23,5,4)&$A51,Lista_Ubigeo!$J:$K,2,0),\" \")","v":" "},{"$f":"IFERROR(VLOOKUP(MID(M$23,5,4)&$A51,Lista_Ubigeo!$J:$K,2,0),\" \")","v":" "},{"$f":"IFERROR(VLOOKUP(MID(N$23,5,4)&$A51,Lista_Ubigeo!$J:$K,2,0),\" \")","v":" "},{"$f":"IFERROR(VLOOKUP(MID(O$23,5,4)&$A51,Lista_Ubigeo!$J:$K,2,0),\" \")","v":" "},{"$f":"IFERROR(VLOOKUP(MID(P$23,5,4)&$A51,Lista_Ubigeo!$J:$K,2,0),\" \")","v":" "},{"$f":"IFERROR(VLOOKUP(MID(Q$23,5,4)&$A51,Lista_Ubigeo!$J:$K,2,0),\" \")","v":" "},{"$f":"IFERROR(VLOOKUP(MID(R$23,5,4)&$A51,Lista_Ubigeo!$J:$K,2,0),\" \")","v":" "},{"$f":"IFERROR(VLOOKUP(MID(S$23,5,4)&$A51,Lista_Ubigeo!$J:$K,2,0),\" \")","v":" "},{"$f":"IFERROR(VLOOKUP(MID(T$23,5,4)&$A51,Lista_Ubigeo!$J:$K,2,0),\" \")","v":" "},{"$f":"IFERROR(VLOOKUP(MID(U$23,5,4)&$A51,Lista_Ubigeo!$J:$K,2,0),\" \")","v":" "},{"$f":"IFERROR(VLOOKUP(MID(V$23,5,4)&$A51,Lista_Ubigeo!$J:$K,2,0),\" \")","v":" "},{"$f":"IFERROR(VLOOKUP(MID(W$23,5,4)&$A51,Lista_Ubigeo!$J:$K,2,0),\" \")","v":" "},{"$f":"IFERROR(VLOOKUP(MID(X$23,5,4)&$A51,Lista_Ubigeo!$J:$K,2,0),\" \")","v":" "},{"$f":"IFERROR(VLOOKUP(MID(Y$23,5,4)&$A51,Lista_Ubigeo!$J:$K,2,0),\" \")","v":" "},{"$f":"IFERROR(VLOOKUP(MID(Z$23,5,4)&$A51,Lista_Ubigeo!$J:$K,2,0),\" \")","v":" "},{"$f":"IFERROR(VLOOKUP(MID(AA$23,5,4)&$A51,Lista_Ubigeo!$J:$K,2,0),\" \")","v":" "},{"$f":"IFERROR(VLOOKUP(MID(AB$23,5,4)&$A51,Lista_Ubigeo!$J:$K,2,0),\" \")","v":" "},{"$f":"IFERROR(VLOOKUP(MID(AC$23,5,4)&$A51,Lista_Ubigeo!$J:$K,2,0),\" \")","v":" "},{"$f":"IFERROR(VLOOKUP(MID(AD$23,5,4)&$A51,Lista_Ubigeo!$J:$K,2,0),\" \")","v":" "},{"$f":"IFERROR(VLOOKUP(MID(AE$23,5,4)&$A51,Lista_Ubigeo!$J:$K,2,0),\" \")","v":" "},{"$f":"IFERROR(VLOOKUP(MID(AF$23,5,4)&$A51,Lista_Ubigeo!$J:$K,2,0),\" \")","v":" "},{"$f":"IFERROR(VLOOKUP(MID(AG$23,5,4)&$A51,Lista_Ubigeo!$J:$K,2,0),\" \")","v":" "},{"$f":"IFERROR(VLOOKUP(MID(AH$23,5,4)&$A51,Lista_Ubigeo!$J:$K,2,0),\" \")","v":" "},{"$f":"IFERROR(VLOOKUP(MID(AI$23,5,4)&$A51,Lista_Ubigeo!$J:$K,2,0),\" \")","v":" "},{"$f":"IFERROR(VLOOKUP(MID(AJ$23,5,4)&$A51,Lista_Ubigeo!$J:$K,2,0),\" \")","v":"YURA"},{"$f":"IFERROR(VLOOKUP(MID(AK$23,5,4)&$A51,Lista_Ubigeo!$J:$K,2,0),\" \")","v":" "},{"$f":"IFERROR(VLOOKUP(MID(AL$23,5,4)&$A51,Lista_Ubigeo!$J:$K,2,0),\" \")","v":" "},{"$f":"IFERROR(VLOOKUP(MID(AM$23,5,4)&$A51,Lista_Ubigeo!$J:$K,2,0),\" \")","v":" "},{"$f":"IFERROR(VLOOKUP(MID(AN$23,5,4)&$A51,Lista_Ubigeo!$J:$K,2,0),\" \")","v":" "},{"$f":"IFERROR(VLOOKUP(MID(AO$23,5,4)&$A51,Lista_Ubigeo!$J:$K,2,0),\" \")","v":" "},{"$f":"IFERROR(VLOOKUP(MID(AP$23,5,4)&$A51,Lista_Ubigeo!$J:$K,2,0),\" \")","v":" "},{"$f":"IFERROR(VLOOKUP(MID(AQ$23,4,4)&$A51,Lista_Ubigeo!$J:$K,2,0),\" \")","v":" "},{"$f":"IFERROR(VLOOKUP(MID(AR$23,5,4)&$A51,Lista_Ubigeo!$J:$K,2,0),\" \")","v":" "},{"$f":"IFERROR(VLOOKUP(MID(AS$23,5,4)&$A51,Lista_Ubigeo!$J:$K,2,0),\" \")","v":" "},{"$f":"IFERROR(VLOOKUP(MID(AT$23,5,4)&$A51,Lista_Ubigeo!$J:$K,2,0),\" \")","v":" "},{"$f":"IFERROR(VLOOKUP(MID(AU$23,5,4)&$A51,Lista_Ubigeo!$J:$K,2,0),\" \")","v":" "},{"$f":"IFERROR(VLOOKUP(MID(AV$23,5,4)&$A51,Lista_Ubigeo!$J:$K,2,0),\" \")","v":" "},{"$f":"IFERROR(VLOOKUP(MID(AW$23,5,4)&$A51,Lista_Ubigeo!$J:$K,2,0),\" \")","v":" "},{"$f":"IFERROR(VLOOKUP(MID(AX$23,5,4)&$A51,Lista_Ubigeo!$J:$K,2,0),\" \")","v":" "},{"$f":"IFERROR(VLOOKUP(MID(AY$23,5,4)&$A51,Lista_Ubigeo!$J:$K,2,0),\" \")","v":" "},{"$f":"IFERROR(VLOOKUP(MID(AZ$23,5,4)&$A51,Lista_Ubigeo!$J:$K,2,0),\" \")","v":" "},{"$f":"IFERROR(VLOOKUP(MID(BA$23,5,4)&$A51,Lista_Ubigeo!$J:$K,2,0),\" \")","v":" "},{"$f":"IFERROR(VLOOKUP(MID(BB$23,5,4)&$A51,Lista_Ubigeo!$J:$K,2,0),\" \")","v":" "},{"$f":"IFERROR(VLOOKUP(MID(BC$23,5,4)&$A51,Lista_Ubigeo!$J:$K,2,0),\" \")","v":" "},{"$f":"IFERROR(VLOOKUP(MID(BD$23,5,4)&$A51,Lista_Ubigeo!$J:$K,2,0),\" \")","v":" "},{"$f":"IFERROR(VLOOKUP(MID(BE$23,5,4)&$A51,Lista_Ubigeo!$J:$K,2,0),\" \")","v":" "},{"$f":"IFERROR(VLOOKUP(MID(BF$23,5,4)&$A51,Lista_Ubigeo!$J:$K,2,0),\" \")","v":" "},{"$f":"IFERROR(VLOOKUP(MID(BG$23,5,4)&$A51,Lista_Ubigeo!$J:$K,2,0),\" \")","v":" "},{"$f":"IFERROR(VLOOKUP(MID(BH$23,5,4)&$A51,Lista_Ubigeo!$J:$K,2,0),\" \")","v":" "},{"$f":"IFERROR(VLOOKUP(MID(BI$23,5,4)&$A51,Lista_Ubigeo!$J:$K,2,0),\" \")","v":" "},{"$f":"IFERROR(VLOOKUP(MID(BJ$23,5,4)&$A51,Lista_Ubigeo!$J:$K,2,0),\" \")","v":" "},{"$f":"IFERROR(VLOOKUP(MID(BK$23,5,4)&$A51,Lista_Ubigeo!$J:$K,2,0),\" \")","v":" "},{"$f":"IFERROR(VLOOKUP(MID(BL$23,5,4)&$A51,Lista_Ubigeo!$J:$K,2,0),\" \")","v":" "},{"$f":"IFERROR(VLOOKUP(MID(BM$23,5,4)&$A51,Lista_Ubigeo!$J:$K,2,0),\" \")","v":" "},{"$f":"IFERROR(VLOOKUP(MID(BN$23,5,4)&$A51,Lista_Ubigeo!$J:$K,2,0),\" \")","v":" "},{"$f":"IFERROR(VLOOKUP(MID(BO$23,5,4)&$A51,Lista_Ubigeo!$J:$K,2,0),\" \")","v":" "},{"$f":"IFERROR(VLOOKUP(MID(BP$23,5,4)&$A51,Lista_Ubigeo!$J:$K,2,0),\" \")","v":" "},{"$f":"IFERROR(VLOOKUP(MID(BQ$23,5,4)&$A51,Lista_Ubigeo!$J:$K,2,0),\" \")","v":" "},{"$f":"IFERROR(VLOOKUP(MID(BR$23,5,4)&$A51,Lista_Ubigeo!$J:$K,2,0),\" \")","v":" "},{"$f":"IFERROR(VLOOKUP(MID(BS$23,5,4)&$A51,Lista_Ubigeo!$J:$K,2,0),\" \")","v":" "},{"$f":"IFERROR(VLOOKUP(MID(BT$23,5,4)&$A51,Lista_Ubigeo!$J:$K,2,0),\" \")","v":" "},{"$f":"IFERROR(VLOOKUP(MID(BU$23,5,4)&$A51,Lista_Ubigeo!$J:$K,2,0),\" \")","v":" "},{"$f":"IFERROR(VLOOKUP(MID(BV$23,5,4)&$A51,Lista_Ubigeo!$J:$K,2,0),\" \")","v":" "},{"$f":"IFERROR(VLOOKUP(MID(BW$23,5,4)&$A51,Lista_Ubigeo!$J:$K,2,0),\" \")","v":" "},{"$f":"IFERROR(VLOOKUP(MID(BX$23,5,4)&$A51,Lista_Ubigeo!$J:$K,2,0),\" \")","v":" "},{"$f":"IFERROR(VLOOKUP(MID(BY$23,4,4)&$A51,Lista_Ubigeo!$J:$K,2,0),\" \")","v":" "},{"$f":"IFERROR(VLOOKUP(MID(BZ$23,5,4)&$A51,Lista_Ubigeo!$J:$K,2,0),\" \")","v":" "},{"$f":"IFERROR(VLOOKUP(MID(CA$23,5,4)&$A51,Lista_Ubigeo!$J:$K,2,0),\" \")","v":" "},{"$f":"IFERROR(VLOOKUP(MID(CB$23,5,4)&$A51,Lista_Ubigeo!$J:$K,2,0),\" \")","v":" "},{"$f":"IFERROR(VLOOKUP(MID(CC$23,5,4)&$A51,Lista_Ubigeo!$J:$K,2,0),\" \")","v":" "},{"$f":"IFERROR(VLOOKUP(MID(CD$23,5,4)&$A51,Lista_Ubigeo!$J:$K,2,0),\" \")","v":" "},{"$f":"IFERROR(VLOOKUP(MID(CE$23,5,4)&$A51,Lista_Ubigeo!$J:$K,2,0),\" \")","v":" "},{"$f":"IFERROR(VLOOKUP(MID(CF$23,5,4)&$A51,Lista_Ubigeo!$J:$K,2,0),\" \")","v":" "},{"$f":"IFERROR(VLOOKUP(MID(CG$23,5,4)&$A51,Lista_Ubigeo!$J:$K,2,0),\" \")","v":" "},{"$f":"IFERROR(VLOOKUP(MID(CH$23,5,4)&$A51,Lista_Ubigeo!$J:$K,2,0),\" \")","v":" "},{"$f":"IFERROR(VLOOKUP(MID(CI$23,5,4)&$A51,Lista_Ubigeo!$J:$K,2,0),\" \")","v":" "},{"$f":"IFERROR(VLOOKUP(MID(CJ$23,5,4)&$A51,Lista_Ubigeo!$J:$K,2,0),\" \")","v":" "},{"$f":"IFERROR(VLOOKUP(MID(CK$23,5,4)&$A51,Lista_Ubigeo!$J:$K,2,0),\" \")","v":" "},{"$f":"IFERROR(VLOOKUP(MID(CL$23,5,4)&$A51,Lista_Ubigeo!$J:$K,2,0),\" \")","v":" "},{"$f":"IFERROR(VLOOKUP(MID(CM$23,5,4)&$A62,Lista_Ubigeo!$J:$K,2,0),\" \")","v":" "},{"$f":"IFERROR(VLOOKUP(MID(CN$23,5,4)&$A51,Lista_Ubigeo!$J:$K,2,0),\" \")","v":" "},{"$f":"IFERROR(VLOOKUP(MID(CO$23,5,4)&$A51,Lista_Ubigeo!$J:$K,2,0),\" \")","v":" "},{"$f":"IFERROR(VLOOKUP(MID(CP$23,5,4)&$A51,Lista_Ubigeo!$J:$K,2,0),\" \")","v":" "},{"$f":"IFERROR(VLOOKUP(MID(CQ$23,5,4)&$A51,Lista_Ubigeo!$J:$K,2,0),\" \")","v":" "},{"$f":"IFERROR(VLOOKUP(MID(CR$23,5,4)&$A51,Lista_Ubigeo!$J:$K,2,0),\" \")","v":" "},{"$f":"IFERROR(VLOOKUP(MID(CS$23,5,4)&$A51,Lista_Ubigeo!$J:$K,2,0),\" \")","v":" "},{"$f":"IFERROR(VLOOKUP(MID(CT$23,5,4)&$A51,Lista_Ubigeo!$J:$K,2,0),\" \")","v":" "},{"$f":"IFERROR(VLOOKUP(MID(CU$23,5,4)&$A51,Lista_Ubigeo!$J:$K,2,0),\" \")","v":" "},{"$f":"IFERROR(VLOOKUP(MID(CV$23,5,4)&$A51,Lista_Ubigeo!$J:$K,2,0),\" \")","v":" "},{"$f":"IFERROR(VLOOKUP(MID(CW$23,5,4)&$A51,Lista_Ubigeo!$J:$K,2,0),\" \")","v":" "},{"$f":"IFERROR(VLOOKUP(MID(CX$23,5,4)&$A51,Lista_Ubigeo!$J:$K,2,0),\" \")","v":" "},{"$f":"IFERROR(VLOOKUP(MID(CY$23,5,4)&$A51,Lista_Ubigeo!$J:$K,2,0),\" \")","v":" "},{"$f":"IFERROR(VLOOKUP(MID(CZ$23,5,4)&$A51,Lista_Ubigeo!$J:$K,2,0),\" \")","v":" "},{"$f":"IFERROR(VLOOKUP(MID(DA$23,5,4)&$A51,Lista_Ubigeo!$J:$K,2,0),\" \")","v":"QUILCAS"},{"$f":"IFERROR(VLOOKUP(MID(DB$23,5,4)&$A51,Lista_Ubigeo!$J:$K,2,0),\" \")","v":" "},{"$f":"IFERROR(VLOOKUP(MID(DC$23,5,4)&$A51,Lista_Ubigeo!$J:$K,2,0),\" \")","v":" "},{"$f":"IFERROR(VLOOKUP(MID(DD$23,5,4)&$A51,Lista_Ubigeo!$J:$K,2,0),\" \")","v":"SAN LORENZO"},{"$f":"IFERROR(VLOOKUP(MID(DE$23,5,4)&$A51,Lista_Ubigeo!$J:$K,2,0),\" \")","v":" "},{"$f":"IFERROR(VLOOKUP(MID(DF$23,5,4)&$A51,Lista_Ubigeo!$J:$K,2,0),\" \")","v":" "},{"$f":"IFERROR(VLOOKUP(MID(DG$23,5,4)&$A51,Lista_Ubigeo!$J:$K,2,0),\" \")","v":" "},{"$f":"IFERROR(VLOOKUP(MID(DH$23,5,4)&$A51,Lista_Ubigeo!$J:$K,2,0),\" \")","v":" "},{"$f":"IFERROR(VLOOKUP(MID(DI$23,5,4)&$A51,Lista_Ubigeo!$J:$K,2,0),\" \")","v":" "},{"$f":"IFERROR(VLOOKUP(MID(DJ$23,5,4)&$A51,Lista_Ubigeo!$J:$K,2,0),\" \")","v":" "},{"$f":"IFERROR(VLOOKUP(MID(DK$23,5,4)&$A51,Lista_Ubigeo!$J:$K,2,0),\" \")","v":" "},{"$f":"IFERROR(VLOOKUP(MID(DL$23,5,4)&$A51,Lista_Ubigeo!$J:$K,2,0),\" \")","v":" "},{"$f":"IFERROR(VLOOKUP(MID(DM$23,5,4)&$A51,Lista_Ubigeo!$J:$K,2,0),\" \")","v":" "},{"$f":"IFERROR(VLOOKUP(MID(DN$23,5,4)&$A51,Lista_Ubigeo!$J:$K,2,0),\" \")","v":" "},{"$f":"IFERROR(VLOOKUP(MID(DO$23,5,4)&$A52,Lista_Ubigeo!$J:$K,2,0),\" \")","v":" "},{"$f":"IFERROR(VLOOKUP(MID(DP$23,5,4)&$A51,Lista_Ubigeo!$J:$K,2,0),\" \")","v":" "},{"$f":"IFERROR(VLOOKUP(MID(DQ$23,5,4)&$A51,Lista_Ubigeo!$J:$K,2,0),\" \")","v":" "},{"$f":"IFERROR(VLOOKUP(MID(DR$23,5,4)&$A51,Lista_Ubigeo!$J:$K,2,0),\" \")","v":" "},{"$f":"IFERROR(VLOOKUP(MID(DS$23,5,4)&$A51,Lista_Ubigeo!$J:$K,2,0),\" \")","v":" "},null,null,{"$f":"IFERROR(VLOOKUP(MID(DV$23,5,4)&$A51,Lista_Ubigeo!$J:$K,2,0),\" \")","v":" "},{"$f":"IFERROR(VLOOKUP(MID(DW$23,5,4)&$A51,Lista_Ubigeo!$J:$K,2,0),\" \")","v":" "},{"$f":"IFERROR(VLOOKUP(MID(DX$23,5,4)&$A51,Lista_Ubigeo!$J:$K,2,0),\" \")","v":" "},{"$f":"IFERROR(VLOOKUP(MID(DY$23,5,4)&$A51,Lista_Ubigeo!$J:$K,2,0),\" \")","v":"RIMAC"},{"$f":"IFERROR(VLOOKUP(MID(DZ$23,5,4)&$A51,Lista_Ubigeo!$J:$K,2,0),\" \")","v":" "},{"$f":"IFERROR(VLOOKUP(MID(EA$23,5,4)&$A51,Lista_Ubigeo!$J:$K,2,0),\" \")","v":" "},{"$f":"IFERROR(VLOOKUP(MID(EB$23,5,4)&$A51,Lista_Ubigeo!$J:$K,2,0),\" \")","v":" "},{"$f":"IFERROR(VLOOKUP(MID(EC$23,5,4)&$A51,Lista_Ubigeo!$J:$K,2,0),\" \")","v":" "},{"$f":"IFERROR(VLOOKUP(MID(ED$23,5,4)&$A51,Lista_Ubigeo!$J:$K,2,0),\" \")","v":" "},{"$f":"IFERROR(VLOOKUP(MID(EE$23,5,4)&$A51,Lista_Ubigeo!$J:$K,2,0),\" \")","v":"SANTA EULALIA"},{"$f":"IFERROR(VLOOKUP(MID(EF$23,5,4)&$A51,Lista_Ubigeo!$J:$K,2,0),\" \")","v":" "},{"$f":"IFERROR(VLOOKUP(MID(EG$23,5,4)&$A51,Lista_Ubigeo!$J:$K,2,0),\" \")","v":" "},{"$f":"IFERROR(VLOOKUP(MID(EH$23,5,4)&$A51,Lista_Ubigeo!$J:$K,2,0),\" \")","v":"TANTA"},{"$f":"IFERROR(VLOOKUP(MID(EI$23,5,4)&$A51,Lista_Ubigeo!$J:$K,2,0),\" \")","v":" "},{"$f":"IFERROR(VLOOKUP(MID(EJ$23,5,4)&$A56,Lista_Ubigeo!$J:$K,2,0),\" \")","v":" "},{"$f":"IFERROR(VLOOKUP(MID(EK$23,5,4)&$A51,Lista_Ubigeo!$J:$K,2,0),\" \")","v":" "},{"$f":"IFERROR(VLOOKUP(MID(EL$23,5,4)&$A51,Lista_Ubigeo!$J:$K,2,0),\" \")","v":" "},{"$f":"IFERROR(VLOOKUP(MID(EM$23,5,4)&$A51,Lista_Ubigeo!$J:$K,2,0),\" \")","v":" "},{"$f":"IFERROR(VLOOKUP(MID(EN$23,5,4)&$A51,Lista_Ubigeo!$J:$K,2,0),\" \")","v":" "},{"$f":"IFERROR(VLOOKUP(MID(EO$23,5,4)&$A51,Lista_Ubigeo!$J:$K,2,0),\" \")","v":" "},{"$f":"IFERROR(VLOOKUP(MID(EP$23,5,4)&$A51,Lista_Ubigeo!$J:$K,2,0),\" \")","v":" "},{"$f":"IFERROR(VLOOKUP(MID(EQ$23,5,4)&$A51,Lista_Ubigeo!$J:$K,2,0),\" \")","v":" "},{"$f":"IFERROR(VLOOKUP(MID(ER$23,5,4)&$A51,Lista_Ubigeo!$J:$K,2,0),\" \")","v":" "},{"$f":"IFERROR(VLOOKUP(MID(ES$23,5,4)&$A51,Lista_Ubigeo!$J:$K,2,0),\" \")","v":" "},{"$f":"IFERROR(VLOOKUP(MID(ET$23,5,4)&$A51,Lista_Ubigeo!$J:$K,2,0),\" \")","v":" "},{"$f":"IFERROR(VLOOKUP(MID(EU$23,5,4)&$A51,Lista_Ubigeo!$J:$K,2,0),\" \")","v":" "},{"$f":"IFERROR(VLOOKUP(MID(EV$23,5,4)&$A51,Lista_Ubigeo!$J:$K,2,0),\" \")","v":" "},{"$f":"IFERROR(VLOOKUP(MID(EW$23,5,4)&$A51,Lista_Ubigeo!$J:$K,2,0),\" \")","v":" "},{"$f":"IFERROR(VLOOKUP(MID(EX$23,5,4)&$A51,Lista_Ubigeo!$J:$K,2,0),\" \")","v":" "},{"$f":"IFERROR(VLOOKUP(MID(EY$23,5,4)&$A51,Lista_Ubigeo!$J:$K,2,0),\" \")","v":" "},{"$f":"IFERROR(VLOOKUP(MID(EZ$23,5,4)&$A54,Lista_Ubigeo!$J:$K,2,0),\" \")","v":" "},{"$f":"IFERROR(VLOOKUP(MID(FA$23,5,4)&$A51,Lista_Ubigeo!$J:$K,2,0),\" \")","v":" "},{"$f":"IFERROR(VLOOKUP(MID(FB$23,5,4)&$A51,Lista_Ubigeo!$J:$K,2,0),\" \")","v":" "},{"$f":"IFERROR(VLOOKUP(MID(FC$23,5,4)&$A51,Lista_Ubigeo!$J:$K,2,0),\" \")","v":" "},{"$f":"IFERROR(VLOOKUP(MID(FD$23,5,4)&$A51,Lista_Ubigeo!$J:$K,2,0),\" \")","v":" "},{"$f":"IFERROR(VLOOKUP(MID(FE$23,5,4)&$A51,Lista_Ubigeo!$J:$K,2,0),\" \")","v":" "},{"$f":"IFERROR(VLOOKUP(MID(FF$23,5,4)&$A51,Lista_Ubigeo!$J:$K,2,0),\" \")","v":" "},{"$f":"IFERROR(VLOOKUP(MID(FG$23,5,4)&$A51,Lista_Ubigeo!$J:$K,2,0),\" \")","v":" "},{"$f":"IFERROR(VLOOKUP(MID(FH$23,5,4)&$A51,Lista_Ubigeo!$J:$K,2,0),\" \")","v":" "},{"$f":"IFERROR(VLOOKUP(MID(FI$23,5,4)&$A51,Lista_Ubigeo!$J:$K,2,0),\" \")","v":" "},{"$f":"IFERROR(VLOOKUP(MID(FJ$23,5,4)&$A51,Lista_Ubigeo!$J:$K,2,0),\" \")","v":" "},{"$f":"IFERROR(VLOOKUP(MID(FK$23,5,4)&$A51,Lista_Ubigeo!$J:$K,2,0),\" \")","v":" "},{"$f":"IFERROR(VLOOKUP(MID(FL$23,5,4)&$A51,Lista_Ubigeo!$J:$K,2,0),\" \")","v":" "},{"$f":"IFERROR(VLOOKUP(MID(FM$23,5,4)&$A51,Lista_Ubigeo!$J:$K,2,0),\" \")","v":" "},{"$f":"IFERROR(VLOOKUP(MID(FN$23,5,4)&$A51,Lista_Ubigeo!$J:$K,2,0),\" \")","v":" "},{"$f":"IFERROR(VLOOKUP(MID(FO$23,5,4)&$A51,Lista_Ubigeo!$J:$K,2,0),\" \")","v":" "},{"$f":"IFERROR(VLOOKUP(MID(FP$23,5,4)&$A51,Lista_Ubigeo!$J:$K,2,0),\" \")","v":" "},{"$f":"IFERROR(VLOOKUP(MID(FQ$23,5,4)&$A51,Lista_Ubigeo!$J:$K,2,0),\" \")","v":" "},{"$f":"IFERROR(VLOOKUP(MID(FR$23,5,4)&$A51,Lista_Ubigeo!$J:$K,2,0),\" \")","v":" "},{"$f":"IFERROR(VLOOKUP(MID(FS$23,5,4)&$A51,Lista_Ubigeo!$J:$K,2,0),\" \")","v":" "},{"$f":"IFERROR(VLOOKUP(MID(FT$23,5,4)&$A51,Lista_Ubigeo!$J:$K,2,0),\" \")","v":" "},{"$f":"IFERROR(VLOOKUP(MID(FU$23,5,4)&$A51,Lista_Ubigeo!$J:$K,2,0),\" \")","v":" "},{"$f":"IFERROR(VLOOKUP(MID(FV$23,5,4)&$A51,Lista_Ubigeo!$J:$K,2,0),\" \")","v":" "},{"$f":"IFERROR(VLOOKUP(MID(FW$23,5,4)&$A51,Lista_Ubigeo!$J:$K,2,0),\" \")","v":" "},{"$f":"IFERROR(VLOOKUP(MID(FX$23,5,4)&$A51,Lista_Ubigeo!$J:$K,2,0),\" \")","v":" "},{"$f":"IFERROR(VLOOKUP(MID(FY$23,5,4)&$A51,Lista_Ubigeo!$J:$K,2,0),\" \")","v":" "},{"$f":"IFERROR(VLOOKUP(MID(FZ$23,5,4)&$A51,Lista_Ubigeo!$J:$K,2,0),\" \")","v":" "},{"$f":"IFERROR(VLOOKUP(MID(GA$23,5,4)&$A51,Lista_Ubigeo!$J:$K,2,0),\" \")","v":" "},{"$f":"IFERROR(VLOOKUP(MID(GB$23,5,4)&$A51,Lista_Ubigeo!$J:$K,2,0),\" \")","v":" "},{"$f":"IFERROR(VLOOKUP(MID(GC$23,5,4)&$A51,Lista_Ubigeo!$J:$K,2,0),\" \")","v":" "},{"$f":"IFERROR(VLOOKUP(MID(GD$23,5,4)&$A51,Lista_Ubigeo!$J:$K,2,0),\" \")","v":" "},{"$f":"IFERROR(VLOOKUP(MID(GE$23,5,4)&$A51,Lista_Ubigeo!$J:$K,2,0),\" \")","v":" "},{"$f":"IFERROR(VLOOKUP(MID(GF$23,5,4)&$A51,Lista_Ubigeo!$J:$K,2,0),\" \")","v":" "},{"$f":"IFERROR(VLOOKUP(MID(GG$23,5,4)&$A51,Lista_Ubigeo!$J:$K,2,0),\" \")","v":" "},{"$f":"IFERROR(VLOOKUP(MID(GH$23,5,4)&$A51,Lista_Ubigeo!$J:$K,2,0),\" \")","v":" "},{"$f":"IFERROR(VLOOKUP(MID(GI$23,5,4)&$A51,Lista_Ubigeo!$J:$K,2,0),\" \")","v":" "},{"$f":"IFERROR(VLOOKUP(MID(GJ$23,5,4)&$A51,Lista_Ubigeo!$J:$K,2,0),\" \")","v":" "},{"$f":"IFERROR(VLOOKUP(MID(GK$23,5,4)&$A51,Lista_Ubigeo!$J:$K,2,0),\" \")","v":" "},{"$f":"IFERROR(VLOOKUP(MID(GL$23,5,4)&$A51,Lista_Ubigeo!$J:$K,2,0),\" \")","v":" "},{"$f":"IFERROR(VLOOKUP(MID(GM$23,5,4)&$A51,Lista_Ubigeo!$J:$K,2,0),\" \")","v":" "},{"$f":"IFERROR(VLOOKUP(MID(GN$23,5,4)&$A51,Lista_Ubigeo!$J:$K,2,0),\" \")","v":" "},{"$f":"IFERROR(VLOOKUP(MID(GO$23,5,4)&$A51,Lista_Ubigeo!$J:$K,2,0),\" \")","v":" "},{"$f":"IFERROR(VLOOKUP(MID(GP$23,5,4)&$A51,Lista_Ubigeo!$J:$K,2,0),\" \")","v":" "}]
["29",{"$f":"IFERROR(VLOOKUP(MID(B$23,5,4)&$A52,Lista_Ubigeo!$J:$K,2,0),\" \")","v":" "},{"$f":"IFERROR(VLOOKUP(MID(C$23,5,4)&$A52,Lista_Ubigeo!$J:$K,2,0),\" \")","v":" "},{"$f":"IFERROR(VLOOKUP(MID(D$23,5,4)&$A52,Lista_Ubigeo!$J:$K,2,0),\" \")","v":" "},{"$f":"IFERROR(VLOOKUP(MID(E$23,5,4)&$A52,Lista_Ubigeo!$J:$K,2,0),\" \")","v":" "},{"$f":"IFERROR(VLOOKUP(MID(F$23,5,4)&$A52,Lista_Ubigeo!$J:$K,2,0),\" \")","v":" "},{"$f":"IFERROR(VLOOKUP(MID(G$23,5,4)&$A52,Lista_Ubigeo!$J:$K,2,0),\" \")","v":" "},{"$f":"IFERROR(VLOOKUP(MID(H$23,5,4)&$A52,Lista_Ubigeo!$J:$K,2,0),\" \")","v":" "},{"$f":"IFERROR(VLOOKUP(MID(I$23,5,4)&$A52,Lista_Ubigeo!$J:$K,2,0),\" \")","v":" "},{"$f":"IFERROR(VLOOKUP(MID(J$23,5,4)&$A52,Lista_Ubigeo!$J:$K,2,0),\" \")","v":" "},{"$f":"IFERROR(VLOOKUP(MID(K$23,5,4)&$A52,Lista_Ubigeo!$J:$K,2,0),\" \")","v":" "},{"$f":"IFERROR(VLOOKUP(MID(L$23,5,4)&$A52,Lista_Ubigeo!$J:$K,2,0),\" \")","v":" "},{"$f":"IFERROR(VLOOKUP(MID(M$23,5,4)&$A52,Lista_Ubigeo!$J:$K,2,0),\" \")","v":" "},{"$f":"IFERROR(VLOOKUP(MID(N$23,5,4)&$A52,Lista_Ubigeo!$J:$K,2,0),\" \")","v":" "},{"$f":"IFERROR(VLOOKUP(MID(O$23,5,4)&$A52,Lista_Ubigeo!$J:$K,2,0),\" \")","v":" "},{"$f":"IFERROR(VLOOKUP(MID(P$23,5,4)&$A52,Lista_Ubigeo!$J:$K,2,0),\" \")","v":" "},{"$f":"IFERROR(VLOOKUP(MID(Q$23,5,4)&$A52,Lista_Ubigeo!$J:$K,2,0),\" \")","v":" "},{"$f":"IFERROR(VLOOKUP(MID(R$23,5,4)&$A52,Lista_Ubigeo!$J:$K,2,0),\" \")","v":" "},{"$f":"IFERROR(VLOOKUP(MID(S$23,5,4)&$A52,Lista_Ubigeo!$J:$K,2,0),\" \")","v":" "},{"$f":"IFERROR(VLOOKUP(MID(T$23,5,4)&$A52,Lista_Ubigeo!$J:$K,2,0),\" \")","v":" "},{"$f":"IFERROR(VLOOKUP(MID(U$23,5,4)&$A52,Lista_Ubigeo!$J:$K,2,0),\" \")","v":" "},{"$f":"IFERROR(VLOOKUP(MID(V$23,5,4)&$A52,Lista_Ubigeo!$J:$K,2,0),\" \")","v":" "},{"$f":"IFERROR(VLOOKUP(MID(W$23,5,4)&$A52,Lista_Ubigeo!$J:$K,2,0),\" \")","v":" "},{"$f":"IFERROR(VLOOKUP(MID(X$23,5,4)&$A52,Lista_Ubigeo!$J:$K,2,0),\" \")","v":" "},{"$f":"IFERROR(VLOOKUP(MID(Y$23,5,4)&$A52,Lista_Ubigeo!$J:$K,2,0),\" \")","v":" "},{"$f":"IFERROR(VLOOKUP(MID(Z$23,5,4)&$A52,Lista_Ubigeo!$J:$K,2,0),\" \")","v":" "},{"$f":"IFERROR(VLOOKUP(MID(AA$23,5,4)&$A52,Lista_Ubigeo!$J:$K,2,0),\" \")","v":" "},{"$f":"IFERROR(VLOOKUP(MID(AB$23,5,4)&$A52,Lista_Ubigeo!$J:$K,2,0),\" \")","v":" "},{"$f":"IFERROR(VLOOKUP(MID(AC$23,5,4)&$A52,Lista_Ubigeo!$J:$K,2,0),\" \")","v":" "},{"$f":"IFERROR(VLOOKUP(MID(AD$23,5,4)&$A52,Lista_Ubigeo!$J:$K,2,0),\" \")","v":" "},{"$f":"IFERROR(VLOOKUP(MID(AE$23,5,4)&$A52,Lista_Ubigeo!$J:$K,2,0),\" \")","v":" "},{"$f":"IFERROR(VLOOKUP(MID(AF$23,5,4)&$A52,Lista_Ubigeo!$J:$K,2,0),\" \")","v":" "},{"$f":"IFERROR(VLOOKUP(MID(AG$23,5,4)&$A52,Lista_Ubigeo!$J:$K,2,0),\" \")","v":" "},{"$f":"IFERROR(VLOOKUP(MID(AH$23,5,4)&$A52,Lista_Ubigeo!$J:$K,2,0),\" \")","v":" "},{"$f":"IFERROR(VLOOKUP(MID(AI$23,5,4)&$A52,Lista_Ubigeo!$J:$K,2,0),\" \")","v":" "},{"$f":"IFERROR(VLOOKUP(MID(AJ$23,5,4)&$A52,Lista_Ubigeo!$J:$K,2,0),\" \")","v":"JOSE LUIS BUSTAMANTE Y RIVERO"},{"$f":"IFERROR(VLOOKUP(MID(AK$23,5,4)&$A52,Lista_Ubigeo!$J:$K,2,0),\" \")","v":" "},{"$f":"IFERROR(VLOOKUP(MID(AL$23,5,4)&$A52,Lista_Ubigeo!$J:$K,2,0),\" \")","v":" "},{"$f":"IFERROR(VLOOKUP(MID(AM$23,5,4)&$A52,Lista_Ubigeo!$J:$K,2,0),\" \")","v":" "},{"$f":"IFERROR(VLOOKUP(MID(AN$23,5,4)&$A52,Lista_Ubigeo!$J:$K,2,0),\" \")","v":" "},{"$f":"IFERROR(VLOOKUP(MID(AO$23,5,4)&$A52,Lista_Ubigeo!$J:$K,2,0),\" \")","v":" "},{"$f":"IFERROR(VLOOKUP(MID(AP$23,5,4)&$A52,Lista_Ubigeo!$J:$K,2,0),\" \")","v":" "},{"$f":"IFERROR(VLOOKUP(MID(AQ$23,4,4)&$A52,Lista_Ubigeo!$J:$K,2,0),\" \")","v":" "},{"$f":"IFERROR(VLOOKUP(MID(AR$23,5,4)&$A52,Lista_Ubigeo!$J:$K,2,0),\" \")","v":" "},{"$f":"IFERROR(VLOOKUP(MID(AS$23,5,4)&$A52,Lista_Ubigeo!$J:$K,2,0),\" \")","v":" "},{"$f":"IFERROR(VLOOKUP(MID(AT$23,5,4)&$A52,Lista_Ubigeo!$J:$K,2,0),\" \")","v":" "},{"$f":"IFERROR(VLOOKUP(MID(AU$23,5,4)&$A52,Lista_Ubigeo!$J:$K,2,0),\" \")","v":" "},{"$f":"IFERROR(VLOOKUP(MID(AV$23,5,4)&$A52,Lista_Ubigeo!$J:$K,2,0),\" \")","v":" "},{"$f":"IFERROR(VLOOKUP(MID(AW$23,5,4)&$A52,Lista_Ubigeo!$J:$K,2,0),\" \")","v":" "},{"$f":"IFERROR(VLOOKUP(MID(AX$23,5,4)&$A52,Lista_Ubigeo!$J:$K,2,0),\" \")","v":" "},{"$f":"IFERROR(VLOOKUP(MID(AY$23,5,4)&$A52,Lista_Ubigeo!$J:$K,2,0),\" \")","v":" "},{"$f":"IFERROR(VLOOKUP(MID(AZ$23,5,4)&$A52,Lista_Ubigeo!$J:$K,2,0),\" \")","v":" "},{"$f":"IFERROR(VLOOKUP(MID(BA$23,5,4)&$A52,Lista_Ubigeo!$J:$K,2,0),\" \")","v":" "},{"$f":"IFERROR(VLOOKUP(MID(BB$23,5,4)&$A52,Lista_Ubigeo!$J:$K,2,0),\" \")","v":" "},{"$f":"IFERROR(VLOOKUP(MID(BC$23,5,4)&$A52,Lista_Ubigeo!$J:$K,2,0),\" \")","v":" "},{"$f":"IFERROR(VLOOKUP(MID(BD$23,5,4)&$A52,Lista_Ubigeo!$J:$K,2,0),\" \")","v":" "},{"$f":"IFERROR(VLOOKUP(MID(BE$23,5,4)&$A52,Lista_Ubigeo!$J:$K,2,0),\" \")","v":" "},{"$f":"IFERROR(VLOOKUP(MID(BF$23,5,4)&$A52,Lista_Ubigeo!$J:$K,2,0),\" \")","v":" "},{"$f":"IFERROR(VLOOKUP(MID(BG$23,5,4)&$A52,Lista_Ubigeo!$J:$K,2,0),\" \")","v":" "},{"$f":"IFERROR(VLOOKUP(MID(BH$23,5,4)&$A52,Lista_Ubigeo!$J:$K,2,0),\" \")","v":" "},{"$f":"IFERROR(VLOOKUP(MID(BI$23,5,4)&$A52,Lista_Ubigeo!$J:$K,2,0),\" \")","v":" "},{"$f":"IFERROR(VLOOKUP(MID(BJ$23,5,4)&$A52,Lista_Ubigeo!$J:$K,2,0),\" \")","v":" "},{"$f":"IFERROR(VLOOKUP(MID(BK$23,5,4)&$A52,Lista_Ubigeo!$J:$K,2,0),\" \")","v":" "},{"$f":"IFERROR(VLOOKUP(MID(BL$23,5,4)&$A52,Lista_Ubigeo!$J:$K,2,0),\" \")","v":" "},{"$f":"IFERROR(VLOOKUP(MID(BM$23,5,4)&$A52,Lista_Ubigeo!$J:$K,2,0),\" \")","v":" "},{"$f":"IFERROR(VLOOKUP(MID(BN$23,5,4)&$A52,Lista_Ubigeo!$J:$K,2,0),\" \")","v":" "},{"$f":"IFERROR(VLOOKUP(MID(BO$23,5,4)&$A52,Lista_Ubigeo!$J:$K,2,0),\" \")","v":" "},{"$f":"IFERROR(VLOOKUP(MID(BP$23,5,4)&$A52,Lista_Ubigeo!$J:$K,2,0),\" \")","v":" "},{"$f":"IFERROR(VLOOKUP(MID(BQ$23,5,4)&$A52,Lista_Ubigeo!$J:$K,2,0),\" \")","v":" "},{"$f":"IFERROR(VLOOKUP(MID(BR$23,5,4)&$A52,Lista_Ubigeo!$J:$K,2,0),\" \")","v":" "},{"$f":"IFERROR(VLOOKUP(MID(BS$23,5,4)&$A52,Lista_Ubigeo!$J:$K,2,0),\" \")","v":" "},{"$f":"IFERROR(VLOOKUP(MID(BT$23,5,4)&$A52,Lista_Ubigeo!$J:$K,2,0),\" \")","v":" "},{"$f":"IFERROR(VLOOKUP(MID(BU$23,5,4)&$A52,Lista_Ubigeo!$J:$K,2,0),\" \")","v":" "},{"$f":"IFERROR(VLOOKUP(MID(BV$23,5,4)&$A52,Lista_Ubigeo!$J:$K,2,0),\" \")","v":" "},{"$f":"IFERROR(VLOOKUP(MID(BW$23,5,4)&$A52,Lista_Ubigeo!$J:$K,2,0),\" \")","v":" "},{"$f":"IFERROR(VLOOKUP(MID(BX$23,5,4)&$A52,Lista_Ubigeo!$J:$K,2,0),\" \")","v":" "},{"$f":"IFERROR(VLOOKUP(MID(BY$23,4,4)&$A52,Lista_Ubigeo!$J:$K,2,0),\" \")","v":" "},{"$f":"IFERROR(VLOOKUP(MID(BZ$23,5,4)&$A52,Lista_Ubigeo!$J:$K,2,0),\" \")","v":" "},{"$f":"IFERROR(VLOOKUP(MID(CA$23,5,4)&$A52,Lista_Ubigeo!$J:$K,2,0),\" \")","v":" "},{"$f":"IFERROR(VLOOKUP(MID(CB$23,5,4)&$A52,Lista_Ubigeo!$J:$K,2,0),\" \")","v":" "},{"$f":"IFERROR(VLOOKUP(MID(CC$23,5,4)&$A52,Lista_Ubigeo!$J:$K,2,0),\" \")","v":" "},{"$f":"IFERROR(VLOOKUP(MID(CD$23,5,4)&$A52,Lista_Ubigeo!$J:$K,2,0),\" \")","v":" "},{"$f":"IFERROR(VLOOKUP(MID(CE$23,5,4)&$A52,Lista_Ubigeo!$J:$K,2,0),\" \")","v":" "},{"$f":"IFERROR(VLOOKUP(MID(CF$23,5,4)&$A52,Lista_Ubigeo!$J:$K,2,0),\" \")","v":" "},{"$f":"IFERROR(VLOOKUP(MID(CG$23,5,4)&$A52,Lista_Ubigeo!$J:$K,2,0),\" \")","v":" "},{"$f":"IFERROR(VLOOKUP(MID(CH$23,5,4)&$A52,Lista_Ubigeo!$J:$K,2,0),\" \")","v":" "},{"$f":"IFERROR(VLOOKUP(MID(CI$23,5,4)&$A52,Lista_Ubigeo!$J:$K,2,0),\" \")","v":" "},{"$f":"IFERROR(VLOOKUP(MID(CJ$23,5,4)&$A52,Lista_Ubigeo!$J:$K,2,0),\" \")","v":" "},{"$f":"IFERROR(VLOOKUP(MID(CK$23,5,4)&$A52,Lista_Ubigeo!$J:$K,2,0),\" \")","v":" "},{"$f":"IFERROR(VLOOKUP(MID(CL$23,5,4)&$A52,Lista_Ubigeo!$J:$K,2,0),\" \")","v":" "},{"$f":"IFERROR(VLOOKUP(MID(CM$23,5,4)&$A63,Lista_Ubigeo!$J:$K,2,0),\" \")","v":" "},{"$f":"IFERROR(VLOOKUP(MID(CN$23,5,4)&$A52,Lista_Ubigeo!$J:$K,2,0),\" \")","v":" "},{"$f":"IFERROR(VLOOKUP(MID(CO$23,5,4)&$A52,Lista_Ubigeo!$J:$K,2,0),\" \")","v":" "},{"$f":"IFERROR(VLOOKUP(MID(CP$23,5,4)&$A52,Lista_Ubigeo!$J:$K,2,0),\" \")","v":" "},{"$f":"IFERROR(VLOOKUP(MID(CQ$23,5,4)&$A52,Lista_Ubigeo!$J:$K,2,0),\" \")","v":" "},{"$f":"IFERROR(VLOOKUP(MID(CR$23,5,4)&$A52,Lista_Ubigeo!$J:$K,2,0),\" \")","v":" "},{"$f":"IFERROR(VLOOKUP(MID(CS$23,5,4)&$A52,Lista_Ubigeo!$J:$K,2,0),\" \")","v":" "},{"$f":"IFERROR(VLOOKUP(MID(CT$23,5,4)&$A52,Lista_Ubigeo!$J:$K,2,0),\" \")","v":" "},{"$f":"IFERROR(VLOOKUP(MID(CU$23,5,4)&$A52,Lista_Ubigeo!$J:$K,2,0),\" \")","v":" "},{"$f":"IFERROR(VLOOKUP(MID(CV$23,5,4)&$A52,Lista_Ubigeo!$J:$K,2,0),\" \")","v":" "},{"$f":"IFERROR(VLOOKUP(MID(CW$23,5,4)&$A52,Lista_Ubigeo!$J:$K,2,0),\" \")","v":" "},{"$f":"IFERROR(VLOOKUP(MID(CX$23,5,4)&$A52,Lista_Ubigeo!$J:$K,2,0),\" \")","v":" "},{"$f":"IFERROR(VLOOKUP(MID(CY$23,5,4)&$A52,Lista_Ubigeo!$J:$K,2,0),\" \")","v":" "},{"$f":"IFERROR(VLOOKUP(MID(CZ$23,5,4)&$A52,Lista_Ubigeo!$J:$K,2,0),\" \")","v":" "},{"$f":"IFERROR(VLOOKUP(MID(DA$23,5,4)&$A52,Lista_Ubigeo!$J:$K,2,0),\" \")","v":"SAN AGUSTIN"},{"$f":"IFERROR(VLOOKUP(MID(DB$23,5,4)&$A52,Lista_Ubigeo!$J:$K,2,0),\" \")","v":" "},{"$f":"IFERROR(VLOOKUP(MID(DC$23,5,4)&$A52,Lista_Ubigeo!$J:$K,2,0),\" \")","v":" "},{"$f":"IFERROR(VLOOKUP(MID(DD$23,5,4)&$A52,Lista_Ubigeo!$J:$K,2,0),\" \")","v":"SAN PEDRO DE CHUNAN"},{"$f":"IFERROR(VLOOKUP(MID(DE$23,5,4)&$A52,Lista_Ubigeo!$J:$K,2,0),\" \")","v":" "},{"$f":"IFERROR(VLOOKUP(MID(DF$23,5,4)&$A52,Lista_Ubigeo!$J:$K,2,0),\" \")","v":" "},{"$f":"IFERROR(VLOOKUP(MID(DG$23,5,4)&$A52,Lista_Ubigeo!$J:$K,2,0),\" \")","v":" "},{"$f":"IFERROR(VLOOKUP(MID(DH$23,5,4)&$A52,Lista_Ubigeo!$J:$K,2,0),\" \")","v":" "},{"$f":"IFERROR(VLOOKUP(MID(DI$23,5,4)&$A52,Lista_Ubigeo!$J:$K,2,0),\" \")","v":" "},{"$f":"IFERROR(VLOOKUP(MID(DJ$23,5,4)&$A52,Lista_Ubigeo!$J:$K,2,0),\" \")","v":" "},{"$f":"IFERROR(VLOOKUP(MID(DK$23,5,4)&$A52,Lista_Ubigeo!$J:$K,2,0),\" \")","v":" "},{"$f":"IFERROR(VLOOKUP(MID(DL$23,5,4)&$A52,Lista_Ubigeo!$J:$K,2,0),\" \")","v":" "},{"$f":"IFERROR(VLOOKUP(MID(DM$23,5,4)&$A52,Lista_Ubigeo!$J:$K,2,0),\" \")","v":" "},{"$f":"IFERROR(VLOOKUP(MID(DN$23,5,4)&$A52,Lista_Ubigeo!$J:$K,2,0),\" \")","v":" "},{"$f":"IFERROR(VLOOKUP(MID(DO$23,5,4)&$A53,Lista_Ubigeo!$J:$K,2,0),\" \")","v":" "},{"$f":"IFERROR(VLOOKUP(MID(DP$23,5,4)&$A52,Lista_Ubigeo!$J:$K,2,0),\" \")","v":" "},{"$f":"IFERROR(VLOOKUP(MID(DQ$23,5,4)&$A52,Lista_Ubigeo!$J:$K,2,0),\" \")","v":" "},{"$f":"IFERROR(VLOOKUP(MID(DR$23,5,4)&$A52,Lista_Ubigeo!$J:$K,2,0),\" \")","v":" "},{"$f":"IFERROR(VLOOKUP(MID(DS$23,5,4)&$A52,Lista_Ubigeo!$J:$K,2,0),\" \")","v":" "},null,null,{"$f":"IFERROR(VLOOKUP(MID(DV$23,5,4)&$A52,Lista_Ubigeo!$J:$K,2,0),\" \")","v":" "},{"$f":"IFERROR(VLOOKUP(MID(DW$23,5,4)&$A52,Lista_Ubigeo!$J:$K,2,0),\" \")","v":" "},{"$f":"IFERROR(VLOOKUP(MID(DX$23,5,4)&$A52,Lista_Ubigeo!$J:$K,2,0),\" \")","v":" "},{"$f":"IFERROR(VLOOKUP(MID(DY$23,5,4)&$A52,Lista_Ubigeo!$J:$K,2,0),\" \")","v":"SAN BARTOLO"},{"$f":"IFERROR(VLOOKUP(MID(DZ$23,5,4)&$A52,Lista_Ubigeo!$J:$K,2,0),\" \")","v":" "},{"$f":"IFERROR(VLOOKUP(MID(EA$23,5,4)&$A52,Lista_Ubigeo!$J:$K,2,0),\" \")","v":" "},{"$f":"IFERROR(VLOOKUP(MID(EB$23,5,4)&$A52,Lista_Ubigeo!$J:$K,2,0),\" \")","v":" "},{"$f":"IFERROR(VLOOKUP(MID(EC$23,5,4)&$A52,Lista_Ubigeo!$J:$K,2,0),\" \")","v":" "},{"$f":"IFERROR(VLOOKUP(MID(ED$23,5,4)&$A52,Lista_Ubigeo!$J:$K,2,0),\" \")","v":" "},{"$f":"IFERROR(VLOOKUP(MID(EE$23,5,4)&$A52,Lista_Ubigeo!$J:$K,2,0),\" \")","v":"SANTIAGO DE ANCHUCAYA"},{"$f":"IFERROR(VLOOKUP(MID(EF$23,5,4)&$A52,Lista_Ubigeo!$J:$K,2,0),\" \")","v":" "},{"$f":"IFERROR(VLOOKUP(MID(EG$23,5,4)&$A52,Lista_Ubigeo!$J:$K,2,0),\" \")","v":" "},{"$f":"IFERROR(VLOOKUP(MID(EH$23,5,4)&$A52,Lista_Ubigeo!$J:$K,2,0),\" \")","v":"TAURIPAMPA"},{"$f":"IFERROR(VLOOKUP(MID(EI$23,5,4)&$A52,Lista_Ubigeo!$J:$K,2,0),\" \")","v":" "},{"$f":"IFERROR(VLOOKUP(MID(EJ$23,5,4)&$A57,Lista_Ubigeo!$J:$K,2,0),\" \")","v":" "},{"$f":"IFERROR(VLOOKUP(MID(EK$23,5,4)&$A52,Lista_Ubigeo!$J:$K,2,0),\" \")","v":" "},{"$f":"IFERROR(VLOOKUP(MID(EL$23,5,4)&$A52,Lista_Ubigeo!$J:$K,2,0),\" \")","v":" "},{"$f":"IFERROR(VLOOKUP(MID(EM$23,5,4)&$A52,Lista_Ubigeo!$J:$K,2,0),\" \")","v":" "},{"$f":"IFERROR(VLOOKUP(MID(EN$23,5,4)&$A52,Lista_Ubigeo!$J:$K,2,0),\" \")","v":" "},{"$f":"IFERROR(VLOOKUP(MID(EO$23,5,4)&$A52,Lista_Ubigeo!$J:$K,2,0),\" \")","v":" "},{"$f":"IFERROR(VLOOKUP(MID(EP$23,5,4)&$A52,Lista_Ubigeo!$J:$K,2,0),\" \")","v":" "},{"$f":"IFERROR(VLOOKUP(MID(EQ$23,5,4)&$A52,Lista_Ubigeo!$J:$K,2,0),\" \")","v":" "},{"$f":"IFERROR(VLOOKUP(MID(ER$23,5,4)&$A52,Lista_Ubigeo!$J:$K,2,0),\" \")","v":" "},{"$f":"IFERROR(VLOOKUP(MID(ES$23,5,4)&$A52,Lista_Ubigeo!$J:$K,2,0),\" \")","v":" "},{"$f":"IFERROR(VLOOKUP(MID(ET$23,5,4)&$A52,Lista_Ubigeo!$J:$K,2,0),\" \")","v":" "},{"$f":"IFERROR(VLOOKUP(MID(EU$23,5,4)&$A52,Lista_Ubigeo!$J:$K,2,0),\" \")","v":" "},{"$f":"IFERROR(VLOOKUP(MID(EV$23,5,4)&$A52,Lista_Ubigeo!$J:$K,2,0),\" \")","v":" "},{"$f":"IFERROR(VLOOKUP(MID(EW$23,5,4)&$A52,Lista_Ubigeo!$J:$K,2,0),\" \")","v":" "},{"$f":"IFERROR(VLOOKUP(MID(EX$23,5,4)&$A52,Lista_Ubigeo!$J:$K,2,0),\" \")","v":" "},{"$f":"IFERROR(VLOOKUP(MID(EY$23,5,4)&$A52,Lista_Ubigeo!$J:$K,2,0),\" \")","v":" "},{"$f":"IFERROR(VLOOKUP(MID(EZ$23,5,4)&$A55,Lista_Ubigeo!$J:$K,2,0),\" \")","v":" "},{"$f":"IFERROR(VLOOKUP(MID(FA$23,5,4)&$A52,Lista_Ubigeo!$J:$K,2,0),\" \")","v":" "},{"$f":"IFERROR(VLOOKUP(MID(FB$23,5,4)&$A52,Lista_Ubigeo!$J:$K,2,0),\" \")","v":" "},{"$f":"IFERROR(VLOOKUP(MID(FC$23,5,4)&$A52,Lista_Ubigeo!$J:$K,2,0),\" \")","v":" "},{"$f":"IFERROR(VLOOKUP(MID(FD$23,5,4)&$A52,Lista_Ubigeo!$J:$K,2,0),\" \")","v":" "},{"$f":"IFERROR(VLOOKUP(MID(FE$23,5,4)&$A52,Lista_Ubigeo!$J:$K,2,0),\" \")","v":" "},{"$f":"IFERROR(VLOOKUP(MID(FF$23,5,4)&$A52,Lista_Ubigeo!$J:$K,2,0),\" \")","v":" "},{"$f":"IFERROR(VLOOKUP(MID(FG$23,5,4)&$A52,Lista_Ubigeo!$J:$K,2,0),\" \")","v":" "},{"$f":"IFERROR(VLOOKUP(MID(FH$23,5,4)&$A52,Lista_Ubigeo!$J:$K,2,0),\" \")","v":" "},{"$f":"IFERROR(VLOOKUP(MID(FI$23,5,4)&$A52,Lista_Ubigeo!$J:$K,2,0),\" \")","v":" "},{"$f":"IFERROR(VLOOKUP(MID(FJ$23,5,4)&$A52,Lista_Ubigeo!$J:$K,2,0),\" \")","v":" "},{"$f":"IFERROR(VLOOKUP(MID(FK$23,5,4)&$A52,Lista_Ubigeo!$J:$K,2,0),\" \")","v":" "},{"$f":"IFERROR(VLOOKUP(MID(FL$23,5,4)&$A52,Lista_Ubigeo!$J:$K,2,0),\" \")","v":" "},{"$f":"IFERROR(VLOOKUP(MID(FM$23,5,4)&$A52,Lista_Ubigeo!$J:$K,2,0),\" \")","v":" "},{"$f":"IFERROR(VLOOKUP(MID(FN$23,5,4)&$A52,Lista_Ubigeo!$J:$K,2,0),\" \")","v":" "},{"$f":"IFERROR(VLOOKUP(MID(FO$23,5,4)&$A52,Lista_Ubigeo!$J:$K,2,0),\" \")","v":" "},{"$f":"IFERROR(VLOOKUP(MID(FP$23,5,4)&$A52,Lista_Ubigeo!$J:$K,2,0),\" \")","v":" "},{"$f":"IFERROR(VLOOKUP(MID(FQ$23,5,4)&$A52,Lista_Ubigeo!$J:$K,2,0),\" \")","v":" "},{"$f":"IFERROR(VLOOKUP(MID(FR$23,5,4)&$A52,Lista_Ubigeo!$J:$K,2,0),\" \")","v":" "},{"$f":"IFERROR(VLOOKUP(MID(FS$23,5,4)&$A52,Lista_Ubigeo!$J:$K,2,0),\" \")","v":" "},{"$f":"IFERROR(VLOOKUP(MID(FT$23,5,4)&$A52,Lista_Ubigeo!$J:$K,2,0),\" \")","v":" "},{"$f":"IFERROR(VLOOKUP(MID(FU$23,5,4)&$A52,Lista_Ubigeo!$J:$K,2,0),\" \")","v":" "},{"$f":"IFERROR(VLOOKUP(MID(FV$23,5,4)&$A52,Lista_Ubigeo!$J:$K,2,0),\" \")","v":" "},{"$f":"IFERROR(VLOOKUP(MID(FW$23,5,4)&$A52,Lista_Ubigeo!$J:$K,2,0),\" \")","v":" "},{"$f":"IFERROR(VLOOKUP(MID(FX$23,5,4)&$A52,Lista_Ubigeo!$J:$K,2,0),\" \")","v":" "},{"$f":"IFERROR(VLOOKUP(MID(FY$23,5,4)&$A52,Lista_Ubigeo!$J:$K,2,0),\" \")","v":" "},{"$f":"IFERROR(VLOOKUP(MID(FZ$23,5,4)&$A52,Lista_Ubigeo!$J:$K,2,0),\" \")","v":" "},{"$f":"IFERROR(VLOOKUP(MID(GA$23,5,4)&$A52,Lista_Ubigeo!$J:$K,2,0),\" \")","v":" "},{"$f":"IFERROR(VLOOKUP(MID(GB$23,5,4)&$A52,Lista_Ubigeo!$J:$K,2,0),\" \")","v":" "},{"$f":"IFERROR(VLOOKUP(MID(GC$23,5,4)&$A52,Lista_Ubigeo!$J:$K,2,0),\" \")","v":" "},{"$f":"IFERROR(VLOOKUP(MID(GD$23,5,4)&$A52,Lista_Ubigeo!$J:$K,2,0),\" \")","v":" "},{"$f":"IFERROR(VLOOKUP(MID(GE$23,5,4)&$A52,Lista_Ubigeo!$J:$K,2,0),\" \")","v":" "},{"$f":"IFERROR(VLOOKUP(MID(GF$23,5,4)&$A52,Lista_Ubigeo!$J:$K,2,0),\" \")","v":" "},{"$f":"IFERROR(VLOOKUP(MID(GG$23,5,4)&$A52,Lista_Ubigeo!$J:$K,2,0),\" \")","v":" "},{"$f":"IFERROR(VLOOKUP(MID(GH$23,5,4)&$A52,Lista_Ubigeo!$J:$K,2,0),\" \")","v":" "},{"$f":"IFERROR(VLOOKUP(MID(GI$23,5,4)&$A52,Lista_Ubigeo!$J:$K,2,0),\" \")","v":" "},{"$f":"IFERROR(VLOOKUP(MID(GJ$23,5,4)&$A52,Lista_Ubigeo!$J:$K,2,0),\" \")","v":" "},{"$f":"IFERROR(VLOOKUP(MID(GK$23,5,4)&$A52,Lista_Ubigeo!$J:$K,2,0),\" \")","v":" "},{"$f":"IFERROR(VLOOKUP(MID(GL$23,5,4)&$A52,Lista_Ubigeo!$J:$K,2,0),\" \")","v":" "},{"$f":"IFERROR(VLOOKUP(MID(GM$23,5,4)&$A52,Lista_Ubigeo!$J:$K,2,0),\" \")","v":" "},{"$f":"IFERROR(VLOOKUP(MID(GN$23,5,4)&$A52,Lista_Ubigeo!$J:$K,2,0),\" \")","v":" "},{"$f":"IFERROR(VLOOKUP(MID(GO$23,5,4)&$A52,Lista_Ubigeo!$J:$K,2,0),\" \")","v":" "},{"$f":"IFERROR(VLOOKUP(MID(GP$23,5,4)&$A52,Lista_Ubigeo!$J:$K,2,0),\" \")","v":" "}]
["30",{"$f":"IFERROR(VLOOKUP(MID(B$23,5,4)&$A53,Lista_Ubigeo!$J:$K,2,0),\" \")","v":" "},{"$f":"IFERROR(VLOOKUP(MID(C$23,5,4)&$A53,Lista_Ubigeo!$J:$K,2,0),\" \")","v":" "},{"$f":"IFERROR(VLOOKUP(MID(D$23,5,4)&$A53,Lista_Ubigeo!$J:$K,2,0),\" \")","v":" "},{"$f":"IFERROR(VLOOKUP(MID(E$23,5,4)&$A53,Lista_Ubigeo!$J:$K,2,0),\" \")","v":" "},{"$f":"IFERROR(VLOOKUP(MID(F$23,5,4)&$A53,Lista_Ubigeo!$J:$K,2,0),\" \")","v":" "},{"$f":"IFERROR(VLOOKUP(MID(G$23,5,4)&$A53,Lista_Ubigeo!$J:$K,2,0),\" \")","v":" "},{"$f":"IFERROR(VLOOKUP(MID(H$23,5,4)&$A53,Lista_Ubigeo!$J:$K,2,0),\" \")","v":" "},{"$f":"IFERROR(VLOOKUP(MID(I$23,5,4)&$A53,Lista_Ubigeo!$J:$K,2,0),\" \")","v":" "},{"$f":"IFERROR(VLOOKUP(MID(J$23,5,4)&$A53,Lista_Ubigeo!$J:$K,2,0),\" \")","v":" "},{"$f":"IFERROR(VLOOKUP(MID(K$23,5,4)&$A53,Lista_Ubigeo!$J:$K,2,0),\" \")","v":" "},{"$f":"IFERROR(VLOOKUP(MID(L$23,5,4)&$A53,Lista_Ubigeo!$J:$K,2,0),\" \")","v":" "},{"$f":"IFERROR(VLOOKUP(MID(M$23,5,4)&$A53,Lista_Ubigeo!$J:$K,2,0),\" \")","v":" "},{"$f":"IFERROR(VLOOKUP(MID(N$23,5,4)&$A53,Lista_Ubigeo!$J:$K,2,0),\" \")","v":" "},{"$f":"IFERROR(VLOOKUP(MID(O$23,5,4)&$A53,Lista_Ubigeo!$J:$K,2,0),\" \")","v":" "},{"$f":"IFERROR(VLOOKUP(MID(P$23,5,4)&$A53,Lista_Ubigeo!$J:$K,2,0),\" \")","v":" "},{"$f":"IFERROR(VLOOKUP(MID(Q$23,5,4)&$A53,Lista_Ubigeo!$J:$K,2,0),\" \")","v":" "},{"$f":"IFERROR(VLOOKUP(MID(R$23,5,4)&$A53,Lista_Ubigeo!$J:$K,2,0),\" \")","v":" "},{"$f":"IFERROR(VLOOKUP(MID(S$23,5,4)&$A53,Lista_Ubigeo!$J:$K,2,0),\" \")","v":" "},{"$f":"IFERROR(VLOOKUP(MID(T$23,5,4)&$A53,Lista_Ubigeo!$J:$K,2,0),\" \")","v":" "},{"$f":"IFERROR(VLOOKUP(MID(U$23,5,4)&$A53,Lista_Ubigeo!$J:$K,2,0),\" \")","v":" "},{"$f":"IFERROR(VLOOKUP(MID(V$23,5,4)&$A53,Lista_Ubigeo!$J:$K,2,0),\" \")","v":" "},{"$f":"IFERROR(VLOOKUP(MID(W$23,5,4)&$A53,Lista_Ubigeo!$J:$K,2,0),\" \")","v":" "},{"$f":"IFERROR(VLOOKUP(MID(X$23,5,4)&$A53,Lista_Ubigeo!$J:$K,2,0),\" \")","v":" "},{"$f":"IFERROR(VLOOKUP(MID(Y$23,5,4)&$A53,Lista_Ubigeo!$J:$K,2,0),\" \")","v":" "},{"$f":"IFERROR(VLOOKUP(MID(Z$23,5,4)&$A53,Lista_Ubigeo!$J:$K,2,0),\" \")","v":" "},{"$f":"IFERROR(VLOOKUP(MID(AA$23,5,4)&$A53,Lista_Ubigeo!$J:$K,2,0),\" \")","v":" "},{"$f":"IFERROR(VLOOKUP(MID(AB$23,5,4)&$A53,Lista_Ubigeo!$J:$K,2,0),\" \")","v":" "},{"$f":"IFERROR(VLOOKUP(MID(AC$23,5,4)&$A53,Lista_Ubigeo!$J:$K,2,0),\" \")","v":" "},{"$f":"IFERROR(VLOOKUP(MID(AD$23,5,4)&$A53,Lista_Ubigeo!$J:$K,2,0),\" \")","v":" "},{"$f":"IFERROR(VLOOKUP(MID(AE$23,5,4)&$A53,Lista_Ubigeo!$J:$K,2,0),\" \")","v":" "},{"$f":"IFERROR(VLOOKUP(MID(AF$23,5,4)&$A53,Lista_Ubigeo!$J:$K,2,0),\" \")","v":" "},{"$f":"IFERROR(VLOOKUP(MID(AG$23,5,4)&$A53,Lista_Ubigeo!$J:$K,2,0),\" \")","v":" "},{"$f":"IFERROR(VLOOKUP(MID(AH$23,5,4)&$A53,Lista_Ubigeo!$J:$K,2,0),\" \")","v":" "},{"$f":"IFERROR(VLOOKUP(MID(AI$23,5,4)&$A53,Lista_Ubigeo!$J:$K,2,0),\" \")","v":" "},{"$f":"IFERROR(VLOOKUP(MID(AJ$23,5,4)&$A53,Lista_Ubigeo!$J:$K,2,0),\" \")","v":" "},{"$f":"IFERROR(VLOOKUP(MID(AK$23,5,4)&$A53,Lista_Ubigeo!$J:$K,2,0),\" \")","v":" "},{"$f":"IFERROR(VLOOKUP(MID(AL$23,5,4)&$A53,Lista_Ubigeo!$J:$K,2,0),\" \")","v":" "},{"$f":"IFERROR(VLOOKUP(MID(AM$23,5,4)&$A53,Lista_Ubigeo!$J:$K,2,0),\" \")","v":" "},{"$f":"IFERROR(VLOOKUP(MID(AN$23,5,4)&$A53,Lista_Ubigeo!$J:$K,2,0),\" \")","v":" "},{"$f":"IFERROR(VLOOKUP(MID(AO$23,5,4)&$A53,Lista_Ubigeo!$J:$K,2,0),\" \")","v":" "},{"$f":"IFERROR(VLOOKUP(MID(AP$23,5,4)&$A53,Lista_Ubigeo!$J:$K,2,0),\" \")","v":" "},{"$f":"IFERROR(VLOOKUP(MID(AQ$23,4,4)&$A53,Lista_Ubigeo!$J:$K,2,0),\" \")","v":" "},{"$f":"IFERROR(VLOOKUP(MID(AR$23,5,4)&$A53,Lista_Ubigeo!$J:$K,2,0),\" \")","v":" "},{"$f":"IFERROR(VLOOKUP(MID(AS$23,5,4)&$A53,Lista_Ubigeo!$J:$K,2,0),\" \")","v":" "},{"$f":"IFERROR(VLOOKUP(MID(AT$23,5,4)&$A53,Lista_Ubigeo!$J:$K,2,0),\" \")","v":" "},{"$f":"IFERROR(VLOOKUP(MID(AU$23,5,4)&$A53,Lista_Ubigeo!$J:$K,2,0),\" \")","v":" "},{"$f":"IFERROR(VLOOKUP(MID(AV$23,5,4)&$A53,Lista_Ubigeo!$J:$K,2,0),\" \")","v":" "},{"$f":"IFERROR(VLOOKUP(MID(AW$23,5,4)&$A53,Lista_Ubigeo!$J:$K,2,0),\" \")","v":" "},{"$f":"IFERROR(VLOOKUP(MID(AX$23,5,4)&$A53,Lista_Ubigeo!$J:$K,2,0),\" \")","v":" "},{"$f":"IFERROR(VLOOKUP(MID(AY$23,5,4)&$A53,Lista_Ubigeo!$J:$K,2,0),\" \")","v":" "},{"$f":"IFERROR(VLOOKUP(MID(AZ$23,5,4)&$A53,Lista_Ubigeo!$J:$K,2,0),\" \")","v":" "},{"$f":"IFERROR(VLOOKUP(MID(BA$23,5,4)&$A53,Lista_Ubigeo!$J:$K,2,0),\" \")","v":" "},{"$f":"IFERROR(VLOOKUP(MID(BB$23,5,4)&$A53,Lista_Ubigeo!$J:$K,2,0),\" \")","v":" "},{"$f":"IFERROR(VLOOKUP(MID(BC$23,5,4)&$A53,Lista_Ubigeo!$J:$K,2,0),\" \")","v":" "},{"$f":"IFERROR(VLOOKUP(MID(BD$23,5,4)&$A53,Lista_Ubigeo!$J:$K,2,0),\" \")","v":" "},{"$f":"IFERROR(VLOOKUP(MID(BE$23,5,4)&$A53,Lista_Ubigeo!$J:$K,2,0),\" \")","v":" "},{"$f":"IFERROR(VLOOKUP(MID(BF$23,5,4)&$A53,Lista_Ubigeo!$J:$K,2,0),\" \")","v":" "},{"$f":"IFERROR(VLOOKUP(MID(BG$23,5,4)&$A53,Lista_Ubigeo!$J:$K,2,0),\" \")","v":" "},{"$f":"IFERROR(VLOOKUP(MID(BH$23,5,4)&$A53,Lista_Ubigeo!$J:$K,2,0),\" \")","v":" "},{"$f":"IFERROR(VLOOKUP(MID(BI$23,5,4)&$A53,Lista_Ubigeo!$J:$K,2,0),\" \")","v":" "},{"$f":"IFERROR(VLOOKUP(MID(BJ$23,5,4)&$A53,Lista_Ubigeo!$J:$K,2,0),\" \")","v":" "},{"$f":"IFERROR(VLOOKUP(MID(BK$23,5,4)&$A53,Lista_Ubigeo!$J:$K,2,0),\" \")","v":" "},{"$f":"IFERROR(VLOOKUP(MID(BL$23,5,4)&$A53,Lista_Ubigeo!$J:$K,2,0),\" \")","v":" "},{"$f":"IFERROR(VLOOKUP(MID(BM$23,5,4)&$A53,Lista_Ubigeo!$J:$K,2,0),\" \")","v":" "},{"$f":"IFERROR(VLOOKUP(MID(BN$23,5,4)&$A53,Lista_Ubigeo!$J:$K,2,0),\" \")","v":" "},{"$f":"IFERROR(VLOOKUP(MID(BO$23,5,4)&$A53,Lista_Ubigeo!$J:$K,2,0),\" \")","v":" "},{"$f":"IFERROR(VLOOKUP(MID(BP$23,5,4)&$A53,Lista_Ubigeo!$J:$K,2,0),\" \")","v":" "},{"$f":"IFERROR(VLOOKUP(MID(BQ$23,5,4)&$A53,Lista_Ubigeo!$J:$K,2,0),\" \")","v":" "},{"$f":"IFERROR(VLOOKUP(MID(BR$23,5,4)&$A53,Lista_Ubigeo!$J:$K,2,0),\" \")","v":" "},{"$f":"IFERROR(VLOOKUP(MID(BS$23,5,4)&$A53,Lista_Ubigeo!$J:$K,2,0),\" \")","v":" "},{"$f":"IFERROR(VLOOKUP(MID(BT$23,5,4)&$A53,Lista_Ubigeo!$J:$K,2,0),\" \")","v":" "},{"$f":"IFERROR(VLOOKUP(MID(BU$23,5,4)&$A53,Lista_Ubigeo!$J:$K,2,0),\" \")","v":" "},{"$f":"IFERROR(VLOOKUP(MID(BV$23,5,4)&$A53,Lista_Ubigeo!$J:$K,2,0),\" \")","v":" "},{"$f":"IFERROR(VLOOKUP(MID(BW$23,5,4)&$A53,Lista_Ubigeo!$J:$K,2,0),\" \")","v":" "},{"$f":"IFERROR(VLOOKUP(MID(BX$23,5,4)&$A53,Lista_Ubigeo!$J:$K,2,0),\" \")","v":" "},{"$f":"IFERROR(VLOOKUP(MID(BY$23,4,4)&$A53,Lista_Ubigeo!$J:$K,2,0),\" \")","v":" "},{"$f":"IFERROR(VLOOKUP(MID(BZ$23,5,4)&$A53,Lista_Ubigeo!$J:$K,2,0),\" \")","v":" "},{"$f":"IFERROR(VLOOKUP(MID(CA$23,5,4)&$A53,Lista_Ubigeo!$J:$K,2,0),\" \")","v":" "},{"$f":"IFERROR(VLOOKUP(MID(CB$23,5,4)&$A53,Lista_Ubigeo!$J:$K,2,0),\" \")","v":" "},{"$f":"IFERROR(VLOOKUP(MID(CC$23,5,4)&$A53,Lista_Ubigeo!$J:$K,2,0),\" \")","v":" "},{"$f":"IFERROR(VLOOKUP(MID(CD$23,5,4)&$A53,Lista_Ubigeo!$J:$K,2,0),\" \")","v":" "},{"$f":"IFERROR(VLOOKUP(MID(CE$23,5,4)&$A53,Lista_Ubigeo!$J:$K,2,0),\" \")","v":" "},{"$f":"IFERROR(VLOOKUP(MID(CF$23,5,4)&$A53,Lista_Ubigeo!$J:$K,2,0),\" \")","v":" "},{"$f":"IFERROR(VLOOKUP(MID(CG$23,5,4)&$A53,Lista_Ubigeo!$J:$K,2,0),\" \")","v":" "},{"$f":"IFERROR(VLOOKUP(MID(CH$23,5,4)&$A53,Lista_Ubigeo!$J:$K,2,0),\" \")","v":" "},{"$f":"IFERROR(VLOOKUP(MID(CI$23,5,4)&$A53,Lista_Ubigeo!$J:$K,2,0),\" \")","v":" "},{"$f":"IFERROR(VLOOKUP(MID(CJ$23,5,4)&$A53,Lista_Ubigeo!$J:$K,2,0),\" \")","v":" "},{"$f":"IFERROR(VLOOKUP(MID(CK$23,5,4)&$A53,Lista_Ubigeo!$J:$K,2,0),\" \")","v":" "},{"$f":"IFERROR(VLOOKUP(MID(CL$23,5,4)&$A53,Lista_Ubigeo!$J:$K,2,0),\" \")","v":" "},{"$f":"IFERROR(VLOOKUP(MID(CM$23,5,4)&$A64,Lista_Ubigeo!$J:$K,2,0),\" \")","v":" "},{"$f":"IFERROR(VLOOKUP(MID(CN$23,5,4)&$A53,Lista_Ubigeo!$J:$K,2,0),\" \")","v":" "},{"$f":"IFERROR(VLOOKUP(MID(CO$23,5,4)&$A53,Lista_Ubigeo!$J:$K,2,0),\" \")","v":" "},{"$f":"IFERROR(VLOOKUP(MID(CP$23,5,4)&$A53,Lista_Ubigeo!$J:$K,2,0),\" \")","v":" "},{"$f":"IFERROR(VLOOKUP(MID(CQ$23,5,4)&$A53,Lista_Ubigeo!$J:$K,2,0),\" \")","v":" "},{"$f":"IFERROR(VLOOKUP(MID(CR$23,5,4)&$A53,Lista_Ubigeo!$J:$K,2,0),\" \")","v":" "},{"$f":"IFERROR(VLOOKUP(MID(CS$23,5,4)&$A53,Lista_Ubigeo!$J:$K,2,0),\" \")","v":" "},{"$f":"IFERROR(VLOOKUP(MID(CT$23,5,4)&$A53,Lista_Ubigeo!$J:$K,2,0),\" \")","v":" "},{"$f":"IFERROR(VLOOKUP(MID(CU$23,5,4)&$A53,Lista_Ubigeo!$J:$K,2,0),\" \")","v":" "},{"$f":"IFERROR(VLOOKUP(MID(CV$23,5,4)&$A53,Lista_Ubigeo!$J:$K,2,0),\" \")","v":" "},{"$f":"IFERROR(VLOOKUP(MID(CW$23,5,4)&$A53,Lista_Ubigeo!$J:$K,2,0),\" \")","v":" "},{"$f":"IFERROR(VLOOKUP(MID(CX$23,5,4)&$A53,Lista_Ubigeo!$J:$K,2,0),\" \")","v":" "},{"$f":"IFERROR(VLOOKUP(MID(CY$23,5,4)&$A53,Lista_Ubigeo!$J:$K,2,0),\" \")","v":" "},{"$f":"IFERROR(VLOOKUP(MID(CZ$23,5,4)&$A53,Lista_Ubigeo!$J:$K,2,0),\" \")","v":" "},{"$f":"IFERROR(VLOOKUP(MID(DA$23,5,4)&$A53,Lista_Ubigeo!$J:$K,2,0),\" \")","v":"SAN JERONIMO DE TUNAN"},{"$f":"IFERROR(VLOOKUP(MID(DB$23,5,4)&$A53,Lista_Ubigeo!$J:$K,2,0),\" \")","v":" "},{"$f":"IFERROR(VLOOKUP(MID(DC$23,5,4)&$A53,Lista_Ubigeo!$J:$K,2,0),\" \")","v":" "},{"$f":"IFERROR(VLOOKUP(MID(DD$23,5,4)&$A53,Lista_Ubigeo!$J:$K,2,0),\" \")","v":"SAUSA"},{"$f":"IFERROR(VLOOKUP(MID(DE$23,5,4)&$A53,Lista_Ubigeo!$J:$K,2,0),\" \")","v":" "},{"$f":"IFERROR(VLOOKUP(MID(DF$23,5,4)&$A53,Lista_Ubigeo!$J:$K,2,0),\" \")","v":" "},{"$f":"IFERROR(VLOOKUP(MID(DG$23,5,4)&$A53,Lista_Ubigeo!$J:$K,2,0),\" \")","v":" "},{"$f":"IFERROR(VLOOKUP(MID(DH$23,5,4)&$A53,Lista_Ubigeo!$J:$K,2,0),\" \")","v":" "},{"$f":"IFERROR(VLOOKUP(MID(DI$23,5,4)&$A53,Lista_Ubigeo!$J:$K,2,0),\" \")","v":" "},{"$f":"IFERROR(VLOOKUP(MID(DJ$23,5,4)&$A53,Lista_Ubigeo!$J:$K,2,0),\" \")","v":" "},{"$f":"IFERROR(VLOOKUP(MID(DK$23,5,4)&$A53,Lista_Ubigeo!$J:$K,2,0),\" \")","v":" "},{"$f":"IFERROR(VLOOKUP(MID(DL$23,5,4)&$A53,Lista_Ubigeo!$J:$K,2,0),\" \")","v":" "},{"$f":"IFERROR(VLOOKUP(MID(DM$23,5,4)&$A53,Lista_Ubigeo!$J:$K,2,0),\" \")","v":" "},{"$f":"IFERROR(VLOOKUP(MID(DN$23,5,4)&$A53,Lista_Ubigeo!$J:$K,2,0),\" \")","v":" "},{"$f":"IFERROR(VLOOKUP(MID(DO$23,5,4)&$A54,Lista_Ubigeo!$J:$K,2,0),\" \")","v":" "},{"$f":"IFERROR(VLOOKUP(MID(DP$23,5,4)&$A53,Lista_Ubigeo!$J:$K,2,0),\" \")","v":" "},{"$f":"IFERROR(VLOOKUP(MID(DQ$23,5,4)&$A53,Lista_Ubigeo!$J:$K,2,0),\" \")","v":" "},{"$f":"IFERROR(VLOOKUP(MID(DR$23,5,4)&$A53,Lista_Ubigeo!$J:$K,2,0),\" \")","v":" "},{"$f":"IFERROR(VLOOKUP(MID(DS$23,5,4)&$A53,Lista_Ubigeo!$J:$K,2,0),\" \")","v":" "},null,null,{"$f":"IFERROR(VLOOKUP(MID(DV$23,5,4)&$A53,Lista_Ubigeo!$J:$K,2,0),\" \")","v":" "},{"$f":"IFERROR(VLOOKUP(MID(DW$23,5,4)&$A53,Lista_Ubigeo!$J:$K,2,0),\" \")","v":" "},{"$f":"IFERROR(VLOOKUP(MID(DX$23,5,4)&$A53,Lista_Ubigeo!$J:$K,2,0),\" \")","v":" "},{"$f":"IFERROR(VLOOKUP(MID(DY$23,5,4)&$A53,Lista_Ubigeo!$J:$K,2,0),\" \")","v":"SAN BORJA"},{"$f":"IFERROR(VLOOKUP(MID(DZ$23,5,4)&$A53,Lista_Ubigeo!$J:$K,2,0),\" \")","v":" "},{"$f":"IFERROR(VLOOKUP(MID(EA$23,5,4)&$A53,Lista_Ubigeo!$J:$K,2,0),\" \")","v":" "},{"$f":"IFERROR(VLOOKUP(MID(EB$23,5,4)&$A53,Lista_Ubigeo!$J:$K,2,0),\" \")","v":" "},{"$f":"IFERROR(VLOOKUP(MID(EC$23,5,4)&$A53,Lista_Ubigeo!$J:$K,2,0),\" \")","v":" "},{"$f":"IFERROR(VLOOKUP(MID(ED$23,5,4)&$A53,Lista_Ubigeo!$J:$K,2,0),\" \")","v":" "},{"$f":"IFERROR(VLOOKUP(MID(EE$23,5,4)&$A53,Lista_Ubigeo!$J:$K,2,0),\" \")","v":"SANTIAGO DE TUNA"},{"$f":"IFERROR(VLOOKUP(MID(EF$23,5,4)&$A53,Lista_Ubigeo!$J:$K,2,0),\" \")","v":" "},{"$f":"IFERROR(VLOOKUP(MID(EG$23,5,4)&$A53,Lista_Ubigeo!$J:$K,2,0),\" \")","v":" "},{"$f":"IFERROR(VLOOKUP(MID(EH$23,5,4)&$A53,Lista_Ubigeo!$J:$K,2,0),\" \")","v":"TOMAS"},{"$f":"IFERROR(VLOOKUP(MID(EI$23,5,4)&$A53,Lista_Ubigeo!$J:$K,2,0),\" \")","v":" "},{"$f":"IFERROR(VLOOKUP(MID(EJ$23,5,4)&$A58,Lista_Ubigeo!$J:$K,2,0),\" \")","v":" "},{"$f":"IFERROR(VLOOKUP(MID(EK$23,5,4)&$A53,Lista_Ubigeo!$J:$K,2,0),\" \")","v":" "},{"$f":"IFERROR(VLOOKUP(MID(EL$23,5,4)&$A53,Lista_Ubigeo!$J:$K,2,0),\" \")","v":" "},{"$f":"IFERROR(VLOOKUP(MID(EM$23,5,4)&$A53,Lista_Ubigeo!$J:$K,2,0),\" \")","v":" "},{"$f":"IFERROR(VLOOKUP(MID(EN$23,5,4)&$A53,Lista_Ubigeo!$J:$K,2,0),\" \")","v":" "},{"$f":"IFERROR(VLOOKUP(MID(EO$23,5,4)&$A53,Lista_Ubigeo!$J:$K,2,0),\" \")","v":" "},{"$f":"IFERROR(VLOOKUP(MID(EP$23,5,4)&$A53,Lista_Ubigeo!$J:$K,2,0),\" \")","v":" "},{"$f":"IFERROR(VLOOKUP(MID(EQ$23,5,4)&$A53,Lista_Ubigeo!$J:$K,2,0),\" \")","v":" "},{"$f":"IFERROR(VLOOKUP(MID(ER$23,5,4)&$A53,Lista_Ubigeo!$J:$K,2,0),\" \")","v":" "},{"$f":"IFERROR(VLOOKUP(MID(ES$23,5,4)&$A53,Lista_Ubigeo!$J:$K,2,0),\" \")","v":" "},{"$f":"IFERROR(VLOOKUP(MID(ET$23,5,4)&$A53,Lista_Ubigeo!$J:$K,2,0),\" \")","v":" "},{"$f":"IFERROR(VLOOKUP(MID(EU$23,5,4)&$A53,Lista_Ubigeo!$J:$K,2,0),\" \")","v":" "},{"$f":"IFERROR(VLOOKUP(MID(EV$23,5,4)&$A53,Lista_Ubigeo!$J:$K,2,0),\" \")","v":" "},{"$f":"IFERROR(VLOOKUP(MID(EW$23,5,4)&$A53,Lista_Ubigeo!$J:$K,2,0),\" \")","v":" "},{"$f":"IFERROR(VLOOKUP(MID(EX$23,5,4)&$A53,Lista_Ubigeo!$J:$K,2,0),\" \")","v":" "},{"$f":"IFERROR(VLOOKUP(MID(EY$23,5,4)&$A53,Lista_Ubigeo!$J:$K,2,0),\" \")","v":" "},{"$f":"IFERROR(VLOOKUP(MID(EZ$23,5,4)&$A56,Lista_Ubigeo!$J:$K,2,0),\" \")","v":" "},{"$f":"IFERROR(VLOOKUP(MID(FA$23,5,4)&$A53,Lista_Ubigeo!$J:$K,2,0),\" \")","v":" "},{"$f":"IFERROR(VLOOKUP(MID(FB$23,5,4)&$A53,Lista_Ubigeo!$J:$K,2,0),\" \")","v":" "},{"$f":"IFERROR(VLOOKUP(MID(FC$23,5,4)&$A53,Lista_Ubigeo!$J:$K,2,0),\" \")","v":" "},{"$f":"IFERROR(VLOOKUP(MID(FD$23,5,4)&$A53,Lista_Ubigeo!$J:$K,2,0),\" \")","v":" "},{"$f":"IFERROR(VLOOKUP(MID(FE$23,5,4)&$A53,Lista_Ubigeo!$J:$K,2,0),\" \")","v":" "},{"$f":"IFERROR(VLOOKUP(MID(FF$23,5,4)&$A53,Lista_Ubigeo!$J:$K,2,0),\" \")","v":" "},{"$f":"IFERROR(VLOOKUP(MID(FG$23,5,4)&$A53,Lista_Ubigeo!$J:$K,2,0),\" \")","v":" "},{"$f":"IFERROR(VLOOKUP(MID(FH$23,5,4)&$A53,Lista_Ubigeo!$J:$K,2,0),\" \")","v":" "},{"$f":"IFERROR(VLOOKUP(MID(FI$23,5,4)&$A53,Lista_Ubigeo!$J:$K,2,0),\" \")","v":" "},{"$f":"IFERROR(VLOOKUP(MID(FJ$23,5,4)&$A53,Lista_Ubigeo!$J:$K,2,0),\" \")","v":" "},{"$f":"IFERROR(VLOOKUP(MID(FK$23,5,4)&$A53,Lista_Ubigeo!$J:$K,2,0),\" \")","v":" "},{"$f":"IFERROR(VLOOKUP(MID(FL$23,5,4)&$A53,Lista_Ubigeo!$J:$K,2,0),\" \")","v":" "},{"$f":"IFERROR(VLOOKUP(MID(FM$23,5,4)&$A53,Lista_Ubigeo!$J:$K,2,0),\" \")","v":" "},{"$f":"IFERROR(VLOOKUP(MID(FN$23,5,4)&$A53,Lista_Ubigeo!$J:$K,2,0),\" \")","v":" "},{"$f":"IFERROR(VLOOKUP(MID(FO$23,5,4)&$A53,Lista_Ubigeo!$J:$K,2,0),\" \")","v":" "},{"$f":"IFERROR(VLOOKUP(MID(FP$23,5,4)&$A53,Lista_Ubigeo!$J:$K,2,0),\" \")","v":" "},{"$f":"IFERROR(VLOOKUP(MID(FQ$23,5,4)&$A53,Lista_Ubigeo!$J:$K,2,0),\" \")","v":" "},{"$f":"IFERROR(VLOOKUP(MID(FR$23,5,4)&$A53,Lista_Ubigeo!$J:$K,2,0),\" \")","v":" "},{"$f":"IFERROR(VLOOKUP(MID(FS$23,5,4)&$A53,Lista_Ubigeo!$J:$K,2,0),\" \")","v":" "},{"$f":"IFERROR(VLOOKUP(MID(FT$23,5,4)&$A53,Lista_Ubigeo!$J:$K,2,0),\" \")","v":" "},{"$f":"IFERROR(VLOOKUP(MID(FU$23,5,4)&$A53,Lista_Ubigeo!$J:$K,2,0),\" \")","v":" "},{"$f":"IFERROR(VLOOKUP(MID(FV$23,5,4)&$A53,Lista_Ubigeo!$J:$K,2,0),\" \")","v":" "},{"$f":"IFERROR(VLOOKUP(MID(FW$23,5,4)&$A53,Lista_Ubigeo!$J:$K,2,0),\" \")","v":" "},{"$f":"IFERROR(VLOOKUP(MID(FX$23,5,4)&$A53,Lista_Ubigeo!$J:$K,2,0),\" \")","v":" "},{"$f":"IFERROR(VLOOKUP(MID(FY$23,5,4)&$A53,Lista_Ubigeo!$J:$K,2,0),\" \")","v":" "},{"$f":"IFERROR(VLOOKUP(MID(FZ$23,5,4)&$A53,Lista_Ubigeo!$J:$K,2,0),\" \")","v":" "},{"$f":"IFERROR(VLOOKUP(MID(GA$23,5,4)&$A53,Lista_Ubigeo!$J:$K,2,0),\" \")","v":" "},{"$f":"IFERROR(VLOOKUP(MID(GB$23,5,4)&$A53,Lista_Ubigeo!$J:$K,2,0),\" \")","v":" "},{"$f":"IFERROR(VLOOKUP(MID(GC$23,5,4)&$A53,Lista_Ubigeo!$J:$K,2,0),\" \")","v":" "},{"$f":"IFERROR(VLOOKUP(MID(GD$23,5,4)&$A53,Lista_Ubigeo!$J:$K,2,0),\" \")","v":" "},{"$f":"IFERROR(VLOOKUP(MID(GE$23,5,4)&$A53,Lista_Ubigeo!$J:$K,2,0),\" \")","v":" "},{"$f":"IFERROR(VLOOKUP(MID(GF$23,5,4)&$A53,Lista_Ubigeo!$J:$K,2,0),\" \")","v":" "},{"$f":"IFERROR(VLOOKUP(MID(GG$23,5,4)&$A53,Lista_Ubigeo!$J:$K,2,0),\" \")","v":" "},{"$f":"IFERROR(VLOOKUP(MID(GH$23,5,4)&$A53,Lista_Ubigeo!$J:$K,2,0),\" \")","v":" "},{"$f":"IFERROR(VLOOKUP(MID(GI$23,5,4)&$A53,Lista_Ubigeo!$J:$K,2,0),\" \")","v":" "},{"$f":"IFERROR(VLOOKUP(MID(GJ$23,5,4)&$A53,Lista_Ubigeo!$J:$K,2,0),\" \")","v":" "},{"$f":"IFERROR(VLOOKUP(MID(GK$23,5,4)&$A53,Lista_Ubigeo!$J:$K,2,0),\" \")","v":" "},{"$f":"IFERROR(VLOOKUP(MID(GL$23,5,4)&$A53,Lista_Ubigeo!$J:$K,2,0),\" \")","v":" "},{"$f":"IFERROR(VLOOKUP(MID(GM$23,5,4)&$A53,Lista_Ubigeo!$J:$K,2,0),\" \")","v":" "},{"$f":"IFERROR(VLOOKUP(MID(GN$23,5,4)&$A53,Lista_Ubigeo!$J:$K,2,0),\" \")","v":" "},{"$f":"IFERROR(VLOOKUP(MID(GO$23,5,4)&$A53,Lista_Ubigeo!$J:$K,2,0),\" \")","v":" "},{"$f":"IFERROR(VLOOKUP(MID(GP$23,5,4)&$A53,Lista_Ubigeo!$J:$K,2,0),\" \")","v":" "}]
["31",{"$f":"IFERROR(VLOOKUP(MID(B$23,5,4)&$A54,Lista_Ubigeo!$J:$K,2,0),\" \")","v":" "},{"$f":"IFERROR(VLOOKUP(MID(C$23,5,4)&$A54,Lista_Ubigeo!$J:$K,2,0),\" \")","v":" "},{"$f":"IFERROR(VLOOKUP(MID(D$23,5,4)&$A54,Lista_Ubigeo!$J:$K,2,0),\" \")","v":" "},{"$f":"IFERROR(VLOOKUP(MID(E$23,5,4)&$A54,Lista_Ubigeo!$J:$K,2,0),\" \")","v":" "},{"$f":"IFERROR(VLOOKUP(MID(F$23,5,4)&$A54,Lista_Ubigeo!$J:$K,2,0),\" \")","v":" "},{"$f":"IFERROR(VLOOKUP(MID(G$23,5,4)&$A54,Lista_Ubigeo!$J:$K,2,0),\" \")","v":" "},{"$f":"IFERROR(VLOOKUP(MID(H$23,5,4)&$A54,Lista_Ubigeo!$J:$K,2,0),\" \")","v":" "},{"$f":"IFERROR(VLOOKUP(MID(I$23,5,4)&$A54,Lista_Ubigeo!$J:$K,2,0),\" \")","v":" "},{"$f":"IFERROR(VLOOKUP(MID(J$23,5,4)&$A54,Lista_Ubigeo!$J:$K,2,0),\" \")","v":" "},{"$f":"IFERROR(VLOOKUP(MID(K$23,5,4)&$A54,Lista_Ubigeo!$J:$K,2,0),\" \")","v":" "},{"$f":"IFERROR(VLOOKUP(MID(L$23,5,4)&$A54,Lista_Ubigeo!$J:$K,2,0),\" \")","v":" "},{"$f":"IFERROR(VLOOKUP(MID(M$23,5,4)&$A54,Lista_Ubigeo!$J:$K,2,0),\" \")","v":" "},{"$f":"IFERROR(VLOOKUP(MID(N$23,5,4)&$A54,Lista_Ubigeo!$J:$K,2,0),\" \")","v":" "},{"$f":"IFERROR(VLOOKUP(MID(O$23,5,4)&$A54,Lista_Ubigeo!$J:$K,2,0),\" \")","v":" "},{"$f":"IFERROR(VLOOKUP(MID(P$23,5,4)&$A54,Lista_Ubigeo!$J:$K,2,0),\" \")","v":" "},{"$f":"IFERROR(VLOOKUP(MID(Q$23,5,4)&$A54,Lista_Ubigeo!$J:$K,2,0),\" \")","v":" "},{"$f":"IFERROR(VLOOKUP(MID(R$23,5,4)&$A54,Lista_Ubigeo!$J:$K,2,0),\" \")","v":" "},{"$f":"IFERROR(VLOOKUP(MID(S$23,5,4)&$A54,Lista_Ubigeo!$J:$K,2,0),\" \")","v":" "},{"$f":"IFERROR(VLOOKUP(MID(T$23,5,4)&$A54,Lista_Ubigeo!$J:$K,2,0),\" \")","v":" "},{"$f":"IFERROR(VLOOKUP(MID(U$23,5,4)&$A54,Lista_Ubigeo!$J:$K,2,0),\" \")","v":" "},{"$f":"IFERROR(VLOOKUP(MID(V$23,5,4)&$A54,Lista_Ubigeo!$J:$K,2,0),\" \")","v":" "},{"$f":"IFERROR(VLOOKUP(MID(W$23,5,4)&$A54,Lista_Ubigeo!$J:$K,2,0),\" \")","v":" "},{"$f":"IFERROR(VLOOKUP(MID(X$23,5,4)&$A54,Lista_Ubigeo!$J:$K,2,0),\" \")","v":" "},{"$f":"IFERROR(VLOOKUP(MID(Y$23,5,4)&$A54,Lista_Ubigeo!$J:$K,2,0),\" \")","v":" "},{"$f":"IFERROR(VLOOKUP(MID(Z$23,5,4)&$A54,Lista_Ubigeo!$J:$K,2,0),\" \")","v":" "},{"$f":"IFERROR(VLOOKUP(MID(AA$23,5,4)&$A54,Lista_Ubigeo!$J:$K,2,0),\" \")","v":" "},{"$f":"IFERROR(VLOOKUP(MID(AB$23,5,4)&$A54,Lista_Ubigeo!$J:$K,2,0),\" \")","v":" "},{"$f":"IFERROR(VLOOKUP(MID(AC$23,5,4)&$A54,Lista_Ubigeo!$J:$K,2,0),\" \")","v":" "},{"$f":"IFERROR(VLOOKUP(MID(AD$23,5,4)&$A54,Lista_Ubigeo!$J:$K,2,0),\" \")","v":" "},{"$f":"IFERROR(VLOOKUP(MID(AE$23,5,4)&$A54,Lista_Ubigeo!$J:$K,2,0),\" \")","v":" "},{"$f":"IFERROR(VLOOKUP(MID(AF$23,5,4)&$A54,Lista_Ubigeo!$J:$K,2,0),\" \")","v":" "},{"$f":"IFERROR(VLOOKUP(MID(AG$23,5,4)&$A54,Lista_Ubigeo!$J:$K,2,0),\" \")","v":" "},{"$f":"IFERROR(VLOOKUP(MID(AH$23,5,4)&$A54,Lista_Ubigeo!$J:$K,2,0),\" \")","v":" "},{"$f":"IFERROR(VLOOKUP(MID(AI$23,5,4)&$A54,Lista_Ubigeo!$J:$K,2,0),\" \")","v":" "},{"$f":"IFERROR(VLOOKUP(MID(AJ$23,5,4)&$A54,Lista_Ubigeo!$J:$K,2,0),\" \")","v":" "},{"$f":"IFERROR(VLOOKUP(MID(AK$23,5,4)&$A54,Lista_Ubigeo!$J:$K,2,0),\" \")","v":" "},{"$f":"IFERROR(VLOOKUP(MID(AL$23,5,4)&$A54,Lista_Ubigeo!$J:$K,2,0),\" \")","v":" "},{"$f":"IFERROR(VLOOKUP(MID(AM$23,5,4)&$A54,Lista_Ubigeo!$J:$K,2,0),\" \")","v":" "},{"$f":"IFERROR(VLOOKUP(MID(AN$23,5,4)&$A54,Lista_Ubigeo!$J:$K,2,0),\" \")","v":" "},{"$f":"IFERROR(VLOOKUP(MID(AO$23,5,4)&$A54,Lista_Ubigeo!$J:$K,2,0),\" \")","v":" "},{"$f":"IFERROR(VLOOKUP(MID(AP$23,5,4)&$A54,Lista_Ubigeo!$J:$K,2,0),\" \")","v":" "},{"$f":"IFERROR(VLOOKUP(MID(AQ$23,4,4)&$A54,Lista_Ubigeo!$J:$K,2,0),\" \")","v":" "},{"$f":"IFERROR(VLOOKUP(MID(AR$23,5,4)&$A54,Lista_Ubigeo!$J:$K,2,0),\" \")","v":" "},{"$f":"IFERROR(VLOOKUP(MID(AS$23,5,4)&$A54,Lista_Ubigeo!$J:$K,2,0),\" \")","v":" "},{"$f":"IFERROR(VLOOKUP(MID(AT$23,5,4)&$A54,Lista_Ubigeo!$J:$K,2,0),\" \")","v":" "},{"$f":"IFERROR(VLOOKUP(MID(AU$23,5,4)&$A54,Lista_Ubigeo!$J:$K,2,0),\" \")","v":" "},{"$f":"IFERROR(VLOOKUP(MID(AV$23,5,4)&$A54,Lista_Ubigeo!$J:$K,2,0),\" \")","v":" "},{"$f":"IFERROR(VLOOKUP(MID(AW$23,5,4)&$A54,Lista_Ubigeo!$J:$K,2,0),\" \")","v":" "},{"$f":"IFERROR(VLOOKUP(MID(AX$23,5,4)&$A54,Lista_Ubigeo!$J:$K,2,0),\" \")","v":" "},{"$f":"IFERROR(VLOOKUP(MID(AY$23,5,4)&$A54,Lista_Ubigeo!$J:$K,2,0),\" \")","v":" "},{"$f":"IFERROR(VLOOKUP(MID(AZ$23,5,4)&$A54,Lista_Ubigeo!$J:$K,2,0),\" \")","v":" "},{"$f":"IFERROR(VLOOKUP(MID(BA$23,5,4)&$A54,Lista_Ubigeo!$J:$K,2,0),\" \")","v":" "},{"$f":"IFERROR(VLOOKUP(MID(BB$23,5,4)&$A54,Lista_Ubigeo!$J:$K,2,0),\" \")","v":" "},{"$f":"IFERROR(VLOOKUP(MID(BC$23,5,4)&$A54,Lista_Ubigeo!$J:$K,2,0),\" \")","v":" "},{"$f":"IFERROR(VLOOKUP(MID(BD$23,5,4)&$A54,Lista_Ubigeo!$J:$K,2,0),\" \")","v":" "},{"$f":"IFERROR(VLOOKUP(MID(BE$23,5,4)&$A54,Lista_Ubigeo!$J:$K,2,0),\" \")","v":" "},{"$f":"IFERROR(VLOOKUP(MID(BF$23,5,4)&$A54,Lista_Ubigeo!$J:$K,2,0),\" \")","v":" "},{"$f":"IFERROR(VLOOKUP(MID(BG$23,5,4)&$A54,Lista_Ubigeo!$J:$K,2,0),\" \")","v":" "},{"$f":"IFERROR(VLOOKUP(MID(BH$23,5,4)&$A54,Lista_Ubigeo!$J:$K,2,0),\" \")","v":" "},{"$f":"IFERROR(VLOOKUP(MID(BI$23,5,4)&$A54,Lista_Ubigeo!$J:$K,2,0),\" \")","v":" "},{"$f":"IFERROR(VLOOKUP(MID(BJ$23,5,4)&$A54,Lista_Ubigeo!$J:$K,2,0),\" \")","v":" "},{"$f":"IFERROR(VLOOKUP(MID(BK$23,5,4)&$A54,Lista_Ubigeo!$J:$K,2,0),\" \")","v":" "},{"$f":"IFERROR(VLOOKUP(MID(BL$23,5,4)&$A54,Lista_Ubigeo!$J:$K,2,0),\" \")","v":" "},{"$f":"IFERROR(VLOOKUP(MID(BM$23,5,4)&$A54,Lista_Ubigeo!$J:$K,2,0),\" \")","v":" "},{"$f":"IFERROR(VLOOKUP(MID(BN$23,5,4)&$A54,Lista_Ubigeo!$J:$K,2,0),\" \")","v":" "},{"$f":"IFERROR(VLOOKUP(MID(BO$23,5,4)&$A54,Lista_Ubigeo!$J:$K,2,0),\" \")","v":" "},{"$f":"IFERROR(VLOOKUP(MID(BP$23,5,4)&$A54,Lista_Ubigeo!$J:$K,2,0),\" \")","v":" "},{"$f":"IFERROR(VLOOKUP(MID(BQ$23,5,4)&$A54,Lista_Ubigeo!$J:$K,2,0),\" \")","v":" "},{"$f":"IFERROR(VLOOKUP(MID(BR$23,5,4)&$A54,Lista_Ubigeo!$J:$K,2,0),\" \")","v":" "},{"$f":"IFERROR(VLOOKUP(MID(BS$23,5,4)&$A54,Lista_Ubigeo!$J:$K,2,0),\" \")","v":" "},{"$f":"IFERROR(VLOOKUP(MID(BT$23,5,4)&$A54,Lista_Ubigeo!$J:$K,2,0),\" \")","v":" "},{"$f":"IFERROR(VLOOKUP(MID(BU$23,5,4)&$A54,Lista_Ubigeo!$J:$K,2,0),\" \")","v":" "},{"$f":"IFERROR(VLOOKUP(MID(BV$23,5,4)&$A54,Lista_Ubigeo!$J:$K,2,0),\" \")","v":" "},{"$f":"IFERROR(VLOOKUP(MID(BW$23,5,4)&$A54,Lista_Ubigeo!$J:$K,2,0),\" \")","v":" "},{"$f":"IFERROR(VLOOKUP(MID(BX$23,5,4)&$A54,Lista_Ubigeo!$J:$K,2,0),\" \")","v":" "},{"$f":"IFERROR(VLOOKUP(MID(BY$23,4,4)&$A54,Lista_Ubigeo!$J:$K,2,0),\" \")","v":" "},{"$f":"IFERROR(VLOOKUP(MID(BZ$23,5,4)&$A54,Lista_Ubigeo!$J:$K,2,0),\" \")","v":" "},{"$f":"IFERROR(VLOOKUP(MID(CA$23,5,4)&$A54,Lista_Ubigeo!$J:$K,2,0),\" \")","v":" "},{"$f":"IFERROR(VLOOKUP(MID(CB$23,5,4)&$A54,Lista_Ubigeo!$J:$K,2,0),\" \")","v":" "},{"$f":"IFERROR(VLOOKUP(MID(CC$23,5,4)&$A54,Lista_Ubigeo!$J:$K,2,0),\" \")","v":" "},{"$f":"IFERROR(VLOOKUP(MID(CD$23,5,4)&$A54,Lista_Ubigeo!$J:$K,2,0),\" \")","v":" "},{"$f":"IFERROR(VLOOKUP(MID(CE$23,5,4)&$A54,Lista_Ubigeo!$J:$K,2,0),\" \")","v":" "},{"$f":"IFERROR(VLOOKUP(MID(CF$23,5,4)&$A54,Lista_Ubigeo!$J:$K,2,0),\" \")","v":" "},{"$f":"IFERROR(VLOOKUP(MID(CG$23,5,4)&$A54,Lista_Ubigeo!$J:$K,2,0),\" \")","v":" "},{"$f":"IFERROR(VLOOKUP(MID(CH$23,5,4)&$A54,Lista_Ubigeo!$J:$K,2,0),\" \")","v":" "},{"$f":"IFERROR(VLOOKUP(MID(CI$23,5,4)&$A54,Lista_Ubigeo!$J:$K,2,0),\" \")","v":" "},{"$f":"IFERROR(VLOOKUP(MID(CJ$23,5,4)&$A54,Lista_Ubigeo!$J:$K,2,0),\" \")","v":" "},{"$f":"IFERROR(VLOOKUP(MID(CK$23,5,4)&$A54,Lista_Ubigeo!$J:$K,2,0),\" \")","v":" "},{"$f":"IFERROR(VLOOKUP(MID(CL$23,5,4)&$A54,Lista_Ubigeo!$J:$K,2,0),\" \")","v":" "},{"$f":"IFERROR(VLOOKUP(MID(CM$23,5,4)&$A65,Lista_Ubigeo!$J:$K,2,0),\" \")","v":" "},{"$f":"IFERROR(VLOOKUP(MID(CN$23,5,4)&$A54,Lista_Ubigeo!$J:$K,2,0),\" \")","v":" "},{"$f":"IFERROR(VLOOKUP(MID(CO$23,5,4)&$A54,Lista_Ubigeo!$J:$K,2,0),\" \")","v":" "},{"$f":"IFERROR(VLOOKUP(MID(CP$23,5,4)&$A54,Lista_Ubigeo!$J:$K,2,0),\" \")","v":" "},{"$f":"IFERROR(VLOOKUP(MID(CQ$23,5,4)&$A54,Lista_Ubigeo!$J:$K,2,0),\" \")","v":" "},{"$f":"IFERROR(VLOOKUP(MID(CR$23,5,4)&$A54,Lista_Ubigeo!$J:$K,2,0),\" \")","v":" "},{"$f":"IFERROR(VLOOKUP(MID(CS$23,5,4)&$A54,Lista_Ubigeo!$J:$K,2,0),\" \")","v":" "},{"$f":"IFERROR(VLOOKUP(MID(CT$23,5,4)&$A54,Lista_Ubigeo!$J:$K,2,0),\" \")","v":" "},{"$f":"IFERROR(VLOOKUP(MID(CU$23,5,4)&$A54,Lista_Ubigeo!$J:$K,2,0),\" \")","v":" "},{"$f":"IFERROR(VLOOKUP(MID(CV$23,5,4)&$A54,Lista_Ubigeo!$J:$K,2,0),\" \")","v":" "},{"$f":"IFERROR(VLOOKUP(MID(CW$23,5,4)&$A54,Lista_Ubigeo!$J:$K,2,0),\" \")","v":" "},{"$f":"IFERROR(VLOOKUP(MID(CX$23,5,4)&$A54,Lista_Ubigeo!$J:$K,2,0),\" \")","v":" "},{"$f":"IFERROR(VLOOKUP(MID(CY$23,5,4)&$A54,Lista_Ubigeo!$J:$K,2,0),\" \")","v":" "},{"$f":"IFERROR(VLOOKUP(MID(CZ$23,5,4)&$A54,Lista_Ubigeo!$J:$K,2,0),\" \")","v":" "},{"$f":"IFERROR(VLOOKUP(MID(DA$23,5,4)&$A54,Lista_Ubigeo!$J:$K,2,0),\" \")","v":" "},{"$f":"IFERROR(VLOOKUP(MID(DB$23,5,4)&$A54,Lista_Ubigeo!$J:$K,2,0),\" \")","v":" "},{"$f":"IFERROR(VLOOKUP(MID(DC$23,5,4)&$A54,Lista_Ubigeo!$J:$K,2,0),\" \")","v":" "},{"$f":"IFERROR(VLOOKUP(MID(DD$23,5,4)&$A54,Lista_Ubigeo!$J:$K,2,0),\" \")","v":"SINCOS"},{"$f":"IFERROR(VLOOKUP(MID(DE$23,5,4)&$A54,Lista_Ubigeo!$J:$K,2,0),\" \")","v":" "},{"$f":"IFERROR(VLOOKUP(MID(DF$23,5,4)&$A54,Lista_Ubigeo!$J:$K,2,0),\" \")","v":" "},{"$f":"IFERROR(VLOOKUP(MID(DG$23,5,4)&$A54,Lista_Ubigeo!$J:$K,2,0),\" \")","v":" "},{"$f":"IFERROR(VLOOKUP(MID(DH$23,5,4)&$A54,Lista_Ubigeo!$J:$K,2,0),\" \")","v":" "},{"$f":"IFERROR(VLOOKUP(MID(DI$23,5,4)&$A54,Lista_Ubigeo!$J:$K,2,0),\" \")","v":" "},{"$f":"IFERROR(VLOOKUP(MID(DJ$23,5,4)&$A54,Lista_Ubigeo!$J:$K,2,0),\" \")","v":" "},{"$f":"IFERROR(VLOOKUP(MID(DK$23,5,4)&$A54,Lista_Ubigeo!$J:$K,2,0),\" \")","v":" "},{"$f":"IFERROR(VLOOKUP(MID(DL$23,5,4)&$A54,Lista_Ubigeo!$J:$K,2,0),\" \")","v":" "},{"$f":"IFERROR(VLOOKUP(MID(DM$23,5,4)&$A54,Lista_Ubigeo!$J:$K,2,0),\" \")","v":" "},{"$f":"IFERROR(VLOOKUP(MID(DN$23,5,4)&$A54,Lista_Ubigeo!$J:$K,2,0),\" \")","v":" "},{"$f":"IFERROR(VLOOKUP(MID(DO$23,5,4)&$A55,Lista_Ubigeo!$J:$K,2,0),\" \")","v":" "},{"$f":"IFERROR(VLOOKUP(MID(DP$23,5,4)&$A54,Lista_Ubigeo!$J:$K,2,0),\" \")","v":" "},{"$f":"IFERROR(VLOOKUP(MID(DQ$23,5,4)&$A54,Lista_Ubigeo!$J:$K,2,0),\" \")","v":" "},{"$f":"IFERROR(VLOOKUP(MID(DR$23,5,4)&$A54,Lista_Ubigeo!$J:$K,2,0),\" \")","v":" "},{"$f":"IFERROR(VLOOKUP(MID(DS$23,5,4)&$A54,Lista_Ubigeo!$J:$K,2,0),\" \")","v":" "},null,null,{"$f":"IFERROR(VLOOKUP(MID(DV$23,5,4)&$A54,Lista_Ubigeo!$J:$K,2,0),\" \")","v":" "},{"$f":"IFERROR(VLOOKUP(MID(DW$23,5,4)&$A54,Lista_Ubigeo!$J:$K,2,0),\" \")","v":" "},{"$f":"IFERROR(VLOOKUP(MID(DX$23,5,4)&$A54,Lista_Ubigeo!$J:$K,2,0),\" \")","v":" "},{"$f":"IFERROR(VLOOKUP(MID(DY$23,5,4)&$A54,Lista_Ubigeo!$J:$K,2,0),\" \")","v":"SAN ISIDRO"},{"$f":"IFERROR(VLOOKUP(MID(DZ$23,5,4)&$A54,Lista_Ubigeo!$J:$K,2,0),\" \")","v":" "},{"$f":"IFERROR(VLOOKUP(MID(EA$23,5,4)&$A54,Lista_Ubigeo!$J:$K,2,0),\" \")","v":" "},{"$f":"IFERROR(VLOOKUP(MID(EB$23,5,4)&$A54,Lista_Ubigeo!$J:$K,2,0),\" \")","v":" "},{"$f":"IFERROR(VLOOKUP(MID(EC$23,5,4)&$A54,Lista_Ubigeo!$J:$K,2,0),\" \")","v":" "},{"$f":"IFERROR(VLOOKUP(MID(ED$23,5,4)&$A54,Lista_Ubigeo!$J:$K,2,0),\" \")","v":" "},{"$f":"IFERROR(VLOOKUP(MID(EE$23,5,4)&$A54,Lista_Ubigeo!$J:$K,2,0),\" \")","v":"SANTO DOMINGO DE LOS OLLERO"},{"$f":"IFERROR(VLOOKUP(MID(EF$23,5,4)&$A54,Lista_Ubigeo!$J:$K,2,0),\" \")","v":" "},{"$f":"IFERROR(VLOOKUP(MID(EG$23,5,4)&$A54,Lista_Ubigeo!$J:$K,2,0),\" \")","v":" "},{"$f":"IFERROR(VLOOKUP(MID(EH$23,5,4)&$A54,Lista_Ubigeo!$J:$K,2,0),\" \")","v":"TUPE"},{"$f":"IFERROR(VLOOKUP(MID(EI$23,5,4)&$A54,Lista_Ubigeo!$J:$K,2,0),\" \")","v":" "},{"$f":"IFERROR(VLOOKUP(MID(EJ$23,5,4)&$A59,Lista_Ubigeo!$J:$K,2,0),\" \")","v":" "},{"$f":"IFERROR(VLOOKUP(MID(EK$23,5,4)&$A54,Lista_Ubigeo!$J:$K,2,0),\" \")","v":" "},{"$f":"IFERROR(VLOOKUP(MID(EL$23,5,4)&$A54,Lista_Ubigeo!$J:$K,2,0),\" \")","v":" "},{"$f":"IFERROR(VLOOKUP(MID(EM$23,5,4)&$A54,Lista_Ubigeo!$J:$K,2,0),\" \")","v":" "},{"$f":"IFERROR(VLOOKUP(MID(EN$23,5,4)&$A54,Lista_Ubigeo!$J:$K,2,0),\" \")","v":" "},{"$f":"IFERROR(VLOOKUP(MID(EO$23,5,4)&$A54,Lista_Ubigeo!$J:$K,2,0),\" \")","v":" "},{"$f":"IFERROR(VLOOKUP(MID(EP$23,5,4)&$A54,Lista_Ubigeo!$J:$K,2,0),\" \")","v":" "},{"$f":"IFERROR(VLOOKUP(MID(EQ$23,5,4)&$A54,Lista_Ubigeo!$J:$K,2,0),\" \")","v":" "},{"$f":"IFERROR(VLOOKUP(MID(ER$23,5,4)&$A54,Lista_Ubigeo!$J:$K,2,0),\" \")","v":" "},{"$f":"IFERROR(VLOOKUP(MID(ES$23,5,4)&$A54,Lista_Ubigeo!$J:$K,2,0),\" \")","v":" "},{"$f":"IFERROR(VLOOKUP(MID(ET$23,5,4)&$A54,Lista_Ubigeo!$J:$K,2,0),\" \")","v":" "},{"$f":"IFERROR(VLOOKUP(MID(EU$23,5,4)&$A54,Lista_Ubigeo!$J:$K,2,0),\" \")","v":" "},{"$f":"IFERROR(VLOOKUP(MID(EV$23,5,4)&$A54,Lista_Ubigeo!$J:$K,2,0),\" \")","v":" "},{"$f":"IFERROR(VLOOKUP(MID(EW$23,5,4)&$A54,Lista_Ubigeo!$J:$K,2,0),\" \")","v":" "},{"$f":"IFERROR(VLOOKUP(MID(EX$23,5,4)&$A54,Lista_Ubigeo!$J:$K,2,0),\" \")","v":" "},{"$f":"IFERROR(VLOOKUP(MID(EY$23,5,4)&$A54,Lista_Ubigeo!$J:$K,2,0),\" \")","v":" "},{"$f":"IFERROR(VLOOKUP(MID(EZ$23,5,4)&$A57,Lista_Ubigeo!$J:$K,2,0),\" \")","v":" "},{"$f":"IFERROR(VLOOKUP(MID(FA$23,5,4)&$A54,Lista_Ubigeo!$J:$K,2,0),\" \")","v":" "},{"$f":"IFERROR(VLOOKUP(MID(FB$23,5,4)&$A54,Lista_Ubigeo!$J:$K,2,0),\" \")","v":" "},{"$f":"IFERROR(VLOOKUP(MID(FC$23,5,4)&$A54,Lista_Ubigeo!$J:$K,2,0),\" \")","v":" "},{"$f":"IFERROR(VLOOKUP(MID(FD$23,5,4)&$A54,Lista_Ubigeo!$J:$K,2,0),\" \")","v":" "},{"$f":"IFERROR(VLOOKUP(MID(FE$23,5,4)&$A54,Lista_Ubigeo!$J:$K,2,0),\" \")","v":" "},{"$f":"IFERROR(VLOOKUP(MID(FF$23,5,4)&$A54,Lista_Ubigeo!$J:$K,2,0),\" \")","v":" "},{"$f":"IFERROR(VLOOKUP(MID(FG$23,5,4)&$A54,Lista_Ubigeo!$J:$K,2,0),\" \")","v":" "},{"$f":"IFERROR(VLOOKUP(MID(FH$23,5,4)&$A54,Lista_Ubigeo!$J:$K,2,0),\" \")","v":" "},{"$f":"IFERROR(VLOOKUP(MID(FI$23,5,4)&$A54,Lista_Ubigeo!$J:$K,2,0),\" \")","v":" "},{"$f":"IFERROR(VLOOKUP(MID(FJ$23,5,4)&$A54,Lista_Ubigeo!$J:$K,2,0),\" \")","v":" "},{"$f":"IFERROR(VLOOKUP(MID(FK$23,5,4)&$A54,Lista_Ubigeo!$J:$K,2,0),\" \")","v":" "},{"$f":"IFERROR(VLOOKUP(MID(FL$23,5,4)&$A54,Lista_Ubigeo!$J:$K,2,0),\" \")","v":" "},{"$f":"IFERROR(VLOOKUP(MID(FM$23,5,4)&$A54,Lista_Ubigeo!$J:$K,2,0),\" \")","v":" "},{"$f":"IFERROR(VLOOKUP(MID(FN$23,5,4)&$A54,Lista_Ubigeo!$J:$K,2,0),\" \")","v":" "},{"$f":"IFERROR(VLOOKUP(MID(FO$23,5,4)&$A54,Lista_Ubigeo!$J:$K,2,0),\" \")","v":" "},{"$f":"IFERROR(VLOOKUP(MID(FP$23,5,4)&$A54,Lista_Ubigeo!$J:$K,2,0),\" \")","v":" "},{"$f":"IFERROR(VLOOKUP(MID(FQ$23,5,4)&$A54,Lista_Ubigeo!$J:$K,2,0),\" \")","v":" "},{"$f":"IFERROR(VLOOKUP(MID(FR$23,5,4)&$A54,Lista_Ubigeo!$J:$K,2,0),\" \")","v":" "},{"$f":"IFERROR(VLOOKUP(MID(FS$23,5,4)&$A54,Lista_Ubigeo!$J:$K,2,0),\" \")","v":" "},{"$f":"IFERROR(VLOOKUP(MID(FT$23,5,4)&$A54,Lista_Ubigeo!$J:$K,2,0),\" \")","v":" "},{"$f":"IFERROR(VLOOKUP(MID(FU$23,5,4)&$A54,Lista_Ubigeo!$J:$K,2,0),\" \")","v":" "},{"$f":"IFERROR(VLOOKUP(MID(FV$23,5,4)&$A54,Lista_Ubigeo!$J:$K,2,0),\" \")","v":" "},{"$f":"IFERROR(VLOOKUP(MID(FW$23,5,4)&$A54,Lista_Ubigeo!$J:$K,2,0),\" \")","v":" "},{"$f":"IFERROR(VLOOKUP(MID(FX$23,5,4)&$A54,Lista_Ubigeo!$J:$K,2,0),\" \")","v":" "},{"$f":"IFERROR(VLOOKUP(MID(FY$23,5,4)&$A54,Lista_Ubigeo!$J:$K,2,0),\" \")","v":" "},{"$f":"IFERROR(VLOOKUP(MID(FZ$23,5,4)&$A54,Lista_Ubigeo!$J:$K,2,0),\" \")","v":" "},{"$f":"IFERROR(VLOOKUP(MID(GA$23,5,4)&$A54,Lista_Ubigeo!$J:$K,2,0),\" \")","v":" "},{"$f":"IFERROR(VLOOKUP(MID(GB$23,5,4)&$A54,Lista_Ubigeo!$J:$K,2,0),\" \")","v":" "},{"$f":"IFERROR(VLOOKUP(MID(GC$23,5,4)&$A54,Lista_Ubigeo!$J:$K,2,0),\" \")","v":" "},{"$f":"IFERROR(VLOOKUP(MID(GD$23,5,4)&$A54,Lista_Ubigeo!$J:$K,2,0),\" \")","v":" "},{"$f":"IFERROR(VLOOKUP(MID(GE$23,5,4)&$A54,Lista_Ubigeo!$J:$K,2,0),\" \")","v":" "},{"$f":"IFERROR(VLOOKUP(MID(GF$23,5,4)&$A54,Lista_Ubigeo!$J:$K,2,0),\" \")","v":" "},{"$f":"IFERROR(VLOOKUP(MID(GG$23,5,4)&$A54,Lista_Ubigeo!$J:$K,2,0),\" \")","v":" "},{"$f":"IFERROR(VLOOKUP(MID(GH$23,5,4)&$A54,Lista_Ubigeo!$J:$K,2,0),\" \")","v":" "},{"$f":"IFERROR(VLOOKUP(MID(GI$23,5,4)&$A54,Lista_Ubigeo!$J:$K,2,0),\" \")","v":" "},{"$f":"IFERROR(VLOOKUP(MID(GJ$23,5,4)&$A54,Lista_Ubigeo!$J:$K,2,0),\" \")","v":" "},{"$f":"IFERROR(VLOOKUP(MID(GK$23,5,4)&$A54,Lista_Ubigeo!$J:$K,2,0),\" \")","v":" "},{"$f":"IFERROR(VLOOKUP(MID(GL$23,5,4)&$A54,Lista_Ubigeo!$J:$K,2,0),\" \")","v":" "},{"$f":"IFERROR(VLOOKUP(MID(GM$23,5,4)&$A54,Lista_Ubigeo!$J:$K,2,0),\" \")","v":" "},{"$f":"IFERROR(VLOOKUP(MID(GN$23,5,4)&$A54,Lista_Ubigeo!$J:$K,2,0),\" \")","v":" "},{"$f":"IFERROR(VLOOKUP(MID(GO$23,5,4)&$A54,Lista_Ubigeo!$J:$K,2,0),\" \")","v":" "},{"$f":"IFERROR(VLOOKUP(MID(GP$23,5,4)&$A54,Lista_Ubigeo!$J:$K,2,0),\" \")","v":" "}]
["32",{"$f":"IFERROR(VLOOKUP(MID(B$23,5,4)&$A55,Lista_Ubigeo!$J:$K,2,0),\" \")","v":" "},{"$f":"IFERROR(VLOOKUP(MID(C$23,5,4)&$A55,Lista_Ubigeo!$J:$K,2,0),\" \")","v":" "},{"$f":"IFERROR(VLOOKUP(MID(D$23,5,4)&$A55,Lista_Ubigeo!$J:$K,2,0),\" \")","v":" "},{"$f":"IFERROR(VLOOKUP(MID(E$23,5,4)&$A55,Lista_Ubigeo!$J:$K,2,0),\" \")","v":" "},{"$f":"IFERROR(VLOOKUP(MID(F$23,5,4)&$A55,Lista_Ubigeo!$J:$K,2,0),\" \")","v":" "},{"$f":"IFERROR(VLOOKUP(MID(G$23,5,4)&$A55,Lista_Ubigeo!$J:$K,2,0),\" \")","v":" "},{"$f":"IFERROR(VLOOKUP(MID(H$23,5,4)&$A55,Lista_Ubigeo!$J:$K,2,0),\" \")","v":" "},{"$f":"IFERROR(VLOOKUP(MID(I$23,5,4)&$A55,Lista_Ubigeo!$J:$K,2,0),\" \")","v":" "},{"$f":"IFERROR(VLOOKUP(MID(J$23,5,4)&$A55,Lista_Ubigeo!$J:$K,2,0),\" \")","v":" "},{"$f":"IFERROR(VLOOKUP(MID(K$23,5,4)&$A55,Lista_Ubigeo!$J:$K,2,0),\" \")","v":" "},{"$f":"IFERROR(VLOOKUP(MID(L$23,5,4)&$A55,Lista_Ubigeo!$J:$K,2,0),\" \")","v":" "},{"$f":"IFERROR(VLOOKUP(MID(M$23,5,4)&$A55,Lista_Ubigeo!$J:$K,2,0),\" \")","v":" "},{"$f":"IFERROR(VLOOKUP(MID(N$23,5,4)&$A55,Lista_Ubigeo!$J:$K,2,0),\" \")","v":" "},{"$f":"IFERROR(VLOOKUP(MID(O$23,5,4)&$A55,Lista_Ubigeo!$J:$K,2,0),\" \")","v":" "},{"$f":"IFERROR(VLOOKUP(MID(P$23,5,4)&$A55,Lista_Ubigeo!$J:$K,2,0),\" \")","v":" "},{"$f":"IFERROR(VLOOKUP(MID(Q$23,5,4)&$A55,Lista_Ubigeo!$J:$K,2,0),\" \")","v":" "},{"$f":"IFERROR(VLOOKUP(MID(R$23,5,4)&$A55,Lista_Ubigeo!$J:$K,2,0),\" \")","v":" "},{"$f":"IFERROR(VLOOKUP(MID(S$23,5,4)&$A55,Lista_Ubigeo!$J:$K,2,0),\" \")","v":" "},{"$f":"IFERROR(VLOOKUP(MID(T$23,5,4)&$A55,Lista_Ubigeo!$J:$K,2,0),\" \")","v":" "},{"$f":"IFERROR(VLOOKUP(MID(U$23,5,4)&$A55,Lista_Ubigeo!$J:$K,2,0),\" \")","v":" "},{"$f":"IFERROR(VLOOKUP(MID(V$23,5,4)&$A55,Lista_Ubigeo!$J:$K,2,0),\" \")","v":" "},{"$f":"IFERROR(VLOOKUP(MID(W$23,5,4)&$A55,Lista_Ubigeo!$J:$K,2,0),\" \")","v":" "},{"$f":"IFERROR(VLOOKUP(MID(X$23,5,4)&$A55,Lista_Ubigeo!$J:$K,2,0),\" \")","v":" "},{"$f":"IFERROR(VLOOKUP(MID(Y$23,5,4)&$A55,Lista_Ubigeo!$J:$K,2,0),\" \")","v":" "},{"$f":"IFERROR(VLOOKUP(MID(Z$23,5,4)&$A55,Lista_Ubigeo!$J:$K,2,0),\" \")","v":" "},{"$f":"IFERROR(VLOOKUP(MID(AA$23,5,4)&$A55,Lista_Ubigeo!$J:$K,2,0),\" \")","v":" "},{"$f":"IFERROR(VLOOKUP(MID(AB$23,5,4)&$A55,Lista_Ubigeo!$J:$K,2,0),\" \")","v":" "},{"$f":"IFERROR(VLOOKUP(MID(AC$23,5,4)&$A55,Lista_Ubigeo!$J:$K,2,0),\" \")","v":" "},{"$f":"IFERROR(VLOOKUP(MID(AD$23,5,4)&$A55,Lista_Ubigeo!$J:$K,2,0),\" \")","v":" "},{"$f":"IFERROR(VLOOKUP(MID(AE$23,5,4)&$A55,Lista_Ubigeo!$J:$K,2,0),\" \")","v":" "},{"$f":"IFERROR(VLOOKUP(MID(AF$23,5,4)&$A55,Lista_Ubigeo!$J:$K,2,0),\" \")","v":" "},{"$f":"IFERROR(VLOOKUP(MID(AG$23,5,4)&$A55,Lista_Ubigeo!$J:$K,2,0),\" \")","v":" "},{"$f":"IFERROR(VLOOKUP(MID(AH$23,5,4)&$A55,Lista_Ubigeo!$J:$K,2,0),\" \")","v":" "},{"$f":"IFERROR(VLOOKUP(MID(AI$23,5,4)&$A55,Lista_Ubigeo!$J:$K,2,0),\" \")","v":" "},{"$f":"IFERROR(VLOOKUP(MID(AJ$23,5,4)&$A55,Lista_Ubigeo!$J:$K,2,0),\" \")","v":" "},{"$f":"IFERROR(VLOOKUP(MID(AK$23,5,4)&$A55,Lista_Ubigeo!$J:$K,2,0),\" \")","v":" "},{"$f":"IFERROR(VLOOKUP(MID(AL$23,5,4)&$A55,Lista_Ubigeo!$J:$K,2,0),\" \")","v":" "},{"$f":"IFERROR(VLOOKUP(MID(AM$23,5,4)&$A55,Lista_Ubigeo!$J:$K,2,0),\" \")","v":" "},{"$f":"IFERROR(VLOOKUP(MID(AN$23,5,4)&$A55,Lista_Ubigeo!$J:$K,2,0),\" \")","v":" "},{"$f":"IFERROR(VLOOKUP(MID(AO$23,5,4)&$A55,Lista_Ubigeo!$J:$K,2,0),\" \")","v":" "},{"$f":"IFERROR(VLOOKUP(MID(AP$23,5,4)&$A55,Lista_Ubigeo!$J:$K,2,0),\" \")","v":" "},{"$f":"IFERROR(VLOOKUP(MID(AQ$23,4,4)&$A55,Lista_Ubigeo!$J:$K,2,0),\" \")","v":" "},{"$f":"IFERROR(VLOOKUP(MID(AR$23,5,4)&$A55,Lista_Ubigeo!$J:$K,2,0),\" \")","v":" "},{"$f":"IFERROR(VLOOKUP(MID(AS$23,5,4)&$A55,Lista_Ubigeo!$J:$K,2,0),\" \")","v":" "},{"$f":"IFERROR(VLOOKUP(MID(AT$23,5,4)&$A55,Lista_Ubigeo!$J:$K,2,0),\" \")","v":" "},{"$f":"IFERROR(VLOOKUP(MID(AU$23,5,4)&$A55,Lista_Ubigeo!$J:$K,2,0),\" \")","v":" "},{"$f":"IFERROR(VLOOKUP(MID(AV$23,5,4)&$A55,Lista_Ubigeo!$J:$K,2,0),\" \")","v":" "},{"$f":"IFERROR(VLOOKUP(MID(AW$23,5,4)&$A55,Lista_Ubigeo!$J:$K,2,0),\" \")","v":" "},{"$f":"IFERROR(VLOOKUP(MID(AX$23,5,4)&$A55,Lista_Ubigeo!$J:$K,2,0),\" \")","v":" "},{"$f":"IFERROR(VLOOKUP(MID(AY$23,5,4)&$A55,Lista_Ubigeo!$J:$K,2,0),\" \")","v":" "},{"$f":"IFERROR(VLOOKUP(MID(AZ$23,5,4)&$A55,Lista_Ubigeo!$J:$K,2,0),\" \")","v":" "},{"$f":"IFERROR(VLOOKUP(MID(BA$23,5,4)&$A55,Lista_Ubigeo!$J:$K,2,0),\" \")","v":" "},{"$f":"IFERROR(VLOOKUP(MID(BB$23,5,4)&$A55,Lista_Ubigeo!$J:$K,2,0),\" \")","v":" "},{"$f":"IFERROR(VLOOKUP(MID(BC$23,5,4)&$A55,Lista_Ubigeo!$J:$K,2,0),\" \")","v":" "},{"$f":"IFERROR(VLOOKUP(MID(BD$23,5,4)&$A55,Lista_Ubigeo!$J:$K,2,0),\" \")","v":" "},{"$f":"IFERROR(VLOOKUP(MID(BE$23,5,4)&$A55,Lista_Ubigeo!$J:$K,2,0),\" \")","v":" "},{"$f":"IFERROR(VLOOKUP(MID(BF$23,5,4)&$A55,Lista_Ubigeo!$J:$K,2,0),\" \")","v":" "},{"$f":"IFERROR(VLOOKUP(MID(BG$23,5,4)&$A55,Lista_Ubigeo!$J:$K,2,0),\" \")","v":" "},{"$f":"IFERROR(VLOOKUP(MID(BH$23,5,4)&$A55,Lista_Ubigeo!$J:$K,2,0),\" \")","v":" "},{"$f":"IFERROR(VLOOKUP(MID(BI$23,5,4)&$A55,Lista_Ubigeo!$J:$K,2,0),\" \")","v":" "},{"$f":"IFERROR(VLOOKUP(MID(BJ$23,5,4)&$A55,Lista_Ubigeo!$J:$K,2,0),\" \")","v":" "},{"$f":"IFERROR(VLOOKUP(MID(BK$23,5,4)&$A55,Lista_Ubigeo!$J:$K,2,0),\" \")","v":" "},{"$f":"IFERROR(VLOOKUP(MID(BL$23,5,4)&$A55,Lista_Ubigeo!$J:$K,2,0),\" \")","v":" "},{"$f":"IFERROR(VLOOKUP(MID(BM$23,5,4)&$A55,Lista_Ubigeo!$J:$K,2,0),\" \")","v":" "},{"$f":"IFERROR(VLOOKUP(MID(BN$23,5,4)&$A55,Lista_Ubigeo!$J:$K,2,0),\" \")","v":" "},{"$f":"IFERROR(VLOOKUP(MID(BO$23,5,4)&$A55,Lista_Ubigeo!$J:$K,2,0),\" \")","v":" "},{"$f":"IFERROR(VLOOKUP(MID(BP$23,5,4)&$A55,Lista_Ubigeo!$J:$K,2,0),\" \")","v":" "},{"$f":"IFERROR(VLOOKUP(MID(BQ$23,5,4)&$A55,Lista_Ubigeo!$J:$K,2,0),\" \")","v":" "},{"$f":"IFERROR(VLOOKUP(MID(BR$23,5,4)&$A55,Lista_Ubigeo!$J:$K,2,0),\" \")","v":" "},{"$f":"IFERROR(VLOOKUP(MID(BS$23,5,4)&$A55,Lista_Ubigeo!$J:$K,2,0),\" \")","v":" "},{"$f":"IFERROR(VLOOKUP(MID(BT$23,5,4)&$A55,Lista_Ubigeo!$J:$K,2,0),\" \")","v":" "},{"$f":"IFERROR(VLOOKUP(MID(BU$23,5,4)&$A55,Lista_Ubigeo!$J:$K,2,0),\" \")","v":" "},{"$f":"IFERROR(VLOOKUP(MID(BV$23,5,4)&$A55,Lista_Ubigeo!$J:$K,2,0),\" \")","v":" "},{"$f":"IFERROR(VLOOKUP(MID(BW$23,5,4)&$A55,Lista_Ubigeo!$J:$K,2,0),\" \")","v":" "},{"$f":"IFERROR(VLOOKUP(MID(BX$23,5,4)&$A55,Lista_Ubigeo!$J:$K,2,0),\" \")","v":" "},{"$f":"IFERROR(VLOOKUP(MID(BY$23,4,4)&$A55,Lista_Ubigeo!$J:$K,2,0),\" \")","v":" "},{"$f":"IFERROR(VLOOKUP(MID(BZ$23,5,4)&$A55,Lista_Ubigeo!$J:$K,2,0),\" \")","v":" "},{"$f":"IFERROR(VLOOKUP(MID(CA$23,5,4)&$A55,Lista_Ubigeo!$J:$K,2,0),\" \")","v":" "},{"$f":"IFERROR(VLOOKUP(MID(CB$23,5,4)&$A55,Lista_Ubigeo!$J:$K,2,0),\" \")","v":" "},{"$f":"IFERROR(VLOOKUP(MID(CC$23,5,4)&$A55,Lista_Ubigeo!$J:$K,2,0),\" \")","v":" "},{"$f":"IFERROR(VLOOKUP(MID(CD$23,5,4)&$A55,Lista_Ubigeo!$J:$K,2,0),\" \")","v":" "},{"$f":"IFERROR(VLOOKUP(MID(CE$23,5,4)&$A55,Lista_Ubigeo!$J:$K,2,0),\" \")","v":" "},{"$f":"IFERROR(VLOOKUP(MID(CF$23,5,4)&$A55,Lista_Ubigeo!$J:$K,2,0),\" \")","v":" "},{"$f":"IFERROR(VLOOKUP(MID(CG$23,5,4)&$A55,Lista_Ubigeo!$J:$K,2,0),\" \")","v":" "},{"$f":"IFERROR(VLOOKUP(MID(CH$23,5,4)&$A55,Lista_Ubigeo!$J:$K,2,0),\" \")","v":" "},{"$f":"IFERROR(VLOOKUP(MID(CI$23,5,4)&$A55,Lista_Ubigeo!$J:$K,2,0),\" \")","v":" "},{"$f":"IFERROR(VLOOKUP(MID(CJ$23,5,4)&$A55,Lista_Ubigeo!$J:$K,2,0),\" \")","v":" "},{"$f":"IFERROR(VLOOKUP(MID(CK$23,5,4)&$A55,Lista_Ubigeo!$J:$K,2,0),\" \")","v":" "},{"$f":"IFERROR(VLOOKUP(MID(CL$23,5,4)&$A55,Lista_Ubigeo!$J:$K,2,0),\" \")","v":" "},{"$f":"IFERROR(VLOOKUP(MID(CM$23,5,4)&$A66,Lista_Ubigeo!$J:$K,2,0),\" \")","v":" "},{"$f":"IFERROR(VLOOKUP(MID(CN$23,5,4)&$A55,Lista_Ubigeo!$J:$K,2,0),\" \")","v":" "},{"$f":"IFERROR(VLOOKUP(MID(CO$23,5,4)&$A55,Lista_Ubigeo!$J:$K,2,0),\" \")","v":" "},{"$f":"IFERROR(VLOOKUP(MID(CP$23,5,4)&$A55,Lista_Ubigeo!$J:$K,2,0),\" \")","v":" "},{"$f":"IFERROR(VLOOKUP(MID(CQ$23,5,4)&$A55,Lista_Ubigeo!$J:$K,2,0),\" \")","v":" "},{"$f":"IFERROR(VLOOKUP(MID(CR$23,5,4)&$A55,Lista_Ubigeo!$J:$K,2,0),\" \")","v":" "},{"$f":"IFERROR(VLOOKUP(MID(CS$23,5,4)&$A55,Lista_Ubigeo!$J:$K,2,0),\" \")","v":" "},{"$f":"IFERROR(VLOOKUP(MID(CT$23,5,4)&$A55,Lista_Ubigeo!$J:$K,2,0),\" \")","v":" "},{"$f":"IFERROR(VLOOKUP(MID(CU$23,5,4)&$A55,Lista_Ubigeo!$J:$K,2,0),\" \")","v":" "},{"$f":"IFERROR(VLOOKUP(MID(CV$23,5,4)&$A55,Lista_Ubigeo!$J:$K,2,0),\" \")","v":" "},{"$f":"IFERROR(VLOOKUP(MID(CW$23,5,4)&$A55,Lista_Ubigeo!$J:$K,2,0),\" \")","v":" "},{"$f":"IFERROR(VLOOKUP(MID(CX$23,5,4)&$A55,Lista_Ubigeo!$J:$K,2,0),\" \")","v":" "},{"$f":"IFERROR(VLOOKUP(MID(CY$23,5,4)&$A55,Lista_Ubigeo!$J:$K,2,0),\" \")","v":" "},{"$f":"IFERROR(VLOOKUP(MID(CZ$23,5,4)&$A55,Lista_Ubigeo!$J:$K,2,0),\" \")","v":" "},{"$f":"IFERROR(VLOOKUP(MID(DA$23,5,4)&$A55,Lista_Ubigeo!$J:$K,2,0),\" \")","v":"SAÑO"},{"$f":"IFERROR(VLOOKUP(MID(DB$23,5,4)&$A55,Lista_Ubigeo!$J:$K,2,0),\" \")","v":" "},{"$f":"IFERROR(VLOOKUP(MID(DC$23,5,4)&$A55,Lista_Ubigeo!$J:$K,2,0),\" \")","v":" "},{"$f":"IFERROR(VLOOKUP(MID(DD$23,5,4)&$A55,Lista_Ubigeo!$J:$K,2,0),\" \")","v":"TUNAN MARCA"},{"$f":"IFERROR(VLOOKUP(MID(DE$23,5,4)&$A55,Lista_Ubigeo!$J:$K,2,0),\" \")","v":" "},{"$f":"IFERROR(VLOOKUP(MID(DF$23,5,4)&$A55,Lista_Ubigeo!$J:$K,2,0),\" \")","v":" "},{"$f":"IFERROR(VLOOKUP(MID(DG$23,5,4)&$A55,Lista_Ubigeo!$J:$K,2,0),\" \")","v":" "},{"$f":"IFERROR(VLOOKUP(MID(DH$23,5,4)&$A55,Lista_Ubigeo!$J:$K,2,0),\" \")","v":" "},{"$f":"IFERROR(VLOOKUP(MID(DI$23,5,4)&$A55,Lista_Ubigeo!$J:$K,2,0),\" \")","v":" "},{"$f":"IFERROR(VLOOKUP(MID(DJ$23,5,4)&$A55,Lista_Ubigeo!$J:$K,2,0),\" \")","v":" "},{"$f":"IFERROR(VLOOKUP(MID(DK$23,5,4)&$A55,Lista_Ubigeo!$J:$K,2,0),\" \")","v":" "},{"$f":"IFERROR(VLOOKUP(MID(DL$23,5,4)&$A55,Lista_Ubigeo!$J:$K,2,0),\" \")","v":" "},{"$f":"IFERROR(VLOOKUP(MID(DM$23,5,4)&$A55,Lista_Ubigeo!$J:$K,2,0),\" \")","v":" "},{"$f":"IFERROR(VLOOKUP(MID(DN$23,5,4)&$A55,Lista_Ubigeo!$J:$K,2,0),\" \")","v":" "},{"$f":"IFERROR(VLOOKUP(MID(DO$23,5,4)&$A56,Lista_Ubigeo!$J:$K,2,0),\" \")","v":" "},{"$f":"IFERROR(VLOOKUP(MID(DP$23,5,4)&$A55,Lista_Ubigeo!$J:$K,2,0),\" \")","v":" "},{"$f":"IFERROR(VLOOKUP(MID(DQ$23,5,4)&$A55,Lista_Ubigeo!$J:$K,2,0),\" \")","v":" "},{"$f":"IFERROR(VLOOKUP(MID(DR$23,5,4)&$A55,Lista_Ubigeo!$J:$K,2,0),\" \")","v":" "},{"$f":"IFERROR(VLOOKUP(MID(DS$23,5,4)&$A55,Lista_Ubigeo!$J:$K,2,0),\" \")","v":" "},null,null,{"$f":"IFERROR(VLOOKUP(MID(DV$23,5,4)&$A55,Lista_Ubigeo!$J:$K,2,0),\" \")","v":" "},{"$f":"IFERROR(VLOOKUP(MID(DW$23,5,4)&$A55,Lista_Ubigeo!$J:$K,2,0),\" \")","v":" "},{"$f":"IFERROR(VLOOKUP(MID(DX$23,5,4)&$A55,Lista_Ubigeo!$J:$K,2,0),\" \")","v":" "},{"$f":"IFERROR(VLOOKUP(MID(DY$23,5,4)&$A55,Lista_Ubigeo!$J:$K,2,0),\" \")","v":"SAN JUAN DE LURIGANCHO"},{"$f":"IFERROR(VLOOKUP(MID(DZ$23,5,4)&$A55,Lista_Ubigeo!$J:$K,2,0),\" \")","v":" "},{"$f":"IFERROR(VLOOKUP(MID(EA$23,5,4)&$A55,Lista_Ubigeo!$J:$K,2,0),\" \")","v":" "},{"$f":"IFERROR(VLOOKUP(MID(EB$23,5,4)&$A55,Lista_Ubigeo!$J:$K,2,0),\" \")","v":" "},{"$f":"IFERROR(VLOOKUP(MID(EC$23,5,4)&$A55,Lista_Ubigeo!$J:$K,2,0),\" \")","v":" "},{"$f":"IFERROR(VLOOKUP(MID(ED$23,5,4)&$A55,Lista_Ubigeo!$J:$K,2,0),\" \")","v":" "},{"$f":"IFERROR(VLOOKUP(MID(EE$23,5,4)&$A55,Lista_Ubigeo!$J:$K,2,0),\" \")","v":"SURCO"},{"$f":"IFERROR(VLOOKUP(MID(EF$23,5,4)&$A55,Lista_Ubigeo!$J:$K,2,0),\" \")","v":" "},{"$f":"IFERROR(VLOOKUP(MID(EG$23,5,4)&$A55,Lista_Ubigeo!$J:$K,2,0),\" \")","v":" "},{"$f":"IFERROR(VLOOKUP(MID(EH$23,5,4)&$A55,Lista_Ubigeo!$J:$K,2,0),\" \")","v":"VIÑAC"},{"$f":"IFERROR(VLOOKUP(MID(EI$23,5,4)&$A55,Lista_Ubigeo!$J:$K,2,0),\" \")","v":" "},{"$f":"IFERROR(VLOOKUP(MID(EJ$23,5,4)&$A60,Lista_Ubigeo!$J:$K,2,0),\" \")","v":" "},{"$f":"IFERROR(VLOOKUP(MID(EK$23,5,4)&$A55,Lista_Ubigeo!$J:$K,2,0),\" \")","v":" "},{"$f":"IFERROR(VLOOKUP(MID(EL$23,5,4)&$A55,Lista_Ubigeo!$J:$K,2,0),\" \")","v":" "},{"$f":"IFERROR(VLOOKUP(MID(EM$23,5,4)&$A55,Lista_Ubigeo!$J:$K,2,0),\" \")","v":" "},{"$f":"IFERROR(VLOOKUP(MID(EN$23,5,4)&$A55,Lista_Ubigeo!$J:$K,2,0),\" \")","v":" "},{"$f":"IFERROR(VLOOKUP(MID(EO$23,5,4)&$A55,Lista_Ubigeo!$J:$K,2,0),\" \")","v":" "},{"$f":"IFERROR(VLOOKUP(MID(EP$23,5,4)&$A55,Lista_Ubigeo!$J:$K,2,0),\" \")","v":" "},{"$f":"IFERROR(VLOOKUP(MID(EQ$23,5,4)&$A55,Lista_Ubigeo!$J:$K,2,0),\" \")","v":" "},{"$f":"IFERROR(VLOOKUP(MID(ER$23,5,4)&$A55,Lista_Ubigeo!$J:$K,2,0),\" \")","v":" "},{"$f":"IFERROR(VLOOKUP(MID(ES$23,5,4)&$A55,Lista_Ubigeo!$J:$K,2,0),\" \")","v":" "},{"$f":"IFERROR(VLOOKUP(MID(ET$23,5,4)&$A55,Lista_Ubigeo!$J:$K,2,0),\" \")","v":" "},{"$f":"IFERROR(VLOOKUP(MID(EU$23,5,4)&$A55,Lista_Ubigeo!$J:$K,2,0),\" \")","v":" "},{"$f":"IFERROR(VLOOKUP(MID(EV$23,5,4)&$A55,Lista_Ubigeo!$J:$K,2,0),\" \")","v":" "},{"$f":"IFERROR(VLOOKUP(MID(EW$23,5,4)&$A55,Lista_Ubigeo!$J:$K,2,0),\" \")","v":" "},{"$f":"IFERROR(VLOOKUP(MID(EX$23,5,4)&$A55,Lista_Ubigeo!$J:$K,2,0),\" \")","v":" "},{"$f":"IFERROR(VLOOKUP(MID(EY$23,5,4)&$A55,Lista_Ubigeo!$J:$K,2,0),\" \")","v":" "},{"$f":"IFERROR(VLOOKUP(MID(EZ$23,5,4)&$A58,Lista_Ubigeo!$J:$K,2,0),\" \")","v":" "},{"$f":"IFERROR(VLOOKUP(MID(FA$23,5,4)&$A55,Lista_Ubigeo!$J:$K,2,0),\" \")","v":" "},{"$f":"IFERROR(VLOOKUP(MID(FB$23,5,4)&$A55,Lista_Ubigeo!$J:$K,2,0),\" \")","v":" "},{"$f":"IFERROR(VLOOKUP(MID(FC$23,5,4)&$A55,Lista_Ubigeo!$J:$K,2,0),\" \")","v":" "},{"$f":"IFERROR(VLOOKUP(MID(FD$23,5,4)&$A55,Lista_Ubigeo!$J:$K,2,0),\" \")","v":" "},{"$f":"IFERROR(VLOOKUP(MID(FE$23,5,4)&$A55,Lista_Ubigeo!$J:$K,2,0),\" \")","v":" "},{"$f":"IFERROR(VLOOKUP(MID(FF$23,5,4)&$A55,Lista_Ubigeo!$J:$K,2,0),\" \")","v":" "},{"$f":"IFERROR(VLOOKUP(MID(FG$23,5,4)&$A55,Lista_Ubigeo!$J:$K,2,0),\" \")","v":" "},{"$f":"IFERROR(VLOOKUP(MID(FH$23,5,4)&$A55,Lista_Ubigeo!$J:$K,2,0),\" \")","v":" "},{"$f":"IFERROR(VLOOKUP(MID(FI$23,5,4)&$A55,Lista_Ubigeo!$J:$K,2,0),\" \")","v":" "},{"$f":"IFERROR(VLOOKUP(MID(FJ$23,5,4)&$A55,Lista_Ubigeo!$J:$K,2,0),\" \")","v":" "},{"$f":"IFERROR(VLOOKUP(MID(FK$23,5,4)&$A55,Lista_Ubigeo!$J:$K,2,0),\" \")","v":" "},{"$f":"IFERROR(VLOOKUP(MID(FL$23,5,4)&$A55,Lista_Ubigeo!$J:$K,2,0),\" \")","v":" "},{"$f":"IFERROR(VLOOKUP(MID(FM$23,5,4)&$A55,Lista_Ubigeo!$J:$K,2,0),\" \")","v":" "},{"$f":"IFERROR(VLOOKUP(MID(FN$23,5,4)&$A55,Lista_Ubigeo!$J:$K,2,0),\" \")","v":" "},{"$f":"IFERROR(VLOOKUP(MID(FO$23,5,4)&$A55,Lista_Ubigeo!$J:$K,2,0),\" \")","v":" "},{"$f":"IFERROR(VLOOKUP(MID(FP$23,5,4)&$A55,Lista_Ubigeo!$J:$K,2,0),\" \")","v":" "},{"$f":"IFERROR(VLOOKUP(MID(FQ$23,5,4)&$A55,Lista_Ubigeo!$J:$K,2,0),\" \")","v":" "},{"$f":"IFERROR(VLOOKUP(MID(FR$23,5,4)&$A55,Lista_Ubigeo!$J:$K,2,0),\" \")","v":" "},{"$f":"IFERROR(VLOOKUP(MID(FS$23,5,4)&$A55,Lista_Ubigeo!$J:$K,2,0),\" \")","v":" "},{"$f":"IFERROR(VLOOKUP(MID(FT$23,5,4)&$A55,Lista_Ubigeo!$J:$K,2,0),\" \")","v":" "},{"$f":"IFERROR(VLOOKUP(MID(FU$23,5,4)&$A55,Lista_Ubigeo!$J:$K,2,0),\" \")","v":" "},{"$f":"IFERROR(VLOOKUP(MID(FV$23,5,4)&$A55,Lista_Ubigeo!$J:$K,2,0),\" \")","v":" "},{"$f":"IFERROR(VLOOKUP(MID(FW$23,5,4)&$A55,Lista_Ubigeo!$J:$K,2,0),\" \")","v":" "},{"$f":"IFERROR(VLOOKUP(MID(FX$23,5,4)&$A55,Lista_Ubigeo!$J:$K,2,0),\" \")","v":" "},{"$f":"IFERROR(VLOOKUP(MID(FY$23,5,4)&$A55,Lista_Ubigeo!$J:$K,2,0),\" \")","v":" "},{"$f":"IFERROR(VLOOKUP(MID(FZ$23,5,4)&$A55,Lista_Ubigeo!$J:$K,2,0),\" \")","v":" "},{"$f":"IFERROR(VLOOKUP(MID(GA$23,5,4)&$A55,Lista_Ubigeo!$J:$K,2,0),\" \")","v":" "},{"$f":"IFERROR(VLOOKUP(MID(GB$23,5,4)&$A55,Lista_Ubigeo!$J:$K,2,0),\" \")","v":" "},{"$f":"IFERROR(VLOOKUP(MID(GC$23,5,4)&$A55,Lista_Ubigeo!$J:$K,2,0),\" \")","v":" "},{"$f":"IFERROR(VLOOKUP(MID(GD$23,5,4)&$A55,Lista_Ubigeo!$J:$K,2,0),\" \")","v":" "},{"$f":"IFERROR(VLOOKUP(MID(GE$23,5,4)&$A55,Lista_Ubigeo!$J:$K,2,0),\" \")","v":" "},{"$f":"IFERROR(VLOOKUP(MID(GF$23,5,4)&$A55,Lista_Ubigeo!$J:$K,2,0),\" \")","v":" "},{"$f":"IFERROR(VLOOKUP(MID(GG$23,5,4)&$A55,Lista_Ubigeo!$J:$K,2,0),\" \")","v":" "},{"$f":"IFERROR(VLOOKUP(MID(GH$23,5,4)&$A55,Lista_Ubigeo!$J:$K,2,0),\" \")","v":" "},{"$f":"IFERROR(VLOOKUP(MID(GI$23,5,4)&$A55,Lista_Ubigeo!$J:$K,2,0),\" \")","v":" "},{"$f":"IFERROR(VLOOKUP(MID(GJ$23,5,4)&$A55,Lista_Ubigeo!$J:$K,2,0),\" \")","v":" "},{"$f":"IFERROR(VLOOKUP(MID(GK$23,5,4)&$A55,Lista_Ubigeo!$J:$K,2,0),\" \")","v":" "},{"$f":"IFERROR(VLOOKUP(MID(GL$23,5,4)&$A55,Lista_Ubigeo!$J:$K,2,0),\" \")","v":" "},{"$f":"IFERROR(VLOOKUP(MID(GM$23,5,4)&$A55,Lista_Ubigeo!$J:$K,2,0),\" \")","v":" "},{"$f":"IFERROR(VLOOKUP(MID(GN$23,5,4)&$A55,Lista_Ubigeo!$J:$K,2,0),\" \")","v":" "},{"$f":"IFERROR(VLOOKUP(MID(GO$23,5,4)&$A55,Lista_Ubigeo!$J:$K,2,0),\" \")","v":" "},{"$f":"IFERROR(VLOOKUP(MID(GP$23,5,4)&$A55,Lista_Ubigeo!$J:$K,2,0),\" \")","v":" "}]
["33",{"$f":"IFERROR(VLOOKUP(MID(B$23,5,4)&$A56,Lista_Ubigeo!$J:$K,2,0),\" \")","v":" "},{"$f":"IFERROR(VLOOKUP(MID(C$23,5,4)&$A56,Lista_Ubigeo!$J:$K,2,0),\" \")","v":" "},{"$f":"IFERROR(VLOOKUP(MID(D$23,5,4)&$A56,Lista_Ubigeo!$J:$K,2,0),\" \")","v":" "},{"$f":"IFERROR(VLOOKUP(MID(E$23,5,4)&$A56,Lista_Ubigeo!$J:$K,2,0),\" \")","v":" "},{"$f":"IFERROR(VLOOKUP(MID(F$23,5,4)&$A56,Lista_Ubigeo!$J:$K,2,0),\" \")","v":" "},{"$f":"IFERROR(VLOOKUP(MID(G$23,5,4)&$A56,Lista_Ubigeo!$J:$K,2,0),\" \")","v":" "},{"$f":"IFERROR(VLOOKUP(MID(H$23,5,4)&$A56,Lista_Ubigeo!$J:$K,2,0),\" \")","v":" "},{"$f":"IFERROR(VLOOKUP(MID(I$23,5,4)&$A56,Lista_Ubigeo!$J:$K,2,0),\" \")","v":" "},{"$f":"IFERROR(VLOOKUP(MID(J$23,5,4)&$A56,Lista_Ubigeo!$J:$K,2,0),\" \")","v":" "},{"$f":"IFERROR(VLOOKUP(MID(K$23,5,4)&$A56,Lista_Ubigeo!$J:$K,2,0),\" \")","v":" "},{"$f":"IFERROR(VLOOKUP(MID(L$23,5,4)&$A56,Lista_Ubigeo!$J:$K,2,0),\" \")","v":" "},{"$f":"IFERROR(VLOOKUP(MID(M$23,5,4)&$A56,Lista_Ubigeo!$J:$K,2,0),\" \")","v":" "},{"$f":"IFERROR(VLOOKUP(MID(N$23,5,4)&$A56,Lista_Ubigeo!$J:$K,2,0),\" \")","v":" "},{"$f":"IFERROR(VLOOKUP(MID(O$23,5,4)&$A56,Lista_Ubigeo!$J:$K,2,0),\" \")","v":" "},{"$f":"IFERROR(VLOOKUP(MID(P$23,5,4)&$A56,Lista_Ubigeo!$J:$K,2,0),\" \")","v":" "},{"$f":"IFERROR(VLOOKUP(MID(Q$23,5,4)&$A56,Lista_Ubigeo!$J:$K,2,0),\" \")","v":" "},{"$f":"IFERROR(VLOOKUP(MID(R$23,5,4)&$A56,Lista_Ubigeo!$J:$K,2,0),\" \")","v":" "},{"$f":"IFERROR(VLOOKUP(MID(S$23,5,4)&$A56,Lista_Ubigeo!$J:$K,2,0),\" \")","v":" "},{"$f":"IFERROR(VLOOKUP(MID(T$23,5,4)&$A56,Lista_Ubigeo!$J:$K,2,0),\" \")","v":" "},{"$f":"IFERROR(VLOOKUP(MID(U$23,5,4)&$A56,Lista_Ubigeo!$J:$K,2,0),\" \")","v":" "},{"$f":"IFERROR(VLOOKUP(MID(V$23,5,4)&$A56,Lista_Ubigeo!$J:$K,2,0),\" \")","v":" "},{"$f":"IFERROR(VLOOKUP(MID(W$23,5,4)&$A56,Lista_Ubigeo!$J:$K,2,0),\" \")","v":" "},{"$f":"IFERROR(VLOOKUP(MID(X$23,5,4)&$A56,Lista_Ubigeo!$J:$K,2,0),\" \")","v":" "},{"$f":"IFERROR(VLOOKUP(MID(Y$23,5,4)&$A56,Lista_Ubigeo!$J:$K,2,0),\" \")","v":" "},{"$f":"IFERROR(VLOOKUP(MID(Z$23,5,4)&$A56,Lista_Ubigeo!$J:$K,2,0),\" \")","v":" "},{"$f":"IFERROR(VLOOKUP(MID(AA$23,5,4)&$A56,Lista_Ubigeo!$J:$K,2,0),\" \")","v":" "},{"$f":"IFERROR(VLOOKUP(MID(AB$23,5,4)&$A56,Lista_Ubigeo!$J:$K,2,0),\" \")","v":" "},{"$f":"IFERROR(VLOOKUP(MID(AC$23,5,4)&$A56,Lista_Ubigeo!$J:$K,2,0),\" \")","v":" "},{"$f":"IFERROR(VLOOKUP(MID(AD$23,5,4)&$A56,Lista_Ubigeo!$J:$K,2,0),\" \")","v":" "},{"$f":"IFERROR(VLOOKUP(MID(AE$23,5,4)&$A56,Lista_Ubigeo!$J:$K,2,0),\" \")","v":" "},{"$f":"IFERROR(VLOOKUP(MID(AF$23,5,4)&$A56,Lista_Ubigeo!$J:$K,2,0),\" \")","v":" "},{"$f":"IFERROR(VLOOKUP(MID(AG$23,5,4)&$A56,Lista_Ubigeo!$J:$K,2,0),\" \")","v":" "},{"$f":"IFERROR(VLOOKUP(MID(AH$23,5,4)&$A56,Lista_Ubigeo!$J:$K,2,0),\" \")","v":" "},{"$f":"IFERROR(VLOOKUP(MID(AI$23,5,4)&$A56,Lista_Ubigeo!$J:$K,2,0),\" \")","v":" "},{"$f":"IFERROR(VLOOKUP(MID(AJ$23,5,4)&$A56,Lista_Ubigeo!$J:$K,2,0),\" \")","v":" "},{"$f":"IFERROR(VLOOKUP(MID(AK$23,5,4)&$A56,Lista_Ubigeo!$J:$K,2,0),\" \")","v":" "},{"$f":"IFERROR(VLOOKUP(MID(AL$23,5,4)&$A56,Lista_Ubigeo!$J:$K,2,0),\" \")","v":" "},{"$f":"IFERROR(VLOOKUP(MID(AM$23,5,4)&$A56,Lista_Ubigeo!$J:$K,2,0),\" \")","v":" "},{"$f":"IFERROR(VLOOKUP(MID(AN$23,5,4)&$A56,Lista_Ubigeo!$J:$K,2,0),\" \")","v":" "},{"$f":"IFERROR(VLOOKUP(MID(AO$23,5,4)&$A56,Lista_Ubigeo!$J:$K,2,0),\" \")","v":" "},{"$f":"IFERROR(VLOOKUP(MID(AP$23,5,4)&$A56,Lista_Ubigeo!$J:$K,2,0),\" \")","v":" "},{"$f":"IFERROR(VLOOKUP(MID(AQ$23,4,4)&$A56,Lista_Ubigeo!$J:$K,2,0),\" \")","v":" "},{"$f":"IFERROR(VLOOKUP(MID(AR$23,5,4)&$A56,Lista_Ubigeo!$J:$K,2,0),\" \")","v":" "},{"$f":"IFERROR(VLOOKUP(MID(AS$23,5,4)&$A56,Lista_Ubigeo!$J:$K,2,0),\" \")","v":" "},{"$f":"IFERROR(VLOOKUP(MID(AT$23,5,4)&$A56,Lista_Ubigeo!$J:$K,2,0),\" \")","v":" "},{"$f":"IFERROR(VLOOKUP(MID(AU$23,5,4)&$A56,Lista_Ubigeo!$J:$K,2,0),\" \")","v":" "},{"$f":"IFERROR(VLOOKUP(MID(AV$23,5,4)&$A56,Lista_Ubigeo!$J:$K,2,0),\" \")","v":" "},{"$f":"IFERROR(VLOOKUP(MID(AW$23,5,4)&$A56,Lista_Ubigeo!$J:$K,2,0),\" \")","v":" "},{"$f":"IFERROR(VLOOKUP(MID(AX$23,5,4)&$A56,Lista_Ubigeo!$J:$K,2,0),\" \")","v":" "},{"$f":"IFERROR(VLOOKUP(MID(AY$23,5,4)&$A56,Lista_Ubigeo!$J:$K,2,0),\" \")","v":" "},{"$f":"IFERROR(VLOOKUP(MID(AZ$23,5,4)&$A56,Lista_Ubigeo!$J:$K,2,0),\" \")","v":" "},{"$f":"IFERROR(VLOOKUP(MID(BA$23,5,4)&$A56,Lista_Ubigeo!$J:$K,2,0),\" \")","v":" "},{"$f":"IFERROR(VLOOKUP(MID(BB$23,5,4)&$A56,Lista_Ubigeo!$J:$K,2,0),\" \")","v":" "},{"$f":"IFERROR(VLOOKUP(MID(BC$23,5,4)&$A56,Lista_Ubigeo!$J:$K,2,0),\" \")","v":" "},{"$f":"IFERROR(VLOOKUP(MID(BD$23,5,4)&$A56,Lista_Ubigeo!$J:$K,2,0),\" \")","v":" "},{"$f":"IFERROR(VLOOKUP(MID(BE$23,5,4)&$A56,Lista_Ubigeo!$J:$K,2,0),\" \")","v":" "},{"$f":"IFERROR(VLOOKUP(MID(BF$23,5,4)&$A56,Lista_Ubigeo!$J:$K,2,0),\" \")","v":" "},{"$f":"IFERROR(VLOOKUP(MID(BG$23,5,4)&$A56,Lista_Ubigeo!$J:$K,2,0),\" \")","v":" "},{"$f":"IFERROR(VLOOKUP(MID(BH$23,5,4)&$A56,Lista_Ubigeo!$J:$K,2,0),\" \")","v":" "},{"$f":"IFERROR(VLOOKUP(MID(BI$23,5,4)&$A56,Lista_Ubigeo!$J:$K,2,0),\" \")","v":" "},{"$f":"IFERROR(VLOOKUP(MID(BJ$23,5,4)&$A56,Lista_Ubigeo!$J:$K,2,0),\" \")","v":" "},{"$f":"IFERROR(VLOOKUP(MID(BK$23,5,4)&$A56,Lista_Ubigeo!$J:$K,2,0),\" \")","v":" "},{"$f":"IFERROR(VLOOKUP(MID(BL$23,5,4)&$A56,Lista_Ubigeo!$J:$K,2,0),\" \")","v":" "},{"$f":"IFERROR(VLOOKUP(MID(BM$23,5,4)&$A56,Lista_Ubigeo!$J:$K,2,0),\" \")","v":" "},{"$f":"IFERROR(VLOOKUP(MID(BN$23,5,4)&$A56,Lista_Ubigeo!$J:$K,2,0),\" \")","v":" "},{"$f":"IFERROR(VLOOKUP(MID(BO$23,5,4)&$A56,Lista_Ubigeo!$J:$K,2,0),\" \")","v":" "},{"$f":"IFERROR(VLOOKUP(MID(BP$23,5,4)&$A56,Lista_Ubigeo!$J:$K,2,0),\" \")","v":" "},{"$f":"IFERROR(VLOOKUP(MID(BQ$23,5,4)&$A56,Lista_Ubigeo!$J:$K,2,0),\" \")","v":" "},{"$f":"IFERROR(VLOOKUP(MID(BR$23,5,4)&$A56,Lista_Ubigeo!$J:$K,2,0),\" \")","v":" "},{"$f":"IFERROR(VLOOKUP(MID(BS$23,5,4)&$A56,Lista_Ubigeo!$J:$K,2,0),\" \")","v":" "},{"$f":"IFERROR(VLOOKUP(MID(BT$23,5,4)&$A56,Lista_Ubigeo!$J:$K,2,0),\" \")","v":" "},{"$f":"IFERROR(VLOOKUP(MID(BU$23,5,4)&$A56,Lista_Ubigeo!$J:$K,2,0),\" \")","v":" "},{"$f":"IFERROR(VLOOKUP(MID(BV$23,5,4)&$A56,Lista_Ubigeo!$J:$K,2,0),\" \")","v":" "},{"$f":"IFERROR(VLOOKUP(MID(BW$23,5,4)&$A56,Lista_Ubigeo!$J:$K,2,0),\" \")","v":" "},{"$f":"IFERROR(VLOOKUP(MID(BX$23,5,4)&$A56,Lista_Ubigeo!$J:$K,2,0),\" \")","v":" "},{"$f":"IFERROR(VLOOKUP(MID(BY$23,4,4)&$A56,Lista_Ubigeo!$J:$K,2,0),\" \")","v":" "},{"$f":"IFERROR(VLOOKUP(MID(BZ$23,5,4)&$A56,Lista_Ubigeo!$J:$K,2,0),\" \")","v":" "},{"$f":"IFERROR(VLOOKUP(MID(CA$23,5,4)&$A56,Lista_Ubigeo!$J:$K,2,0),\" \")","v":" "},{"$f":"IFERROR(VLOOKUP(MID(CB$23,5,4)&$A56,Lista_Ubigeo!$J:$K,2,0),\" \")","v":" "},{"$f":"IFERROR(VLOOKUP(MID(CC$23,5,4)&$A56,Lista_Ubigeo!$J:$K,2,0),\" \")","v":" "},{"$f":"IFERROR(VLOOKUP(MID(CD$23,5,4)&$A56,Lista_Ubigeo!$J:$K,2,0),\" \")","v":" "},{"$f":"IFERROR(VLOOKUP(MID(CE$23,5,4)&$A56,Lista_Ubigeo!$J:$K,2,0),\" \")","v":" "},{"$f":"IFERROR(VLOOKUP(MID(CF$23,5,4)&$A56,Lista_Ubigeo!$J:$K,2,0),\" \")","v":" "},{"$f":"IFERROR(VLOOKUP(MID(CG$23,5,4)&$A56,Lista_Ubigeo!$J:$K,2,0),\" \")","v":" "},{"$f":"IFERROR(VLOOKUP(MID(CH$23,5,4)&$A56,Lista_Ubigeo!$J:$K,2,0),\" \")","v":" "},{"$f":"IFERROR(VLOOKUP(MID(CI$23,5,4)&$A56,Lista_Ubigeo!$J:$K,2,0),\" \")","v":" "},{"$f":"IFERROR(VLOOKUP(MID(CJ$23,5,4)&$A56,Lista_Ubigeo!$J:$K,2,0),\" \")","v":" "},{"$f":"IFERROR(VLOOKUP(MID(CK$23,5,4)&$A56,Lista_Ubigeo!$J:$K,2,0),\" \")","v":" "},{"$f":"IFERROR(VLOOKUP(MID(CL$23,5,4)&$A56,Lista_Ubigeo!$J:$K,2,0),\" \")","v":" "},{"$f":"IFERROR(VLOOKUP(MID(CM$23,5,4)&$A67,Lista_Ubigeo!$J:$K,2,0),\" \")","v":" "},{"$f":"IFERROR(VLOOKUP(MID(CN$23,5,4)&$A56,Lista_Ubigeo!$J:$K,2,0),\" \")","v":" "},{"$f":"IFERROR(VLOOKUP(MID(CO$23,5,4)&$A56,Lista_Ubigeo!$J:$K,2,0),\" \")","v":" "},{"$f":"IFERROR(VLOOKUP(MID(CP$23,5,4)&$A56,Lista_Ubigeo!$J:$K,2,0),\" \")","v":" "},{"$f":"IFERROR(VLOOKUP(MID(CQ$23,5,4)&$A56,Lista_Ubigeo!$J:$K,2,0),\" \")","v":" "},{"$f":"IFERROR(VLOOKUP(MID(CR$23,5,4)&$A56,Lista_Ubigeo!$J:$K,2,0),\" \")","v":" "},{"$f":"IFERROR(VLOOKUP(MID(CS$23,5,4)&$A56,Lista_Ubigeo!$J:$K,2,0),\" \")","v":" "},{"$f":"IFERROR(VLOOKUP(MID(CT$23,5,4)&$A56,Lista_Ubigeo!$J:$K,2,0),\" \")","v":" "},{"$f":"IFERROR(VLOOKUP(MID(CU$23,5,4)&$A56,Lista_Ubigeo!$J:$K,2,0),\" \")","v":" "},{"$f":"IFERROR(VLOOKUP(MID(CV$23,5,4)&$A56,Lista_Ubigeo!$J:$K,2,0),\" \")","v":" "},{"$f":"IFERROR(VLOOKUP(MID(CW$23,5,4)&$A56,Lista_Ubigeo!$J:$K,2,0),\" \")","v":" "},{"$f":"IFERROR(VLOOKUP(MID(CX$23,5,4)&$A56,Lista_Ubigeo!$J:$K,2,0),\" \")","v":" "},{"$f":"IFERROR(VLOOKUP(MID(CY$23,5,4)&$A56,Lista_Ubigeo!$J:$K,2,0),\" \")","v":" "},{"$f":"IFERROR(VLOOKUP(MID(CZ$23,5,4)&$A56,Lista_Ubigeo!$J:$K,2,0),\" \")","v":" "},{"$f":"IFERROR(VLOOKUP(MID(DA$23,5,4)&$A56,Lista_Ubigeo!$J:$K,2,0),\" \")","v":"SAPALLANGA"},{"$f":"IFERROR(VLOOKUP(MID(DB$23,5,4)&$A56,Lista_Ubigeo!$J:$K,2,0),\" \")","v":" "},{"$f":"IFERROR(VLOOKUP(MID(DC$23,5,4)&$A56,Lista_Ubigeo!$J:$K,2,0),\" \")","v":" "},{"$f":"IFERROR(VLOOKUP(MID(DD$23,5,4)&$A56,Lista_Ubigeo!$J:$K,2,0),\" \")","v":"YAULI"},{"$f":"IFERROR(VLOOKUP(MID(DE$23,5,4)&$A56,Lista_Ubigeo!$J:$K,2,0),\" \")","v":" "},{"$f":"IFERROR(VLOOKUP(MID(DF$23,5,4)&$A56,Lista_Ubigeo!$J:$K,2,0),\" \")","v":" "},{"$f":"IFERROR(VLOOKUP(MID(DG$23,5,4)&$A56,Lista_Ubigeo!$J:$K,2,0),\" \")","v":" "},{"$f":"IFERROR(VLOOKUP(MID(DH$23,5,4)&$A56,Lista_Ubigeo!$J:$K,2,0),\" \")","v":" "},{"$f":"IFERROR(VLOOKUP(MID(DI$23,5,4)&$A56,Lista_Ubigeo!$J:$K,2,0),\" \")","v":" "},{"$f":"IFERROR(VLOOKUP(MID(DJ$23,5,4)&$A56,Lista_Ubigeo!$J:$K,2,0),\" \")","v":" "},{"$f":"IFERROR(VLOOKUP(MID(DK$23,5,4)&$A56,Lista_Ubigeo!$J:$K,2,0),\" \")","v":" "},{"$f":"IFERROR(VLOOKUP(MID(DL$23,5,4)&$A56,Lista_Ubigeo!$J:$K,2,0),\" \")","v":" "},{"$f":"IFERROR(VLOOKUP(MID(DM$23,5,4)&$A56,Lista_Ubigeo!$J:$K,2,0),\" \")","v":" "},{"$f":"IFERROR(VLOOKUP(MID(DN$23,5,4)&$A56,Lista_Ubigeo!$J:$K,2,0),\" \")","v":" "},{"$f":"IFERROR(VLOOKUP(MID(DO$23,5,4)&$A57,Lista_Ubigeo!$J:$K,2,0),\" \")","v":" "},{"$f":"IFERROR(VLOOKUP(MID(DP$23,5,4)&$A56,Lista_Ubigeo!$J:$K,2,0),\" \")","v":" "},{"$f":"IFERROR(VLOOKUP(MID(DQ$23,5,4)&$A56,Lista_Ubigeo!$J:$K,2,0),\" \")","v":" "},{"$f":"IFERROR(VLOOKUP(MID(DR$23,5,4)&$A56,Lista_Ubigeo!$J:$K,2,0),\" \")","v":" "},{"$f":"IFERROR(VLOOKUP(MID(DS$23,5,4)&$A56,Lista_Ubigeo!$J:$K,2,0),\" \")","v":" "},null,null,{"$f":"IFERROR(VLOOKUP(MID(DV$23,5,4)&$A56,Lista_Ubigeo!$J:$K,2,0),\" \")","v":" "},{"$f":"IFERROR(VLOOKUP(MID(DW$23,5,4)&$A56,Lista_Ubigeo!$J:$K,2,0),\" \")","v":" "},{"$f":"IFERROR(VLOOKUP(MID(DX$23,5,4)&$A56,Lista_Ubigeo!$J:$K,2,0),\" \")","v":" "},{"$f":"IFERROR(VLOOKUP(MID(DY$23,5,4)&$A56,Lista_Ubigeo!$J:$K,2,0),\" \")","v":"SAN JUAN DE MIRAFLORES"},{"$f":"IFERROR(VLOOKUP(MID(DZ$23,5,4)&$A56,Lista_Ubigeo!$J:$K,2,0),\" \")","v":" "},{"$f":"IFERROR(VLOOKUP(MID(EA$23,5,4)&$A56,Lista_Ubigeo!$J:$K,2,0),\" \")","v":" "},{"$f":"IFERROR(VLOOKUP(MID(EB$23,5,4)&$A56,Lista_Ubigeo!$J:$K,2,0),\" \")","v":" "},{"$f":"IFERROR(VLOOKUP(MID(EC$23,5,4)&$A56,Lista_Ubigeo!$J:$K,2,0),\" \")","v":" "},{"$f":"IFERROR(VLOOKUP(MID(ED$23,5,4)&$A56,Lista_Ubigeo!$J:$K,2,0),\" \")","v":" "},{"$f":"IFERROR(VLOOKUP(MID(EE$23,5,4)&$A56,Lista_Ubigeo!$J:$K,2,0),\" \")","v":" "},{"$f":"IFERROR(VLOOKUP(MID(EF$23,5,4)&$A56,Lista_Ubigeo!$J:$K,2,0),\" \")","v":" "},{"$f":"IFERROR(VLOOKUP(MID(EG$23,5,4)&$A56,Lista_Ubigeo!$J:$K,2,0),\" \")","v":" "},{"$f":"IFERROR(VLOOKUP(MID(EH$23,5,4)&$A56,Lista_Ubigeo!$J:$K,2,0),\" \")","v":"VITIS"},{"$f":"IFERROR(VLOOKUP(MID(EI$23,5,4)&$A56,Lista_Ubigeo!$J:$K,2,0),\" \")","v":" "},{"$f":"IFERROR(VLOOKUP(MID(EJ$23,5,4)&$A61,Lista_Ubigeo!$J:$K,2,0),\" \")","v":" "},{"$f":"IFERROR(VLOOKUP(MID(EK$23,5,4)&$A56,Lista_Ubigeo!$J:$K,2,0),\" \")","v":" "},{"$f":"IFERROR(VLOOKUP(MID(EL$23,5,4)&$A56,Lista_Ubigeo!$J:$K,2,0),\" \")","v":" "},{"$f":"IFERROR(VLOOKUP(MID(EM$23,5,4)&$A56,Lista_Ubigeo!$J:$K,2,0),\" \")","v":" "},{"$f":"IFERROR(VLOOKUP(MID(EN$23,5,4)&$A56,Lista_Ubigeo!$J:$K,2,0),\" \")","v":" "},{"$f":"IFERROR(VLOOKUP(MID(EO$23,5,4)&$A56,Lista_Ubigeo!$J:$K,2,0),\" \")","v":" "},{"$f":"IFERROR(VLOOKUP(MID(EP$23,5,4)&$A56,Lista_Ubigeo!$J:$K,2,0),\" \")","v":" "},{"$f":"IFERROR(VLOOKUP(MID(EQ$23,5,4)&$A56,Lista_Ubigeo!$J:$K,2,0),\" \")","v":" "},{"$f":"IFERROR(VLOOKUP(MID(ER$23,5,4)&$A56,Lista_Ubigeo!$J:$K,2,0),\" \")","v":" "},{"$f":"IFERROR(VLOOKUP(MID(ES$23,5,4)&$A56,Lista_Ubigeo!$J:$K,2,0),\" \")","v":" "},{"$f":"IFERROR(VLOOKUP(MID(ET$23,5,4)&$A56,Lista_Ubigeo!$J:$K,2,0),\" \")","v":" "},{"$f":"IFERROR(VLOOKUP(MID(EU$23,5,4)&$A56,Lista_Ubigeo!$J:$K,2,0),\" \")","v":" "},{"$f":"IFERROR(VLOOKUP(MID(EV$23,5,4)&$A56,Lista_Ubigeo!$J:$K,2,0),\" \")","v":" "},{"$f":"IFERROR(VLOOKUP(MID(EW$23,5,4)&$A56,Lista_Ubigeo!$J:$K,2,0),\" \")","v":" "},{"$f":"IFERROR(VLOOKUP(MID(EX$23,5,4)&$A56,Lista_Ubigeo!$J:$K,2,0),\" \")","v":" "},{"$f":"IFERROR(VLOOKUP(MID(EY$23,5,4)&$A56,Lista_Ubigeo!$J:$K,2,0),\" \")","v":" "},{"$f":"IFERROR(VLOOKUP(MID(EZ$23,5,4)&$A59,Lista_Ubigeo!$J:$K,2,0),\" \")","v":" "},{"$f":"IFERROR(VLOOKUP(MID(FA$23,5,4)&$A56,Lista_Ubigeo!$J:$K,2,0),\" \")","v":" "},{"$f":"IFERROR(VLOOKUP(MID(FB$23,5,4)&$A56,Lista_Ubigeo!$J:$K,2,0),\" \")","v":" "},{"$f":"IFERROR(VLOOKUP(MID(FC$23,5,4)&$A56,Lista_Ubigeo!$J:$K,2,0),\" \")","v":" "},{"$f":"IFERROR(VLOOKUP(MID(FD$23,5,4)&$A56,Lista_Ubigeo!$J:$K,2,0),\" \")","v":" "},{"$f":"IFERROR(VLOOKUP(MID(FE$23,5,4)&$A56,Lista_Ubigeo!$J:$K,2,0),\" \")","v":" "},{"$f":"IFERROR(VLOOKUP(MID(FF$23,5,4)&$A56,Lista_Ubigeo!$J:$K,2,0),\" \")","v":" "},{"$f":"IFERROR(VLOOKUP(MID(FG$23,5,4)&$A56,Lista_Ubigeo!$J:$K,2,0),\" \")","v":" "},{"$f":"IFERROR(VLOOKUP(MID(FH$23,5,4)&$A56,Lista_Ubigeo!$J:$K,2,0),\" \")","v":" "},{"$f":"IFERROR(VLOOKUP(MID(FI$23,5,4)&$A56,Lista_Ubigeo!$J:$K,2,0),\" \")","v":" "},{"$f":"IFERROR(VLOOKUP(MID(FJ$23,5,4)&$A56,Lista_Ubigeo!$J:$K,2,0),\" \")","v":" "},{"$f":"IFERROR(VLOOKUP(MID(FK$23,5,4)&$A56,Lista_Ubigeo!$J:$K,2,0),\" \")","v":" "},{"$f":"IFERROR(VLOOKUP(MID(FL$23,5,4)&$A56,Lista_Ubigeo!$J:$K,2,0),\" \")","v":" "},{"$f":"IFERROR(VLOOKUP(MID(FM$23,5,4)&$A56,Lista_Ubigeo!$J:$K,2,0),\" \")","v":" "},{"$f":"IFERROR(VLOOKUP(MID(FN$23,5,4)&$A56,Lista_Ubigeo!$J:$K,2,0),\" \")","v":" "},{"$f":"IFERROR(VLOOKUP(MID(FO$23,5,4)&$A56,Lista_Ubigeo!$J:$K,2,0),\" \")","v":" "},{"$f":"IFERROR(VLOOKUP(MID(FP$23,5,4)&$A56,Lista_Ubigeo!$J:$K,2,0),\" \")","v":" "},{"$f":"IFERROR(VLOOKUP(MID(FQ$23,5,4)&$A56,Lista_Ubigeo!$J:$K,2,0),\" \")","v":" "},{"$f":"IFERROR(VLOOKUP(MID(FR$23,5,4)&$A56,Lista_Ubigeo!$J:$K,2,0),\" \")","v":" "},{"$f":"IFERROR(VLOOKUP(MID(FS$23,5,4)&$A56,Lista_Ubigeo!$J:$K,2,0),\" \")","v":" "},{"$f":"IFERROR(VLOOKUP(MID(FT$23,5,4)&$A56,Lista_Ubigeo!$J:$K,2,0),\" \")","v":" "},{"$f":"IFERROR(VLOOKUP(MID(FU$23,5,4)&$A56,Lista_Ubigeo!$J:$K,2,0),\" \")","v":" "},{"$f":"IFERROR(VLOOKUP(MID(FV$23,5,4)&$A56,Lista_Ubigeo!$J:$K,2,0),\" \")","v":" "},{"$f":"IFERROR(VLOOKUP(MID(FW$23,5,4)&$A56,Lista_Ubigeo!$J:$K,2,0),\" \")","v":" "},{"$f":"IFERROR(VLOOKUP(MID(FX$23,5,4)&$A56,Lista_Ubigeo!$J:$K,2,0),\" \")","v":" "},{"$f":"IFERROR(VLOOKUP(MID(FY$23,5,4)&$A56,Lista_Ubigeo!$J:$K,2,0),\" \")","v":" "},{"$f":"IFERROR(VLOOKUP(MID(FZ$23,5,4)&$A56,Lista_Ubigeo!$J:$K,2,0),\" \")","v":" "},{"$f":"IFERROR(VLOOKUP(MID(GA$23,5,4)&$A56,Lista_Ubigeo!$J:$K,2,0),\" \")","v":" "},{"$f":"IFERROR(VLOOKUP(MID(GB$23,5,4)&$A56,Lista_Ubigeo!$J:$K,2,0),\" \")","v":" "},{"$f":"IFERROR(VLOOKUP(MID(GC$23,5,4)&$A56,Lista_Ubigeo!$J:$K,2,0),\" \")","v":" "},{"$f":"IFERROR(VLOOKUP(MID(GD$23,5,4)&$A56,Lista_Ubigeo!$J:$K,2,0),\" \")","v":" "},{"$f":"IFERROR(VLOOKUP(MID(GE$23,5,4)&$A56,Lista_Ubigeo!$J:$K,2,0),\" \")","v":" "},{"$f":"IFERROR(VLOOKUP(MID(GF$23,5,4)&$A56,Lista_Ubigeo!$J:$K,2,0),\" \")","v":" "},{"$f":"IFERROR(VLOOKUP(MID(GG$23,5,4)&$A56,Lista_Ubigeo!$J:$K,2,0),\" \")","v":" "},{"$f":"IFERROR(VLOOKUP(MID(GH$23,5,4)&$A56,Lista_Ubigeo!$J:$K,2,0),\" \")","v":" "},{"$f":"IFERROR(VLOOKUP(MID(GI$23,5,4)&$A56,Lista_Ubigeo!$J:$K,2,0),\" \")","v":" "},{"$f":"IFERROR(VLOOKUP(MID(GJ$23,5,4)&$A56,Lista_Ubigeo!$J:$K,2,0),\" \")","v":" "},{"$f":"IFERROR(VLOOKUP(MID(GK$23,5,4)&$A56,Lista_Ubigeo!$J:$K,2,0),\" \")","v":" "},{"$f":"IFERROR(VLOOKUP(MID(GL$23,5,4)&$A56,Lista_Ubigeo!$J:$K,2,0),\" \")","v":" "},{"$f":"IFERROR(VLOOKUP(MID(GM$23,5,4)&$A56,Lista_Ubigeo!$J:$K,2,0),\" \")","v":" "},{"$f":"IFERROR(VLOOKUP(MID(GN$23,5,4)&$A56,Lista_Ubigeo!$J:$K,2,0),\" \")","v":" "},{"$f":"IFERROR(VLOOKUP(MID(GO$23,5,4)&$A56,Lista_Ubigeo!$J:$K,2,0),\" \")","v":" "},{"$f":"IFERROR(VLOOKUP(MID(GP$23,5,4)&$A56,Lista_Ubigeo!$J:$K,2,0),\" \")","v":" "}]
["34",{"$f":"IFERROR(VLOOKUP(MID(B$23,5,4)&$A57,Lista_Ubigeo!$J:$K,2,0),\" \")","v":" "},{"$f":"IFERROR(VLOOKUP(MID(C$23,5,4)&$A57,Lista_Ubigeo!$J:$K,2,0),\" \")","v":" "},{"$f":"IFERROR(VLOOKUP(MID(D$23,5,4)&$A57,Lista_Ubigeo!$J:$K,2,0),\" \")","v":" "},{"$f":"IFERROR(VLOOKUP(MID(E$23,5,4)&$A57,Lista_Ubigeo!$J:$K,2,0),\" \")","v":" "},{"$f":"IFERROR(VLOOKUP(MID(F$23,5,4)&$A57,Lista_Ubigeo!$J:$K,2,0),\" \")","v":" "},{"$f":"IFERROR(VLOOKUP(MID(G$23,5,4)&$A57,Lista_Ubigeo!$J:$K,2,0),\" \")","v":" "},{"$f":"IFERROR(VLOOKUP(MID(H$23,5,4)&$A57,Lista_Ubigeo!$J:$K,2,0),\" \")","v":" "},{"$f":"IFERROR(VLOOKUP(MID(I$23,5,4)&$A57,Lista_Ubigeo!$J:$K,2,0),\" \")","v":" "},{"$f":"IFERROR(VLOOKUP(MID(J$23,5,4)&$A57,Lista_Ubigeo!$J:$K,2,0),\" \")","v":" "},{"$f":"IFERROR(VLOOKUP(MID(K$23,5,4)&$A57,Lista_Ubigeo!$J:$K,2,0),\" \")","v":" "},{"$f":"IFERROR(VLOOKUP(MID(L$23,5,4)&$A57,Lista_Ubigeo!$J:$K,2,0),\" \")","v":" "},{"$f":"IFERROR(VLOOKUP(MID(M$23,5,4)&$A57,Lista_Ubigeo!$J:$K,2,0),\" \")","v":" "},{"$f":"IFERROR(VLOOKUP(MID(N$23,5,4)&$A57,Lista_Ubigeo!$J:$K,2,0),\" \")","v":" "},{"$f":"IFERROR(VLOOKUP(MID(O$23,5,4)&$A57,Lista_Ubigeo!$J:$K,2,0),\" \")","v":" "},{"$f":"IFERROR(VLOOKUP(MID(P$23,5,4)&$A57,Lista_Ubigeo!$J:$K,2,0),\" \")","v":" "},{"$f":"IFERROR(VLOOKUP(MID(Q$23,5,4)&$A57,Lista_Ubigeo!$J:$K,2,0),\" \")","v":" "},{"$f":"IFERROR(VLOOKUP(MID(R$23,5,4)&$A57,Lista_Ubigeo!$J:$K,2,0),\" \")","v":" "},{"$f":"IFERROR(VLOOKUP(MID(S$23,5,4)&$A57,Lista_Ubigeo!$J:$K,2,0),\" \")","v":" "},{"$f":"IFERROR(VLOOKUP(MID(T$23,5,4)&$A57,Lista_Ubigeo!$J:$K,2,0),\" \")","v":" "},{"$f":"IFERROR(VLOOKUP(MID(U$23,5,4)&$A57,Lista_Ubigeo!$J:$K,2,0),\" \")","v":" "},{"$f":"IFERROR(VLOOKUP(MID(V$23,5,4)&$A57,Lista_Ubigeo!$J:$K,2,0),\" \")","v":" "},{"$f":"IFERROR(VLOOKUP(MID(W$23,5,4)&$A57,Lista_Ubigeo!$J:$K,2,0),\" \")","v":" "},{"$f":"IFERROR(VLOOKUP(MID(X$23,5,4)&$A57,Lista_Ubigeo!$J:$K,2,0),\" \")","v":" "},{"$f":"IFERROR(VLOOKUP(MID(Y$23,5,4)&$A57,Lista_Ubigeo!$J:$K,2,0),\" \")","v":" "},{"$f":"IFERROR(VLOOKUP(MID(Z$23,5,4)&$A57,Lista_Ubigeo!$J:$K,2,0),\" \")","v":" "},{"$f":"IFERROR(VLOOKUP(MID(AA$23,5,4)&$A57,Lista_Ubigeo!$J:$K,2,0),\" \")","v":" "},{"$f":"IFERROR(VLOOKUP(MID(AB$23,5,4)&$A57,Lista_Ubigeo!$J:$K,2,0),\" \")","v":" "},{"$f":"IFERROR(VLOOKUP(MID(AC$23,5,4)&$A57,Lista_Ubigeo!$J:$K,2,0),\" \")","v":" "},{"$f":"IFERROR(VLOOKUP(MID(AD$23,5,4)&$A57,Lista_Ubigeo!$J:$K,2,0),\" \")","v":" "},{"$f":"IFERROR(VLOOKUP(MID(AE$23,5,4)&$A57,Lista_Ubigeo!$J:$K,2,0),\" \")","v":" "},{"$f":"IFERROR(VLOOKUP(MID(AF$23,5,4)&$A57,Lista_Ubigeo!$J:$K,2,0),\" \")","v":" "},{"$f":"IFERROR(VLOOKUP(MID(AG$23,5,4)&$A57,Lista_Ubigeo!$J:$K,2,0),\" \")","v":" "},{"$f":"IFERROR(VLOOKUP(MID(AH$23,5,4)&$A57,Lista_Ubigeo!$J:$K,2,0),\" \")","v":" "},{"$f":"IFERROR(VLOOKUP(MID(AI$23,5,4)&$A57,Lista_Ubigeo!$J:$K,2,0),\" \")","v":" "},{"$f":"IFERROR(VLOOKUP(MID(AJ$23,5,4)&$A57,Lista_Ubigeo!$J:$K,2,0),\" \")","v":" "},{"$f":"IFERROR(VLOOKUP(MID(AK$23,5,4)&$A57,Lista_Ubigeo!$J:$K,2,0),\" \")","v":" "},{"$f":"IFERROR(VLOOKUP(MID(AL$23,5,4)&$A57,Lista_Ubigeo!$J:$K,2,0),\" \")","v":" "},{"$f":"IFERROR(VLOOKUP(MID(AM$23,5,4)&$A57,Lista_Ubigeo!$J:$K,2,0),\" \")","v":" "},{"$f":"IFERROR(VLOOKUP(MID(AN$23,5,4)&$A57,Lista_Ubigeo!$J:$K,2,0),\" \")","v":" "},{"$f":"IFERROR(VLOOKUP(MID(AO$23,5,4)&$A57,Lista_Ubigeo!$J:$K,2,0),\" \")","v":" "},{"$f":"IFERROR(VLOOKUP(MID(AP$23,5,4)&$A57,Lista_Ubigeo!$J:$K,2,0),\" \")","v":" "},{"$f":"IFERROR(VLOOKUP(MID(AQ$23,4,4)&$A57,Lista_Ubigeo!$J:$K,2,0),\" \")","v":" "},{"$f":"IFERROR(VLOOKUP(MID(AR$23,5,4)&$A57,Lista_Ubigeo!$J:$K,2,0),\" \")","v":" "},{"$f":"IFERROR(VLOOKUP(MID(AS$23,5,4)&$A57,Lista_Ubigeo!$J:$K,2,0),\" \")","v":" "},{"$f":"IFERROR(VLOOKUP(MID(AT$23,5,4)&$A57,Lista_Ubigeo!$J:$K,2,0),\" \")","v":" "},{"$f":"IFERROR(VLOOKUP(MID(AU$23,5,4)&$A57,Lista_Ubigeo!$J:$K,2,0),\" \")","v":" "},{"$f":"IFERROR(VLOOKUP(MID(AV$23,5,4)&$A57,Lista_Ubigeo!$J:$K,2,0),\" \")","v":" "},{"$f":"IFERROR(VLOOKUP(MID(AW$23,5,4)&$A57,Lista_Ubigeo!$J:$K,2,0),\" \")","v":" "},{"$f":"IFERROR(VLOOKUP(MID(AX$23,5,4)&$A57,Lista_Ubigeo!$J:$K,2,0),\" \")","v":" "},{"$f":"IFERROR(VLOOKUP(MID(AY$23,5,4)&$A57,Lista_Ubigeo!$J:$K,2,0),\" \")","v":" "},{"$f":"IFERROR(VLOOKUP(MID(AZ$23,5,4)&$A57,Lista_Ubigeo!$J:$K,2,0),\" \")","v":" "},{"$f":"IFERROR(VLOOKUP(MID(BA$23,5,4)&$A57,Lista_Ubigeo!$J:$K,2,0),\" \")","v":" "},{"$f":"IFERROR(VLOOKUP(MID(BB$23,5,4)&$A57,Lista_Ubigeo!$J:$K,2,0),\" \")","v":" "},{"$f":"IFERROR(VLOOKUP(MID(BC$23,5,4)&$A57,Lista_Ubigeo!$J:$K,2,0),\" \")","v":" "},{"$f":"IFERROR(VLOOKUP(MID(BD$23,5,4)&$A57,Lista_Ubigeo!$J:$K,2,0),\" \")","v":" "},{"$f":"IFERROR(VLOOKUP(MID(BE$23,5,4)&$A57,Lista_Ubigeo!$J:$K,2,0),\" \")","v":" "},{"$f":"IFERROR(VLOOKUP(MID(BF$23,5,4)&$A57,Lista_Ubigeo!$J:$K,2,0),\" \")","v":" "},{"$f":"IFERROR(VLOOKUP(MID(BG$23,5,4)&$A57,Lista_Ubigeo!$J:$K,2,0),\" \")","v":" "},{"$f":"IFERROR(VLOOKUP(MID(BH$23,5,4)&$A57,Lista_Ubigeo!$J:$K,2,0),\" \")","v":" "},{"$f":"IFERROR(VLOOKUP(MID(BI$23,5,4)&$A57,Lista_Ubigeo!$J:$K,2,0),\" \")","v":" "},{"$f":"IFERROR(VLOOKUP(MID(BJ$23,5,4)&$A57,Lista_Ubigeo!$J:$K,2,0),\" \")","v":" "},{"$f":"IFERROR(VLOOKUP(MID(BK$23,5,4)&$A57,Lista_Ubigeo!$J:$K,2,0),\" \")","v":" "},{"$f":"IFERROR(VLOOKUP(MID(BL$23,5,4)&$A57,Lista_Ubigeo!$J:$K,2,0),\" \")","v":" "},{"$f":"IFERROR(VLOOKUP(MID(BM$23,5,4)&$A57,Lista_Ubigeo!$J:$K,2,0),\" \")","v":" "},{"$f":"IFERROR(VLOOKUP(MID(BN$23,5,4)&$A57,Lista_Ubigeo!$J:$K,2,0),\" \")","v":" "},{"$f":"IFERROR(VLOOKUP(MID(BO$23,5,4)&$A57,Lista_Ubigeo!$J:$K,2,0),\" \")","v":" "},{"$f":"IFERROR(VLOOKUP(MID(BP$23,5,4)&$A57,Lista_Ubigeo!$J:$K,2,0),\" \")","v":" "},{"$f":"IFERROR(VLOOKUP(MID(BQ$23,5,4)&$A57,Lista_Ubigeo!$J:$K,2,0),\" \")","v":" "},{"$f":"IFERROR(VLOOKUP(MID(BR$23,5,4)&$A57,Lista_Ubigeo!$J:$K,2,0),\" \")","v":" "},{"$f":"IFERROR(VLOOKUP(MID(BS$23,5,4)&$A57,Lista_Ubigeo!$J:$K,2,0),\" \")","v":" "},{"$f":"IFERROR(VLOOKUP(MID(BT$23,5,4)&$A57,Lista_Ubigeo!$J:$K,2,0),\" \")","v":" "},{"$f":"IFERROR(VLOOKUP(MID(BU$23,5,4)&$A57,Lista_Ubigeo!$J:$K,2,0),\" \")","v":" "},{"$f":"IFERROR(VLOOKUP(MID(BV$23,5,4)&$A57,Lista_Ubigeo!$J:$K,2,0),\" \")","v":" "},{"$f":"IFERROR(VLOOKUP(MID(BW$23,5,4)&$A57,Lista_Ubigeo!$J:$K,2,0),\" \")","v":" "},{"$f":"IFERROR(VLOOKUP(MID(BX$23,5,4)&$A57,Lista_Ubigeo!$J:$K,2,0),\" \")","v":" "},{"$f":"IFERROR(VLOOKUP(MID(BY$23,4,4)&$A57,Lista_Ubigeo!$J:$K,2,0),\" \")","v":" "},{"$f":"IFERROR(VLOOKUP(MID(BZ$23,5,4)&$A57,Lista_Ubigeo!$J:$K,2,0),\" \")","v":" "},{"$f":"IFERROR(VLOOKUP(MID(CA$23,5,4)&$A57,Lista_Ubigeo!$J:$K,2,0),\" \")","v":" "},{"$f":"IFERROR(VLOOKUP(MID(CB$23,5,4)&$A57,Lista_Ubigeo!$J:$K,2,0),\" \")","v":" "},{"$f":"IFERROR(VLOOKUP(MID(CC$23,5,4)&$A57,Lista_Ubigeo!$J:$K,2,0),\" \")","v":" "},{"$f":"IFERROR(VLOOKUP(MID(CD$23,5,4)&$A57,Lista_Ubigeo!$J:$K,2,0),\" \")","v":" "},{"$f":"IFERROR(VLOOKUP(MID(CE$23,5,4)&$A57,Lista_Ubigeo!$J:$K,2,0),\" \")","v":" "},{"$f":"IFERROR(VLOOKUP(MID(CF$23,5,4)&$A57,Lista_Ubigeo!$J:$K,2,0),\" \")","v":" "},{"$f":"IFERROR(VLOOKUP(MID(CG$23,5,4)&$A57,Lista_Ubigeo!$J:$K,2,0),\" \")","v":" "},{"$f":"IFERROR(VLOOKUP(MID(CH$23,5,4)&$A57,Lista_Ubigeo!$J:$K,2,0),\" \")","v":" "},{"$f":"IFERROR(VLOOKUP(MID(CI$23,5,4)&$A57,Lista_Ubigeo!$J:$K,2,0),\" \")","v":" "},{"$f":"IFERROR(VLOOKUP(MID(CJ$23,5,4)&$A57,Lista_Ubigeo!$J:$K,2,0),\" \")","v":" "},{"$f":"IFERROR(VLOOKUP(MID(CK$23,5,4)&$A57,Lista_Ubigeo!$J:$K,2,0),\" \")","v":" "},{"$f":"IFERROR(VLOOKUP(MID(CL$23,5,4)&$A57,Lista_Ubigeo!$J:$K,2,0),\" \")","v":" "},{"$f":"IFERROR(VLOOKUP(MID(CM$23,5,4)&$A68,Lista_Ubigeo!$J:$K,2,0),\" \")","v":" "},{"$f":"IFERROR(VLOOKUP(MID(CN$23,5,4)&$A57,Lista_Ubigeo!$J:$K,2,0),\" \")","v":" "},{"$f":"IFERROR(VLOOKUP(MID(CO$23,5,4)&$A57,Lista_Ubigeo!$J:$K,2,0),\" \")","v":" "},{"$f":"IFERROR(VLOOKUP(MID(CP$23,5,4)&$A57,Lista_Ubigeo!$J:$K,2,0),\" \")","v":" "},{"$f":"IFERROR(VLOOKUP(MID(CQ$23,5,4)&$A57,Lista_Ubigeo!$J:$K,2,0),\" \")","v":" "},{"$f":"IFERROR(VLOOKUP(MID(CR$23,5,4)&$A57,Lista_Ubigeo!$J:$K,2,0),\" \")","v":" "},{"$f":"IFERROR(VLOOKUP(MID(CS$23,5,4)&$A57,Lista_Ubigeo!$J:$K,2,0),\" \")","v":" "},{"$f":"IFERROR(VLOOKUP(MID(CT$23,5,4)&$A57,Lista_Ubigeo!$J:$K,2,0),\" \")","v":" "},{"$f":"IFERROR(VLOOKUP(MID(CU$23,5,4)&$A57,Lista_Ubigeo!$J:$K,2,0),\" \")","v":" "},{"$f":"IFERROR(VLOOKUP(MID(CV$23,5,4)&$A57,Lista_Ubigeo!$J:$K,2,0),\" \")","v":" "},{"$f":"IFERROR(VLOOKUP(MID(CW$23,5,4)&$A57,Lista_Ubigeo!$J:$K,2,0),\" \")","v":" "},{"$f":"IFERROR(VLOOKUP(MID(CX$23,5,4)&$A57,Lista_Ubigeo!$J:$K,2,0),\" \")","v":" "},{"$f":"IFERROR(VLOOKUP(MID(CY$23,5,4)&$A57,Lista_Ubigeo!$J:$K,2,0),\" \")","v":" "},{"$f":"IFERROR(VLOOKUP(MID(CZ$23,5,4)&$A57,Lista_Ubigeo!$J:$K,2,0),\" \")","v":" "},{"$f":"IFERROR(VLOOKUP(MID(DA$23,5,4)&$A57,Lista_Ubigeo!$J:$K,2,0),\" \")","v":"SICAYA"},{"$f":"IFERROR(VLOOKUP(MID(DB$23,5,4)&$A57,Lista_Ubigeo!$J:$K,2,0),\" \")","v":" "},{"$f":"IFERROR(VLOOKUP(MID(DC$23,5,4)&$A57,Lista_Ubigeo!$J:$K,2,0),\" \")","v":" "},{"$f":"IFERROR(VLOOKUP(MID(DD$23,5,4)&$A57,Lista_Ubigeo!$J:$K,2,0),\" \")","v":"YAUYOS"},{"$f":"IFERROR(VLOOKUP(MID(DE$23,5,4)&$A57,Lista_Ubigeo!$J:$K,2,0),\" \")","v":" "},{"$f":"IFERROR(VLOOKUP(MID(DF$23,5,4)&$A57,Lista_Ubigeo!$J:$K,2,0),\" \")","v":" "},{"$f":"IFERROR(VLOOKUP(MID(DG$23,5,4)&$A57,Lista_Ubigeo!$J:$K,2,0),\" \")","v":" "},{"$f":"IFERROR(VLOOKUP(MID(DH$23,5,4)&$A57,Lista_Ubigeo!$J:$K,2,0),\" \")","v":" "},{"$f":"IFERROR(VLOOKUP(MID(DI$23,5,4)&$A57,Lista_Ubigeo!$J:$K,2,0),\" \")","v":" "},{"$f":"IFERROR(VLOOKUP(MID(DJ$23,5,4)&$A57,Lista_Ubigeo!$J:$K,2,0),\" \")","v":" "},{"$f":"IFERROR(VLOOKUP(MID(DK$23,5,4)&$A57,Lista_Ubigeo!$J:$K,2,0),\" \")","v":" "},{"$f":"IFERROR(VLOOKUP(MID(DL$23,5,4)&$A57,Lista_Ubigeo!$J:$K,2,0),\" \")","v":" "},{"$f":"IFERROR(VLOOKUP(MID(DM$23,5,4)&$A57,Lista_Ubigeo!$J:$K,2,0),\" \")","v":" "},{"$f":"IFERROR(VLOOKUP(MID(DN$23,5,4)&$A57,Lista_Ubigeo!$J:$K,2,0),\" \")","v":" "},{"$f":"IFERROR(VLOOKUP(MID(DO$23,5,4)&$A58,Lista_Ubigeo!$J:$K,2,0),\" \")","v":" "},{"$f":"IFERROR(VLOOKUP(MID(DP$23,5,4)&$A57,Lista_Ubigeo!$J:$K,2,0),\" \")","v":" "},{"$f":"IFERROR(VLOOKUP(MID(DQ$23,5,4)&$A57,Lista_Ubigeo!$J:$K,2,0),\" \")","v":" "},{"$f":"IFERROR(VLOOKUP(MID(DR$23,5,4)&$A57,Lista_Ubigeo!$J:$K,2,0),\" \")","v":" "},{"$f":"IFERROR(VLOOKUP(MID(DS$23,5,4)&$A57,Lista_Ubigeo!$J:$K,2,0),\" \")","v":" "},null,null,{"$f":"IFERROR(VLOOKUP(MID(DV$23,5,4)&$A57,Lista_Ubigeo!$J:$K,2,0),\" \")","v":" "},{"$f":"IFERROR(VLOOKUP(MID(DW$23,5,4)&$A57,Lista_Ubigeo!$J:$K,2,0),\" \")","v":" "},{"$f":"IFERROR(VLOOKUP(MID(DX$23,5,4)&$A57,Lista_Ubigeo!$J:$K,2,0),\" \")","v":" "},{"$f":"IFERROR(VLOOKUP(MID(DY$23,5,4)&$A57,Lista_Ubigeo!$J:$K,2,0),\" \")","v":"SAN LUIS"},{"$f":"IFERROR(VLOOKUP(MID(DZ$23,5,4)&$A57,Lista_Ubigeo!$J:$K,2,0),\" \")","v":" "},{"$f":"IFERROR(VLOOKUP(MID(EA$23,5,4)&$A57,Lista_Ubigeo!$J:$K,2,0),\" \")","v":" "},{"$f":"IFERROR(VLOOKUP(MID(EB$23,5,4)&$A57,Lista_Ubigeo!$J:$K,2,0),\" \")","v":" "},{"$f":"IFERROR(VLOOKUP(MID(EC$23,5,4)&$A57,Lista_Ubigeo!$J:$K,2,0),\" \")","v":" "},{"$f":"IFERROR(VLOOKUP(MID(ED$23,5,4)&$A57,Lista_Ubigeo!$J:$K,2,0),\" \")","v":" "},{"$f":"IFERROR(VLOOKUP(MID(EE$23,5,4)&$A57,Lista_Ubigeo!$J:$K,2,0),\" \")","v":" "},{"$f":"IFERROR(VLOOKUP(MID(EF$23,5,4)&$A57,Lista_Ubigeo!$J:$K,2,0),\" \")","v":" "},{"$f":"IFERROR(VLOOKUP(MID(EG$23,5,4)&$A57,Lista_Ubigeo!$J:$K,2,0),\" \")","v":" "},{"$f":"IFERROR(VLOOKUP(MID(EH$23,5,4)&$A57,Lista_Ubigeo!$J:$K,2,0),\" \")","v":" "},{"$f":"IFERROR(VLOOKUP(MID(EI$23,5,4)&$A57,Lista_Ubigeo!$J:$K,2,0),\" \")","v":" "},{"$f":"IFERROR(VLOOKUP(MID(EJ$23,5,4)&$A62,Lista_Ubigeo!$J:$K,2,0),\" \")","v":" "},{"$f":"IFERROR(VLOOKUP(MID(EK$23,5,4)&$A57,Lista_Ubigeo!$J:$K,2,0),\" \")","v":" "},{"$f":"IFERROR(VLOOKUP(MID(EL$23,5,4)&$A57,Lista_Ubigeo!$J:$K,2,0),\" \")","v":" "},{"$f":"IFERROR(VLOOKUP(MID(EM$23,5,4)&$A57,Lista_Ubigeo!$J:$K,2,0),\" \")","v":" "},{"$f":"IFERROR(VLOOKUP(MID(EN$23,5,4)&$A57,Lista_Ubigeo!$J:$K,2,0),\" \")","v":" "},{"$f":"IFERROR(VLOOKUP(MID(EO$23,5,4)&$A57,Lista_Ubigeo!$J:$K,2,0),\" \")","v":" "},{"$f":"IFERROR(VLOOKUP(MID(EP$23,5,4)&$A57,Lista_Ubigeo!$J:$K,2,0),\" \")","v":" "},{"$f":"IFERROR(VLOOKUP(MID(EQ$23,5,4)&$A57,Lista_Ubigeo!$J:$K,2,0),\" \")","v":" "},{"$f":"IFERROR(VLOOKUP(MID(ER$23,5,4)&$A57,Lista_Ubigeo!$J:$K,2,0),\" \")","v":" "},{"$f":"IFERROR(VLOOKUP(MID(ES$23,5,4)&$A57,Lista_Ubigeo!$J:$K,2,0),\" \")","v":" "},{"$f":"IFERROR(VLOOKUP(MID(ET$23,5,4)&$A57,Lista_Ubigeo!$J:$K,2,0),\" \")","v":" "},{"$f":"IFERROR(VLOOKUP(MID(EU$23,5,4)&$A57,Lista_Ubigeo!$J:$K,2,0),\" \")","v":" "},{"$f":"IFERROR(VLOOKUP(MID(EV$23,5,4)&$A57,Lista_Ubigeo!$J:$K,2,0),\" \")","v":" "},{"$f":"IFERROR(VLOOKUP(MID(EW$23,5,4)&$A57,Lista_Ubigeo!$J:$K,2,0),\" \")","v":" "},{"$f":"IFERROR(VLOOKUP(MID(EX$23,5,4)&$A57,Lista_Ubigeo!$J:$K,2,0),\" \")","v":" "},{"$f":"IFERROR(VLOOKUP(MID(EY$23,5,4)&$A57,Lista_Ubigeo!$J:$K,2,0),\" \")","v":" "},{"$f":"IFERROR(VLOOKUP(MID(EZ$23,5,4)&$A60,Lista_Ubigeo!$J:$K,2,0),\" \")","v":" "},{"$f":"IFERROR(VLOOKUP(MID(FA$23,5,4)&$A57,Lista_Ubigeo!$J:$K,2,0),\" \")","v":" "},{"$f":"IFERROR(VLOOKUP(MID(FB$23,5,4)&$A57,Lista_Ubigeo!$J:$K,2,0),\" \")","v":" "},{"$f":"IFERROR(VLOOKUP(MID(FC$23,5,4)&$A57,Lista_Ubigeo!$J:$K,2,0),\" \")","v":" "},{"$f":"IFERROR(VLOOKUP(MID(FD$23,5,4)&$A57,Lista_Ubigeo!$J:$K,2,0),\" \")","v":" "},{"$f":"IFERROR(VLOOKUP(MID(FE$23,5,4)&$A57,Lista_Ubigeo!$J:$K,2,0),\" \")","v":" "},{"$f":"IFERROR(VLOOKUP(MID(FF$23,5,4)&$A57,Lista_Ubigeo!$J:$K,2,0),\" \")","v":" "},{"$f":"IFERROR(VLOOKUP(MID(FG$23,5,4)&$A57,Lista_Ubigeo!$J:$K,2,0),\" \")","v":" "},{"$f":"IFERROR(VLOOKUP(MID(FH$23,5,4)&$A57,Lista_Ubigeo!$J:$K,2,0),\" \")","v":" "},{"$f":"IFERROR(VLOOKUP(MID(FI$23,5,4)&$A57,Lista_Ubigeo!$J:$K,2,0),\" \")","v":" "},{"$f":"IFERROR(VLOOKUP(MID(FJ$23,5,4)&$A57,Lista_Ubigeo!$J:$K,2,0),\" \")","v":" "},{"$f":"IFERROR(VLOOKUP(MID(FK$23,5,4)&$A57,Lista_Ubigeo!$J:$K,2,0),\" \")","v":" "},{"$f":"IFERROR(VLOOKUP(MID(FL$23,5,4)&$A57,Lista_Ubigeo!$J:$K,2,0),\" \")","v":" "},{"$f":"IFERROR(VLOOKUP(MID(FM$23,5,4)&$A57,Lista_Ubigeo!$J:$K,2,0),\" \")","v":" "},{"$f":"IFERROR(VLOOKUP(MID(FN$23,5,4)&$A57,Lista_Ubigeo!$J:$K,2,0),\" \")","v":" "},{"$f":"IFERROR(VLOOKUP(MID(FO$23,5,4)&$A57,Lista_Ubigeo!$J:$K,2,0),\" \")","v":" "},{"$f":"IFERROR(VLOOKUP(MID(FP$23,5,4)&$A57,Lista_Ubigeo!$J:$K,2,0),\" \")","v":" "},{"$f":"IFERROR(VLOOKUP(MID(FQ$23,5,4)&$A57,Lista_Ubigeo!$J:$K,2,0),\" \")","v":" "},{"$f":"IFERROR(VLOOKUP(MID(FR$23,5,4)&$A57,Lista_Ubigeo!$J:$K,2,0),\" \")","v":" "},{"$f":"IFERROR(VLOOKUP(MID(FS$23,5,4)&$A57,Lista_Ubigeo!$J:$K,2,0),\" \")","v":" "},{"$f":"IFERROR(VLOOKUP(MID(FT$23,5,4)&$A57,Lista_Ubigeo!$J:$K,2,0),\" \")","v":" "},{"$f":"IFERROR(VLOOKUP(MID(FU$23,5,4)&$A57,Lista_Ubigeo!$J:$K,2,0),\" \")","v":" "},{"$f":"IFERROR(VLOOKUP(MID(FV$23,5,4)&$A57,Lista_Ubigeo!$J:$K,2,0),\" \")","v":" "},{"$f":"IFERROR(VLOOKUP(MID(FW$23,5,4)&$A57,Lista_Ubigeo!$J:$K,2,0),\" \")","v":" "},{"$f":"IFERROR(VLOOKUP(MID(FX$23,5,4)&$A57,Lista_Ubigeo!$J:$K,2,0),\" \")","v":" "},{"$f":"IFERROR(VLOOKUP(MID(FY$23,5,4)&$A57,Lista_Ubigeo!$J:$K,2,0),\" \")","v":" "},{"$f":"IFERROR(VLOOKUP(MID(FZ$23,5,4)&$A57,Lista_Ubigeo!$J:$K,2,0),\" \")","v":" "},{"$f":"IFERROR(VLOOKUP(MID(GA$23,5,4)&$A57,Lista_Ubigeo!$J:$K,2,0),\" \")","v":" "},{"$f":"IFERROR(VLOOKUP(MID(GB$23,5,4)&$A57,Lista_Ubigeo!$J:$K,2,0),\" \")","v":" "},{"$f":"IFERROR(VLOOKUP(MID(GC$23,5,4)&$A57,Lista_Ubigeo!$J:$K,2,0),\" \")","v":" "},{"$f":"IFERROR(VLOOKUP(MID(GD$23,5,4)&$A57,Lista_Ubigeo!$J:$K,2,0),\" \")","v":" "},{"$f":"IFERROR(VLOOKUP(MID(GE$23,5,4)&$A57,Lista_Ubigeo!$J:$K,2,0),\" \")","v":" "},{"$f":"IFERROR(VLOOKUP(MID(GF$23,5,4)&$A57,Lista_Ubigeo!$J:$K,2,0),\" \")","v":" "},{"$f":"IFERROR(VLOOKUP(MID(GG$23,5,4)&$A57,Lista_Ubigeo!$J:$K,2,0),\" \")","v":" "},{"$f":"IFERROR(VLOOKUP(MID(GH$23,5,4)&$A57,Lista_Ubigeo!$J:$K,2,0),\" \")","v":" "},{"$f":"IFERROR(VLOOKUP(MID(GI$23,5,4)&$A57,Lista_Ubigeo!$J:$K,2,0),\" \")","v":" "},{"$f":"IFERROR(VLOOKUP(MID(GJ$23,5,4)&$A57,Lista_Ubigeo!$J:$K,2,0),\" \")","v":" "},{"$f":"IFERROR(VLOOKUP(MID(GK$23,5,4)&$A57,Lista_Ubigeo!$J:$K,2,0),\" \")","v":" "},{"$f":"IFERROR(VLOOKUP(MID(GL$23,5,4)&$A57,Lista_Ubigeo!$J:$K,2,0),\" \")","v":" "},{"$f":"IFERROR(VLOOKUP(MID(GM$23,5,4)&$A57,Lista_Ubigeo!$J:$K,2,0),\" \")","v":" "},{"$f":"IFERROR(VLOOKUP(MID(GN$23,5,4)&$A57,Lista_Ubigeo!$J:$K,2,0),\" \")","v":" "},{"$f":"IFERROR(VLOOKUP(MID(GO$23,5,4)&$A57,Lista_Ubigeo!$J:$K,2,0),\" \")","v":" "},{"$f":"IFERROR(VLOOKUP(MID(GP$23,5,4)&$A57,Lista_Ubigeo!$J:$K,2,0),\" \")","v":" "}]
["35",{"$f":"IFERROR(VLOOKUP(MID(B$23,5,4)&$A58,Lista_Ubigeo!$J:$K,2,0),\" \")","v":" "},{"$f":"IFERROR(VLOOKUP(MID(C$23,5,4)&$A58,Lista_Ubigeo!$J:$K,2,0),\" \")","v":" "},{"$f":"IFERROR(VLOOKUP(MID(D$23,5,4)&$A58,Lista_Ubigeo!$J:$K,2,0),\" \")","v":" "},{"$f":"IFERROR(VLOOKUP(MID(E$23,5,4)&$A58,Lista_Ubigeo!$J:$K,2,0),\" \")","v":" "},{"$f":"IFERROR(VLOOKUP(MID(F$23,5,4)&$A58,Lista_Ubigeo!$J:$K,2,0),\" \")","v":" "},{"$f":"IFERROR(VLOOKUP(MID(G$23,5,4)&$A58,Lista_Ubigeo!$J:$K,2,0),\" \")","v":" "},{"$f":"IFERROR(VLOOKUP(MID(H$23,5,4)&$A58,Lista_Ubigeo!$J:$K,2,0),\" \")","v":" "},{"$f":"IFERROR(VLOOKUP(MID(I$23,5,4)&$A58,Lista_Ubigeo!$J:$K,2,0),\" \")","v":" "},{"$f":"IFERROR(VLOOKUP(MID(J$23,5,4)&$A58,Lista_Ubigeo!$J:$K,2,0),\" \")","v":" "},{"$f":"IFERROR(VLOOKUP(MID(K$23,5,4)&$A58,Lista_Ubigeo!$J:$K,2,0),\" \")","v":" "},{"$f":"IFERROR(VLOOKUP(MID(L$23,5,4)&$A58,Lista_Ubigeo!$J:$K,2,0),\" \")","v":" "},{"$f":"IFERROR(VLOOKUP(MID(M$23,5,4)&$A58,Lista_Ubigeo!$J:$K,2,0),\" \")","v":" "},{"$f":"IFERROR(VLOOKUP(MID(N$23,5,4)&$A58,Lista_Ubigeo!$J:$K,2,0),\" \")","v":" "},{"$f":"IFERROR(VLOOKUP(MID(O$23,5,4)&$A58,Lista_Ubigeo!$J:$K,2,0),\" \")","v":" "},{"$f":"IFERROR(VLOOKUP(MID(P$23,5,4)&$A58,Lista_Ubigeo!$J:$K,2,0),\" \")","v":" "},{"$f":"IFERROR(VLOOKUP(MID(Q$23,5,4)&$A58,Lista_Ubigeo!$J:$K,2,0),\" \")","v":" "},{"$f":"IFERROR(VLOOKUP(MID(R$23,5,4)&$A58,Lista_Ubigeo!$J:$K,2,0),\" \")","v":" "},{"$f":"IFERROR(VLOOKUP(MID(S$23,5,4)&$A58,Lista_Ubigeo!$J:$K,2,0),\" \")","v":" "},{"$f":"IFERROR(VLOOKUP(MID(T$23,5,4)&$A58,Lista_Ubigeo!$J:$K,2,0),\" \")","v":" "},{"$f":"IFERROR(VLOOKUP(MID(U$23,5,4)&$A58,Lista_Ubigeo!$J:$K,2,0),\" \")","v":" "},{"$f":"IFERROR(VLOOKUP(MID(V$23,5,4)&$A58,Lista_Ubigeo!$J:$K,2,0),\" \")","v":" "},{"$f":"IFERROR(VLOOKUP(MID(W$23,5,4)&$A58,Lista_Ubigeo!$J:$K,2,0),\" \")","v":" "},{"$f":"IFERROR(VLOOKUP(MID(X$23,5,4)&$A58,Lista_Ubigeo!$J:$K,2,0),\" \")","v":" "},{"$f":"IFERROR(VLOOKUP(MID(Y$23,5,4)&$A58,Lista_Ubigeo!$J:$K,2,0),\" \")","v":" "},{"$f":"IFERROR(VLOOKUP(MID(Z$23,5,4)&$A58,Lista_Ubigeo!$J:$K,2,0),\" \")","v":" "},{"$f":"IFERROR(VLOOKUP(MID(AA$23,5,4)&$A58,Lista_Ubigeo!$J:$K,2,0),\" \")","v":" "},{"$f":"IFERROR(VLOOKUP(MID(AB$23,5,4)&$A58,Lista_Ubigeo!$J:$K,2,0),\" \")","v":" "},{"$f":"IFERROR(VLOOKUP(MID(AC$23,5,4)&$A58,Lista_Ubigeo!$J:$K,2,0),\" \")","v":" "},{"$f":"IFERROR(VLOOKUP(MID(AD$23,5,4)&$A58,Lista_Ubigeo!$J:$K,2,0),\" \")","v":" "},{"$f":"IFERROR(VLOOKUP(MID(AE$23,5,4)&$A58,Lista_Ubigeo!$J:$K,2,0),\" \")","v":" "},{"$f":"IFERROR(VLOOKUP(MID(AF$23,5,4)&$A58,Lista_Ubigeo!$J:$K,2,0),\" \")","v":" "},{"$f":"IFERROR(VLOOKUP(MID(AG$23,5,4)&$A58,Lista_Ubigeo!$J:$K,2,0),\" \")","v":" "},{"$f":"IFERROR(VLOOKUP(MID(AH$23,5,4)&$A58,Lista_Ubigeo!$J:$K,2,0),\" \")","v":" "},{"$f":"IFERROR(VLOOKUP(MID(AI$23,5,4)&$A58,Lista_Ubigeo!$J:$K,2,0),\" \")","v":" "},{"$f":"IFERROR(VLOOKUP(MID(AJ$23,5,4)&$A58,Lista_Ubigeo!$J:$K,2,0),\" \")","v":" "},{"$f":"IFERROR(VLOOKUP(MID(AK$23,5,4)&$A58,Lista_Ubigeo!$J:$K,2,0),\" \")","v":" "},{"$f":"IFERROR(VLOOKUP(MID(AL$23,5,4)&$A58,Lista_Ubigeo!$J:$K,2,0),\" \")","v":" "},{"$f":"IFERROR(VLOOKUP(MID(AM$23,5,4)&$A58,Lista_Ubigeo!$J:$K,2,0),\" \")","v":" "},{"$f":"IFERROR(VLOOKUP(MID(AN$23,5,4)&$A58,Lista_Ubigeo!$J:$K,2,0),\" \")","v":" "},{"$f":"IFERROR(VLOOKUP(MID(AO$23,5,4)&$A58,Lista_Ubigeo!$J:$K,2,0),\" \")","v":" "},{"$f":"IFERROR(VLOOKUP(MID(AP$23,5,4)&$A58,Lista_Ubigeo!$J:$K,2,0),\" \")","v":" "},{"$f":"IFERROR(VLOOKUP(MID(AQ$23,4,4)&$A58,Lista_Ubigeo!$J:$K,2,0),\" \")","v":" "},{"$f":"IFERROR(VLOOKUP(MID(AR$23,5,4)&$A58,Lista_Ubigeo!$J:$K,2,0),\" \")","v":" "},{"$f":"IFERROR(VLOOKUP(MID(AS$23,5,4)&$A58,Lista_Ubigeo!$J:$K,2,0),\" \")","v":" "},{"$f":"IFERROR(VLOOKUP(MID(AT$23,5,4)&$A58,Lista_Ubigeo!$J:$K,2,0),\" \")","v":" "},{"$f":"IFERROR(VLOOKUP(MID(AU$23,5,4)&$A58,Lista_Ubigeo!$J:$K,2,0),\" \")","v":" "},{"$f":"IFERROR(VLOOKUP(MID(AV$23,5,4)&$A58,Lista_Ubigeo!$J:$K,2,0),\" \")","v":" "},{"$f":"IFERROR(VLOOKUP(MID(AW$23,5,4)&$A58,Lista_Ubigeo!$J:$K,2,0),\" \")","v":" "},{"$f":"IFERROR(VLOOKUP(MID(AX$23,5,4)&$A58,Lista_Ubigeo!$J:$K,2,0),\" \")","v":" "},{"$f":"IFERROR(VLOOKUP(MID(AY$23,5,4)&$A58,Lista_Ubigeo!$J:$K,2,0),\" \")","v":" "},{"$f":"IFERROR(VLOOKUP(MID(AZ$23,5,4)&$A58,Lista_Ubigeo!$J:$K,2,0),\" \")","v":" "},{"$f":"IFERROR(VLOOKUP(MID(BA$23,5,4)&$A58,Lista_Ubigeo!$J:$K,2,0),\" \")","v":" "},{"$f":"IFERROR(VLOOKUP(MID(BB$23,5,4)&$A58,Lista_Ubigeo!$J:$K,2,0),\" \")","v":" "},{"$f":"IFERROR(VLOOKUP(MID(BC$23,5,4)&$A58,Lista_Ubigeo!$J:$K,2,0),\" \")","v":" "},{"$f":"IFERROR(VLOOKUP(MID(BD$23,5,4)&$A58,Lista_Ubigeo!$J:$K,2,0),\" \")","v":" "},{"$f":"IFERROR(VLOOKUP(MID(BE$23,5,4)&$A58,Lista_Ubigeo!$J:$K,2,0),\" \")","v":" "},{"$f":"IFERROR(VLOOKUP(MID(BF$23,5,4)&$A58,Lista_Ubigeo!$J:$K,2,0),\" \")","v":" "},{"$f":"IFERROR(VLOOKUP(MID(BG$23,5,4)&$A58,Lista_Ubigeo!$J:$K,2,0),\" \")","v":" "},{"$f":"IFERROR(VLOOKUP(MID(BH$23,5,4)&$A58,Lista_Ubigeo!$J:$K,2,0),\" \")","v":" "},{"$f":"IFERROR(VLOOKUP(MID(BI$23,5,4)&$A58,Lista_Ubigeo!$J:$K,2,0),\" \")","v":" "},{"$f":"IFERROR(VLOOKUP(MID(BJ$23,5,4)&$A58,Lista_Ubigeo!$J:$K,2,0),\" \")","v":" "},{"$f":"IFERROR(VLOOKUP(MID(BK$23,5,4)&$A58,Lista_Ubigeo!$J:$K,2,0),\" \")","v":" "},{"$f":"IFERROR(VLOOKUP(MID(BL$23,5,4)&$A58,Lista_Ubigeo!$J:$K,2,0),\" \")","v":" "},{"$f":"IFERROR(VLOOKUP(MID(BM$23,5,4)&$A58,Lista_Ubigeo!$J:$K,2,0),\" \")","v":" "},{"$f":"IFERROR(VLOOKUP(MID(BN$23,5,4)&$A58,Lista_Ubigeo!$J:$K,2,0),\" \")","v":" "},{"$f":"IFERROR(VLOOKUP(MID(BO$23,5,4)&$A58,Lista_Ubigeo!$J:$K,2,0),\" \")","v":" "},{"$f":"IFERROR(VLOOKUP(MID(BP$23,5,4)&$A58,Lista_Ubigeo!$J:$K,2,0),\" \")","v":" "},{"$f":"IFERROR(VLOOKUP(MID(BQ$23,5,4)&$A58,Lista_Ubigeo!$J:$K,2,0),\" \")","v":" "},{"$f":"IFERROR(VLOOKUP(MID(BR$23,5,4)&$A58,Lista_Ubigeo!$J:$K,2,0),\" \")","v":" "},{"$f":"IFERROR(VLOOKUP(MID(BS$23,5,4)&$A58,Lista_Ubigeo!$J:$K,2,0),\" \")","v":" "},{"$f":"IFERROR(VLOOKUP(MID(BT$23,5,4)&$A58,Lista_Ubigeo!$J:$K,2,0),\" \")","v":" "},{"$f":"IFERROR(VLOOKUP(MID(BU$23,5,4)&$A58,Lista_Ubigeo!$J:$K,2,0),\" \")","v":" "},{"$f":"IFERROR(VLOOKUP(MID(BV$23,5,4)&$A58,Lista_Ubigeo!$J:$K,2,0),\" \")","v":" "},{"$f":"IFERROR(VLOOKUP(MID(BW$23,5,4)&$A58,Lista_Ubigeo!$J:$K,2,0),\" \")","v":" "},{"$f":"IFERROR(VLOOKUP(MID(BX$23,5,4)&$A58,Lista_Ubigeo!$J:$K,2,0),\" \")","v":" "},{"$f":"IFERROR(VLOOKUP(MID(BY$23,4,4)&$A58,Lista_Ubigeo!$J:$K,2,0),\" \")","v":" "},{"$f":"IFERROR(VLOOKUP(MID(BZ$23,5,4)&$A58,Lista_Ubigeo!$J:$K,2,0),\" \")","v":" "},{"$f":"IFERROR(VLOOKUP(MID(CA$23,5,4)&$A58,Lista_Ubigeo!$J:$K,2,0),\" \")","v":" "},{"$f":"IFERROR(VLOOKUP(MID(CB$23,5,4)&$A58,Lista_Ubigeo!$J:$K,2,0),\" \")","v":" "},{"$f":"IFERROR(VLOOKUP(MID(CC$23,5,4)&$A58,Lista_Ubigeo!$J:$K,2,0),\" \")","v":" "},{"$f":"IFERROR(VLOOKUP(MID(CD$23,5,4)&$A58,Lista_Ubigeo!$J:$K,2,0),\" \")","v":" "},{"$f":"IFERROR(VLOOKUP(MID(CE$23,5,4)&$A58,Lista_Ubigeo!$J:$K,2,0),\" \")","v":" "},{"$f":"IFERROR(VLOOKUP(MID(CF$23,5,4)&$A58,Lista_Ubigeo!$J:$K,2,0),\" \")","v":" "},{"$f":"IFERROR(VLOOKUP(MID(CG$23,5,4)&$A58,Lista_Ubigeo!$J:$K,2,0),\" \")","v":" "},{"$f":"IFERROR(VLOOKUP(MID(CH$23,5,4)&$A58,Lista_Ubigeo!$J:$K,2,0),\" \")","v":" "},{"$f":"IFERROR(VLOOKUP(MID(CI$23,5,4)&$A58,Lista_Ubigeo!$J:$K,2,0),\" \")","v":" "},{"$f":"IFERROR(VLOOKUP(MID(CJ$23,5,4)&$A58,Lista_Ubigeo!$J:$K,2,0),\" \")","v":" "},{"$f":"IFERROR(VLOOKUP(MID(CK$23,5,4)&$A58,Lista_Ubigeo!$J:$K,2,0),\" \")","v":" "},{"$f":"IFERROR(VLOOKUP(MID(CL$23,5,4)&$A58,Lista_Ubigeo!$J:$K,2,0),\" \")","v":" "},{"$f":"IFERROR(VLOOKUP(MID(CM$23,5,4)&$A69,Lista_Ubigeo!$J:$K,2,0),\" \")","v":" "},{"$f":"IFERROR(VLOOKUP(MID(CN$23,5,4)&$A58,Lista_Ubigeo!$J:$K,2,0),\" \")","v":" "},{"$f":"IFERROR(VLOOKUP(MID(CO$23,5,4)&$A58,Lista_Ubigeo!$J:$K,2,0),\" \")","v":" "},{"$f":"IFERROR(VLOOKUP(MID(CP$23,5,4)&$A58,Lista_Ubigeo!$J:$K,2,0),\" \")","v":" "},{"$f":"IFERROR(VLOOKUP(MID(CQ$23,5,4)&$A58,Lista_Ubigeo!$J:$K,2,0),\" \")","v":" "},{"$f":"IFERROR(VLOOKUP(MID(CR$23,5,4)&$A58,Lista_Ubigeo!$J:$K,2,0),\" \")","v":" "},{"$f":"IFERROR(VLOOKUP(MID(CS$23,5,4)&$A58,Lista_Ubigeo!$J:$K,2,0),\" \")","v":" "},{"$f":"IFERROR(VLOOKUP(MID(CT$23,5,4)&$A58,Lista_Ubigeo!$J:$K,2,0),\" \")","v":" "},{"$f":"IFERROR(VLOOKUP(MID(CU$23,5,4)&$A58,Lista_Ubigeo!$J:$K,2,0),\" \")","v":" "},{"$f":"IFERROR(VLOOKUP(MID(CV$23,5,4)&$A58,Lista_Ubigeo!$J:$K,2,0),\" \")","v":" "},{"$f":"IFERROR(VLOOKUP(MID(CW$23,5,4)&$A58,Lista_Ubigeo!$J:$K,2,0),\" \")","v":" "},{"$f":"IFERROR(VLOOKUP(MID(CX$23,5,4)&$A58,Lista_Ubigeo!$J:$K,2,0),\" \")","v":" "},{"$f":"IFERROR(VLOOKUP(MID(CY$23,5,4)&$A58,Lista_Ubigeo!$J:$K,2,0),\" \")","v":" "},{"$f":"IFERROR(VLOOKUP(MID(CZ$23,5,4)&$A58,Lista_Ubigeo!$J:$K,2,0),\" \")","v":" "},{"$f":"IFERROR(VLOOKUP(MID(DA$23,5,4)&$A58,Lista_Ubigeo!$J:$K,2,0),\" \")","v":"SANTO DOMINGO DE ACOBAMBA"},{"$f":"IFERROR(VLOOKUP(MID(DB$23,5,4)&$A58,Lista_Ubigeo!$J:$K,2,0),\" \")","v":" "},{"$f":"IFERROR(VLOOKUP(MID(DC$23,5,4)&$A58,Lista_Ubigeo!$J:$K,2,0),\" \")","v":" "},{"$f":"IFERROR(VLOOKUP(MID(DD$23,5,4)&$A58,Lista_Ubigeo!$J:$K,2,0),\" \")","v":" "},{"$f":"IFERROR(VLOOKUP(MID(DE$23,5,4)&$A58,Lista_Ubigeo!$J:$K,2,0),\" \")","v":" "},{"$f":"IFERROR(VLOOKUP(MID(DF$23,5,4)&$A58,Lista_Ubigeo!$J:$K,2,0),\" \")","v":" "},{"$f":"IFERROR(VLOOKUP(MID(DG$23,5,4)&$A58,Lista_Ubigeo!$J:$K,2,0),\" \")","v":" "},{"$f":"IFERROR(VLOOKUP(MID(DH$23,5,4)&$A58,Lista_Ubigeo!$J:$K,2,0),\" \")","v":" "},{"$f":"IFERROR(VLOOKUP(MID(DI$23,5,4)&$A58,Lista_Ubigeo!$J:$K,2,0),\" \")","v":" "},{"$f":"IFERROR(VLOOKUP(MID(DJ$23,5,4)&$A58,Lista_Ubigeo!$J:$K,2,0),\" \")","v":" "},{"$f":"IFERROR(VLOOKUP(MID(DK$23,5,4)&$A58,Lista_Ubigeo!$J:$K,2,0),\" \")","v":" "},{"$f":"IFERROR(VLOOKUP(MID(DL$23,5,4)&$A58,Lista_Ubigeo!$J:$K,2,0),\" \")","v":" "},{"$f":"IFERROR(VLOOKUP(MID(DM$23,5,4)&$A58,Lista_Ubigeo!$J:$K,2,0),\" \")","v":" "},{"$f":"IFERROR(VLOOKUP(MID(DN$23,5,4)&$A58,Lista_Ubigeo!$J:$K,2,0),\" \")","v":" "},{"$f":"IFERROR(VLOOKUP(MID(DO$23,5,4)&$A59,Lista_Ubigeo!$J:$K,2,0),\" \")","v":" "},{"$f":"IFERROR(VLOOKUP(MID(DP$23,5,4)&$A58,Lista_Ubigeo!$J:$K,2,0),\" \")","v":" "},{"$f":"IFERROR(VLOOKUP(MID(DQ$23,5,4)&$A58,Lista_Ubigeo!$J:$K,2,0),\" \")","v":" "},{"$f":"IFERROR(VLOOKUP(MID(DR$23,5,4)&$A58,Lista_Ubigeo!$J:$K,2,0),\" \")","v":" "},{"$f":"IFERROR(VLOOKUP(MID(DS$23,5,4)&$A58,Lista_Ubigeo!$J:$K,2,0),\" \")","v":" "},null,null,{"$f":"IFERROR(VLOOKUP(MID(DV$23,5,4)&$A58,Lista_Ubigeo!$J:$K,2,0),\" \")","v":" "},{"$f":"IFERROR(VLOOKUP(MID(DW$23,5,4)&$A58,Lista_Ubigeo!$J:$K,2,0),\" \")","v":" "},{"$f":"IFERROR(VLOOKUP(MID(DX$23,5,4)&$A58,Lista_Ubigeo!$J:$K,2,0),\" \")","v":" "},{"$f":"IFERROR(VLOOKUP(MID(DY$23,5,4)&$A58,Lista_Ubigeo!$J:$K,2,0),\" \")","v":"SAN MARTIN DE PORRES"},{"$f":"IFERROR(VLOOKUP(MID(DZ$23,5,4)&$A58,Lista_Ubigeo!$J:$K,2,0),\" \")","v":" "},{"$f":"IFERROR(VLOOKUP(MID(EA$23,5,4)&$A58,Lista_Ubigeo!$J:$K,2,0),\" \")","v":" "},{"$f":"IFERROR(VLOOKUP(MID(EB$23,5,4)&$A58,Lista_Ubigeo!$J:$K,2,0),\" \")","v":" "},{"$f":"IFERROR(VLOOKUP(MID(EC$23,5,4)&$A58,Lista_Ubigeo!$J:$K,2,0),\" \")","v":" "},{"$f":"IFERROR(VLOOKUP(MID(ED$23,5,4)&$A58,Lista_Ubigeo!$J:$K,2,0),\" \")","v":" "},{"$f":"IFERROR(VLOOKUP(MID(EE$23,5,4)&$A58,Lista_Ubigeo!$J:$K,2,0),\" \")","v":" "},{"$f":"IFERROR(VLOOKUP(MID(EF$23,5,4)&$A58,Lista_Ubigeo!$J:$K,2,0),\" \")","v":" "},{"$f":"IFERROR(VLOOKUP(MID(EG$23,5,4)&$A58,Lista_Ubigeo!$J:$K,2,0),\" \")","v":" "},{"$f":"IFERROR(VLOOKUP(MID(EH$23,5,4)&$A58,Lista_Ubigeo!$J:$K,2,0),\" \")","v":" "},{"$f":"IFERROR(VLOOKUP(MID(EI$23,5,4)&$A58,Lista_Ubigeo!$J:$K,2,0),\" \")","v":" "},{"$f":"IFERROR(VLOOKUP(MID(EJ$23,5,4)&$A63,Lista_Ubigeo!$J:$K,2,0),\" \")","v":" "},{"$f":"IFERROR(VLOOKUP(MID(EK$23,5,4)&$A58,Lista_Ubigeo!$J:$K,2,0),\" \")","v":" "},{"$f":"IFERROR(VLOOKUP(MID(EL$23,5,4)&$A58,Lista_Ubigeo!$J:$K,2,0),\" \")","v":" "},{"$f":"IFERROR(VLOOKUP(MID(EM$23,5,4)&$A58,Lista_Ubigeo!$J:$K,2,0),\" \")","v":" "},{"$f":"IFERROR(VLOOKUP(MID(EN$23,5,4)&$A58,Lista_Ubigeo!$J:$K,2,0),\" \")","v":" "},{"$f":"IFERROR(VLOOKUP(MID(EO$23,5,4)&$A58,Lista_Ubigeo!$J:$K,2,0),\" \")","v":" "},{"$f":"IFERROR(VLOOKUP(MID(EP$23,5,4)&$A58,Lista_Ubigeo!$J:$K,2,0),\" \")","v":" "},{"$f":"IFERROR(VLOOKUP(MID(EQ$23,5,4)&$A58,Lista_Ubigeo!$J:$K,2,0),\" \")","v":" "},{"$f":"IFERROR(VLOOKUP(MID(ER$23,5,4)&$A58,Lista_Ubigeo!$J:$K,2,0),\" \")","v":" "},{"$f":"IFERROR(VLOOKUP(MID(ES$23,5,4)&$A58,Lista_Ubigeo!$J:$K,2,0),\" \")","v":" "},{"$f":"IFERROR(VLOOKUP(MID(ET$23,5,4)&$A58,Lista_Ubigeo!$J:$K,2,0),\" \")","v":" "},{"$f":"IFERROR(VLOOKUP(MID(EU$23,5,4)&$A58,Lista_Ubigeo!$J:$K,2,0),\" \")","v":" "},{"$f":"IFERROR(VLOOKUP(MID(EV$23,5,4)&$A58,Lista_Ubigeo!$J:$K,2,0),\" \")","v":" "},{"$f":"IFERROR(VLOOKUP(MID(EW$23,5,4)&$A58,Lista_Ubigeo!$J:$K,2,0),\" \")","v":" "},{"$f":"IFERROR(VLOOKUP(MID(EX$23,5,4)&$A58,Lista_Ubigeo!$J:$K,2,0),\" \")","v":" "},{"$f":"IFERROR(VLOOKUP(MID(EY$23,5,4)&$A58,Lista_Ubigeo!$J:$K,2,0),\" \")","v":" "},{"$f":"IFERROR(VLOOKUP(MID(EZ$23,5,4)&$A61,Lista_Ubigeo!$J:$K,2,0),\" \")","v":" "},{"$f":"IFERROR(VLOOKUP(MID(FA$23,5,4)&$A58,Lista_Ubigeo!$J:$K,2,0),\" \")","v":" "},{"$f":"IFERROR(VLOOKUP(MID(FB$23,5,4)&$A58,Lista_Ubigeo!$J:$K,2,0),\" \")","v":" "},{"$f":"IFERROR(VLOOKUP(MID(FC$23,5,4)&$A58,Lista_Ubigeo!$J:$K,2,0),\" \")","v":" "},{"$f":"IFERROR(VLOOKUP(MID(FD$23,5,4)&$A58,Lista_Ubigeo!$J:$K,2,0),\" \")","v":" "},{"$f":"IFERROR(VLOOKUP(MID(FE$23,5,4)&$A58,Lista_Ubigeo!$J:$K,2,0),\" \")","v":" "},{"$f":"IFERROR(VLOOKUP(MID(FF$23,5,4)&$A58,Lista_Ubigeo!$J:$K,2,0),\" \")","v":" "},{"$f":"IFERROR(VLOOKUP(MID(FG$23,5,4)&$A58,Lista_Ubigeo!$J:$K,2,0),\" \")","v":" "},{"$f":"IFERROR(VLOOKUP(MID(FH$23,5,4)&$A58,Lista_Ubigeo!$J:$K,2,0),\" \")","v":" "},{"$f":"IFERROR(VLOOKUP(MID(FI$23,5,4)&$A58,Lista_Ubigeo!$J:$K,2,0),\" \")","v":" "},{"$f":"IFERROR(VLOOKUP(MID(FJ$23,5,4)&$A58,Lista_Ubigeo!$J:$K,2,0),\" \")","v":" "},{"$f":"IFERROR(VLOOKUP(MID(FK$23,5,4)&$A58,Lista_Ubigeo!$J:$K,2,0),\" \")","v":" "},{"$f":"IFERROR(VLOOKUP(MID(FL$23,5,4)&$A58,Lista_Ubigeo!$J:$K,2,0),\" \")","v":" "},{"$f":"IFERROR(VLOOKUP(MID(FM$23,5,4)&$A58,Lista_Ubigeo!$J:$K,2,0),\" \")","v":" "},{"$f":"IFERROR(VLOOKUP(MID(FN$23,5,4)&$A58,Lista_Ubigeo!$J:$K,2,0),\" \")","v":" "},{"$f":"IFERROR(VLOOKUP(MID(FO$23,5,4)&$A58,Lista_Ubigeo!$J:$K,2,0),\" \")","v":" "},{"$f":"IFERROR(VLOOKUP(MID(FP$23,5,4)&$A58,Lista_Ubigeo!$J:$K,2,0),\" \")","v":" "},{"$f":"IFERROR(VLOOKUP(MID(FQ$23,5,4)&$A58,Lista_Ubigeo!$J:$K,2,0),\" \")","v":" "},{"$f":"IFERROR(VLOOKUP(MID(FR$23,5,4)&$A58,Lista_Ubigeo!$J:$K,2,0),\" \")","v":" "},{"$f":"IFERROR(VLOOKUP(MID(FS$23,5,4)&$A58,Lista_Ubigeo!$J:$K,2,0),\" \")","v":" "},{"$f":"IFERROR(VLOOKUP(MID(FT$23,5,4)&$A58,Lista_Ubigeo!$J:$K,2,0),\" \")","v":" "},{"$f":"IFERROR(VLOOKUP(MID(FU$23,5,4)&$A58,Lista_Ubigeo!$J:$K,2,0),\" \")","v":" "},{"$f":"IFERROR(VLOOKUP(MID(FV$23,5,4)&$A58,Lista_Ubigeo!$J:$K,2,0),\" \")","v":" "},{"$f":"IFERROR(VLOOKUP(MID(FW$23,5,4)&$A58,Lista_Ubigeo!$J:$K,2,0),\" \")","v":" "},{"$f":"IFERROR(VLOOKUP(MID(FX$23,5,4)&$A58,Lista_Ubigeo!$J:$K,2,0),\" \")","v":" "},{"$f":"IFERROR(VLOOKUP(MID(FY$23,5,4)&$A58,Lista_Ubigeo!$J:$K,2,0),\" \")","v":" "},{"$f":"IFERROR(VLOOKUP(MID(FZ$23,5,4)&$A58,Lista_Ubigeo!$J:$K,2,0),\" \")","v":" "},{"$f":"IFERROR(VLOOKUP(MID(GA$23,5,4)&$A58,Lista_Ubigeo!$J:$K,2,0),\" \")","v":" "},{"$f":"IFERROR(VLOOKUP(MID(GB$23,5,4)&$A58,Lista_Ubigeo!$J:$K,2,0),\" \")","v":" "},{"$f":"IFERROR(VLOOKUP(MID(GC$23,5,4)&$A58,Lista_Ubigeo!$J:$K,2,0),\" \")","v":" "},{"$f":"IFERROR(VLOOKUP(MID(GD$23,5,4)&$A58,Lista_Ubigeo!$J:$K,2,0),\" \")","v":" "},{"$f":"IFERROR(VLOOKUP(MID(GE$23,5,4)&$A58,Lista_Ubigeo!$J:$K,2,0),\" \")","v":" "},{"$f":"IFERROR(VLOOKUP(MID(GF$23,5,4)&$A58,Lista_Ubigeo!$J:$K,2,0),\" \")","v":" "},{"$f":"IFERROR(VLOOKUP(MID(GG$23,5,4)&$A58,Lista_Ubigeo!$J:$K,2,0),\" \")","v":" "},{"$f":"IFERROR(VLOOKUP(MID(GH$23,5,4)&$A58,Lista_Ubigeo!$J:$K,2,0),\" \")","v":" "},{"$f":"IFERROR(VLOOKUP(MID(GI$23,5,4)&$A58,Lista_Ubigeo!$J:$K,2,0),\" \")","v":" "},{"$f":"IFERROR(VLOOKUP(MID(GJ$23,5,4)&$A58,Lista_Ubigeo!$J:$K,2,0),\" \")","v":" "},{"$f":"IFERROR(VLOOKUP(MID(GK$23,5,4)&$A58,Lista_Ubigeo!$J:$K,2,0),\" \")","v":" "},{"$f":"IFERROR(VLOOKUP(MID(GL$23,5,4)&$A58,Lista_Ubigeo!$J:$K,2,0),\" \")","v":" "},{"$f":"IFERROR(VLOOKUP(MID(GM$23,5,4)&$A58,Lista_Ubigeo!$J:$K,2,0),\" \")","v":" "},{"$f":"IFERROR(VLOOKUP(MID(GN$23,5,4)&$A58,Lista_Ubigeo!$J:$K,2,0),\" \")","v":" "},{"$f":"IFERROR(VLOOKUP(MID(GO$23,5,4)&$A58,Lista_Ubigeo!$J:$K,2,0),\" \")","v":" "},{"$f":"IFERROR(VLOOKUP(MID(GP$23,5,4)&$A58,Lista_Ubigeo!$J:$K,2,0),\" \")","v":" "}]
["36",{"$f":"IFERROR(VLOOKUP(MID(B$23,5,4)&$A59,Lista_Ubigeo!$J:$K,2,0),\" \")","v":" "},{"$f":"IFERROR(VLOOKUP(MID(C$23,5,4)&$A59,Lista_Ubigeo!$J:$K,2,0),\" \")","v":" "},{"$f":"IFERROR(VLOOKUP(MID(D$23,5,4)&$A59,Lista_Ubigeo!$J:$K,2,0),\" \")","v":" "},{"$f":"IFERROR(VLOOKUP(MID(E$23,5,4)&$A59,Lista_Ubigeo!$J:$K,2,0),\" \")","v":" "},{"$f":"IFERROR(VLOOKUP(MID(F$23,5,4)&$A59,Lista_Ubigeo!$J:$K,2,0),\" \")","v":" "},{"$f":"IFERROR(VLOOKUP(MID(G$23,5,4)&$A59,Lista_Ubigeo!$J:$K,2,0),\" \")","v":" "},{"$f":"IFERROR(VLOOKUP(MID(H$23,5,4)&$A59,Lista_Ubigeo!$J:$K,2,0),\" \")","v":" "},{"$f":"IFERROR(VLOOKUP(MID(I$23,5,4)&$A59,Lista_Ubigeo!$J:$K,2,0),\" \")","v":" "},{"$f":"IFERROR(VLOOKUP(MID(J$23,5,4)&$A59,Lista_Ubigeo!$J:$K,2,0),\" \")","v":" "},{"$f":"IFERROR(VLOOKUP(MID(K$23,5,4)&$A59,Lista_Ubigeo!$J:$K,2,0),\" \")","v":" "},{"$f":"IFERROR(VLOOKUP(MID(L$23,5,4)&$A59,Lista_Ubigeo!$J:$K,2,0),\" \")","v":" "},{"$f":"IFERROR(VLOOKUP(MID(M$23,5,4)&$A59,Lista_Ubigeo!$J:$K,2,0),\" \")","v":" "},{"$f":"IFERROR(VLOOKUP(MID(N$23,5,4)&$A59,Lista_Ubigeo!$J:$K,2,0),\" \")","v":" "},{"$f":"IFERROR(VLOOKUP(MID(O$23,5,4)&$A59,Lista_Ubigeo!$J:$K,2,0),\" \")","v":" "},{"$f":"IFERROR(VLOOKUP(MID(P$23,5,4)&$A59,Lista_Ubigeo!$J:$K,2,0),\" \")","v":" "},{"$f":"IFERROR(VLOOKUP(MID(Q$23,5,4)&$A59,Lista_Ubigeo!$J:$K,2,0),\" \")","v":" "},{"$f":"IFERROR(VLOOKUP(MID(R$23,5,4)&$A59,Lista_Ubigeo!$J:$K,2,0),\" \")","v":" "},{"$f":"IFERROR(VLOOKUP(MID(S$23,5,4)&$A59,Lista_Ubigeo!$J:$K,2,0),\" \")","v":" "},{"$f":"IFERROR(VLOOKUP(MID(T$23,5,4)&$A59,Lista_Ubigeo!$J:$K,2,0),\" \")","v":" "},{"$f":"IFERROR(VLOOKUP(MID(U$23,5,4)&$A59,Lista_Ubigeo!$J:$K,2,0),\" \")","v":" "},{"$f":"IFERROR(VLOOKUP(MID(V$23,5,4)&$A59,Lista_Ubigeo!$J:$K,2,0),\" \")","v":" "},{"$f":"IFERROR(VLOOKUP(MID(W$23,5,4)&$A59,Lista_Ubigeo!$J:$K,2,0),\" \")","v":" "},{"$f":"IFERROR(VLOOKUP(MID(X$23,5,4)&$A59,Lista_Ubigeo!$J:$K,2,0),\" \")","v":" "},{"$f":"IFERROR(VLOOKUP(MID(Y$23,5,4)&$A59,Lista_Ubigeo!$J:$K,2,0),\" \")","v":" "},{"$f":"IFERROR(VLOOKUP(MID(Z$23,5,4)&$A59,Lista_Ubigeo!$J:$K,2,0),\" \")","v":" "},{"$f":"IFERROR(VLOOKUP(MID(AA$23,5,4)&$A59,Lista_Ubigeo!$J:$K,2,0),\" \")","v":" "},{"$f":"IFERROR(VLOOKUP(MID(AB$23,5,4)&$A59,Lista_Ubigeo!$J:$K,2,0),\" \")","v":" "},{"$f":"IFERROR(VLOOKUP(MID(AC$23,5,4)&$A59,Lista_Ubigeo!$J:$K,2,0),\" \")","v":" "},{"$f":"IFERROR(VLOOKUP(MID(AD$23,5,4)&$A59,Lista_Ubigeo!$J:$K,2,0),\" \")","v":" "},{"$f":"IFERROR(VLOOKUP(MID(AE$23,5,4)&$A59,Lista_Ubigeo!$J:$K,2,0),\" \")","v":" "},{"$f":"IFERROR(VLOOKUP(MID(AF$23,5,4)&$A59,Lista_Ubigeo!$J:$K,2,0),\" \")","v":" "},{"$f":"IFERROR(VLOOKUP(MID(AG$23,5,4)&$A59,Lista_Ubigeo!$J:$K,2,0),\" \")","v":" "},{"$f":"IFERROR(VLOOKUP(MID(AH$23,5,4)&$A59,Lista_Ubigeo!$J:$K,2,0),\" \")","v":" "},{"$f":"IFERROR(VLOOKUP(MID(AI$23,5,4)&$A59,Lista_Ubigeo!$J:$K,2,0),\" \")","v":" "},{"$f":"IFERROR(VLOOKUP(MID(AJ$23,5,4)&$A59,Lista_Ubigeo!$J:$K,2,0),\" \")","v":" "},{"$f":"IFERROR(VLOOKUP(MID(AK$23,5,4)&$A59,Lista_Ubigeo!$J:$K,2,0),\" \")","v":" "},{"$f":"IFERROR(VLOOKUP(MID(AL$23,5,4)&$A59,Lista_Ubigeo!$J:$K,2,0),\" \")","v":" "},{"$f":"IFERROR(VLOOKUP(MID(AM$23,5,4)&$A59,Lista_Ubigeo!$J:$K,2,0),\" \")","v":" "},{"$f":"IFERROR(VLOOKUP(MID(AN$23,5,4)&$A59,Lista_Ubigeo!$J:$K,2,0),\" \")","v":" "},{"$f":"IFERROR(VLOOKUP(MID(AO$23,5,4)&$A59,Lista_Ubigeo!$J:$K,2,0),\" \")","v":" "},{"$f":"IFERROR(VLOOKUP(MID(AP$23,5,4)&$A59,Lista_Ubigeo!$J:$K,2,0),\" \")","v":" "},{"$f":"IFERROR(VLOOKUP(MID(AQ$23,4,4)&$A59,Lista_Ubigeo!$J:$K,2,0),\" \")","v":" "},{"$f":"IFERROR(VLOOKUP(MID(AR$23,5,4)&$A59,Lista_Ubigeo!$J:$K,2,0),\" \")","v":" "},{"$f":"IFERROR(VLOOKUP(MID(AS$23,5,4)&$A59,Lista_Ubigeo!$J:$K,2,0),\" \")","v":" "},{"$f":"IFERROR(VLOOKUP(MID(AT$23,5,4)&$A59,Lista_Ubigeo!$J:$K,2,0),\" \")","v":" "},{"$f":"IFERROR(VLOOKUP(MID(AU$23,5,4)&$A59,Lista_Ubigeo!$J:$K,2,0),\" \")","v":" "},{"$f":"IFERROR(VLOOKUP(MID(AV$23,5,4)&$A59,Lista_Ubigeo!$J:$K,2,0),\" \")","v":" "},{"$f":"IFERROR(VLOOKUP(MID(AW$23,5,4)&$A59,Lista_Ubigeo!$J:$K,2,0),\" \")","v":" "},{"$f":"IFERROR(VLOOKUP(MID(AX$23,5,4)&$A59,Lista_Ubigeo!$J:$K,2,0),\" \")","v":" "},{"$f":"IFERROR(VLOOKUP(MID(AY$23,5,4)&$A59,Lista_Ubigeo!$J:$K,2,0),\" \")","v":" "},{"$f":"IFERROR(VLOOKUP(MID(AZ$23,5,4)&$A59,Lista_Ubigeo!$J:$K,2,0),\" \")","v":" "},{"$f":"IFERROR(VLOOKUP(MID(BA$23,5,4)&$A59,Lista_Ubigeo!$J:$K,2,0),\" \")","v":" "},{"$f":"IFERROR(VLOOKUP(MID(BB$23,5,4)&$A59,Lista_Ubigeo!$J:$K,2,0),\" \")","v":" "},{"$f":"IFERROR(VLOOKUP(MID(BC$23,5,4)&$A59,Lista_Ubigeo!$J:$K,2,0),\" \")","v":" "},{"$f":"IFERROR(VLOOKUP(MID(BD$23,5,4)&$A59,Lista_Ubigeo!$J:$K,2,0),\" \")","v":" "},{"$f":"IFERROR(VLOOKUP(MID(BE$23,5,4)&$A59,Lista_Ubigeo!$J:$K,2,0),\" \")","v":" "},{"$f":"IFERROR(VLOOKUP(MID(BF$23,5,4)&$A59,Lista_Ubigeo!$J:$K,2,0),\" \")","v":" "},{"$f":"IFERROR(VLOOKUP(MID(BG$23,5,4)&$A59,Lista_Ubigeo!$J:$K,2,0),\" \")","v":" "},{"$f":"IFERROR(VLOOKUP(MID(BH$23,5,4)&$A59,Lista_Ubigeo!$J:$K,2,0),\" \")","v":" "},{"$f":"IFERROR(VLOOKUP(MID(BI$23,5,4)&$A59,Lista_Ubigeo!$J:$K,2,0),\" \")","v":" "},{"$f":"IFERROR(VLOOKUP(MID(BJ$23,5,4)&$A59,Lista_Ubigeo!$J:$K,2,0),\" \")","v":" "},{"$f":"IFERROR(VLOOKUP(MID(BK$23,5,4)&$A59,Lista_Ubigeo!$J:$K,2,0),\" \")","v":" "},{"$f":"IFERROR(VLOOKUP(MID(BL$23,5,4)&$A59,Lista_Ubigeo!$J:$K,2,0),\" \")","v":" "},{"$f":"IFERROR(VLOOKUP(MID(BM$23,5,4)&$A59,Lista_Ubigeo!$J:$K,2,0),\" \")","v":" "},{"$f":"IFERROR(VLOOKUP(MID(BN$23,5,4)&$A59,Lista_Ubigeo!$J:$K,2,0),\" \")","v":" "},{"$f":"IFERROR(VLOOKUP(MID(BO$23,5,4)&$A59,Lista_Ubigeo!$J:$K,2,0),\" \")","v":" "},{"$f":"IFERROR(VLOOKUP(MID(BP$23,5,4)&$A59,Lista_Ubigeo!$J:$K,2,0),\" \")","v":" "},{"$f":"IFERROR(VLOOKUP(MID(BQ$23,5,4)&$A59,Lista_Ubigeo!$J:$K,2,0),\" \")","v":" "},{"$f":"IFERROR(VLOOKUP(MID(BR$23,5,4)&$A59,Lista_Ubigeo!$J:$K,2,0),\" \")","v":" "},{"$f":"IFERROR(VLOOKUP(MID(BS$23,5,4)&$A59,Lista_Ubigeo!$J:$K,2,0),\" \")","v":" "},{"$f":"IFERROR(VLOOKUP(MID(BT$23,5,4)&$A59,Lista_Ubigeo!$J:$K,2,0),\" \")","v":" "},{"$f":"IFERROR(VLOOKUP(MID(BU$23,5,4)&$A59,Lista_Ubigeo!$J:$K,2,0),\" \")","v":" "},{"$f":"IFERROR(VLOOKUP(MID(BV$23,5,4)&$A59,Lista_Ubigeo!$J:$K,2,0),\" \")","v":" "},{"$f":"IFERROR(VLOOKUP(MID(BW$23,5,4)&$A59,Lista_Ubigeo!$J:$K,2,0),\" \")","v":" "},{"$f":"IFERROR(VLOOKUP(MID(BX$23,5,4)&$A59,Lista_Ubigeo!$J:$K,2,0),\" \")","v":" "},{"$f":"IFERROR(VLOOKUP(MID(BY$23,4,4)&$A59,Lista_Ubigeo!$J:$K,2,0),\" \")","v":" "},{"$f":"IFERROR(VLOOKUP(MID(BZ$23,5,4)&$A59,Lista_Ubigeo!$J:$K,2,0),\" \")","v":" "},{"$f":"IFERROR(VLOOKUP(MID(CA$23,5,4)&$A59,Lista_Ubigeo!$J:$K,2,0),\" \")","v":" "},{"$f":"IFERROR(VLOOKUP(MID(CB$23,5,4)&$A59,Lista_Ubigeo!$J:$K,2,0),\" \")","v":" "},{"$f":"IFERROR(VLOOKUP(MID(CC$23,5,4)&$A59,Lista_Ubigeo!$J:$K,2,0),\" \")","v":" "},{"$f":"IFERROR(VLOOKUP(MID(CD$23,5,4)&$A59,Lista_Ubigeo!$J:$K,2,0),\" \")","v":" "},{"$f":"IFERROR(VLOOKUP(MID(CE$23,5,4)&$A59,Lista_Ubigeo!$J:$K,2,0),\" \")","v":" "},{"$f":"IFERROR(VLOOKUP(MID(CF$23,5,4)&$A59,Lista_Ubigeo!$J:$K,2,0),\" \")","v":" "},{"$f":"IFERROR(VLOOKUP(MID(CG$23,5,4)&$A59,Lista_Ubigeo!$J:$K,2,0),\" \")","v":" "},{"$f":"IFERROR(VLOOKUP(MID(CH$23,5,4)&$A59,Lista_Ubigeo!$J:$K,2,0),\" \")","v":" "},{"$f":"IFERROR(VLOOKUP(MID(CI$23,5,4)&$A59,Lista_Ubigeo!$J:$K,2,0),\" \")","v":" "},{"$f":"IFERROR(VLOOKUP(MID(CJ$23,5,4)&$A59,Lista_Ubigeo!$J:$K,2,0),\" \")","v":" "},{"$f":"IFERROR(VLOOKUP(MID(CK$23,5,4)&$A59,Lista_Ubigeo!$J:$K,2,0),\" \")","v":" "},{"$f":"IFERROR(VLOOKUP(MID(CL$23,5,4)&$A59,Lista_Ubigeo!$J:$K,2,0),\" \")","v":" "},{"$f":"IFERROR(VLOOKUP(MID(CM$23,5,4)&$A70,Lista_Ubigeo!$J:$K,2,0),\" \")","v":" "},{"$f":"IFERROR(VLOOKUP(MID(CN$23,5,4)&$A59,Lista_Ubigeo!$J:$K,2,0),\" \")","v":" "},{"$f":"IFERROR(VLOOKUP(MID(CO$23,5,4)&$A59,Lista_Ubigeo!$J:$K,2,0),\" \")","v":" "},{"$f":"IFERROR(VLOOKUP(MID(CP$23,5,4)&$A59,Lista_Ubigeo!$J:$K,2,0),\" \")","v":" "},{"$f":"IFERROR(VLOOKUP(MID(CQ$23,5,4)&$A59,Lista_Ubigeo!$J:$K,2,0),\" \")","v":" "},{"$f":"IFERROR(VLOOKUP(MID(CR$23,5,4)&$A59,Lista_Ubigeo!$J:$K,2,0),\" \")","v":" "},{"$f":"IFERROR(VLOOKUP(MID(CS$23,5,4)&$A59,Lista_Ubigeo!$J:$K,2,0),\" \")","v":" "},{"$f":"IFERROR(VLOOKUP(MID(CT$23,5,4)&$A59,Lista_Ubigeo!$J:$K,2,0),\" \")","v":" "},{"$f":"IFERROR(VLOOKUP(MID(CU$23,5,4)&$A59,Lista_Ubigeo!$J:$K,2,0),\" \")","v":" "},{"$f":"IFERROR(VLOOKUP(MID(CV$23,5,4)&$A59,Lista_Ubigeo!$J:$K,2,0),\" \")","v":" "},{"$f":"IFERROR(VLOOKUP(MID(CW$23,5,4)&$A59,Lista_Ubigeo!$J:$K,2,0),\" \")","v":" "},{"$f":"IFERROR(VLOOKUP(MID(CX$23,5,4)&$A59,Lista_Ubigeo!$J:$K,2,0),\" \")","v":" "},{"$f":"IFERROR(VLOOKUP(MID(CY$23,5,4)&$A59,Lista_Ubigeo!$J:$K,2,0),\" \")","v":" "},{"$f":"IFERROR(VLOOKUP(MID(CZ$23,5,4)&$A59,Lista_Ubigeo!$J:$K,2,0),\" \")","v":" "},{"$f":"IFERROR(VLOOKUP(MID(DA$23,5,4)&$A59,Lista_Ubigeo!$J:$K,2,0),\" \")","v":"VIQUES"},{"$f":"IFERROR(VLOOKUP(MID(DB$23,5,4)&$A59,Lista_Ubigeo!$J:$K,2,0),\" \")","v":" "},{"$f":"IFERROR(VLOOKUP(MID(DC$23,5,4)&$A59,Lista_Ubigeo!$J:$K,2,0),\" \")","v":" "},{"$f":"IFERROR(VLOOKUP(MID(DD$23,5,4)&$A59,Lista_Ubigeo!$J:$K,2,0),\" \")","v":" "},{"$f":"IFERROR(VLOOKUP(MID(DE$23,5,4)&$A59,Lista_Ubigeo!$J:$K,2,0),\" \")","v":" "},{"$f":"IFERROR(VLOOKUP(MID(DF$23,5,4)&$A59,Lista_Ubigeo!$J:$K,2,0),\" \")","v":" "},{"$f":"IFERROR(VLOOKUP(MID(DG$23,5,4)&$A59,Lista_Ubigeo!$J:$K,2,0),\" \")","v":" "},{"$f":"IFERROR(VLOOKUP(MID(DH$23,5,4)&$A59,Lista_Ubigeo!$J:$K,2,0),\" \")","v":" "},{"$f":"IFERROR(VLOOKUP(MID(DI$23,5,4)&$A59,Lista_Ubigeo!$J:$K,2,0),\" \")","v":" "},{"$f":"IFERROR(VLOOKUP(MID(DJ$23,5,4)&$A59,Lista_Ubigeo!$J:$K,2,0),\" \")","v":" "},{"$f":"IFERROR(VLOOKUP(MID(DK$23,5,4)&$A59,Lista_Ubigeo!$J:$K,2,0),\" \")","v":" "},{"$f":"IFERROR(VLOOKUP(MID(DL$23,5,4)&$A59,Lista_Ubigeo!$J:$K,2,0),\" \")","v":" "},{"$f":"IFERROR(VLOOKUP(MID(DM$23,5,4)&$A59,Lista_Ubigeo!$J:$K,2,0),\" \")","v":" "},{"$f":"IFERROR(VLOOKUP(MID(DN$23,5,4)&$A59,Lista_Ubigeo!$J:$K,2,0),\" \")","v":" "},{"$f":"IFERROR(VLOOKUP(MID(DO$23,5,4)&$A60,Lista_Ubigeo!$J:$K,2,0),\" \")","v":" "},{"$f":"IFERROR(VLOOKUP(MID(DP$23,5,4)&$A59,Lista_Ubigeo!$J:$K,2,0),\" \")","v":" "},{"$f":"IFERROR(VLOOKUP(MID(DQ$23,5,4)&$A59,Lista_Ubigeo!$J:$K,2,0),\" \")","v":" "},{"$f":"IFERROR(VLOOKUP(MID(DR$23,5,4)&$A59,Lista_Ubigeo!$J:$K,2,0),\" \")","v":" "},{"$f":"IFERROR(VLOOKUP(MID(DS$23,5,4)&$A59,Lista_Ubigeo!$J:$K,2,0),\" \")","v":" "},null,null,{"$f":"IFERROR(VLOOKUP(MID(DV$23,5,4)&$A59,Lista_Ubigeo!$J:$K,2,0),\" \")","v":" "},{"$f":"IFERROR(VLOOKUP(MID(DW$23,5,4)&$A59,Lista_Ubigeo!$J:$K,2,0),\" \")","v":" "},{"$f":"IFERROR(VLOOKUP(MID(DX$23,5,4)&$A59,Lista_Ubigeo!$J:$K,2,0),\" \")","v":" "},{"$f":"IFERROR(VLOOKUP(MID(DY$23,5,4)&$A59,Lista_Ubigeo!$J:$K,2,0),\" \")","v":"SAN MIGUEL"},{"$f":"IFERROR(VLOOKUP(MID(DZ$23,5,4)&$A59,Lista_Ubigeo!$J:$K,2,0),\" \")","v":" "},{"$f":"IFERROR(VLOOKUP(MID(EA$23,5,4)&$A59,Lista_Ubigeo!$J:$K,2,0),\" \")","v":" "},{"$f":"IFERROR(VLOOKUP(MID(EB$23,5,4)&$A59,Lista_Ubigeo!$J:$K,2,0),\" \")","v":" "},{"$f":"IFERROR(VLOOKUP(MID(EC$23,5,4)&$A59,Lista_Ubigeo!$J:$K,2,0),\" \")","v":" "},{"$f":"IFERROR(VLOOKUP(MID(ED$23,5,4)&$A59,Lista_Ubigeo!$J:$K,2,0),\" \")","v":" "},{"$f":"IFERROR(VLOOKUP(MID(EE$23,5,4)&$A59,Lista_Ubigeo!$J:$K,2,0),\" \")","v":" "},{"$f":"IFERROR(VLOOKUP(MID(EF$23,5,4)&$A59,Lista_Ubigeo!$J:$K,2,0),\" \")","v":" "},{"$f":"IFERROR(VLOOKUP(MID(EG$23,5,4)&$A59,Lista_Ubigeo!$J:$K,2,0),\" \")","v":" "},{"$f":"IFERROR(VLOOKUP(MID(EH$23,5,4)&$A59,Lista_Ubigeo!$J:$K,2,0),\" \")","v":" "},{"$f":"IFERROR(VLOOKUP(MID(EI$23,5,4)&$A59,Lista_Ubigeo!$J:$K,2,0),\" \")","v":" "},{"$f":"IFERROR(VLOOKUP(MID(EJ$23,5,4)&$A64,Lista_Ubigeo!$J:$K,2,0),\" \")","v":" "},{"$f":"IFERROR(VLOOKUP(MID(EK$23,5,4)&$A59,Lista_Ubigeo!$J:$K,2,0),\" \")","v":" "},{"$f":"IFERROR(VLOOKUP(MID(EL$23,5,4)&$A59,Lista_Ubigeo!$J:$K,2,0),\" \")","v":" "},{"$f":"IFERROR(VLOOKUP(MID(EM$23,5,4)&$A59,Lista_Ubigeo!$J:$K,2,0),\" \")","v":" "},{"$f":"IFERROR(VLOOKUP(MID(EN$23,5,4)&$A59,Lista_Ubigeo!$J:$K,2,0),\" \")","v":" "},{"$f":"IFERROR(VLOOKUP(MID(EO$23,5,4)&$A59,Lista_Ubigeo!$J:$K,2,0),\" \")","v":" "},{"$f":"IFERROR(VLOOKUP(MID(EP$23,5,4)&$A59,Lista_Ubigeo!$J:$K,2,0),\" \")","v":" "},{"$f":"IFERROR(VLOOKUP(MID(EQ$23,5,4)&$A59,Lista_Ubigeo!$J:$K,2,0),\" \")","v":" "},{"$f":"IFERROR(VLOOKUP(MID(ER$23,5,4)&$A59,Lista_Ubigeo!$J:$K,2,0),\" \")","v":" "},{"$f":"IFERROR(VLOOKUP(MID(ES$23,5,4)&$A59,Lista_Ubigeo!$J:$K,2,0),\" \")","v":" "},{"$f":"IFERROR(VLOOKUP(MID(ET$23,5,4)&$A59,Lista_Ubigeo!$J:$K,2,0),\" \")","v":" "},{"$f":"IFERROR(VLOOKUP(MID(EU$23,5,4)&$A59,Lista_Ubigeo!$J:$K,2,0),\" \")","v":" "},{"$f":"IFERROR(VLOOKUP(MID(EV$23,5,4)&$A59,Lista_Ubigeo!$J:$K,2,0),\" \")","v":" "},{"$f":"IFERROR(VLOOKUP(MID(EW$23,5,4)&$A59,Lista_Ubigeo!$J:$K,2,0),\" \")","v":" "},{"$f":"IFERROR(VLOOKUP(MID(EX$23,5,4)&$A59,Lista_Ubigeo!$J:$K,2,0),\" \")","v":" "},{"$f":"IFERROR(VLOOKUP(MID(EY$23,5,4)&$A59,Lista_Ubigeo!$J:$K,2,0),\" \")","v":" "},{"$f":"IFERROR(VLOOKUP(MID(EZ$23,5,4)&$A62,Lista_Ubigeo!$J:$K,2,0),\" \")","v":" "},{"$f":"IFERROR(VLOOKUP(MID(FA$23,5,4)&$A59,Lista_Ubigeo!$J:$K,2,0),\" \")","v":" "},{"$f":"IFERROR(VLOOKUP(MID(FB$23,5,4)&$A59,Lista_Ubigeo!$J:$K,2,0),\" \")","v":" "},{"$f":"IFERROR(VLOOKUP(MID(FC$23,5,4)&$A59,Lista_Ubigeo!$J:$K,2,0),\" \")","v":" "},{"$f":"IFERROR(VLOOKUP(MID(FD$23,5,4)&$A59,Lista_Ubigeo!$J:$K,2,0),\" \")","v":" "},{"$f":"IFERROR(VLOOKUP(MID(FE$23,5,4)&$A59,Lista_Ubigeo!$J:$K,2,0),\" \")","v":" "},{"$f":"IFERROR(VLOOKUP(MID(FF$23,5,4)&$A59,Lista_Ubigeo!$J:$K,2,0),\" \")","v":" "},{"$f":"IFERROR(VLOOKUP(MID(FG$23,5,4)&$A59,Lista_Ubigeo!$J:$K,2,0),\" \")","v":" "},{"$f":"IFERROR(VLOOKUP(MID(FH$23,5,4)&$A59,Lista_Ubigeo!$J:$K,2,0),\" \")","v":" "},{"$f":"IFERROR(VLOOKUP(MID(FI$23,5,4)&$A59,Lista_Ubigeo!$J:$K,2,0),\" \")","v":" "},{"$f":"IFERROR(VLOOKUP(MID(FJ$23,5,4)&$A59,Lista_Ubigeo!$J:$K,2,0),\" \")","v":" "},{"$f":"IFERROR(VLOOKUP(MID(FK$23,5,4)&$A59,Lista_Ubigeo!$J:$K,2,0),\" \")","v":" "},{"$f":"IFERROR(VLOOKUP(MID(FL$23,5,4)&$A59,Lista_Ubigeo!$J:$K,2,0),\" \")","v":" "},{"$f":"IFERROR(VLOOKUP(MID(FM$23,5,4)&$A59,Lista_Ubigeo!$J:$K,2,0),\" \")","v":" "},{"$f":"IFERROR(VLOOKUP(MID(FN$23,5,4)&$A59,Lista_Ubigeo!$J:$K,2,0),\" \")","v":" "},{"$f":"IFERROR(VLOOKUP(MID(FO$23,5,4)&$A59,Lista_Ubigeo!$J:$K,2,0),\" \")","v":" "},{"$f":"IFERROR(VLOOKUP(MID(FP$23,5,4)&$A59,Lista_Ubigeo!$J:$K,2,0),\" \")","v":" "},{"$f":"IFERROR(VLOOKUP(MID(FQ$23,5,4)&$A59,Lista_Ubigeo!$J:$K,2,0),\" \")","v":" "},{"$f":"IFERROR(VLOOKUP(MID(FR$23,5,4)&$A59,Lista_Ubigeo!$J:$K,2,0),\" \")","v":" "},{"$f":"IFERROR(VLOOKUP(MID(FS$23,5,4)&$A59,Lista_Ubigeo!$J:$K,2,0),\" \")","v":" "},{"$f":"IFERROR(VLOOKUP(MID(FT$23,5,4)&$A59,Lista_Ubigeo!$J:$K,2,0),\" \")","v":" "},{"$f":"IFERROR(VLOOKUP(MID(FU$23,5,4)&$A59,Lista_Ubigeo!$J:$K,2,0),\" \")","v":" "},{"$f":"IFERROR(VLOOKUP(MID(FV$23,5,4)&$A59,Lista_Ubigeo!$J:$K,2,0),\" \")","v":" "},{"$f":"IFERROR(VLOOKUP(MID(FW$23,5,4)&$A59,Lista_Ubigeo!$J:$K,2,0),\" \")","v":" "},{"$f":"IFERROR(VLOOKUP(MID(FX$23,5,4)&$A59,Lista_Ubigeo!$J:$K,2,0),\" \")","v":" "},{"$f":"IFERROR(VLOOKUP(MID(FY$23,5,4)&$A59,Lista_Ubigeo!$J:$K,2,0),\" \")","v":" "},{"$f":"IFERROR(VLOOKUP(MID(FZ$23,5,4)&$A59,Lista_Ubigeo!$J:$K,2,0),\" \")","v":" "},{"$f":"IFERROR(VLOOKUP(MID(GA$23,5,4)&$A59,Lista_Ubigeo!$J:$K,2,0),\" \")","v":" "},{"$f":"IFERROR(VLOOKUP(MID(GB$23,5,4)&$A59,Lista_Ubigeo!$J:$K,2,0),\" \")","v":" "},{"$f":"IFERROR(VLOOKUP(MID(GC$23,5,4)&$A59,Lista_Ubigeo!$J:$K,2,0),\" \")","v":" "},{"$f":"IFERROR(VLOOKUP(MID(GD$23,5,4)&$A59,Lista_Ubigeo!$J:$K,2,0),\" \")","v":" "},{"$f":"IFERROR(VLOOKUP(MID(GE$23,5,4)&$A59,Lista_Ubigeo!$J:$K,2,0),\" \")","v":" "},{"$f":"IFERROR(VLOOKUP(MID(GF$23,5,4)&$A59,Lista_Ubigeo!$J:$K,2,0),\" \")","v":" "},{"$f":"IFERROR(VLOOKUP(MID(GG$23,5,4)&$A59,Lista_Ubigeo!$J:$K,2,0),\" \")","v":" "},{"$f":"IFERROR(VLOOKUP(MID(GH$23,5,4)&$A59,Lista_Ubigeo!$J:$K,2,0),\" \")","v":" "},{"$f":"IFERROR(VLOOKUP(MID(GI$23,5,4)&$A59,Lista_Ubigeo!$J:$K,2,0),\" \")","v":" "},{"$f":"IFERROR(VLOOKUP(MID(GJ$23,5,4)&$A59,Lista_Ubigeo!$J:$K,2,0),\" \")","v":" "},{"$f":"IFERROR(VLOOKUP(MID(GK$23,5,4)&$A59,Lista_Ubigeo!$J:$K,2,0),\" \")","v":" "},{"$f":"IFERROR(VLOOKUP(MID(GL$23,5,4)&$A59,Lista_Ubigeo!$J:$K,2,0),\" \")","v":" "},{"$f":"IFERROR(VLOOKUP(MID(GM$23,5,4)&$A59,Lista_Ubigeo!$J:$K,2,0),\" \")","v":" "},{"$f":"IFERROR(VLOOKUP(MID(GN$23,5,4)&$A59,Lista_Ubigeo!$J:$K,2,0),\" \")","v":" "},{"$f":"IFERROR(VLOOKUP(MID(GO$23,5,4)&$A59,Lista_Ubigeo!$J:$K,2,0),\" \")","v":" "},{"$f":"IFERROR(VLOOKUP(MID(GP$23,5,4)&$A59,Lista_Ubigeo!$J:$K,2,0),\" \")","v":" "}]
["37",{"$f":"IFERROR(VLOOKUP(MID(B$23,5,4)&$A60,Lista_Ubigeo!$J:$K,2,0),\" \")","v":" "},{"$f":"IFERROR(VLOOKUP(MID(C$23,5,4)&$A60,Lista_Ubigeo!$J:$K,2,0),\" \")","v":" "},{"$f":"IFERROR(VLOOKUP(MID(D$23,5,4)&$A60,Lista_Ubigeo!$J:$K,2,0),\" \")","v":" "},{"$f":"IFERROR(VLOOKUP(MID(E$23,5,4)&$A60,Lista_Ubigeo!$J:$K,2,0),\" \")","v":" "},{"$f":"IFERROR(VLOOKUP(MID(F$23,5,4)&$A60,Lista_Ubigeo!$J:$K,2,0),\" \")","v":" "},{"$f":"IFERROR(VLOOKUP(MID(G$23,5,4)&$A60,Lista_Ubigeo!$J:$K,2,0),\" \")","v":" "},{"$f":"IFERROR(VLOOKUP(MID(H$23,5,4)&$A60,Lista_Ubigeo!$J:$K,2,0),\" \")","v":" "},{"$f":"IFERROR(VLOOKUP(MID(I$23,5,4)&$A60,Lista_Ubigeo!$J:$K,2,0),\" \")","v":" "},{"$f":"IFERROR(VLOOKUP(MID(J$23,5,4)&$A60,Lista_Ubigeo!$J:$K,2,0),\" \")","v":" "},{"$f":"IFERROR(VLOOKUP(MID(K$23,5,4)&$A60,Lista_Ubigeo!$J:$K,2,0),\" \")","v":" "},{"$f":"IFERROR(VLOOKUP(MID(L$23,5,4)&$A60,Lista_Ubigeo!$J:$K,2,0),\" \")","v":" "},{"$f":"IFERROR(VLOOKUP(MID(M$23,5,4)&$A60,Lista_Ubigeo!$J:$K,2,0),\" \")","v":" "},{"$f":"IFERROR(VLOOKUP(MID(N$23,5,4)&$A60,Lista_Ubigeo!$J:$K,2,0),\" \")","v":" "},{"$f":"IFERROR(VLOOKUP(MID(O$23,5,4)&$A60,Lista_Ubigeo!$J:$K,2,0),\" \")","v":" "},{"$f":"IFERROR(VLOOKUP(MID(P$23,5,4)&$A60,Lista_Ubigeo!$J:$K,2,0),\" \")","v":" "},{"$f":"IFERROR(VLOOKUP(MID(Q$23,5,4)&$A60,Lista_Ubigeo!$J:$K,2,0),\" \")","v":" "},{"$f":"IFERROR(VLOOKUP(MID(R$23,5,4)&$A60,Lista_Ubigeo!$J:$K,2,0),\" \")","v":" "},{"$f":"IFERROR(VLOOKUP(MID(S$23,5,4)&$A60,Lista_Ubigeo!$J:$K,2,0),\" \")","v":" "},{"$f":"IFERROR(VLOOKUP(MID(T$23,5,4)&$A60,Lista_Ubigeo!$J:$K,2,0),\" \")","v":" "},{"$f":"IFERROR(VLOOKUP(MID(U$23,5,4)&$A60,Lista_Ubigeo!$J:$K,2,0),\" \")","v":" "},{"$f":"IFERROR(VLOOKUP(MID(V$23,5,4)&$A60,Lista_Ubigeo!$J:$K,2,0),\" \")","v":" "},{"$f":"IFERROR(VLOOKUP(MID(W$23,5,4)&$A60,Lista_Ubigeo!$J:$K,2,0),\" \")","v":" "},{"$f":"IFERROR(VLOOKUP(MID(X$23,5,4)&$A60,Lista_Ubigeo!$J:$K,2,0),\" \")","v":" "},{"$f":"IFERROR(VLOOKUP(MID(Y$23,5,4)&$A60,Lista_Ubigeo!$J:$K,2,0),\" \")","v":" "},{"$f":"IFERROR(VLOOKUP(MID(Z$23,5,4)&$A60,Lista_Ubigeo!$J:$K,2,0),\" \")","v":" "},{"$f":"IFERROR(VLOOKUP(MID(AA$23,5,4)&$A60,Lista_Ubigeo!$J:$K,2,0),\" \")","v":" "},{"$f":"IFERROR(VLOOKUP(MID(AB$23,5,4)&$A60,Lista_Ubigeo!$J:$K,2,0),\" \")","v":" "},{"$f":"IFERROR(VLOOKUP(MID(AC$23,5,4)&$A60,Lista_Ubigeo!$J:$K,2,0),\" \")","v":" "},{"$f":"IFERROR(VLOOKUP(MID(AD$23,5,4)&$A60,Lista_Ubigeo!$J:$K,2,0),\" \")","v":" "},{"$f":"IFERROR(VLOOKUP(MID(AE$23,5,4)&$A60,Lista_Ubigeo!$J:$K,2,0),\" \")","v":" "},{"$f":"IFERROR(VLOOKUP(MID(AF$23,5,4)&$A60,Lista_Ubigeo!$J:$K,2,0),\" \")","v":" "},{"$f":"IFERROR(VLOOKUP(MID(AG$23,5,4)&$A60,Lista_Ubigeo!$J:$K,2,0),\" \")","v":" "},{"$f":"IFERROR(VLOOKUP(MID(AH$23,5,4)&$A60,Lista_Ubigeo!$J:$K,2,0),\" \")","v":" "},{"$f":"IFERROR(VLOOKUP(MID(AI$23,5,4)&$A60,Lista_Ubigeo!$J:$K,2,0),\" \")","v":" "},{"$f":"IFERROR(VLOOKUP(MID(AJ$23,5,4)&$A60,Lista_Ubigeo!$J:$K,2,0),\" \")","v":" "},{"$f":"IFERROR(VLOOKUP(MID(AK$23,5,4)&$A60,Lista_Ubigeo!$J:$K,2,0),\" \")","v":" "},{"$f":"IFERROR(VLOOKUP(MID(AL$23,5,4)&$A60,Lista_Ubigeo!$J:$K,2,0),\" \")","v":" "},{"$f":"IFERROR(VLOOKUP(MID(AM$23,5,4)&$A60,Lista_Ubigeo!$J:$K,2,0),\" \")","v":" "},{"$f":"IFERROR(VLOOKUP(MID(AN$23,5,4)&$A60,Lista_Ubigeo!$J:$K,2,0),\" \")","v":" "},{"$f":"IFERROR(VLOOKUP(MID(AO$23,5,4)&$A60,Lista_Ubigeo!$J:$K,2,0),\" \")","v":" "},{"$f":"IFERROR(VLOOKUP(MID(AP$23,5,4)&$A60,Lista_Ubigeo!$J:$K,2,0),\" \")","v":" "},{"$f":"IFERROR(VLOOKUP(MID(AQ$23,4,4)&$A60,Lista_Ubigeo!$J:$K,2,0),\" \")","v":" "},{"$f":"IFERROR(VLOOKUP(MID(AR$23,5,4)&$A60,Lista_Ubigeo!$J:$K,2,0),\" \")","v":" "},{"$f":"IFERROR(VLOOKUP(MID(AS$23,5,4)&$A60,Lista_Ubigeo!$J:$K,2,0),\" \")","v":" "},{"$f":"IFERROR(VLOOKUP(MID(AT$23,5,4)&$A60,Lista_Ubigeo!$J:$K,2,0),\" \")","v":" "},{"$f":"IFERROR(VLOOKUP(MID(AU$23,5,4)&$A60,Lista_Ubigeo!$J:$K,2,0),\" \")","v":" "},{"$f":"IFERROR(VLOOKUP(MID(AV$23,5,4)&$A60,Lista_Ubigeo!$J:$K,2,0),\" \")","v":" "},{"$f":"IFERROR(VLOOKUP(MID(AW$23,5,4)&$A60,Lista_Ubigeo!$J:$K,2,0),\" \")","v":" "},{"$f":"IFERROR(VLOOKUP(MID(AX$23,5,4)&$A60,Lista_Ubigeo!$J:$K,2,0),\" \")","v":" "},{"$f":"IFERROR(VLOOKUP(MID(AY$23,5,4)&$A60,Lista_Ubigeo!$J:$K,2,0),\" \")","v":" "},{"$f":"IFERROR(VLOOKUP(MID(AZ$23,5,4)&$A60,Lista_Ubigeo!$J:$K,2,0),\" \")","v":" "},{"$f":"IFERROR(VLOOKUP(MID(BA$23,5,4)&$A60,Lista_Ubigeo!$J:$K,2,0),\" \")","v":" "},{"$f":"IFERROR(VLOOKUP(MID(BB$23,5,4)&$A60,Lista_Ubigeo!$J:$K,2,0),\" \")","v":" "},{"$f":"IFERROR(VLOOKUP(MID(BC$23,5,4)&$A60,Lista_Ubigeo!$J:$K,2,0),\" \")","v":" "},{"$f":"IFERROR(VLOOKUP(MID(BD$23,5,4)&$A60,Lista_Ubigeo!$J:$K,2,0),\" \")","v":" "},{"$f":"IFERROR(VLOOKUP(MID(BE$23,5,4)&$A60,Lista_Ubigeo!$J:$K,2,0),\" \")","v":" "},{"$f":"IFERROR(VLOOKUP(MID(BF$23,5,4)&$A60,Lista_Ubigeo!$J:$K,2,0),\" \")","v":" "},{"$f":"IFERROR(VLOOKUP(MID(BG$23,5,4)&$A60,Lista_Ubigeo!$J:$K,2,0),\" \")","v":" "},{"$f":"IFERROR(VLOOKUP(MID(BH$23,5,4)&$A60,Lista_Ubigeo!$J:$K,2,0),\" \")","v":" "},{"$f":"IFERROR(VLOOKUP(MID(BI$23,5,4)&$A60,Lista_Ubigeo!$J:$K,2,0),\" \")","v":" "},{"$f":"IFERROR(VLOOKUP(MID(BJ$23,5,4)&$A60,Lista_Ubigeo!$J:$K,2,0),\" \")","v":" "},{"$f":"IFERROR(VLOOKUP(MID(BK$23,5,4)&$A60,Lista_Ubigeo!$J:$K,2,0),\" \")","v":" "},{"$f":"IFERROR(VLOOKUP(MID(BL$23,5,4)&$A60,Lista_Ubigeo!$J:$K,2,0),\" \")","v":" "},{"$f":"IFERROR(VLOOKUP(MID(BM$23,5,4)&$A60,Lista_Ubigeo!$J:$K,2,0),\" \")","v":" "},{"$f":"IFERROR(VLOOKUP(MID(BN$23,5,4)&$A60,Lista_Ubigeo!$J:$K,2,0),\" \")","v":" "},{"$f":"IFERROR(VLOOKUP(MID(BO$23,5,4)&$A60,Lista_Ubigeo!$J:$K,2,0),\" \")","v":" "},{"$f":"IFERROR(VLOOKUP(MID(BP$23,5,4)&$A60,Lista_Ubigeo!$J:$K,2,0),\" \")","v":" "},{"$f":"IFERROR(VLOOKUP(MID(BQ$23,5,4)&$A60,Lista_Ubigeo!$J:$K,2,0),\" \")","v":" "},{"$f":"IFERROR(VLOOKUP(MID(BR$23,5,4)&$A60,Lista_Ubigeo!$J:$K,2,0),\" \")","v":" "},{"$f":"IFERROR(VLOOKUP(MID(BS$23,5,4)&$A60,Lista_Ubigeo!$J:$K,2,0),\" \")","v":" "},{"$f":"IFERROR(VLOOKUP(MID(BT$23,5,4)&$A60,Lista_Ubigeo!$J:$K,2,0),\" \")","v":" "},{"$f":"IFERROR(VLOOKUP(MID(BU$23,5,4)&$A60,Lista_Ubigeo!$J:$K,2,0),\" \")","v":" "},{"$f":"IFERROR(VLOOKUP(MID(BV$23,5,4)&$A60,Lista_Ubigeo!$J:$K,2,0),\" \")","v":" "},{"$f":"IFERROR(VLOOKUP(MID(BW$23,5,4)&$A60,Lista_Ubigeo!$J:$K,2,0),\" \")","v":" "},{"$f":"IFERROR(VLOOKUP(MID(BX$23,5,4)&$A60,Lista_Ubigeo!$J:$K,2,0),\" \")","v":" "},{"$f":"IFERROR(VLOOKUP(MID(BY$23,4,4)&$A60,Lista_Ubigeo!$J:$K,2,0),\" \")","v":" "},{"$f":"IFERROR(VLOOKUP(MID(BZ$23,5,4)&$A60,Lista_Ubigeo!$J:$K,2,0),\" \")","v":" "},{"$f":"IFERROR(VLOOKUP(MID(CA$23,5,4)&$A60,Lista_Ubigeo!$J:$K,2,0),\" \")","v":" "},{"$f":"IFERROR(VLOOKUP(MID(CB$23,5,4)&$A60,Lista_Ubigeo!$J:$K,2,0),\" \")","v":" "},{"$f":"IFERROR(VLOOKUP(MID(CC$23,5,4)&$A60,Lista_Ubigeo!$J:$K,2,0),\" \")","v":" "},{"$f":"IFERROR(VLOOKUP(MID(CD$23,5,4)&$A60,Lista_Ubigeo!$J:$K,2,0),\" \")","v":" "},{"$f":"IFERROR(VLOOKUP(MID(CE$23,5,4)&$A60,Lista_Ubigeo!$J:$K,2,0),\" \")","v":" "},{"$f":"IFERROR(VLOOKUP(MID(CF$23,5,4)&$A60,Lista_Ubigeo!$J:$K,2,0),\" \")","v":" "},{"$f":"IFERROR(VLOOKUP(MID(CG$23,5,4)&$A60,Lista_Ubigeo!$J:$K,2,0),\" \")","v":" "},{"$f":"IFERROR(VLOOKUP(MID(CH$23,5,4)&$A60,Lista_Ubigeo!$J:$K,2,0),\" \")","v":" "},{"$f":"IFERROR(VLOOKUP(MID(CI$23,5,4)&$A60,Lista_Ubigeo!$J:$K,2,0),\" \")","v":" "},{"$f":"IFERROR(VLOOKUP(MID(CJ$23,5,4)&$A60,Lista_Ubigeo!$J:$K,2,0),\" \")","v":" "},{"$f":"IFERROR(VLOOKUP(MID(CK$23,5,4)&$A60,Lista_Ubigeo!$J:$K,2,0),\" \")","v":" "},{"$f":"IFERROR(VLOOKUP(MID(CL$23,5,4)&$A60,Lista_Ubigeo!$J:$K,2,0),\" \")","v":" "},{"$f":"IFERROR(VLOOKUP(MID(CM$23,5,4)&$A71,Lista_Ubigeo!$J:$K,2,0),\" \")","v":" "},{"$f":"IFERROR(VLOOKUP(MID(CN$23,5,4)&$A60,Lista_Ubigeo!$J:$K,2,0),\" \")","v":" "},{"$f":"IFERROR(VLOOKUP(MID(CO$23,5,4)&$A60,Lista_Ubigeo!$J:$K,2,0),\" \")","v":" "},{"$f":"IFERROR(VLOOKUP(MID(CP$23,5,4)&$A60,Lista_Ubigeo!$J:$K,2,0),\" \")","v":" "},{"$f":"IFERROR(VLOOKUP(MID(CQ$23,5,4)&$A60,Lista_Ubigeo!$J:$K,2,0),\" \")","v":" "},{"$f":"IFERROR(VLOOKUP(MID(CR$23,5,4)&$A60,Lista_Ubigeo!$J:$K,2,0),\" \")","v":" "},{"$f":"IFERROR(VLOOKUP(MID(CS$23,5,4)&$A60,Lista_Ubigeo!$J:$K,2,0),\" \")","v":" "},{"$f":"IFERROR(VLOOKUP(MID(CT$23,5,4)&$A60,Lista_Ubigeo!$J:$K,2,0),\" \")","v":" "},{"$f":"IFERROR(VLOOKUP(MID(CU$23,5,4)&$A60,Lista_Ubigeo!$J:$K,2,0),\" \")","v":" "},{"$f":"IFERROR(VLOOKUP(MID(CV$23,5,4)&$A60,Lista_Ubigeo!$J:$K,2,0),\" \")","v":" "},{"$f":"IFERROR(VLOOKUP(MID(CW$23,5,4)&$A60,Lista_Ubigeo!$J:$K,2,0),\" \")","v":" "},{"$f":"IFERROR(VLOOKUP(MID(CX$23,5,4)&$A60,Lista_Ubigeo!$J:$K,2,0),\" \")","v":" "},{"$f":"IFERROR(VLOOKUP(MID(CY$23,5,4)&$A60,Lista_Ubigeo!$J:$K,2,0),\" \")","v":" "},{"$f":"IFERROR(VLOOKUP(MID(CZ$23,5,4)&$A60,Lista_Ubigeo!$J:$K,2,0),\" \")","v":" "},{"$f":"IFERROR(VLOOKUP(MID(DA$23,5,4)&$A60,Lista_Ubigeo!$J:$K,2,0),\" \")","v":" "},{"$f":"IFERROR(VLOOKUP(MID(DB$23,5,4)&$A60,Lista_Ubigeo!$J:$K,2,0),\" \")","v":" "},{"$f":"IFERROR(VLOOKUP(MID(DC$23,5,4)&$A60,Lista_Ubigeo!$J:$K,2,0),\" \")","v":" "},{"$f":"IFERROR(VLOOKUP(MID(DD$23,5,4)&$A60,Lista_Ubigeo!$J:$K,2,0),\" \")","v":" "},{"$f":"IFERROR(VLOOKUP(MID(DE$23,5,4)&$A60,Lista_Ubigeo!$J:$K,2,0),\" \")","v":" "},{"$f":"IFERROR(VLOOKUP(MID(DF$23,5,4)&$A60,Lista_Ubigeo!$J:$K,2,0),\" \")","v":" "},{"$f":"IFERROR(VLOOKUP(MID(DG$23,5,4)&$A60,Lista_Ubigeo!$J:$K,2,0),\" \")","v":" "},{"$f":"IFERROR(VLOOKUP(MID(DH$23,5,4)&$A60,Lista_Ubigeo!$J:$K,2,0),\" \")","v":" "},{"$f":"IFERROR(VLOOKUP(MID(DI$23,5,4)&$A60,Lista_Ubigeo!$J:$K,2,0),\" \")","v":" "},{"$f":"IFERROR(VLOOKUP(MID(DJ$23,5,4)&$A60,Lista_Ubigeo!$J:$K,2,0),\" \")","v":" "},{"$f":"IFERROR(VLOOKUP(MID(DK$23,5,4)&$A60,Lista_Ubigeo!$J:$K,2,0),\" \")","v":" "},{"$f":"IFERROR(VLOOKUP(MID(DL$23,5,4)&$A60,Lista_Ubigeo!$J:$K,2,0),\" \")","v":" "},{"$f":"IFERROR(VLOOKUP(MID(DM$23,5,4)&$A60,Lista_Ubigeo!$J:$K,2,0),\" \")","v":" "},{"$f":"IFERROR(VLOOKUP(MID(DN$23,5,4)&$A60,Lista_Ubigeo!$J:$K,2,0),\" \")","v":" "},{"$f":"IFERROR(VLOOKUP(MID(DO$23,5,4)&$A61,Lista_Ubigeo!$J:$K,2,0),\" \")","v":" "},{"$f":"IFERROR(VLOOKUP(MID(DP$23,5,4)&$A60,Lista_Ubigeo!$J:$K,2,0),\" \")","v":" "},{"$f":"IFERROR(VLOOKUP(MID(DQ$23,5,4)&$A60,Lista_Ubigeo!$J:$K,2,0),\" \")","v":" "},{"$f":"IFERROR(VLOOKUP(MID(DR$23,5,4)&$A60,Lista_Ubigeo!$J:$K,2,0),\" \")","v":" "},{"$f":"IFERROR(VLOOKUP(MID(DS$23,5,4)&$A60,Lista_Ubigeo!$J:$K,2,0),\" \")","v":" "},null,null,{"$f":"IFERROR(VLOOKUP(MID(DV$23,5,4)&$A60,Lista_Ubigeo!$J:$K,2,0),\" \")","v":" "},{"$f":"IFERROR(VLOOKUP(MID(DW$23,5,4)&$A60,Lista_Ubigeo!$J:$K,2,0),\" \")","v":" "},{"$f":"IFERROR(VLOOKUP(MID(DX$23,5,4)&$A60,Lista_Ubigeo!$J:$K,2,0),\" \")","v":" "},{"$f":"IFERROR(VLOOKUP(MID(DY$23,5,4)&$A60,Lista_Ubigeo!$J:$K,2,0),\" \")","v":"SANTA ANITA"},{"$f":"IFERROR(VLOOKUP(MID(DZ$23,5,4)&$A60,Lista_Ubigeo!$J:$K,2,0),\" \")","v":" "},{"$f":"IFERROR(VLOOKUP(MID(EA$23,5,4)&$A60,Lista_Ubigeo!$J:$K,2,0),\" \")","v":" "},{"$f":"IFERROR(VLOOKUP(MID(EB$23,5,4)&$A60,Lista_Ubigeo!$J:$K,2,0),\" \")","v":" "},{"$f":"IFERROR(VLOOKUP(MID(EC$23,5,4)&$A60,Lista_Ubigeo!$J:$K,2,0),\" \")","v":" "},{"$f":"IFERROR(VLOOKUP(MID(ED$23,5,4)&$A60,Lista_Ubigeo!$J:$K,2,0),\" \")","v":" "},{"$f":"IFERROR(VLOOKUP(MID(EE$23,5,4)&$A60,Lista_Ubigeo!$J:$K,2,0),\" \")","v":" "},{"$f":"IFERROR(VLOOKUP(MID(EF$23,5,4)&$A60,Lista_Ubigeo!$J:$K,2,0),\" \")","v":" "},{"$f":"IFERROR(VLOOKUP(MID(EG$23,5,4)&$A60,Lista_Ubigeo!$J:$K,2,0),\" \")","v":" "},{"$f":"IFERROR(VLOOKUP(MID(EH$23,5,4)&$A60,Lista_Ubigeo!$J:$K,2,0),\" \")","v":" "},{"$f":"IFERROR(VLOOKUP(MID(EI$23,5,4)&$A60,Lista_Ubigeo!$J:$K,2,0),\" \")","v":" "},{"$f":"IFERROR(VLOOKUP(MID(EJ$23,5,4)&$A65,Lista_Ubigeo!$J:$K,2,0),\" \")","v":" "},{"$f":"IFERROR(VLOOKUP(MID(EK$23,5,4)&$A60,Lista_Ubigeo!$J:$K,2,0),\" \")","v":" "},{"$f":"IFERROR(VLOOKUP(MID(EL$23,5,4)&$A60,Lista_Ubigeo!$J:$K,2,0),\" \")","v":" "},{"$f":"IFERROR(VLOOKUP(MID(EM$23,5,4)&$A60,Lista_Ubigeo!$J:$K,2,0),\" \")","v":" "},{"$f":"IFERROR(VLOOKUP(MID(EN$23,5,4)&$A60,Lista_Ubigeo!$J:$K,2,0),\" \")","v":" "},{"$f":"IFERROR(VLOOKUP(MID(EO$23,5,4)&$A60,Lista_Ubigeo!$J:$K,2,0),\" \")","v":" "},{"$f":"IFERROR(VLOOKUP(MID(EP$23,5,4)&$A60,Lista_Ubigeo!$J:$K,2,0),\" \")","v":" "},{"$f":"IFERROR(VLOOKUP(MID(EQ$23,5,4)&$A60,Lista_Ubigeo!$J:$K,2,0),\" \")","v":" "},{"$f":"IFERROR(VLOOKUP(MID(ER$23,5,4)&$A60,Lista_Ubigeo!$J:$K,2,0),\" \")","v":" "},{"$f":"IFERROR(VLOOKUP(MID(ES$23,5,4)&$A60,Lista_Ubigeo!$J:$K,2,0),\" \")","v":" "},{"$f":"IFERROR(VLOOKUP(MID(ET$23,5,4)&$A60,Lista_Ubigeo!$J:$K,2,0),\" \")","v":" "},{"$f":"IFERROR(VLOOKUP(MID(EU$23,5,4)&$A60,Lista_Ubigeo!$J:$K,2,0),\" \")","v":" "},{"$f":"IFERROR(VLOOKUP(MID(EV$23,5,4)&$A60,Lista_Ubigeo!$J:$K,2,0),\" \")","v":" "},{"$f":"IFERROR(VLOOKUP(MID(EW$23,5,4)&$A60,Lista_Ubigeo!$J:$K,2,0),\" \")","v":" "},{"$f":"IFERROR(VLOOKUP(MID(EX$23,5,4)&$A60,Lista_Ubigeo!$J:$K,2,0),\" \")","v":" "},{"$f":"IFERROR(VLOOKUP(MID(EY$23,5,4)&$A60,Lista_Ubigeo!$J:$K,2,0),\" \")","v":" "},{"$f":"IFERROR(VLOOKUP(MID(EZ$23,5,4)&$A63,Lista_Ubigeo!$J:$K,2,0),\" \")","v":" "},{"$f":"IFERROR(VLOOKUP(MID(FA$23,5,4)&$A60,Lista_Ubigeo!$J:$K,2,0),\" \")","v":" "},{"$f":"IFERROR(VLOOKUP(MID(FB$23,5,4)&$A60,Lista_Ubigeo!$J:$K,2,0),\" \")","v":" "},{"$f":"IFERROR(VLOOKUP(MID(FC$23,5,4)&$A60,Lista_Ubigeo!$J:$K,2,0),\" \")","v":" "},{"$f":"IFERROR(VLOOKUP(MID(FD$23,5,4)&$A60,Lista_Ubigeo!$J:$K,2,0),\" \")","v":" "},{"$f":"IFERROR(VLOOKUP(MID(FE$23,5,4)&$A60,Lista_Ubigeo!$J:$K,2,0),\" \")","v":" "},{"$f":"IFERROR(VLOOKUP(MID(FF$23,5,4)&$A60,Lista_Ubigeo!$J:$K,2,0),\" \")","v":" "},{"$f":"IFERROR(VLOOKUP(MID(FG$23,5,4)&$A60,Lista_Ubigeo!$J:$K,2,0),\" \")","v":" "},{"$f":"IFERROR(VLOOKUP(MID(FH$23,5,4)&$A60,Lista_Ubigeo!$J:$K,2,0),\" \")","v":" "},{"$f":"IFERROR(VLOOKUP(MID(FI$23,5,4)&$A60,Lista_Ubigeo!$J:$K,2,0),\" \")","v":" "},{"$f":"IFERROR(VLOOKUP(MID(FJ$23,5,4)&$A60,Lista_Ubigeo!$J:$K,2,0),\" \")","v":" "},{"$f":"IFERROR(VLOOKUP(MID(FK$23,5,4)&$A60,Lista_Ubigeo!$J:$K,2,0),\" \")","v":" "},{"$f":"IFERROR(VLOOKUP(MID(FL$23,5,4)&$A60,Lista_Ubigeo!$J:$K,2,0),\" \")","v":" "},{"$f":"IFERROR(VLOOKUP(MID(FM$23,5,4)&$A60,Lista_Ubigeo!$J:$K,2,0),\" \")","v":" "},{"$f":"IFERROR(VLOOKUP(MID(FN$23,5,4)&$A60,Lista_Ubigeo!$J:$K,2,0),\" \")","v":" "},{"$f":"IFERROR(VLOOKUP(MID(FO$23,5,4)&$A60,Lista_Ubigeo!$J:$K,2,0),\" \")","v":" "},{"$f":"IFERROR(VLOOKUP(MID(FP$23,5,4)&$A60,Lista_Ubigeo!$J:$K,2,0),\" \")","v":" "},{"$f":"IFERROR(VLOOKUP(MID(FQ$23,5,4)&$A60,Lista_Ubigeo!$J:$K,2,0),\" \")","v":" "},{"$f":"IFERROR(VLOOKUP(MID(FR$23,5,4)&$A60,Lista_Ubigeo!$J:$K,2,0),\" \")","v":" "},{"$f":"IFERROR(VLOOKUP(MID(FS$23,5,4)&$A60,Lista_Ubigeo!$J:$K,2,0),\" \")","v":" "},{"$f":"IFERROR(VLOOKUP(MID(FT$23,5,4)&$A60,Lista_Ubigeo!$J:$K,2,0),\" \")","v":" "},{"$f":"IFERROR(VLOOKUP(MID(FU$23,5,4)&$A60,Lista_Ubigeo!$J:$K,2,0),\" \")","v":" "},{"$f":"IFERROR(VLOOKUP(MID(FV$23,5,4)&$A60,Lista_Ubigeo!$J:$K,2,0),\" \")","v":" "},{"$f":"IFERROR(VLOOKUP(MID(FW$23,5,4)&$A60,Lista_Ubigeo!$J:$K,2,0),\" \")","v":" "},{"$f":"IFERROR(VLOOKUP(MID(FX$23,5,4)&$A60,Lista_Ubigeo!$J:$K,2,0),\" \")","v":" "},{"$f":"IFERROR(VLOOKUP(MID(FY$23,5,4)&$A60,Lista_Ubigeo!$J:$K,2,0),\" \")","v":" "},{"$f":"IFERROR(VLOOKUP(MID(FZ$23,5,4)&$A60,Lista_Ubigeo!$J:$K,2,0),\" \")","v":" "},{"$f":"IFERROR(VLOOKUP(MID(GA$23,5,4)&$A60,Lista_Ubigeo!$J:$K,2,0),\" \")","v":" "},{"$f":"IFERROR(VLOOKUP(MID(GB$23,5,4)&$A60,Lista_Ubigeo!$J:$K,2,0),\" \")","v":" "},{"$f":"IFERROR(VLOOKUP(MID(GC$23,5,4)&$A60,Lista_Ubigeo!$J:$K,2,0),\" \")","v":" "},{"$f":"IFERROR(VLOOKUP(MID(GD$23,5,4)&$A60,Lista_Ubigeo!$J:$K,2,0),\" \")","v":" "},{"$f":"IFERROR(VLOOKUP(MID(GE$23,5,4)&$A60,Lista_Ubigeo!$J:$K,2,0),\" \")","v":" "},{"$f":"IFERROR(VLOOKUP(MID(GF$23,5,4)&$A60,Lista_Ubigeo!$J:$K,2,0),\" \")","v":" "},{"$f":"IFERROR(VLOOKUP(MID(GG$23,5,4)&$A60,Lista_Ubigeo!$J:$K,2,0),\" \")","v":" "},{"$f":"IFERROR(VLOOKUP(MID(GH$23,5,4)&$A60,Lista_Ubigeo!$J:$K,2,0),\" \")","v":" "},{"$f":"IFERROR(VLOOKUP(MID(GI$23,5,4)&$A60,Lista_Ubigeo!$J:$K,2,0),\" \")","v":" "},{"$f":"IFERROR(VLOOKUP(MID(GJ$23,5,4)&$A60,Lista_Ubigeo!$J:$K,2,0),\" \")","v":" "},{"$f":"IFERROR(VLOOKUP(MID(GK$23,5,4)&$A60,Lista_Ubigeo!$J:$K,2,0),\" \")","v":" "},{"$f":"IFERROR(VLOOKUP(MID(GL$23,5,4)&$A60,Lista_Ubigeo!$J:$K,2,0),\" \")","v":" "},{"$f":"IFERROR(VLOOKUP(MID(GM$23,5,4)&$A60,Lista_Ubigeo!$J:$K,2,0),\" \")","v":" "},{"$f":"IFERROR(VLOOKUP(MID(GN$23,5,4)&$A60,Lista_Ubigeo!$J:$K,2,0),\" \")","v":" "},{"$f":"IFERROR(VLOOKUP(MID(GO$23,5,4)&$A60,Lista_Ubigeo!$J:$K,2,0),\" \")","v":" "},{"$f":"IFERROR(VLOOKUP(MID(GP$23,5,4)&$A60,Lista_Ubigeo!$J:$K,2,0),\" \")","v":" "}]
["38",{"$f":"IFERROR(VLOOKUP(MID(B$23,5,4)&$A61,Lista_Ubigeo!$J:$K,2,0),\" \")","v":" "},{"$f":"IFERROR(VLOOKUP(MID(C$23,5,4)&$A61,Lista_Ubigeo!$J:$K,2,0),\" \")","v":" "},{"$f":"IFERROR(VLOOKUP(MID(D$23,5,4)&$A61,Lista_Ubigeo!$J:$K,2,0),\" \")","v":" "},{"$f":"IFERROR(VLOOKUP(MID(E$23,5,4)&$A61,Lista_Ubigeo!$J:$K,2,0),\" \")","v":" "},{"$f":"IFERROR(VLOOKUP(MID(F$23,5,4)&$A61,Lista_Ubigeo!$J:$K,2,0),\" \")","v":" "},{"$f":"IFERROR(VLOOKUP(MID(G$23,5,4)&$A61,Lista_Ubigeo!$J:$K,2,0),\" \")","v":" "},{"$f":"IFERROR(VLOOKUP(MID(H$23,5,4)&$A61,Lista_Ubigeo!$J:$K,2,0),\" \")","v":" "},{"$f":"IFERROR(VLOOKUP(MID(I$23,5,4)&$A61,Lista_Ubigeo!$J:$K,2,0),\" \")","v":" "},{"$f":"IFERROR(VLOOKUP(MID(J$23,5,4)&$A61,Lista_Ubigeo!$J:$K,2,0),\" \")","v":" "},{"$f":"IFERROR(VLOOKUP(MID(K$23,5,4)&$A61,Lista_Ubigeo!$J:$K,2,0),\" \")","v":" "},{"$f":"IFERROR(VLOOKUP(MID(L$23,5,4)&$A61,Lista_Ubigeo!$J:$K,2,0),\" \")","v":" "},{"$f":"IFERROR(VLOOKUP(MID(M$23,5,4)&$A61,Lista_Ubigeo!$J:$K,2,0),\" \")","v":" "},{"$f":"IFERROR(VLOOKUP(MID(N$23,5,4)&$A61,Lista_Ubigeo!$J:$K,2,0),\" \")","v":" "},{"$f":"IFERROR(VLOOKUP(MID(O$23,5,4)&$A61,Lista_Ubigeo!$J:$K,2,0),\" \")","v":" "},{"$f":"IFERROR(VLOOKUP(MID(P$23,5,4)&$A61,Lista_Ubigeo!$J:$K,2,0),\" \")","v":" "},{"$f":"IFERROR(VLOOKUP(MID(Q$23,5,4)&$A61,Lista_Ubigeo!$J:$K,2,0),\" \")","v":" "},{"$f":"IFERROR(VLOOKUP(MID(R$23,5,4)&$A61,Lista_Ubigeo!$J:$K,2,0),\" \")","v":" "},{"$f":"IFERROR(VLOOKUP(MID(S$23,5,4)&$A61,Lista_Ubigeo!$J:$K,2,0),\" \")","v":" "},{"$f":"IFERROR(VLOOKUP(MID(T$23,5,4)&$A61,Lista_Ubigeo!$J:$K,2,0),\" \")","v":" "},{"$f":"IFERROR(VLOOKUP(MID(U$23,5,4)&$A61,Lista_Ubigeo!$J:$K,2,0),\" \")","v":" "},{"$f":"IFERROR(VLOOKUP(MID(V$23,5,4)&$A61,Lista_Ubigeo!$J:$K,2,0),\" \")","v":" "},{"$f":"IFERROR(VLOOKUP(MID(W$23,5,4)&$A61,Lista_Ubigeo!$J:$K,2,0),\" \")","v":" "},{"$f":"IFERROR(VLOOKUP(MID(X$23,5,4)&$A61,Lista_Ubigeo!$J:$K,2,0),\" \")","v":" "},{"$f":"IFERROR(VLOOKUP(MID(Y$23,5,4)&$A61,Lista_Ubigeo!$J:$K,2,0),\" \")","v":" "},{"$f":"IFERROR(VLOOKUP(MID(Z$23,5,4)&$A61,Lista_Ubigeo!$J:$K,2,0),\" \")","v":" "},{"$f":"IFERROR(VLOOKUP(MID(AA$23,5,4)&$A61,Lista_Ubigeo!$J:$K,2,0),\" \")","v":" "},{"$f":"IFERROR(VLOOKUP(MID(AB$23,5,4)&$A61,Lista_Ubigeo!$J:$K,2,0),\" \")","v":" "},{"$f":"IFERROR(VLOOKUP(MID(AC$23,5,4)&$A61,Lista_Ubigeo!$J:$K,2,0),\" \")","v":" "},{"$f":"IFERROR(VLOOKUP(MID(AD$23,5,4)&$A61,Lista_Ubigeo!$J:$K,2,0),\" \")","v":" "},{"$f":"IFERROR(VLOOKUP(MID(AE$23,5,4)&$A61,Lista_Ubigeo!$J:$K,2,0),\" \")","v":" "},{"$f":"IFERROR(VLOOKUP(MID(AF$23,5,4)&$A61,Lista_Ubigeo!$J:$K,2,0),\" \")","v":" "},{"$f":"IFERROR(VLOOKUP(MID(AG$23,5,4)&$A61,Lista_Ubigeo!$J:$K,2,0),\" \")","v":" "},{"$f":"IFERROR(VLOOKUP(MID(AH$23,5,4)&$A61,Lista_Ubigeo!$J:$K,2,0),\" \")","v":" "},{"$f":"IFERROR(VLOOKUP(MID(AI$23,5,4)&$A61,Lista_Ubigeo!$J:$K,2,0),\" \")","v":" "},{"$f":"IFERROR(VLOOKUP(MID(AJ$23,5,4)&$A61,Lista_Ubigeo!$J:$K,2,0),\" \")","v":" "},{"$f":"IFERROR(VLOOKUP(MID(AK$23,5,4)&$A61,Lista_Ubigeo!$J:$K,2,0),\" \")","v":" "},{"$f":"IFERROR(VLOOKUP(MID(AL$23,5,4)&$A61,Lista_Ubigeo!$J:$K,2,0),\" \")","v":" "},{"$f":"IFERROR(VLOOKUP(MID(AM$23,5,4)&$A61,Lista_Ubigeo!$J:$K,2,0),\" \")","v":" "},{"$f":"IFERROR(VLOOKUP(MID(AN$23,5,4)&$A61,Lista_Ubigeo!$J:$K,2,0),\" \")","v":" "},{"$f":"IFERROR(VLOOKUP(MID(AO$23,5,4)&$A61,Lista_Ubigeo!$J:$K,2,0),\" \")","v":" "},{"$f":"IFERROR(VLOOKUP(MID(AP$23,5,4)&$A61,Lista_Ubigeo!$J:$K,2,0),\" \")","v":" "},{"$f":"IFERROR(VLOOKUP(MID(AQ$23,4,4)&$A61,Lista_Ubigeo!$J:$K,2,0),\" \")","v":" "},{"$f":"IFERROR(VLOOKUP(MID(AR$23,5,4)&$A61,Lista_Ubigeo!$J:$K,2,0),\" \")","v":" "},{"$f":"IFERROR(VLOOKUP(MID(AS$23,5,4)&$A61,Lista_Ubigeo!$J:$K,2,0),\" \")","v":" "},{"$f":"IFERROR(VLOOKUP(MID(AT$23,5,4)&$A61,Lista_Ubigeo!$J:$K,2,0),\" \")","v":" "},{"$f":"IFERROR(VLOOKUP(MID(AU$23,5,4)&$A61,Lista_Ubigeo!$J:$K,2,0),\" \")","v":" "},{"$f":"IFERROR(VLOOKUP(MID(AV$23,5,4)&$A61,Lista_Ubigeo!$J:$K,2,0),\" \")","v":" "},{"$f":"IFERROR(VLOOKUP(MID(AW$23,5,4)&$A61,Lista_Ubigeo!$J:$K,2,0),\" \")","v":" "},{"$f":"IFERROR(VLOOKUP(MID(AX$23,5,4)&$A61,Lista_Ubigeo!$J:$K,2,0),\" \")","v":" "},{"$f":"IFERROR(VLOOKUP(MID(AY$23,5,4)&$A61,Lista_Ubigeo!$J:$K,2,0),\" \")","v":" "},{"$f":"IFERROR(VLOOKUP(MID(AZ$23,5,4)&$A61,Lista_Ubigeo!$J:$K,2,0),\" \")","v":" "},{"$f":"IFERROR(VLOOKUP(MID(BA$23,5,4)&$A61,Lista_Ubigeo!$J:$K,2,0),\" \")","v":" "},{"$f":"IFERROR(VLOOKUP(MID(BB$23,5,4)&$A61,Lista_Ubigeo!$J:$K,2,0),\" \")","v":" "},{"$f":"IFERROR(VLOOKUP(MID(BC$23,5,4)&$A61,Lista_Ubigeo!$J:$K,2,0),\" \")","v":" "},{"$f":"IFERROR(VLOOKUP(MID(BD$23,5,4)&$A61,Lista_Ubigeo!$J:$K,2,0),\" \")","v":" "},{"$f":"IFERROR(VLOOKUP(MID(BE$23,5,4)&$A61,Lista_Ubigeo!$J:$K,2,0),\" \")","v":" "},{"$f":"IFERROR(VLOOKUP(MID(BF$23,5,4)&$A61,Lista_Ubigeo!$J:$K,2,0),\" \")","v":" "},{"$f":"IFERROR(VLOOKUP(MID(BG$23,5,4)&$A61,Lista_Ubigeo!$J:$K,2,0),\" \")","v":" "},{"$f":"IFERROR(VLOOKUP(MID(BH$23,5,4)&$A61,Lista_Ubigeo!$J:$K,2,0),\" \")","v":" "},{"$f":"IFERROR(VLOOKUP(MID(BI$23,5,4)&$A61,Lista_Ubigeo!$J:$K,2,0),\" \")","v":" "},{"$f":"IFERROR(VLOOKUP(MID(BJ$23,5,4)&$A61,Lista_Ubigeo!$J:$K,2,0),\" \")","v":" "},{"$f":"IFERROR(VLOOKUP(MID(BK$23,5,4)&$A61,Lista_Ubigeo!$J:$K,2,0),\" \")","v":" "},{"$f":"IFERROR(VLOOKUP(MID(BL$23,5,4)&$A61,Lista_Ubigeo!$J:$K,2,0),\" \")","v":" "},{"$f":"IFERROR(VLOOKUP(MID(BM$23,5,4)&$A61,Lista_Ubigeo!$J:$K,2,0),\" \")","v":" "},{"$f":"IFERROR(VLOOKUP(MID(BN$23,5,4)&$A61,Lista_Ubigeo!$J:$K,2,0),\" \")","v":" "},{"$f":"IFERROR(VLOOKUP(MID(BO$23,5,4)&$A61,Lista_Ubigeo!$J:$K,2,0),\" \")","v":" "},{"$f":"IFERROR(VLOOKUP(MID(BP$23,5,4)&$A61,Lista_Ubigeo!$J:$K,2,0),\" \")","v":" "},{"$f":"IFERROR(VLOOKUP(MID(BQ$23,5,4)&$A61,Lista_Ubigeo!$J:$K,2,0),\" \")","v":" "},{"$f":"IFERROR(VLOOKUP(MID(BR$23,5,4)&$A61,Lista_Ubigeo!$J:$K,2,0),\" \")","v":" "},{"$f":"IFERROR(VLOOKUP(MID(BS$23,5,4)&$A61,Lista_Ubigeo!$J:$K,2,0),\" \")","v":" "},{"$f":"IFERROR(VLOOKUP(MID(BT$23,5,4)&$A61,Lista_Ubigeo!$J:$K,2,0),\" \")","v":" "},{"$f":"IFERROR(VLOOKUP(MID(BU$23,5,4)&$A61,Lista_Ubigeo!$J:$K,2,0),\" \")","v":" "},{"$f":"IFERROR(VLOOKUP(MID(BV$23,5,4)&$A61,Lista_Ubigeo!$J:$K,2,0),\" \")","v":" "},{"$f":"IFERROR(VLOOKUP(MID(BW$23,5,4)&$A61,Lista_Ubigeo!$J:$K,2,0),\" \")","v":" "},{"$f":"IFERROR(VLOOKUP(MID(BX$23,5,4)&$A61,Lista_Ubigeo!$J:$K,2,0),\" \")","v":" "},{"$f":"IFERROR(VLOOKUP(MID(BY$23,4,4)&$A61,Lista_Ubigeo!$J:$K,2,0),\" \")","v":" "},{"$f":"IFERROR(VLOOKUP(MID(BZ$23,5,4)&$A61,Lista_Ubigeo!$J:$K,2,0),\" \")","v":" "},{"$f":"IFERROR(VLOOKUP(MID(CA$23,5,4)&$A61,Lista_Ubigeo!$J:$K,2,0),\" \")","v":" "},{"$f":"IFERROR(VLOOKUP(MID(CB$23,5,4)&$A61,Lista_Ubigeo!$J:$K,2,0),\" \")","v":" "},{"$f":"IFERROR(VLOOKUP(MID(CC$23,5,4)&$A61,Lista_Ubigeo!$J:$K,2,0),\" \")","v":" "},{"$f":"IFERROR(VLOOKUP(MID(CD$23,5,4)&$A61,Lista_Ubigeo!$J:$K,2,0),\" \")","v":" "},{"$f":"IFERROR(VLOOKUP(MID(CE$23,5,4)&$A61,Lista_Ubigeo!$J:$K,2,0),\" \")","v":" "},{"$f":"IFERROR(VLOOKUP(MID(CF$23,5,4)&$A61,Lista_Ubigeo!$J:$K,2,0),\" \")","v":" "},{"$f":"IFERROR(VLOOKUP(MID(CG$23,5,4)&$A61,Lista_Ubigeo!$J:$K,2,0),\" \")","v":" "},{"$f":"IFERROR(VLOOKUP(MID(CH$23,5,4)&$A61,Lista_Ubigeo!$J:$K,2,0),\" \")","v":" "},{"$f":"IFERROR(VLOOKUP(MID(CI$23,5,4)&$A61,Lista_Ubigeo!$J:$K,2,0),\" \")","v":" "},{"$f":"IFERROR(VLOOKUP(MID(CJ$23,5,4)&$A61,Lista_Ubigeo!$J:$K,2,0),\" \")","v":" "},{"$f":"IFERROR(VLOOKUP(MID(CK$23,5,4)&$A61,Lista_Ubigeo!$J:$K,2,0),\" \")","v":" "},{"$f":"IFERROR(VLOOKUP(MID(CL$23,5,4)&$A61,Lista_Ubigeo!$J:$K,2,0),\" \")","v":" "},{"$f":"IFERROR(VLOOKUP(MID(CM$23,5,4)&$A72,Lista_Ubigeo!$J:$K,2,0),\" \")","v":" "},{"$f":"IFERROR(VLOOKUP(MID(CN$23,5,4)&$A61,Lista_Ubigeo!$J:$K,2,0),\" \")","v":" "},{"$f":"IFERROR(VLOOKUP(MID(CO$23,5,4)&$A61,Lista_Ubigeo!$J:$K,2,0),\" \")","v":" "},{"$f":"IFERROR(VLOOKUP(MID(CP$23,5,4)&$A61,Lista_Ubigeo!$J:$K,2,0),\" \")","v":" "},{"$f":"IFERROR(VLOOKUP(MID(CQ$23,5,4)&$A61,Lista_Ubigeo!$J:$K,2,0),\" \")","v":" "},{"$f":"IFERROR(VLOOKUP(MID(CR$23,5,4)&$A61,Lista_Ubigeo!$J:$K,2,0),\" \")","v":" "},{"$f":"IFERROR(VLOOKUP(MID(CS$23,5,4)&$A61,Lista_Ubigeo!$J:$K,2,0),\" \")","v":" "},{"$f":"IFERROR(VLOOKUP(MID(CT$23,5,4)&$A61,Lista_Ubigeo!$J:$K,2,0),\" \")","v":" "},{"$f":"IFERROR(VLOOKUP(MID(CU$23,5,4)&$A61,Lista_Ubigeo!$J:$K,2,0),\" \")","v":" "},{"$f":"IFERROR(VLOOKUP(MID(CV$23,5,4)&$A61,Lista_Ubigeo!$J:$K,2,0),\" \")","v":" "},{"$f":"IFERROR(VLOOKUP(MID(CW$23,5,4)&$A61,Lista_Ubigeo!$J:$K,2,0),\" \")","v":" "},{"$f":"IFERROR(VLOOKUP(MID(CX$23,5,4)&$A61,Lista_Ubigeo!$J:$K,2,0),\" \")","v":" "},{"$f":"IFERROR(VLOOKUP(MID(CY$23,5,4)&$A61,Lista_Ubigeo!$J:$K,2,0),\" \")","v":" "},{"$f":"IFERROR(VLOOKUP(MID(CZ$23,5,4)&$A61,Lista_Ubigeo!$J:$K,2,0),\" \")","v":" "},{"$f":"IFERROR(VLOOKUP(MID(DA$23,5,4)&$A61,Lista_Ubigeo!$J:$K,2,0),\" \")","v":" "},{"$f":"IFERROR(VLOOKUP(MID(DB$23,5,4)&$A61,Lista_Ubigeo!$J:$K,2,0),\" \")","v":" "},{"$f":"IFERROR(VLOOKUP(MID(DC$23,5,4)&$A61,Lista_Ubigeo!$J:$K,2,0),\" \")","v":" "},{"$f":"IFERROR(VLOOKUP(MID(DD$23,5,4)&$A61,Lista_Ubigeo!$J:$K,2,0),\" \")","v":" "},{"$f":"IFERROR(VLOOKUP(MID(DE$23,5,4)&$A61,Lista_Ubigeo!$J:$K,2,0),\" \")","v":" "},{"$f":"IFERROR(VLOOKUP(MID(DF$23,5,4)&$A61,Lista_Ubigeo!$J:$K,2,0),\" \")","v":" "},{"$f":"IFERROR(VLOOKUP(MID(DG$23,5,4)&$A61,Lista_Ubigeo!$J:$K,2,0),\" \")","v":" "},{"$f":"IFERROR(VLOOKUP(MID(DH$23,5,4)&$A61,Lista_Ubigeo!$J:$K,2,0),\" \")","v":" "},{"$f":"IFERROR(VLOOKUP(MID(DI$23,5,4)&$A61,Lista_Ubigeo!$J:$K,2,0),\" \")","v":" "},{"$f":"IFERROR(VLOOKUP(MID(DJ$23,5,4)&$A61,Lista_Ubigeo!$J:$K,2,0),\" \")","v":" "},{"$f":"IFERROR(VLOOKUP(MID(DK$23,5,4)&$A61,Lista_Ubigeo!$J:$K,2,0),\" \")","v":" "},{"$f":"IFERROR(VLOOKUP(MID(DL$23,5,4)&$A61,Lista_Ubigeo!$J:$K,2,0),\" \")","v":" "},{"$f":"IFERROR(VLOOKUP(MID(DM$23,5,4)&$A61,Lista_Ubigeo!$J:$K,2,0),\" \")","v":" "},{"$f":"IFERROR(VLOOKUP(MID(DN$23,5,4)&$A61,Lista_Ubigeo!$J:$K,2,0),\" \")","v":" "},{"$f":"IFERROR(VLOOKUP(MID(DO$23,5,4)&$A62,Lista_Ubigeo!$J:$K,2,0),\" \")","v":" "},{"$f":"IFERROR(VLOOKUP(MID(DP$23,5,4)&$A61,Lista_Ubigeo!$J:$K,2,0),\" \")","v":" "},{"$f":"IFERROR(VLOOKUP(MID(DQ$23,5,4)&$A61,Lista_Ubigeo!$J:$K,2,0),\" \")","v":" "},{"$f":"IFERROR(VLOOKUP(MID(DR$23,5,4)&$A61,Lista_Ubigeo!$J:$K,2,0),\" \")","v":" "},{"$f":"IFERROR(VLOOKUP(MID(DS$23,5,4)&$A61,Lista_Ubigeo!$J:$K,2,0),\" \")","v":" "},null,null,{"$f":"IFERROR(VLOOKUP(MID(DV$23,5,4)&$A61,Lista_Ubigeo!$J:$K,2,0),\" \")","v":" "},{"$f":"IFERROR(VLOOKUP(MID(DW$23,5,4)&$A61,Lista_Ubigeo!$J:$K,2,0),\" \")","v":" "},{"$f":"IFERROR(VLOOKUP(MID(DX$23,5,4)&$A61,Lista_Ubigeo!$J:$K,2,0),\" \")","v":" "},{"$f":"IFERROR(VLOOKUP(MID(DY$23,5,4)&$A61,Lista_Ubigeo!$J:$K,2,0),\" \")","v":"SANTA MARIA DEL MAR"},{"$f":"IFERROR(VLOOKUP(MID(DZ$23,5,4)&$A61,Lista_Ubigeo!$J:$K,2,0),\" \")","v":" "},{"$f":"IFERROR(VLOOKUP(MID(EA$23,5,4)&$A61,Lista_Ubigeo!$J:$K,2,0),\" \")","v":" "},{"$f":"IFERROR(VLOOKUP(MID(EB$23,5,4)&$A61,Lista_Ubigeo!$J:$K,2,0),\" \")","v":" "},{"$f":"IFERROR(VLOOKUP(MID(EC$23,5,4)&$A61,Lista_Ubigeo!$J:$K,2,0),\" \")","v":" "},{"$f":"IFERROR(VLOOKUP(MID(ED$23,5,4)&$A61,Lista_Ubigeo!$J:$K,2,0),\" \")","v":" "},{"$f":"IFERROR(VLOOKUP(MID(EE$23,5,4)&$A61,Lista_Ubigeo!$J:$K,2,0),\" \")","v":" "},{"$f":"IFERROR(VLOOKUP(MID(EF$23,5,4)&$A61,Lista_Ubigeo!$J:$K,2,0),\" \")","v":" "},{"$f":"IFERROR(VLOOKUP(MID(EG$23,5,4)&$A61,Lista_Ubigeo!$J:$K,2,0),\" \")","v":" "},{"$f":"IFERROR(VLOOKUP(MID(EH$23,5,4)&$A61,Lista_Ubigeo!$J:$K,2,0),\" \")","v":" "},{"$f":"IFERROR(VLOOKUP(MID(EI$23,5,4)&$A61,Lista_Ubigeo!$J:$K,2,0),\" \")","v":" "},{"$f":"IFERROR(VLOOKUP(MID(EJ$23,5,4)&$A66,Lista_Ubigeo!$J:$K,2,0),\" \")","v":" "},{"$f":"IFERROR(VLOOKUP(MID(EK$23,5,4)&$A61,Lista_Ubigeo!$J:$K,2,0),\" \")","v":" "},{"$f":"IFERROR(VLOOKUP(MID(EL$23,5,4)&$A61,Lista_Ubigeo!$J:$K,2,0),\" \")","v":" "},{"$f":"IFERROR(VLOOKUP(MID(EM$23,5,4)&$A61,Lista_Ubigeo!$J:$K,2,0),\" \")","v":" "},{"$f":"IFERROR(VLOOKUP(MID(EN$23,5,4)&$A61,Lista_Ubigeo!$J:$K,2,0),\" \")","v":" "},{"$f":"IFERROR(VLOOKUP(MID(EO$23,5,4)&$A61,Lista_Ubigeo!$J:$K,2,0),\" \")","v":" "},{"$f":"IFERROR(VLOOKUP(MID(EP$23,5,4)&$A61,Lista_Ubigeo!$J:$K,2,0),\" \")","v":" "},{"$f":"IFERROR(VLOOKUP(MID(EQ$23,5,4)&$A61,Lista_Ubigeo!$J:$K,2,0),\" \")","v":" "},{"$f":"IFERROR(VLOOKUP(MID(ER$23,5,4)&$A61,Lista_Ubigeo!$J:$K,2,0),\" \")","v":" "},{"$f":"IFERROR(VLOOKUP(MID(ES$23,5,4)&$A61,Lista_Ubigeo!$J:$K,2,0),\" \")","v":" "},{"$f":"IFERROR(VLOOKUP(MID(ET$23,5,4)&$A61,Lista_Ubigeo!$J:$K,2,0),\" \")","v":" "},{"$f":"IFERROR(VLOOKUP(MID(EU$23,5,4)&$A61,Lista_Ubigeo!$J:$K,2,0),\" \")","v":" "},{"$f":"IFERROR(VLOOKUP(MID(EV$23,5,4)&$A61,Lista_Ubigeo!$J:$K,2,0),\" \")","v":" "},{"$f":"IFERROR(VLOOKUP(MID(EW$23,5,4)&$A61,Lista_Ubigeo!$J:$K,2,0),\" \")","v":" "},{"$f":"IFERROR(VLOOKUP(MID(EX$23,5,4)&$A61,Lista_Ubigeo!$J:$K,2,0),\" \")","v":" "},{"$f":"IFERROR(VLOOKUP(MID(EY$23,5,4)&$A61,Lista_Ubigeo!$J:$K,2,0),\" \")","v":" "},{"$f":"IFERROR(VLOOKUP(MID(EZ$23,5,4)&$A64,Lista_Ubigeo!$J:$K,2,0),\" \")","v":" "},{"$f":"IFERROR(VLOOKUP(MID(FA$23,5,4)&$A61,Lista_Ubigeo!$J:$K,2,0),\" \")","v":" "},{"$f":"IFERROR(VLOOKUP(MID(FB$23,5,4)&$A61,Lista_Ubigeo!$J:$K,2,0),\" \")","v":" "},{"$f":"IFERROR(VLOOKUP(MID(FC$23,5,4)&$A61,Lista_Ubigeo!$J:$K,2,0),\" \")","v":" "},{"$f":"IFERROR(VLOOKUP(MID(FD$23,5,4)&$A61,Lista_Ubigeo!$J:$K,2,0),\" \")","v":" "},{"$f":"IFERROR(VLOOKUP(MID(FE$23,5,4)&$A61,Lista_Ubigeo!$J:$K,2,0),\" \")","v":" "},{"$f":"IFERROR(VLOOKUP(MID(FF$23,5,4)&$A61,Lista_Ubigeo!$J:$K,2,0),\" \")","v":" "},{"$f":"IFERROR(VLOOKUP(MID(FG$23,5,4)&$A61,Lista_Ubigeo!$J:$K,2,0),\" \")","v":" "},{"$f":"IFERROR(VLOOKUP(MID(FH$23,5,4)&$A61,Lista_Ubigeo!$J:$K,2,0),\" \")","v":" "},{"$f":"IFERROR(VLOOKUP(MID(FI$23,5,4)&$A61,Lista_Ubigeo!$J:$K,2,0),\" \")","v":" "},{"$f":"IFERROR(VLOOKUP(MID(FJ$23,5,4)&$A61,Lista_Ubigeo!$J:$K,2,0),\" \")","v":" "},{"$f":"IFERROR(VLOOKUP(MID(FK$23,5,4)&$A61,Lista_Ubigeo!$J:$K,2,0),\" \")","v":" "},{"$f":"IFERROR(VLOOKUP(MID(FL$23,5,4)&$A61,Lista_Ubigeo!$J:$K,2,0),\" \")","v":" "},{"$f":"IFERROR(VLOOKUP(MID(FM$23,5,4)&$A61,Lista_Ubigeo!$J:$K,2,0),\" \")","v":" "},{"$f":"IFERROR(VLOOKUP(MID(FN$23,5,4)&$A61,Lista_Ubigeo!$J:$K,2,0),\" \")","v":" "},{"$f":"IFERROR(VLOOKUP(MID(FO$23,5,4)&$A61,Lista_Ubigeo!$J:$K,2,0),\" \")","v":" "},{"$f":"IFERROR(VLOOKUP(MID(FP$23,5,4)&$A61,Lista_Ubigeo!$J:$K,2,0),\" \")","v":" "},{"$f":"IFERROR(VLOOKUP(MID(FQ$23,5,4)&$A61,Lista_Ubigeo!$J:$K,2,0),\" \")","v":" "},{"$f":"IFERROR(VLOOKUP(MID(FR$23,5,4)&$A61,Lista_Ubigeo!$J:$K,2,0),\" \")","v":" "},{"$f":"IFERROR(VLOOKUP(MID(FS$23,5,4)&$A61,Lista_Ubigeo!$J:$K,2,0),\" \")","v":" "},{"$f":"IFERROR(VLOOKUP(MID(FT$23,5,4)&$A61,Lista_Ubigeo!$J:$K,2,0),\" \")","v":" "},{"$f":"IFERROR(VLOOKUP(MID(FU$23,5,4)&$A61,Lista_Ubigeo!$J:$K,2,0),\" \")","v":" "},{"$f":"IFERROR(VLOOKUP(MID(FV$23,5,4)&$A61,Lista_Ubigeo!$J:$K,2,0),\" \")","v":" "},{"$f":"IFERROR(VLOOKUP(MID(FW$23,5,4)&$A61,Lista_Ubigeo!$J:$K,2,0),\" \")","v":" "},{"$f":"IFERROR(VLOOKUP(MID(FX$23,5,4)&$A61,Lista_Ubigeo!$J:$K,2,0),\" \")","v":" "},{"$f":"IFERROR(VLOOKUP(MID(FY$23,5,4)&$A61,Lista_Ubigeo!$J:$K,2,0),\" \")","v":" "},{"$f":"IFERROR(VLOOKUP(MID(FZ$23,5,4)&$A61,Lista_Ubigeo!$J:$K,2,0),\" \")","v":" "},{"$f":"IFERROR(VLOOKUP(MID(GA$23,5,4)&$A61,Lista_Ubigeo!$J:$K,2,0),\" \")","v":" "},{"$f":"IFERROR(VLOOKUP(MID(GB$23,5,4)&$A61,Lista_Ubigeo!$J:$K,2,0),\" \")","v":" "},{"$f":"IFERROR(VLOOKUP(MID(GC$23,5,4)&$A61,Lista_Ubigeo!$J:$K,2,0),\" \")","v":" "},{"$f":"IFERROR(VLOOKUP(MID(GD$23,5,4)&$A61,Lista_Ubigeo!$J:$K,2,0),\" \")","v":" "},{"$f":"IFERROR(VLOOKUP(MID(GE$23,5,4)&$A61,Lista_Ubigeo!$J:$K,2,0),\" \")","v":" "},{"$f":"IFERROR(VLOOKUP(MID(GF$23,5,4)&$A61,Lista_Ubigeo!$J:$K,2,0),\" \")","v":" "},{"$f":"IFERROR(VLOOKUP(MID(GG$23,5,4)&$A61,Lista_Ubigeo!$J:$K,2,0),\" \")","v":" "},{"$f":"IFERROR(VLOOKUP(MID(GH$23,5,4)&$A61,Lista_Ubigeo!$J:$K,2,0),\" \")","v":" "},{"$f":"IFERROR(VLOOKUP(MID(GI$23,5,4)&$A61,Lista_Ubigeo!$J:$K,2,0),\" \")","v":" "},{"$f":"IFERROR(VLOOKUP(MID(GJ$23,5,4)&$A61,Lista_Ubigeo!$J:$K,2,0),\" \")","v":" "},{"$f":"IFERROR(VLOOKUP(MID(GK$23,5,4)&$A61,Lista_Ubigeo!$J:$K,2,0),\" \")","v":" "},{"$f":"IFERROR(VLOOKUP(MID(GL$23,5,4)&$A61,Lista_Ubigeo!$J:$K,2,0),\" \")","v":" "},{"$f":"IFERROR(VLOOKUP(MID(GM$23,5,4)&$A61,Lista_Ubigeo!$J:$K,2,0),\" \")","v":" "},{"$f":"IFERROR(VLOOKUP(MID(GN$23,5,4)&$A61,Lista_Ubigeo!$J:$K,2,0),\" \")","v":" "},{"$f":"IFERROR(VLOOKUP(MID(GO$23,5,4)&$A61,Lista_Ubigeo!$J:$K,2,0),\" \")","v":" "},{"$f":"IFERROR(VLOOKUP(MID(GP$23,5,4)&$A61,Lista_Ubigeo!$J:$K,2,0),\" \")","v":" "}]
["39",{"$f":"IFERROR(VLOOKUP(MID(B$23,5,4)&$A62,Lista_Ubigeo!$J:$K,2,0),\" \")","v":" "},{"$f":"IFERROR(VLOOKUP(MID(C$23,5,4)&$A62,Lista_Ubigeo!$J:$K,2,0),\" \")","v":" "},{"$f":"IFERROR(VLOOKUP(MID(D$23,5,4)&$A62,Lista_Ubigeo!$J:$K,2,0),\" \")","v":" "},{"$f":"IFERROR(VLOOKUP(MID(E$23,5,4)&$A62,Lista_Ubigeo!$J:$K,2,0),\" \")","v":" "},{"$f":"IFERROR(VLOOKUP(MID(F$23,5,4)&$A62,Lista_Ubigeo!$J:$K,2,0),\" \")","v":" "},{"$f":"IFERROR(VLOOKUP(MID(G$23,5,4)&$A62,Lista_Ubigeo!$J:$K,2,0),\" \")","v":" "},{"$f":"IFERROR(VLOOKUP(MID(H$23,5,4)&$A62,Lista_Ubigeo!$J:$K,2,0),\" \")","v":" "},{"$f":"IFERROR(VLOOKUP(MID(I$23,5,4)&$A62,Lista_Ubigeo!$J:$K,2,0),\" \")","v":" "},{"$f":"IFERROR(VLOOKUP(MID(J$23,5,4)&$A62,Lista_Ubigeo!$J:$K,2,0),\" \")","v":" "},{"$f":"IFERROR(VLOOKUP(MID(K$23,5,4)&$A62,Lista_Ubigeo!$J:$K,2,0),\" \")","v":" "},{"$f":"IFERROR(VLOOKUP(MID(L$23,5,4)&$A62,Lista_Ubigeo!$J:$K,2,0),\" \")","v":" "},{"$f":"IFERROR(VLOOKUP(MID(M$23,5,4)&$A62,Lista_Ubigeo!$J:$K,2,0),\" \")","v":" "},{"$f":"IFERROR(VLOOKUP(MID(N$23,5,4)&$A62,Lista_Ubigeo!$J:$K,2,0),\" \")","v":" "},{"$f":"IFERROR(VLOOKUP(MID(O$23,5,4)&$A62,Lista_Ubigeo!$J:$K,2,0),\" \")","v":" "},{"$f":"IFERROR(VLOOKUP(MID(P$23,5,4)&$A62,Lista_Ubigeo!$J:$K,2,0),\" \")","v":" "},{"$f":"IFERROR(VLOOKUP(MID(Q$23,5,4)&$A62,Lista_Ubigeo!$J:$K,2,0),\" \")","v":" "},{"$f":"IFERROR(VLOOKUP(MID(R$23,5,4)&$A62,Lista_Ubigeo!$J:$K,2,0),\" \")","v":" "},{"$f":"IFERROR(VLOOKUP(MID(S$23,5,4)&$A62,Lista_Ubigeo!$J:$K,2,0),\" \")","v":" "},{"$f":"IFERROR(VLOOKUP(MID(T$23,5,4)&$A62,Lista_Ubigeo!$J:$K,2,0),\" \")","v":" "},{"$f":"IFERROR(VLOOKUP(MID(U$23,5,4)&$A62,Lista_Ubigeo!$J:$K,2,0),\" \")","v":" "},{"$f":"IFERROR(VLOOKUP(MID(V$23,5,4)&$A62,Lista_Ubigeo!$J:$K,2,0),\" \")","v":" "},{"$f":"IFERROR(VLOOKUP(MID(W$23,5,4)&$A62,Lista_Ubigeo!$J:$K,2,0),\" \")","v":" "},{"$f":"IFERROR(VLOOKUP(MID(X$23,5,4)&$A62,Lista_Ubigeo!$J:$K,2,0),\" \")","v":" "},{"$f":"IFERROR(VLOOKUP(MID(Y$23,5,4)&$A62,Lista_Ubigeo!$J:$K,2,0),\" \")","v":" "},{"$f":"IFERROR(VLOOKUP(MID(Z$23,5,4)&$A62,Lista_Ubigeo!$J:$K,2,0),\" \")","v":" "},{"$f":"IFERROR(VLOOKUP(MID(AA$23,5,4)&$A62,Lista_Ubigeo!$J:$K,2,0),\" \")","v":" "},{"$f":"IFERROR(VLOOKUP(MID(AB$23,5,4)&$A62,Lista_Ubigeo!$J:$K,2,0),\" \")","v":" "},{"$f":"IFERROR(VLOOKUP(MID(AC$23,5,4)&$A62,Lista_Ubigeo!$J:$K,2,0),\" \")","v":" "},{"$f":"IFERROR(VLOOKUP(MID(AD$23,5,4)&$A62,Lista_Ubigeo!$J:$K,2,0),\" \")","v":" "},{"$f":"IFERROR(VLOOKUP(MID(AE$23,5,4)&$A62,Lista_Ubigeo!$J:$K,2,0),\" \")","v":" "},{"$f":"IFERROR(VLOOKUP(MID(AF$23,5,4)&$A62,Lista_Ubigeo!$J:$K,2,0),\" \")","v":" "},{"$f":"IFERROR(VLOOKUP(MID(AG$23,5,4)&$A62,Lista_Ubigeo!$J:$K,2,0),\" \")","v":" "},{"$f":"IFERROR(VLOOKUP(MID(AH$23,5,4)&$A62,Lista_Ubigeo!$J:$K,2,0),\" \")","v":" "},{"$f":"IFERROR(VLOOKUP(MID(AI$23,5,4)&$A62,Lista_Ubigeo!$J:$K,2,0),\" \")","v":" "},{"$f":"IFERROR(VLOOKUP(MID(AJ$23,5,4)&$A62,Lista_Ubigeo!$J:$K,2,0),\" \")","v":" "},{"$f":"IFERROR(VLOOKUP(MID(AK$23,5,4)&$A62,Lista_Ubigeo!$J:$K,2,0),\" \")","v":" "},{"$f":"IFERROR(VLOOKUP(MID(AL$23,5,4)&$A62,Lista_Ubigeo!$J:$K,2,0),\" \")","v":" "},{"$f":"IFERROR(VLOOKUP(MID(AM$23,5,4)&$A62,Lista_Ubigeo!$J:$K,2,0),\" \")","v":" "},{"$f":"IFERROR(VLOOKUP(MID(AN$23,5,4)&$A62,Lista_Ubigeo!$J:$K,2,0),\" \")","v":" "},{"$f":"IFERROR(VLOOKUP(MID(AO$23,5,4)&$A62,Lista_Ubigeo!$J:$K,2,0),\" \")","v":" "},{"$f":"IFERROR(VLOOKUP(MID(AP$23,5,4)&$A62,Lista_Ubigeo!$J:$K,2,0),\" \")","v":" "},{"$f":"IFERROR(VLOOKUP(MID(AQ$23,4,4)&$A62,Lista_Ubigeo!$J:$K,2,0),\" \")","v":" "},{"$f":"IFERROR(VLOOKUP(MID(AR$23,5,4)&$A62,Lista_Ubigeo!$J:$K,2,0),\" \")","v":" "},{"$f":"IFERROR(VLOOKUP(MID(AS$23,5,4)&$A62,Lista_Ubigeo!$J:$K,2,0),\" \")","v":" "},{"$f":"IFERROR(VLOOKUP(MID(AT$23,5,4)&$A62,Lista_Ubigeo!$J:$K,2,0),\" \")","v":" "},{"$f":"IFERROR(VLOOKUP(MID(AU$23,5,4)&$A62,Lista_Ubigeo!$J:$K,2,0),\" \")","v":" "},{"$f":"IFERROR(VLOOKUP(MID(AV$23,5,4)&$A62,Lista_Ubigeo!$J:$K,2,0),\" \")","v":" "},{"$f":"IFERROR(VLOOKUP(MID(AW$23,5,4)&$A62,Lista_Ubigeo!$J:$K,2,0),\" \")","v":" "},{"$f":"IFERROR(VLOOKUP(MID(AX$23,5,4)&$A62,Lista_Ubigeo!$J:$K,2,0),\" \")","v":" "},{"$f":"IFERROR(VLOOKUP(MID(AY$23,5,4)&$A62,Lista_Ubigeo!$J:$K,2,0),\" \")","v":" "},{"$f":"IFERROR(VLOOKUP(MID(AZ$23,5,4)&$A62,Lista_Ubigeo!$J:$K,2,0),\" \")","v":" "},{"$f":"IFERROR(VLOOKUP(MID(BA$23,5,4)&$A62,Lista_Ubigeo!$J:$K,2,0),\" \")","v":" "},{"$f":"IFERROR(VLOOKUP(MID(BB$23,5,4)&$A62,Lista_Ubigeo!$J:$K,2,0),\" \")","v":" "},{"$f":"IFERROR(VLOOKUP(MID(BC$23,5,4)&$A62,Lista_Ubigeo!$J:$K,2,0),\" \")","v":" "},{"$f":"IFERROR(VLOOKUP(MID(BD$23,5,4)&$A62,Lista_Ubigeo!$J:$K,2,0),\" \")","v":" "},{"$f":"IFERROR(VLOOKUP(MID(BE$23,5,4)&$A62,Lista_Ubigeo!$J:$K,2,0),\" \")","v":" "},{"$f":"IFERROR(VLOOKUP(MID(BF$23,5,4)&$A62,Lista_Ubigeo!$J:$K,2,0),\" \")","v":" "},{"$f":"IFERROR(VLOOKUP(MID(BG$23,5,4)&$A62,Lista_Ubigeo!$J:$K,2,0),\" \")","v":" "},{"$f":"IFERROR(VLOOKUP(MID(BH$23,5,4)&$A62,Lista_Ubigeo!$J:$K,2,0),\" \")","v":" "},{"$f":"IFERROR(VLOOKUP(MID(BI$23,5,4)&$A62,Lista_Ubigeo!$J:$K,2,0),\" \")","v":" "},{"$f":"IFERROR(VLOOKUP(MID(BJ$23,5,4)&$A62,Lista_Ubigeo!$J:$K,2,0),\" \")","v":" "},{"$f":"IFERROR(VLOOKUP(MID(BK$23,5,4)&$A62,Lista_Ubigeo!$J:$K,2,0),\" \")","v":" "},{"$f":"IFERROR(VLOOKUP(MID(BL$23,5,4)&$A62,Lista_Ubigeo!$J:$K,2,0),\" \")","v":" "},{"$f":"IFERROR(VLOOKUP(MID(BM$23,5,4)&$A62,Lista_Ubigeo!$J:$K,2,0),\" \")","v":" "},{"$f":"IFERROR(VLOOKUP(MID(BN$23,5,4)&$A62,Lista_Ubigeo!$J:$K,2,0),\" \")","v":" "},{"$f":"IFERROR(VLOOKUP(MID(BO$23,5,4)&$A62,Lista_Ubigeo!$J:$K,2,0),\" \")","v":" "},{"$f":"IFERROR(VLOOKUP(MID(BP$23,5,4)&$A62,Lista_Ubigeo!$J:$K,2,0),\" \")","v":" "},{"$f":"IFERROR(VLOOKUP(MID(BQ$23,5,4)&$A62,Lista_Ubigeo!$J:$K,2,0),\" \")","v":" "},{"$f":"IFERROR(VLOOKUP(MID(BR$23,5,4)&$A62,Lista_Ubigeo!$J:$K,2,0),\" \")","v":" "},{"$f":"IFERROR(VLOOKUP(MID(BS$23,5,4)&$A62,Lista_Ubigeo!$J:$K,2,0),\" \")","v":" "},{"$f":"IFERROR(VLOOKUP(MID(BT$23,5,4)&$A62,Lista_Ubigeo!$J:$K,2,0),\" \")","v":" "},{"$f":"IFERROR(VLOOKUP(MID(BU$23,5,4)&$A62,Lista_Ubigeo!$J:$K,2,0),\" \")","v":" "},{"$f":"IFERROR(VLOOKUP(MID(BV$23,5,4)&$A62,Lista_Ubigeo!$J:$K,2,0),\" \")","v":" "},{"$f":"IFERROR(VLOOKUP(MID(BW$23,5,4)&$A62,Lista_Ubigeo!$J:$K,2,0),\" \")","v":" "},{"$f":"IFERROR(VLOOKUP(MID(BX$23,5,4)&$A62,Lista_Ubigeo!$J:$K,2,0),\" \")","v":" "},{"$f":"IFERROR(VLOOKUP(MID(BY$23,4,4)&$A62,Lista_Ubigeo!$J:$K,2,0),\" \")","v":" "},{"$f":"IFERROR(VLOOKUP(MID(BZ$23,5,4)&$A62,Lista_Ubigeo!$J:$K,2,0),\" \")","v":" "},{"$f":"IFERROR(VLOOKUP(MID(CA$23,5,4)&$A62,Lista_Ubigeo!$J:$K,2,0),\" \")","v":" "},{"$f":"IFERROR(VLOOKUP(MID(CB$23,5,4)&$A62,Lista_Ubigeo!$J:$K,2,0),\" \")","v":" "},{"$f":"IFERROR(VLOOKUP(MID(CC$23,5,4)&$A62,Lista_Ubigeo!$J:$K,2,0),\" \")","v":" "},{"$f":"IFERROR(VLOOKUP(MID(CD$23,5,4)&$A62,Lista_Ubigeo!$J:$K,2,0),\" \")","v":" "},{"$f":"IFERROR(VLOOKUP(MID(CE$23,5,4)&$A62,Lista_Ubigeo!$J:$K,2,0),\" \")","v":" "},{"$f":"IFERROR(VLOOKUP(MID(CF$23,5,4)&$A62,Lista_Ubigeo!$J:$K,2,0),\" \")","v":" "},{"$f":"IFERROR(VLOOKUP(MID(CG$23,5,4)&$A62,Lista_Ubigeo!$J:$K,2,0),\" \")","v":" "},{"$f":"IFERROR(VLOOKUP(MID(CH$23,5,4)&$A62,Lista_Ubigeo!$J:$K,2,0),\" \")","v":" "},{"$f":"IFERROR(VLOOKUP(MID(CI$23,5,4)&$A62,Lista_Ubigeo!$J:$K,2,0),\" \")","v":" "},{"$f":"IFERROR(VLOOKUP(MID(CJ$23,5,4)&$A62,Lista_Ubigeo!$J:$K,2,0),\" \")","v":" "},{"$f":"IFERROR(VLOOKUP(MID(CK$23,5,4)&$A62,Lista_Ubigeo!$J:$K,2,0),\" \")","v":" "},{"$f":"IFERROR(VLOOKUP(MID(CL$23,5,4)&$A62,Lista_Ubigeo!$J:$K,2,0),\" \")","v":" "},{"$f":"IFERROR(VLOOKUP(MID(CM$23,5,4)&$A73,Lista_Ubigeo!$J:$K,2,0),\" \")","v":" "},{"$f":"IFERROR(VLOOKUP(MID(CN$23,5,4)&$A62,Lista_Ubigeo!$J:$K,2,0),\" \")","v":" "},{"$f":"IFERROR(VLOOKUP(MID(CO$23,5,4)&$A62,Lista_Ubigeo!$J:$K,2,0),\" \")","v":" "},{"$f":"IFERROR(VLOOKUP(MID(CP$23,5,4)&$A62,Lista_Ubigeo!$J:$K,2,0),\" \")","v":" "},{"$f":"IFERROR(VLOOKUP(MID(CQ$23,5,4)&$A62,Lista_Ubigeo!$J:$K,2,0),\" \")","v":" "},{"$f":"IFERROR(VLOOKUP(MID(CR$23,5,4)&$A62,Lista_Ubigeo!$J:$K,2,0),\" \")","v":" "},{"$f":"IFERROR(VLOOKUP(MID(CS$23,5,4)&$A62,Lista_Ubigeo!$J:$K,2,0),\" \")","v":" "},{"$f":"IFERROR(VLOOKUP(MID(CT$23,5,4)&$A62,Lista_Ubigeo!$J:$K,2,0),\" \")","v":" "},{"$f":"IFERROR(VLOOKUP(MID(CU$23,5,4)&$A62,Lista_Ubigeo!$J:$K,2,0),\" \")","v":" "},{"$f":"IFERROR(VLOOKUP(MID(CV$23,5,4)&$A62,Lista_Ubigeo!$J:$K,2,0),\" \")","v":" "},{"$f":"IFERROR(VLOOKUP(MID(CW$23,5,4)&$A62,Lista_Ubigeo!$J:$K,2,0),\" \")","v":" "},{"$f":"IFERROR(VLOOKUP(MID(CX$23,5,4)&$A62,Lista_Ubigeo!$J:$K,2,0),\" \")","v":" "},{"$f":"IFERROR(VLOOKUP(MID(CY$23,5,4)&$A62,Lista_Ubigeo!$J:$K,2,0),\" \")","v":" "},{"$f":"IFERROR(VLOOKUP(MID(CZ$23,5,4)&$A62,Lista_Ubigeo!$J:$K,2,0),\" \")","v":" "},{"$f":"IFERROR(VLOOKUP(MID(DA$23,5,4)&$A62,Lista_Ubigeo!$J:$K,2,0),\" \")","v":" "},{"$f":"IFERROR(VLOOKUP(MID(DB$23,5,4)&$A62,Lista_Ubigeo!$J:$K,2,0),\" \")","v":" "},{"$f":"IFERROR(VLOOKUP(MID(DC$23,5,4)&$A62,Lista_Ubigeo!$J:$K,2,0),\" \")","v":" "},{"$f":"IFERROR(VLOOKUP(MID(DD$23,5,4)&$A62,Lista_Ubigeo!$J:$K,2,0),\" \")","v":" "},{"$f":"IFERROR(VLOOKUP(MID(DE$23,5,4)&$A62,Lista_Ubigeo!$J:$K,2,0),\" \")","v":" "},{"$f":"IFERROR(VLOOKUP(MID(DF$23,5,4)&$A62,Lista_Ubigeo!$J:$K,2,0),\" \")","v":" "},{"$f":"IFERROR(VLOOKUP(MID(DG$23,5,4)&$A62,Lista_Ubigeo!$J:$K,2,0),\" \")","v":" "},{"$f":"IFERROR(VLOOKUP(MID(DH$23,5,4)&$A62,Lista_Ubigeo!$J:$K,2,0),\" \")","v":" "},{"$f":"IFERROR(VLOOKUP(MID(DI$23,5,4)&$A62,Lista_Ubigeo!$J:$K,2,0),\" \")","v":" "},{"$f":"IFERROR(VLOOKUP(MID(DJ$23,5,4)&$A62,Lista_Ubigeo!$J:$K,2,0),\" \")","v":" "},{"$f":"IFERROR(VLOOKUP(MID(DK$23,5,4)&$A62,Lista_Ubigeo!$J:$K,2,0),\" \")","v":" "},{"$f":"IFERROR(VLOOKUP(MID(DL$23,5,4)&$A62,Lista_Ubigeo!$J:$K,2,0),\" \")","v":" "},{"$f":"IFERROR(VLOOKUP(MID(DM$23,5,4)&$A62,Lista_Ubigeo!$J:$K,2,0),\" \")","v":" "},{"$f":"IFERROR(VLOOKUP(MID(DN$23,5,4)&$A62,Lista_Ubigeo!$J:$K,2,0),\" \")","v":" "},{"$f":"IFERROR(VLOOKUP(MID(DO$23,5,4)&$A63,Lista_Ubigeo!$J:$K,2,0),\" \")","v":" "},{"$f":"IFERROR(VLOOKUP(MID(DP$23,5,4)&$A62,Lista_Ubigeo!$J:$K,2,0),\" \")","v":" "},{"$f":"IFERROR(VLOOKUP(MID(DQ$23,5,4)&$A62,Lista_Ubigeo!$J:$K,2,0),\" \")","v":" "},{"$f":"IFERROR(VLOOKUP(MID(DR$23,5,4)&$A62,Lista_Ubigeo!$J:$K,2,0),\" \")","v":" "},{"$f":"IFERROR(VLOOKUP(MID(DS$23,5,4)&$A62,Lista_Ubigeo!$J:$K,2,0),\" \")","v":" "},null,null,{"$f":"IFERROR(VLOOKUP(MID(DV$23,5,4)&$A62,Lista_Ubigeo!$J:$K,2,0),\" \")","v":" "},{"$f":"IFERROR(VLOOKUP(MID(DW$23,5,4)&$A62,Lista_Ubigeo!$J:$K,2,0),\" \")","v":" "},{"$f":"IFERROR(VLOOKUP(MID(DX$23,5,4)&$A62,Lista_Ubigeo!$J:$K,2,0),\" \")","v":" "},{"$f":"IFERROR(VLOOKUP(MID(DY$23,5,4)&$A62,Lista_Ubigeo!$J:$K,2,0),\" \")","v":"SANTA ROSA"},{"$f":"IFERROR(VLOOKUP(MID(DZ$23,5,4)&$A62,Lista_Ubigeo!$J:$K,2,0),\" \")","v":" "},{"$f":"IFERROR(VLOOKUP(MID(EA$23,5,4)&$A62,Lista_Ubigeo!$J:$K,2,0),\" \")","v":" "},{"$f":"IFERROR(VLOOKUP(MID(EB$23,5,4)&$A62,Lista_Ubigeo!$J:$K,2,0),\" \")","v":" "},{"$f":"IFERROR(VLOOKUP(MID(EC$23,5,4)&$A62,Lista_Ubigeo!$J:$K,2,0),\" \")","v":" "},{"$f":"IFERROR(VLOOKUP(MID(ED$23,5,4)&$A62,Lista_Ubigeo!$J:$K,2,0),\" \")","v":" "},{"$f":"IFERROR(VLOOKUP(MID(EE$23,5,4)&$A62,Lista_Ubigeo!$J:$K,2,0),\" \")","v":" "},{"$f":"IFERROR(VLOOKUP(MID(EF$23,5,4)&$A62,Lista_Ubigeo!$J:$K,2,0),\" \")","v":" "},{"$f":"IFERROR(VLOOKUP(MID(EG$23,5,4)&$A62,Lista_Ubigeo!$J:$K,2,0),\" \")","v":" "},{"$f":"IFERROR(VLOOKUP(MID(EH$23,5,4)&$A62,Lista_Ubigeo!$J:$K,2,0),\" \")","v":" "},{"$f":"IFERROR(VLOOKUP(MID(EI$23,5,4)&$A62,Lista_Ubigeo!$J:$K,2,0),\" \")","v":" "},{"$f":"IFERROR(VLOOKUP(MID(EJ$23,5,4)&$A67,Lista_Ubigeo!$J:$K,2,0),\" \")","v":" "},{"$f":"IFERROR(VLOOKUP(MID(EK$23,5,4)&$A62,Lista_Ubigeo!$J:$K,2,0),\" \")","v":" "},{"$f":"IFERROR(VLOOKUP(MID(EL$23,5,4)&$A62,Lista_Ubigeo!$J:$K,2,0),\" \")","v":" "},{"$f":"IFERROR(VLOOKUP(MID(EM$23,5,4)&$A62,Lista_Ubigeo!$J:$K,2,0),\" \")","v":" "},{"$f":"IFERROR(VLOOKUP(MID(EN$23,5,4)&$A62,Lista_Ubigeo!$J:$K,2,0),\" \")","v":" "},{"$f":"IFERROR(VLOOKUP(MID(EO$23,5,4)&$A62,Lista_Ubigeo!$J:$K,2,0),\" \")","v":" "},{"$f":"IFERROR(VLOOKUP(MID(EP$23,5,4)&$A62,Lista_Ubigeo!$J:$K,2,0),\" \")","v":" "},{"$f":"IFERROR(VLOOKUP(MID(EQ$23,5,4)&$A62,Lista_Ubigeo!$J:$K,2,0),\" \")","v":" "},{"$f":"IFERROR(VLOOKUP(MID(ER$23,5,4)&$A62,Lista_Ubigeo!$J:$K,2,0),\" \")","v":" "},{"$f":"IFERROR(VLOOKUP(MID(ES$23,5,4)&$A62,Lista_Ubigeo!$J:$K,2,0),\" \")","v":" "},{"$f":"IFERROR(VLOOKUP(MID(ET$23,5,4)&$A62,Lista_Ubigeo!$J:$K,2,0),\" \")","v":" "},{"$f":"IFERROR(VLOOKUP(MID(EU$23,5,4)&$A62,Lista_Ubigeo!$J:$K,2,0),\" \")","v":" "},{"$f":"IFERROR(VLOOKUP(MID(EV$23,5,4)&$A62,Lista_Ubigeo!$J:$K,2,0),\" \")","v":" "},{"$f":"IFERROR(VLOOKUP(MID(EW$23,5,4)&$A62,Lista_Ubigeo!$J:$K,2,0),\" \")","v":" "},{"$f":"IFERROR(VLOOKUP(MID(EX$23,5,4)&$A62,Lista_Ubigeo!$J:$K,2,0),\" \")","v":" "},{"$f":"IFERROR(VLOOKUP(MID(EY$23,5,4)&$A62,Lista_Ubigeo!$J:$K,2,0),\" \")","v":" "},{"$f":"IFERROR(VLOOKUP(MID(EZ$23,5,4)&$A65,Lista_Ubigeo!$J:$K,2,0),\" \")","v":" "},{"$f":"IFERROR(VLOOKUP(MID(FA$23,5,4)&$A62,Lista_Ubigeo!$J:$K,2,0),\" \")","v":" "},{"$f":"IFERROR(VLOOKUP(MID(FB$23,5,4)&$A62,Lista_Ubigeo!$J:$K,2,0),\" \")","v":" "},{"$f":"IFERROR(VLOOKUP(MID(FC$23,5,4)&$A62,Lista_Ubigeo!$J:$K,2,0),\" \")","v":" "},{"$f":"IFERROR(VLOOKUP(MID(FD$23,5,4)&$A62,Lista_Ubigeo!$J:$K,2,0),\" \")","v":" "},{"$f":"IFERROR(VLOOKUP(MID(FE$23,5,4)&$A62,Lista_Ubigeo!$J:$K,2,0),\" \")","v":" "},{"$f":"IFERROR(VLOOKUP(MID(FF$23,5,4)&$A62,Lista_Ubigeo!$J:$K,2,0),\" \")","v":" "},{"$f":"IFERROR(VLOOKUP(MID(FG$23,5,4)&$A62,Lista_Ubigeo!$J:$K,2,0),\" \")","v":" "},{"$f":"IFERROR(VLOOKUP(MID(FH$23,5,4)&$A62,Lista_Ubigeo!$J:$K,2,0),\" \")","v":" "},{"$f":"IFERROR(VLOOKUP(MID(FI$23,5,4)&$A62,Lista_Ubigeo!$J:$K,2,0),\" \")","v":" "},{"$f":"IFERROR(VLOOKUP(MID(FJ$23,5,4)&$A62,Lista_Ubigeo!$J:$K,2,0),\" \")","v":" "},{"$f":"IFERROR(VLOOKUP(MID(FK$23,5,4)&$A62,Lista_Ubigeo!$J:$K,2,0),\" \")","v":" "},{"$f":"IFERROR(VLOOKUP(MID(FL$23,5,4)&$A62,Lista_Ubigeo!$J:$K,2,0),\" \")","v":" "},{"$f":"IFERROR(VLOOKUP(MID(FM$23,5,4)&$A62,Lista_Ubigeo!$J:$K,2,0),\" \")","v":" "},{"$f":"IFERROR(VLOOKUP(MID(FN$23,5,4)&$A62,Lista_Ubigeo!$J:$K,2,0),\" \")","v":" "},{"$f":"IFERROR(VLOOKUP(MID(FO$23,5,4)&$A62,Lista_Ubigeo!$J:$K,2,0),\" \")","v":" "},{"$f":"IFERROR(VLOOKUP(MID(FP$23,5,4)&$A62,Lista_Ubigeo!$J:$K,2,0),\" \")","v":" "},{"$f":"IFERROR(VLOOKUP(MID(FQ$23,5,4)&$A62,Lista_Ubigeo!$J:$K,2,0),\" \")","v":" "},{"$f":"IFERROR(VLOOKUP(MID(FR$23,5,4)&$A62,Lista_Ubigeo!$J:$K,2,0),\" \")","v":" "},{"$f":"IFERROR(VLOOKUP(MID(FS$23,5,4)&$A62,Lista_Ubigeo!$J:$K,2,0),\" \")","v":" "},{"$f":"IFERROR(VLOOKUP(MID(FT$23,5,4)&$A62,Lista_Ubigeo!$J:$K,2,0),\" \")","v":" "},{"$f":"IFERROR(VLOOKUP(MID(FU$23,5,4)&$A62,Lista_Ubigeo!$J:$K,2,0),\" \")","v":" "},{"$f":"IFERROR(VLOOKUP(MID(FV$23,5,4)&$A62,Lista_Ubigeo!$J:$K,2,0),\" \")","v":" "},{"$f":"IFERROR(VLOOKUP(MID(FW$23,5,4)&$A62,Lista_Ubigeo!$J:$K,2,0),\" \")","v":" "},{"$f":"IFERROR(VLOOKUP(MID(FX$23,5,4)&$A62,Lista_Ubigeo!$J:$K,2,0),\" \")","v":" "},{"$f":"IFERROR(VLOOKUP(MID(FY$23,5,4)&$A62,Lista_Ubigeo!$J:$K,2,0),\" \")","v":" "},{"$f":"IFERROR(VLOOKUP(MID(FZ$23,5,4)&$A62,Lista_Ubigeo!$J:$K,2,0),\" \")","v":" "},{"$f":"IFERROR(VLOOKUP(MID(GA$23,5,4)&$A62,Lista_Ubigeo!$J:$K,2,0),\" \")","v":" "},{"$f":"IFERROR(VLOOKUP(MID(GB$23,5,4)&$A62,Lista_Ubigeo!$J:$K,2,0),\" \")","v":" "},{"$f":"IFERROR(VLOOKUP(MID(GC$23,5,4)&$A62,Lista_Ubigeo!$J:$K,2,0),\" \")","v":" "},{"$f":"IFERROR(VLOOKUP(MID(GD$23,5,4)&$A62,Lista_Ubigeo!$J:$K,2,0),\" \")","v":" "},{"$f":"IFERROR(VLOOKUP(MID(GE$23,5,4)&$A62,Lista_Ubigeo!$J:$K,2,0),\" \")","v":" "},{"$f":"IFERROR(VLOOKUP(MID(GF$23,5,4)&$A62,Lista_Ubigeo!$J:$K,2,0),\" \")","v":" "},{"$f":"IFERROR(VLOOKUP(MID(GG$23,5,4)&$A62,Lista_Ubigeo!$J:$K,2,0),\" \")","v":" "},{"$f":"IFERROR(VLOOKUP(MID(GH$23,5,4)&$A62,Lista_Ubigeo!$J:$K,2,0),\" \")","v":" "},{"$f":"IFERROR(VLOOKUP(MID(GI$23,5,4)&$A62,Lista_Ubigeo!$J:$K,2,0),\" \")","v":" "},{"$f":"IFERROR(VLOOKUP(MID(GJ$23,5,4)&$A62,Lista_Ubigeo!$J:$K,2,0),\" \")","v":" "},{"$f":"IFERROR(VLOOKUP(MID(GK$23,5,4)&$A62,Lista_Ubigeo!$J:$K,2,0),\" \")","v":" "},{"$f":"IFERROR(VLOOKUP(MID(GL$23,5,4)&$A62,Lista_Ubigeo!$J:$K,2,0),\" \")","v":" "},{"$f":"IFERROR(VLOOKUP(MID(GM$23,5,4)&$A62,Lista_Ubigeo!$J:$K,2,0),\" \")","v":" "},{"$f":"IFERROR(VLOOKUP(MID(GN$23,5,4)&$A62,Lista_Ubigeo!$J:$K,2,0),\" \")","v":" "},{"$f":"IFERROR(VLOOKUP(MID(GO$23,5,4)&$A62,Lista_Ubigeo!$J:$K,2,0),\" \")","v":" "},{"$f":"IFERROR(VLOOKUP(MID(GP$23,5,4)&$A62,Lista_Ubigeo!$J:$K,2,0),\" \")","v":" "}]
["40",{"$f":"IFERROR(VLOOKUP(MID(B$23,5,4)&$A63,Lista_Ubigeo!$J:$K,2,0),\" \")","v":" "},{"$f":"IFERROR(VLOOKUP(MID(C$23,5,4)&$A63,Lista_Ubigeo!$J:$K,2,0),\" \")","v":" "},{"$f":"IFERROR(VLOOKUP(MID(D$23,5,4)&$A63,Lista_Ubigeo!$J:$K,2,0),\" \")","v":" "},{"$f":"IFERROR(VLOOKUP(MID(E$23,5,4)&$A63,Lista_Ubigeo!$J:$K,2,0),\" \")","v":" "},{"$f":"IFERROR(VLOOKUP(MID(F$23,5,4)&$A63,Lista_Ubigeo!$J:$K,2,0),\" \")","v":" "},{"$f":"IFERROR(VLOOKUP(MID(G$23,5,4)&$A63,Lista_Ubigeo!$J:$K,2,0),\" \")","v":" "},{"$f":"IFERROR(VLOOKUP(MID(H$23,5,4)&$A63,Lista_Ubigeo!$J:$K,2,0),\" \")","v":" "},{"$f":"IFERROR(VLOOKUP(MID(I$23,5,4)&$A63,Lista_Ubigeo!$J:$K,2,0),\" \")","v":" "},{"$f":"IFERROR(VLOOKUP(MID(J$23,5,4)&$A63,Lista_Ubigeo!$J:$K,2,0),\" \")","v":" "},{"$f":"IFERROR(VLOOKUP(MID(K$23,5,4)&$A63,Lista_Ubigeo!$J:$K,2,0),\" \")","v":" "},{"$f":"IFERROR(VLOOKUP(MID(L$23,5,4)&$A63,Lista_Ubigeo!$J:$K,2,0),\" \")","v":" "},{"$f":"IFERROR(VLOOKUP(MID(M$23,5,4)&$A63,Lista_Ubigeo!$J:$K,2,0),\" \")","v":" "},{"$f":"IFERROR(VLOOKUP(MID(N$23,5,4)&$A63,Lista_Ubigeo!$J:$K,2,0),\" \")","v":" "},{"$f":"IFERROR(VLOOKUP(MID(O$23,5,4)&$A63,Lista_Ubigeo!$J:$K,2,0),\" \")","v":" "},{"$f":"IFERROR(VLOOKUP(MID(P$23,5,4)&$A63,Lista_Ubigeo!$J:$K,2,0),\" \")","v":" "},{"$f":"IFERROR(VLOOKUP(MID(Q$23,5,4)&$A63,Lista_Ubigeo!$J:$K,2,0),\" \")","v":" "},{"$f":"IFERROR(VLOOKUP(MID(R$23,5,4)&$A63,Lista_Ubigeo!$J:$K,2,0),\" \")","v":" "},{"$f":"IFERROR(VLOOKUP(MID(S$23,5,4)&$A63,Lista_Ubigeo!$J:$K,2,0),\" \")","v":" "},{"$f":"IFERROR(VLOOKUP(MID(T$23,5,4)&$A63,Lista_Ubigeo!$J:$K,2,0),\" \")","v":" "},{"$f":"IFERROR(VLOOKUP(MID(U$23,5,4)&$A63,Lista_Ubigeo!$J:$K,2,0),\" \")","v":" "},{"$f":"IFERROR(VLOOKUP(MID(V$23,5,4)&$A63,Lista_Ubigeo!$J:$K,2,0),\" \")","v":" "},{"$f":"IFERROR(VLOOKUP(MID(W$23,5,4)&$A63,Lista_Ubigeo!$J:$K,2,0),\" \")","v":" "},{"$f":"IFERROR(VLOOKUP(MID(X$23,5,4)&$A63,Lista_Ubigeo!$J:$K,2,0),\" \")","v":" "},{"$f":"IFERROR(VLOOKUP(MID(Y$23,5,4)&$A63,Lista_Ubigeo!$J:$K,2,0),\" \")","v":" "},{"$f":"IFERROR(VLOOKUP(MID(Z$23,5,4)&$A63,Lista_Ubigeo!$J:$K,2,0),\" \")","v":" "},{"$f":"IFERROR(VLOOKUP(MID(AA$23,5,4)&$A63,Lista_Ubigeo!$J:$K,2,0),\" \")","v":" "},{"$f":"IFERROR(VLOOKUP(MID(AB$23,5,4)&$A63,Lista_Ubigeo!$J:$K,2,0),\" \")","v":" "},{"$f":"IFERROR(VLOOKUP(MID(AC$23,5,4)&$A63,Lista_Ubigeo!$J:$K,2,0),\" \")","v":" "},{"$f":"IFERROR(VLOOKUP(MID(AD$23,5,4)&$A63,Lista_Ubigeo!$J:$K,2,0),\" \")","v":" "},{"$f":"IFERROR(VLOOKUP(MID(AE$23,5,4)&$A63,Lista_Ubigeo!$J:$K,2,0),\" \")","v":" "},{"$f":"IFERROR(VLOOKUP(MID(AF$23,5,4)&$A63,Lista_Ubigeo!$J:$K,2,0),\" \")","v":" "},{"$f":"IFERROR(VLOOKUP(MID(AG$23,5,4)&$A63,Lista_Ubigeo!$J:$K,2,0),\" \")","v":" "},{"$f":"IFERROR(VLOOKUP(MID(AH$23,5,4)&$A63,Lista_Ubigeo!$J:$K,2,0),\" \")","v":" "},{"$f":"IFERROR(VLOOKUP(MID(AI$23,5,4)&$A63,Lista_Ubigeo!$J:$K,2,0),\" \")","v":" "},{"$f":"IFERROR(VLOOKUP(MID(AJ$23,5,4)&$A63,Lista_Ubigeo!$J:$K,2,0),\" \")","v":" "},{"$f":"IFERROR(VLOOKUP(MID(AK$23,5,4)&$A63,Lista_Ubigeo!$J:$K,2,0),\" \")","v":" "},{"$f":"IFERROR(VLOOKUP(MID(AL$23,5,4)&$A63,Lista_Ubigeo!$J:$K,2,0),\" \")","v":" "},{"$f":"IFERROR(VLOOKUP(MID(AM$23,5,4)&$A63,Lista_Ubigeo!$J:$K,2,0),\" \")","v":" "},{"$f":"IFERROR(VLOOKUP(MID(AN$23,5,4)&$A63,Lista_Ubigeo!$J:$K,2,0),\" \")","v":" "},{"$f":"IFERROR(VLOOKUP(MID(AO$23,5,4)&$A63,Lista_Ubigeo!$J:$K,2,0),\" \")","v":" "},{"$f":"IFERROR(VLOOKUP(MID(AP$23,5,4)&$A63,Lista_Ubigeo!$J:$K,2,0),\" \")","v":" "},{"$f":"IFERROR(VLOOKUP(MID(AQ$23,4,4)&$A63,Lista_Ubigeo!$J:$K,2,0),\" \")","v":" "},{"$f":"IFERROR(VLOOKUP(MID(AR$23,5,4)&$A63,Lista_Ubigeo!$J:$K,2,0),\" \")","v":" "},{"$f":"IFERROR(VLOOKUP(MID(AS$23,5,4)&$A63,Lista_Ubigeo!$J:$K,2,0),\" \")","v":" "},{"$f":"IFERROR(VLOOKUP(MID(AT$23,5,4)&$A63,Lista_Ubigeo!$J:$K,2,0),\" \")","v":" "},{"$f":"IFERROR(VLOOKUP(MID(AU$23,5,4)&$A63,Lista_Ubigeo!$J:$K,2,0),\" \")","v":" "},{"$f":"IFERROR(VLOOKUP(MID(AV$23,5,4)&$A63,Lista_Ubigeo!$J:$K,2,0),\" \")","v":" "},{"$f":"IFERROR(VLOOKUP(MID(AW$23,5,4)&$A63,Lista_Ubigeo!$J:$K,2,0),\" \")","v":" "},{"$f":"IFERROR(VLOOKUP(MID(AX$23,5,4)&$A63,Lista_Ubigeo!$J:$K,2,0),\" \")","v":" "},{"$f":"IFERROR(VLOOKUP(MID(AY$23,5,4)&$A63,Lista_Ubigeo!$J:$K,2,0),\" \")","v":" "},{"$f":"IFERROR(VLOOKUP(MID(AZ$23,5,4)&$A63,Lista_Ubigeo!$J:$K,2,0),\" \")","v":" "},{"$f":"IFERROR(VLOOKUP(MID(BA$23,5,4)&$A63,Lista_Ubigeo!$J:$K,2,0),\" \")","v":" "},{"$f":"IFERROR(VLOOKUP(MID(BB$23,5,4)&$A63,Lista_Ubigeo!$J:$K,2,0),\" \")","v":" "},{"$f":"IFERROR(VLOOKUP(MID(BC$23,5,4)&$A63,Lista_Ubigeo!$J:$K,2,0),\" \")","v":" "},{"$f":"IFERROR(VLOOKUP(MID(BD$23,5,4)&$A63,Lista_Ubigeo!$J:$K,2,0),\" \")","v":" "},{"$f":"IFERROR(VLOOKUP(MID(BE$23,5,4)&$A63,Lista_Ubigeo!$J:$K,2,0),\" \")","v":" "},{"$f":"IFERROR(VLOOKUP(MID(BF$23,5,4)&$A63,Lista_Ubigeo!$J:$K,2,0),\" \")","v":" "},{"$f":"IFERROR(VLOOKUP(MID(BG$23,5,4)&$A63,Lista_Ubigeo!$J:$K,2,0),\" \")","v":" "},{"$f":"IFERROR(VLOOKUP(MID(BH$23,5,4)&$A63,Lista_Ubigeo!$J:$K,2,0),\" \")","v":" "},{"$f":"IFERROR(VLOOKUP(MID(BI$23,5,4)&$A63,Lista_Ubigeo!$J:$K,2,0),\" \")","v":" "},{"$f":"IFERROR(VLOOKUP(MID(BJ$23,5,4)&$A63,Lista_Ubigeo!$J:$K,2,0),\" \")","v":" "},{"$f":"IFERROR(VLOOKUP(MID(BK$23,5,4)&$A63,Lista_Ubigeo!$J:$K,2,0),\" \")","v":" "},{"$f":"IFERROR(VLOOKUP(MID(BL$23,5,4)&$A63,Lista_Ubigeo!$J:$K,2,0),\" \")","v":" "},{"$f":"IFERROR(VLOOKUP(MID(BM$23,5,4)&$A63,Lista_Ubigeo!$J:$K,2,0),\" \")","v":" "},{"$f":"IFERROR(VLOOKUP(MID(BN$23,5,4)&$A63,Lista_Ubigeo!$J:$K,2,0),\" \")","v":" "},{"$f":"IFERROR(VLOOKUP(MID(BO$23,5,4)&$A63,Lista_Ubigeo!$J:$K,2,0),\" \")","v":" "},{"$f":"IFERROR(VLOOKUP(MID(BP$23,5,4)&$A63,Lista_Ubigeo!$J:$K,2,0),\" \")","v":" "},{"$f":"IFERROR(VLOOKUP(MID(BQ$23,5,4)&$A63,Lista_Ubigeo!$J:$K,2,0),\" \")","v":" "},{"$f":"IFERROR(VLOOKUP(MID(BR$23,5,4)&$A63,Lista_Ubigeo!$J:$K,2,0),\" \")","v":" "},{"$f":"IFERROR(VLOOKUP(MID(BS$23,5,4)&$A63,Lista_Ubigeo!$J:$K,2,0),\" \")","v":" "},{"$f":"IFERROR(VLOOKUP(MID(BT$23,5,4)&$A63,Lista_Ubigeo!$J:$K,2,0),\" \")","v":" "},{"$f":"IFERROR(VLOOKUP(MID(BU$23,5,4)&$A63,Lista_Ubigeo!$J:$K,2,0),\" \")","v":" "},{"$f":"IFERROR(VLOOKUP(MID(BV$23,5,4)&$A63,Lista_Ubigeo!$J:$K,2,0),\" \")","v":" "},{"$f":"IFERROR(VLOOKUP(MID(BW$23,5,4)&$A63,Lista_Ubigeo!$J:$K,2,0),\" \")","v":" "},{"$f":"IFERROR(VLOOKUP(MID(BX$23,5,4)&$A63,Lista_Ubigeo!$J:$K,2,0),\" \")","v":" "},{"$f":"IFERROR(VLOOKUP(MID(BY$23,4,4)&$A63,Lista_Ubigeo!$J:$K,2,0),\" \")","v":" "},{"$f":"IFERROR(VLOOKUP(MID(BZ$23,5,4)&$A63,Lista_Ubigeo!$J:$K,2,0),\" \")","v":" "},{"$f":"IFERROR(VLOOKUP(MID(CA$23,5,4)&$A63,Lista_Ubigeo!$J:$K,2,0),\" \")","v":" "},{"$f":"IFERROR(VLOOKUP(MID(CB$23,5,4)&$A63,Lista_Ubigeo!$J:$K,2,0),\" \")","v":" "},{"$f":"IFERROR(VLOOKUP(MID(CC$23,5,4)&$A63,Lista_Ubigeo!$J:$K,2,0),\" \")","v":" "},{"$f":"IFERROR(VLOOKUP(MID(CD$23,5,4)&$A63,Lista_Ubigeo!$J:$K,2,0),\" \")","v":" "},{"$f":"IFERROR(VLOOKUP(MID(CE$23,5,4)&$A63,Lista_Ubigeo!$J:$K,2,0),\" \")","v":" "},{"$f":"IFERROR(VLOOKUP(MID(CF$23,5,4)&$A63,Lista_Ubigeo!$J:$K,2,0),\" \")","v":" "},{"$f":"IFERROR(VLOOKUP(MID(CG$23,5,4)&$A63,Lista_Ubigeo!$J:$K,2,0),\" \")","v":" "},{"$f":"IFERROR(VLOOKUP(MID(CH$23,5,4)&$A63,Lista_Ubigeo!$J:$K,2,0),\" \")","v":" "},{"$f":"IFERROR(VLOOKUP(MID(CI$23,5,4)&$A63,Lista_Ubigeo!$J:$K,2,0),\" \")","v":" "},{"$f":"IFERROR(VLOOKUP(MID(CJ$23,5,4)&$A63,Lista_Ubigeo!$J:$K,2,0),\" \")","v":" "},{"$f":"IFERROR(VLOOKUP(MID(CK$23,5,4)&$A63,Lista_Ubigeo!$J:$K,2,0),\" \")","v":" "},{"$f":"IFERROR(VLOOKUP(MID(CL$23,5,4)&$A63,Lista_Ubigeo!$J:$K,2,0),\" \")","v":" "},{"$f":"IFERROR(VLOOKUP(MID(CM$23,5,4)&$A74,Lista_Ubigeo!$J:$K,2,0),\" \")","v":" "},{"$f":"IFERROR(VLOOKUP(MID(CN$23,5,4)&$A63,Lista_Ubigeo!$J:$K,2,0),\" \")","v":" "},{"$f":"IFERROR(VLOOKUP(MID(CO$23,5,4)&$A63,Lista_Ubigeo!$J:$K,2,0),\" \")","v":" "},{"$f":"IFERROR(VLOOKUP(MID(CP$23,5,4)&$A63,Lista_Ubigeo!$J:$K,2,0),\" \")","v":" "},{"$f":"IFERROR(VLOOKUP(MID(CQ$23,5,4)&$A63,Lista_Ubigeo!$J:$K,2,0),\" \")","v":" "},{"$f":"IFERROR(VLOOKUP(MID(CR$23,5,4)&$A63,Lista_Ubigeo!$J:$K,2,0),\" \")","v":" "},{"$f":"IFERROR(VLOOKUP(MID(CS$23,5,4)&$A63,Lista_Ubigeo!$J:$K,2,0),\" \")","v":" "},{"$f":"IFERROR(VLOOKUP(MID(CT$23,5,4)&$A63,Lista_Ubigeo!$J:$K,2,0),\" \")","v":" "},{"$f":"IFERROR(VLOOKUP(MID(CU$23,5,4)&$A63,Lista_Ubigeo!$J:$K,2,0),\" \")","v":" "},{"$f":"IFERROR(VLOOKUP(MID(CV$23,5,4)&$A63,Lista_Ubigeo!$J:$K,2,0),\" \")","v":" "},{"$f":"IFERROR(VLOOKUP(MID(CW$23,5,4)&$A63,Lista_Ubigeo!$J:$K,2,0),\" \")","v":" "},{"$f":"IFERROR(VLOOKUP(MID(CX$23,5,4)&$A63,Lista_Ubigeo!$J:$K,2,0),\" \")","v":" "},{"$f":"IFERROR(VLOOKUP(MID(CY$23,5,4)&$A63,Lista_Ubigeo!$J:$K,2,0),\" \")","v":" "},{"$f":"IFERROR(VLOOKUP(MID(CZ$23,5,4)&$A63,Lista_Ubigeo!$J:$K,2,0),\" \")","v":" "},{"$f":"IFERROR(VLOOKUP(MID(DA$23,5,4)&$A63,Lista_Ubigeo!$J:$K,2,0),\" \")","v":" "},{"$f":"IFERROR(VLOOKUP(MID(DB$23,5,4)&$A63,Lista_Ubigeo!$J:$K,2,0),\" \")","v":" "},{"$f":"IFERROR(VLOOKUP(MID(DC$23,5,4)&$A63,Lista_Ubigeo!$J:$K,2,0),\" \")","v":" "},{"$f":"IFERROR(VLOOKUP(MID(DD$23,5,4)&$A63,Lista_Ubigeo!$J:$K,2,0),\" \")","v":" "},{"$f":"IFERROR(VLOOKUP(MID(DE$23,5,4)&$A63,Lista_Ubigeo!$J:$K,2,0),\" \")","v":" "},{"$f":"IFERROR(VLOOKUP(MID(DF$23,5,4)&$A63,Lista_Ubigeo!$J:$K,2,0),\" \")","v":" "},{"$f":"IFERROR(VLOOKUP(MID(DG$23,5,4)&$A63,Lista_Ubigeo!$J:$K,2,0),\" \")","v":" "},{"$f":"IFERROR(VLOOKUP(MID(DH$23,5,4)&$A63,Lista_Ubigeo!$J:$K,2,0),\" \")","v":" "},{"$f":"IFERROR(VLOOKUP(MID(DI$23,5,4)&$A63,Lista_Ubigeo!$J:$K,2,0),\" \")","v":" "},{"$f":"IFERROR(VLOOKUP(MID(DJ$23,5,4)&$A63,Lista_Ubigeo!$J:$K,2,0),\" \")","v":" "},{"$f":"IFERROR(VLOOKUP(MID(DK$23,5,4)&$A63,Lista_Ubigeo!$J:$K,2,0),\" \")","v":" "},{"$f":"IFERROR(VLOOKUP(MID(DL$23,5,4)&$A63,Lista_Ubigeo!$J:$K,2,0),\" \")","v":" "},{"$f":"IFERROR(VLOOKUP(MID(DM$23,5,4)&$A63,Lista_Ubigeo!$J:$K,2,0),\" \")","v":" "},{"$f":"IFERROR(VLOOKUP(MID(DN$23,5,4)&$A63,Lista_Ubigeo!$J:$K,2,0),\" \")","v":" "},{"$f":"IFERROR(VLOOKUP(MID(DO$23,5,4)&$A64,Lista_Ubigeo!$J:$K,2,0),\" \")","v":" "},{"$f":"IFERROR(VLOOKUP(MID(DP$23,5,4)&$A63,Lista_Ubigeo!$J:$K,2,0),\" \")","v":" "},{"$f":"IFERROR(VLOOKUP(MID(DQ$23,5,4)&$A63,Lista_Ubigeo!$J:$K,2,0),\" \")","v":" "},{"$f":"IFERROR(VLOOKUP(MID(DR$23,5,4)&$A63,Lista_Ubigeo!$J:$K,2,0),\" \")","v":" "},{"$f":"IFERROR(VLOOKUP(MID(DS$23,5,4)&$A63,Lista_Ubigeo!$J:$K,2,0),\" \")","v":" "},null,null,{"$f":"IFERROR(VLOOKUP(MID(DV$23,5,4)&$A63,Lista_Ubigeo!$J:$K,2,0),\" \")","v":" "},{"$f":"IFERROR(VLOOKUP(MID(DW$23,5,4)&$A63,Lista_Ubigeo!$J:$K,2,0),\" \")","v":" "},{"$f":"IFERROR(VLOOKUP(MID(DX$23,5,4)&$A63,Lista_Ubigeo!$J:$K,2,0),\" \")","v":" "},{"$f":"IFERROR(VLOOKUP(MID(DY$23,5,4)&$A63,Lista_Ubigeo!$J:$K,2,0),\" \")","v":"SANTIAGO DE SURCO"},{"$f":"IFERROR(VLOOKUP(MID(DZ$23,5,4)&$A63,Lista_Ubigeo!$J:$K,2,0),\" \")","v":" "},{"$f":"IFERROR(VLOOKUP(MID(EA$23,5,4)&$A63,Lista_Ubigeo!$J:$K,2,0),\" \")","v":" "},{"$f":"IFERROR(VLOOKUP(MID(EB$23,5,4)&$A63,Lista_Ubigeo!$J:$K,2,0),\" \")","v":" "},{"$f":"IFERROR(VLOOKUP(MID(EC$23,5,4)&$A63,Lista_Ubigeo!$J:$K,2,0),\" \")","v":" "},{"$f":"IFERROR(VLOOKUP(MID(ED$23,5,4)&$A63,Lista_Ubigeo!$J:$K,2,0),\" \")","v":" "},{"$f":"IFERROR(VLOOKUP(MID(EE$23,5,4)&$A63,Lista_Ubigeo!$J:$K,2,0),\" \")","v":" "},{"$f":"IFERROR(VLOOKUP(MID(EF$23,5,4)&$A63,Lista_Ubigeo!$J:$K,2,0),\" \")","v":" "},{"$f":"IFERROR(VLOOKUP(MID(EG$23,5,4)&$A63,Lista_Ubigeo!$J:$K,2,0),\" \")","v":" "},{"$f":"IFERROR(VLOOKUP(MID(EH$23,5,4)&$A63,Lista_Ubigeo!$J:$K,2,0),\" \")","v":" "},{"$f":"IFERROR(VLOOKUP(MID(EI$23,5,4)&$A63,Lista_Ubigeo!$J:$K,2,0),\" \")","v":" "},{"$f":"IFERROR(VLOOKUP(MID(EJ$23,5,4)&$A68,Lista_Ubigeo!$J:$K,2,0),\" \")","v":" "},{"$f":"IFERROR(VLOOKUP(MID(EK$23,5,4)&$A63,Lista_Ubigeo!$J:$K,2,0),\" \")","v":" "},{"$f":"IFERROR(VLOOKUP(MID(EL$23,5,4)&$A63,Lista_Ubigeo!$J:$K,2,0),\" \")","v":" "},{"$f":"IFERROR(VLOOKUP(MID(EM$23,5,4)&$A63,Lista_Ubigeo!$J:$K,2,0),\" \")","v":" "},{"$f":"IFERROR(VLOOKUP(MID(EN$23,5,4)&$A63,Lista_Ubigeo!$J:$K,2,0),\" \")","v":" "},{"$f":"IFERROR(VLOOKUP(MID(EO$23,5,4)&$A63,Lista_Ubigeo!$J:$K,2,0),\" \")","v":" "},{"$f":"IFERROR(VLOOKUP(MID(EP$23,5,4)&$A63,Lista_Ubigeo!$J:$K,2,0),\" \")","v":" "},{"$f":"IFERROR(VLOOKUP(MID(EQ$23,5,4)&$A63,Lista_Ubigeo!$J:$K,2,0),\" \")","v":" "},{"$f":"IFERROR(VLOOKUP(MID(ER$23,5,4)&$A63,Lista_Ubigeo!$J:$K,2,0),\" \")","v":" "},{"$f":"IFERROR(VLOOKUP(MID(ES$23,5,4)&$A63,Lista_Ubigeo!$J:$K,2,0),\" \")","v":" "},{"$f":"IFERROR(VLOOKUP(MID(ET$23,5,4)&$A63,Lista_Ubigeo!$J:$K,2,0),\" \")","v":" "},{"$f":"IFERROR(VLOOKUP(MID(EU$23,5,4)&$A63,Lista_Ubigeo!$J:$K,2,0),\" \")","v":" "},{"$f":"IFERROR(VLOOKUP(MID(EV$23,5,4)&$A63,Lista_Ubigeo!$J:$K,2,0),\" \")","v":" "},{"$f":"IFERROR(VLOOKUP(MID(EW$23,5,4)&$A63,Lista_Ubigeo!$J:$K,2,0),\" \")","v":" "},{"$f":"IFERROR(VLOOKUP(MID(EX$23,5,4)&$A63,Lista_Ubigeo!$J:$K,2,0),\" \")","v":" "},{"$f":"IFERROR(VLOOKUP(MID(EY$23,5,4)&$A63,Lista_Ubigeo!$J:$K,2,0),\" \")","v":" "},{"$f":"IFERROR(VLOOKUP(MID(EZ$23,5,4)&$A66,Lista_Ubigeo!$J:$K,2,0),\" \")","v":" "},{"$f":"IFERROR(VLOOKUP(MID(FA$23,5,4)&$A63,Lista_Ubigeo!$J:$K,2,0),\" \")","v":" "},{"$f":"IFERROR(VLOOKUP(MID(FB$23,5,4)&$A63,Lista_Ubigeo!$J:$K,2,0),\" \")","v":" "},{"$f":"IFERROR(VLOOKUP(MID(FC$23,5,4)&$A63,Lista_Ubigeo!$J:$K,2,0),\" \")","v":" "},{"$f":"IFERROR(VLOOKUP(MID(FD$23,5,4)&$A63,Lista_Ubigeo!$J:$K,2,0),\" \")","v":" "},{"$f":"IFERROR(VLOOKUP(MID(FE$23,5,4)&$A63,Lista_Ubigeo!$J:$K,2,0),\" \")","v":" "},{"$f":"IFERROR(VLOOKUP(MID(FF$23,5,4)&$A63,Lista_Ubigeo!$J:$K,2,0),\" \")","v":" "},{"$f":"IFERROR(VLOOKUP(MID(FG$23,5,4)&$A63,Lista_Ubigeo!$J:$K,2,0),\" \")","v":" "},{"$f":"IFERROR(VLOOKUP(MID(FH$23,5,4)&$A63,Lista_Ubigeo!$J:$K,2,0),\" \")","v":" "},{"$f":"IFERROR(VLOOKUP(MID(FI$23,5,4)&$A63,Lista_Ubigeo!$J:$K,2,0),\" \")","v":" "},{"$f":"IFERROR(VLOOKUP(MID(FJ$23,5,4)&$A63,Lista_Ubigeo!$J:$K,2,0),\" \")","v":" "},{"$f":"IFERROR(VLOOKUP(MID(FK$23,5,4)&$A63,Lista_Ubigeo!$J:$K,2,0),\" \")","v":" "},{"$f":"IFERROR(VLOOKUP(MID(FL$23,5,4)&$A63,Lista_Ubigeo!$J:$K,2,0),\" \")","v":" "},{"$f":"IFERROR(VLOOKUP(MID(FM$23,5,4)&$A63,Lista_Ubigeo!$J:$K,2,0),\" \")","v":" "},{"$f":"IFERROR(VLOOKUP(MID(FN$23,5,4)&$A63,Lista_Ubigeo!$J:$K,2,0),\" \")","v":" "},{"$f":"IFERROR(VLOOKUP(MID(FO$23,5,4)&$A63,Lista_Ubigeo!$J:$K,2,0),\" \")","v":" "},{"$f":"IFERROR(VLOOKUP(MID(FP$23,5,4)&$A63,Lista_Ubigeo!$J:$K,2,0),\" \")","v":" "},{"$f":"IFERROR(VLOOKUP(MID(FQ$23,5,4)&$A63,Lista_Ubigeo!$J:$K,2,0),\" \")","v":" "},{"$f":"IFERROR(VLOOKUP(MID(FR$23,5,4)&$A63,Lista_Ubigeo!$J:$K,2,0),\" \")","v":" "},{"$f":"IFERROR(VLOOKUP(MID(FS$23,5,4)&$A63,Lista_Ubigeo!$J:$K,2,0),\" \")","v":" "},{"$f":"IFERROR(VLOOKUP(MID(FT$23,5,4)&$A63,Lista_Ubigeo!$J:$K,2,0),\" \")","v":" "},{"$f":"IFERROR(VLOOKUP(MID(FU$23,5,4)&$A63,Lista_Ubigeo!$J:$K,2,0),\" \")","v":" "},{"$f":"IFERROR(VLOOKUP(MID(FV$23,5,4)&$A63,Lista_Ubigeo!$J:$K,2,0),\" \")","v":" "},{"$f":"IFERROR(VLOOKUP(MID(FW$23,5,4)&$A63,Lista_Ubigeo!$J:$K,2,0),\" \")","v":" "},{"$f":"IFERROR(VLOOKUP(MID(FX$23,5,4)&$A63,Lista_Ubigeo!$J:$K,2,0),\" \")","v":" "},{"$f":"IFERROR(VLOOKUP(MID(FY$23,5,4)&$A63,Lista_Ubigeo!$J:$K,2,0),\" \")","v":" "},{"$f":"IFERROR(VLOOKUP(MID(FZ$23,5,4)&$A63,Lista_Ubigeo!$J:$K,2,0),\" \")","v":" "},{"$f":"IFERROR(VLOOKUP(MID(GA$23,5,4)&$A63,Lista_Ubigeo!$J:$K,2,0),\" \")","v":" "},{"$f":"IFERROR(VLOOKUP(MID(GB$23,5,4)&$A63,Lista_Ubigeo!$J:$K,2,0),\" \")","v":" "},{"$f":"IFERROR(VLOOKUP(MID(GC$23,5,4)&$A63,Lista_Ubigeo!$J:$K,2,0),\" \")","v":" "},{"$f":"IFERROR(VLOOKUP(MID(GD$23,5,4)&$A63,Lista_Ubigeo!$J:$K,2,0),\" \")","v":" "},{"$f":"IFERROR(VLOOKUP(MID(GE$23,5,4)&$A63,Lista_Ubigeo!$J:$K,2,0),\" \")","v":" "},{"$f":"IFERROR(VLOOKUP(MID(GF$23,5,4)&$A63,Lista_Ubigeo!$J:$K,2,0),\" \")","v":" "},{"$f":"IFERROR(VLOOKUP(MID(GG$23,5,4)&$A63,Lista_Ubigeo!$J:$K,2,0),\" \")","v":" "},{"$f":"IFERROR(VLOOKUP(MID(GH$23,5,4)&$A63,Lista_Ubigeo!$J:$K,2,0),\" \")","v":" "},{"$f":"IFERROR(VLOOKUP(MID(GI$23,5,4)&$A63,Lista_Ubigeo!$J:$K,2,0),\" \")","v":" "},{"$f":"IFERROR(VLOOKUP(MID(GJ$23,5,4)&$A63,Lista_Ubigeo!$J:$K,2,0),\" \")","v":" "},{"$f":"IFERROR(VLOOKUP(MID(GK$23,5,4)&$A63,Lista_Ubigeo!$J:$K,2,0),\" \")","v":" "},{"$f":"IFERROR(VLOOKUP(MID(GL$23,5,4)&$A63,Lista_Ubigeo!$J:$K,2,0),\" \")","v":" "},{"$f":"IFERROR(VLOOKUP(MID(GM$23,5,4)&$A63,Lista_Ubigeo!$J:$K,2,0),\" \")","v":" "},{"$f":"IFERROR(VLOOKUP(MID(GN$23,5,4)&$A63,Lista_Ubigeo!$J:$K,2,0),\" \")","v":" "},{"$f":"IFERROR(VLOOKUP(MID(GO$23,5,4)&$A63,Lista_Ubigeo!$J:$K,2,0),\" \")","v":" "},{"$f":"IFERROR(VLOOKUP(MID(GP$23,5,4)&$A63,Lista_Ubigeo!$J:$K,2,0),\" \")","v":" "}]
["41",{"$f":"IFERROR(VLOOKUP(MID(B$23,5,4)&$A64,Lista_Ubigeo!$J:$K,2,0),\" \")","v":" "},{"$f":"IFERROR(VLOOKUP(MID(C$23,5,4)&$A64,Lista_Ubigeo!$J:$K,2,0),\" \")","v":" "},{"$f":"IFERROR(VLOOKUP(MID(D$23,5,4)&$A64,Lista_Ubigeo!$J:$K,2,0),\" \")","v":" "},{"$f":"IFERROR(VLOOKUP(MID(E$23,5,4)&$A64,Lista_Ubigeo!$J:$K,2,0),\" \")","v":" "},{"$f":"IFERROR(VLOOKUP(MID(F$23,5,4)&$A64,Lista_Ubigeo!$J:$K,2,0),\" \")","v":" "},{"$f":"IFERROR(VLOOKUP(MID(G$23,5,4)&$A64,Lista_Ubigeo!$J:$K,2,0),\" \")","v":" "},{"$f":"IFERROR(VLOOKUP(MID(H$23,5,4)&$A64,Lista_Ubigeo!$J:$K,2,0),\" \")","v":" "},{"$f":"IFERROR(VLOOKUP(MID(I$23,5,4)&$A64,Lista_Ubigeo!$J:$K,2,0),\" \")","v":" "},{"$f":"IFERROR(VLOOKUP(MID(J$23,5,4)&$A64,Lista_Ubigeo!$J:$K,2,0),\" \")","v":" "},{"$f":"IFERROR(VLOOKUP(MID(K$23,5,4)&$A64,Lista_Ubigeo!$J:$K,2,0),\" \")","v":" "},{"$f":"IFERROR(VLOOKUP(MID(L$23,5,4)&$A64,Lista_Ubigeo!$J:$K,2,0),\" \")","v":" "},{"$f":"IFERROR(VLOOKUP(MID(M$23,5,4)&$A64,Lista_Ubigeo!$J:$K,2,0),\" \")","v":" "},{"$f":"IFERROR(VLOOKUP(MID(N$23,5,4)&$A64,Lista_Ubigeo!$J:$K,2,0),\" \")","v":" "},{"$f":"IFERROR(VLOOKUP(MID(O$23,5,4)&$A64,Lista_Ubigeo!$J:$K,2,0),\" \")","v":" "},{"$f":"IFERROR(VLOOKUP(MID(P$23,5,4)&$A64,Lista_Ubigeo!$J:$K,2,0),\" \")","v":" "},{"$f":"IFERROR(VLOOKUP(MID(Q$23,5,4)&$A64,Lista_Ubigeo!$J:$K,2,0),\" \")","v":" "},{"$f":"IFERROR(VLOOKUP(MID(R$23,5,4)&$A64,Lista_Ubigeo!$J:$K,2,0),\" \")","v":" "},{"$f":"IFERROR(VLOOKUP(MID(S$23,5,4)&$A64,Lista_Ubigeo!$J:$K,2,0),\" \")","v":" "},{"$f":"IFERROR(VLOOKUP(MID(T$23,5,4)&$A64,Lista_Ubigeo!$J:$K,2,0),\" \")","v":" "},{"$f":"IFERROR(VLOOKUP(MID(U$23,5,4)&$A64,Lista_Ubigeo!$J:$K,2,0),\" \")","v":" "},{"$f":"IFERROR(VLOOKUP(MID(V$23,5,4)&$A64,Lista_Ubigeo!$J:$K,2,0),\" \")","v":" "},{"$f":"IFERROR(VLOOKUP(MID(W$23,5,4)&$A64,Lista_Ubigeo!$J:$K,2,0),\" \")","v":" "},{"$f":"IFERROR(VLOOKUP(MID(X$23,5,4)&$A64,Lista_Ubigeo!$J:$K,2,0),\" \")","v":" "},{"$f":"IFERROR(VLOOKUP(MID(Y$23,5,4)&$A64,Lista_Ubigeo!$J:$K,2,0),\" \")","v":" "},{"$f":"IFERROR(VLOOKUP(MID(Z$23,5,4)&$A64,Lista_Ubigeo!$J:$K,2,0),\" \")","v":" "},{"$f":"IFERROR(VLOOKUP(MID(AA$23,5,4)&$A64,Lista_Ubigeo!$J:$K,2,0),\" \")","v":" "},{"$f":"IFERROR(VLOOKUP(MID(AB$23,5,4)&$A64,Lista_Ubigeo!$J:$K,2,0),\" \")","v":" "},{"$f":"IFERROR(VLOOKUP(MID(AC$23,5,4)&$A64,Lista_Ubigeo!$J:$K,2,0),\" \")","v":" "},{"$f":"IFERROR(VLOOKUP(MID(AD$23,5,4)&$A64,Lista_Ubigeo!$J:$K,2,0),\" \")","v":" "},{"$f":"IFERROR(VLOOKUP(MID(AE$23,5,4)&$A64,Lista_Ubigeo!$J:$K,2,0),\" \")","v":" "},{"$f":"IFERROR(VLOOKUP(MID(AF$23,5,4)&$A64,Lista_Ubigeo!$J:$K,2,0),\" \")","v":" "},{"$f":"IFERROR(VLOOKUP(MID(AG$23,5,4)&$A64,Lista_Ubigeo!$J:$K,2,0),\" \")","v":" "},{"$f":"IFERROR(VLOOKUP(MID(AH$23,5,4)&$A64,Lista_Ubigeo!$J:$K,2,0),\" \")","v":" "},{"$f":"IFERROR(VLOOKUP(MID(AI$23,5,4)&$A64,Lista_Ubigeo!$J:$K,2,0),\" \")","v":" "},{"$f":"IFERROR(VLOOKUP(MID(AJ$23,5,4)&$A64,Lista_Ubigeo!$J:$K,2,0),\" \")","v":" "},{"$f":"IFERROR(VLOOKUP(MID(AK$23,5,4)&$A64,Lista_Ubigeo!$J:$K,2,0),\" \")","v":" "},{"$f":"IFERROR(VLOOKUP(MID(AL$23,5,4)&$A64,Lista_Ubigeo!$J:$K,2,0),\" \")","v":" "},{"$f":"IFERROR(VLOOKUP(MID(AM$23,5,4)&$A64,Lista_Ubigeo!$J:$K,2,0),\" \")","v":" "},{"$f":"IFERROR(VLOOKUP(MID(AN$23,5,4)&$A64,Lista_Ubigeo!$J:$K,2,0),\" \")","v":" "},{"$f":"IFERROR(VLOOKUP(MID(AO$23,5,4)&$A64,Lista_Ubigeo!$J:$K,2,0),\" \")","v":" "},{"$f":"IFERROR(VLOOKUP(MID(AP$23,5,4)&$A64,Lista_Ubigeo!$J:$K,2,0),\" \")","v":" "},{"$f":"IFERROR(VLOOKUP(MID(AQ$23,4,4)&$A64,Lista_Ubigeo!$J:$K,2,0),\" \")","v":" "},{"$f":"IFERROR(VLOOKUP(MID(AR$23,5,4)&$A64,Lista_Ubigeo!$J:$K,2,0),\" \")","v":" "},{"$f":"IFERROR(VLOOKUP(MID(AS$23,5,4)&$A64,Lista_Ubigeo!$J:$K,2,0),\" \")","v":" "},{"$f":"IFERROR(VLOOKUP(MID(AT$23,5,4)&$A64,Lista_Ubigeo!$J:$K,2,0),\" \")","v":" "},{"$f":"IFERROR(VLOOKUP(MID(AU$23,5,4)&$A64,Lista_Ubigeo!$J:$K,2,0),\" \")","v":" "},{"$f":"IFERROR(VLOOKUP(MID(AV$23,5,4)&$A64,Lista_Ubigeo!$J:$K,2,0),\" \")","v":" "},{"$f":"IFERROR(VLOOKUP(MID(AW$23,5,4)&$A64,Lista_Ubigeo!$J:$K,2,0),\" \")","v":" "},{"$f":"IFERROR(VLOOKUP(MID(AX$23,5,4)&$A64,Lista_Ubigeo!$J:$K,2,0),\" \")","v":" "},{"$f":"IFERROR(VLOOKUP(MID(AY$23,5,4)&$A64,Lista_Ubigeo!$J:$K,2,0),\" \")","v":" "},{"$f":"IFERROR(VLOOKUP(MID(AZ$23,5,4)&$A64,Lista_Ubigeo!$J:$K,2,0),\" \")","v":" "},{"$f":"IFERROR(VLOOKUP(MID(BA$23,5,4)&$A64,Lista_Ubigeo!$J:$K,2,0),\" \")","v":" "},{"$f":"IFERROR(VLOOKUP(MID(BB$23,5,4)&$A64,Lista_Ubigeo!$J:$K,2,0),\" \")","v":" "},{"$f":"IFERROR(VLOOKUP(MID(BC$23,5,4)&$A64,Lista_Ubigeo!$J:$K,2,0),\" \")","v":" "},{"$f":"IFERROR(VLOOKUP(MID(BD$23,5,4)&$A64,Lista_Ubigeo!$J:$K,2,0),\" \")","v":" "},{"$f":"IFERROR(VLOOKUP(MID(BE$23,5,4)&$A64,Lista_Ubigeo!$J:$K,2,0),\" \")","v":" "},{"$f":"IFERROR(VLOOKUP(MID(BF$23,5,4)&$A64,Lista_Ubigeo!$J:$K,2,0),\" \")","v":" "},{"$f":"IFERROR(VLOOKUP(MID(BG$23,5,4)&$A64,Lista_Ubigeo!$J:$K,2,0),\" \")","v":" "},{"$f":"IFERROR(VLOOKUP(MID(BH$23,5,4)&$A64,Lista_Ubigeo!$J:$K,2,0),\" \")","v":" "},{"$f":"IFERROR(VLOOKUP(MID(BI$23,5,4)&$A64,Lista_Ubigeo!$J:$K,2,0),\" \")","v":" "},{"$f":"IFERROR(VLOOKUP(MID(BJ$23,5,4)&$A64,Lista_Ubigeo!$J:$K,2,0),\" \")","v":" "},{"$f":"IFERROR(VLOOKUP(MID(BK$23,5,4)&$A64,Lista_Ubigeo!$J:$K,2,0),\" \")","v":" "},{"$f":"IFERROR(VLOOKUP(MID(BL$23,5,4)&$A64,Lista_Ubigeo!$J:$K,2,0),\" \")","v":" "},{"$f":"IFERROR(VLOOKUP(MID(BM$23,5,4)&$A64,Lista_Ubigeo!$J:$K,2,0),\" \")","v":" "},{"$f":"IFERROR(VLOOKUP(MID(BN$23,5,4)&$A64,Lista_Ubigeo!$J:$K,2,0),\" \")","v":" "},{"$f":"IFERROR(VLOOKUP(MID(BO$23,5,4)&$A64,Lista_Ubigeo!$J:$K,2,0),\" \")","v":" "},{"$f":"IFERROR(VLOOKUP(MID(BP$23,5,4)&$A64,Lista_Ubigeo!$J:$K,2,0),\" \")","v":" "},{"$f":"IFERROR(VLOOKUP(MID(BQ$23,5,4)&$A64,Lista_Ubigeo!$J:$K,2,0),\" \")","v":" "},{"$f":"IFERROR(VLOOKUP(MID(BR$23,5,4)&$A64,Lista_Ubigeo!$J:$K,2,0),\" \")","v":" "},{"$f":"IFERROR(VLOOKUP(MID(BS$23,5,4)&$A64,Lista_Ubigeo!$J:$K,2,0),\" \")","v":" "},{"$f":"IFERROR(VLOOKUP(MID(BT$23,5,4)&$A64,Lista_Ubigeo!$J:$K,2,0),\" \")","v":" "},{"$f":"IFERROR(VLOOKUP(MID(BU$23,5,4)&$A64,Lista_Ubigeo!$J:$K,2,0),\" \")","v":" "},{"$f":"IFERROR(VLOOKUP(MID(BV$23,5,4)&$A64,Lista_Ubigeo!$J:$K,2,0),\" \")","v":" "},{"$f":"IFERROR(VLOOKUP(MID(BW$23,5,4)&$A64,Lista_Ubigeo!$J:$K,2,0),\" \")","v":" "},{"$f":"IFERROR(VLOOKUP(MID(BX$23,5,4)&$A64,Lista_Ubigeo!$J:$K,2,0),\" \")","v":" "},{"$f":"IFERROR(VLOOKUP(MID(BY$23,4,4)&$A64,Lista_Ubigeo!$J:$K,2,0),\" \")","v":" "},{"$f":"IFERROR(VLOOKUP(MID(BZ$23,5,4)&$A64,Lista_Ubigeo!$J:$K,2,0),\" \")","v":" "},{"$f":"IFERROR(VLOOKUP(MID(CA$23,5,4)&$A64,Lista_Ubigeo!$J:$K,2,0),\" \")","v":" "},{"$f":"IFERROR(VLOOKUP(MID(CB$23,5,4)&$A64,Lista_Ubigeo!$J:$K,2,0),\" \")","v":" "},{"$f":"IFERROR(VLOOKUP(MID(CC$23,5,4)&$A64,Lista_Ubigeo!$J:$K,2,0),\" \")","v":" "},{"$f":"IFERROR(VLOOKUP(MID(CD$23,5,4)&$A64,Lista_Ubigeo!$J:$K,2,0),\" \")","v":" "},{"$f":"IFERROR(VLOOKUP(MID(CE$23,5,4)&$A64,Lista_Ubigeo!$J:$K,2,0),\" \")","v":" "},{"$f":"IFERROR(VLOOKUP(MID(CF$23,5,4)&$A64,Lista_Ubigeo!$J:$K,2,0),\" \")","v":" "},{"$f":"IFERROR(VLOOKUP(MID(CG$23,5,4)&$A64,Lista_Ubigeo!$J:$K,2,0),\" \")","v":" "},{"$f":"IFERROR(VLOOKUP(MID(CH$23,5,4)&$A64,Lista_Ubigeo!$J:$K,2,0),\" \")","v":" "},{"$f":"IFERROR(VLOOKUP(MID(CI$23,5,4)&$A64,Lista_Ubigeo!$J:$K,2,0),\" \")","v":" "},{"$f":"IFERROR(VLOOKUP(MID(CJ$23,5,4)&$A64,Lista_Ubigeo!$J:$K,2,0),\" \")","v":" "},{"$f":"IFERROR(VLOOKUP(MID(CK$23,5,4)&$A64,Lista_Ubigeo!$J:$K,2,0),\" \")","v":" "},{"$f":"IFERROR(VLOOKUP(MID(CL$23,5,4)&$A64,Lista_Ubigeo!$J:$K,2,0),\" \")","v":" "},{"$f":"IFERROR(VLOOKUP(MID(CM$23,5,4)&$A75,Lista_Ubigeo!$J:$K,2,0),\" \")","v":" "},{"$f":"IFERROR(VLOOKUP(MID(CN$23,5,4)&$A64,Lista_Ubigeo!$J:$K,2,0),\" \")","v":" "},{"$f":"IFERROR(VLOOKUP(MID(CO$23,5,4)&$A64,Lista_Ubigeo!$J:$K,2,0),\" \")","v":" "},{"$f":"IFERROR(VLOOKUP(MID(CP$23,5,4)&$A64,Lista_Ubigeo!$J:$K,2,0),\" \")","v":" "},{"$f":"IFERROR(VLOOKUP(MID(CQ$23,5,4)&$A64,Lista_Ubigeo!$J:$K,2,0),\" \")","v":" "},{"$f":"IFERROR(VLOOKUP(MID(CR$23,5,4)&$A64,Lista_Ubigeo!$J:$K,2,0),\" \")","v":" "},{"$f":"IFERROR(VLOOKUP(MID(CS$23,5,4)&$A64,Lista_Ubigeo!$J:$K,2,0),\" \")","v":" "},{"$f":"IFERROR(VLOOKUP(MID(CT$23,5,4)&$A64,Lista_Ubigeo!$J:$K,2,0),\" \")","v":" "},{"$f":"IFERROR(VLOOKUP(MID(CU$23,5,4)&$A64,Lista_Ubigeo!$J:$K,2,0),\" \")","v":" "},{"$f":"IFERROR(VLOOKUP(MID(CV$23,5,4)&$A64,Lista_Ubigeo!$J:$K,2,0),\" \")","v":" "},{"$f":"IFERROR(VLOOKUP(MID(CW$23,5,4)&$A64,Lista_Ubigeo!$J:$K,2,0),\" \")","v":" "},{"$f":"IFERROR(VLOOKUP(MID(CX$23,5,4)&$A64,Lista_Ubigeo!$J:$K,2,0),\" \")","v":" "},{"$f":"IFERROR(VLOOKUP(MID(CY$23,5,4)&$A64,Lista_Ubigeo!$J:$K,2,0),\" \")","v":" "},{"$f":"IFERROR(VLOOKUP(MID(CZ$23,5,4)&$A64,Lista_Ubigeo!$J:$K,2,0),\" \")","v":" "},{"$f":"IFERROR(VLOOKUP(MID(DA$23,5,4)&$A64,Lista_Ubigeo!$J:$K,2,0),\" \")","v":" "},{"$f":"IFERROR(VLOOKUP(MID(DB$23,5,4)&$A64,Lista_Ubigeo!$J:$K,2,0),\" \")","v":" "},{"$f":"IFERROR(VLOOKUP(MID(DC$23,5,4)&$A64,Lista_Ubigeo!$J:$K,2,0),\" \")","v":" "},{"$f":"IFERROR(VLOOKUP(MID(DD$23,5,4)&$A64,Lista_Ubigeo!$J:$K,2,0),\" \")","v":" "},{"$f":"IFERROR(VLOOKUP(MID(DE$23,5,4)&$A64,Lista_Ubigeo!$J:$K,2,0),\" \")","v":" "},{"$f":"IFERROR(VLOOKUP(MID(DF$23,5,4)&$A64,Lista_Ubigeo!$J:$K,2,0),\" \")","v":" "},{"$f":"IFERROR(VLOOKUP(MID(DG$23,5,4)&$A64,Lista_Ubigeo!$J:$K,2,0),\" \")","v":" "},{"$f":"IFERROR(VLOOKUP(MID(DH$23,5,4)&$A64,Lista_Ubigeo!$J:$K,2,0),\" \")","v":" "},{"$f":"IFERROR(VLOOKUP(MID(DI$23,5,4)&$A64,Lista_Ubigeo!$J:$K,2,0),\" \")","v":" "},{"$f":"IFERROR(VLOOKUP(MID(DJ$23,5,4)&$A64,Lista_Ubigeo!$J:$K,2,0),\" \")","v":" "},{"$f":"IFERROR(VLOOKUP(MID(DK$23,5,4)&$A64,Lista_Ubigeo!$J:$K,2,0),\" \")","v":" "},{"$f":"IFERROR(VLOOKUP(MID(DL$23,5,4)&$A64,Lista_Ubigeo!$J:$K,2,0),\" \")","v":" "},{"$f":"IFERROR(VLOOKUP(MID(DM$23,5,4)&$A64,Lista_Ubigeo!$J:$K,2,0),\" \")","v":" "},{"$f":"IFERROR(VLOOKUP(MID(DN$23,5,4)&$A64,Lista_Ubigeo!$J:$K,2,0),\" \")","v":" "},{"$f":"IFERROR(VLOOKUP(MID(DO$23,5,4)&$A65,Lista_Ubigeo!$J:$K,2,0),\" \")","v":" "},{"$f":"IFERROR(VLOOKUP(MID(DP$23,5,4)&$A64,Lista_Ubigeo!$J:$K,2,0),\" \")","v":" "},{"$f":"IFERROR(VLOOKUP(MID(DQ$23,5,4)&$A64,Lista_Ubigeo!$J:$K,2,0),\" \")","v":" "},{"$f":"IFERROR(VLOOKUP(MID(DR$23,5,4)&$A64,Lista_Ubigeo!$J:$K,2,0),\" \")","v":" "},{"$f":"IFERROR(VLOOKUP(MID(DS$23,5,4)&$A64,Lista_Ubigeo!$J:$K,2,0),\" \")","v":" "},null,null,{"$f":"IFERROR(VLOOKUP(MID(DV$23,5,4)&$A64,Lista_Ubigeo!$J:$K,2,0),\" \")","v":" "},{"$f":"IFERROR(VLOOKUP(MID(DW$23,5,4)&$A64,Lista_Ubigeo!$J:$K,2,0),\" \")","v":" "},{"$f":"IFERROR(VLOOKUP(MID(DX$23,5,4)&$A64,Lista_Ubigeo!$J:$K,2,0),\" \")","v":" "},{"$f":"IFERROR(VLOOKUP(MID(DY$23,5,4)&$A64,Lista_Ubigeo!$J:$K,2,0),\" \")","v":"SURQUILLO"},{"$f":"IFERROR(VLOOKUP(MID(DZ$23,5,4)&$A64,Lista_Ubigeo!$J:$K,2,0),\" \")","v":" "},{"$f":"IFERROR(VLOOKUP(MID(EA$23,5,4)&$A64,Lista_Ubigeo!$J:$K,2,0),\" \")","v":" "},{"$f":"IFERROR(VLOOKUP(MID(EB$23,5,4)&$A64,Lista_Ubigeo!$J:$K,2,0),\" \")","v":" "},{"$f":"IFERROR(VLOOKUP(MID(EC$23,5,4)&$A64,Lista_Ubigeo!$J:$K,2,0),\" \")","v":" "},{"$f":"IFERROR(VLOOKUP(MID(ED$23,5,4)&$A64,Lista_Ubigeo!$J:$K,2,0),\" \")","v":" "},{"$f":"IFERROR(VLOOKUP(MID(EE$23,5,4)&$A64,Lista_Ubigeo!$J:$K,2,0),\" \")","v":" "},{"$f":"IFERROR(VLOOKUP(MID(EF$23,5,4)&$A64,Lista_Ubigeo!$J:$K,2,0),\" \")","v":" "},{"$f":"IFERROR(VLOOKUP(MID(EG$23,5,4)&$A64,Lista_Ubigeo!$J:$K,2,0),\" \")","v":" "},{"$f":"IFERROR(VLOOKUP(MID(EH$23,5,4)&$A64,Lista_Ubigeo!$J:$K,2,0),\" \")","v":" "},{"$f":"IFERROR(VLOOKUP(MID(EI$23,5,4)&$A64,Lista_Ubigeo!$J:$K,2,0),\" \")","v":" "},{"$f":"IFERROR(VLOOKUP(MID(EJ$23,5,4)&$A69,Lista_Ubigeo!$J:$K,2,0),\" \")","v":" "},{"$f":"IFERROR(VLOOKUP(MID(EK$23,5,4)&$A64,Lista_Ubigeo!$J:$K,2,0),\" \")","v":" "},{"$f":"IFERROR(VLOOKUP(MID(EL$23,5,4)&$A64,Lista_Ubigeo!$J:$K,2,0),\" \")","v":" "},{"$f":"IFERROR(VLOOKUP(MID(EM$23,5,4)&$A64,Lista_Ubigeo!$J:$K,2,0),\" \")","v":" "},{"$f":"IFERROR(VLOOKUP(MID(EN$23,5,4)&$A64,Lista_Ubigeo!$J:$K,2,0),\" \")","v":" "},{"$f":"IFERROR(VLOOKUP(MID(EO$23,5,4)&$A64,Lista_Ubigeo!$J:$K,2,0),\" \")","v":" "},{"$f":"IFERROR(VLOOKUP(MID(EP$23,5,4)&$A64,Lista_Ubigeo!$J:$K,2,0),\" \")","v":" "},{"$f":"IFERROR(VLOOKUP(MID(EQ$23,5,4)&$A64,Lista_Ubigeo!$J:$K,2,0),\" \")","v":" "},{"$f":"IFERROR(VLOOKUP(MID(ER$23,5,4)&$A64,Lista_Ubigeo!$J:$K,2,0),\" \")","v":" "},{"$f":"IFERROR(VLOOKUP(MID(ES$23,5,4)&$A64,Lista_Ubigeo!$J:$K,2,0),\" \")","v":" "},{"$f":"IFERROR(VLOOKUP(MID(ET$23,5,4)&$A64,Lista_Ubigeo!$J:$K,2,0),\" \")","v":" "},{"$f":"IFERROR(VLOOKUP(MID(EU$23,5,4)&$A64,Lista_Ubigeo!$J:$K,2,0),\" \")","v":" "},{"$f":"IFERROR(VLOOKUP(MID(EV$23,5,4)&$A64,Lista_Ubigeo!$J:$K,2,0),\" \")","v":" "},{"$f":"IFERROR(VLOOKUP(MID(EW$23,5,4)&$A64,Lista_Ubigeo!$J:$K,2,0),\" \")","v":" "},{"$f":"IFERROR(VLOOKUP(MID(EX$23,5,4)&$A64,Lista_Ubigeo!$J:$K,2,0),\" \")","v":" "},{"$f":"IFERROR(VLOOKUP(MID(EY$23,5,4)&$A64,Lista_Ubigeo!$J:$K,2,0),\" \")","v":" "},{"$f":"IFERROR(VLOOKUP(MID(EZ$23,5,4)&$A67,Lista_Ubigeo!$J:$K,2,0),\" \")","v":" "},{"$f":"IFERROR(VLOOKUP(MID(FA$23,5,4)&$A64,Lista_Ubigeo!$J:$K,2,0),\" \")","v":" "},{"$f":"IFERROR(VLOOKUP(MID(FB$23,5,4)&$A64,Lista_Ubigeo!$J:$K,2,0),\" \")","v":" "},{"$f":"IFERROR(VLOOKUP(MID(FC$23,5,4)&$A64,Lista_Ubigeo!$J:$K,2,0),\" \")","v":" "},{"$f":"IFERROR(VLOOKUP(MID(FD$23,5,4)&$A64,Lista_Ubigeo!$J:$K,2,0),\" \")","v":" "},{"$f":"IFERROR(VLOOKUP(MID(FE$23,5,4)&$A64,Lista_Ubigeo!$J:$K,2,0),\" \")","v":" "},{"$f":"IFERROR(VLOOKUP(MID(FF$23,5,4)&$A64,Lista_Ubigeo!$J:$K,2,0),\" \")","v":" "},{"$f":"IFERROR(VLOOKUP(MID(FG$23,5,4)&$A64,Lista_Ubigeo!$J:$K,2,0),\" \")","v":" "},{"$f":"IFERROR(VLOOKUP(MID(FH$23,5,4)&$A64,Lista_Ubigeo!$J:$K,2,0),\" \")","v":" "},{"$f":"IFERROR(VLOOKUP(MID(FI$23,5,4)&$A64,Lista_Ubigeo!$J:$K,2,0),\" \")","v":" "},{"$f":"IFERROR(VLOOKUP(MID(FJ$23,5,4)&$A64,Lista_Ubigeo!$J:$K,2,0),\" \")","v":" "},{"$f":"IFERROR(VLOOKUP(MID(FK$23,5,4)&$A64,Lista_Ubigeo!$J:$K,2,0),\" \")","v":" "},{"$f":"IFERROR(VLOOKUP(MID(FL$23,5,4)&$A64,Lista_Ubigeo!$J:$K,2,0),\" \")","v":" "},{"$f":"IFERROR(VLOOKUP(MID(FM$23,5,4)&$A64,Lista_Ubigeo!$J:$K,2,0),\" \")","v":" "},{"$f":"IFERROR(VLOOKUP(MID(FN$23,5,4)&$A64,Lista_Ubigeo!$J:$K,2,0),\" \")","v":" "},{"$f":"IFERROR(VLOOKUP(MID(FO$23,5,4)&$A64,Lista_Ubigeo!$J:$K,2,0),\" \")","v":" "},{"$f":"IFERROR(VLOOKUP(MID(FP$23,5,4)&$A64,Lista_Ubigeo!$J:$K,2,0),\" \")","v":" "},{"$f":"IFERROR(VLOOKUP(MID(FQ$23,5,4)&$A64,Lista_Ubigeo!$J:$K,2,0),\" \")","v":" "},{"$f":"IFERROR(VLOOKUP(MID(FR$23,5,4)&$A64,Lista_Ubigeo!$J:$K,2,0),\" \")","v":" "},{"$f":"IFERROR(VLOOKUP(MID(FS$23,5,4)&$A64,Lista_Ubigeo!$J:$K,2,0),\" \")","v":" "},{"$f":"IFERROR(VLOOKUP(MID(FT$23,5,4)&$A64,Lista_Ubigeo!$J:$K,2,0),\" \")","v":" "},{"$f":"IFERROR(VLOOKUP(MID(FU$23,5,4)&$A64,Lista_Ubigeo!$J:$K,2,0),\" \")","v":" "},{"$f":"IFERROR(VLOOKUP(MID(FV$23,5,4)&$A64,Lista_Ubigeo!$J:$K,2,0),\" \")","v":" "},{"$f":"IFERROR(VLOOKUP(MID(FW$23,5,4)&$A64,Lista_Ubigeo!$J:$K,2,0),\" \")","v":" "},{"$f":"IFERROR(VLOOKUP(MID(FX$23,5,4)&$A64,Lista_Ubigeo!$J:$K,2,0),\" \")","v":" "},{"$f":"IFERROR(VLOOKUP(MID(FY$23,5,4)&$A64,Lista_Ubigeo!$J:$K,2,0),\" \")","v":" "},{"$f":"IFERROR(VLOOKUP(MID(FZ$23,5,4)&$A64,Lista_Ubigeo!$J:$K,2,0),\" \")","v":" "},{"$f":"IFERROR(VLOOKUP(MID(GA$23,5,4)&$A64,Lista_Ubigeo!$J:$K,2,0),\" \")","v":" "},{"$f":"IFERROR(VLOOKUP(MID(GB$23,5,4)&$A64,Lista_Ubigeo!$J:$K,2,0),\" \")","v":" "},{"$f":"IFERROR(VLOOKUP(MID(GC$23,5,4)&$A64,Lista_Ubigeo!$J:$K,2,0),\" \")","v":" "},{"$f":"IFERROR(VLOOKUP(MID(GD$23,5,4)&$A64,Lista_Ubigeo!$J:$K,2,0),\" \")","v":" "},{"$f":"IFERROR(VLOOKUP(MID(GE$23,5,4)&$A64,Lista_Ubigeo!$J:$K,2,0),\" \")","v":" "},{"$f":"IFERROR(VLOOKUP(MID(GF$23,5,4)&$A64,Lista_Ubigeo!$J:$K,2,0),\" \")","v":" "},{"$f":"IFERROR(VLOOKUP(MID(GG$23,5,4)&$A64,Lista_Ubigeo!$J:$K,2,0),\" \")","v":" "},{"$f":"IFERROR(VLOOKUP(MID(GH$23,5,4)&$A64,Lista_Ubigeo!$J:$K,2,0),\" \")","v":" "},{"$f":"IFERROR(VLOOKUP(MID(GI$23,5,4)&$A64,Lista_Ubigeo!$J:$K,2,0),\" \")","v":" "},{"$f":"IFERROR(VLOOKUP(MID(GJ$23,5,4)&$A64,Lista_Ubigeo!$J:$K,2,0),\" \")","v":" "},{"$f":"IFERROR(VLOOKUP(MID(GK$23,5,4)&$A64,Lista_Ubigeo!$J:$K,2,0),\" \")","v":" "},{"$f":"IFERROR(VLOOKUP(MID(GL$23,5,4)&$A64,Lista_Ubigeo!$J:$K,2,0),\" \")","v":" "},{"$f":"IFERROR(VLOOKUP(MID(GM$23,5,4)&$A64,Lista_Ubigeo!$J:$K,2,0),\" \")","v":" "},{"$f":"IFERROR(VLOOKUP(MID(GN$23,5,4)&$A64,Lista_Ubigeo!$J:$K,2,0),\" \")","v":" "},{"$f":"IFERROR(VLOOKUP(MID(GO$23,5,4)&$A64,Lista_Ubigeo!$J:$K,2,0),\" \")","v":" "},{"$f":"IFERROR(VLOOKUP(MID(GP$23,5,4)&$A64,Lista_Ubigeo!$J:$K,2,0),\" \")","v":" "}]
["42",{"$f":"IFERROR(VLOOKUP(MID(B$23,5,4)&$A65,Lista_Ubigeo!$J:$K,2,0),\" \")","v":" "},{"$f":"IFERROR(VLOOKUP(MID(C$23,5,4)&$A65,Lista_Ubigeo!$J:$K,2,0),\" \")","v":" "},{"$f":"IFERROR(VLOOKUP(MID(D$23,5,4)&$A65,Lista_Ubigeo!$J:$K,2,0),\" \")","v":" "},{"$f":"IFERROR(VLOOKUP(MID(E$23,5,4)&$A65,Lista_Ubigeo!$J:$K,2,0),\" \")","v":" "},{"$f":"IFERROR(VLOOKUP(MID(F$23,5,4)&$A65,Lista_Ubigeo!$J:$K,2,0),\" \")","v":" "},{"$f":"IFERROR(VLOOKUP(MID(G$23,5,4)&$A65,Lista_Ubigeo!$J:$K,2,0),\" \")","v":" "},{"$f":"IFERROR(VLOOKUP(MID(H$23,5,4)&$A65,Lista_Ubigeo!$J:$K,2,0),\" \")","v":" "},{"$f":"IFERROR(VLOOKUP(MID(I$23,5,4)&$A65,Lista_Ubigeo!$J:$K,2,0),\" \")","v":" "},{"$f":"IFERROR(VLOOKUP(MID(J$23,5,4)&$A65,Lista_Ubigeo!$J:$K,2,0),\" \")","v":" "},{"$f":"IFERROR(VLOOKUP(MID(K$23,5,4)&$A65,Lista_Ubigeo!$J:$K,2,0),\" \")","v":" "},{"$f":"IFERROR(VLOOKUP(MID(L$23,5,4)&$A65,Lista_Ubigeo!$J:$K,2,0),\" \")","v":" "},{"$f":"IFERROR(VLOOKUP(MID(M$23,5,4)&$A65,Lista_Ubigeo!$J:$K,2,0),\" \")","v":" "},{"$f":"IFERROR(VLOOKUP(MID(N$23,5,4)&$A65,Lista_Ubigeo!$J:$K,2,0),\" \")","v":" "},{"$f":"IFERROR(VLOOKUP(MID(O$23,5,4)&$A65,Lista_Ubigeo!$J:$K,2,0),\" \")","v":" "},{"$f":"IFERROR(VLOOKUP(MID(P$23,5,4)&$A65,Lista_Ubigeo!$J:$K,2,0),\" \")","v":" "},{"$f":"IFERROR(VLOOKUP(MID(Q$23,5,4)&$A65,Lista_Ubigeo!$J:$K,2,0),\" \")","v":" "},{"$f":"IFERROR(VLOOKUP(MID(R$23,5,4)&$A65,Lista_Ubigeo!$J:$K,2,0),\" \")","v":" "},{"$f":"IFERROR(VLOOKUP(MID(S$23,5,4)&$A65,Lista_Ubigeo!$J:$K,2,0),\" \")","v":" "},{"$f":"IFERROR(VLOOKUP(MID(T$23,5,4)&$A65,Lista_Ubigeo!$J:$K,2,0),\" \")","v":" "},{"$f":"IFERROR(VLOOKUP(MID(U$23,5,4)&$A65,Lista_Ubigeo!$J:$K,2,0),\" \")","v":" "},{"$f":"IFERROR(VLOOKUP(MID(V$23,5,4)&$A65,Lista_Ubigeo!$J:$K,2,0),\" \")","v":" "},{"$f":"IFERROR(VLOOKUP(MID(W$23,5,4)&$A65,Lista_Ubigeo!$J:$K,2,0),\" \")","v":" "},{"$f":"IFERROR(VLOOKUP(MID(X$23,5,4)&$A65,Lista_Ubigeo!$J:$K,2,0),\" \")","v":" "},{"$f":"IFERROR(VLOOKUP(MID(Y$23,5,4)&$A65,Lista_Ubigeo!$J:$K,2,0),\" \")","v":" "},{"$f":"IFERROR(VLOOKUP(MID(Z$23,5,4)&$A65,Lista_Ubigeo!$J:$K,2,0),\" \")","v":" "},{"$f":"IFERROR(VLOOKUP(MID(AA$23,5,4)&$A65,Lista_Ubigeo!$J:$K,2,0),\" \")","v":" "},{"$f":"IFERROR(VLOOKUP(MID(AB$23,5,4)&$A65,Lista_Ubigeo!$J:$K,2,0),\" \")","v":" "},{"$f":"IFERROR(VLOOKUP(MID(AC$23,5,4)&$A65,Lista_Ubigeo!$J:$K,2,0),\" \")","v":" "},{"$f":"IFERROR(VLOOKUP(MID(AD$23,5,4)&$A65,Lista_Ubigeo!$J:$K,2,0),\" \")","v":" "},{"$f":"IFERROR(VLOOKUP(MID(AE$23,5,4)&$A65,Lista_Ubigeo!$J:$K,2,0),\" \")","v":" "},{"$f":"IFERROR(VLOOKUP(MID(AF$23,5,4)&$A65,Lista_Ubigeo!$J:$K,2,0),\" \")","v":" "},{"$f":"IFERROR(VLOOKUP(MID(AG$23,5,4)&$A65,Lista_Ubigeo!$J:$K,2,0),\" \")","v":" "},{"$f":"IFERROR(VLOOKUP(MID(AH$23,5,4)&$A65,Lista_Ubigeo!$J:$K,2,0),\" \")","v":" "},{"$f":"IFERROR(VLOOKUP(MID(AI$23,5,4)&$A65,Lista_Ubigeo!$J:$K,2,0),\" \")","v":" "},{"$f":"IFERROR(VLOOKUP(MID(AJ$23,5,4)&$A65,Lista_Ubigeo!$J:$K,2,0),\" \")","v":" "},{"$f":"IFERROR(VLOOKUP(MID(AK$23,5,4)&$A65,Lista_Ubigeo!$J:$K,2,0),\" \")","v":" "},{"$f":"IFERROR(VLOOKUP(MID(AL$23,5,4)&$A65,Lista_Ubigeo!$J:$K,2,0),\" \")","v":" "},{"$f":"IFERROR(VLOOKUP(MID(AM$23,5,4)&$A65,Lista_Ubigeo!$J:$K,2,0),\" \")","v":" "},{"$f":"IFERROR(VLOOKUP(MID(AN$23,5,4)&$A65,Lista_Ubigeo!$J:$K,2,0),\" \")","v":" "},{"$f":"IFERROR(VLOOKUP(MID(AO$23,5,4)&$A65,Lista_Ubigeo!$J:$K,2,0),\" \")","v":" "},{"$f":"IFERROR(VLOOKUP(MID(AP$23,5,4)&$A65,Lista_Ubigeo!$J:$K,2,0),\" \")","v":" "},{"$f":"IFERROR(VLOOKUP(MID(AQ$23,4,4)&$A65,Lista_Ubigeo!$J:$K,2,0),\" \")","v":" "},{"$f":"IFERROR(VLOOKUP(MID(AR$23,5,4)&$A65,Lista_Ubigeo!$J:$K,2,0),\" \")","v":" "},{"$f":"IFERROR(VLOOKUP(MID(AS$23,5,4)&$A65,Lista_Ubigeo!$J:$K,2,0),\" \")","v":" "},{"$f":"IFERROR(VLOOKUP(MID(AT$23,5,4)&$A65,Lista_Ubigeo!$J:$K,2,0),\" \")","v":" "},{"$f":"IFERROR(VLOOKUP(MID(AU$23,5,4)&$A65,Lista_Ubigeo!$J:$K,2,0),\" \")","v":" "},{"$f":"IFERROR(VLOOKUP(MID(AV$23,5,4)&$A65,Lista_Ubigeo!$J:$K,2,0),\" \")","v":" "},{"$f":"IFERROR(VLOOKUP(MID(AW$23,5,4)&$A65,Lista_Ubigeo!$J:$K,2,0),\" \")","v":" "},{"$f":"IFERROR(VLOOKUP(MID(AX$23,5,4)&$A65,Lista_Ubigeo!$J:$K,2,0),\" \")","v":" "},{"$f":"IFERROR(VLOOKUP(MID(AY$23,5,4)&$A65,Lista_Ubigeo!$J:$K,2,0),\" \")","v":" "},{"$f":"IFERROR(VLOOKUP(MID(AZ$23,5,4)&$A65,Lista_Ubigeo!$J:$K,2,0),\" \")","v":" "},{"$f":"IFERROR(VLOOKUP(MID(BA$23,5,4)&$A65,Lista_Ubigeo!$J:$K,2,0),\" \")","v":" "},{"$f":"IFERROR(VLOOKUP(MID(BB$23,5,4)&$A65,Lista_Ubigeo!$J:$K,2,0),\" \")","v":" "},{"$f":"IFERROR(VLOOKUP(MID(BC$23,5,4)&$A65,Lista_Ubigeo!$J:$K,2,0),\" \")","v":" "},{"$f":"IFERROR(VLOOKUP(MID(BD$23,5,4)&$A65,Lista_Ubigeo!$J:$K,2,0),\" \")","v":" "},{"$f":"IFERROR(VLOOKUP(MID(BE$23,5,4)&$A65,Lista_Ubigeo!$J:$K,2,0),\" \")","v":" "},{"$f":"IFERROR(VLOOKUP(MID(BF$23,5,4)&$A65,Lista_Ubigeo!$J:$K,2,0),\" \")","v":" "},{"$f":"IFERROR(VLOOKUP(MID(BG$23,5,4)&$A65,Lista_Ubigeo!$J:$K,2,0),\" \")","v":" "},{"$f":"IFERROR(VLOOKUP(MID(BH$23,5,4)&$A65,Lista_Ubigeo!$J:$K,2,0),\" \")","v":" "},{"$f":"IFERROR(VLOOKUP(MID(BI$23,5,4)&$A65,Lista_Ubigeo!$J:$K,2,0),\" \")","v":" "},{"$f":"IFERROR(VLOOKUP(MID(BJ$23,5,4)&$A65,Lista_Ubigeo!$J:$K,2,0),\" \")","v":" "},{"$f":"IFERROR(VLOOKUP(MID(BK$23,5,4)&$A65,Lista_Ubigeo!$J:$K,2,0),\" \")","v":" "},{"$f":"IFERROR(VLOOKUP(MID(BL$23,5,4)&$A65,Lista_Ubigeo!$J:$K,2,0),\" \")","v":" "},{"$f":"IFERROR(VLOOKUP(MID(BM$23,5,4)&$A65,Lista_Ubigeo!$J:$K,2,0),\" \")","v":" "},{"$f":"IFERROR(VLOOKUP(MID(BN$23,5,4)&$A65,Lista_Ubigeo!$J:$K,2,0),\" \")","v":" "},{"$f":"IFERROR(VLOOKUP(MID(BO$23,5,4)&$A65,Lista_Ubigeo!$J:$K,2,0),\" \")","v":" "},{"$f":"IFERROR(VLOOKUP(MID(BP$23,5,4)&$A65,Lista_Ubigeo!$J:$K,2,0),\" \")","v":" "},{"$f":"IFERROR(VLOOKUP(MID(BQ$23,5,4)&$A65,Lista_Ubigeo!$J:$K,2,0),\" \")","v":" "},{"$f":"IFERROR(VLOOKUP(MID(BR$23,5,4)&$A65,Lista_Ubigeo!$J:$K,2,0),\" \")","v":" "},{"$f":"IFERROR(VLOOKUP(MID(BS$23,5,4)&$A65,Lista_Ubigeo!$J:$K,2,0),\" \")","v":" "},{"$f":"IFERROR(VLOOKUP(MID(BT$23,5,4)&$A65,Lista_Ubigeo!$J:$K,2,0),\" \")","v":" "},{"$f":"IFERROR(VLOOKUP(MID(BU$23,5,4)&$A65,Lista_Ubigeo!$J:$K,2,0),\" \")","v":" "},{"$f":"IFERROR(VLOOKUP(MID(BV$23,5,4)&$A65,Lista_Ubigeo!$J:$K,2,0),\" \")","v":" "},{"$f":"IFERROR(VLOOKUP(MID(BW$23,5,4)&$A65,Lista_Ubigeo!$J:$K,2,0),\" \")","v":" "},{"$f":"IFERROR(VLOOKUP(MID(BX$23,5,4)&$A65,Lista_Ubigeo!$J:$K,2,0),\" \")","v":" "},{"$f":"IFERROR(VLOOKUP(MID(BY$23,4,4)&$A65,Lista_Ubigeo!$J:$K,2,0),\" \")","v":" "},{"$f":"IFERROR(VLOOKUP(MID(BZ$23,5,4)&$A65,Lista_Ubigeo!$J:$K,2,0),\" \")","v":" "},{"$f":"IFERROR(VLOOKUP(MID(CA$23,5,4)&$A65,Lista_Ubigeo!$J:$K,2,0),\" \")","v":" "},{"$f":"IFERROR(VLOOKUP(MID(CB$23,5,4)&$A65,Lista_Ubigeo!$J:$K,2,0),\" \")","v":" "},{"$f":"IFERROR(VLOOKUP(MID(CC$23,5,4)&$A65,Lista_Ubigeo!$J:$K,2,0),\" \")","v":" "},{"$f":"IFERROR(VLOOKUP(MID(CD$23,5,4)&$A65,Lista_Ubigeo!$J:$K,2,0),\" \")","v":" "},{"$f":"IFERROR(VLOOKUP(MID(CE$23,5,4)&$A65,Lista_Ubigeo!$J:$K,2,0),\" \")","v":" "},{"$f":"IFERROR(VLOOKUP(MID(CF$23,5,4)&$A65,Lista_Ubigeo!$J:$K,2,0),\" \")","v":" "},{"$f":"IFERROR(VLOOKUP(MID(CG$23,5,4)&$A65,Lista_Ubigeo!$J:$K,2,0),\" \")","v":" "},{"$f":"IFERROR(VLOOKUP(MID(CH$23,5,4)&$A65,Lista_Ubigeo!$J:$K,2,0),\" \")","v":" "},{"$f":"IFERROR(VLOOKUP(MID(CI$23,5,4)&$A65,Lista_Ubigeo!$J:$K,2,0),\" \")","v":" "},{"$f":"IFERROR(VLOOKUP(MID(CJ$23,5,4)&$A65,Lista_Ubigeo!$J:$K,2,0),\" \")","v":" "},{"$f":"IFERROR(VLOOKUP(MID(CK$23,5,4)&$A65,Lista_Ubigeo!$J:$K,2,0),\" \")","v":" "},{"$f":"IFERROR(VLOOKUP(MID(CL$23,5,4)&$A65,Lista_Ubigeo!$J:$K,2,0),\" \")","v":" "},{"$f":"IFERROR(VLOOKUP(MID(CM$23,5,4)&$A76,Lista_Ubigeo!$J:$K,2,0),\" \")","v":" "},{"$f":"IFERROR(VLOOKUP(MID(CN$23,5,4)&$A65,Lista_Ubigeo!$J:$K,2,0),\" \")","v":" "},{"$f":"IFERROR(VLOOKUP(MID(CO$23,5,4)&$A65,Lista_Ubigeo!$J:$K,2,0),\" \")","v":" "},{"$f":"IFERROR(VLOOKUP(MID(CP$23,5,4)&$A65,Lista_Ubigeo!$J:$K,2,0),\" \")","v":" "},{"$f":"IFERROR(VLOOKUP(MID(CQ$23,5,4)&$A65,Lista_Ubigeo!$J:$K,2,0),\" \")","v":" "},{"$f":"IFERROR(VLOOKUP(MID(CR$23,5,4)&$A65,Lista_Ubigeo!$J:$K,2,0),\" \")","v":" "},{"$f":"IFERROR(VLOOKUP(MID(CS$23,5,4)&$A65,Lista_Ubigeo!$J:$K,2,0),\" \")","v":" "},{"$f":"IFERROR(VLOOKUP(MID(CT$23,5,4)&$A65,Lista_Ubigeo!$J:$K,2,0),\" \")","v":" "},{"$f":"IFERROR(VLOOKUP(MID(CU$23,5,4)&$A65,Lista_Ubigeo!$J:$K,2,0),\" \")","v":" "},{"$f":"IFERROR(VLOOKUP(MID(CV$23,5,4)&$A65,Lista_Ubigeo!$J:$K,2,0),\" \")","v":" "},{"$f":"IFERROR(VLOOKUP(MID(CW$23,5,4)&$A65,Lista_Ubigeo!$J:$K,2,0),\" \")","v":" "},{"$f":"IFERROR(VLOOKUP(MID(CX$23,5,4)&$A65,Lista_Ubigeo!$J:$K,2,0),\" \")","v":" "},{"$f":"IFERROR(VLOOKUP(MID(CY$23,5,4)&$A65,Lista_Ubigeo!$J:$K,2,0),\" \")","v":" "},{"$f":"IFERROR(VLOOKUP(MID(CZ$23,5,4)&$A65,Lista_Ubigeo!$J:$K,2,0),\" \")","v":" "},{"$f":"IFERROR(VLOOKUP(MID(DA$23,5,4)&$A65,Lista_Ubigeo!$J:$K,2,0),\" \")","v":" "},{"$f":"IFERROR(VLOOKUP(MID(DB$23,5,4)&$A65,Lista_Ubigeo!$J:$K,2,0),\" \")","v":" "},{"$f":"IFERROR(VLOOKUP(MID(DC$23,5,4)&$A65,Lista_Ubigeo!$J:$K,2,0),\" \")","v":" "},{"$f":"IFERROR(VLOOKUP(MID(DD$23,5,4)&$A65,Lista_Ubigeo!$J:$K,2,0),\" \")","v":" "},{"$f":"IFERROR(VLOOKUP(MID(DE$23,5,4)&$A65,Lista_Ubigeo!$J:$K,2,0),\" \")","v":" "},{"$f":"IFERROR(VLOOKUP(MID(DF$23,5,4)&$A65,Lista_Ubigeo!$J:$K,2,0),\" \")","v":" "},{"$f":"IFERROR(VLOOKUP(MID(DG$23,5,4)&$A65,Lista_Ubigeo!$J:$K,2,0),\" \")","v":" "},{"$f":"IFERROR(VLOOKUP(MID(DH$23,5,4)&$A65,Lista_Ubigeo!$J:$K,2,0),\" \")","v":" "},{"$f":"IFERROR(VLOOKUP(MID(DI$23,5,4)&$A65,Lista_Ubigeo!$J:$K,2,0),\" \")","v":" "},{"$f":"IFERROR(VLOOKUP(MID(DJ$23,5,4)&$A65,Lista_Ubigeo!$J:$K,2,0),\" \")","v":" "},{"$f":"IFERROR(VLOOKUP(MID(DK$23,5,4)&$A65,Lista_Ubigeo!$J:$K,2,0),\" \")","v":" "},{"$f":"IFERROR(VLOOKUP(MID(DL$23,5,4)&$A65,Lista_Ubigeo!$J:$K,2,0),\" \")","v":" "},{"$f":"IFERROR(VLOOKUP(MID(DM$23,5,4)&$A65,Lista_Ubigeo!$J:$K,2,0),\" \")","v":" "},{"$f":"IFERROR(VLOOKUP(MID(DN$23,5,4)&$A65,Lista_Ubigeo!$J:$K,2,0),\" \")","v":" "},{"$f":"IFERROR(VLOOKUP(MID(DO$23,5,4)&$A66,Lista_Ubigeo!$J:$K,2,0),\" \")","v":" "},{"$f":"IFERROR(VLOOKUP(MID(DP$23,5,4)&$A65,Lista_Ubigeo!$J:$K,2,0),\" \")","v":" "},{"$f":"IFERROR(VLOOKUP(MID(DQ$23,5,4)&$A65,Lista_Ubigeo!$J:$K,2,0),\" \")","v":" "},{"$f":"IFERROR(VLOOKUP(MID(DR$23,5,4)&$A65,Lista_Ubigeo!$J:$K,2,0),\" \")","v":" "},{"$f":"IFERROR(VLOOKUP(MID(DS$23,5,4)&$A65,Lista_Ubigeo!$J:$K,2,0),\" \")","v":" "},null,null,{"$f":"IFERROR(VLOOKUP(MID(DV$23,5,4)&$A65,Lista_Ubigeo!$J:$K,2,0),\" \")","v":" "},{"$f":"IFERROR(VLOOKUP(MID(DW$23,5,4)&$A65,Lista_Ubigeo!$J:$K,2,0),\" \")","v":" "},{"$f":"IFERROR(VLOOKUP(MID(DX$23,5,4)&$A65,Lista_Ubigeo!$J:$K,2,0),\" \")","v":" "},{"$f":"IFERROR(VLOOKUP(MID(DY$23,5,4)&$A65,Lista_Ubigeo!$J:$K,2,0),\" \")","v":"VILLA EL SALVADOR"},{"$f":"IFERROR(VLOOKUP(MID(DZ$23,5,4)&$A65,Lista_Ubigeo!$J:$K,2,0),\" \")","v":" "},{"$f":"IFERROR(VLOOKUP(MID(EA$23,5,4)&$A65,Lista_Ubigeo!$J:$K,2,0),\" \")","v":" "},{"$f":"IFERROR(VLOOKUP(MID(EB$23,5,4)&$A65,Lista_Ubigeo!$J:$K,2,0),\" \")","v":" "},{"$f":"IFERROR(VLOOKUP(MID(EC$23,5,4)&$A65,Lista_Ubigeo!$J:$K,2,0),\" \")","v":" "},{"$f":"IFERROR(VLOOKUP(MID(ED$23,5,4)&$A65,Lista_Ubigeo!$J:$K,2,0),\" \")","v":" "},{"$f":"IFERROR(VLOOKUP(MID(EE$23,5,4)&$A65,Lista_Ubigeo!$J:$K,2,0),\" \")","v":" "},{"$f":"IFERROR(VLOOKUP(MID(EF$23,5,4)&$A65,Lista_Ubigeo!$J:$K,2,0),\" \")","v":" "},{"$f":"IFERROR(VLOOKUP(MID(EG$23,5,4)&$A65,Lista_Ubigeo!$J:$K,2,0),\" \")","v":" "},{"$f":"IFERROR(VLOOKUP(MID(EH$23,5,4)&$A65,Lista_Ubigeo!$J:$K,2,0),\" \")","v":" "},{"$f":"IFERROR(VLOOKUP(MID(EI$23,5,4)&$A65,Lista_Ubigeo!$J:$K,2,0),\" \")","v":" "},{"$f":"IFERROR(VLOOKUP(MID(EJ$23,5,4)&$A70,Lista_Ubigeo!$J:$K,2,0),\" \")","v":" "},{"$f":"IFERROR(VLOOKUP(MID(EK$23,5,4)&$A65,Lista_Ubigeo!$J:$K,2,0),\" \")","v":" "},{"$f":"IFERROR(VLOOKUP(MID(EL$23,5,4)&$A65,Lista_Ubigeo!$J:$K,2,0),\" \")","v":" "},{"$f":"IFERROR(VLOOKUP(MID(EM$23,5,4)&$A65,Lista_Ubigeo!$J:$K,2,0),\" \")","v":" "},{"$f":"IFERROR(VLOOKUP(MID(EN$23,5,4)&$A65,Lista_Ubigeo!$J:$K,2,0),\" \")","v":" "},{"$f":"IFERROR(VLOOKUP(MID(EO$23,5,4)&$A65,Lista_Ubigeo!$J:$K,2,0),\" \")","v":" "},{"$f":"IFERROR(VLOOKUP(MID(EP$23,5,4)&$A65,Lista_Ubigeo!$J:$K,2,0),\" \")","v":" "},{"$f":"IFERROR(VLOOKUP(MID(EQ$23,5,4)&$A65,Lista_Ubigeo!$J:$K,2,0),\" \")","v":" "},{"$f":"IFERROR(VLOOKUP(MID(ER$23,5,4)&$A65,Lista_Ubigeo!$J:$K,2,0),\" \")","v":" "},{"$f":"IFERROR(VLOOKUP(MID(ES$23,5,4)&$A65,Lista_Ubigeo!$J:$K,2,0),\" \")","v":" "},{"$f":"IFERROR(VLOOKUP(MID(ET$23,5,4)&$A65,Lista_Ubigeo!$J:$K,2,0),\" \")","v":" "},{"$f":"IFERROR(VLOOKUP(MID(EU$23,5,4)&$A65,Lista_Ubigeo!$J:$K,2,0),\" \")","v":" "},{"$f":"IFERROR(VLOOKUP(MID(EV$23,5,4)&$A65,Lista_Ubigeo!$J:$K,2,0),\" \")","v":" "},{"$f":"IFERROR(VLOOKUP(MID(EW$23,5,4)&$A65,Lista_Ubigeo!$J:$K,2,0),\" \")","v":" "},{"$f":"IFERROR(VLOOKUP(MID(EX$23,5,4)&$A65,Lista_Ubigeo!$J:$K,2,0),\" \")","v":" "},{"$f":"IFERROR(VLOOKUP(MID(EY$23,5,4)&$A65,Lista_Ubigeo!$J:$K,2,0),\" \")","v":" "},{"$f":"IFERROR(VLOOKUP(MID(EZ$23,5,4)&$A68,Lista_Ubigeo!$J:$K,2,0),\" \")","v":" "},{"$f":"IFERROR(VLOOKUP(MID(FA$23,5,4)&$A65,Lista_Ubigeo!$J:$K,2,0),\" \")","v":" "},{"$f":"IFERROR(VLOOKUP(MID(FB$23,5,4)&$A65,Lista_Ubigeo!$J:$K,2,0),\" \")","v":" "},{"$f":"IFERROR(VLOOKUP(MID(FC$23,5,4)&$A65,Lista_Ubigeo!$J:$K,2,0),\" \")","v":" "},{"$f":"IFERROR(VLOOKUP(MID(FD$23,5,4)&$A65,Lista_Ubigeo!$J:$K,2,0),\" \")","v":" "},{"$f":"IFERROR(VLOOKUP(MID(FE$23,5,4)&$A65,Lista_Ubigeo!$J:$K,2,0),\" \")","v":" "},{"$f":"IFERROR(VLOOKUP(MID(FF$23,5,4)&$A65,Lista_Ubigeo!$J:$K,2,0),\" \")","v":" "},{"$f":"IFERROR(VLOOKUP(MID(FG$23,5,4)&$A65,Lista_Ubigeo!$J:$K,2,0),\" \")","v":" "},{"$f":"IFERROR(VLOOKUP(MID(FH$23,5,4)&$A65,Lista_Ubigeo!$J:$K,2,0),\" \")","v":" "},{"$f":"IFERROR(VLOOKUP(MID(FI$23,5,4)&$A65,Lista_Ubigeo!$J:$K,2,0),\" \")","v":" "},{"$f":"IFERROR(VLOOKUP(MID(FJ$23,5,4)&$A65,Lista_Ubigeo!$J:$K,2,0),\" \")","v":" "},{"$f":"IFERROR(VLOOKUP(MID(FK$23,5,4)&$A65,Lista_Ubigeo!$J:$K,2,0),\" \")","v":" "},{"$f":"IFERROR(VLOOKUP(MID(FL$23,5,4)&$A65,Lista_Ubigeo!$J:$K,2,0),\" \")","v":" "},{"$f":"IFERROR(VLOOKUP(MID(FM$23,5,4)&$A65,Lista_Ubigeo!$J:$K,2,0),\" \")","v":" "},{"$f":"IFERROR(VLOOKUP(MID(FN$23,5,4)&$A65,Lista_Ubigeo!$J:$K,2,0),\" \")","v":" "},{"$f":"IFERROR(VLOOKUP(MID(FO$23,5,4)&$A65,Lista_Ubigeo!$J:$K,2,0),\" \")","v":" "},{"$f":"IFERROR(VLOOKUP(MID(FP$23,5,4)&$A65,Lista_Ubigeo!$J:$K,2,0),\" \")","v":" "},{"$f":"IFERROR(VLOOKUP(MID(FQ$23,5,4)&$A65,Lista_Ubigeo!$J:$K,2,0),\" \")","v":" "},{"$f":"IFERROR(VLOOKUP(MID(FR$23,5,4)&$A65,Lista_Ubigeo!$J:$K,2,0),\" \")","v":" "},{"$f":"IFERROR(VLOOKUP(MID(FS$23,5,4)&$A65,Lista_Ubigeo!$J:$K,2,0),\" \")","v":" "},{"$f":"IFERROR(VLOOKUP(MID(FT$23,5,4)&$A65,Lista_Ubigeo!$J:$K,2,0),\" \")","v":" "},{"$f":"IFERROR(VLOOKUP(MID(FU$23,5,4)&$A65,Lista_Ubigeo!$J:$K,2,0),\" \")","v":" "},{"$f":"IFERROR(VLOOKUP(MID(FV$23,5,4)&$A65,Lista_Ubigeo!$J:$K,2,0),\" \")","v":" "},{"$f":"IFERROR(VLOOKUP(MID(FW$23,5,4)&$A65,Lista_Ubigeo!$J:$K,2,0),\" \")","v":" "},{"$f":"IFERROR(VLOOKUP(MID(FX$23,5,4)&$A65,Lista_Ubigeo!$J:$K,2,0),\" \")","v":" "},{"$f":"IFERROR(VLOOKUP(MID(FY$23,5,4)&$A65,Lista_Ubigeo!$J:$K,2,0),\" \")","v":" "},{"$f":"IFERROR(VLOOKUP(MID(FZ$23,5,4)&$A65,Lista_Ubigeo!$J:$K,2,0),\" \")","v":" "},{"$f":"IFERROR(VLOOKUP(MID(GA$23,5,4)&$A65,Lista_Ubigeo!$J:$K,2,0),\" \")","v":" "},{"$f":"IFERROR(VLOOKUP(MID(GB$23,5,4)&$A65,Lista_Ubigeo!$J:$K,2,0),\" \")","v":" "},{"$f":"IFERROR(VLOOKUP(MID(GC$23,5,4)&$A65,Lista_Ubigeo!$J:$K,2,0),\" \")","v":" "},{"$f":"IFERROR(VLOOKUP(MID(GD$23,5,4)&$A65,Lista_Ubigeo!$J:$K,2,0),\" \")","v":" "},{"$f":"IFERROR(VLOOKUP(MID(GE$23,5,4)&$A65,Lista_Ubigeo!$J:$K,2,0),\" \")","v":" "},{"$f":"IFERROR(VLOOKUP(MID(GF$23,5,4)&$A65,Lista_Ubigeo!$J:$K,2,0),\" \")","v":" "},{"$f":"IFERROR(VLOOKUP(MID(GG$23,5,4)&$A65,Lista_Ubigeo!$J:$K,2,0),\" \")","v":" "},{"$f":"IFERROR(VLOOKUP(MID(GH$23,5,4)&$A65,Lista_Ubigeo!$J:$K,2,0),\" \")","v":" "},{"$f":"IFERROR(VLOOKUP(MID(GI$23,5,4)&$A65,Lista_Ubigeo!$J:$K,2,0),\" \")","v":" "},{"$f":"IFERROR(VLOOKUP(MID(GJ$23,5,4)&$A65,Lista_Ubigeo!$J:$K,2,0),\" \")","v":" "},{"$f":"IFERROR(VLOOKUP(MID(GK$23,5,4)&$A65,Lista_Ubigeo!$J:$K,2,0),\" \")","v":" "},{"$f":"IFERROR(VLOOKUP(MID(GL$23,5,4)&$A65,Lista_Ubigeo!$J:$K,2,0),\" \")","v":" "},{"$f":"IFERROR(VLOOKUP(MID(GM$23,5,4)&$A65,Lista_Ubigeo!$J:$K,2,0),\" \")","v":" "},{"$f":"IFERROR(VLOOKUP(MID(GN$23,5,4)&$A65,Lista_Ubigeo!$J:$K,2,0),\" \")","v":" "},{"$f":"IFERROR(VLOOKUP(MID(GO$23,5,4)&$A65,Lista_Ubigeo!$J:$K,2,0),\" \")","v":" "},{"$f":"IFERROR(VLOOKUP(MID(GP$23,5,4)&$A65,Lista_Ubigeo!$J:$K,2,0),\" \")","v":" "}]
["43",{"$f":"IFERROR(VLOOKUP(MID(B$23,5,4)&$A66,Lista_Ubigeo!$J:$K,2,0),\" \")","v":" "},{"$f":"IFERROR(VLOOKUP(MID(C$23,5,4)&$A66,Lista_Ubigeo!$J:$K,2,0),\" \")","v":" "},{"$f":"IFERROR(VLOOKUP(MID(D$23,5,4)&$A66,Lista_Ubigeo!$J:$K,2,0),\" \")","v":" "},{"$f":"IFERROR(VLOOKUP(MID(E$23,5,4)&$A66,Lista_Ubigeo!$J:$K,2,0),\" \")","v":" "},{"$f":"IFERROR(VLOOKUP(MID(F$23,5,4)&$A66,Lista_Ubigeo!$J:$K,2,0),\" \")","v":" "},{"$f":"IFERROR(VLOOKUP(MID(G$23,5,4)&$A66,Lista_Ubigeo!$J:$K,2,0),\" \")","v":" "},{"$f":"IFERROR(VLOOKUP(MID(H$23,5,4)&$A66,Lista_Ubigeo!$J:$K,2,0),\" \")","v":" "},{"$f":"IFERROR(VLOOKUP(MID(I$23,5,4)&$A66,Lista_Ubigeo!$J:$K,2,0),\" \")","v":" "},{"$f":"IFERROR(VLOOKUP(MID(J$23,5,4)&$A66,Lista_Ubigeo!$J:$K,2,0),\" \")","v":" "},{"$f":"IFERROR(VLOOKUP(MID(K$23,5,4)&$A66,Lista_Ubigeo!$J:$K,2,0),\" \")","v":" "},{"$f":"IFERROR(VLOOKUP(MID(L$23,5,4)&$A66,Lista_Ubigeo!$J:$K,2,0),\" \")","v":" "},{"$f":"IFERROR(VLOOKUP(MID(M$23,5,4)&$A66,Lista_Ubigeo!$J:$K,2,0),\" \")","v":" "},{"$f":"IFERROR(VLOOKUP(MID(N$23,5,4)&$A66,Lista_Ubigeo!$J:$K,2,0),\" \")","v":" "},{"$f":"IFERROR(VLOOKUP(MID(O$23,5,4)&$A66,Lista_Ubigeo!$J:$K,2,0),\" \")","v":" "},{"$f":"IFERROR(VLOOKUP(MID(P$23,5,4)&$A66,Lista_Ubigeo!$J:$K,2,0),\" \")","v":" "},{"$f":"IFERROR(VLOOKUP(MID(Q$23,5,4)&$A66,Lista_Ubigeo!$J:$K,2,0),\" \")","v":" "},{"$f":"IFERROR(VLOOKUP(MID(R$23,5,4)&$A66,Lista_Ubigeo!$J:$K,2,0),\" \")","v":" "},{"$f":"IFERROR(VLOOKUP(MID(S$23,5,4)&$A66,Lista_Ubigeo!$J:$K,2,0),\" \")","v":" "},{"$f":"IFERROR(VLOOKUP(MID(T$23,5,4)&$A66,Lista_Ubigeo!$J:$K,2,0),\" \")","v":" "},{"$f":"IFERROR(VLOOKUP(MID(U$23,5,4)&$A66,Lista_Ubigeo!$J:$K,2,0),\" \")","v":" "},{"$f":"IFERROR(VLOOKUP(MID(V$23,5,4)&$A66,Lista_Ubigeo!$J:$K,2,0),\" \")","v":" "},{"$f":"IFERROR(VLOOKUP(MID(W$23,5,4)&$A66,Lista_Ubigeo!$J:$K,2,0),\" \")","v":" "},{"$f":"IFERROR(VLOOKUP(MID(X$23,5,4)&$A66,Lista_Ubigeo!$J:$K,2,0),\" \")","v":" "},{"$f":"IFERROR(VLOOKUP(MID(Y$23,5,4)&$A66,Lista_Ubigeo!$J:$K,2,0),\" \")","v":" "},{"$f":"IFERROR(VLOOKUP(MID(Z$23,5,4)&$A66,Lista_Ubigeo!$J:$K,2,0),\" \")","v":" "},{"$f":"IFERROR(VLOOKUP(MID(AA$23,5,4)&$A66,Lista_Ubigeo!$J:$K,2,0),\" \")","v":" "},{"$f":"IFERROR(VLOOKUP(MID(AB$23,5,4)&$A66,Lista_Ubigeo!$J:$K,2,0),\" \")","v":" "},{"$f":"IFERROR(VLOOKUP(MID(AC$23,5,4)&$A66,Lista_Ubigeo!$J:$K,2,0),\" \")","v":" "},{"$f":"IFERROR(VLOOKUP(MID(AD$23,5,4)&$A66,Lista_Ubigeo!$J:$K,2,0),\" \")","v":" "},{"$f":"IFERROR(VLOOKUP(MID(AE$23,5,4)&$A66,Lista_Ubigeo!$J:$K,2,0),\" \")","v":" "},{"$f":"IFERROR(VLOOKUP(MID(AF$23,5,4)&$A66,Lista_Ubigeo!$J:$K,2,0),\" \")","v":" "},{"$f":"IFERROR(VLOOKUP(MID(AG$23,5,4)&$A66,Lista_Ubigeo!$J:$K,2,0),\" \")","v":" "},{"$f":"IFERROR(VLOOKUP(MID(AH$23,5,4)&$A66,Lista_Ubigeo!$J:$K,2,0),\" \")","v":" "},{"$f":"IFERROR(VLOOKUP(MID(AI$23,5,4)&$A66,Lista_Ubigeo!$J:$K,2,0),\" \")","v":" "},{"$f":"IFERROR(VLOOKUP(MID(AJ$23,5,4)&$A66,Lista_Ubigeo!$J:$K,2,0),\" \")","v":" "},{"$f":"IFERROR(VLOOKUP(MID(AK$23,5,4)&$A66,Lista_Ubigeo!$J:$K,2,0),\" \")","v":" "},{"$f":"IFERROR(VLOOKUP(MID(AL$23,5,4)&$A66,Lista_Ubigeo!$J:$K,2,0),\" \")","v":" "},{"$f":"IFERROR(VLOOKUP(MID(AM$23,5,4)&$A66,Lista_Ubigeo!$J:$K,2,0),\" \")","v":" "},{"$f":"IFERROR(VLOOKUP(MID(AN$23,5,4)&$A66,Lista_Ubigeo!$J:$K,2,0),\" \")","v":" "},{"$f":"IFERROR(VLOOKUP(MID(AO$23,5,4)&$A66,Lista_Ubigeo!$J:$K,2,0),\" \")","v":" "},{"$f":"IFERROR(VLOOKUP(MID(AP$23,5,4)&$A66,Lista_Ubigeo!$J:$K,2,0),\" \")","v":" "},{"$f":"IFERROR(VLOOKUP(MID(AQ$23,4,4)&$A66,Lista_Ubigeo!$J:$K,2,0),\" \")","v":" "},{"$f":"IFERROR(VLOOKUP(MID(AR$23,5,4)&$A66,Lista_Ubigeo!$J:$K,2,0),\" \")","v":" "},{"$f":"IFERROR(VLOOKUP(MID(AS$23,5,4)&$A66,Lista_Ubigeo!$J:$K,2,0),\" \")","v":" "},{"$f":"IFERROR(VLOOKUP(MID(AT$23,5,4)&$A66,Lista_Ubigeo!$J:$K,2,0),\" \")","v":" "},{"$f":"IFERROR(VLOOKUP(MID(AU$23,5,4)&$A66,Lista_Ubigeo!$J:$K,2,0),\" \")","v":" "},{"$f":"IFERROR(VLOOKUP(MID(AV$23,5,4)&$A66,Lista_Ubigeo!$J:$K,2,0),\" \")","v":" "},{"$f":"IFERROR(VLOOKUP(MID(AW$23,5,4)&$A66,Lista_Ubigeo!$J:$K,2,0),\" \")","v":" "},{"$f":"IFERROR(VLOOKUP(MID(AX$23,5,4)&$A66,Lista_Ubigeo!$J:$K,2,0),\" \")","v":" "},{"$f":"IFERROR(VLOOKUP(MID(AY$23,5,4)&$A66,Lista_Ubigeo!$J:$K,2,0),\" \")","v":" "},{"$f":"IFERROR(VLOOKUP(MID(AZ$23,5,4)&$A66,Lista_Ubigeo!$J:$K,2,0),\" \")","v":" "},{"$f":"IFERROR(VLOOKUP(MID(BA$23,5,4)&$A66,Lista_Ubigeo!$J:$K,2,0),\" \")","v":" "},{"$f":"IFERROR(VLOOKUP(MID(BB$23,5,4)&$A66,Lista_Ubigeo!$J:$K,2,0),\" \")","v":" "},{"$f":"IFERROR(VLOOKUP(MID(BC$23,5,4)&$A66,Lista_Ubigeo!$J:$K,2,0),\" \")","v":" "},{"$f":"IFERROR(VLOOKUP(MID(BD$23,5,4)&$A66,Lista_Ubigeo!$J:$K,2,0),\" \")","v":" "},{"$f":"IFERROR(VLOOKUP(MID(BE$23,5,4)&$A66,Lista_Ubigeo!$J:$K,2,0),\" \")","v":" "},{"$f":"IFERROR(VLOOKUP(MID(BF$23,5,4)&$A66,Lista_Ubigeo!$J:$K,2,0),\" \")","v":" "},{"$f":"IFERROR(VLOOKUP(MID(BG$23,5,4)&$A66,Lista_Ubigeo!$J:$K,2,0),\" \")","v":" "},{"$f":"IFERROR(VLOOKUP(MID(BH$23,5,4)&$A66,Lista_Ubigeo!$J:$K,2,0),\" \")","v":" "},{"$f":"IFERROR(VLOOKUP(MID(BI$23,5,4)&$A66,Lista_Ubigeo!$J:$K,2,0),\" \")","v":" "},{"$f":"IFERROR(VLOOKUP(MID(BJ$23,5,4)&$A66,Lista_Ubigeo!$J:$K,2,0),\" \")","v":" "},{"$f":"IFERROR(VLOOKUP(MID(BK$23,5,4)&$A66,Lista_Ubigeo!$J:$K,2,0),\" \")","v":" "},{"$f":"IFERROR(VLOOKUP(MID(BL$23,5,4)&$A66,Lista_Ubigeo!$J:$K,2,0),\" \")","v":" "},{"$f":"IFERROR(VLOOKUP(MID(BM$23,5,4)&$A66,Lista_Ubigeo!$J:$K,2,0),\" \")","v":" "},{"$f":"IFERROR(VLOOKUP(MID(BN$23,5,4)&$A66,Lista_Ubigeo!$J:$K,2,0),\" \")","v":" "},{"$f":"IFERROR(VLOOKUP(MID(BO$23,5,4)&$A66,Lista_Ubigeo!$J:$K,2,0),\" \")","v":" "},{"$f":"IFERROR(VLOOKUP(MID(BP$23,5,4)&$A66,Lista_Ubigeo!$J:$K,2,0),\" \")","v":" "},{"$f":"IFERROR(VLOOKUP(MID(BQ$23,5,4)&$A66,Lista_Ubigeo!$J:$K,2,0),\" \")","v":" "},{"$f":"IFERROR(VLOOKUP(MID(BR$23,5,4)&$A66,Lista_Ubigeo!$J:$K,2,0),\" \")","v":" "},{"$f":"IFERROR(VLOOKUP(MID(BS$23,5,4)&$A66,Lista_Ubigeo!$J:$K,2,0),\" \")","v":" "},{"$f":"IFERROR(VLOOKUP(MID(BT$23,5,4)&$A66,Lista_Ubigeo!$J:$K,2,0),\" \")","v":" "},{"$f":"IFERROR(VLOOKUP(MID(BU$23,5,4)&$A66,Lista_Ubigeo!$J:$K,2,0),\" \")","v":" "},{"$f":"IFERROR(VLOOKUP(MID(BV$23,5,4)&$A66,Lista_Ubigeo!$J:$K,2,0),\" \")","v":" "},{"$f":"IFERROR(VLOOKUP(MID(BW$23,5,4)&$A66,Lista_Ubigeo!$J:$K,2,0),\" \")","v":" "},{"$f":"IFERROR(VLOOKUP(MID(BX$23,5,4)&$A66,Lista_Ubigeo!$J:$K,2,0),\" \")","v":" "},{"$f":"IFERROR(VLOOKUP(MID(BY$23,4,4)&$A66,Lista_Ubigeo!$J:$K,2,0),\" \")","v":" "},{"$f":"IFERROR(VLOOKUP(MID(BZ$23,5,4)&$A66,Lista_Ubigeo!$J:$K,2,0),\" \")","v":" "},{"$f":"IFERROR(VLOOKUP(MID(CA$23,5,4)&$A66,Lista_Ubigeo!$J:$K,2,0),\" \")","v":" "},{"$f":"IFERROR(VLOOKUP(MID(CB$23,5,4)&$A66,Lista_Ubigeo!$J:$K,2,0),\" \")","v":" "},{"$f":"IFERROR(VLOOKUP(MID(CC$23,5,4)&$A66,Lista_Ubigeo!$J:$K,2,0),\" \")","v":" "},{"$f":"IFERROR(VLOOKUP(MID(CD$23,5,4)&$A66,Lista_Ubigeo!$J:$K,2,0),\" \")","v":" "},{"$f":"IFERROR(VLOOKUP(MID(CE$23,5,4)&$A66,Lista_Ubigeo!$J:$K,2,0),\" \")","v":" "},{"$f":"IFERROR(VLOOKUP(MID(CF$23,5,4)&$A66,Lista_Ubigeo!$J:$K,2,0),\" \")","v":" "},{"$f":"IFERROR(VLOOKUP(MID(CG$23,5,4)&$A66,Lista_Ubigeo!$J:$K,2,0),\" \")","v":" "},{"$f":"IFERROR(VLOOKUP(MID(CH$23,5,4)&$A66,Lista_Ubigeo!$J:$K,2,0),\" \")","v":" "},{"$f":"IFERROR(VLOOKUP(MID(CI$23,5,4)&$A66,Lista_Ubigeo!$J:$K,2,0),\" \")","v":" "},{"$f":"IFERROR(VLOOKUP(MID(CJ$23,5,4)&$A66,Lista_Ubigeo!$J:$K,2,0),\" \")","v":" "},{"$f":"IFERROR(VLOOKUP(MID(CK$23,5,4)&$A66,Lista_Ubigeo!$J:$K,2,0),\" \")","v":" "},{"$f":"IFERROR(VLOOKUP(MID(CL$23,5,4)&$A66,Lista_Ubigeo!$J:$K,2,0),\" \")","v":" "},{"$f":"IFERROR(VLOOKUP(MID(CM$23,5,4)&$A77,Lista_Ubigeo!$J:$K,2,0),\" \")","v":" "},{"$f":"IFERROR(VLOOKUP(MID(CN$23,5,4)&$A66,Lista_Ubigeo!$J:$K,2,0),\" \")","v":" "},{"$f":"IFERROR(VLOOKUP(MID(CO$23,5,4)&$A66,Lista_Ubigeo!$J:$K,2,0),\" \")","v":" "},{"$f":"IFERROR(VLOOKUP(MID(CP$23,5,4)&$A66,Lista_Ubigeo!$J:$K,2,0),\" \")","v":" "},{"$f":"IFERROR(VLOOKUP(MID(CQ$23,5,4)&$A66,Lista_Ubigeo!$J:$K,2,0),\" \")","v":" "},{"$f":"IFERROR(VLOOKUP(MID(CR$23,5,4)&$A66,Lista_Ubigeo!$J:$K,2,0),\" \")","v":" "},{"$f":"IFERROR(VLOOKUP(MID(CS$23,5,4)&$A66,Lista_Ubigeo!$J:$K,2,0),\" \")","v":" "},{"$f":"IFERROR(VLOOKUP(MID(CT$23,5,4)&$A66,Lista_Ubigeo!$J:$K,2,0),\" \")","v":" "},{"$f":"IFERROR(VLOOKUP(MID(CU$23,5,4)&$A66,Lista_Ubigeo!$J:$K,2,0),\" \")","v":" "},{"$f":"IFERROR(VLOOKUP(MID(CV$23,5,4)&$A66,Lista_Ubigeo!$J:$K,2,0),\" \")","v":" "},{"$f":"IFERROR(VLOOKUP(MID(CW$23,5,4)&$A66,Lista_Ubigeo!$J:$K,2,0),\" \")","v":" "},{"$f":"IFERROR(VLOOKUP(MID(CX$23,5,4)&$A66,Lista_Ubigeo!$J:$K,2,0),\" \")","v":" "},{"$f":"IFERROR(VLOOKUP(MID(CY$23,5,4)&$A66,Lista_Ubigeo!$J:$K,2,0),\" \")","v":" "},{"$f":"IFERROR(VLOOKUP(MID(CZ$23,5,4)&$A66,Lista_Ubigeo!$J:$K,2,0),\" \")","v":" "},{"$f":"IFERROR(VLOOKUP(MID(DA$23,5,4)&$A66,Lista_Ubigeo!$J:$K,2,0),\" \")","v":" "},{"$f":"IFERROR(VLOOKUP(MID(DB$23,5,4)&$A66,Lista_Ubigeo!$J:$K,2,0),\" \")","v":" "},{"$f":"IFERROR(VLOOKUP(MID(DC$23,5,4)&$A66,Lista_Ubigeo!$J:$K,2,0),\" \")","v":" "},{"$f":"IFERROR(VLOOKUP(MID(DD$23,5,4)&$A66,Lista_Ubigeo!$J:$K,2,0),\" \")","v":" "},{"$f":"IFERROR(VLOOKUP(MID(DE$23,5,4)&$A66,Lista_Ubigeo!$J:$K,2,0),\" \")","v":" "},{"$f":"IFERROR(VLOOKUP(MID(DF$23,5,4)&$A66,Lista_Ubigeo!$J:$K,2,0),\" \")","v":" "},{"$f":"IFERROR(VLOOKUP(MID(DG$23,5,4)&$A66,Lista_Ubigeo!$J:$K,2,0),\" \")","v":" "},{"$f":"IFERROR(VLOOKUP(MID(DH$23,5,4)&$A66,Lista_Ubigeo!$J:$K,2,0),\" \")","v":" "},{"$f":"IFERROR(VLOOKUP(MID(DI$23,5,4)&$A66,Lista_Ubigeo!$J:$K,2,0),\" \")","v":" "},{"$f":"IFERROR(VLOOKUP(MID(DJ$23,5,4)&$A66,Lista_Ubigeo!$J:$K,2,0),\" \")","v":" "},{"$f":"IFERROR(VLOOKUP(MID(DK$23,5,4)&$A66,Lista_Ubigeo!$J:$K,2,0),\" \")","v":" "},{"$f":"IFERROR(VLOOKUP(MID(DL$23,5,4)&$A66,Lista_Ubigeo!$J:$K,2,0),\" \")","v":" "},{"$f":"IFERROR(VLOOKUP(MID(DM$23,5,4)&$A66,Lista_Ubigeo!$J:$K,2,0),\" \")","v":" "},{"$f":"IFERROR(VLOOKUP(MID(DN$23,5,4)&$A66,Lista_Ubigeo!$J:$K,2,0),\" \")","v":" "},{"$f":"IFERROR(VLOOKUP(MID(DO$23,5,4)&$A67,Lista_Ubigeo!$J:$K,2,0),\" \")","v":" "},{"$f":"IFERROR(VLOOKUP(MID(DP$23,5,4)&$A66,Lista_Ubigeo!$J:$K,2,0),\" \")","v":" "},{"$f":"IFERROR(VLOOKUP(MID(DQ$23,5,4)&$A66,Lista_Ubigeo!$J:$K,2,0),\" \")","v":" "},{"$f":"IFERROR(VLOOKUP(MID(DR$23,5,4)&$A66,Lista_Ubigeo!$J:$K,2,0),\" \")","v":" "},{"$f":"IFERROR(VLOOKUP(MID(DS$23,5,4)&$A66,Lista_Ubigeo!$J:$K,2,0),\" \")","v":" "},null,null,{"$f":"IFERROR(VLOOKUP(MID(DV$23,5,4)&$A66,Lista_Ubigeo!$J:$K,2,0),\" \")","v":" "},{"$f":"IFERROR(VLOOKUP(MID(DW$23,5,4)&$A66,Lista_Ubigeo!$J:$K,2,0),\" \")","v":" "},{"$f":"IFERROR(VLOOKUP(MID(DX$23,5,4)&$A66,Lista_Ubigeo!$J:$K,2,0),\" \")","v":" "},{"$f":"IFERROR(VLOOKUP(MID(DY$23,5,4)&$A66,Lista_Ubigeo!$J:$K,2,0),\" \")","v":"VILLA MARIA DEL TRIUNFO"},{"$f":"IFERROR(VLOOKUP(MID(DZ$23,5,4)&$A66,Lista_Ubigeo!$J:$K,2,0),\" \")","v":" "},{"$f":"IFERROR(VLOOKUP(MID(EA$23,5,4)&$A66,Lista_Ubigeo!$J:$K,2,0),\" \")","v":" "},{"$f":"IFERROR(VLOOKUP(MID(EB$23,5,4)&$A66,Lista_Ubigeo!$J:$K,2,0),\" \")","v":" "},{"$f":"IFERROR(VLOOKUP(MID(EC$23,5,4)&$A66,Lista_Ubigeo!$J:$K,2,0),\" \")","v":" "},{"$f":"IFERROR(VLOOKUP(MID(ED$23,5,4)&$A66,Lista_Ubigeo!$J:$K,2,0),\" \")","v":" "},{"$f":"IFERROR(VLOOKUP(MID(EE$23,5,4)&$A66,Lista_Ubigeo!$J:$K,2,0),\" \")","v":" "},{"$f":"IFERROR(VLOOKUP(MID(EF$23,5,4)&$A66,Lista_Ubigeo!$J:$K,2,0),\" \")","v":" "},{"$f":"IFERROR(VLOOKUP(MID(EG$23,5,4)&$A66,Lista_Ubigeo!$J:$K,2,0),\" \")","v":" "},{"$f":"IFERROR(VLOOKUP(MID(EH$23,5,4)&$A66,Lista_Ubigeo!$J:$K,2,0),\" \")","v":" "},{"$f":"IFERROR(VLOOKUP(MID(EI$23,5,4)&$A66,Lista_Ubigeo!$J:$K,2,0),\" \")","v":" "},{"$f":"IFERROR(VLOOKUP(MID(EJ$23,5,4)&$A71,Lista_Ubigeo!$J:$K,2,0),\" \")","v":" "},{"$f":"IFERROR(VLOOKUP(MID(EK$23,5,4)&$A66,Lista_Ubigeo!$J:$K,2,0),\" \")","v":" "},{"$f":"IFERROR(VLOOKUP(MID(EL$23,5,4)&$A66,Lista_Ubigeo!$J:$K,2,0),\" \")","v":" "},{"$f":"IFERROR(VLOOKUP(MID(EM$23,5,4)&$A66,Lista_Ubigeo!$J:$K,2,0),\" \")","v":" "},{"$f":"IFERROR(VLOOKUP(MID(EN$23,5,4)&$A66,Lista_Ubigeo!$J:$K,2,0),\" \")","v":" "},{"$f":"IFERROR(VLOOKUP(MID(EO$23,5,4)&$A66,Lista_Ubigeo!$J:$K,2,0),\" \")","v":" "},{"$f":"IFERROR(VLOOKUP(MID(EP$23,5,4)&$A66,Lista_Ubigeo!$J:$K,2,0),\" \")","v":" "},{"$f":"IFERROR(VLOOKUP(MID(EQ$23,5,4)&$A66,Lista_Ubigeo!$J:$K,2,0),\" \")","v":" "},{"$f":"IFERROR(VLOOKUP(MID(ER$23,5,4)&$A66,Lista_Ubigeo!$J:$K,2,0),\" \")","v":" "},{"$f":"IFERROR(VLOOKUP(MID(ES$23,5,4)&$A66,Lista_Ubigeo!$J:$K,2,0),\" \")","v":" "},{"$f":"IFERROR(VLOOKUP(MID(ET$23,5,4)&$A66,Lista_Ubigeo!$J:$K,2,0),\" \")","v":" "},{"$f":"IFERROR(VLOOKUP(MID(EU$23,5,4)&$A66,Lista_Ubigeo!$J:$K,2,0),\" \")","v":" "},{"$f":"IFERROR(VLOOKUP(MID(EV$23,5,4)&$A66,Lista_Ubigeo!$J:$K,2,0),\" \")","v":" "},{"$f":"IFERROR(VLOOKUP(MID(EW$23,5,4)&$A66,Lista_Ubigeo!$J:$K,2,0),\" \")","v":" "},{"$f":"IFERROR(VLOOKUP(MID(EX$23,5,4)&$A66,Lista_Ubigeo!$J:$K,2,0),\" \")","v":" "},{"$f":"IFERROR(VLOOKUP(MID(EY$23,5,4)&$A66,Lista_Ubigeo!$J:$K,2,0),\" \")","v":" "},{"$f":"IFERROR(VLOOKUP(MID(EZ$23,5,4)&$A69,Lista_Ubigeo!$J:$K,2,0),\" \")","v":" "},{"$f":"IFERROR(VLOOKUP(MID(FA$23,5,4)&$A66,Lista_Ubigeo!$J:$K,2,0),\" \")","v":" "},{"$f":"IFERROR(VLOOKUP(MID(FB$23,5,4)&$A66,Lista_Ubigeo!$J:$K,2,0),\" \")","v":" "},{"$f":"IFERROR(VLOOKUP(MID(FC$23,5,4)&$A66,Lista_Ubigeo!$J:$K,2,0),\" \")","v":" "},{"$f":"IFERROR(VLOOKUP(MID(FD$23,5,4)&$A66,Lista_Ubigeo!$J:$K,2,0),\" \")","v":" "},{"$f":"IFERROR(VLOOKUP(MID(FE$23,5,4)&$A66,Lista_Ubigeo!$J:$K,2,0),\" \")","v":" "},{"$f":"IFERROR(VLOOKUP(MID(FF$23,5,4)&$A66,Lista_Ubigeo!$J:$K,2,0),\" \")","v":" "},{"$f":"IFERROR(VLOOKUP(MID(FG$23,5,4)&$A66,Lista_Ubigeo!$J:$K,2,0),\" \")","v":" "},{"$f":"IFERROR(VLOOKUP(MID(FH$23,5,4)&$A66,Lista_Ubigeo!$J:$K,2,0),\" \")","v":" "},{"$f":"IFERROR(VLOOKUP(MID(FI$23,5,4)&$A66,Lista_Ubigeo!$J:$K,2,0),\" \")","v":" "},{"$f":"IFERROR(VLOOKUP(MID(FJ$23,5,4)&$A66,Lista_Ubigeo!$J:$K,2,0),\" \")","v":" "},{"$f":"IFERROR(VLOOKUP(MID(FK$23,5,4)&$A66,Lista_Ubigeo!$J:$K,2,0),\" \")","v":" "},{"$f":"IFERROR(VLOOKUP(MID(FL$23,5,4)&$A66,Lista_Ubigeo!$J:$K,2,0),\" \")","v":" "},{"$f":"IFERROR(VLOOKUP(MID(FM$23,5,4)&$A66,Lista_Ubigeo!$J:$K,2,0),\" \")","v":" "},{"$f":"IFERROR(VLOOKUP(MID(FN$23,5,4)&$A66,Lista_Ubigeo!$J:$K,2,0),\" \")","v":" "},{"$f":"IFERROR(VLOOKUP(MID(FO$23,5,4)&$A66,Lista_Ubigeo!$J:$K,2,0),\" \")","v":" "},{"$f":"IFERROR(VLOOKUP(MID(FP$23,5,4)&$A66,Lista_Ubigeo!$J:$K,2,0),\" \")","v":" "},{"$f":"IFERROR(VLOOKUP(MID(FQ$23,5,4)&$A66,Lista_Ubigeo!$J:$K,2,0),\" \")","v":" "},{"$f":"IFERROR(VLOOKUP(MID(FR$23,5,4)&$A66,Lista_Ubigeo!$J:$K,2,0),\" \")","v":" "},{"$f":"IFERROR(VLOOKUP(MID(FS$23,5,4)&$A66,Lista_Ubigeo!$J:$K,2,0),\" \")","v":" "},{"$f":"IFERROR(VLOOKUP(MID(FT$23,5,4)&$A66,Lista_Ubigeo!$J:$K,2,0),\" \")","v":" "},{"$f":"IFERROR(VLOOKUP(MID(FU$23,5,4)&$A66,Lista_Ubigeo!$J:$K,2,0),\" \")","v":" "},{"$f":"IFERROR(VLOOKUP(MID(FV$23,5,4)&$A66,Lista_Ubigeo!$J:$K,2,0),\" \")","v":" "},{"$f":"IFERROR(VLOOKUP(MID(FW$23,5,4)&$A66,Lista_Ubigeo!$J:$K,2,0),\" \")","v":" "},{"$f":"IFERROR(VLOOKUP(MID(FX$23,5,4)&$A66,Lista_Ubigeo!$J:$K,2,0),\" \")","v":" "},{"$f":"IFERROR(VLOOKUP(MID(FY$23,5,4)&$A66,Lista_Ubigeo!$J:$K,2,0),\" \")","v":" "},{"$f":"IFERROR(VLOOKUP(MID(FZ$23,5,4)&$A66,Lista_Ubigeo!$J:$K,2,0),\" \")","v":" "},{"$f":"IFERROR(VLOOKUP(MID(GA$23,5,4)&$A66,Lista_Ubigeo!$J:$K,2,0),\" \")","v":" "},{"$f":"IFERROR(VLOOKUP(MID(GB$23,5,4)&$A66,Lista_Ubigeo!$J:$K,2,0),\" \")","v":" "},{"$f":"IFERROR(VLOOKUP(MID(GC$23,5,4)&$A66,Lista_Ubigeo!$J:$K,2,0),\" \")","v":" "},{"$f":"IFERROR(VLOOKUP(MID(GD$23,5,4)&$A66,Lista_Ubigeo!$J:$K,2,0),\" \")","v":" "},{"$f":"IFERROR(VLOOKUP(MID(GE$23,5,4)&$A66,Lista_Ubigeo!$J:$K,2,0),\" \")","v":" "},{"$f":"IFERROR(VLOOKUP(MID(GF$23,5,4)&$A66,Lista_Ubigeo!$J:$K,2,0),\" \")","v":" "},{"$f":"IFERROR(VLOOKUP(MID(GG$23,5,4)&$A66,Lista_Ubigeo!$J:$K,2,0),\" \")","v":" "},{"$f":"IFERROR(VLOOKUP(MID(GH$23,5,4)&$A66,Lista_Ubigeo!$J:$K,2,0),\" \")","v":" "},{"$f":"IFERROR(VLOOKUP(MID(GI$23,5,4)&$A66,Lista_Ubigeo!$J:$K,2,0),\" \")","v":" "},{"$f":"IFERROR(VLOOKUP(MID(GJ$23,5,4)&$A66,Lista_Ubigeo!$J:$K,2,0),\" \")","v":" "},{"$f":"IFERROR(VLOOKUP(MID(GK$23,5,4)&$A66,Lista_Ubigeo!$J:$K,2,0),\" \")","v":" "},{"$f":"IFERROR(VLOOKUP(MID(GL$23,5,4)&$A66,Lista_Ubigeo!$J:$K,2,0),\" \")","v":" "},{"$f":"IFERROR(VLOOKUP(MID(GM$23,5,4)&$A66,Lista_Ubigeo!$J:$K,2,0),\" \")","v":" "},{"$f":"IFERROR(VLOOKUP(MID(GN$23,5,4)&$A66,Lista_Ubigeo!$J:$K,2,0),\" \")","v":" "},{"$f":"IFERROR(VLOOKUP(MID(GO$23,5,4)&$A66,Lista_Ubigeo!$J:$K,2,0),\" \")","v":" "},{"$f":"IFERROR(VLOOKUP(MID(GP$23,5,4)&$A66,Lista_Ubigeo!$J:$K,2,0),\" \")","v":" "}]
["44",{"$f":"IFERROR(VLOOKUP(MID(B$23,5,4)&$A67,Lista_Ubigeo!$J:$K,2,0),\" \")","v":" "},{"$f":"IFERROR(VLOOKUP(MID(C$23,5,4)&$A67,Lista_Ubigeo!$J:$K,2,0),\" \")","v":" "},{"$f":"IFERROR(VLOOKUP(MID(D$23,5,4)&$A67,Lista_Ubigeo!$J:$K,2,0),\" \")","v":" "},{"$f":"IFERROR(VLOOKUP(MID(E$23,5,4)&$A67,Lista_Ubigeo!$J:$K,2,0),\" \")","v":" "},{"$f":"IFERROR(VLOOKUP(MID(F$23,5,4)&$A67,Lista_Ubigeo!$J:$K,2,0),\" \")","v":" "},{"$f":"IFERROR(VLOOKUP(MID(G$23,5,4)&$A67,Lista_Ubigeo!$J:$K,2,0),\" \")","v":" "},{"$f":"IFERROR(VLOOKUP(MID(H$23,5,4)&$A67,Lista_Ubigeo!$J:$K,2,0),\" \")","v":" "},{"$f":"IFERROR(VLOOKUP(MID(I$23,5,4)&$A67,Lista_Ubigeo!$J:$K,2,0),\" \")","v":" "},{"$f":"IFERROR(VLOOKUP(MID(J$23,5,4)&$A67,Lista_Ubigeo!$J:$K,2,0),\" \")","v":" "},{"$f":"IFERROR(VLOOKUP(MID(K$23,5,4)&$A67,Lista_Ubigeo!$J:$K,2,0),\" \")","v":" "},{"$f":"IFERROR(VLOOKUP(MID(L$23,5,4)&$A67,Lista_Ubigeo!$J:$K,2,0),\" \")","v":" "},{"$f":"IFERROR(VLOOKUP(MID(M$23,5,4)&$A67,Lista_Ubigeo!$J:$K,2,0),\" \")","v":" "},{"$f":"IFERROR(VLOOKUP(MID(N$23,5,4)&$A67,Lista_Ubigeo!$J:$K,2,0),\" \")","v":" "},{"$f":"IFERROR(VLOOKUP(MID(O$23,5,4)&$A67,Lista_Ubigeo!$J:$K,2,0),\" \")","v":" "},{"$f":"IFERROR(VLOOKUP(MID(P$23,5,4)&$A67,Lista_Ubigeo!$J:$K,2,0),\" \")","v":" "},{"$f":"IFERROR(VLOOKUP(MID(Q$23,5,4)&$A67,Lista_Ubigeo!$J:$K,2,0),\" \")","v":" "},{"$f":"IFERROR(VLOOKUP(MID(R$23,5,4)&$A67,Lista_Ubigeo!$J:$K,2,0),\" \")","v":" "},{"$f":"IFERROR(VLOOKUP(MID(S$23,5,4)&$A67,Lista_Ubigeo!$J:$K,2,0),\" \")","v":" "},{"$f":"IFERROR(VLOOKUP(MID(T$23,5,4)&$A67,Lista_Ubigeo!$J:$K,2,0),\" \")","v":" "},{"$f":"IFERROR(VLOOKUP(MID(U$23,5,4)&$A67,Lista_Ubigeo!$J:$K,2,0),\" \")","v":" "},{"$f":"IFERROR(VLOOKUP(MID(V$23,5,4)&$A67,Lista_Ubigeo!$J:$K,2,0),\" \")","v":" "},{"$f":"IFERROR(VLOOKUP(MID(W$23,5,4)&$A67,Lista_Ubigeo!$J:$K,2,0),\" \")","v":" "},{"$f":"IFERROR(VLOOKUP(MID(X$23,5,4)&$A67,Lista_Ubigeo!$J:$K,2,0),\" \")","v":" "},{"$f":"IFERROR(VLOOKUP(MID(Y$23,5,4)&$A67,Lista_Ubigeo!$J:$K,2,0),\" \")","v":" "},{"$f":"IFERROR(VLOOKUP(MID(Z$23,5,4)&$A67,Lista_Ubigeo!$J:$K,2,0),\" \")","v":" "},{"$f":"IFERROR(VLOOKUP(MID(AA$23,5,4)&$A67,Lista_Ubigeo!$J:$K,2,0),\" \")","v":" "},{"$f":"IFERROR(VLOOKUP(MID(AB$23,5,4)&$A67,Lista_Ubigeo!$J:$K,2,0),\" \")","v":" "},{"$f":"IFERROR(VLOOKUP(MID(AC$23,5,4)&$A67,Lista_Ubigeo!$J:$K,2,0),\" \")","v":" "},{"$f":"IFERROR(VLOOKUP(MID(AD$23,5,4)&$A67,Lista_Ubigeo!$J:$K,2,0),\" \")","v":" "},{"$f":"IFERROR(VLOOKUP(MID(AE$23,5,4)&$A67,Lista_Ubigeo!$J:$K,2,0),\" \")","v":" "},{"$f":"IFERROR(VLOOKUP(MID(AF$23,5,4)&$A67,Lista_Ubigeo!$J:$K,2,0),\" \")","v":" "},{"$f":"IFERROR(VLOOKUP(MID(AG$23,5,4)&$A67,Lista_Ubigeo!$J:$K,2,0),\" \")","v":" "},{"$f":"IFERROR(VLOOKUP(MID(AH$23,5,4)&$A67,Lista_Ubigeo!$J:$K,2,0),\" \")","v":" "},{"$f":"IFERROR(VLOOKUP(MID(AI$23,5,4)&$A67,Lista_Ubigeo!$J:$K,2,0),\" \")","v":" "},{"$f":"IFERROR(VLOOKUP(MID(AJ$23,5,4)&$A67,Lista_Ubigeo!$J:$K,2,0),\" \")","v":" "},{"$f":"IFERROR(VLOOKUP(MID(AK$23,5,4)&$A67,Lista_Ubigeo!$J:$K,2,0),\" \")","v":" "},{"$f":"IFERROR(VLOOKUP(MID(AL$23,5,4)&$A67,Lista_Ubigeo!$J:$K,2,0),\" \")","v":" "},{"$f":"IFERROR(VLOOKUP(MID(AM$23,5,4)&$A67,Lista_Ubigeo!$J:$K,2,0),\" \")","v":" "},{"$f":"IFERROR(VLOOKUP(MID(AN$23,5,4)&$A67,Lista_Ubigeo!$J:$K,2,0),\" \")","v":" "},{"$f":"IFERROR(VLOOKUP(MID(AO$23,5,4)&$A67,Lista_Ubigeo!$J:$K,2,0),\" \")","v":" "},{"$f":"IFERROR(VLOOKUP(MID(AP$23,5,4)&$A67,Lista_Ubigeo!$J:$K,2,0),\" \")","v":" "},{"$f":"IFERROR(VLOOKUP(MID(AQ$23,4,4)&$A67,Lista_Ubigeo!$J:$K,2,0),\" \")","v":" "},{"$f":"IFERROR(VLOOKUP(MID(AR$23,5,4)&$A67,Lista_Ubigeo!$J:$K,2,0),\" \")","v":" "},{"$f":"IFERROR(VLOOKUP(MID(AS$23,5,4)&$A67,Lista_Ubigeo!$J:$K,2,0),\" \")","v":" "},{"$f":"IFERROR(VLOOKUP(MID(AT$23,5,4)&$A67,Lista_Ubigeo!$J:$K,2,0),\" \")","v":" "},{"$f":"IFERROR(VLOOKUP(MID(AU$23,5,4)&$A67,Lista_Ubigeo!$J:$K,2,0),\" \")","v":" "},{"$f":"IFERROR(VLOOKUP(MID(AV$23,5,4)&$A67,Lista_Ubigeo!$J:$K,2,0),\" \")","v":" "},{"$f":"IFERROR(VLOOKUP(MID(AW$23,5,4)&$A67,Lista_Ubigeo!$J:$K,2,0),\" \")","v":" "},{"$f":"IFERROR(VLOOKUP(MID(AX$23,5,4)&$A67,Lista_Ubigeo!$J:$K,2,0),\" \")","v":" "},{"$f":"IFERROR(VLOOKUP(MID(AY$23,5,4)&$A67,Lista_Ubigeo!$J:$K,2,0),\" \")","v":" "},{"$f":"IFERROR(VLOOKUP(MID(AZ$23,5,4)&$A67,Lista_Ubigeo!$J:$K,2,0),\" \")","v":" "},{"$f":"IFERROR(VLOOKUP(MID(BA$23,5,4)&$A67,Lista_Ubigeo!$J:$K,2,0),\" \")","v":" "},{"$f":"IFERROR(VLOOKUP(MID(BB$23,5,4)&$A67,Lista_Ubigeo!$J:$K,2,0),\" \")","v":" "},{"$f":"IFERROR(VLOOKUP(MID(BC$23,5,4)&$A67,Lista_Ubigeo!$J:$K,2,0),\" \")","v":" "},{"$f":"IFERROR(VLOOKUP(MID(BD$23,5,4)&$A67,Lista_Ubigeo!$J:$K,2,0),\" \")","v":" "},{"$f":"IFERROR(VLOOKUP(MID(BE$23,5,4)&$A67,Lista_Ubigeo!$J:$K,2,0),\" \")","v":" "},{"$f":"IFERROR(VLOOKUP(MID(BF$23,5,4)&$A67,Lista_Ubigeo!$J:$K,2,0),\" \")","v":" "},{"$f":"IFERROR(VLOOKUP(MID(BG$23,5,4)&$A67,Lista_Ubigeo!$J:$K,2,0),\" \")","v":" "},{"$f":"IFERROR(VLOOKUP(MID(BH$23,5,4)&$A67,Lista_Ubigeo!$J:$K,2,0),\" \")","v":" "},{"$f":"IFERROR(VLOOKUP(MID(BI$23,5,4)&$A67,Lista_Ubigeo!$J:$K,2,0),\" \")","v":" "},{"$f":"IFERROR(VLOOKUP(MID(BJ$23,5,4)&$A67,Lista_Ubigeo!$J:$K,2,0),\" \")","v":" "},{"$f":"IFERROR(VLOOKUP(MID(BK$23,5,4)&$A67,Lista_Ubigeo!$J:$K,2,0),\" \")","v":" "},{"$f":"IFERROR(VLOOKUP(MID(BL$23,5,4)&$A67,Lista_Ubigeo!$J:$K,2,0),\" \")","v":" "},{"$f":"IFERROR(VLOOKUP(MID(BM$23,5,4)&$A67,Lista_Ubigeo!$J:$K,2,0),\" \")","v":" "},{"$f":"IFERROR(VLOOKUP(MID(BN$23,5,4)&$A67,Lista_Ubigeo!$J:$K,2,0),\" \")","v":" "},{"$f":"IFERROR(VLOOKUP(MID(BO$23,5,4)&$A67,Lista_Ubigeo!$J:$K,2,0),\" \")","v":" "},{"$f":"IFERROR(VLOOKUP(MID(BP$23,5,4)&$A67,Lista_Ubigeo!$J:$K,2,0),\" \")","v":" "},{"$f":"IFERROR(VLOOKUP(MID(BQ$23,5,4)&$A67,Lista_Ubigeo!$J:$K,2,0),\" \")","v":" "},{"$f":"IFERROR(VLOOKUP(MID(BR$23,5,4)&$A67,Lista_Ubigeo!$J:$K,2,0),\" \")","v":" "},{"$f":"IFERROR(VLOOKUP(MID(BS$23,5,4)&$A67,Lista_Ubigeo!$J:$K,2,0),\" \")","v":" "},{"$f":"IFERROR(VLOOKUP(MID(BT$23,5,4)&$A67,Lista_Ubigeo!$J:$K,2,0),\" \")","v":" "},{"$f":"IFERROR(VLOOKUP(MID(BU$23,5,4)&$A67,Lista_Ubigeo!$J:$K,2,0),\" \")","v":" "},{"$f":"IFERROR(VLOOKUP(MID(BV$23,5,4)&$A67,Lista_Ubigeo!$J:$K,2,0),\" \")","v":" "},{"$f":"IFERROR(VLOOKUP(MID(BW$23,5,4)&$A67,Lista_Ubigeo!$J:$K,2,0),\" \")","v":" "},{"$f":"IFERROR(VLOOKUP(MID(BX$23,5,4)&$A67,Lista_Ubigeo!$J:$K,2,0),\" \")","v":" "},{"$f":"IFERROR(VLOOKUP(MID(BY$23,4,4)&$A67,Lista_Ubigeo!$J:$K,2,0),\" \")","v":" "},{"$f":"IFERROR(VLOOKUP(MID(BZ$23,5,4)&$A67,Lista_Ubigeo!$J:$K,2,0),\" \")","v":" "},{"$f":"IFERROR(VLOOKUP(MID(CA$23,5,4)&$A67,Lista_Ubigeo!$J:$K,2,0),\" \")","v":" "},{"$f":"IFERROR(VLOOKUP(MID(CB$23,5,4)&$A67,Lista_Ubigeo!$J:$K,2,0),\" \")","v":" "},{"$f":"IFERROR(VLOOKUP(MID(CC$23,5,4)&$A67,Lista_Ubigeo!$J:$K,2,0),\" \")","v":" "},{"$f":"IFERROR(VLOOKUP(MID(CD$23,5,4)&$A67,Lista_Ubigeo!$J:$K,2,0),\" \")","v":" "},{"$f":"IFERROR(VLOOKUP(MID(CE$23,5,4)&$A67,Lista_Ubigeo!$J:$K,2,0),\" \")","v":" "},{"$f":"IFERROR(VLOOKUP(MID(CF$23,5,4)&$A67,Lista_Ubigeo!$J:$K,2,0),\" \")","v":" "},{"$f":"IFERROR(VLOOKUP(MID(CG$23,5,4)&$A67,Lista_Ubigeo!$J:$K,2,0),\" \")","v":" "},{"$f":"IFERROR(VLOOKUP(MID(CH$23,5,4)&$A67,Lista_Ubigeo!$J:$K,2,0),\" \")","v":" "},{"$f":"IFERROR(VLOOKUP(MID(CI$23,5,4)&$A67,Lista_Ubigeo!$J:$K,2,0),\" \")","v":" "},{"$f":"IFERROR(VLOOKUP(MID(CJ$23,5,4)&$A67,Lista_Ubigeo!$J:$K,2,0),\" \")","v":" "},{"$f":"IFERROR(VLOOKUP(MID(CK$23,5,4)&$A67,Lista_Ubigeo!$J:$K,2,0),\" \")","v":" "},{"$f":"IFERROR(VLOOKUP(MID(CL$23,5,4)&$A67,Lista_Ubigeo!$J:$K,2,0),\" \")","v":" "},{"$f":"IFERROR(VLOOKUP(MID(CM$23,5,4)&$A78,Lista_Ubigeo!$J:$K,2,0),\" \")","v":" "},{"$f":"IFERROR(VLOOKUP(MID(CN$23,5,4)&$A67,Lista_Ubigeo!$J:$K,2,0),\" \")","v":" "},{"$f":"IFERROR(VLOOKUP(MID(CO$23,5,4)&$A67,Lista_Ubigeo!$J:$K,2,0),\" \")","v":" "},{"$f":"IFERROR(VLOOKUP(MID(CP$23,5,4)&$A67,Lista_Ubigeo!$J:$K,2,0),\" \")","v":" "},{"$f":"IFERROR(VLOOKUP(MID(CQ$23,5,4)&$A67,Lista_Ubigeo!$J:$K,2,0),\" \")","v":" "},{"$f":"IFERROR(VLOOKUP(MID(CR$23,5,4)&$A67,Lista_Ubigeo!$J:$K,2,0),\" \")","v":" "},{"$f":"IFERROR(VLOOKUP(MID(CS$23,5,4)&$A67,Lista_Ubigeo!$J:$K,2,0),\" \")","v":" "},{"$f":"IFERROR(VLOOKUP(MID(CT$23,5,4)&$A67,Lista_Ubigeo!$J:$K,2,0),\" \")","v":" "},{"$f":"IFERROR(VLOOKUP(MID(CU$23,5,4)&$A67,Lista_Ubigeo!$J:$K,2,0),\" \")","v":" "},{"$f":"IFERROR(VLOOKUP(MID(CV$23,5,4)&$A67,Lista_Ubigeo!$J:$K,2,0),\" \")","v":" "},{"$f":"IFERROR(VLOOKUP(MID(CW$23,5,4)&$A67,Lista_Ubigeo!$J:$K,2,0),\" \")","v":" "},{"$f":"IFERROR(VLOOKUP(MID(CX$23,5,4)&$A67,Lista_Ubigeo!$J:$K,2,0),\" \")","v":" "},{"$f":"IFERROR(VLOOKUP(MID(CY$23,5,4)&$A67,Lista_Ubigeo!$J:$K,2,0),\" \")","v":" "},{"$f":"IFERROR(VLOOKUP(MID(CZ$23,5,4)&$A67,Lista_Ubigeo!$J:$K,2,0),\" \")","v":" "},{"$f":"IFERROR(VLOOKUP(MID(DA$23,5,4)&$A67,Lista_Ubigeo!$J:$K,2,0),\" \")","v":" "},{"$f":"IFERROR(VLOOKUP(MID(DB$23,5,4)&$A67,Lista_Ubigeo!$J:$K,2,0),\" \")","v":" "},{"$f":"IFERROR(VLOOKUP(MID(DC$23,5,4)&$A67,Lista_Ubigeo!$J:$K,2,0),\" \")","v":" "},{"$f":"IFERROR(VLOOKUP(MID(DD$23,5,4)&$A67,Lista_Ubigeo!$J:$K,2,0),\" \")","v":" "},{"$f":"IFERROR(VLOOKUP(MID(DE$23,5,4)&$A67,Lista_Ubigeo!$J:$K,2,0),\" \")","v":" "},{"$f":"IFERROR(VLOOKUP(MID(DF$23,5,4)&$A67,Lista_Ubigeo!$J:$K,2,0),\" \")","v":" "},{"$f":"IFERROR(VLOOKUP(MID(DG$23,5,4)&$A67,Lista_Ubigeo!$J:$K,2,0),\" \")","v":" "},{"$f":"IFERROR(VLOOKUP(MID(DH$23,5,4)&$A67,Lista_Ubigeo!$J:$K,2,0),\" \")","v":" "},{"$f":"IFERROR(VLOOKUP(MID(DI$23,5,4)&$A67,Lista_Ubigeo!$J:$K,2,0),\" \")","v":" "},{"$f":"IFERROR(VLOOKUP(MID(DJ$23,5,4)&$A67,Lista_Ubigeo!$J:$K,2,0),\" \")","v":" "},{"$f":"IFERROR(VLOOKUP(MID(DK$23,5,4)&$A67,Lista_Ubigeo!$J:$K,2,0),\" \")","v":" "},{"$f":"IFERROR(VLOOKUP(MID(DL$23,5,4)&$A67,Lista_Ubigeo!$J:$K,2,0),\" \")","v":" "},{"$f":"IFERROR(VLOOKUP(MID(DM$23,5,4)&$A67,Lista_Ubigeo!$J:$K,2,0),\" \")","v":" "},{"$f":"IFERROR(VLOOKUP(MID(DN$23,5,4)&$A67,Lista_Ubigeo!$J:$K,2,0),\" \")","v":" "},{"$f":"IFERROR(VLOOKUP(MID(DO$23,5,4)&$A68,Lista_Ubigeo!$J:$K,2,0),\" \")","v":" "},{"$f":"IFERROR(VLOOKUP(MID(DP$23,5,4)&$A67,Lista_Ubigeo!$J:$K,2,0),\" \")","v":" "},{"$f":"IFERROR(VLOOKUP(MID(DQ$23,5,4)&$A67,Lista_Ubigeo!$J:$K,2,0),\" \")","v":" "},{"$f":"IFERROR(VLOOKUP(MID(DR$23,5,4)&$A67,Lista_Ubigeo!$J:$K,2,0),\" \")","v":" "},{"$f":"IFERROR(VLOOKUP(MID(DS$23,5,4)&$A67,Lista_Ubigeo!$J:$K,2,0),\" \")","v":" "},null,null,{"$f":"IFERROR(VLOOKUP(MID(DV$23,5,4)&$A67,Lista_Ubigeo!$J:$K,2,0),\" \")","v":" "},{"$f":"IFERROR(VLOOKUP(MID(DW$23,5,4)&$A67,Lista_Ubigeo!$J:$K,2,0),\" \")","v":" "},{"$f":"IFERROR(VLOOKUP(MID(DX$23,5,4)&$A67,Lista_Ubigeo!$J:$K,2,0),\" \")","v":" "},{"$f":"IFERROR(VLOOKUP(MID(DY$23,5,4)&$A67,Lista_Ubigeo!$J:$K,2,0),\" \")","v":"SURCO PUEBLO"},{"$f":"IFERROR(VLOOKUP(MID(DZ$23,5,4)&$A67,Lista_Ubigeo!$J:$K,2,0),\" \")","v":" "},{"$f":"IFERROR(VLOOKUP(MID(EA$23,5,4)&$A67,Lista_Ubigeo!$J:$K,2,0),\" \")","v":" "},{"$f":"IFERROR(VLOOKUP(MID(EB$23,5,4)&$A67,Lista_Ubigeo!$J:$K,2,0),\" \")","v":" "},{"$f":"IFERROR(VLOOKUP(MID(EC$23,5,4)&$A67,Lista_Ubigeo!$J:$K,2,0),\" \")","v":" "},{"$f":"IFERROR(VLOOKUP(MID(ED$23,5,4)&$A67,Lista_Ubigeo!$J:$K,2,0),\" \")","v":" "},{"$f":"IFERROR(VLOOKUP(MID(EE$23,5,4)&$A67,Lista_Ubigeo!$J:$K,2,0),\" \")","v":" "},{"$f":"IFERROR(VLOOKUP(MID(EF$23,5,4)&$A67,Lista_Ubigeo!$J:$K,2,0),\" \")","v":" "},{"$f":"IFERROR(VLOOKUP(MID(EG$23,5,4)&$A67,Lista_Ubigeo!$J:$K,2,0),\" \")","v":" "},{"$f":"IFERROR(VLOOKUP(MID(EH$23,5,4)&$A67,Lista_Ubigeo!$J:$K,2,0),\" \")","v":" "},{"$f":"IFERROR(VLOOKUP(MID(EI$23,5,4)&$A67,Lista_Ubigeo!$J:$K,2,0),\" \")","v":" "},{"$f":"IFERROR(VLOOKUP(MID(EJ$23,5,4)&$A72,Lista_Ubigeo!$J:$K,2,0),\" \")","v":" "},{"$f":"IFERROR(VLOOKUP(MID(EK$23,5,4)&$A67,Lista_Ubigeo!$J:$K,2,0),\" \")","v":" "},{"$f":"IFERROR(VLOOKUP(MID(EL$23,5,4)&$A67,Lista_Ubigeo!$J:$K,2,0),\" \")","v":" "},{"$f":"IFERROR(VLOOKUP(MID(EM$23,5,4)&$A67,Lista_Ubigeo!$J:$K,2,0),\" \")","v":" "},{"$f":"IFERROR(VLOOKUP(MID(EN$23,5,4)&$A67,Lista_Ubigeo!$J:$K,2,0),\" \")","v":" "},{"$f":"IFERROR(VLOOKUP(MID(EO$23,5,4)&$A67,Lista_Ubigeo!$J:$K,2,0),\" \")","v":" "},{"$f":"IFERROR(VLOOKUP(MID(EP$23,5,4)&$A67,Lista_Ubigeo!$J:$K,2,0),\" \")","v":" "},{"$f":"IFERROR(VLOOKUP(MID(EQ$23,5,4)&$A67,Lista_Ubigeo!$J:$K,2,0),\" \")","v":" "},{"$f":"IFERROR(VLOOKUP(MID(ER$23,5,4)&$A67,Lista_Ubigeo!$J:$K,2,0),\" \")","v":" "},{"$f":"IFERROR(VLOOKUP(MID(ES$23,5,4)&$A67,Lista_Ubigeo!$J:$K,2,0),\" \")","v":" "},{"$f":"IFERROR(VLOOKUP(MID(ET$23,5,4)&$A67,Lista_Ubigeo!$J:$K,2,0),\" \")","v":" "},{"$f":"IFERROR(VLOOKUP(MID(EU$23,5,4)&$A67,Lista_Ubigeo!$J:$K,2,0),\" \")","v":" "},{"$f":"IFERROR(VLOOKUP(MID(EV$23,5,4)&$A67,Lista_Ubigeo!$J:$K,2,0),\" \")","v":" "},{"$f":"IFERROR(VLOOKUP(MID(EW$23,5,4)&$A67,Lista_Ubigeo!$J:$K,2,0),\" \")","v":" "},{"$f":"IFERROR(VLOOKUP(MID(EX$23,5,4)&$A67,Lista_Ubigeo!$J:$K,2,0),\" \")","v":" "},{"$f":"IFERROR(VLOOKUP(MID(EY$23,5,4)&$A67,Lista_Ubigeo!$J:$K,2,0),\" \")","v":" "},{"$f":"IFERROR(VLOOKUP(MID(EZ$23,5,4)&$A70,Lista_Ubigeo!$J:$K,2,0),\" \")","v":" "},{"$f":"IFERROR(VLOOKUP(MID(FA$23,5,4)&$A67,Lista_Ubigeo!$J:$K,2,0),\" \")","v":" "},{"$f":"IFERROR(VLOOKUP(MID(FB$23,5,4)&$A67,Lista_Ubigeo!$J:$K,2,0),\" \")","v":" "},{"$f":"IFERROR(VLOOKUP(MID(FC$23,5,4)&$A67,Lista_Ubigeo!$J:$K,2,0),\" \")","v":" "},{"$f":"IFERROR(VLOOKUP(MID(FD$23,5,4)&$A67,Lista_Ubigeo!$J:$K,2,0),\" \")","v":" "},{"$f":"IFERROR(VLOOKUP(MID(FE$23,5,4)&$A67,Lista_Ubigeo!$J:$K,2,0),\" \")","v":" "},{"$f":"IFERROR(VLOOKUP(MID(FF$23,5,4)&$A67,Lista_Ubigeo!$J:$K,2,0),\" \")","v":" "},{"$f":"IFERROR(VLOOKUP(MID(FG$23,5,4)&$A67,Lista_Ubigeo!$J:$K,2,0),\" \")","v":" "},{"$f":"IFERROR(VLOOKUP(MID(FH$23,5,4)&$A67,Lista_Ubigeo!$J:$K,2,0),\" \")","v":" "},{"$f":"IFERROR(VLOOKUP(MID(FI$23,5,4)&$A67,Lista_Ubigeo!$J:$K,2,0),\" \")","v":" "},{"$f":"IFERROR(VLOOKUP(MID(FJ$23,5,4)&$A67,Lista_Ubigeo!$J:$K,2,0),\" \")","v":" "},{"$f":"IFERROR(VLOOKUP(MID(FK$23,5,4)&$A67,Lista_Ubigeo!$J:$K,2,0),\" \")","v":" "},{"$f":"IFERROR(VLOOKUP(MID(FL$23,5,4)&$A67,Lista_Ubigeo!$J:$K,2,0),\" \")","v":" "},{"$f":"IFERROR(VLOOKUP(MID(FM$23,5,4)&$A67,Lista_Ubigeo!$J:$K,2,0),\" \")","v":" "},{"$f":"IFERROR(VLOOKUP(MID(FN$23,5,4)&$A67,Lista_Ubigeo!$J:$K,2,0),\" \")","v":" "},{"$f":"IFERROR(VLOOKUP(MID(FO$23,5,4)&$A67,Lista_Ubigeo!$J:$K,2,0),\" \")","v":" "},{"$f":"IFERROR(VLOOKUP(MID(FP$23,5,4)&$A67,Lista_Ubigeo!$J:$K,2,0),\" \")","v":" "},{"$f":"IFERROR(VLOOKUP(MID(FQ$23,5,4)&$A67,Lista_Ubigeo!$J:$K,2,0),\" \")","v":" "},{"$f":"IFERROR(VLOOKUP(MID(FR$23,5,4)&$A67,Lista_Ubigeo!$J:$K,2,0),\" \")","v":" "},{"$f":"IFERROR(VLOOKUP(MID(FS$23,5,4)&$A67,Lista_Ubigeo!$J:$K,2,0),\" \")","v":" "},{"$f":"IFERROR(VLOOKUP(MID(FT$23,5,4)&$A67,Lista_Ubigeo!$J:$K,2,0),\" \")","v":" "},{"$f":"IFERROR(VLOOKUP(MID(FU$23,5,4)&$A67,Lista_Ubigeo!$J:$K,2,0),\" \")","v":" "},{"$f":"IFERROR(VLOOKUP(MID(FV$23,5,4)&$A67,Lista_Ubigeo!$J:$K,2,0),\" \")","v":" "},{"$f":"IFERROR(VLOOKUP(MID(FW$23,5,4)&$A67,Lista_Ubigeo!$J:$K,2,0),\" \")","v":" "},{"$f":"IFERROR(VLOOKUP(MID(FX$23,5,4)&$A67,Lista_Ubigeo!$J:$K,2,0),\" \")","v":" "},{"$f":"IFERROR(VLOOKUP(MID(FY$23,5,4)&$A67,Lista_Ubigeo!$J:$K,2,0),\" \")","v":" "},{"$f":"IFERROR(VLOOKUP(MID(FZ$23,5,4)&$A67,Lista_Ubigeo!$J:$K,2,0),\" \")","v":" "},{"$f":"IFERROR(VLOOKUP(MID(GA$23,5,4)&$A67,Lista_Ubigeo!$J:$K,2,0),\" \")","v":" "},{"$f":"IFERROR(VLOOKUP(MID(GB$23,5,4)&$A67,Lista_Ubigeo!$J:$K,2,0),\" \")","v":" "},{"$f":"IFERROR(VLOOKUP(MID(GC$23,5,4)&$A67,Lista_Ubigeo!$J:$K,2,0),\" \")","v":" "},{"$f":"IFERROR(VLOOKUP(MID(GD$23,5,4)&$A67,Lista_Ubigeo!$J:$K,2,0),\" \")","v":" "},{"$f":"IFERROR(VLOOKUP(MID(GE$23,5,4)&$A67,Lista_Ubigeo!$J:$K,2,0),\" \")","v":" "},{"$f":"IFERROR(VLOOKUP(MID(GF$23,5,4)&$A67,Lista_Ubigeo!$J:$K,2,0),\" \")","v":" "},{"$f":"IFERROR(VLOOKUP(MID(GG$23,5,4)&$A67,Lista_Ubigeo!$J:$K,2,0),\" \")","v":" "},{"$f":"IFERROR(VLOOKUP(MID(GH$23,5,4)&$A67,Lista_Ubigeo!$J:$K,2,0),\" \")","v":" "},{"$f":"IFERROR(VLOOKUP(MID(GI$23,5,4)&$A67,Lista_Ubigeo!$J:$K,2,0),\" \")","v":" "},{"$f":"IFERROR(VLOOKUP(MID(GJ$23,5,4)&$A67,Lista_Ubigeo!$J:$K,2,0),\" \")","v":" "},{"$f":"IFERROR(VLOOKUP(MID(GK$23,5,4)&$A67,Lista_Ubigeo!$J:$K,2,0),\" \")","v":" "},{"$f":"IFERROR(VLOOKUP(MID(GL$23,5,4)&$A67,Lista_Ubigeo!$J:$K,2,0),\" \")","v":" "},{"$f":"IFERROR(VLOOKUP(MID(GM$23,5,4)&$A67,Lista_Ubigeo!$J:$K,2,0),\" \")","v":" "},{"$f":"IFERROR(VLOOKUP(MID(GN$23,5,4)&$A67,Lista_Ubigeo!$J:$K,2,0),\" \")","v":" "},{"$f":"IFERROR(VLOOKUP(MID(GO$23,5,4)&$A67,Lista_Ubigeo!$J:$K,2,0),\" \")","v":" "},{"$f":"IFERROR(VLOOKUP(MID(GP$23,5,4)&$A67,Lista_Ubigeo!$J:$K,2,0),\" \")","v":" "}]

{"sheet":"Lista_Ubigeo","index":8,"n_rows":2070,"n_cols":13,"rows_kept":2070,"hidden":true}
["DEPARTAMENTO","COD_DEP","DEPARTAMENTO","COD_DEP2","PROVINCIA","COD_PROV","PROVINCIA","COD_PROV2","DISTRITO","COD_DIST","DISTRITO","LLAVE1","COD_DIST"]
["AMAZONAS","01","AMAZONAS","AMA_01","CHACHAPOYAS","0101","CHACHAPOYAS",{"$f":"LEFT(UPPER(G2),3)&\"_\"&F2","v":"CHA_0101"},"CHACHAPOYAS","010101","CHACHAPOYAS",{"$f":"\"PERU\"&VLOOKUP(LEFT(J2,2),$B$1:$C$27,2,0)&VLOOKUP(LEFT(J2,4),$F$2:$G$197,2,0)&K2","v":"PERUAMAZONASCHACHAPOYASCHACHAPOYAS"},{"$f":"J2","v":"010101"}]
["ANCASH","02","ANCASH","ANC_02","BAGUA","0102","BAGUA",{"$f":"LEFT(UPPER(G3),3)&\"_\"&F3","v":"BAG_0102"},"ASUNCION","010102","ASUNCION",{"$f":"\"PERU\"&VLOOKUP(LEFT(J3,2),$B$1:$C$27,2,0)&VLOOKUP(LEFT(J3,4),$F$2:$G$197,2,0)&K3","v":"PERUAMAZONASCHACHAPOYASASUNCION"},{"$f":"J3","v":"010102"}]
["APURIMAC","03","APURIMAC","APU_03","BONGARA","0103","BONGARA","BON_0103","BALSAS","010103","BALSAS","PERUAMAZONASCHACHAPOYASBALSAS","010103"]
["AREQUIPA","04","AREQUIPA","ARE_04","CONDORCANQUI","0104","CONDORCANQUI","CON_0104","CHETO","010104","CHETO","PERUAMAZONASCHACHAPOYASCHETO","010104"]
["AYACUCHO","05","AYACUCHO","AYA_05","LUYA","0105","LUYA","LUY_0105","CHILIQUIN","010105","CHILIQUIN","PERUAMAZONASCHACHAPOYASCHILIQUIN","010105"]
["CAJAMARCA","06","CAJAMARCA","CAJ_06","RODRIGUEZ DE MENDOZA","0106","RODRIGUEZ DE MENDOZA","ROD_0106","CHUQUIBAMBA","010106","CHUQUIBAMBA","PERUAMAZONASCHACHAPOYASCHUQUIBAMBA","010106"]
["CALLAO","07","CALLAO","CAL_07","UTCUBAMBA","0107","UTCUBAMBA","UTC_0107","GRANADA","010107","GRANADA","PERUAMAZONASCHACHAPOYASGRANADA","010107"]
["CUSCO","08","CUSCO","CUS_08","HUARAZ","0201","HUARAZ","HUA_0201","HUANCAS","010108","HUANCAS","PERUAMAZONASCHACHAPOYASHUANCAS","010108"]
["HUANCAVELICA","09","HUANCAVELICA","HUA_09","AIJA","0202","AIJA","AIJ_0202","LA JALCA","010109","LA JALCA","PERUAMAZONASCHACHAPOYASLA JALCA","010109"]
["HUANUCO","10","HUANUCO","HUA_10","ANTONIO RAYMONDI","0203","ANTONIO RAYMONDI","ANT_0203","LEIMEBAMBA","010110","LEIMEBAMBA","PERUAMAZONASCHACHAPOYASLEIMEBAMBA","010110"]
["ICA","11","ICA","ICA_11","ASUNCION","0204","ASUNCION","ASU_0204","LEVANTO","010111","LEVANTO","PERUAMAZONASCHACHAPOYASLEVANTO","010111"]
["JUNIN","12","JUNIN","JUN_12","BOLOGNESI","0205","BOLOGNESI","BOL_0205","MAGDALENA","010112","MAGDALENA","PERUAMAZONASCHACHAPOYASMAGDALENA","010112"]
["LA LIBERTAD","13","LA LIBERTAD","LIB_13","CARHUAZ","0206","CARHUAZ","CAR_0206","MARISCAL CASTILLA","010113","MARISCAL CASTILLA","PERUAMAZONASCHACHAPOYASMARISCAL CASTILLA","010113"]
["LAMBAYEQUE","14","LAMBAYEQUE","LAM_14","CARLOS FERMIN FITZCARRALD","0207","CARLOS FERMIN FITZCARRALD","CAR_0207","MOLINOPAMPA","010114","MOLINOPAMPA","PERUAMAZONASCHACHAPOYASMOLINOPAMPA","010114"]
["LIMA","15","LIMA","LIM_15","CASMA","0208","CASMA","CAS_0208","MONTEVIDEO","010115","MONTEVIDEO","PERUAMAZONASCHACHAPOYASMONTEVIDEO","010115"]
["LORETO","16","LORETO","LOR_16","CORONGO","0209","CORONGO","COR_0209","OLLEROS","010116","OLLEROS","PERUAMAZONASCHACHAPOYASOLLEROS","010116"]
["MADRE DE DIOS","17","MADRE DE DIOS","MAD_17","HUARI","0210","HUARI","HUA_0210","QUIJALCA","010117","QUIJALCA","PERUAMAZONASCHACHAPOYASQUIJALCA","010117"]
["MOQUEGUA","18","MOQUEGUA","MOQ_18","HUARMEY","0211","HUARMEY","HUA_0211","SAN FRANCISCO DE DAGUAS","010118","SAN FRANCISCO DE DAGUAS","PERUAMAZONASCHACHAPOYASSAN FRANCISCO DE DAGUAS","010118"]
["PASCO","19","PASCO","PAS_19","HUAYLAS","0212","HUAYLAS","HUA_0212","SAN ISIDRO DE MAINO","010119","SAN ISIDRO DE MAINO","PERUAMAZONASCHACHAPOYASSAN ISIDRO DE MAINO","010119"]
["PIURA","20","PIURA","PIU_20","MARISCAL LUZURIAGA","0213","MARISCAL LUZURIAGA","MAR_0213","SOLOCO","010120","SOLOCO","PERUAMAZONASCHACHAPOYASSOLOCO","010120"]
["PUNO","21","PUNO","PUN_21","OCROS","0214","OCROS","OCR_0214","SONCHE","010121","SONCHE","PERUAMAZONASCHACHAPOYASSONCHE","010121"]
["SAN MARTIN","22","SAN MARTIN","SAN_22","PALLASCA","0215","PALLASCA","PAL_0215","BAGUA","010201","BAGUA","PERUAMAZONASBAGUABAGUA","010201"]
["TACNA","23","TACNA","TAC_23","POMABAMBA","0216","POMABAMBA","POM_0216","ARAMANGO","010202","ARAMANGO","PERUAMAZONASBAGUAARAMANGO","010202"]
["TUMBES","24","TUMBES","TUM_24","RECUAY","0217","RECUAY","REC_0217","COPALLIN","010203","COPALLIN","PERUAMAZONASBAGUACOPALLIN","010203"]
["UCAYALI","25","UCAYALI","UCA_25","SANTA","0218","SANTA","SAN_0218","EL PARCO","010204","EL PARCO","PERUAMAZONASBAGUAEL PARCO","010204"]
[{"$nulls":4},"SIHUAS","0219","SIHUAS","SIH_0219","IMAZA","010205","IMAZA","PERUAMAZONASBAGUAIMAZA","010205"]
[{"$nulls":4},"YUNGAY","0220","YUNGAY","YUN_0220","LA PECA","010206","LA PECA","PERUAMAZONASBAGUALA PECA","010206"]
[{"$nulls":4},"ABANCAY","0301","ABANCAY","ABA_0301","JUMBILLA","010301","JUMBILLA","PERUAMAZONASBONGARAJUMBILLA","010301"]
[{"$nulls":4},"ANDAHUAYLAS","0302","ANDAHUAYLAS","AND_0302","CHISQUILLA","010302","CHISQUILLA","PERUAMAZONASBONGARACHISQUILLA","010302"]
[{"$nulls":4},"ANTABAMBA","0303","ANTABAMBA","ANT_0303","CHURUJA","010303","CHURUJA","PERUAMAZONASBONGARACHURUJA","010303"]
[{"$nulls":4},"AYMARAES","0304","AYMARAES","AYM_0304","COROSHA","010304","COROSHA","PERUAMAZONASBONGARACOROSHA","010304"]
[{"$nulls":4},"COTABAMBAS","0305","COTABAMBAS","COT_0305","CUISPES","010305","CUISPES","PERUAMAZONASBONGARACUISPES","010305"]
[{"$nulls":4},"CHINCHEROS","0306","CHINCHEROS","CHI_0306","FLORIDA","010306","FLORIDA","PERUAMAZONASBONGARAFLORIDA","010306"]
[{"$nulls":4},"GRAU","0307","GRAU","GRA_0307","JAZAN","010307","JAZAN","PERUAMAZONASBONGARAJAZAN","010307"]
[{"$nulls":4},"AREQUIPA","0401","AREQUIPA","ARE_0401","RECTA","010308","RECTA","PERUAMAZONASBONGARARECTA","010308"]
[{"$nulls":4},"CAMANA","0402","CAMANA","CAM_0402","SAN CARLOS","010309","SAN CARLOS","PERUAMAZONASBONGARASAN CARLOS","010309"]
[{"$nulls":4},"CARAVELI","0403","CARAVELI","CAR_0403","SHIPASBAMBA","010310","SHIPASBAMBA","PERUAMAZONASBONGARASHIPASBAMBA","010310"]
[{"$nulls":4},"CASTILLA","0404","CASTILLA","CAS_0404","VALERA","010311","VALERA","PERUAMAZONASBONGARAVALERA","010311"]
[{"$nulls":4},"CAYLLOMA","0405","CAYLLOMA","CAY_0405","YAMBRASBAMBA","010312","YAMBRASBAMBA","PERUAMAZONASBONGARAYAMBRASBAMBA","010312"]
[{"$nulls":4},"CONDESUYOS","0406","CONDESUYOS","CON_0406","NIEVA","010401","NIEVA","PERUAMAZONASCONDORCANQUINIEVA","010401"]
[{"$nulls":4},"ISLAY","0407","ISLAY","ISL_0407","EL CENEPA","010402","EL CENEPA","PERUAMAZONASCONDORCANQUIEL CENEPA","010402"]
[{"$nulls":4},"LA UNION","0408","LA UNION",{"$f":"LEFT(UPPER(G43),2)&\"_\"&F43","v":"LA_0408"},"RIO SANTIAGO","010403","RIO SANTIAGO","PERUAMAZONASCONDORCANQUIRIO SANTIAGO","010403"]
[{"$nulls":4},"HUAMANGA","0501","HUAMANGA","HUA_0501","LAMUD","010501","LAMUD","PERUAMAZONASLUYALAMUD","010501"]
[{"$nulls":4},"CANGALLO","0502","CANGALLO","CAN_0502","CAMPORREDONDO","010502","CAMPORREDONDO","PERUAMAZONASLUYACAMPORREDONDO","010502"]
[{"$nulls":4},"HUANCA SANCOS","0503","HUANCA SANCOS","HUA_0503","COCABAMBA","010503","COCABAMBA","PERUAMAZONASLUYACOCABAMBA","010503"]
[{"$nulls":4},"HUANTA","0504","HUANTA","HUA_0504","COLCAMAR","010504","COLCAMAR","PERUAMAZONASLUYACOLCAMAR","010504"]
[{"$nulls":4},"LA MAR","0505","LA MAR","LA _0505","CONILA","010505","CONILA","PERUAMAZONASLUYACONILA","010505"]
[{"$nulls":4},"LUCANAS","0506","LUCANAS","LUC_0506","INGUILPATA","010506","INGUILPATA","PERUAMAZONASLUYAINGUILPATA","010506"]
[{"$nulls":4},"PARINACOCHAS","0507","PARINACOCHAS","PAR_0507","LONGUITA","010507","LONGUITA","PERUAMAZONASLUYALONGUITA","010507"]
[{"$nulls":4},"PAUCAR DEL SARA SARA","0508","PAUCAR DEL SARA SARA","PAU_0508","LONYA CHICO","010508","LONYA CHICO","PERUAMAZONASLUYALONYA CHICO","010508"]
[{"$nulls":4},"SUCRE","0509","SUCRE","SUC_0509","LUYA","010509","LUYA","PERUAMAZONASLUYALUYA","010509"]
[{"$nulls":4},"VICTOR FAJARDO","0510","VICTOR FAJARDO","VIC_0510","LUYA VIEJO","010510","LUYA VIEJO","PERUAMAZONASLUYALUYA VIEJO","010510"]
[{"$nulls":4},"VILCAS HUAMAN","0511","VILCAS HUAMAN","VIL_0511","MARIA","010511","MARIA","PERUAMAZONASLUYAMARIA","010511"]
[{"$nulls":4},"CAJAMARCA","0601","CAJAMARCA","CAJ_0601","OCALLI","010512","OCALLI","PERUAMAZONASLUYAOCALLI","010512"]
[{"$nulls":4},"CAJABAMBA","0602","CAJABAMBA","CAJ_0602","OCUMAL","010513","OCUMAL","PERUAMAZONASLUYAOCUMAL","010513"]
[{"$nulls":4},"CELENDIN","0603","CELENDIN","CEL_0603","PISUQUIA","010514","PISUQUIA","PERUAMAZONASLUYAPISUQUIA","010514"]
[{"$nulls":4},"CHOTA","0604","CHOTA","CHO_0604","PROVIDENCIA","010515","PROVIDENCIA","PERUAMAZONASLUYAPROVIDENCIA","010515"]
[{"$nulls":4},"CONTUMAZA","0605","CONTUMAZA","CON_0605","SAN CRISTOBAL","010516","SAN CRISTOBAL","PERUAMAZONASLUYASAN CRISTOBAL","010516"]
[{"$nulls":4},"CUTERVO","0606","CUTERVO","CUT_0606","SAN FRANCISCO DEL YESO","010517","SAN FRANCISCO DEL YESO","PERUAMAZONASLUYASAN FRANCISCO DEL YESO","010517"]
[{"$nulls":4},"HUALGAYOC","0607","HUALGAYOC","HUA_0607","SAN JERONIMO","010518","SAN JERONIMO","PERUAMAZONASLUYASAN JERONIMO","010518"]
[{"$nulls":4},"JAEN","0608","JAEN","JAE_0608","SAN JUAN DE LOPECANCHA","010519","SAN JUAN DE LOPECANCHA","PERUAMAZONASLUYASAN JUAN DE LOPECANCHA","010519"]
[{"$nulls":4},"SAN IGNACIO","0609","SAN IGNACIO","SAN_0609","SANTA CATALINA","010520","SANTA CATALINA","PERUAMAZONASLUYASANTA CATALINA","010520"]
[{"$nulls":4},"SAN MARCOS","0610","SAN MARCOS","SAN_0610","SANTO TOMAS","010521","SANTO TOMAS","PERUAMAZONASLUYASANTO TOMAS","010521"]
[{"$nulls":4},"SAN MIGUEL","0611","SAN MIGUEL","SAN_0611","TINGO","010522","TINGO","PERUAMAZONASLUYATINGO","010522"]
[{"$nulls":4},"SAN PABLO","0612","SAN PABLO","SAN_0612","TRITA","010523","TRITA","PERUAMAZONASLUYATRITA","010523"]
[{"$nulls":4},"SANTA CRUZ","0613","SANTA CRUZ",{"$f":"LEFT(UPPER(G67),3)&\"_\"&F67","v":"SAN_0613"},"SAN NICOLAS","010601","SAN NICOLAS",{"$f":"\"PERU\"&VLOOKUP(LEFT(J67,2),$B$1:$C$27,2,0)&VLOOKUP(LEFT(J67,4),$F$2:$G$197,2,0)&K67","v":"PERUAMAZONASRODRIGUEZ DE MENDOZASAN NICOLAS"},{"$f":"J67","v":"010601"}]
[{"$nulls":4},"CALLAO","0701","CALLAO","PRO_0701","CHIRIMOTO","010602","CHIRIMOTO","PERUAMAZONASRODRIGUEZ DE MENDOZACHIRIMOTO","010602"]
[{"$nulls":4},"CUSCO","0801","CUSCO","CUS_0801","COCHAMAL","010603","COCHAMAL","PERUAMAZONASRODRIGUEZ DE MENDOZACOCHAMAL","010603"]
[{"$nulls":4},"ACOMAYO","0802","ACOMAYO","ACO_0802","HUAMBO","010604","HUAMBO","PERUAMAZONASRODRIGUEZ DE MENDOZAHUAMBO","010604"]
[{"$nulls":4},"ANTA","0803","ANTA","ANT_0803","LIMABAMBA","010605","LIMABAMBA","PERUAMAZONASRODRIGUEZ DE MENDOZALIMABAMBA","010605"]
[{"$nulls":4},"CALCA","0804","CALCA","CAL_0804","LONGAR","010606","LONGAR","PERUAMAZONASRODRIGUEZ DE MENDOZALONGAR","010606"]
[{"$nulls":4},"CANAS","0805","CANAS","CAN_0805","MARISCAL BENAVIDES","010607","MARISCAL BENAVIDES","PERUAMAZONASRODRIGUEZ DE MENDOZAMARISCAL BENAVIDES","010607"]
[{"$nulls":4},"CANCHIS","0806","CANCHIS","CAN_0806","MILPUC","010608","MILPUC","PERUAMAZONASRODRIGUEZ DE MENDOZAMILPUC","010608"]
[{"$nulls":4},"CHUMBIVILCAS","0807","CHUMBIVILCAS","CHU_0807","OMIA","010609","OMIA","PERUAMAZONASRODRIGUEZ DE MENDOZAOMIA","010609"]
[{"$nulls":4},"ESPINAR","0808","ESPINAR","ESP_0808","SANTA ROSA","010610","SANTA ROSA","PERUAMAZONASRODRIGUEZ DE MENDOZASANTA ROSA","010610"]
[{"$nulls":4},"LA CONVENCION","0809","LA CONVENCION",{"$f":"LEFT(UPPER(G77),2)&\"_\"&F77","v":"LA_0809"},"TOTORA","010611","TOTORA","PERUAMAZONASRODRIGUEZ DE MENDOZATOTORA","010611"]
[{"$nulls":4},"PARURO","0810","PARURO","PAR_0810","VISTA ALEGRE","010612","VISTA ALEGRE","PERUAMAZONASRODRIGUEZ DE MENDOZAVISTA ALEGRE","010612"]
[{"$nulls":4},"PAUCARTAMBO","0811","PAUCARTAMBO","PAU_0811","BAGUA GRANDE","010701","BAGUA GRANDE","PERUAMAZONASUTCUBAMBABAGUA GRANDE","010701"]
[{"$nulls":4},"QUISPICANCHI","0812","QUISPICANCHI","QUI_0812","CAJARURO","010702","CAJARURO","PERUAMAZONASUTCUBAMBACAJARURO","010702"]
[{"$nulls":4},"URUBAMBA","0813","URUBAMBA","URU_0813","CUMBA","010703","CUMBA","PERUAMAZONASUTCUBAMBACUMBA","010703"]
[{"$nulls":4},"HUANCAVELICA","0901","HUANCAVELICA","HUA_0901","EL MILAGRO","010704","EL MILAGRO","PERUAMAZONASUTCUBAMBAEL MILAGRO","010704"]
[{"$nulls":4},"ACOBAMBA","0902","ACOBAMBA","ACO_0902","JAMALCA","010705","JAMALCA","PERUAMAZONASUTCUBAMBAJAMALCA","010705"]
[{"$nulls":4},"ANGARAES","0903","ANGARAES","ANG_0903","LONYA GRANDE","010706","LONYA GRANDE","PERUAMAZONASUTCUBAMBALONYA GRANDE","010706"]
[{"$nulls":4},"CASTROVIRREYNA","0904","CASTROVIRREYNA","CAS_0904","YAMON","010707","YAMON","PERUAMAZONASUTCUBAMBAYAMON","010707"]
[{"$nulls":4},"CHURCAMPA","0905","CHURCAMPA","CHU_0905","HUARAZ","020101","HUARAZ","PERUANCASHHUARAZHUARAZ","020101"]
[{"$nulls":4},"HUAYTARA","0906","HUAYTARA","HUA_0906","COCHABAMBA","020102","COCHABAMBA","PERUANCASHHUARAZCOCHABAMBA","020102"]
[{"$nulls":4},"TAYACAJA","0907","TAYACAJA","TAY_0907","COLCABAMBA","020103","COLCABAMBA","PERUANCASHHUARAZCOLCABAMBA","020103"]
[{"$nulls":4},"HUANUCO","1001","HUANUCO","HUA_1001","HUANCHAY","020104","HUANCHAY","PERUANCASHHUARAZHUANCHAY","020104"]
[{"$nulls":4},"AMBO","1002","AMBO","AMB_1002","INDEPENDENCIA","020105","INDEPENDENCIA","PERUANCASHHUARAZINDEPENDENCIA","020105"]
[{"$nulls":4},"DOS DE MAYO","1003","DOS DE MAYO","DOS_1003","JANGAS","020106","JANGAS","PERUANCASHHUARAZJANGAS","020106"]
[{"$nulls":4},"HUACAYBAMBA","1004","HUACAYBAMBA","HUA_1004","LA LIBERTAD","020107","LA LIBERTAD","PERUANCASHHUARAZLA LIBERTAD","020107"]
[{"$nulls":4},"HUAMALIES","1005","HUAMALIES","HUA_1005","OLLEROS","020108","OLLEROS","PERUANCASHHUARAZOLLEROS","020108"]
[{"$nulls":4},"LEONCIO PRADO","1006","LEONCIO PRADO","LEO_1006","PAMPAS GRANDE","020109","PAMPAS GRANDE","PERUANCASHHUARAZPAMPAS GRANDE","020109"]
[{"$nulls":4},"MARAÑON","1007","MARAÑON","MAR_1007","PARIACOTO","020110","PARIACOTO","PERUANCASHHUARAZPARIACOTO","020110"]
[{"$nulls":4},"PACHITEA","1008","PACHITEA","PAC_1008","PIRA","020111","PIRA","PERUANCASHHUARAZPIRA","020111"]
[{"$nulls":4},"PUERTO INCA","1009","PUERTO INCA","PUE_1009","TARICA","020112","TARICA","PERUANCASHHUARAZTARICA","020112"]
[{"$nulls":4},"LAURICOCHA","1010","LAURICOCHA","LAU_1010","AIJA","020201","AIJA","PERUANCASHAIJAAIJA","020201"]
[{"$nulls":4},"YAROWILCA","1011","YAROWILCA","YAR_1011","CORIS","020202","CORIS","PERUANCASHAIJACORIS","020202"]
[{"$nulls":4},"ICA","1101","ICA","ICA_1101","HUACLLAN","020203","HUACLLAN","PERUANCASHAIJAHUACLLAN","020203"]
[{"$nulls":4},"CHINCHA","1102","CHINCHA","CHI_1102","LA MERCED","020204","LA MERCED","PERUANCASHAIJALA MERCED","020204"]
[{"$nulls":4},"NAZCA","1103","NAZCA","NAZ_1103","SUCCHA","020205","SUCCHA","PERUANCASHAIJASUCCHA","020205"]
[{"$nulls":4},"PALPA","1104","PALPA","PAL_1104","LLAMELLIN","020301","LLAMELLIN","PERUANCASHANTONIO RAYMONDILLAMELLIN","020301"]
[{"$nulls":4},"PISCO","1105","PISCO","PIS_1105","ACZO","020302","ACZO","PERUANCASHANTONIO RAYMONDIACZO","020302"]
[{"$nulls":4},"HUANCAYO","1201","HUANCAYO","HUA_1201","CHACCHO","020303","CHACCHO","PERUANCASHANTONIO RAYMONDICHACCHO","020303"]
[{"$nulls":4},"CONCEPCION","1202","CONCEPCION","CON_1202","CHINGAS","020304","CHINGAS","PERUANCASHANTONIO RAYMONDICHINGAS","020304"]
[{"$nulls":4},"CHANCHAMAYO","1203","CHANCHAMAYO","CHA_1203","MIRGAS","020305","MIRGAS","PERUANCASHANTONIO RAYMONDIMIRGAS","020305"]
[{"$nulls":4},"JAUJA","1204","JAUJA","JAU_1204","SAN JUAN DE RONTOY","020306","SAN JUAN DE RONTOY","PERUANCASHANTONIO RAYMONDISAN JUAN DE RONTOY","020306"]
[{"$nulls":4},"JUNIN","1205","JUNIN","JUN_1205","CHACAS","020401","CHACAS","PERUANCASHASUNCIONCHACAS","020401"]
[{"$nulls":4},"SATIPO","1206","SATIPO","SAT_1206","ACOCHACA","020402","ACOCHACA","PERUANCASHASUNCIONACOCHACA","020402"]
[{"$nulls":4},"TARMA","1207","TARMA","TAR_1207","CHIQUIAN","020501","CHIQUIAN","PERUANCASHBOLOGNESICHIQUIAN","020501"]
[{"$nulls":4},"YAULI","1208","YAULI","YAU_1208","ABELARDO PARDO LEZAMETA","020502","ABELARDO PARDO LEZAMETA","PERUANCASHBOLOGNESIABELARDO PARDO LEZAMETA","020502"]
[{"$nulls":4},"CHUPACA","1209","CHUPACA","CHU_1209","ANTONIO RAYMONDI","020503","ANTONIO RAYMONDI","PERUANCASHBOLOGNESIANTONIO RAYMONDI","020503"]
[{"$nulls":4},"TRUJILLO","1301","TRUJILLO","TRU_1301","AGUIA","020504","AGUIA","PERUANCASHBOLOGNESIAGUIA","020504"]
[{"$nulls":4},"ASCOPE","1302","ASCOPE","ASC_1302","CAJACAY","020505","CAJACAY","PERUANCASHBOLOGNESICAJACAY","020505"]
[{"$nulls":4},"BOLIVAR","1303","BOLIVAR","BOL_1303","CANIS","020506","CANIS","PERUANCASHBOLOGNESICANIS","020506"]
[{"$nulls":4},"CHEPEN","1304","CHEPEN","CHE_1304","COLQUIOC","020507","COLQUIOC","PERUANCASHBOLOGNESICOLQUIOC","020507"]
[{"$nulls":4},"JULCAN","1305","JULCAN","JUL_1305","HUALLANCA","020508","HUALLANCA","PERUANCASHBOLOGNESIHUALLANCA","020508"]
[{"$nulls":4},"OTUZCO","1306","OTUZCO","OTU_1306","HUASTA","020509","HUASTA","PERUANCASHBOLOGNESIHUASTA","020509"]
[{"$nulls":4},"PACASMAYO","1307","PACASMAYO","PAC_1307","HUAYLLACAYAN","020510","HUAYLLACAYAN","PERUANCASHBOLOGNESIHUAYLLACAYAN","020510"]
[{"$nulls":4},"PATAZ","1308","PATAZ","PAT_1308","LA PRIMAVERA","020511","LA PRIMAVERA","PERUANCASHBOLOGNESILA PRIMAVERA","020511"]
[{"$nulls":4},"SANCHEZ CARRION","1309","SANCHEZ CARRION","SAN_1309","MANGAS","020512","MANGAS","PERUANCASHBOLOGNESIMANGAS","020512"]
[{"$nulls":4},"SANTIAGO DE CHUCO","1310","SANTIAGO DE CHUCO","SAN_1310","PACLLON","020513","PACLLON","PERUANCASHBOLOGNESIPACLLON","020513"]
[{"$nulls":4},"GRAN CHIMU","1311","GRAN CHIMU","GRA_1311","SAN MIGUEL DE CORPANQUI","020514","SAN MIGUEL DE CORPANQUI","PERUANCASHBOLOGNESISAN MIGUEL DE CORPANQUI","020514"]
[{"$nulls":4},"VIRU","1312","VIRU","VIR_1312","TICLLOS","020515","TICLLOS","PERUANCASHBOLOGNESITICLLOS","020515"]
[{"$nulls":4},"CHICLAYO","1401","CHICLAYO","CHI_1401","CARHUAZ","020601","CARHUAZ","PERUANCASHCARHUAZCARHUAZ","020601"]
[{"$nulls":4},"FERREÑAFE","1402","FERREÑAFE","FER_1402","ACOPAMPA","020602","ACOPAMPA","PERUANCASHCARHUAZACOPAMPA","020602"]
[{"$nulls":4},"LAMBAYEQUE","1403","LAMBAYEQUE","LAM_1403","AMASHCA","020603","AMASHCA","PERUANCASHCARHUAZAMASHCA","020603"]
[{"$nulls":4},"LIMA","1501","LIMA","LIM_1501","ANTA","020604","ANTA","PERUANCASHCARHUAZANTA","020604"]
[{"$nulls":4},"BARRANCA","1502","BARRANCA","BAR_1502","ATAQUERO","020605","ATAQUERO","PERUANCASHCARHUAZATAQUERO","020605"]
[{"$nulls":4},"CAJATAMBO","1503","CAJATAMBO",{"$f":"LEFT(UPPER(G131),3)&\"_\"&F131","v":"CAJ_1503"},"MARCARA","020606","MARCARA",{"$f":"\"PERU\"&VLOOKUP(LEFT(J131,2),$B$1:$C$27,2,0)&VLOOKUP(LEFT(J131,4),$F$2:$G$197,2,0)&K131","v":"PERUANCASHCARHUAZMARCARA"},{"$f":"J131","v":"020606"}]
[{"$nulls":4},"CANTA","1504","CANTA","CAN_1504","PARIAHUANCA","020607","PARIAHUANCA","PERUANCASHCARHUAZPARIAHUANCA","020607"]
[{"$nulls":4},"CAÑETE","1505","CAÑETE","CAÑ_1505","SAN MIGUEL DE ACO","020608","SAN MIGUEL DE ACO","PERUANCASHCARHUAZSAN MIGUEL DE ACO","020608"]
[{"$nulls":4},"HUARAL","1506","HUARAL","HUA_1506","SHILLA","020609","SHILLA","PERUANCASHCARHUAZSHILLA","020609"]
[{"$nulls":4},"HUAROCHIRI","1507","HUAROCHIRI","HUA_1507","TINCO","020610","TINCO","PERUANCASHCARHUAZTINCO","020610"]
[{"$nulls":4},"HUAURA","1508","HUAURA","HUA_1508","YUNGAR","020611","YUNGAR","PERUANCASHCARHUAZYUNGAR","020611"]
[{"$nulls":4},"OYON","1509","OYON","OYO_1509","SAN LUIS","020701","SAN LUIS","PERUANCASHCARLOS FERMIN FITZCARRALDSAN LUIS","020701"]
[{"$nulls":4},"YAUYOS","1510","YAUYOS","YAU_1510","SAN NICOLAS","020702","SAN NICOLAS","PERUANCASHCARLOS FERMIN FITZCARRALDSAN NICOLAS","020702"]
[{"$nulls":4},"MAYNAS","1601","MAYNAS","MAY_1601","YAUYA","020703","YAUYA","PERUANCASHCARLOS FERMIN FITZCARRALDYAUYA","020703"]
[{"$nulls":4},"ALTO AMAZONAS","1602","ALTO AMAZONAS","ALT_1602","CASMA","020801","CASMA","PERUANCASHCASMACASMA","020801"]
[{"$nulls":4},"LORETO","1603","LORETO","LOR_1603","BUENA VISTA ALTA","020802","BUENA VISTA ALTA","PERUANCASHCASMABUENA VISTA ALTA","020802"]
[{"$nulls":4},"MARISCAL RAMON CASTILLA","1604","MARISCAL RAMON CASTILLA","MAR_1604","COMANDANTE NOEL","020803","COMANDANTE NOEL","PERUANCASHCASMACOMANDANTE NOEL","020803"]
[{"$nulls":4},"REQUENA","1605","REQUENA","REQ_1605","YAUTAN","020804","YAUTAN","PERUANCASHCASMAYAUTAN","020804"]
[{"$nulls":4},"UCAYALI","1606","UCAYALI","UCA_1606","CORONGO","020901","CORONGO","PERUANCASHCORONGOCORONGO","020901"]
[{"$nulls":4},"DATEM DEL MARAÑON","1607","DATEM DEL MARAÑON","DAT_1607","ACO","020902","ACO","PERUANCASHCORONGOACO","020902"]
[{"$nulls":4},"PUTUMAYO","1608","PUTUMAYO","PUT_1608","BAMBAS","020903","BAMBAS","PERUANCASHCORONGOBAMBAS","020903"]
[{"$nulls":4},"TAMBOPATA","1701","TAMBOPATA","TAM_1701","CUSCA","020904","CUSCA","PERUANCASHCORONGOCUSCA","020904"]
[{"$nulls":4},"MANU","1702","MANU","MAN_1702","LA PAMPA","020905","LA PAMPA","PERUANCASHCORONGOLA PAMPA","020905"]
[{"$nulls":4},"TAHUAMANU","1703","TAHUAMANU","TAH_1703","YANAC","020906","YANAC","PERUANCASHCORONGOYANAC","020906"]
[{"$nulls":4},"MARISCAL NIETO","1801","MARISCAL NIETO","MAR_1801","YUPAN","020907","YUPAN","PERUANCASHCORONGOYUPAN","020907"]
[{"$nulls":4},"GENERAL SANCHEZ CERRO","1802","GENERAL SANCHEZ CERRO","GEN_1802","HUARI","021001","HUARI","PERUANCASHHUARIHUARI","021001"]
[{"$nulls":4},"ILO","1803","ILO","ILO_1803","ANRA","021002","ANRA","PERUANCASHHUARIANRA","021002"]
[{"$nulls":4},"PASCO","1901","PASCO","PAS_1901","CAJAY","021003","CAJAY","PERUANCASHHUARICAJAY","021003"]
[{"$nulls":4},"DANIEL ALCIDES CARRION","1902","DANIEL ALCIDES CARRION","DAN_1902","CHAVIN DE HUANTAR","021004","CHAVIN DE HUANTAR","PERUANCASHHUARICHAVIN DE HUANTAR","021004"]
[{"$nulls":4},"OXAPAMPA","1903","OXAPAMPA","OXA_1903","HUACACHI","021005","HUACACHI","PERUANCASHHUARIHUACACHI","021005"]
[{"$nulls":4},"PIURA","2001","PIURA","PIU_2001","HUACCHIS","021006","HUACCHIS","PERUANCASHHUARIHUACCHIS","021006"]
[{"$nulls":4},"AYABACA","2002","AYABACA","AYA_2002","HUACHIS","021007","HUACHIS","PERUANCASHHUARIHUACHIS","021007"]
[{"$nulls":4},"HUANCABAMBA","2003","HUANCABAMBA","HUA_2003","HUANTAR","021008","HUANTAR","PERUANCASHHUARIHUANTAR","021008"]
[{"$nulls":4},"MORROPON","2004","MORROPON","MOR_2004","MASIN","021009","MASIN","PERUANCASHHUARIMASIN","021009"]
[{"$nulls":4},"PAITA","2005","PAITA","PAI_2005","PAUCAS","021010","PAUCAS","PERUANCASHHUARIPAUCAS","021010"]
[{"$nulls":4},"SULLANA","2006","SULLANA","SUL_2006","PONTO","021011","PONTO","PERUANCASHHUARIPONTO","021011"]
[{"$nulls":4},"TALARA","2007","TALARA","TAL_2007","RAHUAPAMPA","021012","RAHUAPAMPA","PERUANCASHHUARIRAHUAPAMPA","021012"]
[{"$nulls":4},"SECHURA","2008","SECHURA","SEC_2008","RAPAYAN","021013","RAPAYAN","PERUANCASHHUARIRAPAYAN","021013"]
[{"$nulls":4},"PUNO","2101","PUNO","PUN_2101","SAN MARCOS","021014","SAN MARCOS","PERUANCASHHUARISAN MARCOS","021014"]
[{"$nulls":4},"AZANGARO","2102","AZANGARO","AZA_2102","SAN PEDRO DE CHANA","021015","SAN PEDRO DE CHANA","PERUANCASHHUARISAN PEDRO DE CHANA","021015"]
[{"$nulls":4},"CARABAYA","2103","CARABAYA","CAR_2103","UCO","021016","UCO","PERUANCASHHUARIUCO","021016"]
[{"$nulls":4},"CHUCUITO","2104","CHUCUITO","CHU_2104","HUARMEY","021101","HUARMEY","PERUANCASHHUARMEYHUARMEY","021101"]
[{"$nulls":4},"EL COLLAO","2105","EL COLLAO","EL _2105","COCHAPETI","021102","COCHAPETI","PERUANCASHHUARMEYCOCHAPETI","021102"]
[{"$nulls":4},"HUANCANE","2106","HUANCANE","HUA_2106","CULEBRAS","021103","CULEBRAS","PERUANCASHHUARMEYCULEBRAS","021103"]
[{"$nulls":4},"LAMPA","2107","LAMPA","LAM_2107","HUAYAN","021104","HUAYAN","PERUANCASHHUARMEYHUAYAN","021104"]
[{"$nulls":4},"MELGAR","2108","MELGAR","MEL_2108","MALVAS","021105","MALVAS","PERUANCASHHUARMEYMALVAS","021105"]
[{"$nulls":4},"MOHO","2109","MOHO","MOH_2109","CARAZ","021201","CARAZ","PERUANCASHHUAYLASCARAZ","021201"]
[{"$nulls":4},"SAN ANTONIO DE PUTINA","2110","SAN ANTONIO DE PUTINA","SAN_2110","HUALLANCA","021202","HUALLANCA","PERUANCASHHUAYLASHUALLANCA","021202"]
[{"$nulls":4},"SAN ROMAN","2111","SAN ROMAN","SAN_2111","HUATA","021203","HUATA","PERUANCASHHUAYLASHUATA","021203"]
[{"$nulls":4},"SANDIA","2112","SANDIA","SAN_2112","HUAYLAS","021204","HUAYLAS","PERUANCASHHUAYLASHUAYLAS","021204"]
[{"$nulls":4},"YUNGUYO","2113","YUNGUYO","YUN_2113","MATO","021205","MATO","PERUANCASHHUAYLASMATO","021205"]
[{"$nulls":4},"MOYOBAMBA","2201","MOYOBAMBA","MOY_2201","PAMPAROMAS","021206","PAMPAROMAS","PERUANCASHHUAYLASPAMPAROMAS","021206"]
[{"$nulls":4},"BELLAVISTA","2202","BELLAVISTA","BEL_2202","PUEBLO LIBRE","021207","PUEBLO LIBRE","PERUANCASHHUAYLASPUEBLO LIBRE","021207"]
[{"$nulls":4},"EL DORADO","2203","EL DORADO","EL _2203","SANTA CRUZ","021208","SANTA CRUZ","PERUANCASHHUAYLASSANTA CRUZ","021208"]
[{"$nulls":4},"HUALLAGA","2204","HUALLAGA","HUA_2204","SANTO TORIBIO","021209","SANTO TORIBIO","PERUANCASHHUAYLASSANTO TORIBIO","021209"]
[{"$nulls":4},"LAMAS","2205","LAMAS","LAM_2205","YURACMARCA","021210","YURACMARCA","PERUANCASHHUAYLASYURACMARCA","021210"]
[{"$nulls":4},"MARISCAL CACERES","2206","MARISCAL CACERES","MAR_2206","PISCOBAMBA","021301","PISCOBAMBA","PERUANCASHMARISCAL LUZURIAGAPISCOBAMBA","021301"]
[{"$nulls":4},"PICOTA","2207","PICOTA","PIC_2207","CASCA","021302","CASCA","PERUANCASHMARISCAL LUZURIAGACASCA","021302"]
[{"$nulls":4},"RIOJA","2208","RIOJA","RIO_2208","ELEAZAR GUZMAN BARRON","021303","ELEAZAR GUZMAN BARRON","PERUANCASHMARISCAL LUZURIAGAELEAZAR GUZMAN BARRON","021303"]
[{"$nulls":4},"SAN MARTIN","2209","SAN MARTIN","SAN_2209","FIDEL OLIVAS ESCUDERO","021304","FIDEL OLIVAS ESCUDERO","PERUANCASHMARISCAL LUZURIAGAFIDEL OLIVAS ESCUDERO","021304"]
[{"$nulls":4},"TOCACHE","2210","TOCACHE","TOC_2210","LLAMA","021305","LLAMA","PERUANCASHMARISCAL LUZURIAGALLAMA","021305"]
[{"$nulls":4},"TACNA","2301","TACNA","TAC_2301","LLUMPA","021306","LLUMPA","PERUANCASHMARISCAL LUZURIAGALLUMPA","021306"]
[{"$nulls":4},"CANDARAVE","2302","CANDARAVE","CAN_2302","LUCMA","021307","LUCMA","PERUANCASHMARISCAL LUZURIAGALUCMA","021307"]
[{"$nulls":4},"JORGE BASADRE","2303","JORGE BASADRE","JOR_2303","MUSGA","021308","MUSGA","PERUANCASHMARISCAL LUZURIAGAMUSGA","021308"]
[{"$nulls":4},"TARATA","2304","TARATA","TAR_2304","OCROS","021401","OCROS","PERUANCASHOCROSOCROS","021401"]
[{"$nulls":4},"TUMBES","2401","TUMBES","TUM_2401","ACAS","021402","ACAS","PERUANCASHOCROSACAS","021402"]
[{"$nulls":4},"CONTRALMIRANTE VILLAR","2402","CONTRALMIRANTE VILLAR","CON_2402","CAJAMARQUILLA","021403","CAJAMARQUILLA","PERUANCASHOCROSCAJAMARQUILLA","021403"]
[{"$nulls":4},"ZARUMILLA","2403","ZARUMILLA","ZAR_2403","CARHUAPAMPA","021404","CARHUAPAMPA","PERUANCASHOCROSCARHUAPAMPA","021404"]
[{"$nulls":4},"CORONEL PORTILLO","2501","CORONEL PORTILLO","COR_2501","COCHAS","021405","COCHAS","PERUANCASHOCROSCOCHAS","021405"]
[{"$nulls":4},"ATALAYA","2502","ATALAYA",{"$f":"LEFT(UPPER(G195),3)&\"_\"&F195","v":"ATA_2502"},"CONGAS","021406","CONGAS",{"$f":"\"PERU\"&VLOOKUP(LEFT(J195,2),$B$1:$C$27,2,0)&VLOOKUP(LEFT(J195,4),$F$2:$G$197,2,0)&K195","v":"PERUANCASHOCROSCONGAS"},{"$f":"J195","v":"021406"}]
[{"$nulls":4},"PADRE ABAD","2503","PADRE ABAD",{"$f":"LEFT(UPPER(G196),3)&\"_\"&F196","v":"PAD_2503"},"LLIPA","021407","LLIPA","PERUANCASHOCROSLLIPA","021407"]
[{"$nulls":4},"PURUS","2504","PURUS",{"$f":"LEFT(UPPER(G197),3)&\"_\"&F197","v":"PUR_2504"},"SAN CRISTOBAL DE RAJAN","021408","SAN CRISTOBAL DE RAJAN","PERUANCASHOCROSSAN CRISTOBAL DE RAJAN","021408"]
[{"$nulls":5},"",null,null,"SAN PEDRO","021409","SAN PEDRO","PERUANCASHOCROSSAN PEDRO","021409"]
[{"$nulls":5},"",null,null,"SANTIAGO DE CHILCAS","021410","SANTIAGO DE CHILCAS","PERUANCASHOCROSSANTIAGO DE CHILCAS","021410"]
[{"$nulls":5},"",null,null,"CABANA","021501","CABANA","PERUANCASHPALLASCACABANA","021501"]
[{"$nulls":5},"",null,null,"BOLOGNESI","021502","BOLOGNESI","PERUANCASHPALLASCABOLOGNESI","021502"]
[{"$nulls":5},"",null,null,"CONCHUCOS","021503","CONCHUCOS","PERUANCASHPALLASCACONCHUCOS","021503"]
[{"$nulls":5},"",null,null,"HUACASCHUQUE","021504","HUACASCHUQUE","PERUANCASHPALLASCAHUACASCHUQUE","021504"]
[{"$nulls":5},"",null,null,"HUANDOVAL","021505","HUANDOVAL","PERUANCASHPALLASCAHUANDOVAL","021505"]
[{"$nulls":5},"",null,null,"LACABAMBA","021506","LACABAMBA","PERUANCASHPALLASCALACABAMBA","021506"]
[{"$nulls":5},"",null,null,"LLAPO","021507","LLAPO","PERUANCASHPALLASCALLAPO","021507"]
[{"$nulls":5},"",null,null,"PALLASCA","021508","PALLASCA","PERUANCASHPALLASCAPALLASCA","021508"]
[{"$nulls":5},"",null,null,"PAMPAS","021509","PAMPAS","PERUANCASHPALLASCAPAMPAS","021509"]
[{"$nulls":5},"",null,null,"SANTA ROSA","021510","SANTA ROSA","PERUANCASHPALLASCASANTA ROSA","021510"]
[{"$nulls":5},"",null,null,"TAUCA","021511","TAUCA","PERUANCASHPALLASCATAUCA","021511"]
[{"$nulls":5},"",null,null,"POMABAMBA","021601","POMABAMBA","PERUANCASHPOMABAMBAPOMABAMBA","021601"]
[{"$nulls":5},"",null,null,"HUAYLLAN","021602","HUAYLLAN","PERUANCASHPOMABAMBAHUAYLLAN","021602"]
[{"$nulls":5},"",null,null,"PAROBAMBA","021603","PAROBAMBA","PERUANCASHPOMABAMBAPAROBAMBA","021603"]
[{"$nulls":5},"",null,null,"QUINUABAMBA","021604","QUINUABAMBA","PERUANCASHPOMABAMBAQUINUABAMBA","021604"]
[{"$nulls":5},"",null,null,"RECUAY","021701","RECUAY","PERUANCASHRECUAYRECUAY","021701"]
[{"$nulls":5},"",null,null,"CATAC","021702","CATAC","PERUANCASHRECUAYCATAC","021702"]
[{"$nulls":5},"",null,null,"COTAPARACO","021703","COTAPARACO","PERUANCASHRECUAYCOTAPARACO","021703"]
[{"$nulls":5},"",null,null,"HUAYLLAPAMPA","021704","HUAYLLAPAMPA","PERUANCASHRECUAYHUAYLLAPAMPA","021704"]
[{"$nulls":5},"",null,null,"LLACLLIN","021705","LLACLLIN","PERUANCASHRECUAYLLACLLIN","021705"]
[{"$nulls":5},"",null,null,"MARCA","021706","MARCA","PERUANCASHRECUAYMARCA","021706"]
[{"$nulls":5},"",null,null,"PAMPAS CHICO","021707","PAMPAS CHICO","PERUANCASHRECUAYPAMPAS CHICO","021707"]
[{"$nulls":5},"",null,null,"PARARIN","021708","PARARIN","PERUANCASHRECUAYPARARIN","021708"]
[{"$nulls":5},"",null,null,"TAPACOCHA","021709","TAPACOCHA","PERUANCASHRECUAYTAPACOCHA","021709"]
[{"$nulls":5},"",null,null,"TICAPAMPA","021710","TICAPAMPA","PERUANCASHRECUAYTICAPAMPA","021710"]
[{"$nulls":5},"",null,null,"CHIMBOTE","021801","CHIMBOTE","PERUANCASHSANTACHIMBOTE","021801"]
[{"$nulls":5},"",null,null,"CACERES DEL PERU","021802","CACERES DEL PERU","PERUANCASHSANTACACERES DEL PERU","021802"]
[{"$nulls":5},"",null,null,"COISHCO","021803","COISHCO","PERUANCASHSANTACOISHCO","021803"]
[{"$nulls":5},"",null,null,"MACATE","021804","MACATE","PERUANCASHSANTAMACATE","021804"]
[{"$nulls":5},"",null,null,"MORO","021805","MORO","PERUANCASHSANTAMORO","021805"]
[{"$nulls":5},"",null,null,"NEPEÑA","021806","NEPEÑA","PERUANCASHSANTANEPEÑA","021806"]
[{"$nulls":5},"",null,null,"SAMANCO","021807","SAMANCO","PERUANCASHSANTASAMANCO","021807"]
[{"$nulls":5},"",null,null,"SANTA","021808","SANTA","PERUANCASHSANTASANTA","021808"]
[{"$nulls":5},"",null,null,"NUEVO CHIMBOTE","021809","NUEVO CHIMBOTE","PERUANCASHSANTANUEVO CHIMBOTE","021809"]
[{"$nulls":5},"",null,null,"SIHUAS","021901","SIHUAS","PERUANCASHSIHUASSIHUAS","021901"]
[{"$nulls":5},"",null,null,"ACOBAMBA","021902","ACOBAMBA","PERUANCASHSIHUASACOBAMBA","021902"]
[{"$nulls":5},"",null,null,"ALFONSO UGARTE","021903","ALFONSO UGARTE","PERUANCASHSIHUASALFONSO UGARTE","021903"]
[{"$nulls":5},"",null,null,"CASHAPAMPA","021904","CASHAPAMPA","PERUANCASHSIHUASCASHAPAMPA","021904"]
[{"$nulls":5},"",null,null,"CHINGALPO","021905","CHINGALPO","PERUANCASHSIHUASCHINGALPO","021905"]
[{"$nulls":5},"",null,null,"HUAYLLABAMBA","021906","HUAYLLABAMBA","PERUANCASHSIHUASHUAYLLABAMBA","021906"]
[{"$nulls":5},"",null,null,"QUICHES","021907","QUICHES","PERUANCASHSIHUASQUICHES","021907"]
[{"$nulls":5},"",null,null,"RAGASH","021908","RAGASH","PERUANCASHSIHUASRAGASH","021908"]
[{"$nulls":5},"",null,null,"SAN JUAN","021909","SAN JUAN","PERUANCASHSIHUASSAN JUAN","021909"]
[{"$nulls":5},"",null,null,"SICSIBAMBA","021910","SICSIBAMBA","PERUANCASHSIHUASSICSIBAMBA","021910"]
[{"$nulls":5},"",null,null,"YUNGAY","022001","YUNGAY","PERUANCASHYUNGAYYUNGAY","022001"]
[{"$nulls":5},"",null,null,"CASCAPARA","022002","CASCAPARA","PERUANCASHYUNGAYCASCAPARA","022002"]
[{"$nulls":5},"",null,null,"MANCOS","022003","MANCOS","PERUANCASHYUNGAYMANCOS","022003"]
[{"$nulls":5},"",null,null,"MATACOTO","022004","MATACOTO","PERUANCASHYUNGAYMATACOTO","022004"]
[{"$nulls":5},"",null,null,"QUILLO","022005","QUILLO","PERUANCASHYUNGAYQUILLO","022005"]
[{"$nulls":5},"",null,null,"RANRAHIRCA","022006","RANRAHIRCA","PERUANCASHYUNGAYRANRAHIRCA","022006"]
[{"$nulls":5},"",null,null,"SHUPLUY","022007","SHUPLUY","PERUANCASHYUNGAYSHUPLUY","022007"]
[{"$nulls":5},"",null,null,"YANAMA","022008","YANAMA","PERUANCASHYUNGAYYANAMA","022008"]
[{"$nulls":5},"",null,null,"ABANCAY","030101","ABANCAY","PERUAPURIMACABANCAYABANCAY","030101"]
[{"$nulls":5},"",null,null,"CHACOCHE","030102","CHACOCHE","PERUAPURIMACABANCAYCHACOCHE","030102"]
[{"$nulls":5},"",null,null,"CIRCA","030103","CIRCA","PERUAPURIMACABANCAYCIRCA","030103"]
[{"$nulls":5},"",null,null,"CURAHUASI","030104","CURAHUASI","PERUAPURIMACABANCAYCURAHUASI","030104"]
[{"$nulls":5},"",null,null,"HUANIPACA","030105","HUANIPACA","PERUAPURIMACABANCAYHUANIPACA","030105"]
[{"$nulls":5},"",null,null,"LAMBRAMA","030106","LAMBRAMA","PERUAPURIMACABANCAYLAMBRAMA","030106"]
[{"$nulls":5},"",null,null,"PICHIRHUA","030107","PICHIRHUA","PERUAPURIMACABANCAYPICHIRHUA","030107"]
[{"$nulls":5},"",null,null,"SAN PEDRO DE CACHORA","030108","SAN PEDRO DE CACHORA",{"$f":"\"PERU\"&VLOOKUP(LEFT(J259,2),$B$1:$C$27,2,0)&VLOOKUP(LEFT(J259,4),$F$2:$G$197,2,0)&K259","v":"PERUAPURIMACABANCAYSAN PEDRO DE CACHORA"},{"$f":"J259","v":"030108"}]
[{"$nulls":5},"",null,null,"TAMBURCO","030109","TAMBURCO","PERUAPURIMACABANCAYTAMBURCO","030109"]
[{"$nulls":5},"",null,null,"ANDAHUAYLAS","030201","ANDAHUAYLAS","PERUAPURIMACANDAHUAYLASANDAHUAYLAS","030201"]
[{"$nulls":5},"",null,null,"ANDARAPA","030202","ANDARAPA","PERUAPURIMACANDAHUAYLASANDARAPA","030202"]
[{"$nulls":5},"",null,null,"CHIARA","030203","CHIARA","PERUAPURIMACANDAHUAYLASCHIARA","030203"]
[{"$nulls":5},"",null,null,"HUANCARAMA","030204","HUANCARAMA","PERUAPURIMACANDAHUAYLASHUANCARAMA","030204"]
[{"$nulls":5},"",null,null,"HUANCARAY","030205","HUANCARAY","PERUAPURIMACANDAHUAYLASHUANCARAY","030205"]
[{"$nulls":5},"",null,null,"HUAYANA","030206","HUAYANA","PERUAPURIMACANDAHUAYLASHUAYANA","030206"]
[{"$nulls":5},"",null,null,"KISHUARA","030207","KISHUARA","PERUAPURIMACANDAHUAYLASKISHUARA","030207"]
[{"$nulls":5},"",null,null,"PACOBAMBA","030208","PACOBAMBA","PERUAPURIMACANDAHUAYLASPACOBAMBA","030208"]
[{"$nulls":5},"",null,null,"PACUCHA","030209","PACUCHA","PERUAPURIMACANDAHUAYLASPACUCHA","030209"]
[{"$nulls":5},"",null,null,"PAMPACHIRI","030210","PAMPACHIRI","PERUAPURIMACANDAHUAYLASPAMPACHIRI","030210"]
[{"$nulls":5},"",null,null,"POMACOCHA","030211","POMACOCHA","PERUAPURIMACANDAHUAYLASPOMACOCHA","030211"]
[{"$nulls":5},"",null,null,"SAN ANTONIO DE CACHI","030212","SAN ANTONIO DE CACHI","PERUAPURIMACANDAHUAYLASSAN ANTONIO DE CACHI","030212"]
[{"$nulls":5},"",null,null,"SAN JERONIMO","030213","SAN JERONIMO","PERUAPURIMACANDAHUAYLASSAN JERONIMO","030213"]
[{"$nulls":5},"",null,null,"SAN MIGUEL DE CHACCRAMPA","030214","SAN MIGUEL DE CHACCRAMPA","PERUAPURIMACANDAHUAYLASSAN MIGUEL DE CHACCRAMPA","030214"]
[{"$nulls":5},"",null,null,"SANTA MARIA DE CHICMO","030215","SANTA MARIA DE CHICMO","PERUAPURIMACANDAHUAYLASSANTA MARIA DE CHICMO","030215"]
[{"$nulls":5},"",null,null,"TALAVERA","030216","TALAVERA","PERUAPURIMACANDAHUAYLASTALAVERA","030216"]
[{"$nulls":5},"",null,null,"TUMAY HUARACA","030217","TUMAY HUARACA","PERUAPURIMACANDAHUAYLASTUMAY HUARACA","030217"]
[{"$nulls":5},"",null,null,"TURPO","030218","TURPO","PERUAPURIMACANDAHUAYLASTURPO","030218"]
[{"$nulls":5},"",null,null,"KAQUIABAMBA","030219","KAQUIABAMBA","PERUAPURIMACANDAHUAYLASKAQUIABAMBA","030219"]
[{"$nulls":5},"",null,null,"JOSE MARIA ARGUEDAZ","030220","JOSE MARIA ARGUEDAZ","PERUAPURIMACANDAHUAYLASJOSE MARIA ARGUEDAZ","030220"]
[{"$nulls":5},"",null,null,"ANTABAMBA","030301","ANTABAMBA","PERUAPURIMACANTABAMBAANTABAMBA","030301"]
[{"$nulls":5},"",null,null,"EL ORO","030302","EL ORO","PERUAPURIMACANTABAMBAEL ORO","030302"]
[{"$nulls":5},"",null,null,"HUAQUIRCA","030303","HUAQUIRCA","PERUAPURIMACANTABAMBAHUAQUIRCA","030303"]
[{"$nulls":5},"",null,null,"JUAN ESPINOZA MEDRANO","030304","JUAN ESPINOZA MEDRANO","PERUAPURIMACANTABAMBAJUAN ESPINOZA MEDRANO","030304"]
[{"$nulls":5},"",null,null,"OROPESA","030305","OROPESA","PERUAPURIMACANTABAMBAOROPESA","030305"]
[{"$nulls":5},"",null,null,"PACHACONAS","030306","PACHACONAS","PERUAPURIMACANTABAMBAPACHACONAS","030306"]
[{"$nulls":5},"",null,null,"SABAINO","030307","SABAINO","PERUAPURIMACANTABAMBASABAINO","030307"]
[{"$nulls":5},"",null,null,"CHALHUANCA","030401","CHALHUANCA","PERUAPURIMACAYMARAESCHALHUANCA","030401"]
[{"$nulls":5},"",null,null,"CAPAYA","030402","CAPAYA","PERUAPURIMACAYMARAESCAPAYA","030402"]
[{"$nulls":5},"",null,null,"CARAYBAMBA","030403","CARAYBAMBA","PERUAPURIMACAYMARAESCARAYBAMBA","030403"]
[{"$nulls":5},"",null,null,"CHAPIMARCA","030404","CHAPIMARCA","PERUAPURIMACAYMARAESCHAPIMARCA","030404"]
[{"$nulls":5},"",null,null,"COLCABAMBA","030405","COLCABAMBA","PERUAPURIMACAYMARAESCOLCABAMBA","030405"]
[{"$nulls":5},"",null,null,"COTARUSE","030406","COTARUSE","PERUAPURIMACAYMARAESCOTARUSE","030406"]
[{"$nulls":5},"",null,null,"HUAYLLO","030407","HUAYLLO","PERUAPURIMACAYMARAESHUAYLLO","030407"]
[{"$nulls":5},"",null,null,"JUSTO APU SAHUARAURA","030408","JUSTO APU SAHUARAURA","PERUAPURIMACAYMARAESJUSTO APU SAHUARAURA","030408"]
[{"$nulls":5},"",null,null,"LUCRE","030409","LUCRE","PERUAPURIMACAYMARAESLUCRE","030409"]
[{"$nulls":5},"",null,null,"POCOHUANCA","030410","POCOHUANCA","PERUAPURIMACAYMARAESPOCOHUANCA","030410"]
[{"$nulls":5},"",null,null,"SAN JUAN DE CHACÑA","030411","SAN JUAN DE CHACÑA","PERUAPURIMACAYMARAESSAN JUAN DE CHACÑA","030411"]
[{"$nulls":5},"",null,null,"SAÑAYCA","030412","SAÑAYCA","PERUAPURIMACAYMARAESSAÑAYCA","030412"]
[{"$nulls":5},"",null,null,"SORAYA","030413","SORAYA","PERUAPURIMACAYMARAESSORAYA","030413"]
[{"$nulls":5},"",null,null,"TAPAIRIHUA","030414","TAPAIRIHUA","PERUAPURIMACAYMARAESTAPAIRIHUA","030414"]
[{"$nulls":5},"",null,null,"TINTAY","030415","TINTAY","PERUAPURIMACAYMARAESTINTAY","030415"]
[{"$nulls":5},"",null,null,"TORAYA","030416","TORAYA","PERUAPURIMACAYMARAESTORAYA","030416"]
[{"$nulls":5},"",null,null,"YANACA","030417","YANACA","PERUAPURIMACAYMARAESYANACA","030417"]
[{"$nulls":5},"",null,null,"TAMBOBAMBA","030501","TAMBOBAMBA","PERUAPURIMACCOTABAMBASTAMBOBAMBA","030501"]
[{"$nulls":5},"",null,null,"COTABAMBAS","030502","COTABAMBAS","PERUAPURIMACCOTABAMBASCOTABAMBAS","030502"]
[{"$nulls":5},"",null,null,"COYLLURQUI","030503","COYLLURQUI","PERUAPURIMACCOTABAMBASCOYLLURQUI","030503"]
[{"$nulls":5},"",null,null,"HAQUIRA","030504","HAQUIRA","PERUAPURIMACCOTABAMBASHAQUIRA","030504"]
[{"$nulls":5},"",null,null,"MARA","030505","MARA","PERUAPURIMACCOTABAMBASMARA","030505"]
[{"$nulls":5},"",null,null,"CHALLHUAHUACHO","030506","CHALLHUAHUACHO","PERUAPURIMACCOTABAMBASCHALLHUAHUACHO","030506"]
[{"$nulls":5},"",null,null,"CHINCHEROS","030601","CHINCHEROS","PERUAPURIMACCHINCHEROSCHINCHEROS","030601"]
[{"$nulls":5},"",null,null,"ANCO-HUALLO","030602","ANCO-HUALLO","PERUAPURIMACCHINCHEROSANCO-HUALLO","030602"]
[{"$nulls":5},"",null,null,"COCHARCAS","030603","COCHARCAS","PERUAPURIMACCHINCHEROSCOCHARCAS","030603"]
[{"$nulls":5},"",null,null,"HUACCANA","030604","HUACCANA","PERUAPURIMACCHINCHEROSHUACCANA","030604"]
[{"$nulls":5},"",null,null,"OCOBAMBA","030605","OCOBAMBA","PERUAPURIMACCHINCHEROSOCOBAMBA","030605"]
[{"$nulls":5},"",null,null,"ONGOY","030606","ONGOY","PERUAPURIMACCHINCHEROSONGOY","030606"]
[{"$nulls":5},"",null,null,"URANMARCA","030607","URANMARCA","PERUAPURIMACCHINCHEROSURANMARCA","030607"]
[{"$nulls":5},"",null,null,"RANRACANCHA","030608","RANRACANCHA","PERUAPURIMACCHINCHEROSRANRACANCHA","030608"]
[{"$nulls":5},"",null,null,"ROCCHACC","030609","ROCCHACC","PERUAPURIMACCHINCHEROSROCCHACC","030609"]
[{"$nulls":5},"",null,null,"EL PORVENIR","030610","EL PORVENIR","PERUAPURIMACCHINCHEROSEL PORVENIR","030610"]
[{"$nulls":5},"",null,null,"LOS CHANKAS","030611","LOS CHANKAS","PERUAPURIMACCHINCHEROSLOS CHANKAS","030611"]
[{"$nulls":5},"",null,null,"CHUQUIBAMBILLA","030701","CHUQUIBAMBILLA","PERUAPURIMACGRAUCHUQUIBAMBILLA","030701"]
[{"$nulls":5},"",null,null,"CURPAHUASI","030702","CURPAHUASI",{"$f":"\"PERU\"&VLOOKUP(LEFT(J323,2),$B$1:$C$27,2,0)&VLOOKUP(LEFT(J323,4),$F$2:$G$197,2,0)&K323","v":"PERUAPURIMACGRAUCURPAHUASI"},{"$f":"J323","v":"030702"}]
[{"$nulls":5},"",null,null,"GAMARRA","030703","GAMARRA","PERUAPURIMACGRAUGAMARRA","030703"]
[{"$nulls":5},"",null,null,"HUAYLLATI","030704","HUAYLLATI","PERUAPURIMACGRAUHUAYLLATI","030704"]
[{"$nulls":5},"",null,null,"MAMARA","030705","MAMARA","PERUAPURIMACGRAUMAMARA","030705"]
[{"$nulls":5},"",null,null,"MICAELA BASTIDAS","030706","MICAELA BASTIDAS","PERUAPURIMACGRAUMICAELA BASTIDAS","030706"]
[{"$nulls":5},"",null,null,"PATAYPAMPA","030707","PATAYPAMPA","PERUAPURIMACGRAUPATAYPAMPA","030707"]
[{"$nulls":5},"",null,null,"PROGRESO","030708","PROGRESO","PERUAPURIMACGRAUPROGRESO","030708"]
[{"$nulls":5},"",null,null,"SAN ANTONIO","030709","SAN ANTONIO","PERUAPURIMACGRAUSAN ANTONIO","030709"]
[{"$nulls":5},"",null,null,"SANTA ROSA","030710","SANTA ROSA","PERUAPURIMACGRAUSANTA ROSA","030710"]
[{"$nulls":5},"",null,null,"TURPAY","030711","TURPAY","PERUAPURIMACGRAUTURPAY","030711"]
[{"$nulls":5},"",null,null,"VILCABAMBA","030712","VILCABAMBA","PERUAPURIMACGRAUVILCABAMBA","030712"]
[{"$nulls":5},"",null,null,"VIRUNDO","030713","VIRUNDO","PERUAPURIMACGRAUVIRUNDO","030713"]
[{"$nulls":5},"",null,null,"CURASCO","030714","CURASCO","PERUAPURIMACGRAUCURASCO","030714"]
[{"$nulls":5},"",null,null,"AREQUIPA","040101","AREQUIPA","PERUAREQUIPAAREQUIPAAREQUIPA","040101"]
[{"$nulls":5},"",null,null,"ALTO SELVA ALEGRE","040102","ALTO SELVA ALEGRE","PERUAREQUIPAAREQUIPAALTO SELVA ALEGRE","040102"]
[{"$nulls":5},"",null,null,"CAYMA","040103","CAYMA","PERUAREQUIPAAREQUIPACAYMA","040103"]
[{"$nulls":5},"",null,null,"CERRO COLORADO","040104","CERRO COLORADO","PERUAREQUIPAAREQUIPACERRO COLORADO","040104"]
[{"$nulls":5},"",null,null,"CHARACATO","040105","CHARACATO","PERUAREQUIPAAREQUIPACHARACATO","040105"]
[{"$nulls":5},"",null,null,"CHIGUATA","040106","CHIGUATA","PERUAREQUIPAAREQUIPACHIGUATA","040106"]
[{"$nulls":5},"",null,null,"JACOBO HUNTER","040107","JACOBO HUNTER","PERUAREQUIPAAREQUIPAJACOBO HUNTER","040107"]
[{"$nulls":5},"",null,null,"LA JOYA","040108","LA JOYA","PERUAREQUIPAAREQUIPALA JOYA","040108"]
[{"$nulls":5},"",null,null,"MARIANO MELGAR","040109","MARIANO MELGAR","PERUAREQUIPAAREQUIPAMARIANO MELGAR","040109"]
[{"$nulls":5},"",null,null,"MIRAFLORES","040110","MIRAFLORES","PERUAREQUIPAAREQUIPAMIRAFLORES","040110"]
[{"$nulls":5},"",null,null,"MOLLEBAYA","040111","MOLLEBAYA","PERUAREQUIPAAREQUIPAMOLLEBAYA","040111"]
[{"$nulls":5},"",null,null,"PAUCARPATA","040112","PAUCARPATA","PERUAREQUIPAAREQUIPAPAUCARPATA","040112"]
[{"$nulls":5},"",null,null,"POCSI","040113","POCSI","PERUAREQUIPAAREQUIPAPOCSI","040113"]
[{"$nulls":5},"",null,null,"POLOBAYA","040114","POLOBAYA","PERUAREQUIPAAREQUIPAPOLOBAYA","040114"]
[{"$nulls":5},"",null,null,"QUEQUEÑA","040115","QUEQUEÑA","PERUAREQUIPAAREQUIPAQUEQUEÑA","040115"]
[{"$nulls":5},"",null,null,"SABANDIA","040116","SABANDIA","PERUAREQUIPAAREQUIPASABANDIA","040116"]
[{"$nulls":5},"",null,null,"SACHACA","040117","SACHACA","PERUAREQUIPAAREQUIPASACHACA","040117"]
[{"$nulls":5},"",null,null,"SAN JUAN DE SIGUAS","040118","SAN JUAN DE SIGUAS","PERUAREQUIPAAREQUIPASAN JUAN DE SIGUAS","040118"]
[{"$nulls":5},"",null,null,"SAN JUAN DE TARUCANI","040119","SAN JUAN DE TARUCANI","PERUAREQUIPAAREQUIPASAN JUAN DE TARUCANI","040119"]
[{"$nulls":5},"",null,null,"SANTA ISABEL DE SIGUAS","040120","SANTA ISABEL DE SIGUAS","PERUAREQUIPAAREQUIPASANTA ISABEL DE SIGUAS","040120"]
[{"$nulls":5},"",null,null,"SANTA RITA DE SIGUAS","040121","SANTA RITA DE SIGUAS","PERUAREQUIPAAREQUIPASANTA RITA DE SIGUAS","040121"]
[{"$nulls":5},"",null,null,"SOCABAYA","040122","SOCABAYA","PERUAREQUIPAAREQUIPASOCABAYA","040122"]
[{"$nulls":5},"",null,null,"TIABAYA","040123","TIABAYA","PERUAREQUIPAAREQUIPATIABAYA","040123"]
[{"$nulls":5},"",null,null,"UCHUMAYO","040124","UCHUMAYO","PERUAREQUIPAAREQUIPAUCHUMAYO","040124"]
[{"$nulls":5},"",null,null,"VITOR","040125","VITOR","PERUAREQUIPAAREQUIPAVITOR","040125"]
[{"$nulls":5},"",null,null,"YANAHUARA","040126","YANAHUARA","PERUAREQUIPAAREQUIPAYANAHUARA","040126"]
[{"$nulls":5},"",null,null,"YARABAMBA","040127","YARABAMBA","PERUAREQUIPAAREQUIPAYARABAMBA","040127"]
[{"$nulls":5},"",null,null,"YURA","040128","YURA","PERUAREQUIPAAREQUIPAYURA","040128"]
[{"$nulls":5},"",null,null,"JOSE LUIS BUSTAMANTE Y RIVERO","040129","JOSE LUIS BUSTAMANTE Y RIVERO","PERUAREQUIPAAREQUIPAJOSE LUIS BUSTAMANTE Y RIVERO","040129"]
[{"$nulls":5},"",null,null,"CAMANA","040201","CAMANA","PERUAREQUIPACAMANACAMANA","040201"]
[{"$nulls":5},"",null,null,"JOSE MARIA QUIMPER","040202","JOSE MARIA QUIMPER","PERUAREQUIPACAMANAJOSE MARIA QUIMPER","040202"]
[{"$nulls":5},"",null,null,"MARIANO NICOLAS VALCARCEL","040203","MARIANO NICOLAS VALCARCEL","PERUAREQUIPACAMANAMARIANO NICOLAS VALCARCEL","040203"]
[{"$nulls":5},"",null,null,"MARISCAL CACERES","040204","MARISCAL CACERES","PERUAREQUIPACAMANAMARISCAL CACERES","040204"]
[{"$nulls":5},"",null,null,"NICOLAS DE PIEROLA","040205","NICOLAS DE PIEROLA","PERUAREQUIPACAMANANICOLAS DE PIEROLA","040205"]
[{"$nulls":5},"",null,null,"OCOÑA","040206","OCOÑA","PERUAREQUIPACAMANAOCOÑA","040206"]
[{"$nulls":5},"",null,null,"QUILCA","040207","QUILCA","PERUAREQUIPACAMANAQUILCA","040207"]
[{"$nulls":5},"",null,null,"SAMUEL PASTOR","040208","SAMUEL PASTOR","PERUAREQUIPACAMANASAMUEL PASTOR","040208"]
[{"$nulls":5},"",null,null,"CARAVELI","040301","CARAVELI","PERUAREQUIPACARAVELICARAVELI","040301"]
[{"$nulls":5},"",null,null,"ACARI","040302","ACARI","PERUAREQUIPACARAVELIACARI","040302"]
[{"$nulls":5},"",null,null,"ATICO","040303","ATICO","PERUAREQUIPACARAVELIATICO","040303"]
[{"$nulls":5},"",null,null,"ATIQUIPA","040304","ATIQUIPA","PERUAREQUIPACARAVELIATIQUIPA","040304"]
[{"$nulls":5},"",null,null,"BELLA UNION","040305","BELLA UNION","PERUAREQUIPACARAVELIBELLA UNION","040305"]
[{"$nulls":5},"",null,null,"CAHUACHO","040306","CAHUACHO","PERUAREQUIPACARAVELICAHUACHO","040306"]
[{"$nulls":5},"",null,null,"CHALA","040307","CHALA","PERUAREQUIPACARAVELICHALA","040307"]
[{"$nulls":5},"",null,null,"CHAPARRA","040308","CHAPARRA","PERUAREQUIPACARAVELICHAPARRA","040308"]
[{"$nulls":5},"",null,null,"HUANUHUANU","040309","HUANUHUANU","PERUAREQUIPACARAVELIHUANUHUANU","040309"]
[{"$nulls":5},"",null,null,"JAQUI","040310","JAQUI","PERUAREQUIPACARAVELIJAQUI","040310"]
[{"$nulls":5},"",null,null,"LOMAS","040311","LOMAS","PERUAREQUIPACARAVELILOMAS","040311"]
[{"$nulls":5},"",null,null,"QUICACHA","040312","QUICACHA","PERUAREQUIPACARAVELIQUICACHA","040312"]
[{"$nulls":5},"",null,null,"YAUCA","040313","YAUCA","PERUAREQUIPACARAVELIYAUCA","040313"]
[{"$nulls":5},"",null,null,"APLAO","040401","APLAO","PERUAREQUIPACASTILLAAPLAO","040401"]
[{"$nulls":5},"",null,null,"ANDAGUA","040402","ANDAGUA",{"$f":"\"PERU\"&VLOOKUP(LEFT(J387,2),$B$1:$C$27,2,0)&VLOOKUP(LEFT(J387,4),$F$2:$G$197,2,0)&K387","v":"PERUAREQUIPACASTILLAANDAGUA"},{"$f":"J387","v":"040402"}]
[{"$nulls":5},"",null,null,"AYO","040403","AYO","PERUAREQUIPACASTILLAAYO","040403"]
[{"$nulls":5},"",null,null,"CHACHAS","040404","CHACHAS","PERUAREQUIPACASTILLACHACHAS","040404"]
[{"$nulls":5},"",null,null,"CHILCAYMARCA","040405","CHILCAYMARCA","PERUAREQUIPACASTILLACHILCAYMARCA","040405"]
[{"$nulls":5},"",null,null,"CHOCO","040406","CHOCO","PERUAREQUIPACASTILLACHOCO","040406"]
[{"$nulls":5},"",null,null,"HUANCARQUI","040407","HUANCARQUI","PERUAREQUIPACASTILLAHUANCARQUI","040407"]
[{"$nulls":5},"",null,null,"MACHAGUAY","040408","MACHAGUAY","PERUAREQUIPACASTILLAMACHAGUAY","040408"]
[{"$nulls":5},"",null,null,"ORCOPAMPA","040409","ORCOPAMPA","PERUAREQUIPACASTILLAORCOPAMPA","040409"]
[{"$nulls":5},"",null,null,"PAMPACOLCA","040410","PAMPACOLCA","PERUAREQUIPACASTILLAPAMPACOLCA","040410"]
[{"$nulls":5},"",null,null,"TIPAN","040411","TIPAN","PERUAREQUIPACASTILLATIPAN","040411"]
[{"$nulls":5},"",null,null,"UÑON","040412","UÑON","PERUAREQUIPACASTILLAUÑON","040412"]
[{"$nulls":5},"",null,null,"URACA","040413","URACA","PERUAREQUIPACASTILLAURACA","040413"]
[{"$nulls":5},"",null,null,"VIRACO","040414","VIRACO","PERUAREQUIPACASTILLAVIRACO","040414"]
[{"$nulls":5},"",null,null,"CHIVAY","040501","CHIVAY","PERUAREQUIPACAYLLOMACHIVAY","040501"]
[{"$nulls":5},"",null,null,"ACHOMA","040502","ACHOMA","PERUAREQUIPACAYLLOMAACHOMA","040502"]
[{"$nulls":5},"",null,null,"CABANACONDE","040503","CABANACONDE","PERUAREQUIPACAYLLOMACABANACONDE","040503"]
[{"$nulls":5},"",null,null,"CALLALLI","040504","CALLALLI","PERUAREQUIPACAYLLOMACALLALLI","040504"]
[{"$nulls":5},"",null,null,"CAYLLOMA","040505","CAYLLOMA","PERUAREQUIPACAYLLOMACAYLLOMA","040505"]
[{"$nulls":5},"",null,null,"COPORAQUE","040506","COPORAQUE","PERUAREQUIPACAYLLOMACOPORAQUE","040506"]
[{"$nulls":5},"",null,null,"HUAMBO","040507","HUAMBO","PERUAREQUIPACAYLLOMAHUAMBO","040507"]
[{"$nulls":5},"",null,null,"HUANCA","040508","HUANCA","PERUAREQUIPACAYLLOMAHUANCA","040508"]
[{"$nulls":5},"",null,null,"ICHUPAMPA","040509","ICHUPAMPA","PERUAREQUIPACAYLLOMAICHUPAMPA","040509"]
[{"$nulls":5},"",null,null,"LARI","040510","LARI","PERUAREQUIPACAYLLOMALARI","040510"]
[{"$nulls":5},"",null,null,"LLUTA","040511","LLUTA","PERUAREQUIPACAYLLOMALLUTA","040511"]
[{"$nulls":5},"",null,null,"MACA","040512","MACA","PERUAREQUIPACAYLLOMAMACA","040512"]
[{"$nulls":5},"",null,null,"MADRIGAL","040513","MADRIGAL","PERUAREQUIPACAYLLOMAMADRIGAL","040513"]
[{"$nulls":5},"",null,null,"SAN ANTONIO DE CHUCA","040514","SAN ANTONIO DE CHUCA","PERUAREQUIPACAYLLOMASAN ANTONIO DE CHUCA","040514"]
[{"$nulls":5},"",null,null,"SIBAYO","040515","SIBAYO","PERUAREQUIPACAYLLOMASIBAYO","040515"]
[{"$nulls":5},"",null,null,"TAPAY","040516","TAPAY","PERUAREQUIPACAYLLOMATAPAY","040516"]
[{"$nulls":5},"",null,null,"TISCO","040517","TISCO","PERUAREQUIPACAYLLOMATISCO","040517"]
[{"$nulls":5},"",null,null,"TUTI","040518","TUTI","PERUAREQUIPACAYLLOMATUTI","040518"]
[{"$nulls":5},"",null,null,"YANQUE","040519","YANQUE","PERUAREQUIPACAYLLOMAYANQUE","040519"]
[{"$nulls":5},"",null,null,"MAJES","040520","MAJES","PERUAREQUIPACAYLLOMAMAJES","040520"]
[{"$nulls":5},"",null,null,"CHUQUIBAMBA","040601","CHUQUIBAMBA","PERUAREQUIPACONDESUYOSCHUQUIBAMBA","040601"]
[{"$nulls":5},"",null,null,"ANDARAY","040602","ANDARAY","PERUAREQUIPACONDESUYOSANDARAY","040602"]
[{"$nulls":5},"",null,null,"CAYARANI","040603","CAYARANI","PERUAREQUIPACONDESUYOSCAYARANI","040603"]
[{"$nulls":5},"",null,null,"CHICHAS","040604","CHICHAS","PERUAREQUIPACONDESUYOSCHICHAS","040604"]
[{"$nulls":5},"",null,null,"IRAY","040605","IRAY","PERUAREQUIPACONDESUYOSIRAY","040605"]
[{"$nulls":5},"",null,null,"RIO GRANDE","040606","RIO GRANDE","PERUAREQUIPACONDESUYOSRIO GRANDE","040606"]
[{"$nulls":5},"",null,null,"SALAMANCA","040607","SALAMANCA","PERUAREQUIPACONDESUYOSSALAMANCA","040607"]
[{"$nulls":5},"",null,null,"YANAQUIHUA","040608","YANAQUIHUA","PERUAREQUIPACONDESUYOSYANAQUIHUA","040608"]
[{"$nulls":5},"",null,null,"MOLLENDO","040701","MOLLENDO","PERUAREQUIPAISLAYMOLLENDO","040701"]
[{"$nulls":5},"",null,null,"COCACHACRA","040702","COCACHACRA","PERUAREQUIPAISLAYCOCACHACRA","040702"]
[{"$nulls":5},"",null,null,"DEAN VALDIVIA","040703","DEAN VALDIVIA","PERUAREQUIPAISLAYDEAN VALDIVIA","040703"]
[{"$nulls":5},"",null,null,"ISLAY","040704","ISLAY","PERUAREQUIPAISLAYISLAY","040704"]
[{"$nulls":5},"",null,null,"MEJIA","040705","MEJIA","PERUAREQUIPAISLAYMEJIA","040705"]
[{"$nulls":5},"",null,null,"PUNTA DE BOMBON","040706","PUNTA DE BOMBON","PERUAREQUIPAISLAYPUNTA DE BOMBON","040706"]
[{"$nulls":5},"",null,null,"COTAHUASI","040801","COTAHUASI","PERUAREQUIPALA UNIONCOTAHUASI","040801"]
[{"$nulls":5},"",null,null,"ALCA","040802","ALCA","PERUAREQUIPALA UNIONALCA","040802"]
[{"$nulls":5},"",null,null,"CHARCANA","040803","CHARCANA","PERUAREQUIPALA UNIONCHARCANA","040803"]
[{"$nulls":5},"",null,null,"HUAYNACOTAS","040804","HUAYNACOTAS","PERUAREQUIPALA UNIONHUAYNACOTAS","040804"]
[{"$nulls":5},"",null,null,"PAMPAMARCA","040805","PAMPAMARCA","PERUAREQUIPALA UNIONPAMPAMARCA","040805"]
[{"$nulls":5},"",null,null,"PUYCA","040806","PUYCA","PERUAREQUIPALA UNIONPUYCA","040806"]
[{"$nulls":5},"",null,null,"QUECHUALLA","040807","QUECHUALLA","PERUAREQUIPALA UNIONQUECHUALLA","040807"]
[{"$nulls":5},"",null,null,"SAYLA","040808","SAYLA","PERUAREQUIPALA UNIONSAYLA","040808"]
[{"$nulls":5},"",null,null,"TAURIA","040809","TAURIA","PERUAREQUIPALA UNIONTAURIA","040809"]
[{"$nulls":5},"",null,null,"TOMEPAMPA","040810","TOMEPAMPA","PERUAREQUIPALA UNIONTOMEPAMPA","040810"]
[{"$nulls":5},"",null,null,"TORO","040811","TORO","PERUAREQUIPALA UNIONTORO","040811"]
[{"$nulls":5},"",null,null,"AYACUCHO","050101","AYACUCHO","PERUAYACUCHOHUAMANGAAYACUCHO","050101"]
[{"$nulls":5},"",null,null,"ACOCRO","050102","ACOCRO","PERUAYACUCHOHUAMANGAACOCRO","050102"]
[{"$nulls":5},"",null,null,"ACOS VINCHOS","050103","ACOS VINCHOS","PERUAYACUCHOHUAMANGAACOS VINCHOS","050103"]
[{"$nulls":5},"",null,null,"CARMEN ALTO","050104","CARMEN ALTO","PERUAYACUCHOHUAMANGACARMEN ALTO","050104"]
[{"$nulls":5},"",null,null,"CHIARA","050105","CHIARA","PERUAYACUCHOHUAMANGACHIARA","050105"]
[{"$nulls":5},"",null,null,"OCROS","050106","OCROS","PERUAYACUCHOHUAMANGAOCROS","050106"]
[{"$nulls":5},"",null,null,"PACAYCASA","050107","PACAYCASA",{"$f":"\"PERU\"&VLOOKUP(LEFT(J451,2),$B$1:$C$27,2,0)&VLOOKUP(LEFT(J451,4),$F$2:$G$197,2,0)&K451","v":"PERUAYACUCHOHUAMANGAPACAYCASA"},{"$f":"J451","v":"050107"}]
[{"$nulls":5},"",null,null,"QUINUA","050108","QUINUA","PERUAYACUCHOHUAMANGAQUINUA","050108"]
[{"$nulls":5},"",null,null,"SAN JOSE DE TICLLAS","050109","SAN JOSE DE TICLLAS","PERUAYACUCHOHUAMANGASAN JOSE DE TICLLAS","050109"]
[{"$nulls":5},"",null,null,"SAN JUAN BAUTISTA","050110","SAN JUAN BAUTISTA","PERUAYACUCHOHUAMANGASAN JUAN BAUTISTA","050110"]
[{"$nulls":5},"",null,null,"SANTIAGO DE PISCHA","050111","SANTIAGO DE PISCHA","PERUAYACUCHOHUAMANGASANTIAGO DE PISCHA","050111"]
[{"$nulls":5},"",null,null,"SOCOS","050112","SOCOS","PERUAYACUCHOHUAMANGASOCOS","050112"]
[{"$nulls":5},"",null,null,"TAMBILLO","050113","TAMBILLO","PERUAYACUCHOHUAMANGATAMBILLO","050113"]
[{"$nulls":5},"",null,null,"VINCHOS","050114","VINCHOS","PERUAYACUCHOHUAMANGAVINCHOS","050114"]
[{"$nulls":5},"",null,null,"JESUS NAZARENO","050115","JESUS NAZARENO","PERUAYACUCHOHUAMANGAJESUS NAZARENO","050115"]
[{"$nulls":5},"",null,null,"ANDRES AVELINO CACERES DORREGARAY","050116","ANDRES AVELINO CACERES DORREGARAY","PERUAYACUCHOHUAMANGAANDRES AVELINO CACERES DORREGARAY","050116"]
[{"$nulls":5},"",null,null,"CANGALLO","050201","CANGALLO","PERUAYACUCHOCANGALLOCANGALLO","050201"]
[{"$nulls":5},"",null,null,"CHUSCHI","050202","CHUSCHI","PERUAYACUCHOCANGALLOCHUSCHI","050202"]
[{"$nulls":5},"",null,null,"LOS MOROCHUCOS","050203","LOS MOROCHUCOS","PERUAYACUCHOCANGALLOLOS MOROCHUCOS","050203"]
[{"$nulls":5},"",null,null,"MARIA PARADO DE BELLIDO","050204","MARIA PARADO DE BELLIDO","PERUAYACUCHOCANGALLOMARIA PARADO DE BELLIDO","050204"]
[{"$nulls":5},"",null,null,"PARAS","050205","PARAS","PERUAYACUCHOCANGALLOPARAS","050205"]
[{"$nulls":5},"",null,null,"TOTOS","050206","TOTOS","PERUAYACUCHOCANGALLOTOTOS","050206"]
[{"$nulls":5},"",null,null,"SANCOS","050301","SANCOS","PERUAYACUCHOHUANCA SANCOSSANCOS","050301"]
[{"$nulls":5},"",null,null,"CARAPO","050302","CARAPO","PERUAYACUCHOHUANCA SANCOSCARAPO","050302"]
[{"$nulls":5},"",null,null,"SACSAMARCA","050303","SACSAMARCA","PERUAYACUCHOHUANCA SANCOSSACSAMARCA","050303"]
[{"$nulls":5},"",null,null,"SANTIAGO DE LUCANAMARCA","050304","SANTIAGO DE LUCANAMARCA","PERUAYACUCHOHUANCA SANCOSSANTIAGO DE LUCANAMARCA","050304"]
[{"$nulls":5},"",null,null,"HUANTA","050401","HUANTA","PERUAYACUCHOHUANTAHUANTA","050401"]
[{"$nulls":5},"",null,null,"AYAHUANCO","050402","AYAHUANCO","PERUAYACUCHOHUANTAAYAHUANCO","050402"]
[{"$nulls":5},"",null,null,"HUAMANGUILLA","050403","HUAMANGUILLA","PERUAYACUCHOHUANTAHUAMANGUILLA","050403"]
[{"$nulls":5},"",null,null,"IGUAIN","050404","IGUAIN","PERUAYACUCHOHUANTAIGUAIN","050404"]
[{"$nulls":5},"",null,null,"LURICOCHA","050405","LURICOCHA","PERUAYACUCHOHUANTALURICOCHA","050405"]
[{"$nulls":5},"",null,null,"SANTILLANA","050406","SANTILLANA","PERUAYACUCHOHUANTASANTILLANA","050406"]
[{"$nulls":5},"",null,null,"SIVIA","050407","SIVIA","PERUAYACUCHOHUANTASIVIA","050407"]
[{"$nulls":5},"",null,null,"LLOCHEGUA","050408","LLOCHEGUA","PERUAYACUCHOHUANTALLOCHEGUA","050408"]
[{"$nulls":5},"",null,null,"CANAYRE","050409","CANAYRE","PERUAYACUCHOHUANTACANAYRE","050409"]
[{"$nulls":5},"",null,null,"UCHURACCAY","050410","UCHURACCAY","PERUAYACUCHOHUANTAUCHURACCAY","050410"]
[{"$nulls":5},"",null,null,"PUCACOLPA","050411","PUCACOLPA","PERUAYACUCHOHUANTAPUCACOLPA","050411"]
[{"$nulls":5},"",null,null,"CHACA","050412","CHACA","PERUAYACUCHOHUANTACHACA","050412"]
[{"$nulls":5},"",null,null,"SAN MIGUEL","050501","SAN MIGUEL","PERUAYACUCHOLA MARSAN MIGUEL","050501"]
[{"$nulls":5},"",null,null,"ANCO","050502","ANCO","PERUAYACUCHOLA MARANCO","050502"]
[{"$nulls":5},"",null,null,"AYNA","050503","AYNA","PERUAYACUCHOLA MARAYNA","050503"]
[{"$nulls":5},"",null,null,"CHILCAS","050504","CHILCAS","PERUAYACUCHOLA MARCHILCAS","050504"]
[{"$nulls":5},"",null,null,"CHUNGUI","050505","CHUNGUI","PERUAYACUCHOLA MARCHUNGUI","050505"]
[{"$nulls":5},"",null,null,"LUIS CARRANZA","050506","LUIS CARRANZA","PERUAYACUCHOLA MARLUIS CARRANZA","050506"]
[{"$nulls":5},"",null,null,"SANTA ROSA","050507","SANTA ROSA","PERUAYACUCHOLA MARSANTA ROSA","050507"]
[{"$nulls":5},"",null,null,"TAMBO","050508","TAMBO","PERUAYACUCHOLA MARTAMBO","050508"]
[{"$nulls":5},"",null,null,"SAMUGARI","050509","SAMUGARI","PERUAYACUCHOLA MARSAMUGARI","050509"]
[{"$nulls":5},"",null,null,"ANCHIHUAY","050510","ANCHIHUAY","PERUAYACUCHOLA MARANCHIHUAY","050510"]
[{"$nulls":5},"",null,null,"ORONCCOY","050511","ORONCCOY","PERUAYACUCHOLA MARORONCCOY","050511"]
[{"$nulls":5},"",null,null,"PUQUIO","050601","PUQUIO","PERUAYACUCHOLUCANASPUQUIO","050601"]
[{"$nulls":5},"",null,null,"AUCARA","050602","AUCARA","PERUAYACUCHOLUCANASAUCARA","050602"]
[{"$nulls":5},"",null,null,"CABANA","050603","CABANA","PERUAYACUCHOLUCANASCABANA","050603"]
[{"$nulls":5},"",null,null,"CARMEN SALCEDO","050604","CARMEN SALCEDO","PERUAYACUCHOLUCANASCARMEN SALCEDO","050604"]
[{"$nulls":5},"",null,null,"CHAVIÑA","050605","CHAVIÑA","PERUAYACUCHOLUCANASCHAVIÑA","050605"]
[{"$nulls":5},"",null,null,"CHIPAO","050606","CHIPAO","PERUAYACUCHOLUCANASCHIPAO","050606"]
[{"$nulls":5},"",null,null,"HUAC-HUAS","050607","HUAC-HUAS","PERUAYACUCHOLUCANASHUAC-HUAS","050607"]
[{"$nulls":5},"",null,null,"LARAMATE","050608","LARAMATE","PERUAYACUCHOLUCANASLARAMATE","050608"]
[{"$nulls":5},"",null,null,"LEONCIO PRADO","050609","LEONCIO PRADO","PERUAYACUCHOLUCANASLEONCIO PRADO","050609"]
[{"$nulls":5},"",null,null,"LLAUTA","050610","LLAUTA","PERUAYACUCHOLUCANASLLAUTA","050610"]
[{"$nulls":5},"",null,null,"LUCANAS","050611","LUCANAS","PERUAYACUCHOLUCANASLUCANAS","050611"]
[{"$nulls":5},"",null,null,"OCAÑA","050612","OCAÑA","PERUAYACUCHOLUCANASOCAÑA","050612"]
[{"$nulls":5},"",null,null,"OTOCA","050613","OTOCA","PERUAYACUCHOLUCANASOTOCA","050613"]
[{"$nulls":5},"",null,null,"SAISA","050614","SAISA","PERUAYACUCHOLUCANASSAISA","050614"]
[{"$nulls":5},"",null,null,"SAN CRISTOBAL","050615","SAN CRISTOBAL","PERUAYACUCHOLUCANASSAN CRISTOBAL","050615"]
[{"$nulls":5},"",null,null,"SAN JUAN","050616","SAN JUAN","PERUAYACUCHOLUCANASSAN JUAN","050616"]
[{"$nulls":5},"",null,null,"SAN PEDRO","050617","SAN PEDRO","PERUAYACUCHOLUCANASSAN PEDRO","050617"]
[{"$nulls":5},"",null,null,"SAN PEDRO DE PALCO","050618","SAN PEDRO DE PALCO","PERUAYACUCHOLUCANASSAN PEDRO DE PALCO","050618"]
[{"$nulls":5},"",null,null,"SANCOS","050619","SANCOS","PERUAYACUCHOLUCANASSANCOS","050619"]
[{"$nulls":5},"",null,null,"SANTA ANA DE HUAYCAHUACHO","050620","SANTA ANA DE HUAYCAHUACHO","PERUAYACUCHOLUCANASSANTA ANA DE HUAYCAHUACHO","050620"]
[{"$nulls":5},"",null,null,"SANTA LUCIA","050621","SANTA LUCIA","PERUAYACUCHOLUCANASSANTA LUCIA","050621"]
[{"$nulls":5},"",null,null,"CORACORA","050701","CORACORA",{"$f":"\"PERU\"&VLOOKUP(LEFT(J515,2),$B$1:$C$27,2,0)&VLOOKUP(LEFT(J515,4),$F$2:$G$197,2,0)&K515","v":"PERUAYACUCHOPARINACOCHASCORACORA"},{"$f":"J515","v":"050701"}]
[{"$nulls":5},"",null,null,"CHUMPI","050702","CHUMPI","PERUAYACUCHOPARINACOCHASCHUMPI","050702"]
[{"$nulls":5},"",null,null,"CORONEL CASTAÑEDA","050703","CORONEL CASTAÑEDA","PERUAYACUCHOPARINACOCHASCORONEL CASTAÑEDA","050703"]
[{"$nulls":5},"",null,null,"PACAPAUSA","050704","PACAPAUSA","PERUAYACUCHOPARINACOCHASPACAPAUSA","050704"]
[{"$nulls":5},"",null,null,"PULLO","050705","PULLO","PERUAYACUCHOPARINACOCHASPULLO","050705"]
[{"$nulls":5},"",null,null,"PUYUSCA","050706","PUYUSCA","PERUAYACUCHOPARINACOCHASPUYUSCA","050706"]
[{"$nulls":5},"",null,null,"SAN FRANCISCO DE RAVACAYCO","050707","SAN FRANCISCO DE RAVACAYCO","PERUAYACUCHOPARINACOCHASSAN FRANCISCO DE RAVACAYCO","050707"]
[{"$nulls":5},"",null,null,"UPAHUACHO","050708","UPAHUACHO","PERUAYACUCHOPARINACOCHASUPAHUACHO","050708"]
[{"$nulls":5},"",null,null,"PAUSA","050801","PAUSA","PERUAYACUCHOPAUCAR DEL SARA SARAPAUSA","050801"]
[{"$nulls":5},"",null,null,"COLTA","050802","COLTA","PERUAYACUCHOPAUCAR DEL SARA SARACOLTA","050802"]
[{"$nulls":5},"",null,null,"CORCULLA","050803","CORCULLA","PERUAYACUCHOPAUCAR DEL SARA SARACORCULLA","050803"]
[{"$nulls":5},"",null,null,"LAMPA","050804","LAMPA","PERUAYACUCHOPAUCAR DEL SARA SARALAMPA","050804"]
[{"$nulls":5},"",null,null,"MARCABAMBA","050805","MARCABAMBA","PERUAYACUCHOPAUCAR DEL SARA SARAMARCABAMBA","050805"]
[{"$nulls":5},"",null,null,"OYOLO","050806","OYOLO","PERUAYACUCHOPAUCAR DEL SARA SARAOYOLO","050806"]
[{"$nulls":5},"",null,null,"PARARCA","050807","PARARCA","PERUAYACUCHOPAUCAR DEL SARA SARAPARARCA","050807"]
[{"$nulls":5},"",null,null,"SAN JAVIER DE ALPABAMBA","050808","SAN JAVIER DE ALPABAMBA","PERUAYACUCHOPAUCAR DEL SARA SARASAN JAVIER DE ALPABAMBA","050808"]
[{"$nulls":5},"",null,null,"SAN JOSE DE USHUA","050809","SAN JOSE DE USHUA","PERUAYACUCHOPAUCAR DEL SARA SARASAN JOSE DE USHUA","050809"]
[{"$nulls":5},"",null,null,"SARA SARA","050810","SARA SARA","PERUAYACUCHOPAUCAR DEL SARA SARASARA SARA","050810"]
[{"$nulls":5},"",null,null,"QUEROBAMBA","050901","QUEROBAMBA","PERUAYACUCHOSUCREQUEROBAMBA","050901"]
[{"$nulls":5},"",null,null,"BELEN","050902","BELEN","PERUAYACUCHOSUCREBELEN","050902"]
[{"$nulls":5},"",null,null,"CHALCOS","050903","CHALCOS","PERUAYACUCHOSUCRECHALCOS","050903"]
[{"$nulls":5},"",null,null,"CHILCAYOC","050904","CHILCAYOC","PERUAYACUCHOSUCRECHILCAYOC","050904"]
[{"$nulls":5},"",null,null,"HUACAÑA","050905","HUACAÑA","PERUAYACUCHOSUCREHUACAÑA","050905"]
[{"$nulls":5},"",null,null,"MORCOLLA","050906","MORCOLLA","PERUAYACUCHOSUCREMORCOLLA","050906"]
[{"$nulls":5},"",null,null,"PAICO","050907","PAICO","PERUAYACUCHOSUCREPAICO","050907"]
[{"$nulls":5},"",null,null,"SAN PEDRO DE LARCAY","050908","SAN PEDRO DE LARCAY","PERUAYACUCHOSUCRESAN PEDRO DE LARCAY","050908"]
[{"$nulls":5},"",null,null,"SAN SALVADOR DE QUIJE","050909","SAN SALVADOR DE QUIJE","PERUAYACUCHOSUCRESAN SALVADOR DE QUIJE","050909"]
[{"$nulls":5},"",null,null,"SANTIAGO DE PAUCARAY","050910","SANTIAGO DE PAUCARAY","PERUAYACUCHOSUCRESANTIAGO DE PAUCARAY","050910"]
[{"$nulls":5},"",null,null,"SORAS","050911","SORAS","PERUAYACUCHOSUCRESORAS","050911"]
[{"$nulls":5},"",null,null,"HUANCAPI","051001","HUANCAPI","PERUAYACUCHOVICTOR FAJARDOHUANCAPI","051001"]
[{"$nulls":5},"",null,null,"ALCAMENCA","051002","ALCAMENCA","PERUAYACUCHOVICTOR FAJARDOALCAMENCA","051002"]
[{"$nulls":5},"",null,null,"APONGO","051003","APONGO","PERUAYACUCHOVICTOR FAJARDOAPONGO","051003"]
[{"$nulls":5},"",null,null,"ASQUIPATA","051004","ASQUIPATA","PERUAYACUCHOVICTOR FAJARDOASQUIPATA","051004"]
[{"$nulls":5},"",null,null,"CANARIA","051005","CANARIA","PERUAYACUCHOVICTOR FAJARDOCANARIA","051005"]
[{"$nulls":5},"",null,null,"CAYARA","051006","CAYARA","PERUAYACUCHOVICTOR FAJARDOCAYARA","051006"]
[{"$nulls":5},"",null,null,"COLCA","051007","COLCA","PERUAYACUCHOVICTOR FAJARDOCOLCA","051007"]
[{"$nulls":5},"",null,null,"HUAMANQUIQUIA","051008","HUAMANQUIQUIA","PERUAYACUCHOVICTOR FAJARDOHUAMANQUIQUIA","051008"]
[{"$nulls":5},"",null,null,"HUANCARAYLLA","051009","HUANCARAYLLA","PERUAYACUCHOVICTOR FAJARDOHUANCARAYLLA","051009"]
[{"$nulls":5},"",null,null,"HUAYA","051010","HUAYA","PERUAYACUCHOVICTOR FAJARDOHUAYA","051010"]
[{"$nulls":5},"",null,null,"SARHUA","051011","SARHUA","PERUAYACUCHOVICTOR FAJARDOSARHUA","051011"]
[{"$nulls":5},"",null,null,"VILCANCHOS","051012","VILCANCHOS","PERUAYACUCHOVICTOR FAJARDOVILCANCHOS","051012"]
[{"$nulls":5},"",null,null,"VILCAS HUAMAN","051101","VILCAS HUAMAN","PERUAYACUCHOVILCAS HUAMANVILCAS HUAMAN","051101"]
[{"$nulls":5},"",null,null,"ACCOMARCA","051102","ACCOMARCA","PERUAYACUCHOVILCAS HUAMANACCOMARCA","051102"]
[{"$nulls":5},"",null,null,"CARHUANCA","051103","CARHUANCA","PERUAYACUCHOVILCAS HUAMANCARHUANCA","051103"]
[{"$nulls":5},"",null,null,"CONCEPCION","051104","CONCEPCION","PERUAYACUCHOVILCAS HUAMANCONCEPCION","051104"]
[{"$nulls":5},"",null,null,"HUAMBALPA","051105","HUAMBALPA","PERUAYACUCHOVILCAS HUAMANHUAMBALPA","051105"]
[{"$nulls":5},"",null,null,"INDEPENDENCIA","051106","INDEPENDENCIA","PERUAYACUCHOVILCAS HUAMANINDEPENDENCIA","051106"]
[{"$nulls":5},"",null,null,"SAURAMA","051107","SAURAMA","PERUAYACUCHOVILCAS HUAMANSAURAMA","051107"]
[{"$nulls":5},"",null,null,"VISCHONGO","051108","VISCHONGO","PERUAYACUCHOVILCAS HUAMANVISCHONGO","051108"]
[{"$nulls":5},"",null,null,"CAJAMARCA","060101","CAJAMARCA","PERUCAJAMARCACAJAMARCACAJAMARCA","060101"]
[{"$nulls":5},"",null,null,"ASUNCION","060102","ASUNCION","PERUCAJAMARCACAJAMARCAASUNCION","060102"]
[{"$nulls":5},"",null,null,"CHETILLA","060103","CHETILLA","PERUCAJAMARCACAJAMARCACHETILLA","060103"]
[{"$nulls":5},"",null,null,"COSPAN","060104","COSPAN","PERUCAJAMARCACAJAMARCACOSPAN","060104"]
[{"$nulls":5},"",null,null,"ENCAÑADA","060105","ENCAÑADA","PERUCAJAMARCACAJAMARCAENCAÑADA","060105"]
[{"$nulls":5},"",null,null,"JESUS","060106","JESUS","PERUCAJAMARCACAJAMARCAJESUS","060106"]
[{"$nulls":5},"",null,null,"LLACANORA","060107","LLACANORA","PERUCAJAMARCACAJAMARCALLACANORA","060107"]
[{"$nulls":5},"",null,null,"LOS BAÑOS DEL INCA","060108","LOS BAÑOS DEL INCA","PERUCAJAMARCACAJAMARCALOS BAÑOS DEL INCA","060108"]
[{"$nulls":5},"",null,null,"MAGDALENA","060109","MAGDALENA","PERUCAJAMARCACAJAMARCAMAGDALENA","060109"]
[{"$nulls":5},"",null,null,"MATARA","060110","MATARA","PERUCAJAMARCACAJAMARCAMATARA","060110"]
[{"$nulls":5},"",null,null,"NAMORA","060111","NAMORA","PERUCAJAMARCACAJAMARCANAMORA","060111"]
[{"$nulls":5},"",null,null,"SAN JUAN","060112","SAN JUAN","PERUCAJAMARCACAJAMARCASAN JUAN","060112"]
[{"$nulls":5},"",null,null,"CAJABAMBA","060201","CAJABAMBA","PERUCAJAMARCACAJABAMBACAJABAMBA","060201"]
[{"$nulls":5},"",null,null,"CACHACHI","060202","CACHACHI","PERUCAJAMARCACAJABAMBACACHACHI","060202"]
[{"$nulls":5},"",null,null,"CONDEBAMBA","060203","CONDEBAMBA","PERUCAJAMARCACAJABAMBACONDEBAMBA","060203"]
[{"$nulls":5},"",null,null,"SITACOCHA","060204","SITACOCHA",{"$f":"\"PERU\"&VLOOKUP(LEFT(J579,2),$B$1:$C$27,2,0)&VLOOKUP(LEFT(J579,4),$F$2:$G$197,2,0)&K579","v":"PERUCAJAMARCACAJABAMBASITACOCHA"},{"$f":"J579","v":"060204"}]
[{"$nulls":5},"",null,null,"CELENDIN","060301","CELENDIN","PERUCAJAMARCACELENDINCELENDIN","060301"]
[{"$nulls":5},"",null,null,"CHUMUCH","060302","CHUMUCH","PERUCAJAMARCACELENDINCHUMUCH","060302"]
[{"$nulls":5},"",null,null,"CORTEGANA","060303","CORTEGANA","PERUCAJAMARCACELENDINCORTEGANA","060303"]
[{"$nulls":5},"",null,null,"HUASMIN","060304","HUASMIN","PERUCAJAMARCACELENDINHUASMIN","060304"]
[{"$nulls":5},"",null,null,"JORGE CHAVEZ","060305","JORGE CHAVEZ","PERUCAJAMARCACELENDINJORGE CHAVEZ","060305"]
[{"$nulls":5},"",null,null,"JOSE GALVEZ","060306","JOSE GALVEZ","PERUCAJAMARCACELENDINJOSE GALVEZ","060306"]
[{"$nulls":5},"",null,null,"MIGUEL IGLESIAS","060307","MIGUEL IGLESIAS","PERUCAJAMARCACELENDINMIGUEL IGLESIAS","060307"]
[{"$nulls":5},"",null,null,"OXAMARCA","060308","OXAMARCA","PERUCAJAMARCACELENDINOXAMARCA","060308"]
[{"$nulls":5},"",null,null,"SOROCHUCO","060309","SOROCHUCO","PERUCAJAMARCACELENDINSOROCHUCO","060309"]
[{"$nulls":5},"",null,null,"SUCRE","060310","SUCRE","PERUCAJAMARCACELENDINSUCRE","060310"]
[{"$nulls":5},"",null,null,"UTCO","060311","UTCO","PERUCAJAMARCACELENDINUTCO","060311"]
[{"$nulls":5},"",null,null,"LA LIBERTAD DE PALLAN","060312","LA LIBERTAD DE PALLAN","PERUCAJAMARCACELENDINLA LIBERTAD DE PALLAN","060312"]
[{"$nulls":5},"",null,null,"CHOTA","060401","CHOTA","PERUCAJAMARCACHOTACHOTA","060401"]
[{"$nulls":5},"",null,null,"ANGUIA","060402","ANGUIA","PERUCAJAMARCACHOTAANGUIA","060402"]
[{"$nulls":5},"",null,null,"CHADIN","060403","CHADIN","PERUCAJAMARCACHOTACHADIN","060403"]
[{"$nulls":5},"",null,null,"CHIGUIRIP","060404","CHIGUIRIP","PERUCAJAMARCACHOTACHIGUIRIP","060404"]
[{"$nulls":5},"",null,null,"CHIMBAN","060405","CHIMBAN","PERUCAJAMARCACHOTACHIMBAN","060405"]
[{"$nulls":5},"",null,null,"CHOROPAMPA","060406","CHOROPAMPA","PERUCAJAMARCACHOTACHOROPAMPA","060406"]
[{"$nulls":5},"",null,null,"COCHABAMBA","060407","COCHABAMBA","PERUCAJAMARCACHOTACOCHABAMBA","060407"]
[{"$nulls":5},"",null,null,"CONCHAN","060408","CONCHAN","PERUCAJAMARCACHOTACONCHAN","060408"]
[{"$nulls":5},"",null,null,"HUAMBOS","060409","HUAMBOS","PERUCAJAMARCACHOTAHUAMBOS","060409"]
[{"$nulls":5},"",null,null,"LAJAS","060410","LAJAS","PERUCAJAMARCACHOTALAJAS","060410"]
[{"$nulls":5},"",null,null,"LLAMA","060411","LLAMA","PERUCAJAMARCACHOTALLAMA","060411"]
[{"$nulls":5},"",null,null,"MIRACOSTA","060412","MIRACOSTA","PERUCAJAMARCACHOTAMIRACOSTA","060412"]
[{"$nulls":5},"",null,null,"PACCHA","060413","PACCHA","PERUCAJAMARCACHOTAPACCHA","060413"]
[{"$nulls":5},"",null,null,"PION","060414","PION","PERUCAJAMARCACHOTAPION","060414"]
[{"$nulls":5},"",null,null,"QUEROCOTO","060415","QUEROCOTO","PERUCAJAMARCACHOTAQUEROCOTO","060415"]
[{"$nulls":5},"",null,null,"SAN JUAN DE LICUPIS","060416","SAN JUAN DE LICUPIS","PERUCAJAMARCACHOTASAN JUAN DE LICUPIS","060416"]
[{"$nulls":5},"",null,null,"TACABAMBA","060417","TACABAMBA","PERUCAJAMARCACHOTATACABAMBA","060417"]
[{"$nulls":5},"",null,null,"TOCMOCHE","060418","TOCMOCHE","PERUCAJAMARCACHOTATOCMOCHE","060418"]
[{"$nulls":5},"",null,null,"CHALAMARCA","060419","CHALAMARCA","PERUCAJAMARCACHOTACHALAMARCA","060419"]
[{"$nulls":5},"",null,null,"CONTUMAZA","060501","CONTUMAZA","PERUCAJAMARCACONTUMAZACONTUMAZA","060501"]
[{"$nulls":5},"",null,null,"CHILETE","060502","CHILETE","PERUCAJAMARCACONTUMAZACHILETE","060502"]
[{"$nulls":5},"",null,null,"CUPISNIQUE","060503","CUPISNIQUE","PERUCAJAMARCACONTUMAZACUPISNIQUE","060503"]
[{"$nulls":5},"",null,null,"GUZMANGO","060504","GUZMANGO","PERUCAJAMARCACONTUMAZAGUZMANGO","060504"]
[{"$nulls":5},"",null,null,"SAN BENITO","060505","SAN BENITO","PERUCAJAMARCACONTUMAZASAN BENITO","060505"]
[{"$nulls":5},"",null,null,"SANTA CRUZ DE TOLED","060506","SANTA CRUZ DE TOLED","PERUCAJAMARCACONTUMAZASANTA CRUZ DE TOLED","060506"]
[{"$nulls":5},"",null,null,"TANTARICA","060507","TANTARICA","PERUCAJAMARCACONTUMAZATANTARICA","060507"]
[{"$nulls":5},"",null,null,"YONAN","060508","YONAN","PERUCAJAMARCACONTUMAZAYONAN","060508"]
[{"$nulls":5},"",null,null,"CUTERVO","060601","CUTERVO","PERUCAJAMARCACUTERVOCUTERVO","060601"]
[{"$nulls":5},"",null,null,"CALLAYUC","060602","CALLAYUC","PERUCAJAMARCACUTERVOCALLAYUC","060602"]
[{"$nulls":5},"",null,null,"CHOROS","060603","CHOROS","PERUCAJAMARCACUTERVOCHOROS","060603"]
[{"$nulls":5},"",null,null,"CUJILLO","060604","CUJILLO","PERUCAJAMARCACUTERVOCUJILLO","060604"]
[{"$nulls":5},"",null,null,"LA RAMADA","060605","LA RAMADA","PERUCAJAMARCACUTERVOLA RAMADA","060605"]
[{"$nulls":5},"",null,null,"PIMPINGOS","060606","PIMPINGOS","PERUCAJAMARCACUTERVOPIMPINGOS","060606"]
[{"$nulls":5},"",null,null,"QUEROCOTILLO","060607","QUEROCOTILLO","PERUCAJAMARCACUTERVOQUEROCOTILLO","060607"]
[{"$nulls":5},"",null,null,"SAN ANDRES DE CUTERVO","060608","SAN ANDRES DE CUTERVO","PERUCAJAMARCACUTERVOSAN ANDRES DE CUTERVO","060608"]
[{"$nulls":5},"",null,null,"SAN JUAN DE CUTERVO","060609","SAN JUAN DE CUTERVO","PERUCAJAMARCACUTERVOSAN JUAN DE CUTERVO","060609"]
[{"$nulls":5},"",null,null,"SAN LUIS DE LUCMA","060610","SAN LUIS DE LUCMA","PERUCAJAMARCACUTERVOSAN LUIS DE LUCMA","060610"]
[{"$nulls":5},"",null,null,"SANTA CRUZ","060611","SANTA CRUZ","PERUCAJAMARCACUTERVOSANTA CRUZ","060611"]
[{"$nulls":5},"",null,null,"SANTO DOMINGO DE LA CAPILLA","060612","SANTO DOMINGO DE LA CAPILLA","PERUCAJAMARCACUTERVOSANTO DOMINGO DE LA CAPILLA","060612"]
[{"$nulls":5},"",null,null,"SANTO TOMAS","060613","SANTO TOMAS","PERUCAJAMARCACUTERVOSANTO TOMAS","060613"]
[{"$nulls":5},"",null,null,"SOCOTA","060614","SOCOTA","PERUCAJAMARCACUTERVOSOCOTA","060614"]
[{"$nulls":5},"",null,null,"TORIBIO CASANOVA","060615","TORIBIO CASANOVA","PERUCAJAMARCACUTERVOTORIBIO CASANOVA","060615"]
[{"$nulls":5},"",null,null,"BAMBAMARCA","060701","BAMBAMARCA","PERUCAJAMARCAHUALGAYOCBAMBAMARCA","060701"]
[{"$nulls":5},"",null,null,"CHUGUR","060702","CHUGUR","PERUCAJAMARCAHUALGAYOCCHUGUR","060702"]
[{"$nulls":5},"",null,null,"HUALGAYOC","060703","HUALGAYOC","PERUCAJAMARCAHUALGAYOCHUALGAYOC","060703"]
[{"$nulls":5},"",null,null,"JAEN","060801","JAEN","PERUCAJAMARCAJAENJAEN","060801"]
[{"$nulls":5},"",null,null,"BELLAVISTA","060802","BELLAVISTA","PERUCAJAMARCAJAENBELLAVISTA","060802"]
[{"$nulls":5},"",null,null,"CHONTALI","060803","CHONTALI","PERUCAJAMARCAJAENCHONTALI","060803"]
[{"$nulls":5},"",null,null,"COLASAY","060804","COLASAY","PERUCAJAMARCAJAENCOLASAY","060804"]
[{"$nulls":5},"",null,null,"HUABAL","060805","HUABAL","PERUCAJAMARCAJAENHUABAL","060805"]
[{"$nulls":5},"",null,null,"LAS PIRIAS","060806","LAS PIRIAS","PERUCAJAMARCAJAENLAS PIRIAS","060806"]
[{"$nulls":5},"",null,null,"POMAHUACA","060807","POMAHUACA",{"$f":"\"PERU\"&VLOOKUP(LEFT(J643,2),$B$1:$C$27,2,0)&VLOOKUP(LEFT(J643,4),$F$2:$G$197,2,0)&K643","v":"PERUCAJAMARCAJAENPOMAHUACA"},{"$f":"J643","v":"060807"}]
[{"$nulls":5},"",null,null,"PUCARA","060808","PUCARA","PERUCAJAMARCAJAENPUCARA","060808"]
[{"$nulls":5},"",null,null,"SALLIQUE","060809","SALLIQUE","PERUCAJAMARCAJAENSALLIQUE","060809"]
[{"$nulls":5},"",null,null,"SAN FELIPE","060810","SAN FELIPE","PERUCAJAMARCAJAENSAN FELIPE","060810"]
[{"$nulls":5},"",null,null,"SAN JOSE DEL ALTO","060811","SAN JOSE DEL ALTO","PERUCAJAMARCAJAENSAN JOSE DEL ALTO","060811"]
[{"$nulls":5},"",null,null,"SANTA ROSA","060812","SANTA ROSA","PERUCAJAMARCAJAENSANTA ROSA","060812"]
[{"$nulls":5},"",null,null,"SAN IGNACIO","060901","SAN IGNACIO","PERUCAJAMARCASAN IGNACIOSAN IGNACIO","060901"]
[{"$nulls":5},"",null,null,"CHIRINOS","060902","CHIRINOS","PERUCAJAMARCASAN IGNACIOCHIRINOS","060902"]
[{"$nulls":5},"",null,null,"HUARANGO","060903","HUARANGO","PERUCAJAMARCASAN IGNACIOHUARANGO","060903"]
[{"$nulls":5},"",null,null,"LA COIPA","060904","LA COIPA","PERUCAJAMARCASAN IGNACIOLA COIPA","060904"]
[{"$nulls":5},"",null,null,"NAMBALLE","060905","NAMBALLE","PERUCAJAMARCASAN IGNACIONAMBALLE","060905"]
[{"$nulls":5},"",null,null,"SAN JOSE DE LOURDES","060906","SAN JOSE DE LOURDES","PERUCAJAMARCASAN IGNACIOSAN JOSE DE LOURDES","060906"]
[{"$nulls":5},"",null,null,"TABACONAS","060907","TABACONAS","PERUCAJAMARCASAN IGNACIOTABACONAS","060907"]
[{"$nulls":5},"",null,null,"PEDRO GALVEZ","061001","PEDRO GALVEZ","PERUCAJAMARCASAN MARCOSPEDRO GALVEZ","061001"]
[{"$nulls":5},"",null,null,"CHANCAY","061002","CHANCAY","PERUCAJAMARCASAN MARCOSCHANCAY","061002"]
[{"$nulls":5},"",null,null,"EDUARDO VILLANUEVA","061003","EDUARDO VILLANUEVA","PERUCAJAMARCASAN MARCOSEDUARDO VILLANUEVA","061003"]
[{"$nulls":5},"",null,null,"GREGORIO PITA","061004","GREGORIO PITA","PERUCAJAMARCASAN MARCOSGREGORIO PITA","061004"]
[{"$nulls":5},"",null,null,"ICHOCAN","061005","ICHOCAN","PERUCAJAMARCASAN MARCOSICHOCAN","061005"]
[{"$nulls":5},"",null,null,"JOSE MANUEL QUIROZ","061006","JOSE MANUEL QUIROZ","PERUCAJAMARCASAN MARCOSJOSE MANUEL QUIROZ","061006"]
[{"$nulls":5},"",null,null,"JOSE SABOGAL","061007","JOSE SABOGAL","PERUCAJAMARCASAN MARCOSJOSE SABOGAL","061007"]
[{"$nulls":5},"",null,null,"SAN MIGUEL","061101","SAN MIGUEL","PERUCAJAMARCASAN MIGUELSAN MIGUEL","061101"]
[{"$nulls":5},"",null,null,"BOLIVAR","061102","BOLIVAR","PERUCAJAMARCASAN MIGUELBOLIVAR","061102"]
[{"$nulls":5},"",null,null,"CALQUIS","061103","CALQUIS","PERUCAJAMARCASAN MIGUELCALQUIS","061103"]
[{"$nulls":5},"",null,null,"CATILLUC","061104","CATILLUC","PERUCAJAMARCASAN MIGUELCATILLUC","061104"]
[{"$nulls":5},"",null,null,"EL PRADO","061105","EL PRADO","PERUCAJAMARCASAN MIGUELEL PRADO","061105"]
[{"$nulls":5},"",null,null,"LA FLORIDA","061106","LA FLORIDA","PERUCAJAMARCASAN MIGUELLA FLORIDA","061106"]
[{"$nulls":5},"",null,null,"LLAPA","061107","LLAPA","PERUCAJAMARCASAN MIGUELLLAPA","061107"]
[{"$nulls":5},"",null,null,"NANCHOC","061108","NANCHOC","PERUCAJAMARCASAN MIGUELNANCHOC","061108"]
[{"$nulls":5},"",null,null,"NIEPOS","061109","NIEPOS","PERUCAJAMARCASAN MIGUELNIEPOS","061109"]
[{"$nulls":5},"",null,null,"SAN GREGORIO","061110","SAN GREGORIO","PERUCAJAMARCASAN MIGUELSAN GREGORIO","061110"]
[{"$nulls":5},"",null,null,"SAN SILVESTRE DE COCHAN","061111","SAN SILVESTRE DE COCHAN","PERUCAJAMARCASAN MIGUELSAN SILVESTRE DE COCHAN","061111"]
[{"$nulls":5},"",null,null,"TONGOD","061112","TONGOD","PERUCAJAMARCASAN MIGUELTONGOD","061112"]
[{"$nulls":5},"",null,null,"UNION AGUA BLANCA","061113","UNION AGUA BLANCA","PERUCAJAMARCASAN MIGUELUNION AGUA BLANCA","061113"]
[{"$nulls":5},"",null,null,"SAN PABLO","061201","SAN PABLO","PERUCAJAMARCASAN PABLOSAN PABLO","061201"]
[{"$nulls":5},"",null,null,"SAN BERNARDINO","061202","SAN BERNARDINO","PERUCAJAMARCASAN PABLOSAN BERNARDINO","061202"]
[{"$nulls":5},"",null,null,"SAN LUIS","061203","SAN LUIS","PERUCAJAMARCASAN PABLOSAN LUIS","061203"]
[{"$nulls":5},"",null,null,"TUMBADEN","061204","TUMBADEN","PERUCAJAMARCASAN PABLOTUMBADEN","061204"]
[{"$nulls":5},"",null,null,"SANTA CRUZ","061301","SANTA CRUZ","PERUCAJAMARCASANTA CRUZSANTA CRUZ","061301"]
[{"$nulls":5},"",null,null,"ANDABAMBA","061302","ANDABAMBA","PERUCAJAMARCASANTA CRUZANDABAMBA","061302"]
[{"$nulls":5},"",null,null,"CATACHE","061303","CATACHE","PERUCAJAMARCASANTA CRUZCATACHE","061303"]
[{"$nulls":5},"",null,null,"CHANCAYBAÑOS","061304","CHANCAYBAÑOS","PERUCAJAMARCASANTA CRUZCHANCAYBAÑOS","061304"]
[{"$nulls":5},"",null,null,"LA ESPERANZA","061305","LA ESPERANZA","PERUCAJAMARCASANTA CRUZLA ESPERANZA","061305"]
[{"$nulls":5},"",null,null,"NINABAMBA","061306","NINABAMBA","PERUCAJAMARCASANTA CRUZNINABAMBA","061306"]
[{"$nulls":5},"",null,null,"PULAN","061307","PULAN","PERUCAJAMARCASANTA CRUZPULAN","061307"]
[{"$nulls":5},"",null,null,"SAUCEPAMPA","061308","SAUCEPAMPA","PERUCAJAMARCASANTA CRUZSAUCEPAMPA","061308"]
[{"$nulls":5},"",null,null,"SEXI","061309","SEXI","PERUCAJAMARCASANTA CRUZSEXI","061309"]
[{"$nulls":5},"",null,null,"UTICYACU","061310","UTICYACU","PERUCAJAMARCASANTA CRUZUTICYACU","061310"]
[{"$nulls":5},"",null,null,"YAUYUCAN","061311","YAUYUCAN","PERUCAJAMARCASANTA CRUZYAUYUCAN","061311"]
[{"$nulls":5},"",null,null,"CALLAO","070101","CALLAO","PERUCALLAOCALLAOCALLAO","070101"]
[{"$nulls":5},"",null,null,"BELLAVISTA","070102","BELLAVISTA","PERUCALLAOCALLAOBELLAVISTA","070102"]
[{"$nulls":5},"",null,null,"CARMEN DE LA LEGUA REYNOSO","070103","CARMEN DE LA LEGUA REYNOSO","PERUCALLAOCALLAOCARMEN DE LA LEGUA REYNOSO","070103"]
[{"$nulls":5},"",null,null,"LA PERLA","070104","LA PERLA","PERUCALLAOCALLAOLA PERLA","070104"]
[{"$nulls":5},"",null,null,"LA PUNTA","070105","LA PUNTA","PERUCALLAOCALLAOLA PUNTA","070105"]
[{"$nulls":5},"",null,null,"VENTANILLA","070106","VENTANILLA","PERUCALLAOCALLAOVENTANILLA","070106"]
[{"$nulls":5},"",null,null,"MI PERU","070107","MI PERU","PERUCALLAOCALLAOMI PERU","070107"]
[{"$nulls":5},"",null,null,"CUSCO","080101","CUSCO","PERUCUSCOCUSCOCUSCO","080101"]
[{"$nulls":5},"",null,null,"CCORCA","080102","CCORCA","PERUCUSCOCUSCOCCORCA","080102"]
[{"$nulls":5},"",null,null,"POROY","080103","POROY","PERUCUSCOCUSCOPOROY","080103"]
[{"$nulls":5},"",null,null,"SAN JERONIMO","080104","SAN JERONIMO","PERUCUSCOCUSCOSAN JERONIMO","080104"]
[{"$nulls":5},"",null,null,"SAN SEBASTIAN","080105","SAN SEBASTIAN","PERUCUSCOCUSCOSAN SEBASTIAN","080105"]
[{"$nulls":5},"",null,null,"SANTIAGO","080106","SANTIAGO","PERUCUSCOCUSCOSANTIAGO","080106"]
[{"$nulls":5},"",null,null,"SAYLLA","080107","SAYLLA","PERUCUSCOCUSCOSAYLLA","080107"]
[{"$nulls":5},"",null,null,"WANCHAQ","080108","WANCHAQ","PERUCUSCOCUSCOWANCHAQ","080108"]
[{"$nulls":5},"",null,null,"ACOMAYO","080201","ACOMAYO","PERUCUSCOACOMAYOACOMAYO","080201"]
[{"$nulls":5},"",null,null,"ACOPIA","080202","ACOPIA",{"$f":"\"PERU\"&VLOOKUP(LEFT(J707,2),$B$1:$C$27,2,0)&VLOOKUP(LEFT(J707,4),$F$2:$G$197,2,0)&K707","v":"PERUCUSCOACOMAYOACOPIA"},{"$f":"J707","v":"080202"}]
[{"$nulls":5},"",null,null,"ACOS","080203","ACOS","PERUCUSCOACOMAYOACOS","080203"]
[{"$nulls":5},"",null,null,"MOSOC LLACTA","080204","MOSOC LLACTA","PERUCUSCOACOMAYOMOSOC LLACTA","080204"]
[{"$nulls":5},"",null,null,"POMACANCHI","080205","POMACANCHI","PERUCUSCOACOMAYOPOMACANCHI","080205"]
[{"$nulls":5},"",null,null,"RONDOCAN","080206","RONDOCAN","PERUCUSCOACOMAYORONDOCAN","080206"]
[{"$nulls":5},"",null,null,"SANGARARA","080207","SANGARARA","PERUCUSCOACOMAYOSANGARARA","080207"]
[{"$nulls":5},"",null,null,"ANTA","080301","ANTA","PERUCUSCOANTAANTA","080301"]
[{"$nulls":5},"",null,null,"ANCAHUASI","080302","ANCAHUASI","PERUCUSCOANTAANCAHUASI","080302"]
[{"$nulls":5},"",null,null,"CACHIMAYO","080303","CACHIMAYO","PERUCUSCOANTACACHIMAYO","080303"]
[{"$nulls":5},"",null,null,"CHINCHAYPUJIO","080304","CHINCHAYPUJIO","PERUCUSCOANTACHINCHAYPUJIO","080304"]
[{"$nulls":5},"",null,null,"HUAROCONDO","080305","HUAROCONDO","PERUCUSCOANTAHUAROCONDO","080305"]
[{"$nulls":5},"",null,null,"LIMATAMBO","080306","LIMATAMBO","PERUCUSCOANTALIMATAMBO","080306"]
[{"$nulls":5},"",null,null,"MOLLEPATA","080307","MOLLEPATA","PERUCUSCOANTAMOLLEPATA","080307"]
[{"$nulls":5},"",null,null,"PUCYURA","080308","PUCYURA","PERUCUSCOANTAPUCYURA","080308"]
[{"$nulls":5},"",null,null,"ZURITE","080309","ZURITE","PERUCUSCOANTAZURITE","080309"]
[{"$nulls":5},"",null,null,"CALCA","080401","CALCA","PERUCUSCOCALCACALCA","080401"]
[{"$nulls":5},"",null,null,"COYA","080402","COYA","PERUCUSCOCALCACOYA","080402"]
[{"$nulls":5},"",null,null,"LAMAY","080403","LAMAY","PERUCUSCOCALCALAMAY","080403"]
[{"$nulls":5},"",null,null,"LARES","080404","LARES","PERUCUSCOCALCALARES","080404"]
[{"$nulls":5},"",null,null,"PISAC","080405","PISAC","PERUCUSCOCALCAPISAC","080405"]
[{"$nulls":5},"",null,null,"SAN SALVADOR","080406","SAN SALVADOR","PERUCUSCOCALCASAN SALVADOR","080406"]
[{"$nulls":5},"",null,null,"TARAY","080407","TARAY","PERUCUSCOCALCATARAY","080407"]
[{"$nulls":5},"",null,null,"YANATILE","080408","YANATILE","PERUCUSCOCALCAYANATILE","080408"]
[{"$nulls":5},"",null,null,"YANAOCA","080501","YANAOCA","PERUCUSCOCANASYANAOCA","080501"]
[{"$nulls":5},"",null,null,"CHECCA","080502","CHECCA","PERUCUSCOCANASCHECCA","080502"]
[{"$nulls":5},"",null,null,"KUNTURKANKI","080503","KUNTURKANKI","PERUCUSCOCANASKUNTURKANKI","080503"]
[{"$nulls":5},"",null,null,"LANGUI","080504","LANGUI","PERUCUSCOCANASLANGUI","080504"]
[{"$nulls":5},"",null,null,"LAYO","080505","LAYO","PERUCUSCOCANASLAYO","080505"]
[{"$nulls":5},"",null,null,"PAMPAMARCA","080506","PAMPAMARCA","PERUCUSCOCANASPAMPAMARCA","080506"]
[{"$nulls":5},"",null,null,"QUEHUE","080507","QUEHUE","PERUCUSCOCANASQUEHUE","080507"]
[{"$nulls":5},"",null,null,"TUPAC AMARU","080508","TUPAC AMARU","PERUCUSCOCANASTUPAC AMARU","080508"]
[{"$nulls":5},"",null,null,"SICUANI","080601","SICUANI","PERUCUSCOCANCHISSICUANI","080601"]
[{"$nulls":5},"",null,null,"CHECACUPE","080602","CHECACUPE","PERUCUSCOCANCHISCHECACUPE","080602"]
[{"$nulls":5},"",null,null,"COMBAPATA","080603","COMBAPATA","PERUCUSCOCANCHISCOMBAPATA","080603"]
[{"$nulls":5},"",null,null,"MARANGANI","080604","MARANGANI","PERUCUSCOCANCHISMARANGANI","080604"]
[{"$nulls":5},"",null,null,"PITUMARCA","080605","PITUMARCA","PERUCUSCOCANCHISPITUMARCA","080605"]
[{"$nulls":5},"",null,null,"SAN PABLO","080606","SAN PABLO","PERUCUSCOCANCHISSAN PABLO","080606"]
[{"$nulls":5},"",null,null,"SAN PEDRO","080607","SAN PEDRO","PERUCUSCOCANCHISSAN PEDRO","080607"]
[{"$nulls":5},"",null,null,"TINTA","080608","TINTA","PERUCUSCOCANCHISTINTA","080608"]
[{"$nulls":5},"",null,null,"SANTO TOMAS","080701","SANTO TOMAS","PERUCUSCOCHUMBIVILCASSANTO TOMAS","080701"]
[{"$nulls":5},"",null,null,"CAPACMARCA","080702","CAPACMARCA","PERUCUSCOCHUMBIVILCASCAPACMARCA","080702"]
[{"$nulls":5},"",null,null,"CHAMACA","080703","CHAMACA","PERUCUSCOCHUMBIVILCASCHAMACA","080703"]
[{"$nulls":5},"",null,null,"COLQUEMARCA","080704","COLQUEMARCA","PERUCUSCOCHUMBIVILCASCOLQUEMARCA","080704"]
[{"$nulls":5},"",null,null,"LIVITACA","080705","LIVITACA","PERUCUSCOCHUMBIVILCASLIVITACA","080705"]
[{"$nulls":5},"",null,null,"LLUSCO","080706","LLUSCO","PERUCUSCOCHUMBIVILCASLLUSCO","080706"]
[{"$nulls":5},"",null,null,"QUINOTA","080707","QUINOTA","PERUCUSCOCHUMBIVILCASQUINOTA","080707"]
[{"$nulls":5},"",null,null,"VELILLE","080708","VELILLE","PERUCUSCOCHUMBIVILCASVELILLE","080708"]
[{"$nulls":5},"",null,null,"ESPINAR","080801","ESPINAR","PERUCUSCOESPINARESPINAR","080801"]
[{"$nulls":5},"",null,null,"CONDOROMA","080802","CONDOROMA","PERUCUSCOESPINARCONDOROMA","080802"]
[{"$nulls":5},"",null,null,"COPORAQUE","080803","COPORAQUE","PERUCUSCOESPINARCOPORAQUE","080803"]
[{"$nulls":5},"",null,null,"OCORURO","080804","OCORURO","PERUCUSCOESPINAROCORURO","080804"]
[{"$nulls":5},"",null,null,"PALLPATA","080805","PALLPATA","PERUCUSCOESPINARPALLPATA","080805"]
[{"$nulls":5},"",null,null,"PICHIGUA","080806","PICHIGUA","PERUCUSCOESPINARPICHIGUA","080806"]
[{"$nulls":5},"",null,null,"SUYCKUTAMBO","080807","SUYCKUTAMBO","PERUCUSCOESPINARSUYCKUTAMBO","080807"]
[{"$nulls":5},"",null,null,"ALTO PICHIGUA","080808","ALTO PICHIGUA","PERUCUSCOESPINARALTO PICHIGUA","080808"]
[{"$nulls":5},"",null,null,"SANTA ANA","080901","SANTA ANA","PERUCUSCOLA CONVENCIONSANTA ANA","080901"]
[{"$nulls":5},"",null,null,"ECHARATE","080902","ECHARATE","PERUCUSCOLA CONVENCIONECHARATE","080902"]
[{"$nulls":5},"",null,null,"HUAYOPATA","080903","HUAYOPATA","PERUCUSCOLA CONVENCIONHUAYOPATA","080903"]
[{"$nulls":5},"",null,null,"MARANURA","080904","MARANURA","PERUCUSCOLA CONVENCIONMARANURA","080904"]
[{"$nulls":5},"",null,null,"OCOBAMBA","080905","OCOBAMBA","PERUCUSCOLA CONVENCIONOCOBAMBA","080905"]
[{"$nulls":5},"",null,null,"QUELLOUNO","080906","QUELLOUNO","PERUCUSCOLA CONVENCIONQUELLOUNO","080906"]
[{"$nulls":5},"",null,null,"KIMBIRI","080907","KIMBIRI","PERUCUSCOLA CONVENCIONKIMBIRI","080907"]
[{"$nulls":5},"",null,null,"SANTA TERESA","080908","SANTA TERESA","PERUCUSCOLA CONVENCIONSANTA TERESA","080908"]
[{"$nulls":5},"",null,null,"VILCABAMBA","080909","VILCABAMBA","PERUCUSCOLA CONVENCIONVILCABAMBA","080909"]
[{"$nulls":5},"",null,null,"PICHARI","080910","PICHARI",{"$f":"\"PERU\"&VLOOKUP(LEFT(J771,2),$B$1:$C$27,2,0)&VLOOKUP(LEFT(J771,4),$F$2:$G$197,2,0)&K771","v":"PERUCUSCOLA CONVENCIONPICHARI"},{"$f":"J771","v":"080910"}]
[{"$nulls":5},"",null,null,"INKAWASI","080911","INKAWASI","PERUCUSCOLA CONVENCIONINKAWASI","080911"]
[{"$nulls":5},"",null,null,"VILLA VIRGEN","080912","VILLA VIRGEN","PERUCUSCOLA CONVENCIONVILLA VIRGEN","080912"]
[{"$nulls":5},"",null,null,"VILLA KINTIARINA","080913","VILLA KINTIARINA","PERUCUSCOLA CONVENCIONVILLA KINTIARINA","080913"]
[{"$nulls":5},"",null,null,"MEGANTONI","080914","MEGANTONI","PERUCUSCOLA CONVENCIONMEGANTONI","080914"]
[{"$nulls":5},"",null,null,"PARURO","081001","PARURO","PERUCUSCOPARUROPARURO","081001"]
[{"$nulls":5},"",null,null,"ACCHA","081002","ACCHA","PERUCUSCOPARUROACCHA","081002"]
[{"$nulls":5},"",null,null,"CCAPI","081003","CCAPI","PERUCUSCOPARUROCCAPI","081003"]
[{"$nulls":5},"",null,null,"COLCHA","081004","COLCHA","PERUCUSCOPARUROCOLCHA","081004"]
[{"$nulls":5},"",null,null,"HUANOQUITE","081005","HUANOQUITE","PERUCUSCOPARUROHUANOQUITE","081005"]
[{"$nulls":5},"",null,null,"OMACHA","081006","OMACHA","PERUCUSCOPARUROOMACHA","081006"]
[{"$nulls":5},"",null,null,"PACCARITAMBO","081007","PACCARITAMBO","PERUCUSCOPARUROPACCARITAMBO","081007"]
[{"$nulls":5},"",null,null,"PILLPINTO","081008","PILLPINTO","PERUCUSCOPARUROPILLPINTO","081008"]
[{"$nulls":5},"",null,null,"YAURISQUE","081009","YAURISQUE","PERUCUSCOPARUROYAURISQUE","081009"]
[{"$nulls":5},"",null,null,"PAUCARTAMBO","081101","PAUCARTAMBO","PERUCUSCOPAUCARTAMBOPAUCARTAMBO","081101"]
[{"$nulls":5},"",null,null,"CAICAY","081102","CAICAY","PERUCUSCOPAUCARTAMBOCAICAY","081102"]
[{"$nulls":5},"",null,null,"CHALLABAMBA","081103","CHALLABAMBA","PERUCUSCOPAUCARTAMBOCHALLABAMBA","081103"]
[{"$nulls":5},"",null,null,"COLQUEPATA","081104","COLQUEPATA","PERUCUSCOPAUCARTAMBOCOLQUEPATA","081104"]
[{"$nulls":5},"",null,null,"HUANCARANI","081105","HUANCARANI","PERUCUSCOPAUCARTAMBOHUANCARANI","081105"]
[{"$nulls":5},"",null,null,"KOSÑIPATA","081106","KOSÑIPATA","PERUCUSCOPAUCARTAMBOKOSÑIPATA","081106"]
[{"$nulls":5},"",null,null,"URCOS","081201","URCOS","PERUCUSCOQUISPICANCHIURCOS","081201"]
[{"$nulls":5},"",null,null,"ANDAHUAYLILLAS","081202","ANDAHUAYLILLAS","PERUCUSCOQUISPICANCHIANDAHUAYLILLAS","081202"]
[{"$nulls":5},"",null,null,"CAMANTI","081203","CAMANTI","PERUCUSCOQUISPICANCHICAMANTI","081203"]
[{"$nulls":5},"",null,null,"CCARHUAYO","081204","CCARHUAYO","PERUCUSCOQUISPICANCHICCARHUAYO","081204"]
[{"$nulls":5},"",null,null,"CCATCA","081205","CCATCA","PERUCUSCOQUISPICANCHICCATCA","081205"]
[{"$nulls":5},"",null,null,"CUSIPATA","081206","CUSIPATA","PERUCUSCOQUISPICANCHICUSIPATA","081206"]
[{"$nulls":5},"",null,null,"HUARO","081207","HUARO","PERUCUSCOQUISPICANCHIHUARO","081207"]
[{"$nulls":5},"",null,null,"LUCRE","081208","LUCRE","PERUCUSCOQUISPICANCHILUCRE","081208"]
[{"$nulls":5},"",null,null,"MARCAPATA","081209","MARCAPATA","PERUCUSCOQUISPICANCHIMARCAPATA","081209"]
[{"$nulls":5},"",null,null,"OCONGATE","081210","OCONGATE","PERUCUSCOQUISPICANCHIOCONGATE","081210"]
[{"$nulls":5},"",null,null,"OROPESA","081211","OROPESA","PERUCUSCOQUISPICANCHIOROPESA","081211"]
[{"$nulls":5},"",null,null,"QUIQUIJANA","081212","QUIQUIJANA","PERUCUSCOQUISPICANCHIQUIQUIJANA","081212"]
[{"$nulls":5},"",null,null,"URUBAMBA","081301","URUBAMBA","PERUCUSCOURUBAMBAURUBAMBA","081301"]
[{"$nulls":5},"",null,null,"CHINCHERO","081302","CHINCHERO","PERUCUSCOURUBAMBACHINCHERO","081302"]
[{"$nulls":5},"",null,null,"HUAYLLABAMBA","081303","HUAYLLABAMBA","PERUCUSCOURUBAMBAHUAYLLABAMBA","081303"]
[{"$nulls":5},"",null,null,"MACHUPICCHU","081304","MACHUPICCHU","PERUCUSCOURUBAMBAMACHUPICCHU","081304"]
[{"$nulls":5},"",null,null,"MARAS","081305","MARAS","PERUCUSCOURUBAMBAMARAS","081305"]
[{"$nulls":5},"",null,null,"OLLANTAYTAMBO","081306","OLLANTAYTAMBO","PERUCUSCOURUBAMBAOLLANTAYTAMBO","081306"]
[{"$nulls":5},"",null,null,"YUCAY","081307","YUCAY","PERUCUSCOURUBAMBAYUCAY","081307"]
[{"$nulls":5},"",null,null,"HUANCAVELICA","090101","HUANCAVELICA","PERUHUANCAVELICAHUANCAVELICAHUANCAVELICA","090101"]
[{"$nulls":5},"",null,null,"ACOBAMBILLA","090102","ACOBAMBILLA","PERUHUANCAVELICAHUANCAVELICAACOBAMBILLA","090102"]
[{"$nulls":5},"",null,null,"ACORIA","090103","ACORIA","PERUHUANCAVELICAHUANCAVELICAACORIA","090103"]
[{"$nulls":5},"",null,null,"CONAYCA","090104","CONAYCA","PERUHUANCAVELICAHUANCAVELICACONAYCA","090104"]
[{"$nulls":5},"",null,null,"CUENCA","090105","CUENCA","PERUHUANCAVELICAHUANCAVELICACUENCA","090105"]
[{"$nulls":5},"",null,null,"HUACHOCOLPA","090106","HUACHOCOLPA","PERUHUANCAVELICAHUANCAVELICAHUACHOCOLPA","090106"]
[{"$nulls":5},"",null,null,"HUAYLLAHUARA","090107","HUAYLLAHUARA","PERUHUANCAVELICAHUANCAVELICAHUAYLLAHUARA","090107"]
[{"$nulls":5},"",null,null,"IZCUCHACA","090108","IZCUCHACA","PERUHUANCAVELICAHUANCAVELICAIZCUCHACA","090108"]
[{"$nulls":5},"",null,null,"LARIA","090109","LARIA","PERUHUANCAVELICAHUANCAVELICALARIA","090109"]
[{"$nulls":5},"",null,null,"MANTA","090110","MANTA","PERUHUANCAVELICAHUANCAVELICAMANTA","090110"]
[{"$nulls":5},"",null,null,"MARISCAL CACERES","090111","MARISCAL CACERES","PERUHUANCAVELICAHUANCAVELICAMARISCAL CACERES","090111"]
[{"$nulls":5},"",null,null,"MOYA","090112","MOYA","PERUHUANCAVELICAHUANCAVELICAMOYA","090112"]
[{"$nulls":5},"",null,null,"NUEVO OCCORO","090113","NUEVO OCCORO","PERUHUANCAVELICAHUANCAVELICANUEVO OCCORO","090113"]
[{"$nulls":5},"",null,null,"PALCA","090114","PALCA","PERUHUANCAVELICAHUANCAVELICAPALCA","090114"]
[{"$nulls":5},"",null,null,"PILCHACA","090115","PILCHACA","PERUHUANCAVELICAHUANCAVELICAPILCHACA","090115"]
[{"$nulls":5},"",null,null,"VILCA","090116","VILCA","PERUHUANCAVELICAHUANCAVELICAVILCA","090116"]
[{"$nulls":5},"",null,null,"YAULI","090117","YAULI","PERUHUANCAVELICAHUANCAVELICAYAULI","090117"]
[{"$nulls":5},"",null,null,"ASCENSION","090118","ASCENSION","PERUHUANCAVELICAHUANCAVELICAASCENSION","090118"]
[{"$nulls":5},"",null,null,"HUANDO","090119","HUANDO","PERUHUANCAVELICAHUANCAVELICAHUANDO","090119"]
[{"$nulls":5},"",null,null,"ACOBAMBA","090201","ACOBAMBA","PERUHUANCAVELICAACOBAMBAACOBAMBA","090201"]
[{"$nulls":5},"",null,null,"ANDABAMBA","090202","ANDABAMBA","PERUHUANCAVELICAACOBAMBAANDABAMBA","090202"]
[{"$nulls":5},"",null,null,"ANTA","090203","ANTA","PERUHUANCAVELICAACOBAMBAANTA","090203"]
[{"$nulls":5},"",null,null,"CAJA","090204","CAJA","PERUHUANCAVELICAACOBAMBACAJA","090204"]
[{"$nulls":5},"",null,null,"MARCAS","090205","MARCAS","PERUHUANCAVELICAACOBAMBAMARCAS","090205"]
[{"$nulls":5},"",null,null,"PAUCARA","090206","PAUCARA","PERUHUANCAVELICAACOBAMBAPAUCARA","090206"]
[{"$nulls":5},"",null,null,"POMACOCHA","090207","POMACOCHA",{"$f":"\"PERU\"&VLOOKUP(LEFT(J835,2),$B$1:$C$27,2,0)&VLOOKUP(LEFT(J835,4),$F$2:$G$197,2,0)&K835","v":"PERUHUANCAVELICAACOBAMBAPOMACOCHA"},{"$f":"J835","v":"090207"}]
[{"$nulls":5},"",null,null,"ROSARIO","090208","ROSARIO","PERUHUANCAVELICAACOBAMBAROSARIO","090208"]
[{"$nulls":5},"",null,null,"LIRCAY","090301","LIRCAY","PERUHUANCAVELICAANGARAESLIRCAY","090301"]
[{"$nulls":5},"",null,null,"ANCHONGA","090302","ANCHONGA","PERUHUANCAVELICAANGARAESANCHONGA","090302"]
[{"$nulls":5},"",null,null,"CALLANMARCA","090303","CALLANMARCA","PERUHUANCAVELICAANGARAESCALLANMARCA","090303"]
[{"$nulls":5},"",null,null,"CCOCHACCASA","090304","CCOCHACCASA","PERUHUANCAVELICAANGARAESCCOCHACCASA","090304"]
[{"$nulls":5},"",null,null,"CHINCHO","090305","CHINCHO","PERUHUANCAVELICAANGARAESCHINCHO","090305"]
[{"$nulls":5},"",null,null,"CONGALLA","090306","CONGALLA","PERUHUANCAVELICAANGARAESCONGALLA","090306"]
[{"$nulls":5},"",null,null,"HUANCA-HUANCA","090307","HUANCA-HUANCA","PERUHUANCAVELICAANGARAESHUANCA-HUANCA","090307"]
[{"$nulls":5},"",null,null,"HUAYLLAY GRANDE","090308","HUAYLLAY GRANDE","PERUHUANCAVELICAANGARAESHUAYLLAY GRANDE","090308"]
[{"$nulls":5},"",null,null,"JULCAMARCA","090309","JULCAMARCA","PERUHUANCAVELICAANGARAESJULCAMARCA","090309"]
[{"$nulls":5},"",null,null,"SAN ANTONIO DE ANTAPARCO","090310","SAN ANTONIO DE ANTAPARCO","PERUHUANCAVELICAANGARAESSAN ANTONIO DE ANTAPARCO","090310"]
[{"$nulls":5},"",null,null,"SANTO TOMAS DE PATA","090311","SANTO TOMAS DE PATA","PERUHUANCAVELICAANGARAESSANTO TOMAS DE PATA","090311"]
[{"$nulls":5},"",null,null,"SECCLLA","090312","SECCLLA","PERUHUANCAVELICAANGARAESSECCLLA","090312"]
[{"$nulls":5},"",null,null,"CASTROVIRREYNA","090401","CASTROVIRREYNA","PERUHUANCAVELICACASTROVIRREYNACASTROVIRREYNA","090401"]
[{"$nulls":5},"",null,null,"ARMA","090402","ARMA","PERUHUANCAVELICACASTROVIRREYNAARMA","090402"]
[{"$nulls":5},"",null,null,"AURAHUA","090403","AURAHUA","PERUHUANCAVELICACASTROVIRREYNAAURAHUA","090403"]
[{"$nulls":5},"",null,null,"CAPILLAS","090404","CAPILLAS","PERUHUANCAVELICACASTROVIRREYNACAPILLAS","090404"]
[{"$nulls":5},"",null,null,"CHUPAMARCA","090405","CHUPAMARCA","PERUHUANCAVELICACASTROVIRREYNACHUPAMARCA","090405"]
[{"$nulls":5},"",null,null,"COCAS","090406","COCAS","PERUHUANCAVELICACASTROVIRREYNACOCAS","090406"]
[{"$nulls":5},"",null,null,"HUACHOS","090407","HUACHOS","PERUHUANCAVELICACASTROVIRREYNAHUACHOS","090407"]
[{"$nulls":5},"",null,null,"HUAMATAMBO","090408","HUAMATAMBO","PERUHUANCAVELICACASTROVIRREYNAHUAMATAMBO","090408"]
[{"$nulls":5},"",null,null,"MOLLEPAMPA","090409","MOLLEPAMPA","PERUHUANCAVELICACASTROVIRREYNAMOLLEPAMPA","090409"]
[{"$nulls":5},"",null,null,"SAN JUAN","090410","SAN JUAN","PERUHUANCAVELICACASTROVIRREYNASAN JUAN","090410"]
[{"$nulls":5},"",null,null,"SANTA ANA","090411","SANTA ANA","PERUHUANCAVELICACASTROVIRREYNASANTA ANA","090411"]
[{"$nulls":5},"",null,null,"TANTARA","090412","TANTARA","PERUHUANCAVELICACASTROVIRREYNATANTARA","090412"]
[{"$nulls":5},"",null,null,"TICRAPO","090413","TICRAPO","PERUHUANCAVELICACASTROVIRREYNATICRAPO","090413"]
[{"$nulls":5},"",null,null,"CHURCAMPA","090501","CHURCAMPA","PERUHUANCAVELICACHURCAMPACHURCAMPA","090501"]
[{"$nulls":5},"",null,null,"ANCO","090502","ANCO","PERUHUANCAVELICACHURCAMPAANCO","090502"]
[{"$nulls":5},"",null,null,"CHINCHIHUASI","090503","CHINCHIHUASI","PERUHUANCAVELICACHURCAMPACHINCHIHUASI","090503"]
[{"$nulls":5},"",null,null,"EL CARMEN","090504","EL CARMEN","PERUHUANCAVELICACHURCAMPAEL CARMEN","090504"]
[{"$nulls":5},"",null,null,"LA MERCED","090505","LA MERCED","PERUHUANCAVELICACHURCAMPALA MERCED","090505"]
[{"$nulls":5},"",null,null,"LACROJA","090506","LACROJA","PERUHUANCAVELICACHURCAMPALACROJA","090506"]
[{"$nulls":5},"",null,null,"PAUCARBAMBA","090507","PAUCARBAMBA","PERUHUANCAVELICACHURCAMPAPAUCARBAMBA","090507"]
[{"$nulls":5},"",null,null,"SAN MIGUEL DE MAYOCC","090508","SAN MIGUEL DE MAYOCC","PERUHUANCAVELICACHURCAMPASAN MIGUEL DE MAYOCC","090508"]
[{"$nulls":5},"",null,null,"SAN PEDRO DE CORIS","090509","SAN PEDRO DE CORIS","PERUHUANCAVELICACHURCAMPASAN PEDRO DE CORIS","090509"]
[{"$nulls":5},"",null,null,"PACHAMARCA","090510","PACHAMARCA","PERUHUANCAVELICACHURCAMPAPACHAMARCA","090510"]
[{"$nulls":5},"",null,null,"COSME","090511","COSME","PERUHUANCAVELICACHURCAMPACOSME","090511"]
[{"$nulls":5},"",null,null,"HUAYTARA","090601","HUAYTARA","PERUHUANCAVELICAHUAYTARAHUAYTARA","090601"]
[{"$nulls":5},"",null,null,"AYAVI","090602","AYAVI","PERUHUANCAVELICAHUAYTARAAYAVI","090602"]
[{"$nulls":5},"",null,null,"CORDOVA","090603","CORDOVA","PERUHUANCAVELICAHUAYTARACORDOVA","090603"]
[{"$nulls":5},"",null,null,"HUAYACUNDO ARMA","090604","HUAYACUNDO ARMA","PERUHUANCAVELICAHUAYTARAHUAYACUNDO ARMA","090604"]
[{"$nulls":5},"",null,null,"LARAMARCA","090605","LARAMARCA","PERUHUANCAVELICAHUAYTARALARAMARCA","090605"]
[{"$nulls":5},"",null,null,"OCOYO","090606","OCOYO","PERUHUANCAVELICAHUAYTARAOCOYO","090606"]
[{"$nulls":5},"",null,null,"PILPICHACA","090607","PILPICHACA","PERUHUANCAVELICAHUAYTARAPILPICHACA","090607"]
[{"$nulls":5},"",null,null,"QUERCO","090608","QUERCO","PERUHUANCAVELICAHUAYTARAQUERCO","090608"]
[{"$nulls":5},"",null,null,"QUITO-ARMA","090609","QUITO-ARMA","PERUHUANCAVELICAHUAYTARAQUITO-ARMA","090609"]
[{"$nulls":5},"",null,null,"SAN ANTONIO DE CUSICANCHA","090610","SAN ANTONIO DE CUSICANCHA","PERUHUANCAVELICAHUAYTARASAN ANTONIO DE CUSICANCHA","090610"]
[{"$nulls":5},"",null,null,"SAN FRANCISCO DE SANGAYAICO","090611","SAN FRANCISCO DE SANGAYAICO","PERUHUANCAVELICAHUAYTARASAN FRANCISCO DE SANGAYAICO","090611"]
[{"$nulls":5},"",null,null,"SAN ISIDRO","090612","SAN ISIDRO","PERUHUANCAVELICAHUAYTARASAN ISIDRO","090612"]
[{"$nulls":5},"",null,null,"SANTIAGO DE CHOCORVOS","090613","SANTIAGO DE CHOCORVOS","PERUHUANCAVELICAHUAYTARASANTIAGO DE CHOCORVOS","090613"]
[{"$nulls":5},"",null,null,"SANTIAGO DE QUIRAHUARA","090614","SANTIAGO DE QUIRAHUARA","PERUHUANCAVELICAHUAYTARASANTIAGO DE QUIRAHUARA","090614"]
[{"$nulls":5},"",null,null,"SANTO DOMINGO DE CAPILLAS","090615","SANTO DOMINGO DE CAPILLAS","PERUHUANCAVELICAHUAYTARASANTO DOMINGO DE CAPILLAS","090615"]
[{"$nulls":5},"",null,null,"TAMBO","090616","TAMBO","PERUHUANCAVELICAHUAYTARATAMBO","090616"]
[{"$nulls":5},"",null,null,"PAMPAS","090701","PAMPAS","PERUHUANCAVELICATAYACAJAPAMPAS","090701"]
[{"$nulls":5},"",null,null,"ACOSTAMBO","090702","ACOSTAMBO","PERUHUANCAVELICATAYACAJAACOSTAMBO","090702"]
[{"$nulls":5},"",null,null,"ACRAQUIA","090703","ACRAQUIA","PERUHUANCAVELICATAYACAJAACRAQUIA","090703"]
[{"$nulls":5},"",null,null,"AHUAYCHA","090704","AHUAYCHA","PERUHUANCAVELICATAYACAJAAHUAYCHA","090704"]
[{"$nulls":5},"",null,null,"COLCABAMBA","090705","COLCABAMBA","PERUHUANCAVELICATAYACAJACOLCABAMBA","090705"]
[{"$nulls":5},"",null,null,"DANIEL HERNANDEZ","090706","DANIEL HERNANDEZ","PERUHUANCAVELICATAYACAJADANIEL HERNANDEZ","090706"]
[{"$nulls":5},"",null,null,"HUACHOCOLPA","090707","HUACHOCOLPA","PERUHUANCAVELICATAYACAJAHUACHOCOLPA","090707"]
[{"$nulls":5},"",null,null,"HUARIBAMBA","090709","HUARIBAMBA","PERUHUANCAVELICATAYACAJAHUARIBAMBA","090709"]
[{"$nulls":5},"",null,null,"ÑAHUIMPUQUIO","090710","ÑAHUIMPUQUIO","PERUHUANCAVELICATAYACAJAÑAHUIMPUQUIO","090710"]
[{"$nulls":5},"",null,null,"PAZOS","090711","PAZOS","PERUHUANCAVELICATAYACAJAPAZOS","090711"]
[{"$nulls":5},"",null,null,"QUISHUAR","090713","QUISHUAR",{"$f":"\"PERU\"&VLOOKUP(LEFT(J899,2),$B$1:$C$27,2,0)&VLOOKUP(LEFT(J899,4),$F$2:$G$197,2,0)&K899","v":"PERUHUANCAVELICATAYACAJAQUISHUAR"},{"$f":"J899","v":"090713"}]
[{"$nulls":5},"",null,null,"SALCABAMBA","090714","SALCABAMBA","PERUHUANCAVELICATAYACAJASALCABAMBA","090714"]
[{"$nulls":5},"",null,null,"SALCAHUASI","090715","SALCAHUASI","PERUHUANCAVELICATAYACAJASALCAHUASI","090715"]
[{"$nulls":5},"",null,null,"SAN MARCOS DE ROCCHAC","090716","SAN MARCOS DE ROCCHAC","PERUHUANCAVELICATAYACAJASAN MARCOS DE ROCCHAC","090716"]
[{"$nulls":5},"",null,null,"SURCUBAMBA","090717","SURCUBAMBA","PERUHUANCAVELICATAYACAJASURCUBAMBA","090717"]
[{"$nulls":5},"",null,null,"TINTAY PUNCU","090718","TINTAY PUNCU","PERUHUANCAVELICATAYACAJATINTAY PUNCU","090718"]
[{"$nulls":5},"",null,null,"QUICHUAS","090719","QUICHUAS","PERUHUANCAVELICATAYACAJAQUICHUAS","090719"]
[{"$nulls":5},"",null,null,"ANDAYMARCA","090720","ANDAYMARCA","PERUHUANCAVELICATAYACAJAANDAYMARCA","090720"]
[{"$nulls":5},"",null,null,"ROBLE","090721","ROBLE","PERUHUANCAVELICATAYACAJAROBLE","090721"]
[{"$nulls":5},"",null,null,"PICHOS","090722","PICHOS","PERUHUANCAVELICATAYACAJAPICHOS","090722"]
[{"$nulls":5},"",null,null,"SANTIAGO DE TUCUMA","090723","SANTIAGO DE TUCUMA","PERUHUANCAVELICATAYACAJASANTIAGO DE TUCUMA","090723"]
[{"$nulls":5},"",null,null,"HUANUCO","100101","HUANUCO","PERUHUANUCOHUANUCOHUANUCO","100101"]
[{"$nulls":5},"",null,null,"AMARILIS","100102","AMARILIS","PERUHUANUCOHUANUCOAMARILIS","100102"]
[{"$nulls":5},"",null,null,"CHINCHAO","100103","CHINCHAO","PERUHUANUCOHUANUCOCHINCHAO","100103"]
[{"$nulls":5},"",null,null,"CHURUBAMBA","100104","CHURUBAMBA","PERUHUANUCOHUANUCOCHURUBAMBA","100104"]
[{"$nulls":5},"",null,null,"MARGOS","100105","MARGOS","PERUHUANUCOHUANUCOMARGOS","100105"]
[{"$nulls":5},"",null,null,"QUISQUI","100106","QUISQUI","PERUHUANUCOHUANUCOQUISQUI","100106"]
[{"$nulls":5},"",null,null,"SAN FRANCISCO DE CAYRAN","100107","SAN FRANCISCO DE CAYRAN","PERUHUANUCOHUANUCOSAN FRANCISCO DE CAYRAN","100107"]
[{"$nulls":5},"",null,null,"SAN PEDRO DE CHAULAN","100108","SAN PEDRO DE CHAULAN","PERUHUANUCOHUANUCOSAN PEDRO DE CHAULAN","100108"]
[{"$nulls":5},"",null,null,"SANTA MARIA DEL VALLE","100109","SANTA MARIA DEL VALLE","PERUHUANUCOHUANUCOSANTA MARIA DEL VALLE","100109"]
[{"$nulls":5},"",null,null,"YARUMAYO","100110","YARUMAYO","PERUHUANUCOHUANUCOYARUMAYO","100110"]
[{"$nulls":5},"",null,null,"PILLCO MARCA","100111","PILLCO MARCA","PERUHUANUCOHUANUCOPILLCO MARCA","100111"]
[{"$nulls":5},"",null,null,"YACUS","100112","YACUS","PERUHUANUCOHUANUCOYACUS","100112"]
[{"$nulls":5},"",null,null,"SAN PABLO DE PILLAO","100113","SAN PABLO DE PILLAO","PERUHUANUCOHUANUCOSAN PABLO DE PILLAO","100113"]
[{"$nulls":5},"",null,null,"AMBO","100201","AMBO","PERUHUANUCOAMBOAMBO","100201"]
[{"$nulls":5},"",null,null,"CAYNA","100202","CAYNA","PERUHUANUCOAMBOCAYNA","100202"]
[{"$nulls":5},"",null,null,"COLPAS","100203","COLPAS","PERUHUANUCOAMBOCOLPAS","100203"]
[{"$nulls":5},"",null,null,"CONCHAMARCA","100204","CONCHAMARCA","PERUHUANUCOAMBOCONCHAMARCA","100204"]
[{"$nulls":5},"",null,null,"HUACAR","100205","HUACAR","PERUHUANUCOAMBOHUACAR","100205"]
[{"$nulls":5},"",null,null,"SAN FRANCISCO","100206","SAN FRANCISCO","PERUHUANUCOAMBOSAN FRANCISCO","100206"]
[{"$nulls":5},"",null,null,"SAN RAFAEL","100207","SAN RAFAEL","PERUHUANUCOAMBOSAN RAFAEL","100207"]
[{"$nulls":5},"",null,null,"TOMAY KICHWA","100208","TOMAY KICHWA","PERUHUANUCOAMBOTOMAY KICHWA","100208"]
[{"$nulls":5},"",null,null,"LA UNION","100301","LA UNION","PERUHUANUCODOS DE MAYOLA UNION","100301"]
[{"$nulls":5},"",null,null,"CHUQUIS","100307","CHUQUIS","PERUHUANUCODOS DE MAYOCHUQUIS","100307"]
[{"$nulls":5},"",null,null,"MARIAS","100311","MARIAS","PERUHUANUCODOS DE MAYOMARIAS","100311"]
[{"$nulls":5},"",null,null,"PACHAS","100313","PACHAS","PERUHUANUCODOS DE MAYOPACHAS","100313"]
[{"$nulls":5},"",null,null,"QUIVILLA","100316","QUIVILLA","PERUHUANUCODOS DE MAYOQUIVILLA","100316"]
[{"$nulls":5},"",null,null,"RIPAN","100317","RIPAN","PERUHUANUCODOS DE MAYORIPAN","100317"]
[{"$nulls":5},"",null,null,"SHUNQUI","100321","SHUNQUI","PERUHUANUCODOS DE MAYOSHUNQUI","100321"]
[{"$nulls":5},"",null,null,"SILLAPATA","100322","SILLAPATA","PERUHUANUCODOS DE MAYOSILLAPATA","100322"]
[{"$nulls":5},"",null,null,"YANAS","100323","YANAS","PERUHUANUCODOS DE MAYOYANAS","100323"]
[{"$nulls":5},"",null,null,"HUACAYBAMBA","100401","HUACAYBAMBA","PERUHUANUCOHUACAYBAMBAHUACAYBAMBA","100401"]
[{"$nulls":5},"",null,null,"CANCHABAMBA","100402","CANCHABAMBA","PERUHUANUCOHUACAYBAMBACANCHABAMBA","100402"]
[{"$nulls":5},"",null,null,"COCHABAMBA","100403","COCHABAMBA","PERUHUANUCOHUACAYBAMBACOCHABAMBA","100403"]
[{"$nulls":5},"",null,null,"PINRA","100404","PINRA","PERUHUANUCOHUACAYBAMBAPINRA","100404"]
[{"$nulls":5},"",null,null,"LLATA","100501","LLATA","PERUHUANUCOHUAMALIESLLATA","100501"]
[{"$nulls":5},"",null,null,"ARANCAY","100502","ARANCAY","PERUHUANUCOHUAMALIESARANCAY","100502"]
[{"$nulls":5},"",null,null,"CHAVIN DE PARIARCA","100503","CHAVIN DE PARIARCA","PERUHUANUCOHUAMALIESCHAVIN DE PARIARCA","100503"]
[{"$nulls":5},"",null,null,"JACAS GRANDE","100504","JACAS GRANDE","PERUHUANUCOHUAMALIESJACAS GRANDE","100504"]
[{"$nulls":5},"",null,null,"JIRCAN","100505","JIRCAN","PERUHUANUCOHUAMALIESJIRCAN","100505"]
[{"$nulls":5},"",null,null,"MIRAFLORES","100506","MIRAFLORES","PERUHUANUCOHUAMALIESMIRAFLORES","100506"]
[{"$nulls":5},"",null,null,"MONZON","100507","MONZON","PERUHUANUCOHUAMALIESMONZON","100507"]
[{"$nulls":5},"",null,null,"PUNCHAO","100508","PUNCHAO","PERUHUANUCOHUAMALIESPUNCHAO","100508"]
[{"$nulls":5},"",null,null,"PUÑOS","100509","PUÑOS","PERUHUANUCOHUAMALIESPUÑOS","100509"]
[{"$nulls":5},"",null,null,"SINGA","100510","SINGA","PERUHUANUCOHUAMALIESSINGA","100510"]
[{"$nulls":5},"",null,null,"TANTAMAYO","100511","TANTAMAYO","PERUHUANUCOHUAMALIESTANTAMAYO","100511"]
[{"$nulls":5},"",null,null,"RUPA-RUPA","100601","RUPA-RUPA","PERUHUANUCOLEONCIO PRADORUPA-RUPA","100601"]
[{"$nulls":5},"",null,null,"DANIEL ALOMIA ROBLES","100602","DANIEL ALOMIA ROBLES","PERUHUANUCOLEONCIO PRADODANIEL ALOMIA ROBLES","100602"]
[{"$nulls":5},"",null,null,"HERMILIO VALDIZAN","100603","HERMILIO VALDIZAN","PERUHUANUCOLEONCIO PRADOHERMILIO VALDIZAN","100603"]
[{"$nulls":5},"",null,null,"JOSE CRESPO Y CASTILLO","100604","JOSE CRESPO Y CASTILLO","PERUHUANUCOLEONCIO PRADOJOSE CRESPO Y CASTILLO","100604"]
[{"$nulls":5},"",null,null,"LUYANDO","100605","LUYANDO","PERUHUANUCOLEONCIO PRADOLUYANDO","100605"]
[{"$nulls":5},"",null,null,"MARINO DAMASO BERAUN","100606","MARINO DAMASO BERAUN","PERUHUANUCOLEONCIO PRADOMARINO DAMASO BERAUN","100606"]
[{"$nulls":5},"",null,null,"PUCAYACU","100607","PUCAYACU","PERUHUANUCOLEONCIO PRADOPUCAYACU","100607"]
[{"$nulls":5},"",null,null,"CASTILLO GRANDE","100608","CASTILLO GRANDE","PERUHUANUCOLEONCIO PRADOCASTILLO GRANDE","100608"]
[{"$nulls":5},"",null,null,"PUEBLO NUEVO","100609","PUEBLO NUEVO",{"$f":"\"PERU\"&VLOOKUP(LEFT(J963,2),$B$1:$C$27,2,0)&VLOOKUP(LEFT(J963,4),$F$2:$G$197,2,0)&K963","v":"PERUHUANUCOLEONCIO PRADOPUEBLO NUEVO"},{"$f":"J963","v":"100609"}]
[{"$nulls":5},"",null,null,"SANTA DOMIENGO DE ANDA","100610","SANTA DOMIENGO DE ANDA","PERUHUANUCOLEONCIO PRADOSANTA DOMIENGO DE ANDA","100610"]
[{"$nulls":5},"",null,null,"HUACRACHUCO","100701","HUACRACHUCO","PERUHUANUCOMARAÑONHUACRACHUCO","100701"]
[{"$nulls":5},"",null,null,"CHOLON","100702","CHOLON","PERUHUANUCOMARAÑONCHOLON","100702"]
[{"$nulls":5},"",null,null,"SAN BUENAVENTURA","100703","SAN BUENAVENTURA","PERUHUANUCOMARAÑONSAN BUENAVENTURA","100703"]
[{"$nulls":5},"",null,null,"LA MORADA","100704","LA MORADA","PERUHUANUCOMARAÑONLA MORADA","100704"]
[{"$nulls":5},"",null,null,"SANTA ROSA DE ALTO YANAJANCA","100705","SANTA ROSA DE ALTO YANAJANCA","PERUHUANUCOMARAÑONSANTA ROSA DE ALTO YANAJANCA","100705"]
[{"$nulls":5},"",null,null,"PANAO","100801","PANAO","PERUHUANUCOPACHITEAPANAO","100801"]
[{"$nulls":5},"",null,null,"CHAGLLA","100802","CHAGLLA","PERUHUANUCOPACHITEACHAGLLA","100802"]
[{"$nulls":5},"",null,null,"MOLINO","100803","MOLINO","PERUHUANUCOPACHITEAMOLINO","100803"]
[{"$nulls":5},"",null,null,"UMARI","100804","UMARI","PERUHUANUCOPACHITEAUMARI","100804"]
[{"$nulls":5},"",null,null,"PUERTO INCA","100901","PUERTO INCA","PERUHUANUCOPUERTO INCAPUERTO INCA","100901"]
[{"$nulls":5},"",null,null,"CODO DEL POZUZO","100902","CODO DEL POZUZO","PERUHUANUCOPUERTO INCACODO DEL POZUZO","100902"]
[{"$nulls":5},"",null,null,"HONORIA","100903","HONORIA","PERUHUANUCOPUERTO INCAHONORIA","100903"]
[{"$nulls":5},"",null,null,"TOURNAVISTA","100904","TOURNAVISTA","PERUHUANUCOPUERTO INCATOURNAVISTA","100904"]
[{"$nulls":5},"",null,null,"YUYAPICHIS","100905","YUYAPICHIS","PERUHUANUCOPUERTO INCAYUYAPICHIS","100905"]
[{"$nulls":5},"",null,null,"JESUS","101001","JESUS","PERUHUANUCOLAURICOCHAJESUS","101001"]
[{"$nulls":5},"",null,null,"BAÑOS","101002","BAÑOS","PERUHUANUCOLAURICOCHABAÑOS","101002"]
[{"$nulls":5},"",null,null,"JIVIA","101003","JIVIA","PERUHUANUCOLAURICOCHAJIVIA","101003"]
[{"$nulls":5},"",null,null,"QUEROPALCA","101004","QUEROPALCA","PERUHUANUCOLAURICOCHAQUEROPALCA","101004"]
[{"$nulls":5},"",null,null,"RONDOS","101005","RONDOS","PERUHUANUCOLAURICOCHARONDOS","101005"]
[{"$nulls":5},"",null,null,"SAN FRANCISCO DE ASIS","101006","SAN FRANCISCO DE ASIS","PERUHUANUCOLAURICOCHASAN FRANCISCO DE ASIS","101006"]
[{"$nulls":5},"",null,null,"SAN MIGUEL DE CAURI","101007","SAN MIGUEL DE CAURI","PERUHUANUCOLAURICOCHASAN MIGUEL DE CAURI","101007"]
[{"$nulls":5},"",null,null,"CHAVINILLO","101101","CHAVINILLO","PERUHUANUCOYAROWILCACHAVINILLO","101101"]
[{"$nulls":5},"",null,null,"CAHUAC","101102","CAHUAC","PERUHUANUCOYAROWILCACAHUAC","101102"]
[{"$nulls":5},"",null,null,"CHACABAMBA","101103","CHACABAMBA","PERUHUANUCOYAROWILCACHACABAMBA","101103"]
[{"$nulls":5},"",null,null,"APARICIO POMARES","101104","APARICIO POMARES","PERUHUANUCOYAROWILCAAPARICIO POMARES","101104"]
[{"$nulls":5},"",null,null,"JACAS CHICO","101105","JACAS CHICO","PERUHUANUCOYAROWILCAJACAS CHICO","101105"]
[{"$nulls":5},"",null,null,"OBAS","101106","OBAS","PERUHUANUCOYAROWILCAOBAS","101106"]
[{"$nulls":5},"",null,null,"PAMPAMARCA","101107","PAMPAMARCA","PERUHUANUCOYAROWILCAPAMPAMARCA","101107"]
[{"$nulls":5},"",null,null,"CHORAS","101108","CHORAS","PERUHUANUCOYAROWILCACHORAS","101108"]
[{"$nulls":5},"",null,null,"ICA","110101","ICA","PERUICAICAICA","110101"]
[{"$nulls":5},"",null,null,"LA TINGUIÑA","110102","LA TINGUIÑA","PERUICAICALA TINGUIÑA","110102"]
[{"$nulls":5},"",null,null,"LOS AQUIJES","110103","LOS AQUIJES","PERUICAICALOS AQUIJES","110103"]
[{"$nulls":5},"",null,null,"OCUCAJE","110104","OCUCAJE","PERUICAICAOCUCAJE","110104"]
[{"$nulls":5},"",null,null,"PACHACUTEC","110105","PACHACUTEC","PERUICAICAPACHACUTEC","110105"]
[{"$nulls":5},"",null,null,"PARCONA","110106","PARCONA","PERUICAICAPARCONA","110106"]
[{"$nulls":5},"",null,null,"PUEBLO NUEVO","110107","PUEBLO NUEVO","PERUICAICAPUEBLO NUEVO","110107"]
[{"$nulls":5},"",null,null,"SALAS","110108","SALAS","PERUICAICASALAS","110108"]
[{"$nulls":5},"",null,null,"SAN JOSE DE LOS MOLINOS","110109","SAN JOSE DE LOS MOLINOS","PERUICAICASAN JOSE DE LOS MOLINOS","110109"]
[{"$nulls":5},"",null,null,"SAN JUAN BAUTISTA","110110","SAN JUAN BAUTISTA","PERUICAICASAN JUAN BAUTISTA","110110"]
[{"$nulls":5},"",null,null,"SANTIAGO","110111","SANTIAGO","PERUICAICASANTIAGO","110111"]
[{"$nulls":5},"",null,null,"SUBTANJALLA","110112","SUBTANJALLA","PERUICAICASUBTANJALLA","110112"]
[{"$nulls":5},"",null,null,"TATE","110113","TATE","PERUICAICATATE","110113"]
[{"$nulls":5},"",null,null,"YAUCA DEL ROSARIO","110114","YAUCA DEL ROSARIO","PERUICAICAYAUCA DEL ROSARIO","110114"]
[{"$nulls":5},"",null,null,"CHINCHA ALTA","110201","CHINCHA ALTA","PERUICACHINCHACHINCHA ALTA","110201"]
[{"$nulls":5},"",null,null,"ALTO LARAN","110202","ALTO LARAN","PERUICACHINCHAALTO LARAN","110202"]
[{"$nulls":5},"",null,null,"CHAVIN","110203","CHAVIN","PERUICACHINCHACHAVIN","110203"]
[{"$nulls":5},"",null,null,"CHINCHA BAJA","110204","CHINCHA BAJA","PERUICACHINCHACHINCHA BAJA","110204"]
[{"$nulls":5},"",null,null,"EL CARMEN","110205","EL CARMEN","PERUICACHINCHAEL CARMEN","110205"]
[{"$nulls":5},"",null,null,"GROCIO PRADO","110206","GROCIO PRADO","PERUICACHINCHAGROCIO PRADO","110206"]
[{"$nulls":5},"",null,null,"PUEBLO NUEVO","110207","PUEBLO NUEVO","PERUICACHINCHAPUEBLO NUEVO","110207"]
[{"$nulls":5},"",null,null,"SAN JUAN DE YANAC","110208","SAN JUAN DE YANAC","PERUICACHINCHASAN JUAN DE YANAC","110208"]
[{"$nulls":5},"",null,null,"SAN PEDRO DE HUACARPANA","110209","SAN PEDRO DE HUACARPANA","PERUICACHINCHASAN PEDRO DE HUACARPANA","110209"]
[{"$nulls":5},"",null,null,"SUNAMPE","110210","SUNAMPE","PERUICACHINCHASUNAMPE","110210"]
[{"$nulls":5},"",null,null,"TAMBO DE MORA","110211","TAMBO DE MORA","PERUICACHINCHATAMBO DE MORA","110211"]
[{"$nulls":5},"",null,null,"NAZCA","110301","NAZCA","PERUICANAZCANAZCA","110301"]
[{"$nulls":5},"",null,null,"CHANGUILLO","110302","CHANGUILLO","PERUICANAZCACHANGUILLO","110302"]
[{"$nulls":5},"",null,null,"EL INGENIO","110303","EL INGENIO","PERUICANAZCAEL INGENIO","110303"]
[{"$nulls":5},"",null,null,"MARCONA","110304","MARCONA","PERUICANAZCAMARCONA","110304"]
[{"$nulls":5},"",null,null,"VISTA ALEGRE","110305","VISTA ALEGRE","PERUICANAZCAVISTA ALEGRE","110305"]
[{"$nulls":5},"",null,null,"PALPA","110401","PALPA","PERUICAPALPAPALPA","110401"]
[{"$nulls":5},"",null,null,"LLIPATA","110402","LLIPATA","PERUICAPALPALLIPATA","110402"]
[{"$nulls":5},"",null,null,"RIO GRANDE","110403","RIO GRANDE","PERUICAPALPARIO GRANDE","110403"]
[{"$nulls":5},"",null,null,"SANTA CRUZ","110404","SANTA CRUZ",{"$f":"\"PERU\"&VLOOKUP(LEFT(J1027,2),$B$1:$C$27,2,0)&VLOOKUP(LEFT(J1027,4),$F$2:$G$197,2,0)&K1027","v":"PERUICAPALPASANTA CRUZ"},{"$f":"J1027","v":"110404"}]
[{"$nulls":5},"",null,null,"TIBILLO","110405","TIBILLO","PERUICAPALPATIBILLO","110405"]
[{"$nulls":5},"",null,null,"PISCO","110501","PISCO","PERUICAPISCOPISCO","110501"]
[{"$nulls":5},"",null,null,"HUANCANO","110502","HUANCANO","PERUICAPISCOHUANCANO","110502"]
[{"$nulls":5},"",null,null,"HUMAY","110503","HUMAY","PERUICAPISCOHUMAY","110503"]
[{"$nulls":5},"",null,null,"INDEPENDENCIA","110504","INDEPENDENCIA","PERUICAPISCOINDEPENDENCIA","110504"]
[{"$nulls":5},"",null,null,"PARACAS","110505","PARACAS","PERUICAPISCOPARACAS","110505"]
[{"$nulls":5},"",null,null,"SAN ANDRES","110506","SAN ANDRES","PERUICAPISCOSAN ANDRES","110506"]
[{"$nulls":5},"",null,null,"SAN CLEMENTE","110507","SAN CLEMENTE","PERUICAPISCOSAN CLEMENTE","110507"]
[{"$nulls":5},"",null,null,"TUPAC AMARU INCA","110508","TUPAC AMARU INCA","PERUICAPISCOTUPAC AMARU INCA","110508"]
[{"$nulls":5},"",null,null,"HUANCAYO","120101","HUANCAYO","PERUJUNINHUANCAYOHUANCAYO","120101"]
[{"$nulls":5},"",null,null,"CARHUACALLANGA","120104","CARHUACALLANGA","PERUJUNINHUANCAYOCARHUACALLANGA","120104"]
[{"$nulls":5},"",null,null,"CHACAPAMPA","120105","CHACAPAMPA","PERUJUNINHUANCAYOCHACAPAMPA","120105"]
[{"$nulls":5},"",null,null,"CHICCHE","120106","CHICCHE","PERUJUNINHUANCAYOCHICCHE","120106"]
[{"$nulls":5},"",null,null,"CHILCA","120107","CHILCA","PERUJUNINHUANCAYOCHILCA","120107"]
[{"$nulls":5},"",null,null,"CHONGOS ALTO","120108","CHONGOS ALTO","PERUJUNINHUANCAYOCHONGOS ALTO","120108"]
[{"$nulls":5},"",null,null,"CHUPURO","120111","CHUPURO","PERUJUNINHUANCAYOCHUPURO","120111"]
[{"$nulls":5},"",null,null,"COLCA","120112","COLCA","PERUJUNINHUANCAYOCOLCA","120112"]
[{"$nulls":5},"",null,null,"CULLHUAS","120113","CULLHUAS","PERUJUNINHUANCAYOCULLHUAS","120113"]
[{"$nulls":5},"",null,null,"EL TAMBO","120114","EL TAMBO","PERUJUNINHUANCAYOEL TAMBO","120114"]
[{"$nulls":5},"",null,null,"HUACRAPUQUIO","120116","HUACRAPUQUIO","PERUJUNINHUANCAYOHUACRAPUQUIO","120116"]
[{"$nulls":5},"",null,null,"HUALHUAS","120117","HUALHUAS","PERUJUNINHUANCAYOHUALHUAS","120117"]
[{"$nulls":5},"",null,null,"HUANCAN","120119","HUANCAN","PERUJUNINHUANCAYOHUANCAN","120119"]
[{"$nulls":5},"",null,null,"HUASICANCHA","120120","HUASICANCHA","PERUJUNINHUANCAYOHUASICANCHA","120120"]
[{"$nulls":5},"",null,null,"HUAYUCACHI","120121","HUAYUCACHI","PERUJUNINHUANCAYOHUAYUCACHI","120121"]
[{"$nulls":5},"",null,null,"INGENIO","120122","INGENIO","PERUJUNINHUANCAYOINGENIO","120122"]
[{"$nulls":5},"",null,null,"PARIAHUANCA","120124","PARIAHUANCA","PERUJUNINHUANCAYOPARIAHUANCA","120124"]
[{"$nulls":5},"",null,null,"PILCOMAYO","120125","PILCOMAYO","PERUJUNINHUANCAYOPILCOMAYO","120125"]
[{"$nulls":5},"",null,null,"PUCARA","120126","PUCARA","PERUJUNINHUANCAYOPUCARA","120126"]
[{"$nulls":5},"",null,null,"QUICHUAY","120127","QUICHUAY","PERUJUNINHUANCAYOQUICHUAY","120127"]
[{"$nulls":5},"",null,null,"QUILCAS","120128","QUILCAS","PERUJUNINHUANCAYOQUILCAS","120128"]
[{"$nulls":5},"",null,null,"SAN AGUSTIN","120129","SAN AGUSTIN","PERUJUNINHUANCAYOSAN AGUSTIN","120129"]
[{"$nulls":5},"",null,null,"SAN JERONIMO DE TUNAN","120130","SAN JERONIMO DE TUNAN","PERUJUNINHUANCAYOSAN JERONIMO DE TUNAN","120130"]
[{"$nulls":5},"",null,null,"SAÑO","120132","SAÑO","PERUJUNINHUANCAYOSAÑO","120132"]
[{"$nulls":5},"",null,null,"SAPALLANGA","120133","SAPALLANGA","PERUJUNINHUANCAYOSAPALLANGA","120133"]
[{"$nulls":5},"",null,null,"SICAYA","120134","SICAYA","PERUJUNINHUANCAYOSICAYA","120134"]
[{"$nulls":5},"",null,null,"SANTO DOMINGO DE ACOBAMBA","120135","SANTO DOMINGO DE ACOBAMBA","PERUJUNINHUANCAYOSANTO DOMINGO DE ACOBAMBA","120135"]
[{"$nulls":5},"",null,null,"VIQUES","120136","VIQUES","PERUJUNINHUANCAYOVIQUES","120136"]
[{"$nulls":5},"",null,null,"CONCEPCION","120201","CONCEPCION","PERUJUNINCONCEPCIONCONCEPCION","120201"]
[{"$nulls":5},"",null,null,"ACO","120202","ACO","PERUJUNINCONCEPCIONACO","120202"]
[{"$nulls":5},"",null,null,"ANDAMARCA","120203","ANDAMARCA","PERUJUNINCONCEPCIONANDAMARCA","120203"]
[{"$nulls":5},"",null,null,"CHAMBARA","120204","CHAMBARA","PERUJUNINCONCEPCIONCHAMBARA","120204"]
[{"$nulls":5},"",null,null,"COCHAS","120205","COCHAS","PERUJUNINCONCEPCIONCOCHAS","120205"]
[{"$nulls":5},"",null,null,"COMAS","120206","COMAS","PERUJUNINCONCEPCIONCOMAS","120206"]
[{"$nulls":5},"",null,null,"HEROINAS TOLEDO","120207","HEROINAS TOLEDO","PERUJUNINCONCEPCIONHEROINAS TOLEDO","120207"]
[{"$nulls":5},"",null,null,"MANZANARES","120208","MANZANARES","PERUJUNINCONCEPCIONMANZANARES","120208"]
[{"$nulls":5},"",null,null,"MARISCAL CASTILLA","120209","MARISCAL CASTILLA","PERUJUNINCONCEPCIONMARISCAL CASTILLA","120209"]
[{"$nulls":5},"",null,null,"MATAHUASI","120210","MATAHUASI","PERUJUNINCONCEPCIONMATAHUASI","120210"]
[{"$nulls":5},"",null,null,"MITO","120211","MITO","PERUJUNINCONCEPCIONMITO","120211"]
[{"$nulls":5},"",null,null,"NUEVE DE JULIO","120212","NUEVE DE JULIO","PERUJUNINCONCEPCIONNUEVE DE JULIO","120212"]
[{"$nulls":5},"",null,null,"ORCOTUNA","120213","ORCOTUNA","PERUJUNINCONCEPCIONORCOTUNA","120213"]
[{"$nulls":5},"",null,null,"SAN JOSE DE QUERO","120214","SAN JOSE DE QUERO","PERUJUNINCONCEPCIONSAN JOSE DE QUERO","120214"]
[{"$nulls":5},"",null,null,"SANTA ROSA DE OCOPA","120215","SANTA ROSA DE OCOPA","PERUJUNINCONCEPCIONSANTA ROSA DE OCOPA","120215"]
[{"$nulls":5},"",null,null,"CHANCHAMAYO","120301","CHANCHAMAYO","PERUJUNINCHANCHAMAYOCHANCHAMAYO","120301"]
[{"$nulls":5},"",null,null,"PERENE","120302","PERENE","PERUJUNINCHANCHAMAYOPERENE","120302"]
[{"$nulls":5},"",null,null,"PICHANAQUI","120303","PICHANAQUI","PERUJUNINCHANCHAMAYOPICHANAQUI","120303"]
[{"$nulls":5},"",null,null,"SAN LUIS DE SHUARO","120304","SAN LUIS DE SHUARO","PERUJUNINCHANCHAMAYOSAN LUIS DE SHUARO","120304"]
[{"$nulls":5},"",null,null,"SAN RAMON","120305","SAN RAMON","PERUJUNINCHANCHAMAYOSAN RAMON","120305"]
[{"$nulls":5},"",null,null,"VITOC","120306","VITOC","PERUJUNINCHANCHAMAYOVITOC","120306"]
[{"$nulls":5},"",null,null,"JAUJA","120401","JAUJA","PERUJUNINJAUJAJAUJA","120401"]
[{"$nulls":5},"",null,null,"ACOLLA","120402","ACOLLA","PERUJUNINJAUJAACOLLA","120402"]
[{"$nulls":5},"",null,null,"APATA","120403","APATA","PERUJUNINJAUJAAPATA","120403"]
[{"$nulls":5},"",null,null,"ATAURA","120404","ATAURA","PERUJUNINJAUJAATAURA","120404"]
[{"$nulls":5},"",null,null,"CANCHAYLLO","120405","CANCHAYLLO","PERUJUNINJAUJACANCHAYLLO","120405"]
[{"$nulls":5},"",null,null,"CURICACA","120406","CURICACA",{"$f":"\"PERU\"&VLOOKUP(LEFT(J1091,2),$B$1:$C$27,2,0)&VLOOKUP(LEFT(J1091,4),$F$2:$G$197,2,0)&K1091","v":"PERUJUNINJAUJACURICACA"},{"$f":"J1091","v":"120406"}]
[{"$nulls":5},"",null,null,"EL MANTARO","120407","EL MANTARO","PERUJUNINJAUJAEL MANTARO","120407"]
[{"$nulls":5},"",null,null,"HUAMALI","120408","HUAMALI","PERUJUNINJAUJAHUAMALI","120408"]
[{"$nulls":5},"",null,null,"HUARIPAMPA","120409","HUARIPAMPA","PERUJUNINJAUJAHUARIPAMPA","120409"]
[{"$nulls":5},"",null,null,"HUERTAS","120410","HUERTAS","PERUJUNINJAUJAHUERTAS","120410"]
[{"$nulls":5},"",null,null,"JANJAILLO","120411","JANJAILLO","PERUJUNINJAUJAJANJAILLO","120411"]
[{"$nulls":5},"",null,null,"JULCAN","120412","JULCAN","PERUJUNINJAUJAJULCAN","120412"]
[{"$nulls":5},"",null,null,"LEONOR ORDOÑEZ","120413","LEONOR ORDOÑEZ","PERUJUNINJAUJALEONOR ORDOÑEZ","120413"]
[{"$nulls":5},"",null,null,"LLOCLLAPAMPA","120414","LLOCLLAPAMPA","PERUJUNINJAUJALLOCLLAPAMPA","120414"]
[{"$nulls":5},"",null,null,"MARCO","120415","MARCO","PERUJUNINJAUJAMARCO","120415"]
[{"$nulls":5},"",null,null,"MASMA","120416","MASMA","PERUJUNINJAUJAMASMA","120416"]
[{"$nulls":5},"",null,null,"MASMA CHICCHE","120417","MASMA CHICCHE","PERUJUNINJAUJAMASMA CHICCHE","120417"]
[{"$nulls":5},"",null,null,"MOLINOS","120418","MOLINOS","PERUJUNINJAUJAMOLINOS","120418"]
[{"$nulls":5},"",null,null,"MONOBAMBA","120419","MONOBAMBA","PERUJUNINJAUJAMONOBAMBA","120419"]
[{"$nulls":5},"",null,null,"MUQUI","120420","MUQUI","PERUJUNINJAUJAMUQUI","120420"]
[{"$nulls":5},"",null,null,"MUQUIYAUYO","120421","MUQUIYAUYO","PERUJUNINJAUJAMUQUIYAUYO","120421"]
[{"$nulls":5},"",null,null,"PACA","120422","PACA","PERUJUNINJAUJAPACA","120422"]
[{"$nulls":5},"",null,null,"PACCHA","120423","PACCHA","PERUJUNINJAUJAPACCHA","120423"]
[{"$nulls":5},"",null,null,"PANCAN","120424","PANCAN","PERUJUNINJAUJAPANCAN","120424"]
[{"$nulls":5},"",null,null,"PARCO","120425","PARCO","PERUJUNINJAUJAPARCO","120425"]
[{"$nulls":5},"",null,null,"POMACANCHA","120426","POMACANCHA","PERUJUNINJAUJAPOMACANCHA","120426"]
[{"$nulls":5},"",null,null,"RICRAN","120427","RICRAN","PERUJUNINJAUJARICRAN","120427"]
[{"$nulls":5},"",null,null,"SAN LORENZO","120428","SAN LORENZO","PERUJUNINJAUJASAN LORENZO","120428"]
[{"$nulls":5},"",null,null,"SAN PEDRO DE CHUNAN","120429","SAN PEDRO DE CHUNAN","PERUJUNINJAUJASAN PEDRO DE CHUNAN","120429"]
[{"$nulls":5},"",null,null,"SAUSA","120430","SAUSA","PERUJUNINJAUJASAUSA","120430"]
[{"$nulls":5},"",null,null,"SINCOS","120431","SINCOS","PERUJUNINJAUJASINCOS","120431"]
[{"$nulls":5},"",null,null,"TUNAN MARCA","120432","TUNAN MARCA","PERUJUNINJAUJATUNAN MARCA","120432"]
[{"$nulls":5},"",null,null,"YAULI","120433","YAULI","PERUJUNINJAUJAYAULI","120433"]
[{"$nulls":5},"",null,null,"YAUYOS","120434","YAUYOS","PERUJUNINJAUJAYAUYOS","120434"]
[{"$nulls":5},"",null,null,"JUNIN","120501","JUNIN","PERUJUNINJUNINJUNIN","120501"]
[{"$nulls":5},"",null,null,"CARHUAMAYO","120502","CARHUAMAYO","PERUJUNINJUNINCARHUAMAYO","120502"]
[{"$nulls":5},"",null,null,"ONDORES","120503","ONDORES","PERUJUNINJUNINONDORES","120503"]
[{"$nulls":5},"",null,null,"ULCUMAYO","120504","ULCUMAYO","PERUJUNINJUNINULCUMAYO","120504"]
[{"$nulls":5},"",null,null,"SATIPO","120601","SATIPO","PERUJUNINSATIPOSATIPO","120601"]
[{"$nulls":5},"",null,null,"COVIRIALI","120602","COVIRIALI","PERUJUNINSATIPOCOVIRIALI","120602"]
[{"$nulls":5},"",null,null,"LLAYLLA","120603","LLAYLLA","PERUJUNINSATIPOLLAYLLA","120603"]
[{"$nulls":5},"",null,null,"MAZAMARI","120604","MAZAMARI","PERUJUNINSATIPOMAZAMARI","120604"]
[{"$nulls":5},"",null,null,"PAMPA HERMOSA","120605","PAMPA HERMOSA","PERUJUNINSATIPOPAMPA HERMOSA","120605"]
[{"$nulls":5},"",null,null,"PANGOA","120606","PANGOA","PERUJUNINSATIPOPANGOA","120606"]
[{"$nulls":5},"",null,null,"RIO NEGRO","120607","RIO NEGRO","PERUJUNINSATIPORIO NEGRO","120607"]
[{"$nulls":5},"",null,null,"RIO TAMBO","120608","RIO TAMBO","PERUJUNINSATIPORIO TAMBO","120608"]
[{"$nulls":5},"",null,null,"VIZCATAN DEL ENE","120609","VIZCATAN DEL ENE","PERUJUNINSATIPOVIZCATAN DEL ENE","120609"]
[{"$nulls":5},"",null,null,"TARMA","120701","TARMA","PERUJUNINTARMATARMA","120701"]
[{"$nulls":5},"",null,null,"ACOBAMBA","120702","ACOBAMBA","PERUJUNINTARMAACOBAMBA","120702"]
[{"$nulls":5},"",null,null,"HUARICOLCA","120703","HUARICOLCA","PERUJUNINTARMAHUARICOLCA","120703"]
[{"$nulls":5},"",null,null,"HUASAHUASI","120704","HUASAHUASI","PERUJUNINTARMAHUASAHUASI","120704"]
[{"$nulls":5},"",null,null,"LA UNION","120705","LA UNION","PERUJUNINTARMALA UNION","120705"]
[{"$nulls":5},"",null,null,"PALCA","120706","PALCA","PERUJUNINTARMAPALCA","120706"]
[{"$nulls":5},"",null,null,"PALCAMAYO","120707","PALCAMAYO","PERUJUNINTARMAPALCAMAYO","120707"]
[{"$nulls":5},"",null,null,"SAN PEDRO DE CAJAS","120708","SAN PEDRO DE CAJAS","PERUJUNINTARMASAN PEDRO DE CAJAS","120708"]
[{"$nulls":5},"",null,null,"TAPO","120709","TAPO","PERUJUNINTARMATAPO","120709"]
[{"$nulls":5},"",null,null,"LA OROYA","120801","LA OROYA","PERUJUNINYAULILA OROYA","120801"]
[{"$nulls":5},"",null,null,"CHACAPALPA","120802","CHACAPALPA","PERUJUNINYAULICHACAPALPA","120802"]
[{"$nulls":5},"",null,null,"HUAY-HUAY","120803","HUAY-HUAY","PERUJUNINYAULIHUAY-HUAY","120803"]
[{"$nulls":5},"",null,null,"MARCAPOMACOCHA","120804","MARCAPOMACOCHA","PERUJUNINYAULIMARCAPOMACOCHA","120804"]
[{"$nulls":5},"",null,null,"MOROCOCHA","120805","MOROCOCHA","PERUJUNINYAULIMOROCOCHA","120805"]
[{"$nulls":5},"",null,null,"PACCHA","120806","PACCHA","PERUJUNINYAULIPACCHA","120806"]
[{"$nulls":5},"",null,null,"SANTA BARBARA DE CARHUACAYAN","120807","SANTA BARBARA DE CARHUACAYAN","PERUJUNINYAULISANTA BARBARA DE CARHUACAYAN","120807"]
[{"$nulls":5},"",null,null,"SANTA ROSA DE SACCO","120808","SANTA ROSA DE SACCO","PERUJUNINYAULISANTA ROSA DE SACCO","120808"]
[{"$nulls":5},"",null,null,"SUITUCANCHA","120809","SUITUCANCHA","PERUJUNINYAULISUITUCANCHA","120809"]
[{"$nulls":5},"",null,null,"YAULI","120810","YAULI","PERUJUNINYAULIYAULI","120810"]
[{"$nulls":5},"",null,null,"CHUPACA","120901","CHUPACA","PERUJUNINCHUPACACHUPACA","120901"]
[{"$nulls":5},"",null,null,"AHUAC","120902","AHUAC","PERUJUNINCHUPACAAHUAC","120902"]
[{"$nulls":5},"",null,null,"CHONGOS BAJO","120903","CHONGOS BAJO","PERUJUNINCHUPACACHONGOS BAJO","120903"]
[{"$nulls":5},"",null,null,"HUACHAC","120904","HUACHAC",{"$f":"\"PERU\"&VLOOKUP(LEFT(J1155,2),$B$1:$C$27,2,0)&VLOOKUP(LEFT(J1155,4),$F$2:$G$197,2,0)&K1155","v":"PERUJUNINCHUPACAHUACHAC"},{"$f":"J1155","v":"120904"}]
[{"$nulls":5},"",null,null,"HUAMANCACA CHICO","120905","HUAMANCACA CHICO","PERUJUNINCHUPACAHUAMANCACA CHICO","120905"]
[{"$nulls":5},"",null,null,"SAN JUAN DE ISCOS","120906","SAN JUAN DE ISCOS","PERUJUNINCHUPACASAN JUAN DE ISCOS","120906"]
[{"$nulls":5},"",null,null,"SAN JUAN DE JARPA","120907","SAN JUAN DE JARPA","PERUJUNINCHUPACASAN JUAN DE JARPA","120907"]
[{"$nulls":5},"",null,null,"TRES DE DICIEMBRE","120908","TRES DE DICIEMBRE","PERUJUNINCHUPACATRES DE DICIEMBRE","120908"]
[{"$nulls":5},"",null,null,"YANACANCHA","120909","YANACANCHA","PERUJUNINCHUPACAYANACANCHA","120909"]
[{"$nulls":5},"",null,null,"TRUJILLO","130101","TRUJILLO","PERULA LIBERTADTRUJILLOTRUJILLO","130101"]
[{"$nulls":5},"",null,null,"EL PORVENIR","130102","EL PORVENIR","PERULA LIBERTADTRUJILLOEL PORVENIR","130102"]
[{"$nulls":5},"",null,null,"FLORENCIA DE MORA","130103","FLORENCIA DE MORA","PERULA LIBERTADTRUJILLOFLORENCIA DE MORA","130103"]
[{"$nulls":5},"",null,null,"HUANCHACO","130104","HUANCHACO","PERULA LIBERTADTRUJILLOHUANCHACO","130104"]
[{"$nulls":5},"",null,null,"LA ESPERANZA","130105","LA ESPERANZA","PERULA LIBERTADTRUJILLOLA ESPERANZA","130105"]
[{"$nulls":5},"",null,null,"LAREDO","130106","LAREDO","PERULA LIBERTADTRUJILLOLAREDO","130106"]
[{"$nulls":5},"",null,null,"MOCHE","130107","MOCHE","PERULA LIBERTADTRUJILLOMOCHE","130107"]
[{"$nulls":5},"",null,null,"POROTO","130108","POROTO","PERULA LIBERTADTRUJILLOPOROTO","130108"]
[{"$nulls":5},"",null,null,"SALAVERRY","130109","SALAVERRY","PERULA LIBERTADTRUJILLOSALAVERRY","130109"]
[{"$nulls":5},"",null,null,"SIMBAL","130110","SIMBAL","PERULA LIBERTADTRUJILLOSIMBAL","130110"]
[{"$nulls":5},"",null,null,"VICTOR LARCO HERRERA","130111","VICTOR LARCO HERRERA","PERULA LIBERTADTRUJILLOVICTOR LARCO HERRERA","130111"]
[{"$nulls":5},"",null,null,"ASCOPE","130201","ASCOPE","PERULA LIBERTADASCOPEASCOPE","130201"]
[{"$nulls":5},"",null,null,"CHICAMA","130202","CHICAMA","PERULA LIBERTADASCOPECHICAMA","130202"]
[{"$nulls":5},"",null,null,"CHOCOPE","130203","CHOCOPE","PERULA LIBERTADASCOPECHOCOPE","130203"]
[{"$nulls":5},"",null,null,"MAGDALENA DE CAO","130204","MAGDALENA DE CAO","PERULA LIBERTADASCOPEMAGDALENA DE CAO","130204"]
[{"$nulls":5},"",null,null,"PAIJAN","130205","PAIJAN","PERULA LIBERTADASCOPEPAIJAN","130205"]
[{"$nulls":5},"",null,null,"RAZURI","130206","RAZURI","PERULA LIBERTADASCOPERAZURI","130206"]
[{"$nulls":5},"",null,null,"SANTIAGO DE CAO","130207","SANTIAGO DE CAO","PERULA LIBERTADASCOPESANTIAGO DE CAO","130207"]
[{"$nulls":5},"",null,null,"CASA GRANDE","130208","CASA GRANDE","PERULA LIBERTADASCOPECASA GRANDE","130208"]
[{"$nulls":5},"",null,null,"BOLIVAR","130301","BOLIVAR","PERULA LIBERTADBOLIVARBOLIVAR","130301"]
[{"$nulls":5},"",null,null,"BAMBAMARCA","130302","BAMBAMARCA","PERULA LIBERTADBOLIVARBAMBAMARCA","130302"]
[{"$nulls":5},"",null,null,"CONDORMARCA","130303","CONDORMARCA","PERULA LIBERTADBOLIVARCONDORMARCA","130303"]
[{"$nulls":5},"",null,null,"LONGOTEA","130304","LONGOTEA","PERULA LIBERTADBOLIVARLONGOTEA","130304"]
[{"$nulls":5},"",null,null,"UCHUMARCA","130305","UCHUMARCA","PERULA LIBERTADBOLIVARUCHUMARCA","130305"]
[{"$nulls":5},"",null,null,"UCUNCHA","130306","UCUNCHA","PERULA LIBERTADBOLIVARUCUNCHA","130306"]
[{"$nulls":5},"",null,null,"CHEPEN","130401","CHEPEN","PERULA LIBERTADCHEPENCHEPEN","130401"]
[{"$nulls":5},"",null,null,"PACANGA","130402","PACANGA","PERULA LIBERTADCHEPENPACANGA","130402"]
[{"$nulls":5},"",null,null,"PUEBLO NUEVO","130403","PUEBLO NUEVO","PERULA LIBERTADCHEPENPUEBLO NUEVO","130403"]
[{"$nulls":5},"",null,null,"JULCAN","130501","JULCAN","PERULA LIBERTADJULCANJULCAN","130501"]
[{"$nulls":5},"",null,null,"CALAMARCA","130502","CALAMARCA","PERULA LIBERTADJULCANCALAMARCA","130502"]
[{"$nulls":5},"",null,null,"CARABAMBA","130503","CARABAMBA","PERULA LIBERTADJULCANCARABAMBA","130503"]
[{"$nulls":5},"",null,null,"HUASO","130504","HUASO","PERULA LIBERTADJULCANHUASO","130504"]
[{"$nulls":5},"",null,null,"OTUZCO","130601","OTUZCO","PERULA LIBERTADOTUZCOOTUZCO","130601"]
[{"$nulls":5},"",null,null,"AGALLPAMPA","130602","AGALLPAMPA","PERULA LIBERTADOTUZCOAGALLPAMPA","130602"]
[{"$nulls":5},"",null,null,"CHARAT","130604","CHARAT","PERULA LIBERTADOTUZCOCHARAT","130604"]
[{"$nulls":5},"",null,null,"HUARANCHAL","130605","HUARANCHAL","PERULA LIBERTADOTUZCOHUARANCHAL","130605"]
[{"$nulls":5},"",null,null,"LA CUESTA","130606","LA CUESTA","PERULA LIBERTADOTUZCOLA CUESTA","130606"]
[{"$nulls":5},"",null,null,"MACHE","130608","MACHE","PERULA LIBERTADOTUZCOMACHE","130608"]
[{"$nulls":5},"",null,null,"PARANDAY","130610","PARANDAY","PERULA LIBERTADOTUZCOPARANDAY","130610"]
[{"$nulls":5},"",null,null,"SALPO","130611","SALPO","PERULA LIBERTADOTUZCOSALPO","130611"]
[{"$nulls":5},"",null,null,"SINSICAP","130613","SINSICAP","PERULA LIBERTADOTUZCOSINSICAP","130613"]
[{"$nulls":5},"",null,null,"USQUIL","130614","USQUIL","PERULA LIBERTADOTUZCOUSQUIL","130614"]
[{"$nulls":5},"",null,null,"SAN PEDRO DE LLOC","130701","SAN PEDRO DE LLOC","PERULA LIBERTADPACASMAYOSAN PEDRO DE LLOC","130701"]
[{"$nulls":5},"",null,null,"GUADALUPE","130702","GUADALUPE","PERULA LIBERTADPACASMAYOGUADALUPE","130702"]
[{"$nulls":5},"",null,null,"JEQUETEPEQUE","130703","JEQUETEPEQUE","PERULA LIBERTADPACASMAYOJEQUETEPEQUE","130703"]
[{"$nulls":5},"",null,null,"PACASMAYO","130704","PACASMAYO","PERULA LIBERTADPACASMAYOPACASMAYO","130704"]
[{"$nulls":5},"",null,null,"SAN JOSE","130705","SAN JOSE","PERULA LIBERTADPACASMAYOSAN JOSE","130705"]
[{"$nulls":5},"",null,null,"TAYABAMBA","130801","TAYABAMBA","PERULA LIBERTADPATAZTAYABAMBA","130801"]
[{"$nulls":5},"",null,null,"BULDIBUYO","130802","BULDIBUYO","PERULA LIBERTADPATAZBULDIBUYO","130802"]
[{"$nulls":5},"",null,null,"CHILLIA","130803","CHILLIA","PERULA LIBERTADPATAZCHILLIA","130803"]
[{"$nulls":5},"",null,null,"HUANCASPATA","130804","HUANCASPATA","PERULA LIBERTADPATAZHUANCASPATA","130804"]
[{"$nulls":5},"",null,null,"HUAYLILLAS","130805","HUAYLILLAS","PERULA LIBERTADPATAZHUAYLILLAS","130805"]
[{"$nulls":5},"",null,null,"HUAYO","130806","HUAYO","PERULA LIBERTADPATAZHUAYO","130806"]
[{"$nulls":5},"",null,null,"ONGON","130807","ONGON","PERULA LIBERTADPATAZONGON","130807"]
[{"$nulls":5},"",null,null,"PARCOY","130808","PARCOY","PERULA LIBERTADPATAZPARCOY","130808"]
[{"$nulls":5},"",null,null,"PATAZ","130809","PATAZ","PERULA LIBERTADPATAZPATAZ","130809"]
[{"$nulls":5},"",null,null,"PIAS","130810","PIAS","PERULA LIBERTADPATAZPIAS","130810"]
[{"$nulls":5},"",null,null,"SANTIAGO DE CHALLAS","130811","SANTIAGO DE CHALLAS","PERULA LIBERTADPATAZSANTIAGO DE CHALLAS","130811"]
[{"$nulls":5},"",null,null,"TAURIJA","130812","TAURIJA",{"$f":"\"PERU\"&VLOOKUP(LEFT(J1219,2),$B$1:$C$27,2,0)&VLOOKUP(LEFT(J1219,4),$F$2:$G$197,2,0)&K1219","v":"PERULA LIBERTADPATAZTAURIJA"},{"$f":"J1219","v":"130812"}]
[{"$nulls":5},"",null,null,"URPAY","130813","URPAY","PERULA LIBERTADPATAZURPAY","130813"]
[{"$nulls":5},"",null,null,"HUAMACHUCO","130901","HUAMACHUCO","PERULA LIBERTADSANCHEZ CARRIONHUAMACHUCO","130901"]
[{"$nulls":5},"",null,null,"CHUGAY","130902","CHUGAY","PERULA LIBERTADSANCHEZ CARRIONCHUGAY","130902"]
[{"$nulls":5},"",null,null,"COCHORCO","130903","COCHORCO","PERULA LIBERTADSANCHEZ CARRIONCOCHORCO","130903"]
[{"$nulls":5},"",null,null,"CURGOS","130904","CURGOS","PERULA LIBERTADSANCHEZ CARRIONCURGOS","130904"]
[{"$nulls":5},"",null,null,"MARCABAL","130905","MARCABAL","PERULA LIBERTADSANCHEZ CARRIONMARCABAL","130905"]
[{"$nulls":5},"",null,null,"SANAGORAN","130906","SANAGORAN","PERULA LIBERTADSANCHEZ CARRIONSANAGORAN","130906"]
[{"$nulls":5},"",null,null,"SARIN","130907","SARIN","PERULA LIBERTADSANCHEZ CARRIONSARIN","130907"]
[{"$nulls":5},"",null,null,"SARTIMBAMBA","130908","SARTIMBAMBA","PERULA LIBERTADSANCHEZ CARRIONSARTIMBAMBA","130908"]
[{"$nulls":5},"",null,null,"SANTIAGO DE CHUCO","131001","SANTIAGO DE CHUCO","PERULA LIBERTADSANTIAGO DE CHUCOSANTIAGO DE CHUCO","131001"]
[{"$nulls":5},"",null,null,"ANGASMARCA","131002","ANGASMARCA","PERULA LIBERTADSANTIAGO DE CHUCOANGASMARCA","131002"]
[{"$nulls":5},"",null,null,"CACHICADAN","131003","CACHICADAN","PERULA LIBERTADSANTIAGO DE CHUCOCACHICADAN","131003"]
[{"$nulls":5},"",null,null,"MOLLEBAMBA","131004","MOLLEBAMBA","PERULA LIBERTADSANTIAGO DE CHUCOMOLLEBAMBA","131004"]
[{"$nulls":5},"",null,null,"MOLLEPATA","131005","MOLLEPATA","PERULA LIBERTADSANTIAGO DE CHUCOMOLLEPATA","131005"]
[{"$nulls":5},"",null,null,"QUIRUVILCA","131006","QUIRUVILCA","PERULA LIBERTADSANTIAGO DE CHUCOQUIRUVILCA","131006"]
[{"$nulls":5},"",null,null,"SANTA CRUZ DE CHUCA","131007","SANTA CRUZ DE CHUCA","PERULA LIBERTADSANTIAGO DE CHUCOSANTA CRUZ DE CHUCA","131007"]
[{"$nulls":5},"",null,null,"SITABAMBA","131008","SITABAMBA","PERULA LIBERTADSANTIAGO DE CHUCOSITABAMBA","131008"]
[{"$nulls":5},"",null,null,"CASCAS","131101","CASCAS","PERULA LIBERTADGRAN CHIMUCASCAS","131101"]
[{"$nulls":5},"",null,null,"LUCMA","131102","LUCMA","PERULA LIBERTADGRAN CHIMULUCMA","131102"]
[{"$nulls":5},"",null,null,"MARMOT","131103","MARMOT","PERULA LIBERTADGRAN CHIMUMARMOT","131103"]
[{"$nulls":5},"",null,null,"SAYAPULLO","131104","SAYAPULLO","PERULA LIBERTADGRAN CHIMUSAYAPULLO","131104"]
[{"$nulls":5},"",null,null,"VIRU","131201","VIRU","PERULA LIBERTADVIRUVIRU","131201"]
[{"$nulls":5},"",null,null,"CHAO","131202","CHAO","PERULA LIBERTADVIRUCHAO","131202"]
[{"$nulls":5},"",null,null,"GUADALUPITO","131203","GUADALUPITO","PERULA LIBERTADVIRUGUADALUPITO","131203"]
[{"$nulls":5},"",null,null,"CHICLAYO","140101","CHICLAYO","PERULAMBAYEQUECHICLAYOCHICLAYO","140101"]
[{"$nulls":5},"",null,null,"CHONGOYAPE","140102","CHONGOYAPE","PERULAMBAYEQUECHICLAYOCHONGOYAPE","140102"]
[{"$nulls":5},"",null,null,"ETEN","140103","ETEN","PERULAMBAYEQUECHICLAYOETEN","140103"]
[{"$nulls":5},"",null,null,"ETEN PUERTO","140104","ETEN PUERTO","PERULAMBAYEQUECHICLAYOETEN PUERTO","140104"]
[{"$nulls":5},"",null,null,"JOSE LEONARDO ORTIZ","140105","JOSE LEONARDO ORTIZ","PERULAMBAYEQUECHICLAYOJOSE LEONARDO ORTIZ","140105"]
[{"$nulls":5},"",null,null,"LA VICTORIA","140106","LA VICTORIA","PERULAMBAYEQUECHICLAYOLA VICTORIA","140106"]
[{"$nulls":5},"",null,null,"LAGUNAS","140107","LAGUNAS","PERULAMBAYEQUECHICLAYOLAGUNAS","140107"]
[{"$nulls":5},"",null,null,"MONSEFU","140108","MONSEFU","PERULAMBAYEQUECHICLAYOMONSEFU","140108"]
[{"$nulls":5},"",null,null,"NUEVA ARICA","140109","NUEVA ARICA","PERULAMBAYEQUECHICLAYONUEVA ARICA","140109"]
[{"$nulls":5},"",null,null,"OYOTUN","140110","OYOTUN","PERULAMBAYEQUECHICLAYOOYOTUN","140110"]
[{"$nulls":5},"",null,null,"PICSI","140111","PICSI","PERULAMBAYEQUECHICLAYOPICSI","140111"]
[{"$nulls":5},"",null,null,"PIMENTEL","140112","PIMENTEL","PERULAMBAYEQUECHICLAYOPIMENTEL","140112"]
[{"$nulls":5},"",null,null,"REQUE","140113","REQUE","PERULAMBAYEQUECHICLAYOREQUE","140113"]
[{"$nulls":5},"",null,null,"SANTA ROSA","140114","SANTA ROSA","PERULAMBAYEQUECHICLAYOSANTA ROSA","140114"]
[{"$nulls":5},"",null,null,"SAÑA","140115","SAÑA","PERULAMBAYEQUECHICLAYOSAÑA","140115"]
[{"$nulls":5},"",null,null,"CAYALTI","140116","CAYALTI","PERULAMBAYEQUECHICLAYOCAYALTI","140116"]
[{"$nulls":5},"",null,null,"PATAPO","140117","PATAPO","PERULAMBAYEQUECHICLAYOPATAPO","140117"]
[{"$nulls":5},"",null,null,"POMALCA","140118","POMALCA","PERULAMBAYEQUECHICLAYOPOMALCA","140118"]
[{"$nulls":5},"",null,null,"PUCALA","140119","PUCALA","PERULAMBAYEQUECHICLAYOPUCALA","140119"]
[{"$nulls":5},"",null,null,"TUMAN","140120","TUMAN","PERULAMBAYEQUECHICLAYOTUMAN","140120"]
[{"$nulls":5},"",null,null,"FERREÑAFE","140201","FERREÑAFE","PERULAMBAYEQUEFERREÑAFEFERREÑAFE","140201"]
[{"$nulls":5},"",null,null,"CAÑARIS","140202","CAÑARIS","PERULAMBAYEQUEFERREÑAFECAÑARIS","140202"]
[{"$nulls":5},"",null,null,"INCAHUASI","140203","INCAHUASI","PERULAMBAYEQUEFERREÑAFEINCAHUASI","140203"]
[{"$nulls":5},"",null,null,"MANUEL ANTONIO MESONES MURO","140204","MANUEL ANTONIO MESONES MURO","PERULAMBAYEQUEFERREÑAFEMANUEL ANTONIO MESONES MURO","140204"]
[{"$nulls":5},"",null,null,"PITIPO","140205","PITIPO","PERULAMBAYEQUEFERREÑAFEPITIPO","140205"]
[{"$nulls":5},"",null,null,"PUEBLO NUEVO","140206","PUEBLO NUEVO","PERULAMBAYEQUEFERREÑAFEPUEBLO NUEVO","140206"]
[{"$nulls":5},"",null,null,"LAMBAYEQUE","140301","LAMBAYEQUE","PERULAMBAYEQUELAMBAYEQUELAMBAYEQUE","140301"]
[{"$nulls":5},"",null,null,"CHOCHOPE","140302","CHOCHOPE","PERULAMBAYEQUELAMBAYEQUECHOCHOPE","140302"]
[{"$nulls":5},"",null,null,"ILLIMO","140303","ILLIMO","PERULAMBAYEQUELAMBAYEQUEILLIMO","140303"]
[{"$nulls":5},"",null,null,"JAYANCA","140304","JAYANCA","PERULAMBAYEQUELAMBAYEQUEJAYANCA","140304"]
[{"$nulls":5},"",null,null,"MOCHUMI","140305","MOCHUMI","PERULAMBAYEQUELAMBAYEQUEMOCHUMI","140305"]
[{"$nulls":5},"",null,null,"MORROPE","140306","MORROPE","PERULAMBAYEQUELAMBAYEQUEMORROPE","140306"]
[{"$nulls":5},"",null,null,"MOTUPE","140307","MOTUPE","PERULAMBAYEQUELAMBAYEQUEMOTUPE","140307"]
[{"$nulls":5},"",null,null,"OLMOS","140308","OLMOS","PERULAMBAYEQUELAMBAYEQUEOLMOS","140308"]
[{"$nulls":5},"",null,null,"PACORA","140309","PACORA","PERULAMBAYEQUELAMBAYEQUEPACORA","140309"]
[{"$nulls":5},"",null,null,"SALAS","140310","SALAS","PERULAMBAYEQUELAMBAYEQUESALAS","140310"]
[{"$nulls":5},"",null,null,"SAN JOSE","140311","SAN JOSE","PERULAMBAYEQUELAMBAYEQUESAN JOSE","140311"]
[{"$nulls":5},"",null,null,"TUCUME","140312","TUCUME","PERULAMBAYEQUELAMBAYEQUETUCUME","140312"]
[{"$nulls":5},"",null,null,"LIMA","150101","LIMA","PERULIMALIMALIMA","150101"]
[{"$nulls":5},"",null,null,"ANCON","150102","ANCON",{"$f":"\"PERU\"&VLOOKUP(LEFT(J1283,2),$B$1:$C$27,2,0)&VLOOKUP(LEFT(J1283,4),$F$2:$G$197,2,0)&K1283","v":"PERULIMALIMAANCON"},{"$f":"J1283","v":"150102"}]
[{"$nulls":5},"",null,null,"ATE","150103","ATE","PERULIMALIMAATE","150103"]
[{"$nulls":5},"",null,null,"BARRANCO","150104","BARRANCO","PERULIMALIMABARRANCO","150104"]
[{"$nulls":5},"",null,null,"BREÑA","150105","BREÑA","PERULIMALIMABREÑA","150105"]
[{"$nulls":5},"",null,null,"CARABAYLLO","150106","CARABAYLLO","PERULIMALIMACARABAYLLO","150106"]
[{"$nulls":5},"",null,null,"CHACLACAYO","150107","CHACLACAYO","PERULIMALIMACHACLACAYO","150107"]
[{"$nulls":5},"",null,null,"CHORRILLOS","150108","CHORRILLOS","PERULIMALIMACHORRILLOS","150108"]
[{"$nulls":5},"",null,null,"CIENEGUILLA","150109","CIENEGUILLA","PERULIMALIMACIENEGUILLA","150109"]
[{"$nulls":5},"",null,null,"COMAS","150110","COMAS","PERULIMALIMACOMAS","150110"]
[{"$nulls":5},"",null,null,"EL AGUSTINO","150111","EL AGUSTINO","PERULIMALIMAEL AGUSTINO","150111"]
[{"$nulls":5},"",null,null,"INDEPENDENCIA","150112","INDEPENDENCIA","PERULIMALIMAINDEPENDENCIA","150112"]
[{"$nulls":5},"",null,null,"JESUS MARIA","150113","JESUS MARIA","PERULIMALIMAJESUS MARIA","150113"]
[{"$nulls":5},"",null,null,"LA MOLINA","150114","LA MOLINA","PERULIMALIMALA MOLINA","150114"]
[{"$nulls":5},"",null,null,"LA VICTORIA","150115","LA VICTORIA","PERULIMALIMALA VICTORIA","150115"]
[{"$nulls":5},"",null,null,"LINCE","150116","LINCE","PERULIMALIMALINCE","150116"]
[{"$nulls":5},"",null,null,"LOS OLIVOS","150117","LOS OLIVOS","PERULIMALIMALOS OLIVOS","150117"]
[{"$nulls":5},"",null,null,"LURIGANCHO (CHOSICA)","150118","LURIGANCHO (CHOSICA)","PERULIMALIMALURIGANCHO (CHOSICA)","150118"]
[{"$nulls":5},"",null,null,"LURIN","150119","LURIN","PERULIMALIMALURIN","150119"]
[{"$nulls":5},"",null,null,"MAGDALENA DEL MAR","150120","MAGDALENA DEL MAR","PERULIMALIMAMAGDALENA DEL MAR","150120"]
[{"$nulls":5},"",null,null,"PUEBLO LIBRE","150121","PUEBLO LIBRE","PERULIMALIMAPUEBLO LIBRE","150121"]
[{"$nulls":5},"",null,null,"MIRAFLORES","150122","MIRAFLORES","PERULIMALIMAMIRAFLORES","150122"]
[{"$nulls":5},"",null,null,"PACHACAMAC","150123","PACHACAMAC","PERULIMALIMAPACHACAMAC","150123"]
[{"$nulls":5},"",null,null,"PUCUSANA","150124","PUCUSANA","PERULIMALIMAPUCUSANA","150124"]
[{"$nulls":5},"",null,null,"PUENTE PIEDRA","150125","PUENTE PIEDRA","PERULIMALIMAPUENTE PIEDRA","150125"]
[{"$nulls":5},"",null,null,"PUNTA HERMOSA","150126","PUNTA HERMOSA","PERULIMALIMAPUNTA HERMOSA","150126"]
[{"$nulls":5},"",null,null,"PUNTA NEGRA","150127","PUNTA NEGRA","PERULIMALIMAPUNTA NEGRA","150127"]
[{"$nulls":5},"",null,null,"RIMAC","150128","RIMAC","PERULIMALIMARIMAC","150128"]
[{"$nulls":5},"",null,null,"SAN BARTOLO","150129","SAN BARTOLO","PERULIMALIMASAN BARTOLO","150129"]
[{"$nulls":5},"",null,null,"SAN BORJA","150130","SAN BORJA","PERULIMALIMASAN BORJA","150130"]
[{"$nulls":5},"",null,null,"SAN ISIDRO","150131","SAN ISIDRO","PERULIMALIMASAN ISIDRO","150131"]
[{"$nulls":5},"",null,null,"SAN JUAN DE LURIGANCHO","150132","SAN JUAN DE LURIGANCHO","PERULIMALIMASAN JUAN DE LURIGANCHO","150132"]
[{"$nulls":5},"",null,null,"SAN JUAN DE MIRAFLORES","150133","SAN JUAN DE MIRAFLORES","PERULIMALIMASAN JUAN DE MIRAFLORES","150133"]
[{"$nulls":5},"",null,null,"SAN LUIS","150134","SAN LUIS","PERULIMALIMASAN LUIS","150134"]
[{"$nulls":5},"",null,null,"SAN MARTIN DE PORRES","150135","SAN MARTIN DE PORRES","PERULIMALIMASAN MARTIN DE PORRES","150135"]
[{"$nulls":5},"",null,null,"SAN MIGUEL","150136","SAN MIGUEL","PERULIMALIMASAN MIGUEL","150136"]
[{"$nulls":5},"",null,null,"SANTA ANITA","150137","SANTA ANITA","PERULIMALIMASANTA ANITA","150137"]
[{"$nulls":5},"",null,null,"SANTA MARIA DEL MAR","150138","SANTA MARIA DEL MAR","PERULIMALIMASANTA MARIA DEL MAR","150138"]
[{"$nulls":5},"",null,null,"SANTA ROSA","150139","SANTA ROSA","PERULIMALIMASANTA ROSA","150139"]
[{"$nulls":5},"",null,null,"SANTIAGO DE SURCO","150140","SANTIAGO DE SURCO","PERULIMALIMASANTIAGO DE SURCO","150140"]
[{"$nulls":5},"",null,null,"SURQUILLO","150141","SURQUILLO","PERULIMALIMASURQUILLO","150141"]
[{"$nulls":5},"",null,null,"VILLA EL SALVADOR","150142","VILLA EL SALVADOR","PERULIMALIMAVILLA EL SALVADOR","150142"]
[{"$nulls":5},"",null,null,"VILLA MARIA DEL TRIUNFO","150143","VILLA MARIA DEL TRIUNFO","PERULIMALIMAVILLA MARIA DEL TRIUNFO","150143"]
[{"$nulls":5},"",null,null,"BARRANCA","150201","BARRANCA","PERULIMABARRANCABARRANCA","150201"]
[{"$nulls":5},"",null,null,"PARAMONGA","150202","PARAMONGA","PERULIMABARRANCAPARAMONGA","150202"]
[{"$nulls":5},"",null,null,"PATIVILCA","150203","PATIVILCA","PERULIMABARRANCAPATIVILCA","150203"]
[{"$nulls":5},"",null,null,"SUPE","150204","SUPE","PERULIMABARRANCASUPE","150204"]
[{"$nulls":5},"",null,null,"SUPE PUERTO","150205","SUPE PUERTO","PERULIMABARRANCASUPE PUERTO","150205"]
[{"$nulls":5},"",null,null,"CAJATAMBO","150301","CAJATAMBO","PERULIMACAJATAMBOCAJATAMBO","150301"]
[{"$nulls":5},"",null,null,"COPA","150302","COPA","PERULIMACAJATAMBOCOPA","150302"]
[{"$nulls":5},"",null,null,"GORGOR","150303","GORGOR","PERULIMACAJATAMBOGORGOR","150303"]
[{"$nulls":5},"",null,null,"HUANCAPON","150304","HUANCAPON","PERULIMACAJATAMBOHUANCAPON","150304"]
[{"$nulls":5},"",null,null,"MANAS","150305","MANAS","PERULIMACAJATAMBOMANAS","150305"]
[{"$nulls":5},"",null,null,"CANTA","150401","CANTA","PERULIMACANTACANTA","150401"]
[{"$nulls":5},"",null,null,"ARAHUAY","150402","ARAHUAY","PERULIMACANTAARAHUAY","150402"]
[{"$nulls":5},"",null,null,"HUAMANTANGA","150403","HUAMANTANGA","PERULIMACANTAHUAMANTANGA","150403"]
[{"$nulls":5},"",null,null,"HUAROS","150404","HUAROS","PERULIMACANTAHUAROS","150404"]
[{"$nulls":5},"",null,null,"LACHAQUI","150405","LACHAQUI","PERULIMACANTALACHAQUI","150405"]
[{"$nulls":5},"",null,null,"SAN BUENAVENTURA","150406","SAN BUENAVENTURA","PERULIMACANTASAN BUENAVENTURA","150406"]
[{"$nulls":5},"",null,null,"SANTA ROSA DE QUIVES","150407","SANTA ROSA DE QUIVES","PERULIMACANTASANTA ROSA DE QUIVES","150407"]
[{"$nulls":5},"",null,null,"SAN VICENTE DE CAÑETE","150501","SAN VICENTE DE CAÑETE","PERULIMACAÑETESAN VICENTE DE CAÑETE","150501"]
[{"$nulls":5},"",null,null,"ASIA","150502","ASIA","PERULIMACAÑETEASIA","150502"]
[{"$nulls":5},"",null,null,"CALANGO","150503","CALANGO","PERULIMACAÑETECALANGO","150503"]
[{"$nulls":5},"",null,null,"CERRO AZUL","150504","CERRO AZUL","PERULIMACAÑETECERRO AZUL","150504"]
[{"$nulls":5},"",null,null,"CHILCA","150505","CHILCA","PERULIMACAÑETECHILCA","150505"]
[{"$nulls":5},"",null,null,"COAYLLO","150506","COAYLLO",{"$f":"\"PERU\"&VLOOKUP(LEFT(J1347,2),$B$1:$C$27,2,0)&VLOOKUP(LEFT(J1347,4),$F$2:$G$197,2,0)&K1347","v":"PERULIMACAÑETECOAYLLO"},{"$f":"J1347","v":"150506"}]
[{"$nulls":5},"",null,null,"IMPERIAL","150507","IMPERIAL","PERULIMACAÑETEIMPERIAL","150507"]
[{"$nulls":5},"",null,null,"LUNAHUANA","150508","LUNAHUANA","PERULIMACAÑETELUNAHUANA","150508"]
[{"$nulls":5},"",null,null,"MALA","150509","MALA","PERULIMACAÑETEMALA","150509"]
[{"$nulls":5},"",null,null,"NUEVO IMPERIAL","150510","NUEVO IMPERIAL","PERULIMACAÑETENUEVO IMPERIAL","150510"]
[{"$nulls":5},"",null,null,"PACARAN","150511","PACARAN","PERULIMACAÑETEPACARAN","150511"]
[{"$nulls":5},"",null,null,"QUILMANA","150512","QUILMANA","PERULIMACAÑETEQUILMANA","150512"]
[{"$nulls":5},"",null,null,"SAN ANTONIO","150513","SAN ANTONIO","PERULIMACAÑETESAN ANTONIO","150513"]
[{"$nulls":5},"",null,null,"SAN LUIS","150514","SAN LUIS","PERULIMACAÑETESAN LUIS","150514"]
[{"$nulls":5},"",null,null,"SANTA CRUZ DE FLORES","150515","SANTA CRUZ DE FLORES","PERULIMACAÑETESANTA CRUZ DE FLORES","150515"]
[{"$nulls":5},"",null,null,"ZUÑIGA","150516","ZUÑIGA","PERULIMACAÑETEZUÑIGA","150516"]
[{"$nulls":5},"",null,null,"HUARAL","150601","HUARAL","PERULIMAHUARALHUARAL","150601"]
[{"$nulls":5},"",null,null,"ATAVILLOS ALTO","150602","ATAVILLOS ALTO","PERULIMAHUARALATAVILLOS ALTO","150602"]
[{"$nulls":5},"",null,null,"ATAVILLOS BAJO","150603","ATAVILLOS BAJO","PERULIMAHUARALATAVILLOS BAJO","150603"]
[{"$nulls":5},"",null,null,"AUCALLAMA","150604","AUCALLAMA","PERULIMAHUARALAUCALLAMA","150604"]
[{"$nulls":5},"",null,null,"CHANCAY","150605","CHANCAY","PERULIMAHUARALCHANCAY","150605"]
[{"$nulls":5},"",null,null,"IHUARI","150606","IHUARI","PERULIMAHUARALIHUARI","150606"]
[{"$nulls":5},"",null,null,"LAMPIAN","150607","LAMPIAN","PERULIMAHUARALLAMPIAN","150607"]
[{"$nulls":5},"",null,null,"PACARAOS","150608","PACARAOS","PERULIMAHUARALPACARAOS","150608"]
[{"$nulls":5},"",null,null,"SAN MIGUEL DE ACOS","150609","SAN MIGUEL DE ACOS","PERULIMAHUARALSAN MIGUEL DE ACOS","150609"]
[{"$nulls":5},"",null,null,"SANTA CRUZ DE ANDAMARCA","150610","SANTA CRUZ DE ANDAMARCA","PERULIMAHUARALSANTA CRUZ DE ANDAMARCA","150610"]
[{"$nulls":5},"",null,null,"SUMBILCA","150611","SUMBILCA","PERULIMAHUARALSUMBILCA","150611"]
[{"$nulls":5},"",null,null,"VEINTISIETE DE NOVIEMBRE","150612","VEINTISIETE DE NOVIEMBRE","PERULIMAHUARALVEINTISIETE DE NOVIEMBRE","150612"]
[{"$nulls":5},"",null,null,"MATUCANA","150701","MATUCANA","PERULIMAHUAROCHIRIMATUCANA","150701"]
[{"$nulls":5},"",null,null,"ANTIOQUIA","150702","ANTIOQUIA","PERULIMAHUAROCHIRIANTIOQUIA","150702"]
[{"$nulls":5},"",null,null,"CALLAHUANCA","150703","CALLAHUANCA","PERULIMAHUAROCHIRICALLAHUANCA","150703"]
[{"$nulls":5},"",null,null,"CARAMPOMA","150704","CARAMPOMA","PERULIMAHUAROCHIRICARAMPOMA","150704"]
[{"$nulls":5},"",null,null,"CHICLA","150705","CHICLA","PERULIMAHUAROCHIRICHICLA","150705"]
[{"$nulls":5},"",null,null,"CUENCA","150706","CUENCA","PERULIMAHUAROCHIRICUENCA","150706"]
[{"$nulls":5},"",null,null,"HUACHUPAMPA","150707","HUACHUPAMPA","PERULIMAHUAROCHIRIHUACHUPAMPA","150707"]
[{"$nulls":5},"",null,null,"HUANZA","150708","HUANZA","PERULIMAHUAROCHIRIHUANZA","150708"]
[{"$nulls":5},"",null,null,"HUAROCHIRI","150709","HUAROCHIRI","PERULIMAHUAROCHIRIHUAROCHIRI","150709"]
[{"$nulls":5},"",null,null,"LAHUAYTAMBO","150710","LAHUAYTAMBO","PERULIMAHUAROCHIRILAHUAYTAMBO","150710"]
[{"$nulls":5},"",null,null,"LANGA","150711","LANGA","PERULIMAHUAROCHIRILANGA","150711"]
[{"$nulls":5},"",null,null,"LARAOS","150712","LARAOS","PERULIMAHUAROCHIRILARAOS","150712"]
[{"$nulls":5},"",null,null,"MARIATANA","150713","MARIATANA","PERULIMAHUAROCHIRIMARIATANA","150713"]
[{"$nulls":5},"",null,null,"RICARDO PALMA","150714","RICARDO PALMA","PERULIMAHUAROCHIRIRICARDO PALMA","150714"]
[{"$nulls":5},"",null,null,"SAN ANDRES DE TUPICOCHA","150715","SAN ANDRES DE TUPICOCHA","PERULIMAHUAROCHIRISAN ANDRES DE TUPICOCHA","150715"]
[{"$nulls":5},"",null,null,"SAN ANTONIO","150716","SAN ANTONIO","PERULIMAHUAROCHIRISAN ANTONIO","150716"]
[{"$nulls":5},"",null,null,"SAN BARTOLOME","150717","SAN BARTOLOME","PERULIMAHUAROCHIRISAN BARTOLOME","150717"]
[{"$nulls":5},"",null,null,"SAN DAMIAN","150718","SAN DAMIAN","PERULIMAHUAROCHIRISAN DAMIAN","150718"]
[{"$nulls":5},"",null,null,"SAN JUAN DE IRIS","150719","SAN JUAN DE IRIS","PERULIMAHUAROCHIRISAN JUAN DE IRIS","150719"]
[{"$nulls":5},"",null,null,"SAN JUAN DE TANTARANCHE","150720","SAN JUAN DE TANTARANCHE","PERULIMAHUAROCHIRISAN JUAN DE TANTARANCHE","150720"]
[{"$nulls":5},"",null,null,"SAN LORENZO DE QUINTI","150721","SAN LORENZO DE QUINTI","PERULIMAHUAROCHIRISAN LORENZO DE QUINTI","150721"]
[{"$nulls":5},"",null,null,"SAN MATEO","150722","SAN MATEO","PERULIMAHUAROCHIRISAN MATEO","150722"]
[{"$nulls":5},"",null,null,"SAN MATEO DE OTAO","150723","SAN MATEO DE OTAO","PERULIMAHUAROCHIRISAN MATEO DE OTAO","150723"]
[{"$nulls":5},"",null,null,"SAN PEDRO DE CASTA","150724","SAN PEDRO DE CASTA","PERULIMAHUAROCHIRISAN PEDRO DE CASTA","150724"]
[{"$nulls":5},"",null,null,"SAN PEDRO DE HUANCAYRE","150725","SAN PEDRO DE HUANCAYRE","PERULIMAHUAROCHIRISAN PEDRO DE HUANCAYRE","150725"]
[{"$nulls":5},"",null,null,"SANGALLAYA","150726","SANGALLAYA","PERULIMAHUAROCHIRISANGALLAYA","150726"]
[{"$nulls":5},"",null,null,"SANTA CRUZ DE COCACHACRA","150727","SANTA CRUZ DE COCACHACRA","PERULIMAHUAROCHIRISANTA CRUZ DE COCACHACRA","150727"]
[{"$nulls":5},"",null,null,"SANTA EULALIA","150728","SANTA EULALIA","PERULIMAHUAROCHIRISANTA EULALIA","150728"]
[{"$nulls":5},"",null,null,"SANTIAGO DE ANCHUCAYA","150729","SANTIAGO DE ANCHUCAYA","PERULIMAHUAROCHIRISANTIAGO DE ANCHUCAYA","150729"]
[{"$nulls":5},"",null,null,"SANTIAGO DE TUNA","150730","SANTIAGO DE TUNA","PERULIMAHUAROCHIRISANTIAGO DE TUNA","150730"]
[{"$nulls":5},"",null,null,"SANTO DOMINGO DE LOS OLLERO","150731","SANTO DOMINGO DE LOS OLLERO","PERULIMAHUAROCHIRISANTO DOMINGO DE LOS OLLERO","150731"]
[{"$nulls":5},"",null,null,"SURCO","150732","SURCO","PERULIMAHUAROCHIRISURCO","150732"]
[{"$nulls":5},"",null,null,"HUACHO","150801","HUACHO","PERULIMAHUAURAHUACHO","150801"]
[{"$nulls":5},"",null,null,"AMBAR","150802","AMBAR","PERULIMAHUAURAAMBAR","150802"]
[{"$nulls":5},"",null,null,"CALETA DE CARQUIN","150803","CALETA DE CARQUIN","PERULIMAHUAURACALETA DE CARQUIN","150803"]
[{"$nulls":5},"",null,null,"CHECRAS","150804","CHECRAS","PERULIMAHUAURACHECRAS","150804"]
[{"$nulls":5},"",null,null,"HUALMAY","150805","HUALMAY","PERULIMAHUAURAHUALMAY","150805"]
[{"$nulls":5},"",null,null,"HUAURA","150806","HUAURA","PERULIMAHUAURAHUAURA","150806"]
[{"$nulls":5},"",null,null,"LEONCIO PRADO","150807","LEONCIO PRADO","PERULIMAHUAURALEONCIO PRADO","150807"]
[{"$nulls":5},"",null,null,"PACCHO","150808","PACCHO","PERULIMAHUAURAPACCHO","150808"]
[{"$nulls":5},"",null,null,"SANTA LEONOR","150809","SANTA LEONOR","PERULIMAHUAURASANTA LEONOR","150809"]
[{"$nulls":5},"",null,null,"SANTA MARIA","150810","SANTA MARIA",{"$f":"\"PERU\"&VLOOKUP(LEFT(J1411,2),$B$1:$C$27,2,0)&VLOOKUP(LEFT(J1411,4),$F$2:$G$197,2,0)&K1411","v":"PERULIMAHUAURASANTA MARIA"},{"$f":"J1411","v":"150810"}]
[{"$nulls":5},"",null,null,"SAYAN","150811","SAYAN","PERULIMAHUAURASAYAN","150811"]
[{"$nulls":5},"",null,null,"VEGUETA","150812","VEGUETA","PERULIMAHUAURAVEGUETA","150812"]
[{"$nulls":5},"",null,null,"OYON","150901","OYON","PERULIMAOYONOYON","150901"]
[{"$nulls":5},"",null,null,"ANDAJES","150902","ANDAJES","PERULIMAOYONANDAJES","150902"]
[{"$nulls":5},"",null,null,"CAUJUL","150903","CAUJUL","PERULIMAOYONCAUJUL","150903"]
[{"$nulls":5},"",null,null,"COCHAMARCA","150904","COCHAMARCA","PERULIMAOYONCOCHAMARCA","150904"]
[{"$nulls":5},"",null,null,"NAVAN","150905","NAVAN","PERULIMAOYONNAVAN","150905"]
[{"$nulls":5},"",null,null,"PACHANGARA","150906","PACHANGARA","PERULIMAOYONPACHANGARA","150906"]
[{"$nulls":5},"",null,null,"YAUYOS","151001","YAUYOS","PERULIMAYAUYOSYAUYOS","151001"]
[{"$nulls":5},"",null,null,"ALIS","151002","ALIS","PERULIMAYAUYOSALIS","151002"]
[{"$nulls":5},"",null,null,"AYAUCA","151003","AYAUCA","PERULIMAYAUYOSAYAUCA","151003"]
[{"$nulls":5},"",null,null,"AYAVIRI","151004","AYAVIRI","PERULIMAYAUYOSAYAVIRI","151004"]
[{"$nulls":5},"",null,null,"AZANGARO","151005","AZANGARO","PERULIMAYAUYOSAZANGARO","151005"]
[{"$nulls":5},"",null,null,"CACRA","151006","CACRA","PERULIMAYAUYOSCACRA","151006"]
[{"$nulls":5},"",null,null,"CARANIA","151007","CARANIA","PERULIMAYAUYOSCARANIA","151007"]
[{"$nulls":5},"",null,null,"CATAHUASI","151008","CATAHUASI","PERULIMAYAUYOSCATAHUASI","151008"]
[{"$nulls":5},"",null,null,"CHOCOS","151009","CHOCOS","PERULIMAYAUYOSCHOCOS","151009"]
[{"$nulls":5},"",null,null,"COCHAS","151010","COCHAS","PERULIMAYAUYOSCOCHAS","151010"]
[{"$nulls":5},"",null,null,"COLONIA","151011","COLONIA","PERULIMAYAUYOSCOLONIA","151011"]
[{"$nulls":5},"",null,null,"HONGOS","151012","HONGOS","PERULIMAYAUYOSHONGOS","151012"]
[{"$nulls":5},"",null,null,"HUAMPARA","151013","HUAMPARA","PERULIMAYAUYOSHUAMPARA","151013"]
[{"$nulls":5},"",null,null,"HUANCAYA","151014","HUANCAYA","PERULIMAYAUYOSHUANCAYA","151014"]
[{"$nulls":5},"",null,null,"HUANGASCAR","151015","HUANGASCAR","PERULIMAYAUYOSHUANGASCAR","151015"]
[{"$nulls":5},"",null,null,"HUANTAN","151016","HUANTAN","PERULIMAYAUYOSHUANTAN","151016"]
[{"$nulls":5},"",null,null,"HUAÑEC","151017","HUAÑEC","PERULIMAYAUYOSHUAÑEC","151017"]
[{"$nulls":5},"",null,null,"LARAOS","151018","LARAOS","PERULIMAYAUYOSLARAOS","151018"]
[{"$nulls":5},"",null,null,"LINCHA","151019","LINCHA","PERULIMAYAUYOSLINCHA","151019"]
[{"$nulls":5},"",null,null,"MADEAN","151020","MADEAN","PERULIMAYAUYOSMADEAN","151020"]
[{"$nulls":5},"",null,null,"MIRAFLORES","151021","MIRAFLORES","PERULIMAYAUYOSMIRAFLORES","151021"]
[{"$nulls":5},"",null,null,"OMAS","151022","OMAS","PERULIMAYAUYOSOMAS","151022"]
[{"$nulls":5},"",null,null,"PUTINZA","151023","PUTINZA","PERULIMAYAUYOSPUTINZA","151023"]
[{"$nulls":5},"",null,null,"QUINCHES","151024","QUINCHES","PERULIMAYAUYOSQUINCHES","151024"]
[{"$nulls":5},"",null,null,"QUINOCAY","151025","QUINOCAY","PERULIMAYAUYOSQUINOCAY","151025"]
[{"$nulls":5},"",null,null,"SAN JOAQUIN","151026","SAN JOAQUIN","PERULIMAYAUYOSSAN JOAQUIN","151026"]
[{"$nulls":5},"",null,null,"SAN PEDRO DE PILAS","151027","SAN PEDRO DE PILAS","PERULIMAYAUYOSSAN PEDRO DE PILAS","151027"]
[{"$nulls":5},"",null,null,"TANTA","151028","TANTA","PERULIMAYAUYOSTANTA","151028"]
[{"$nulls":5},"",null,null,"TAURIPAMPA","151029","TAURIPAMPA","PERULIMAYAUYOSTAURIPAMPA","151029"]
[{"$nulls":5},"",null,null,"TOMAS","151030","TOMAS","PERULIMAYAUYOSTOMAS","151030"]
[{"$nulls":5},"",null,null,"TUPE","151031","TUPE","PERULIMAYAUYOSTUPE","151031"]
[{"$nulls":5},"",null,null,"VIÑAC","151032","VIÑAC","PERULIMAYAUYOSVIÑAC","151032"]
[{"$nulls":5},"",null,null,"VITIS","151033","VITIS","PERULIMAYAUYOSVITIS","151033"]
[{"$nulls":5},"",null,null,"IQUITOS","160101","IQUITOS","PERULORETOMAYNASIQUITOS","160101"]
[{"$nulls":5},"",null,null,"ALTO NANAY","160102","ALTO NANAY","PERULORETOMAYNASALTO NANAY","160102"]
[{"$nulls":5},"",null,null,"FERNANDO LORES","160103","FERNANDO LORES","PERULORETOMAYNASFERNANDO LORES","160103"]
[{"$nulls":5},"",null,null,"INDIANA","160104","INDIANA","PERULORETOMAYNASINDIANA","160104"]
[{"$nulls":5},"",null,null,"AMAZONAS","160105","AMAZONAS","PERULORETOMAYNASAMAZONAS","160105"]
[{"$nulls":5},"",null,null,"MAZAN","160106","MAZAN","PERULORETOMAYNASMAZAN","160106"]
[{"$nulls":5},"",null,null,"NAPO","160107","NAPO","PERULORETOMAYNASNAPO","160107"]
[{"$nulls":5},"",null,null,"PUNCHANA","160108","PUNCHANA","PERULORETOMAYNASPUNCHANA","160108"]
[{"$nulls":5},"",null,null,"TORRES CAUSANA","160110","TORRES CAUSANA","PERULORETOMAYNASTORRES CAUSANA","160110"]
[{"$nulls":5},"",null,null,"BELEN","160112","BELEN","PERULORETOMAYNASBELEN","160112"]
[{"$nulls":5},"",null,null,"SAN JUAN BAUTISTA","160113","SAN JUAN BAUTISTA","PERULORETOMAYNASSAN JUAN BAUTISTA","160113"]
[{"$nulls":5},"",null,null,"YURIMAGUAS","160201","YURIMAGUAS","PERULORETOALTO AMAZONASYURIMAGUAS","160201"]
[{"$nulls":5},"",null,null,"BALSAPUERTO","160202","BALSAPUERTO","PERULORETOALTO AMAZONASBALSAPUERTO","160202"]
[{"$nulls":5},"",null,null,"JEBEROS","160205","JEBEROS","PERULORETOALTO AMAZONASJEBEROS","160205"]
[{"$nulls":5},"",null,null,"LAGUNAS","160206","LAGUNAS","PERULORETOALTO AMAZONASLAGUNAS","160206"]
[{"$nulls":5},"",null,null,"SANTA CRUZ","160210","SANTA CRUZ","PERULORETOALTO AMAZONASSANTA CRUZ","160210"]
[{"$nulls":5},"",null,null,"TENIENTE CESAR LOPEZ ROJAS","160211","TENIENTE CESAR LOPEZ ROJAS","PERULORETOALTO AMAZONASTENIENTE CESAR LOPEZ ROJAS","160211"]
[{"$nulls":5},"",null,null,"NAUTA","160301","NAUTA","PERULORETOLORETONAUTA","160301"]
[{"$nulls":5},"",null,null,"PARINARI","160302","PARINARI","PERULORETOLORETOPARINARI","160302"]
[{"$nulls":5},"",null,null,"TIGRE","160303","TIGRE","PERULORETOLORETOTIGRE","160303"]
[{"$nulls":5},"",null,null,"TROMPETEROS","160304","TROMPETEROS","PERULORETOLORETOTROMPETEROS","160304"]
[{"$nulls":5},"",null,null,"URARINAS","160305","URARINAS","PERULORETOLORETOURARINAS","160305"]
[{"$nulls":5},"",null,null,"RAMON CASTILLA","160401","RAMON CASTILLA",{"$f":"\"PERU\"&VLOOKUP(LEFT(J1475,2),$B$1:$C$27,2,0)&VLOOKUP(LEFT(J1475,4),$F$2:$G$197,2,0)&K1475","v":"PERULORETOMARISCAL RAMON CASTILLARAMON CASTILLA"},{"$f":"J1475","v":"160401"}]
[{"$nulls":5},"",null,null,"PEBAS","160402","PEBAS","PERULORETOMARISCAL RAMON CASTILLAPEBAS","160402"]
[{"$nulls":5},"",null,null,"YAVARI","160403","YAVARI","PERULORETOMARISCAL RAMON CASTILLAYAVARI","160403"]
[{"$nulls":5},"",null,null,"SAN PABLO","160404","SAN PABLO","PERULORETOMARISCAL RAMON CASTILLASAN PABLO","160404"]
[{"$nulls":5},"",null,null,"REQUENA","160501","REQUENA","PERULORETOREQUENAREQUENA","160501"]
[{"$nulls":5},"",null,null,"ALTO TAPICHE","160502","ALTO TAPICHE","PERULORETOREQUENAALTO TAPICHE","160502"]
[{"$nulls":5},"",null,null,"CAPELO","160503","CAPELO","PERULORETOREQUENACAPELO","160503"]
[{"$nulls":5},"",null,null,"EMILIO SAN MARTIN","160504","EMILIO SAN MARTIN","PERULORETOREQUENAEMILIO SAN MARTIN","160504"]
[{"$nulls":5},"",null,null,"MAQUIA","160505","MAQUIA","PERULORETOREQUENAMAQUIA","160505"]
[{"$nulls":5},"",null,null,"PUINAHUA","160506","PUINAHUA","PERULORETOREQUENAPUINAHUA","160506"]
[{"$nulls":5},"",null,null,"SAQUENA","160507","SAQUENA","PERULORETOREQUENASAQUENA","160507"]
[{"$nulls":5},"",null,null,"SOPLIN","160508","SOPLIN","PERULORETOREQUENASOPLIN","160508"]
[{"$nulls":5},"",null,null,"TAPICHE","160509","TAPICHE","PERULORETOREQUENATAPICHE","160509"]
[{"$nulls":5},"",null,null,"JENARO HERRERA","160510","JENARO HERRERA","PERULORETOREQUENAJENARO HERRERA","160510"]
[{"$nulls":5},"",null,null,"YAQUERANA","160511","YAQUERANA","PERULORETOREQUENAYAQUERANA","160511"]
[{"$nulls":5},"",null,null,"CONTAMANA","160601","CONTAMANA","PERULORETOUCAYALICONTAMANA","160601"]
[{"$nulls":5},"",null,null,"INAHUAYA","160602","INAHUAYA","PERULORETOUCAYALIINAHUAYA","160602"]
[{"$nulls":5},"",null,null,"PADRE MARQUEZ","160603","PADRE MARQUEZ","PERULORETOUCAYALIPADRE MARQUEZ","160603"]
[{"$nulls":5},"",null,null,"PAMPA HERMOSA","160604","PAMPA HERMOSA","PERULORETOUCAYALIPAMPA HERMOSA","160604"]
[{"$nulls":5},"",null,null,"SARAYACU","160605","SARAYACU","PERULORETOUCAYALISARAYACU","160605"]
[{"$nulls":5},"",null,null,"VARGAS GUERRA","160606","VARGAS GUERRA","PERULORETOUCAYALIVARGAS GUERRA","160606"]
[{"$nulls":5},"",null,null,"BARRANCA","160701","BARRANCA","PERULORETODATEM DEL MARAÑONBARRANCA","160701"]
[{"$nulls":5},"",null,null,"CAHUAPANAS","160702","CAHUAPANAS","PERULORETODATEM DEL MARAÑONCAHUAPANAS","160702"]
[{"$nulls":5},"",null,null,"MANSERICHE","160703","MANSERICHE","PERULORETODATEM DEL MARAÑONMANSERICHE","160703"]
[{"$nulls":5},"",null,null,"MORONA","160704","MORONA","PERULORETODATEM DEL MARAÑONMORONA","160704"]
[{"$nulls":5},"",null,null,"PASTAZA","160705","PASTAZA","PERULORETODATEM DEL MARAÑONPASTAZA","160705"]
[{"$nulls":5},"",null,null,"ANDOAS","160706","ANDOAS","PERULORETODATEM DEL MARAÑONANDOAS","160706"]
[{"$nulls":5},"",null,null,"PUTUMAYO","160801","PUTUMAYO","PERULORETOPUTUMAYOPUTUMAYO","160801"]
[{"$nulls":5},"",null,null,"ROSA PANDURO","160802","ROSA PANDURO","PERULORETOPUTUMAYOROSA PANDURO","160802"]
[{"$nulls":5},"",null,null,"TENIENTE MANUEL CLAVERO","160803","TENIENTE MANUEL CLAVERO","PERULORETOPUTUMAYOTENIENTE MANUEL CLAVERO","160803"]
[{"$nulls":5},"",null,null,"YAGUAS","160804","YAGUAS","PERULORETOPUTUMAYOYAGUAS","160804"]
[{"$nulls":5},"",null,null,"TAMBOPATA","170101","TAMBOPATA","PERUMADRE DE DIOSTAMBOPATATAMBOPATA","170101"]
[{"$nulls":5},"",null,null,"INAMBARI","170102","INAMBARI","PERUMADRE DE DIOSTAMBOPATAINAMBARI","170102"]
[{"$nulls":5},"",null,null,"LAS PIEDRAS","170103","LAS PIEDRAS","PERUMADRE DE DIOSTAMBOPATALAS PIEDRAS","170103"]
[{"$nulls":5},"",null,null,"LABERINTO","170104","LABERINTO","PERUMADRE DE DIOSTAMBOPATALABERINTO","170104"]
[{"$nulls":5},"",null,null,"MANU","170201","MANU","PERUMADRE DE DIOSMANUMANU","170201"]
[{"$nulls":5},"",null,null,"FITZCARRALD","170202","FITZCARRALD","PERUMADRE DE DIOSMANUFITZCARRALD","170202"]
[{"$nulls":5},"",null,null,"MADRE DE DIOS","170203","MADRE DE DIOS","PERUMADRE DE DIOSMANUMADRE DE DIOS","170203"]
[{"$nulls":5},"",null,null,"HUEPETUHE","170204","HUEPETUHE","PERUMADRE DE DIOSMANUHUEPETUHE","170204"]
[{"$nulls":5},"",null,null,"IÑAPARI","170301","IÑAPARI","PERUMADRE DE DIOSTAHUAMANUIÑAPARI","170301"]
[{"$nulls":5},"",null,null,"IBERIA","170302","IBERIA","PERUMADRE DE DIOSTAHUAMANUIBERIA","170302"]
[{"$nulls":5},"",null,null,"TAHUAMANU","170303","TAHUAMANU","PERUMADRE DE DIOSTAHUAMANUTAHUAMANU","170303"]
[{"$nulls":5},"",null,null,"MOQUEGUA","180101","MOQUEGUA","PERUMOQUEGUAMARISCAL NIETOMOQUEGUA","180101"]
[{"$nulls":5},"",null,null,"CARUMAS","180102","CARUMAS","PERUMOQUEGUAMARISCAL NIETOCARUMAS","180102"]
[{"$nulls":5},"",null,null,"CUCHUMBAYA","180103","CUCHUMBAYA","PERUMOQUEGUAMARISCAL NIETOCUCHUMBAYA","180103"]
[{"$nulls":5},"",null,null,"SAMEGUA","180104","SAMEGUA","PERUMOQUEGUAMARISCAL NIETOSAMEGUA","180104"]
[{"$nulls":5},"",null,null,"SAN CRISTOBAL","180105","SAN CRISTOBAL","PERUMOQUEGUAMARISCAL NIETOSAN CRISTOBAL","180105"]
[{"$nulls":5},"",null,null,"TORATA","180106","TORATA","PERUMOQUEGUAMARISCAL NIETOTORATA","180106"]
[{"$nulls":5},"",null,null,"OMATE","180201","OMATE","PERUMOQUEGUAGENERAL SANCHEZ CERROOMATE","180201"]
[{"$nulls":5},"",null,null,"CHOJATA","180202","CHOJATA","PERUMOQUEGUAGENERAL SANCHEZ CERROCHOJATA","180202"]
[{"$nulls":5},"",null,null,"COALAQUE","180203","COALAQUE","PERUMOQUEGUAGENERAL SANCHEZ CERROCOALAQUE","180203"]
[{"$nulls":5},"",null,null,"ICHUÑA","180204","ICHUÑA","PERUMOQUEGUAGENERAL SANCHEZ CERROICHUÑA","180204"]
[{"$nulls":5},"",null,null,"LA CAPILLA","180205","LA CAPILLA","PERUMOQUEGUAGENERAL SANCHEZ CERROLA CAPILLA","180205"]
[{"$nulls":5},"",null,null,"LLOQUE","180206","LLOQUE","PERUMOQUEGUAGENERAL SANCHEZ CERROLLOQUE","180206"]
[{"$nulls":5},"",null,null,"MATALAQUE","180207","MATALAQUE","PERUMOQUEGUAGENERAL SANCHEZ CERROMATALAQUE","180207"]
[{"$nulls":5},"",null,null,"PUQUINA","180208","PUQUINA","PERUMOQUEGUAGENERAL SANCHEZ CERROPUQUINA","180208"]
[{"$nulls":5},"",null,null,"QUINISTAQUILLAS","180209","QUINISTAQUILLAS","PERUMOQUEGUAGENERAL SANCHEZ CERROQUINISTAQUILLAS","180209"]
[{"$nulls":5},"",null,null,"UBINAS","180210","UBINAS","PERUMOQUEGUAGENERAL SANCHEZ CERROUBINAS","180210"]
[{"$nulls":5},"",null,null,"YUNGA","180211","YUNGA","PERUMOQUEGUAGENERAL SANCHEZ CERROYUNGA","180211"]
[{"$nulls":5},"",null,null,"ILO","180301","ILO","PERUMOQUEGUAILOILO","180301"]
[{"$nulls":5},"",null,null,"EL ALGARROBAL","180302","EL ALGARROBAL","PERUMOQUEGUAILOEL ALGARROBAL","180302"]
[{"$nulls":5},"",null,null,"PACOCHA","180303","PACOCHA","PERUMOQUEGUAILOPACOCHA","180303"]
[{"$nulls":5},"",null,null,"CHAUPIMARCA","190101","CHAUPIMARCA","PERUPASCOPASCOCHAUPIMARCA","190101"]
[{"$nulls":5},"",null,null,"HUACHON","190102","HUACHON","PERUPASCOPASCOHUACHON","190102"]
[{"$nulls":5},"",null,null,"HUARIACA","190103","HUARIACA",{"$f":"\"PERU\"&VLOOKUP(LEFT(J1539,2),$B$1:$C$27,2,0)&VLOOKUP(LEFT(J1539,4),$F$2:$G$197,2,0)&K1539","v":"PERUPASCOPASCOHUARIACA"},{"$f":"J1539","v":"190103"}]
[{"$nulls":5},"",null,null,"HUAYLLAY","190104","HUAYLLAY","PERUPASCOPASCOHUAYLLAY","190104"]
[{"$nulls":5},"",null,null,"NINACACA","190105","NINACACA","PERUPASCOPASCONINACACA","190105"]
[{"$nulls":5},"",null,null,"PALLANCHACRA","190106","PALLANCHACRA","PERUPASCOPASCOPALLANCHACRA","190106"]
[{"$nulls":5},"",null,null,"PAUCARTAMBO","190107","PAUCARTAMBO","PERUPASCOPASCOPAUCARTAMBO","190107"]
[{"$nulls":5},"",null,null,"SAN FRANCISCO DE ASIS DE YARUSYACAN","190108","SAN FRANCISCO DE ASIS DE YARUSYACAN","PERUPASCOPASCOSAN FRANCISCO DE ASIS DE YARUSYACAN","190108"]
[{"$nulls":5},"",null,null,"SIMON BOLIVAR","190109","SIMON BOLIVAR","PERUPASCOPASCOSIMON BOLIVAR","190109"]
[{"$nulls":5},"",null,null,"TICLACAYAN","190110","TICLACAYAN","PERUPASCOPASCOTICLACAYAN","190110"]
[{"$nulls":5},"",null,null,"TINYAHUARCO","190111","TINYAHUARCO","PERUPASCOPASCOTINYAHUARCO","190111"]
[{"$nulls":5},"",null,null,"VICCO","190112","VICCO","PERUPASCOPASCOVICCO","190112"]
[{"$nulls":5},"",null,null,"YANACANCHA","190113","YANACANCHA","PERUPASCOPASCOYANACANCHA","190113"]
[{"$nulls":5},"",null,null,"YANAHUANCA","190201","YANAHUANCA","PERUPASCODANIEL ALCIDES CARRIONYANAHUANCA","190201"]
[{"$nulls":5},"",null,null,"CHACAYAN","190202","CHACAYAN","PERUPASCODANIEL ALCIDES CARRIONCHACAYAN","190202"]
[{"$nulls":5},"",null,null,"GOYLLARISQUIZGA","190203","GOYLLARISQUIZGA","PERUPASCODANIEL ALCIDES CARRIONGOYLLARISQUIZGA","190203"]
[{"$nulls":5},"",null,null,"PAUCAR","190204","PAUCAR","PERUPASCODANIEL ALCIDES CARRIONPAUCAR","190204"]
[{"$nulls":5},"",null,null,"SAN PEDRO DE PILLAO","190205","SAN PEDRO DE PILLAO","PERUPASCODANIEL ALCIDES CARRIONSAN PEDRO DE PILLAO","190205"]
[{"$nulls":5},"",null,null,"SANTA ANA DE TUSI","190206","SANTA ANA DE TUSI","PERUPASCODANIEL ALCIDES CARRIONSANTA ANA DE TUSI","190206"]
[{"$nulls":5},"",null,null,"TAPUC","190207","TAPUC","PERUPASCODANIEL ALCIDES CARRIONTAPUC","190207"]
[{"$nulls":5},"",null,null,"VILCABAMBA","190208","VILCABAMBA","PERUPASCODANIEL ALCIDES CARRIONVILCABAMBA","190208"]
[{"$nulls":5},"",null,null,"OXAPAMPA","190301","OXAPAMPA","PERUPASCOOXAPAMPAOXAPAMPA","190301"]
[{"$nulls":5},"",null,null,"CHONTABAMBA","190302","CHONTABAMBA","PERUPASCOOXAPAMPACHONTABAMBA","190302"]
[{"$nulls":5},"",null,null,"HUANCABAMBA","190303","HUANCABAMBA","PERUPASCOOXAPAMPAHUANCABAMBA","190303"]
[{"$nulls":5},"",null,null,"PALCAZU","190304","PALCAZU","PERUPASCOOXAPAMPAPALCAZU","190304"]
[{"$nulls":5},"",null,null,"POZUZO","190305","POZUZO","PERUPASCOOXAPAMPAPOZUZO","190305"]
[{"$nulls":5},"",null,null,"PUERTO BERMUDEZ","190306","PUERTO BERMUDEZ","PERUPASCOOXAPAMPAPUERTO BERMUDEZ","190306"]
[{"$nulls":5},"",null,null,"VILLA RICA","190307","VILLA RICA","PERUPASCOOXAPAMPAVILLA RICA","190307"]
[{"$nulls":5},"",null,null,"CONSTITUCION","190308","CONSTITUCION","PERUPASCOOXAPAMPACONSTITUCION","190308"]
[{"$nulls":5},"",null,null,"PIURA","200101","PIURA","PERUPIURAPIURAPIURA","200101"]
[{"$nulls":5},"",null,null,"CASTILLA","200104","CASTILLA","PERUPIURAPIURACASTILLA","200104"]
[{"$nulls":5},"",null,null,"CATACAOS","200105","CATACAOS","PERUPIURAPIURACATACAOS","200105"]
[{"$nulls":5},"",null,null,"CURA MORI","200107","CURA MORI","PERUPIURAPIURACURA MORI","200107"]
[{"$nulls":5},"",null,null,"EL TALLAN","200108","EL TALLAN","PERUPIURAPIURAEL TALLAN","200108"]
[{"$nulls":5},"",null,null,"LA ARENA","200109","LA ARENA","PERUPIURAPIURALA ARENA","200109"]
[{"$nulls":5},"",null,null,"LA UNION","200110","LA UNION","PERUPIURAPIURALA UNION","200110"]
[{"$nulls":5},"",null,null,"LAS LOMAS","200111","LAS LOMAS","PERUPIURAPIURALAS LOMAS","200111"]
[{"$nulls":5},"",null,null,"TAMBO GRANDE","200114","TAMBO GRANDE","PERUPIURAPIURATAMBO GRANDE","200114"]
[{"$nulls":5},"",null,null,"26 DE OCTUBRE","200115","26 DE OCTUBRE","PERUPIURAPIURA26 DE OCTUBRE","200115"]
[{"$nulls":5},"",null,null,"AYABACA","200201","AYABACA","PERUPIURAAYABACAAYABACA","200201"]
[{"$nulls":5},"",null,null,"FRIAS","200202","FRIAS","PERUPIURAAYABACAFRIAS","200202"]
[{"$nulls":5},"",null,null,"JILILI","200203","JILILI","PERUPIURAAYABACAJILILI","200203"]
[{"$nulls":5},"",null,null,"LAGUNAS","200204","LAGUNAS","PERUPIURAAYABACALAGUNAS","200204"]
[{"$nulls":5},"",null,null,"MONTERO","200205","MONTERO","PERUPIURAAYABACAMONTERO","200205"]
[{"$nulls":5},"",null,null,"PACAIPAMPA","200206","PACAIPAMPA","PERUPIURAAYABACAPACAIPAMPA","200206"]
[{"$nulls":5},"",null,null,"PAIMAS","200207","PAIMAS","PERUPIURAAYABACAPAIMAS","200207"]
[{"$nulls":5},"",null,null,"SAPILLICA","200208","SAPILLICA","PERUPIURAAYABACASAPILLICA","200208"]
[{"$nulls":5},"",null,null,"SICCHEZ","200209","SICCHEZ","PERUPIURAAYABACASICCHEZ","200209"]
[{"$nulls":5},"",null,null,"SUYO","200210","SUYO","PERUPIURAAYABACASUYO","200210"]
[{"$nulls":5},"",null,null,"HUANCABAMBA","200301","HUANCABAMBA","PERUPIURAHUANCABAMBAHUANCABAMBA","200301"]
[{"$nulls":5},"",null,null,"CANCHAQUE","200302","CANCHAQUE","PERUPIURAHUANCABAMBACANCHAQUE","200302"]
[{"$nulls":5},"",null,null,"EL CARMEN DE LA FRONTERA","200303","EL CARMEN DE LA FRONTERA","PERUPIURAHUANCABAMBAEL CARMEN DE LA FRONTERA","200303"]
[{"$nulls":5},"",null,null,"HUARMACA","200304","HUARMACA","PERUPIURAHUANCABAMBAHUARMACA","200304"]
[{"$nulls":5},"",null,null,"LALAQUIZ","200305","LALAQUIZ","PERUPIURAHUANCABAMBALALAQUIZ","200305"]
[{"$nulls":5},"",null,null,"SAN MIGUEL DE EL FAIQUE","200306","SAN MIGUEL DE EL FAIQUE","PERUPIURAHUANCABAMBASAN MIGUEL DE EL FAIQUE","200306"]
[{"$nulls":5},"",null,null,"SONDOR","200307","SONDOR","PERUPIURAHUANCABAMBASONDOR","200307"]
[{"$nulls":5},"",null,null,"SONDORILLO","200308","SONDORILLO","PERUPIURAHUANCABAMBASONDORILLO","200308"]
[{"$nulls":5},"",null,null,"CHULUCANAS","200401","CHULUCANAS","PERUPIURAMORROPONCHULUCANAS","200401"]
[{"$nulls":5},"",null,null,"BUENOS AIRES","200402","BUENOS AIRES","PERUPIURAMORROPONBUENOS AIRES","200402"]
[{"$nulls":5},"",null,null,"CHALACO","200403","CHALACO","PERUPIURAMORROPONCHALACO","200403"]
[{"$nulls":5},"",null,null,"LA MATANZA","200404","LA MATANZA","PERUPIURAMORROPONLA MATANZA","200404"]
[{"$nulls":5},"",null,null,"MORROPON","200405","MORROPON","PERUPIURAMORROPONMORROPON","200405"]
[{"$nulls":5},"",null,null,"SALITRAL","200406","SALITRAL","PERUPIURAMORROPONSALITRAL","200406"]
[{"$nulls":5},"",null,null,"SAN JUAN DE BIGOTE","200407","SAN JUAN DE BIGOTE","PERUPIURAMORROPONSAN JUAN DE BIGOTE","200407"]
[{"$nulls":5},"",null,null,"SANTA CATALINA DE MOSSA","200408","SANTA CATALINA DE MOSSA","PERUPIURAMORROPONSANTA CATALINA DE MOSSA","200408"]
[{"$nulls":5},"",null,null,"SANTO DOMINGO","200409","SANTO DOMINGO","PERUPIURAMORROPONSANTO DOMINGO","200409"]
[{"$nulls":5},"",null,null,"YAMANGO","200410","YAMANGO",{"$f":"\"PERU\"&VLOOKUP(LEFT(J1603,2),$B$1:$C$27,2,0)&VLOOKUP(LEFT(J1603,4),$F$2:$G$197,2,0)&K1603","v":"PERUPIURAMORROPONYAMANGO"},{"$f":"J1603","v":"200410"}]
[{"$nulls":5},"",null,null,"PAITA","200501","PAITA","PERUPIURAPAITAPAITA","200501"]
[{"$nulls":5},"",null,null,"AMOTAPE","200502","AMOTAPE","PERUPIURAPAITAAMOTAPE","200502"]
[{"$nulls":5},"",null,null,"ARENAL","200503","ARENAL","PERUPIURAPAITAARENAL","200503"]
[{"$nulls":5},"",null,null,"COLAN","200504","COLAN","PERUPIURAPAITACOLAN","200504"]
[{"$nulls":5},"",null,null,"LA HUACA","200505","LA HUACA","PERUPIURAPAITALA HUACA","200505"]
[{"$nulls":5},"",null,null,"TAMARINDO","200506","TAMARINDO","PERUPIURAPAITATAMARINDO","200506"]
[{"$nulls":5},"",null,null,"VICHAYAL","200507","VICHAYAL","PERUPIURAPAITAVICHAYAL","200507"]
[{"$nulls":5},"",null,null,"SULLANA","200601","SULLANA","PERUPIURASULLANASULLANA","200601"]
[{"$nulls":5},"",null,null,"BELLAVISTA","200602","BELLAVISTA","PERUPIURASULLANABELLAVISTA","200602"]
[{"$nulls":5},"",null,null,"IGNACIO ESCUDERO","200603","IGNACIO ESCUDERO","PERUPIURASULLANAIGNACIO ESCUDERO","200603"]
[{"$nulls":5},"",null,null,"LANCONES","200604","LANCONES","PERUPIURASULLANALANCONES","200604"]
[{"$nulls":5},"",null,null,"MARCAVELICA","200605","MARCAVELICA","PERUPIURASULLANAMARCAVELICA","200605"]
[{"$nulls":5},"",null,null,"MIGUEL CHECA","200606","MIGUEL CHECA","PERUPIURASULLANAMIGUEL CHECA","200606"]
[{"$nulls":5},"",null,null,"QUERECOTILLO","200607","QUERECOTILLO","PERUPIURASULLANAQUERECOTILLO","200607"]
[{"$nulls":5},"",null,null,"SALITRAL","200608","SALITRAL","PERUPIURASULLANASALITRAL","200608"]
[{"$nulls":5},"",null,null,"PARIÑAS","200701","PARIÑAS","PERUPIURATALARAPARIÑAS","200701"]
[{"$nulls":5},"",null,null,"EL ALTO","200702","EL ALTO","PERUPIURATALARAEL ALTO","200702"]
[{"$nulls":5},"",null,null,"LA BREA","200703","LA BREA","PERUPIURATALARALA BREA","200703"]
[{"$nulls":5},"",null,null,"LOBITOS","200704","LOBITOS","PERUPIURATALARALOBITOS","200704"]
[{"$nulls":5},"",null,null,"LOS ORGANOS","200705","LOS ORGANOS","PERUPIURATALARALOS ORGANOS","200705"]
[{"$nulls":5},"",null,null,"MANCORA","200706","MANCORA","PERUPIURATALARAMANCORA","200706"]
[{"$nulls":5},"",null,null,"SECHURA","200801","SECHURA","PERUPIURASECHURASECHURA","200801"]
[{"$nulls":5},"",null,null,"BELLAVISTA DE LA UNION","200802","BELLAVISTA DE LA UNION","PERUPIURASECHURABELLAVISTA DE LA UNION","200802"]
[{"$nulls":5},"",null,null,"BERNAL","200803","BERNAL","PERUPIURASECHURABERNAL","200803"]
[{"$nulls":5},"",null,null,"CRISTO NOS VALGA","200804","CRISTO NOS VALGA","PERUPIURASECHURACRISTO NOS VALGA","200804"]
[{"$nulls":5},"",null,null,"VICE","200805","VICE","PERUPIURASECHURAVICE","200805"]
[{"$nulls":5},"",null,null,"RINCONADA LLICUAR","200806","RINCONADA LLICUAR","PERUPIURASECHURARINCONADA LLICUAR","200806"]
[{"$nulls":5},"",null,null,"PUNO","210101","PUNO","PERUPUNOPUNOPUNO","210101"]
[{"$nulls":5},"",null,null,"ACORA","210102","ACORA","PERUPUNOPUNOACORA","210102"]
[{"$nulls":5},"",null,null,"AMANTANI","210103","AMANTANI","PERUPUNOPUNOAMANTANI","210103"]
[{"$nulls":5},"",null,null,"ATUNCOLLA","210104","ATUNCOLLA","PERUPUNOPUNOATUNCOLLA","210104"]
[{"$nulls":5},"",null,null,"CAPACHICA","210105","CAPACHICA","PERUPUNOPUNOCAPACHICA","210105"]
[{"$nulls":5},"",null,null,"CHUCUITO","210106","CHUCUITO","PERUPUNOPUNOCHUCUITO","210106"]
[{"$nulls":5},"",null,null,"COATA","210107","COATA","PERUPUNOPUNOCOATA","210107"]
[{"$nulls":5},"",null,null,"HUATA","210108","HUATA","PERUPUNOPUNOHUATA","210108"]
[{"$nulls":5},"",null,null,"MANAZO","210109","MANAZO","PERUPUNOPUNOMANAZO","210109"]
[{"$nulls":5},"",null,null,"PAUCARCOLLA","210110","PAUCARCOLLA","PERUPUNOPUNOPAUCARCOLLA","210110"]
[{"$nulls":5},"",null,null,"PICHACANI","210111","PICHACANI","PERUPUNOPUNOPICHACANI","210111"]
[{"$nulls":5},"",null,null,"PLATERIA","210112","PLATERIA","PERUPUNOPUNOPLATERIA","210112"]
[{"$nulls":5},"",null,null,"SAN ANTONIO","210113","SAN ANTONIO","PERUPUNOPUNOSAN ANTONIO","210113"]
[{"$nulls":5},"",null,null,"TIQUILLACA","210114","TIQUILLACA","PERUPUNOPUNOTIQUILLACA","210114"]
[{"$nulls":5},"",null,null,"VILQUE","210115","VILQUE","PERUPUNOPUNOVILQUE","210115"]
[{"$nulls":5},"",null,null,"AZANGARO","210201","AZANGARO","PERUPUNOAZANGAROAZANGARO","210201"]
[{"$nulls":5},"",null,null,"ACHAYA","210202","ACHAYA","PERUPUNOAZANGAROACHAYA","210202"]
[{"$nulls":5},"",null,null,"ARAPA","210203","ARAPA","PERUPUNOAZANGAROARAPA","210203"]
[{"$nulls":5},"",null,null,"ASILLO","210204","ASILLO","PERUPUNOAZANGAROASILLO","210204"]
[{"$nulls":5},"",null,null,"CAMINACA","210205","CAMINACA","PERUPUNOAZANGAROCAMINACA","210205"]
[{"$nulls":5},"",null,null,"CHUPA","210206","CHUPA","PERUPUNOAZANGAROCHUPA","210206"]
[{"$nulls":5},"",null,null,"JOSE DIEGO CHOQUEHUANCA","210207","JOSE DIEGO CHOQUEHUANCA","PERUPUNOAZANGAROJOSE DIEGO CHOQUEHUANCA","210207"]
[{"$nulls":5},"",null,null,"MUNANI","210208","MUNANI","PERUPUNOAZANGAROMUNANI","210208"]
[{"$nulls":5},"",null,null,"POTONI","210209","POTONI","PERUPUNOAZANGAROPOTONI","210209"]
[{"$nulls":5},"",null,null,"SAMAN","210210","SAMAN","PERUPUNOAZANGAROSAMAN","210210"]
[{"$nulls":5},"",null,null,"SAN ANTON","210211","SAN ANTON","PERUPUNOAZANGAROSAN ANTON","210211"]
[{"$nulls":5},"",null,null,"SAN JOSE","210212","SAN JOSE","PERUPUNOAZANGAROSAN JOSE","210212"]
[{"$nulls":5},"",null,null,"SAN JUAN DE SALINAS","210213","SAN JUAN DE SALINAS","PERUPUNOAZANGAROSAN JUAN DE SALINAS","210213"]
[{"$nulls":5},"",null,null,"SANTIAGO DE PUPUJA","210214","SANTIAGO DE PUPUJA","PERUPUNOAZANGAROSANTIAGO DE PUPUJA","210214"]
[{"$nulls":5},"",null,null,"TIRAPATA","210215","TIRAPATA","PERUPUNOAZANGAROTIRAPATA","210215"]
[{"$nulls":5},"",null,null,"MACUSANI","210301","MACUSANI","PERUPUNOCARABAYAMACUSANI","210301"]
[{"$nulls":5},"",null,null,"AJOYANI","210302","AJOYANI","PERUPUNOCARABAYAAJOYANI","210302"]
[{"$nulls":5},"",null,null,"AYAPATA","210303","AYAPATA","PERUPUNOCARABAYAAYAPATA","210303"]
[{"$nulls":5},"",null,null,"COASA","210304","COASA","PERUPUNOCARABAYACOASA","210304"]
[{"$nulls":5},"",null,null,"CORANI","210305","CORANI","PERUPUNOCARABAYACORANI","210305"]
[{"$nulls":5},"",null,null,"CRUCERO","210306","CRUCERO","PERUPUNOCARABAYACRUCERO","210306"]
[{"$nulls":5},"",null,null,"ITUATA","210307","ITUATA",{"$f":"\"PERU\"&VLOOKUP(LEFT(J1667,2),$B$1:$C$27,2,0)&VLOOKUP(LEFT(J1667,4),$F$2:$G$197,2,0)&K1667","v":"PERUPUNOCARABAYAITUATA"},{"$f":"J1667","v":"210307"}]
[{"$nulls":5},"",null,null,"OLLACHEA","210308","OLLACHEA","PERUPUNOCARABAYAOLLACHEA","210308"]
[{"$nulls":5},"",null,null,"SAN GABAN","210309","SAN GABAN","PERUPUNOCARABAYASAN GABAN","210309"]
[{"$nulls":5},"",null,null,"USICAYOS","210310","USICAYOS","PERUPUNOCARABAYAUSICAYOS","210310"]
[{"$nulls":5},"",null,null,"JULI","210401","JULI","PERUPUNOCHUCUITOJULI","210401"]
[{"$nulls":5},"",null,null,"DESAGUADERO","210402","DESAGUADERO","PERUPUNOCHUCUITODESAGUADERO","210402"]
[{"$nulls":5},"",null,null,"HUACULLANI","210403","HUACULLANI","PERUPUNOCHUCUITOHUACULLANI","210403"]
[{"$nulls":5},"",null,null,"KELLUYO","210404","KELLUYO","PERUPUNOCHUCUITOKELLUYO","210404"]
[{"$nulls":5},"",null,null,"PISACOMA","210405","PISACOMA","PERUPUNOCHUCUITOPISACOMA","210405"]
[{"$nulls":5},"",null,null,"POMATA","210406","POMATA","PERUPUNOCHUCUITOPOMATA","210406"]
[{"$nulls":5},"",null,null,"ZEPITA","210407","ZEPITA","PERUPUNOCHUCUITOZEPITA","210407"]
[{"$nulls":5},"",null,null,"ILAVE","210501","ILAVE","PERUPUNOEL COLLAOILAVE","210501"]
[{"$nulls":5},"",null,null,"CAPAZO","210502","CAPAZO","PERUPUNOEL COLLAOCAPAZO","210502"]
[{"$nulls":5},"",null,null,"PILCUYO","210503","PILCUYO","PERUPUNOEL COLLAOPILCUYO","210503"]
[{"$nulls":5},"",null,null,"SANTA ROSA","210504","SANTA ROSA","PERUPUNOEL COLLAOSANTA ROSA","210504"]
[{"$nulls":5},"",null,null,"CONDURIRI","210505","CONDURIRI","PERUPUNOEL COLLAOCONDURIRI","210505"]
[{"$nulls":5},"",null,null,"HUANCANE","210601","HUANCANE","PERUPUNOHUANCANEHUANCANE","210601"]
[{"$nulls":5},"",null,null,"COJATA","210602","COJATA","PERUPUNOHUANCANECOJATA","210602"]
[{"$nulls":5},"",null,null,"HUATASANI","210603","HUATASANI","PERUPUNOHUANCANEHUATASANI","210603"]
[{"$nulls":5},"",null,null,"INCHUPALLA","210604","INCHUPALLA","PERUPUNOHUANCANEINCHUPALLA","210604"]
[{"$nulls":5},"",null,null,"PUSI","210605","PUSI","PERUPUNOHUANCANEPUSI","210605"]
[{"$nulls":5},"",null,null,"ROSASPATA","210606","ROSASPATA","PERUPUNOHUANCANEROSASPATA","210606"]
[{"$nulls":5},"",null,null,"TARACO","210607","TARACO","PERUPUNOHUANCANETARACO","210607"]
[{"$nulls":5},"",null,null,"VILQUE CHICO","210608","VILQUE CHICO","PERUPUNOHUANCANEVILQUE CHICO","210608"]
[{"$nulls":5},"",null,null,"LAMPA","210701","LAMPA","PERUPUNOLAMPALAMPA","210701"]
[{"$nulls":5},"",null,null,"CABANILLA","210702","CABANILLA","PERUPUNOLAMPACABANILLA","210702"]
[{"$nulls":5},"",null,null,"CALAPUJA","210703","CALAPUJA","PERUPUNOLAMPACALAPUJA","210703"]
[{"$nulls":5},"",null,null,"NICASIO","210704","NICASIO","PERUPUNOLAMPANICASIO","210704"]
[{"$nulls":5},"",null,null,"OCUVIRI","210705","OCUVIRI","PERUPUNOLAMPAOCUVIRI","210705"]
[{"$nulls":5},"",null,null,"PALCA","210706","PALCA","PERUPUNOLAMPAPALCA","210706"]
[{"$nulls":5},"",null,null,"PARATIA","210707","PARATIA","PERUPUNOLAMPAPARATIA","210707"]
[{"$nulls":5},"",null,null,"PUCARA","210708","PUCARA","PERUPUNOLAMPAPUCARA","210708"]
[{"$nulls":5},"",null,null,"SANTA LUCIA","210709","SANTA LUCIA","PERUPUNOLAMPASANTA LUCIA","210709"]
[{"$nulls":5},"",null,null,"VILAVILA","210710","VILAVILA","PERUPUNOLAMPAVILAVILA","210710"]
[{"$nulls":5},"",null,null,"AYAVIRI","210801","AYAVIRI","PERUPUNOMELGARAYAVIRI","210801"]
[{"$nulls":5},"",null,null,"ANTAUTA","210802","ANTAUTA","PERUPUNOMELGARANTAUTA","210802"]
[{"$nulls":5},"",null,null,"CUPI","210803","CUPI","PERUPUNOMELGARCUPI","210803"]
[{"$nulls":5},"",null,null,"LLALLI","210804","LLALLI","PERUPUNOMELGARLLALLI","210804"]
[{"$nulls":5},"",null,null,"MACARI","210805","MACARI","PERUPUNOMELGARMACARI","210805"]
[{"$nulls":5},"",null,null,"NUNOA","210806","NUNOA","PERUPUNOMELGARNUNOA","210806"]
[{"$nulls":5},"",null,null,"ORURILLO","210807","ORURILLO","PERUPUNOMELGARORURILLO","210807"]
[{"$nulls":5},"",null,null,"SANTA ROSA","210808","SANTA ROSA","PERUPUNOMELGARSANTA ROSA","210808"]
[{"$nulls":5},"",null,null,"UMACHIRI","210809","UMACHIRI","PERUPUNOMELGARUMACHIRI","210809"]
[{"$nulls":5},"",null,null,"MOHO","210901","MOHO","PERUPUNOMOHOMOHO","210901"]
[{"$nulls":5},"",null,null,"CONIMA","210902","CONIMA","PERUPUNOMOHOCONIMA","210902"]
[{"$nulls":5},"",null,null,"HUAYRAPATA","210903","HUAYRAPATA","PERUPUNOMOHOHUAYRAPATA","210903"]
[{"$nulls":5},"",null,null,"TILALI","210904","TILALI","PERUPUNOMOHOTILALI","210904"]
[{"$nulls":5},"",null,null,"PUTINA","211001","PUTINA","PERUPUNOSAN ANTONIO DE PUTINAPUTINA","211001"]
[{"$nulls":5},"",null,null,"ANANEA","211002","ANANEA","PERUPUNOSAN ANTONIO DE PUTINAANANEA","211002"]
[{"$nulls":5},"",null,null,"PEDRO VILCA APAZA","211003","PEDRO VILCA APAZA","PERUPUNOSAN ANTONIO DE PUTINAPEDRO VILCA APAZA","211003"]
[{"$nulls":5},"",null,null,"QUILCAPUNCU","211004","QUILCAPUNCU","PERUPUNOSAN ANTONIO DE PUTINAQUILCAPUNCU","211004"]
[{"$nulls":5},"",null,null,"SINA","211005","SINA","PERUPUNOSAN ANTONIO DE PUTINASINA","211005"]
[{"$nulls":5},"",null,null,"JULIACA","211101","JULIACA","PERUPUNOSAN ROMANJULIACA","211101"]
[{"$nulls":5},"",null,null,"CABANA","211102","CABANA","PERUPUNOSAN ROMANCABANA","211102"]
[{"$nulls":5},"",null,null,"CABANILLAS","211103","CABANILLAS","PERUPUNOSAN ROMANCABANILLAS","211103"]
[{"$nulls":5},"",null,null,"CARACOTO","211104","CARACOTO","PERUPUNOSAN ROMANCARACOTO","211104"]
[{"$nulls":5},"",null,null,"SAN MIGUEL","211105","SAN MIGUEL","PERUPUNOSAN ROMANSAN MIGUEL","211105"]
[{"$nulls":5},"",null,null,"SANDIA","211201","SANDIA","PERUPUNOSANDIASANDIA","211201"]
[{"$nulls":5},"",null,null,"CUYOCUYO","211202","CUYOCUYO","PERUPUNOSANDIACUYOCUYO","211202"]
[{"$nulls":5},"",null,null,"LIMBANI","211203","LIMBANI","PERUPUNOSANDIALIMBANI","211203"]
[{"$nulls":5},"",null,null,"PATAMBUCO","211204","PATAMBUCO","PERUPUNOSANDIAPATAMBUCO","211204"]
[{"$nulls":5},"",null,null,"PHARA","211205","PHARA","PERUPUNOSANDIAPHARA","211205"]
[{"$nulls":5},"",null,null,"QUIACA","211206","QUIACA","PERUPUNOSANDIAQUIACA","211206"]
[{"$nulls":5},"",null,null,"SAN JUAN DEL ORO","211207","SAN JUAN DEL ORO","PERUPUNOSANDIASAN JUAN DEL ORO","211207"]
[{"$nulls":5},"",null,null,"YANAHUAYA","211208","YANAHUAYA",{"$f":"\"PERU\"&VLOOKUP(LEFT(J1731,2),$B$1:$C$27,2,0)&VLOOKUP(LEFT(J1731,4),$F$2:$G$197,2,0)&K1731","v":"PERUPUNOSANDIAYANAHUAYA"},{"$f":"J1731","v":"211208"}]
[{"$nulls":5},"",null,null,"ALTO INAMBARI","211209","ALTO INAMBARI","PERUPUNOSANDIAALTO INAMBARI","211209"]
[{"$nulls":5},"",null,null,"SAN PEDRO DE PUTINA PUNCO","211210","SAN PEDRO DE PUTINA PUNCO","PERUPUNOSANDIASAN PEDRO DE PUTINA PUNCO","211210"]
[{"$nulls":5},"",null,null,"YUNGUYO","211301","YUNGUYO","PERUPUNOYUNGUYOYUNGUYO","211301"]
[{"$nulls":5},"",null,null,"ANAPIA","211302","ANAPIA","PERUPUNOYUNGUYOANAPIA","211302"]
[{"$nulls":5},"",null,null,"COPANI","211303","COPANI","PERUPUNOYUNGUYOCOPANI","211303"]
[{"$nulls":5},"",null,null,"CUTURAPI","211304","CUTURAPI","PERUPUNOYUNGUYOCUTURAPI","211304"]
[{"$nulls":5},"",null,null,"OLLARAYA","211305","OLLARAYA","PERUPUNOYUNGUYOOLLARAYA","211305"]
[{"$nulls":5},"",null,null,"TINICACHI","211306","TINICACHI","PERUPUNOYUNGUYOTINICACHI","211306"]
[{"$nulls":5},"",null,null,"UNICACHI","211307","UNICACHI","PERUPUNOYUNGUYOUNICACHI","211307"]
[{"$nulls":5},"",null,null,"MOYOBAMBA","220101","MOYOBAMBA","PERUSAN MARTINMOYOBAMBAMOYOBAMBA","220101"]
[{"$nulls":5},"",null,null,"CALZADA","220102","CALZADA","PERUSAN MARTINMOYOBAMBACALZADA","220102"]
[{"$nulls":5},"",null,null,"HABANA","220103","HABANA","PERUSAN MARTINMOYOBAMBAHABANA","220103"]
[{"$nulls":5},"",null,null,"JEPELACIO","220104","JEPELACIO","PERUSAN MARTINMOYOBAMBAJEPELACIO","220104"]
[{"$nulls":5},"",null,null,"SORITOR","220105","SORITOR","PERUSAN MARTINMOYOBAMBASORITOR","220105"]
[{"$nulls":5},"",null,null,"YANTALO","220106","YANTALO","PERUSAN MARTINMOYOBAMBAYANTALO","220106"]
[{"$nulls":5},"",null,null,"BELLAVISTA","220201","BELLAVISTA","PERUSAN MARTINBELLAVISTABELLAVISTA","220201"]
[{"$nulls":5},"",null,null,"ALTO BIAVO","220202","ALTO BIAVO","PERUSAN MARTINBELLAVISTAALTO BIAVO","220202"]
[{"$nulls":5},"",null,null,"BAJO BIAVO","220203","BAJO BIAVO","PERUSAN MARTINBELLAVISTABAJO BIAVO","220203"]
[{"$nulls":5},"",null,null,"HUALLAGA","220204","HUALLAGA","PERUSAN MARTINBELLAVISTAHUALLAGA","220204"]
[{"$nulls":5},"",null,null,"SAN PABLO","220205","SAN PABLO","PERUSAN MARTINBELLAVISTASAN PABLO","220205"]
[{"$nulls":5},"",null,null,"SAN RAFAEL","220206","SAN RAFAEL","PERUSAN MARTINBELLAVISTASAN RAFAEL","220206"]
[{"$nulls":5},"",null,null,"SAN JOSE DE SISA","220301","SAN JOSE DE SISA","PERUSAN MARTINEL DORADOSAN JOSE DE SISA","220301"]
[{"$nulls":5},"",null,null,"AGUA BLANCA","220302","AGUA BLANCA","PERUSAN MARTINEL DORADOAGUA BLANCA","220302"]
[{"$nulls":5},"",null,null,"SAN MARTIN","220303","SAN MARTIN","PERUSAN MARTINEL DORADOSAN MARTIN","220303"]
[{"$nulls":5},"",null,null,"SANTA ROSA","220304","SANTA ROSA","PERUSAN MARTINEL DORADOSANTA ROSA","220304"]
[{"$nulls":5},"",null,null,"SHATOJA","220305","SHATOJA","PERUSAN MARTINEL DORADOSHATOJA","220305"]
[{"$nulls":5},"",null,null,"SAPOSOA","220401","SAPOSOA","PERUSAN MARTINHUALLAGASAPOSOA","220401"]
[{"$nulls":5},"",null,null,"ALTO SAPOSOA","220402","ALTO SAPOSOA","PERUSAN MARTINHUALLAGAALTO SAPOSOA","220402"]
[{"$nulls":5},"",null,null,"EL ESLABON","220403","EL ESLABON","PERUSAN MARTINHUALLAGAEL ESLABON","220403"]
[{"$nulls":5},"",null,null,"PISCOYACU","220404","PISCOYACU","PERUSAN MARTINHUALLAGAPISCOYACU","220404"]
[{"$nulls":5},"",null,null,"SACANCHE","220405","SACANCHE","PERUSAN MARTINHUALLAGASACANCHE","220405"]
[{"$nulls":5},"",null,null,"TINGO DE SAPOSOA","220406","TINGO DE SAPOSOA","PERUSAN MARTINHUALLAGATINGO DE SAPOSOA","220406"]
[{"$nulls":5},"",null,null,"LAMAS","220501","LAMAS","PERUSAN MARTINLAMASLAMAS","220501"]
[{"$nulls":5},"",null,null,"ALONSO DE ALVARADO","220502","ALONSO DE ALVARADO","PERUSAN MARTINLAMASALONSO DE ALVARADO","220502"]
[{"$nulls":5},"",null,null,"BARRANQUITA","220503","BARRANQUITA","PERUSAN MARTINLAMASBARRANQUITA","220503"]
[{"$nulls":5},"",null,null,"CAYNARACHI","220504","CAYNARACHI","PERUSAN MARTINLAMASCAYNARACHI","220504"]
[{"$nulls":5},"",null,null,"CUÑUMBUQUI","220505","CUÑUMBUQUI","PERUSAN MARTINLAMASCUÑUMBUQUI","220505"]
[{"$nulls":5},"",null,null,"PINTO RECODO","220506","PINTO RECODO","PERUSAN MARTINLAMASPINTO RECODO","220506"]
[{"$nulls":5},"",null,null,"RUMISAPA","220507","RUMISAPA","PERUSAN MARTINLAMASRUMISAPA","220507"]
[{"$nulls":5},"",null,null,"SAN ROQUE DE CUMBAZA","220508","SAN ROQUE DE CUMBAZA","PERUSAN MARTINLAMASSAN ROQUE DE CUMBAZA","220508"]
[{"$nulls":5},"",null,null,"SHANAO","220509","SHANAO","PERUSAN MARTINLAMASSHANAO","220509"]
[{"$nulls":5},"",null,null,"TABALOSOS","220510","TABALOSOS","PERUSAN MARTINLAMASTABALOSOS","220510"]
[{"$nulls":5},"",null,null,"ZAPATERO","220511","ZAPATERO","PERUSAN MARTINLAMASZAPATERO","220511"]
[{"$nulls":5},"",null,null,"JUANJUI","220601","JUANJUI","PERUSAN MARTINMARISCAL CACERESJUANJUI","220601"]
[{"$nulls":5},"",null,null,"CAMPANILLA","220602","CAMPANILLA","PERUSAN MARTINMARISCAL CACERESCAMPANILLA","220602"]
[{"$nulls":5},"",null,null,"HUICUNGO","220603","HUICUNGO","PERUSAN MARTINMARISCAL CACERESHUICUNGO","220603"]
[{"$nulls":5},"",null,null,"PACHIZA","220604","PACHIZA","PERUSAN MARTINMARISCAL CACERESPACHIZA","220604"]
[{"$nulls":5},"",null,null,"PAJARILLO","220605","PAJARILLO","PERUSAN MARTINMARISCAL CACERESPAJARILLO","220605"]
[{"$nulls":5},"",null,null,"PICOTA","220701","PICOTA","PERUSAN MARTINPICOTAPICOTA","220701"]
[{"$nulls":5},"",null,null,"BUENOS AIRES","220702","BUENOS AIRES","PERUSAN MARTINPICOTABUENOS AIRES","220702"]
[{"$nulls":5},"",null,null,"CASPISAPA","220703","CASPISAPA","PERUSAN MARTINPICOTACASPISAPA","220703"]
[{"$nulls":5},"",null,null,"PILLUANA","220704","PILLUANA","PERUSAN MARTINPICOTAPILLUANA","220704"]
[{"$nulls":5},"",null,null,"PUCACACA","220705","PUCACACA","PERUSAN MARTINPICOTAPUCACACA","220705"]
[{"$nulls":5},"",null,null,"SAN CRISTOBAL","220706","SAN CRISTOBAL","PERUSAN MARTINPICOTASAN CRISTOBAL","220706"]
[{"$nulls":5},"",null,null,"SAN HILARION","220707","SAN HILARION","PERUSAN MARTINPICOTASAN HILARION","220707"]
[{"$nulls":5},"",null,null,"SHAMBOYACU","220708","SHAMBOYACU","PERUSAN MARTINPICOTASHAMBOYACU","220708"]
[{"$nulls":5},"",null,null,"TINGO DE PONASA","220709","TINGO DE PONASA","PERUSAN MARTINPICOTATINGO DE PONASA","220709"]
[{"$nulls":5},"",null,null,"TRES UNIDOS","220710","TRES UNIDOS","PERUSAN MARTINPICOTATRES UNIDOS","220710"]
[{"$nulls":5},"",null,null,"RIOJA","220801","RIOJA","PERUSAN MARTINRIOJARIOJA","220801"]
[{"$nulls":5},"",null,null,"AWAJUN","220802","AWAJUN","PERUSAN MARTINRIOJAAWAJUN","220802"]
[{"$nulls":5},"",null,null,"ELIAS SOPLIN VARGAS","220803","ELIAS SOPLIN VARGAS","PERUSAN MARTINRIOJAELIAS SOPLIN VARGAS","220803"]
[{"$nulls":5},"",null,null,"NUEVA CAJAMARCA","220804","NUEVA CAJAMARCA","PERUSAN MARTINRIOJANUEVA CAJAMARCA","220804"]
[{"$nulls":5},"",null,null,"PARDO MIGUEL","220805","PARDO MIGUEL","PERUSAN MARTINRIOJAPARDO MIGUEL","220805"]
[{"$nulls":5},"",null,null,"POSIC","220806","POSIC",{"$f":"\"PERU\"&VLOOKUP(LEFT(J1795,2),$B$1:$C$27,2,0)&VLOOKUP(LEFT(J1795,4),$F$2:$G$197,2,0)&K1795","v":"PERUSAN MARTINRIOJAPOSIC"},{"$f":"J1795","v":"220806"}]
[{"$nulls":5},"",null,null,"SAN FERNANDO","220807","SAN FERNANDO","PERUSAN MARTINRIOJASAN FERNANDO","220807"]
[{"$nulls":5},"",null,null,"YORONGOS","220808","YORONGOS","PERUSAN MARTINRIOJAYORONGOS","220808"]
[{"$nulls":5},"",null,null,"YURACYACU","220809","YURACYACU","PERUSAN MARTINRIOJAYURACYACU","220809"]
[{"$nulls":5},"",null,null,"TARAPOTO","220901","TARAPOTO","PERUSAN MARTINSAN MARTINTARAPOTO","220901"]
[{"$nulls":5},"",null,null,"ALBERTO LEVEAU","220902","ALBERTO LEVEAU","PERUSAN MARTINSAN MARTINALBERTO LEVEAU","220902"]
[{"$nulls":5},"",null,null,"CACATACHI","220903","CACATACHI","PERUSAN MARTINSAN MARTINCACATACHI","220903"]
[{"$nulls":5},"",null,null,"CHAZUTA","220904","CHAZUTA","PERUSAN MARTINSAN MARTINCHAZUTA","220904"]
[{"$nulls":5},"",null,null,"CHIPURANA","220905","CHIPURANA","PERUSAN MARTINSAN MARTINCHIPURANA","220905"]
[{"$nulls":5},"",null,null,"EL PORVENIR","220906","EL PORVENIR","PERUSAN MARTINSAN MARTINEL PORVENIR","220906"]
[{"$nulls":5},"",null,null,"HUIMBAYOC","220907","HUIMBAYOC","PERUSAN MARTINSAN MARTINHUIMBAYOC","220907"]
[{"$nulls":5},"",null,null,"JUAN GUERRA","220908","JUAN GUERRA","PERUSAN MARTINSAN MARTINJUAN GUERRA","220908"]
[{"$nulls":5},"",null,null,"LA BANDA DE SHILCAYO","220909","LA BANDA DE SHILCAYO","PERUSAN MARTINSAN MARTINLA BANDA DE SHILCAYO","220909"]
[{"$nulls":5},"",null,null,"MORALES","220910","MORALES","PERUSAN MARTINSAN MARTINMORALES","220910"]
[{"$nulls":5},"",null,null,"PAPAPLAYA","220911","PAPAPLAYA","PERUSAN MARTINSAN MARTINPAPAPLAYA","220911"]
[{"$nulls":5},"",null,null,"SAN ANTONIO","220912","SAN ANTONIO","PERUSAN MARTINSAN MARTINSAN ANTONIO","220912"]
[{"$nulls":5},"",null,null,"SAUCE","220913","SAUCE","PERUSAN MARTINSAN MARTINSAUCE","220913"]
[{"$nulls":5},"",null,null,"SHAPAJA","220914","SHAPAJA","PERUSAN MARTINSAN MARTINSHAPAJA","220914"]
[{"$nulls":5},"",null,null,"TOCACHE","221001","TOCACHE","PERUSAN MARTINTOCACHETOCACHE","221001"]
[{"$nulls":5},"",null,null,"NUEVO PROGRESO","221002","NUEVO PROGRESO","PERUSAN MARTINTOCACHENUEVO PROGRESO","221002"]
[{"$nulls":5},"",null,null,"POLVORA","221003","POLVORA","PERUSAN MARTINTOCACHEPOLVORA","221003"]
[{"$nulls":5},"",null,null,"SHUNTE","221004","SHUNTE","PERUSAN MARTINTOCACHESHUNTE","221004"]
[{"$nulls":5},"",null,null,"UCHIZA","221005","UCHIZA","PERUSAN MARTINTOCACHEUCHIZA","221005"]
[{"$nulls":5},"",null,null,"TACNA","230101","TACNA","PERUTACNATACNATACNA","230101"]
[{"$nulls":5},"",null,null,"ALTO DE LA ALIANZA","230102","ALTO DE LA ALIANZA","PERUTACNATACNAALTO DE LA ALIANZA","230102"]
[{"$nulls":5},"",null,null,"CALANA","230103","CALANA","PERUTACNATACNACALANA","230103"]
[{"$nulls":5},"",null,null,"CIUDAD NUEVA","230104","CIUDAD NUEVA","PERUTACNATACNACIUDAD NUEVA","230104"]
[{"$nulls":5},"",null,null,"INCLAN","230105","INCLAN","PERUTACNATACNAINCLAN","230105"]
[{"$nulls":5},"",null,null,"PACHIA","230106","PACHIA","PERUTACNATACNAPACHIA","230106"]
[{"$nulls":5},"",null,null,"PALCA","230107","PALCA","PERUTACNATACNAPALCA","230107"]
[{"$nulls":5},"",null,null,"POCOLLAY","230108","POCOLLAY","PERUTACNATACNAPOCOLLAY","230108"]
[{"$nulls":5},"",null,null,"SAMA","230109","SAMA","PERUTACNATACNASAMA","230109"]
[{"$nulls":5},"",null,null,"CORONEL GREGORIO ALBARRACIN LANCHIPA","230110","CORONEL GREGORIO ALBARRACIN LANCHIPA","PERUTACNATACNACORONEL GREGORIO ALBARRACIN LANCHIPA","230110"]
[{"$nulls":5},"",null,null,"LA YARADA-LOS PALOS","230111","LA YARADA-LOS PALOS","PERUTACNATACNALA YARADA-LOS PALOS","230111"]
[{"$nulls":5},"",null,null,"CANDARAVE","230201","CANDARAVE","PERUTACNACANDARAVECANDARAVE","230201"]
[{"$nulls":5},"",null,null,"CAIRANI","230202","CAIRANI","PERUTACNACANDARAVECAIRANI","230202"]
[{"$nulls":5},"",null,null,"CAMILACA","230203","CAMILACA","PERUTACNACANDARAVECAMILACA","230203"]
[{"$nulls":5},"",null,null,"CURIBAYA","230204","CURIBAYA","PERUTACNACANDARAVECURIBAYA","230204"]
[{"$nulls":5},"",null,null,"HUANUARA","230205","HUANUARA","PERUTACNACANDARAVEHUANUARA","230205"]
[{"$nulls":5},"",null,null,"QUILAHUANI","230206","QUILAHUANI","PERUTACNACANDARAVEQUILAHUANI","230206"]
[{"$nulls":5},"",null,null,"LOCUMBA","230301","LOCUMBA","PERUTACNAJORGE BASADRELOCUMBA","230301"]
[{"$nulls":5},"",null,null,"ILABAYA","230302","ILABAYA","PERUTACNAJORGE BASADREILABAYA","230302"]
[{"$nulls":5},"",null,null,"ITE","230303","ITE","PERUTACNAJORGE BASADREITE","230303"]
[{"$nulls":5},"",null,null,"TARATA","230401","TARATA","PERUTACNATARATATARATA","230401"]
[{"$nulls":5},"",null,null,"HEROES ALBARRACIN","230402","HEROES ALBARRACIN","PERUTACNATARATAHEROES ALBARRACIN","230402"]
[{"$nulls":5},"",null,null,"ESTIQUE","230403","ESTIQUE","PERUTACNATARATAESTIQUE","230403"]
[{"$nulls":5},"",null,null,"ESTIQUE-PAMPA","230404","ESTIQUE-PAMPA","PERUTACNATARATAESTIQUE-PAMPA","230404"]
[{"$nulls":5},"",null,null,"SITAJARA","230405","SITAJARA","PERUTACNATARATASITAJARA","230405"]
[{"$nulls":5},"",null,null,"SUSAPAYA","230406","SUSAPAYA","PERUTACNATARATASUSAPAYA","230406"]
[{"$nulls":5},"",null,null,"TARUCACHI","230407","TARUCACHI","PERUTACNATARATATARUCACHI","230407"]
[{"$nulls":5},"",null,null,"TICACO","230408","TICACO","PERUTACNATARATATICACO","230408"]
[{"$nulls":5},"",null,null,"TUMBES","240101","TUMBES","PERUTUMBESTUMBESTUMBES","240101"]
[{"$nulls":5},"",null,null,"CORRALES","240102","CORRALES","PERUTUMBESTUMBESCORRALES","240102"]
[{"$nulls":5},"",null,null,"LA CRUZ","240103","LA CRUZ","PERUTUMBESTUMBESLA CRUZ","240103"]
[{"$nulls":5},"",null,null,"PAMPAS DE HOSPITAL","240104","PAMPAS DE HOSPITAL","PERUTUMBESTUMBESPAMPAS DE HOSPITAL","240104"]
[{"$nulls":5},"",null,null,"SAN JACINTO","240105","SAN JACINTO","PERUTUMBESTUMBESSAN JACINTO","240105"]
[{"$nulls":5},"",null,null,"SAN JUAN DE LA VIRGEN","240106","SAN JUAN DE LA VIRGEN","PERUTUMBESTUMBESSAN JUAN DE LA VIRGEN","240106"]
[{"$nulls":5},"",null,null,"ZORRITOS","240201","ZORRITOS","PERUTUMBESCONTRALMIRANTE VILLARZORRITOS","240201"]
[{"$nulls":5},"",null,null,"CASITAS","240202","CASITAS","PERUTUMBESCONTRALMIRANTE VILLARCASITAS","240202"]
[{"$nulls":5},"",null,null,"CANOAS DE PUNTA SAL","240203","CANOAS DE PUNTA SAL","PERUTUMBESCONTRALMIRANTE VILLARCANOAS DE PUNTA SAL","240203"]
[{"$nulls":5},"",null,null,"ZARUMILLA","240301","ZARUMILLA","PERUTUMBESZARUMILLAZARUMILLA","240301"]
[{"$nulls":5},"",null,null,"AGUAS VERDES","240302","AGUAS VERDES","PERUTUMBESZARUMILLAAGUAS VERDES","240302"]
[{"$nulls":5},"",null,null,"MATAPALO","240303","MATAPALO","PERUTUMBESZARUMILLAMATAPALO","240303"]
[{"$nulls":5},"",null,null,"PAPAYAL","240304","PAPAYAL","PERUTUMBESZARUMILLAPAPAYAL","240304"]
[{"$nulls":5},"",null,null,"CALLERIA","250101","CALLERIA",{"$f":"\"PERU\"&VLOOKUP(LEFT(J1859,2),$B$1:$C$27,2,0)&VLOOKUP(LEFT(J1859,4),$F$2:$G$197,2,0)&K1859","v":"PERUUCAYALICORONEL PORTILLOCALLERIA"},{"$f":"J1859","v":"250101"}]
[{"$nulls":5},"",null,null,"CAMPOVERDE","250102","CAMPOVERDE","PERUUCAYALICORONEL PORTILLOCAMPOVERDE","250102"]
[{"$nulls":5},"",null,null,"IPARIA","250103","IPARIA","PERUUCAYALICORONEL PORTILLOIPARIA","250103"]
[{"$nulls":5},"",null,null,"MASISEA","250104","MASISEA","PERUUCAYALICORONEL PORTILLOMASISEA","250104"]
[{"$nulls":5},"",null,null,"YARINACOCHA","250105","YARINACOCHA","PERUUCAYALICORONEL PORTILLOYARINACOCHA","250105"]
[{"$nulls":5},"",null,null,"NUEVA REQUENA","250106","NUEVA REQUENA","PERUUCAYALICORONEL PORTILLONUEVA REQUENA","250106"]
[{"$nulls":5},"",null,null,"MANANTAY","250107","MANANTAY","PERUUCAYALICORONEL PORTILLOMANANTAY","250107"]
[{"$nulls":5},"",null,null,"RAYMONDI","250201","RAYMONDI","PERUUCAYALIATALAYARAYMONDI","250201"]
[{"$nulls":5},"",null,null,"SEPAHUA","250202","SEPAHUA","PERUUCAYALIATALAYASEPAHUA","250202"]
[{"$nulls":5},"",null,null,"TAHUANIA","250203","TAHUANIA","PERUUCAYALIATALAYATAHUANIA","250203"]
[{"$nulls":5},"",null,null,"YURUA","250204","YURUA","PERUUCAYALIATALAYAYURUA","250204"]
[{"$nulls":5},"",null,null,"PADRE ABAD","250301","PADRE ABAD","PERUUCAYALIPADRE ABADPADRE ABAD","250301"]
[{"$nulls":5},"",null,null,"IRAZOLA","250302","IRAZOLA","PERUUCAYALIPADRE ABADIRAZOLA","250302"]
[{"$nulls":5},"",null,null,"CURIMANA","250303","CURIMANA","PERUUCAYALIPADRE ABADCURIMANA","250303"]
[{"$nulls":5},"",null,null,"NESHUYA","250304","NESHUYA","PERUUCAYALIPADRE ABADNESHUYA","250304"]
[{"$nulls":5},"",null,null,"ALEXANDER VON HUMBOLDT","250305","ALEXANDER VON HUMBOLDT","PERUUCAYALIPADRE ABADALEXANDER VON HUMBOLDT","250305"]
[{"$nulls":5},"",null,null,"PURUS","250401","PURUS","PERUUCAYALIPURUSPURUS",{"$f":"J1875","v":"250401"}]
[{"$nulls":5},"",null,null,"QUILLABAMBA","080109","QUILLABAMBA","PERUCUSCOCUSCOQUILLABAMBA",{"$f":"J1876","v":"080109"}]
[{"$nulls":5},"",null,null,"SURCO PUEBLO","150144","SURCO PUEBLO","PERULIMALIMASURCO PUEBLO",{"$f":"J1877","v":"150144"}]
[{"$nulls":5},"",null,null,"TALARA","200707","TALARA","PERUPIURATALARATALARA",{"$f":"J1878","v":"200707"}]
[{"$nulls":5},"",null,null,"HUATANASI","210218","HUATANASI","PERUPUNOAZANGAROHUATANASI",{"$f":"J1879","v":"210218"}]
[{"$nulls":5},""]
[{"$nulls":5},""]
[{"$nulls":5},""]
[{"$nulls":5},""]
[{"$nulls":5},""]
[{"$nulls":5},""]
[{"$nulls":5},""]
[{"$nulls":5},""]
[{"$nulls":5},""]
[{"$nulls":5},""]
[{"$nulls":5},""]
[{"$nulls":5},""]
[{"$nulls":5},""]
[{"$nulls":5},""]
[{"$nulls":5},""]
[{"$nulls":5},""]
[{"$nulls":5},""]
[{"$nulls":5},""]
[{"$nulls":5},""]
[{"$nulls":5},""]
[{"$nulls":5},""]
[{"$nulls":5},""]
[{"$nulls":5},""]
[{"$nulls":5},""]
[{"$nulls":5},""]
[{"$nulls":5},""]
[{"$nulls":5},""]
[{"$nulls":5},""]
[{"$nulls":5},""]
[{"$nulls":5},""]
[{"$nulls":5},""]
[{"$nulls":5},""]
[{"$nulls":5},""]
[{"$nulls":5},""]
[{"$nulls":5},""]
[{"$nulls":5},""]
[{"$nulls":5},""]
[{"$nulls":5},""]
[{"$nulls":5},""]
[{"$nulls":5},""]
[{"$nulls":5},""]
[{"$nulls":5},""]
[{"$nulls":5},""]
[{"$nulls":5},""]
[{"$nulls":5},""]
[{"$nulls":5},""]
[{"$nulls":5},""]
[{"$nulls":5},""]
[{"$nulls":5},""]
[{"$nulls":5},""]
[{"$nulls":5},""]
[{"$nulls":5},""]
[{"$nulls":5},""]
[{"$nulls":5},""]
[{"$nulls":5},""]
[{"$nulls":5},""]
[{"$nulls":5},""]
[{"$nulls":5},""]
[{"$nulls":5},""]
[{"$nulls":5},""]
[{"$nulls":5},""]
[{"$nulls":5},""]
[{"$nulls":5},""]
[{"$nulls":5},""]
[{"$nulls":5},""]
[{"$nulls":5},""]
[{"$nulls":5},""]
[{"$nulls":5},""]
[{"$nulls":5},""]
[{"$nulls":5},""]
[{"$nulls":5},""]
[{"$nulls":5},""]
[{"$nulls":5},""]
[{"$nulls":5},""]
[{"$nulls":5},""]
[{"$nulls":5},""]
[{"$nulls":5},""]
[{"$nulls":5},""]
[{"$nulls":5},""]
[{"$nulls":5},""]
[{"$nulls":5},""]
[{"$nulls":5},""]
[{"$nulls":5},""]
[{"$nulls":5},""]
[{"$nulls":5},""]
[{"$nulls":5},""]
[{"$nulls":5},""]
[{"$nulls":5},""]
[{"$nulls":5},""]
[{"$nulls":5},""]
[{"$nulls":5},""]
[{"$nulls":5},""]
[{"$nulls":5},""]
[{"$nulls":5},""]
[{"$nulls":5},""]
[{"$nulls":5},""]
[{"$nulls":5},""]
[{"$nulls":5},""]
[{"$nulls":5},""]
[{"$nulls":5},""]
[{"$nulls":5},""]
[{"$nulls":5},""]
[{"$nulls":5},""]
[{"$nulls":5},""]
[{"$nulls":5},""]
[{"$nulls":5},""]
[{"$nulls":5},""]
[{"$nulls":5},""]
[{"$nulls":5},""]
[{"$nulls":5},""]
[{"$nulls":5},""]
[{"$nulls":5},""]
[{"$nulls":5},""]
[{"$nulls":5},""]
[{"$nulls":5},""]
[{"$nulls":5},""]
[{"$nulls":5},""]
[{"$nulls":5},""]
[{"$nulls":5},""]
[{"$nulls":5},""]
[{"$nulls":5},""]
[{"$nulls":5},""]
[{"$nulls":5},""]
[{"$nulls":5},""]
[{"$nulls":5},""]
[{"$nulls":5},""]
[{"$nulls":5},""]
[{"$nulls":5},""]
[{"$nulls":5},""]
[{"$nulls":5},""]
[{"$nulls":5},""]
[{"$nulls":5},""]
[{"$nulls":5},""]
[{"$nulls":5},""]
[{"$nulls":5},""]
[{"$nulls":5},""]
[{"$nulls":5},""]
[{"$nulls":5},""]
[{"$nulls":5},""]
[{"$nulls":5},""]
[{"$nulls":5},""]
[{"$nulls":5},""]
[{"$nulls":5},""]
[{"$nulls":5},""]
[{"$nulls":5},""]
[{"$nulls":5},""]
[{"$nulls":5},""]
[{"$nulls":5},""]
[{"$nulls":5},""]
[{"$nulls":5},""]
[{"$nulls":5},""]
[{"$nulls":5},""]
[{"$nulls":5},""]
[{"$nulls":5},""]
[{"$nulls":5},""]
[{"$nulls":5},""]
[{"$nulls":5},""]
[{"$nulls":5},""]
[{"$nulls":5},""]
[{"$nulls":5},""]
[{"$nulls":5},""]
[{"$nulls":5},""]
[{"$nulls":5},""]
[{"$nulls":5},""]
[{"$nulls":5},""]
[{"$nulls":5},""]
[{"$nulls":5},""]
[{"$nulls":5},""]
[{"$nulls":5},""]
[{"$nulls":5},""]
[{"$nulls":5},""]
[{"$nulls":5},""]
[{"$nulls":5},""]
[{"$nulls":5},""]
[{"$nulls":5},""]
[{"$nulls":5},""]
[{"$nulls":5},""]
[{"$nulls":5},""]
[{"$nulls":5},""]
[{"$nulls":5},""]
[{"$nulls":5},""]
[{"$nulls":5},""]
[{"$nulls":5},""]
[{"$nulls":5},""]
[{"$nulls":5},""]
[{"$nulls":5},""]
[{"$nulls":5},""]
[{"$nulls":5},""]
[{"$nulls":5},""]
[{"$nulls":5},""]
[{"$nulls":5},""]

{"sheet":"Matriz_Mat","index":9,"n_rows":24,"n_cols":12,"rows_kept":24,"hidden":true}
["12.0EE Estructuras Especiales","1.0AC Pórtico De Acero Arriostrado Con Diagonales","2.0AQ Adobe y Quincha","3.0CA Pórticos De Concreto Armado","4.0CP Pórticos De Concreto Armado Con Placas","5.0DL Muros De Concreto Armado De Ductilidad Limitada","6.0EM Entramados De Madera","7.0M1 Mampostería De Arcilla Sin Refuerzo","8.0M2R Mampostería Armada o Confinada Con Diafragmas Rígidos","9.0M2F Mampostería Armada o Confinada Con Diafragmas Flexibles","10.0M3 Construcción Informal En Albañearía","11.0IC Estructuras Industriales o Comerciales"]
["01 Minas","Vivienda","Vivienda","Vivienda","Vivienda","Vivienda","Vivienda","Vivienda","Vivienda","Vivienda","Vivienda","Vivienda"]
["02 Carreteras","Oficina","Oficina","Oficina","Oficina","Oficina","Oficina","Oficina","Oficina","Oficina","Oficina","Oficina"]
["03 Puentes","Centro Educativo","Centro Educativo","Centro Educativo","Centro Educativo","Centro Educativo","Centro Educativo","Centro Educativo","Centro Educativo","Centro Educativo","Centro Educativo","Centro Educativo"]
["04 Reservorios","Centro de Salud","Centro de Salud","Centro de Salud","Centro de Salud","Centro de Salud","Centro de Salud","Centro de Salud","Centro de Salud","Centro de Salud","Centro de Salud","Centro de Salud"]
["05 Tanques De Agua","Taller","Taller","Taller","Taller","Taller","Taller","Taller","Taller","Taller","Taller","Taller"]
["06 Silos","Comercio","Comercio","Comercio","Comercio","Comercio","Comercio","Comercio","Comercio","Comercio","Comercio","Comercio"]
["07 Vías Férreas","Nave Industrial o Grandes Almacenes","Nave Industrial o Grandes Almacenes","Nave Industrial o Grandes Almacenes","Nave Industrial o Grandes Almacenes","Nave Industrial o Grandes Almacenes","Nave Industrial o Grandes Almacenes","Nave Industrial o Grandes Almacenes","Nave Industrial o Grandes Almacenes","Nave Industrial o Grandes Almacenes","Nave Industrial o Grandes Almacenes","Nave Industrial o Grandes Almacenes"]
["08 Torres De Transmisión","Hospedaje y Hoteles","Hospedaje y Hoteles","Hospedaje y Hoteles","Hospedaje y Hoteles","Hospedaje y Hoteles","Hospedaje y Hoteles","Hospedaje y Hoteles","Hospedaje y Hoteles","Hospedaje y Hoteles","Hospedaje y Hoteles","Hospedaje y Hoteles"]
["09 Instalaciones Sanitarias","Actividades Recreacionales/de culto","Actividades Recreacionales/de culto","Actividades Recreacionales/de culto","Actividades Recreacionales/de culto","Actividades Recreacionales/de culto","Actividades Recreacionales/de culto","Actividades Recreacionales/de culto","Actividades Recreacionales/de culto","Actividades Recreacionales/de culto","Actividades Recreacionales/de culto","Actividades Recreacionales/de culto"]
["10 Instalaciones Eléctricas","Gasolineras","Gasolineras","Gasolineras","Gasolineras","Gasolineras","Gasolineras","Gasolineras","Gasolineras","Gasolineras","Gasolineras","Gasolineras"]
["11 Tuberías Enterradas"]
["12 Muelles o Puertos"]
["13 Estructuras Hidráulicas"]
["14 Sist. De Drenaje, Riego o Alcantarillado"]
["15 Represas de Agua"]
["16 Aeropuertos"]
["17 Sistemas De Gas Natural"]
["18 Sist De Instalaciones Petroleras Y Petroquímicas"]
["19 Plantas De Tratamiento De Agua"]
["20 Centrales Eléctricas o Hidroeléctricas"]
["21 Estaciones Telemétricas"]
["22 Estaciones De Tren"]
["23 Estructuras Especiales (Otros)"]

{"sheet":"Matriz_Pisos","index":10,"n_rows":188,"n_cols":31,"rows_kept":188,"hidden":true}
["1.0AC_piso","2.0AQ_piso","3.0CA_piso","4.0CP_piso","5.0DL_piso","6.0EM_piso","7.0M1_piso","8.0M2R_piso","9.0M2F_piso","10.0M3_piso","11.0IC_piso","12.0EE_piso",{"$nulls":3},"PISOS","SOTANOS",{"$nulls":3},"LLAVE",{"$nulls":4},"LLAVE2",{"$nulls":3},"LLAVE3"]
[1,1,1,1,1,1,1,1,1,1,1,1,null,null,"1.0AC Portico de acero arriostrado con diagonales ",40,15,null,"1.0AC Portico de acero arriostrado con diagonales",1,{"$f":"S2&T2","v":"1.0AC Portico de acero arriostrado con diagonales1"},1,null,"1.0AC Portico de acero arriostrado con diagonales",0,{"$f":"X2&Y2","v":"1.0AC Portico de acero arriostrado con diagonales0"},1,"1.0AC Portico de acero arriostrado con diagonales","Vivienda",{"$f":"AB2&AC2","v":"1.0AC Portico de acero arriostrado con diagonalesVivienda"},1]
[2,2,2,2,2,2,2,2,2,2,2,2,null,null,"2.0AQ Adobe y quincha ",2,0,null,"1.0AC Portico de acero arriostrado con diagonales",2,{"$f":"S3&T3","v":"1.0AC Portico de acero arriostrado con diagonales2"},1,null,"1.0AC Portico de acero arriostrado con diagonales",1,{"$f":"X3&Y3","v":"1.0AC Portico de acero arriostrado con diagonales1"},1,"1.0AC Portico de acero arriostrado con diagonales","Oficina",{"$f":"AB3&AC3","v":"1.0AC Portico de acero arriostrado con diagonalesOficina"},1]
[3,3,3,3,3,3,3,3,3,3,3,3,null,null,"3.0CA Porticos de concreto armado ",10,15,null,"1.0AC Portico de acero arriostrado con diagonales",3,"1.0AC Portico de acero arriostrado con diagonales3",1,null,"1.0AC Portico de acero arriostrado con diagonales",2,"1.0AC Portico de acero arriostrado con diagonales2",1,"1.0AC Portico de acero arriostrado con diagonales","Centro Educativo","1.0AC Portico de acero arriostrado con diagonalesCentro Educativo",1]
[4,null,4,4,4,null,4,4,4,null,4,4,null,null,"4.0CP Porticos de concreto armado con placas ",40,15,null,"1.0AC Portico de acero arriostrado con diagonales",4,"1.0AC Portico de acero arriostrado con diagonales4",1,null,"1.0AC Portico de acero arriostrado con diagonales",3,"1.0AC Portico de acero arriostrado con diagonales3",1,"1.0AC Portico de acero arriostrado con diagonales","Centro De Salud","1.0AC Portico de acero arriostrado con diagonalesCentro De Salud",1]
[5,null,5,5,5,null,5,5,5,null,5,5,null,null,"5.0DL Muros de concreto armado de ductibilidad limitada ",8,0,null,"1.0AC Portico de acero arriostrado con diagonales",5,"1.0AC Portico de acero arriostrado con diagonales5",1,null,"1.0AC Portico de acero arriostrado con diagonales",4,"1.0AC Portico de acero arriostrado con diagonales4",1,"1.0AC Portico de acero arriostrado con diagonales","Taller","1.0AC Portico de acero arriostrado con diagonalesTaller",1]
[6,null,6,6,6,null,6,6,6,null,null,6,null,null,"6.0EM Entramados de madera ",3,0,null,"1.0AC Portico de acero arriostrado con diagonales",6,"1.0AC Portico de acero arriostrado con diagonales6",1,null,"1.0AC Portico de acero arriostrado con diagonales",5,"1.0AC Portico de acero arriostrado con diagonales5",1,"1.0AC Portico de acero arriostrado con diagonales","Comercio","1.0AC Portico de acero arriostrado con diagonalesComercio",1]
[7,null,7,7,7,{"$nulls":6},7,null,null,"7.0M1 Mamposteria de arcilla sin refuerzo ",2,0,null,"1.0AC Portico de acero arriostrado con diagonales",7,"1.0AC Portico de acero arriostrado con diagonales7",1,null,"1.0AC Portico de acero arriostrado con diagonales",6,"1.0AC Portico de acero arriostrado con diagonales6",1,"1.0AC Portico de acero arriostrado con diagonales","Nave Industrial O Grandes Almacenes","1.0AC Portico de acero arriostrado con diagonalesNave Industrial O Grandes Almacenes",1]
[8,null,8,8,8,{"$nulls":6},8,null,null,"8.0M2R Mamposteria de arcilla o confinada con diafragmas rígidos ",4,1,null,"1.0AC Portico de acero arriostrado con diagonales",8,"1.0AC Portico de acero arriostrado con diagonales8",1,null,"1.0AC Portico de acero arriostrado con diagonales",7,"1.0AC Portico de acero arriostrado con diagonales7",1,"1.0AC Portico de acero arriostrado con diagonales","Hospedaje Y Hoteles","1.0AC Portico de acero arriostrado con diagonalesHospedaje Y Hoteles",1]
[9,null,9,9,9,{"$nulls":6},9,null,null,"9.0M2F Mamposteria de arcilla o confinada con diafragmas flexibles  ",4,1,null,"1.0AC Portico de acero arriostrado con diagonales",9,"1.0AC Portico de acero arriostrado con diagonales9",1,null,"1.0AC Portico de acero arriostrado con diagonales",8,"1.0AC Portico de acero arriostrado con diagonales8",1,"1.0AC Portico de acero arriostrado con diagonales","Actividades Recreacionales/de culto","1.0AC Portico de acero arriostrado con diagonalesActividades Recreacionales/de culto",1]
[10,null,10,10,10,{"$nulls":6},10,null,null,"10.0M3 Construccion informal en albañileria ",2,0,null,"1.0AC Portico de acero arriostrado con diagonales",10,"1.0AC Portico de acero arriostrado con diagonales10",1,null,"1.0AC Portico de acero arriostrado con diagonales",9,"1.0AC Portico de acero arriostrado con diagonales9",1,"1.0AC Portico de acero arriostrado con diagonales","Gasolineras","1.0AC Portico de acero arriostrado con diagonalesGasolineras",1]
[11,null,11,11,11,{"$nulls":6},11,null,null,"11.0IC Estructuras industriales / comerciales ",1,0,null,"1.0AC Portico de acero arriostrado con diagonales",11,"1.0AC Portico de acero arriostrado con diagonales11",1,null,"1.0AC Portico de acero arriostrado con diagonales",10,"1.0AC Portico de acero arriostrado con diagonales10",1,"2.0AQ Adobe y quincha","Vivienda","2.0AQ Adobe y quinchaVivienda",1]
[12,null,12,12,12,{"$nulls":6},12,null,null,"12.0EE Estructuras especiales ",10,3,null,"1.0AC Portico de acero arriostrado con diagonales",12,"1.0AC Portico de acero arriostrado con diagonales12",1,null,"1.0AC Portico de acero arriostrado con diagonales",11,"1.0AC Portico de acero arriostrado con diagonales11",1,"2.0AQ Adobe y quincha","Oficina","2.0AQ Adobe y quinchaOficina",1]
[13,null,13,13,13,{"$nulls":6},13,{"$nulls":6},"1.0AC Portico de acero arriostrado con diagonales",13,"1.0AC Portico de acero arriostrado con diagonales13",1,null,"1.0AC Portico de acero arriostrado con diagonales",12,"1.0AC Portico de acero arriostrado con diagonales12",1,"2.0AQ Adobe y quincha","Centro Educativo","2.0AQ Adobe y quinchaCentro Educativo",1]
[14,null,14,14,14,{"$nulls":6},14,null,null,"1.0AC Portico de acero arriostrado con diagonales",{"$nulls":3},"1.0AC Portico de acero arriostrado con diagonales",14,"1.0AC Portico de acero arriostrado con diagonales14",1,null,"1.0AC Portico de acero arriostrado con diagonales",13,"1.0AC Portico de acero arriostrado con diagonales13",1,"2.0AQ Adobe y quincha","Centro De Salud","2.0AQ Adobe y quinchaCentro De Salud",1]
[15,null,15,15,15,{"$nulls":6},15,null,null,"2.0AQ Adobe y quincha",{"$nulls":3},"1.0AC Portico de acero arriostrado con diagonales",15,"1.0AC Portico de acero arriostrado con diagonales15",1,null,"1.0AC Portico de acero arriostrado con diagonales",14,"1.0AC Portico de acero arriostrado con diagonales14",1,"2.0AQ Adobe y quincha","Taller","2.0AQ Adobe y quinchaTaller",1]
[16,null,16,16,16,{"$nulls":9},"3.0CA Porticos de concreto armado",{"$nulls":3},"1.0AC Portico de acero arriostrado con diagonales",16,"1.0AC Portico de acero arriostrado con diagonales16",1,null,"1.0AC Portico de acero arriostrado con diagonales",15,"1.0AC Portico de acero arriostrado con diagonales15",1,"2.0AQ Adobe y quincha","Comercio","2.0AQ Adobe y quinchaComercio",1]
[17,null,17,17,17,{"$nulls":9},"4.0CP Porticos de concreto armado con placas",{"$nulls":3},"1.0AC Portico de acero arriostrado con diagonales",17,"1.0AC Portico de acero arriostrado con diagonales17",1,null,"2.0AQ Adobe y quincha",0,"2.0AQ Adobe y quincha0",1,"2.0AQ Adobe y quincha","Nave Industrial O Grandes Almacenes","2.0AQ Adobe y quinchaNave Industrial O Grandes Almacenes",1]
[18,null,18,18,18,{"$nulls":9},"5.0DL Muros de concreto armado de ductibilidad limitada",{"$nulls":3},"1.0AC Portico de acero arriostrado con diagonales",18,"1.0AC Portico de acero arriostrado con diagonales18",1,null,"3.0CA Porticos de concreto armado",0,"3.0CA Porticos de concreto armado0",1,"2.0AQ Adobe y quincha","Hospedaje Y Hoteles","2.0AQ Adobe y quinchaHospedaje Y Hoteles",1]
[19,null,19,19,19,{"$nulls":9},"6.0EM Entramados de madera",{"$nulls":3},"1.0AC Portico de acero arriostrado con diagonales",19,"1.0AC Portico de acero arriostrado con diagonales19",1,null,"3.0CA Porticos de concreto armado",1,"3.0CA Porticos de concreto armado1",1,"2.0AQ Adobe y quincha","Actividades Recreacionales/de culto","2.0AQ Adobe y quinchaActividades Recreacionales/de culto",1]
[20,null,20,20,20,{"$nulls":9},"7.0M1 Mamposteria de arcilla sin refuerzo",{"$nulls":3},"1.0AC Portico de acero arriostrado con diagonales",20,"1.0AC Portico de acero arriostrado con diagonales20",1,null,"3.0CA Porticos de concreto armado",2,"3.0CA Porticos de concreto armado2",1,"2.0AQ Adobe y quincha","Gasolineras","2.0AQ Adobe y quinchaGasolineras",1]
[21,null,null,21,{"$nulls":10},"8.0M2R Mamposteria de arcilla o confinada con diafragmas rígidos",{"$nulls":3},"1.0AC Portico de acero arriostrado con diagonales",21,"1.0AC Portico de acero arriostrado con diagonales21",1,null,"3.0CA Porticos de concreto armado",3,"3.0CA Porticos de concreto armado3",1,"3.0CA Porticos de concreto armado","Vivienda","3.0CA Porticos de concreto armadoVivienda",1]
[22,null,null,22,{"$nulls":10},"9.0M2F Mamposteria de arcilla o confinada con diafragmas flexibles",{"$nulls":3},"1.0AC Portico de acero arriostrado con diagonales",22,"1.0AC Portico de acero arriostrado con diagonales22",1,null,"3.0CA Porticos de concreto armado",4,"3.0CA Porticos de concreto armado4",1,"3.0CA Porticos de concreto armado","Oficina","3.0CA Porticos de concreto armadoOficina",1]
[23,null,null,23,{"$nulls":10},"10.0M3 Construccion informal en albañileria",{"$nulls":3},"1.0AC Portico de acero arriostrado con diagonales",23,"1.0AC Portico de acero arriostrado con diagonales23",1,null,"3.0CA Porticos de concreto armado",5,"3.0CA Porticos de concreto armado5",1,"3.0CA Porticos de concreto armado","Centro Educativo","3.0CA Porticos de concreto armadoCentro Educativo",1]
[24,null,null,24,{"$nulls":10},"11.0IC Estructuras industriales / comerciales",{"$nulls":3},"1.0AC Portico de acero arriostrado con diagonales",24,"1.0AC Portico de acero arriostrado con diagonales24",1,null,"3.0CA Porticos de concreto armado",6,"3.0CA Porticos de concreto armado6",1,"3.0CA Porticos de concreto armado","Centro De Salud","3.0CA Porticos de concreto armadoCentro De Salud",1]
[25,null,null,25,{"$nulls":10},"12.0EE Estructuras especiales",{"$nulls":3},"1.0AC Portico de acero arriostrado con diagonales",25,"1.0AC Portico de acero arriostrado con diagonales25",1,null,"3.0CA Porticos de concreto armado",7,"3.0CA Porticos de concreto armado7",1,"3.0CA Porticos de concreto armado","Taller","3.0CA Porticos de concreto armadoTaller",1]
[26,null,null,26,{"$nulls":14},"1.0AC Portico de acero arriostrado con diagonales",26,"1.0AC Portico de acero arriostrado con diagonales26",1,null,"3.0CA Porticos de concreto armado",8,"3.0CA Porticos de concreto armado8",1,"3.0CA Porticos de concreto armado","Comercio","3.0CA Porticos de concreto armadoComercio",1]
[27,null,null,27,{"$nulls":14},"1.0AC Portico de acero arriostrado con diagonales",27,"1.0AC Portico de acero arriostrado con diagonales27",1,null,"3.0CA Porticos de concreto armado",9,"3.0CA Porticos de concreto armado9",1,"3.0CA Porticos de concreto armado","Nave Industrial O Grandes Almacenes","3.0CA Porticos de concreto armadoNave Industrial O Grandes Almacenes",1]
[28,null,null,28,{"$nulls":14},"1.0AC Portico de acero arriostrado con diagonales",28,"1.0AC Portico de acero arriostrado con diagonales28",1,null,"3.0CA Porticos de concreto armado",10,"3.0CA Porticos de concreto armado10",1,"3.0CA Porticos de concreto armado","Hospedaje Y Hoteles","3.0CA Porticos de concreto armadoHospedaje Y Hoteles",1]
[29,null,null,29,{"$nulls":14},"1.0AC Portico de acero arriostrado con diagonales",29,"1.0AC Portico de acero arriostrado con diagonales29",1,null,"4.0CP Porticos de concreto armado con placas",0,"4.0CP Porticos de concreto armado con placas0",1,"3.0CA Porticos de concreto armado","Actividades Recreacionales/de culto","3.0CA Porticos de concreto armadoActividades Recreacionales/de culto",1]
[30,null,null,30,{"$nulls":14},"1.0AC Portico de acero arriostrado con diagonales",30,"1.0AC Portico de acero arriostrado con diagonales30",1,null,"4.0CP Porticos de concreto armado con placas",1,"4.0CP Porticos de concreto armado con placas1",1,"3.0CA Porticos de concreto armado","Gasolineras","3.0CA Porticos de concreto armadoGasolineras",1]
[31,null,null,31,{"$nulls":14},"1.0AC Portico de acero arriostrado con diagonales",31,"1.0AC Portico de acero arriostrado con diagonales31",1,null,"4.0CP Porticos de concreto armado con placas",2,"4.0CP Porticos de concreto armado con placas2",1,"4.0CP Porticos de concreto armado con placas","Vivienda","4.0CP Porticos de concreto armado con placasVivienda",1]
[32,null,null,32,{"$nulls":14},"1.0AC Portico de acero arriostrado con diagonales",32,"1.0AC Portico de acero arriostrado con diagonales32",1,null,"4.0CP Porticos de concreto armado con placas",3,"4.0CP Porticos de concreto armado con placas3",1,"4.0CP Porticos de concreto armado con placas","Oficina","4.0CP Porticos de concreto armado con placasOficina",1]
[33,null,null,33,{"$nulls":14},"1.0AC Portico de acero arriostrado con diagonales",33,"1.0AC Portico de acero arriostrado con diagonales33",1,null,"4.0CP Porticos de concreto armado con placas",4,{"$f":"X34&Y34","v":"4.0CP Porticos de concreto armado con placas4"},1,"4.0CP Porticos de concreto armado con placas","Centro Educativo","4.0CP Porticos de concreto armado con placasCentro Educativo",1]
[34,null,null,34,{"$nulls":14},"1.0AC Portico de acero arriostrado con diagonales",34,"1.0AC Portico de acero arriostrado con diagonales34",1,null,"4.0CP Porticos de concreto armado con placas",5,"4.0CP Porticos de concreto armado con placas5",1,"4.0CP Porticos de concreto armado con placas","Centro De Salud","4.0CP Porticos de concreto armado con placasCentro De Salud",1]
[35,null,null,35,{"$nulls":14},"1.0AC Portico de acero arriostrado con diagonales",35,"1.0AC Portico de acero arriostrado con diagonales35",1,null,"4.0CP Porticos de concreto armado con placas",6,"4.0CP Porticos de concreto armado con placas6",1,"4.0CP Porticos de concreto armado con placas","Taller","4.0CP Porticos de concreto armado con placasTaller",1]
[36,null,null,36,{"$nulls":14},"1.0AC Portico de acero arriostrado con diagonales",36,"1.0AC Portico de acero arriostrado con diagonales36",1,null,"4.0CP Porticos de concreto armado con placas",7,"4.0CP Porticos de concreto armado con placas7",1,"4.0CP Porticos de concreto armado con placas","Comercio","4.0CP Porticos de concreto armado con placasComercio",1]
[37,null,null,37,{"$nulls":14},"1.0AC Portico de acero arriostrado con diagonales",37,"1.0AC Portico de acero arriostrado con diagonales37",1,null,"4.0CP Porticos de concreto armado con placas",8,"4.0CP Porticos de concreto armado con placas8",1,"4.0CP Porticos de concreto armado con placas","Nave Industrial O Grandes Almacenes","4.0CP Porticos de concreto armado con placasNave Industrial O Grandes Almacenes",1]
[38,null,null,38,{"$nulls":14},"1.0AC Portico de acero arriostrado con diagonales",38,"1.0AC Portico de acero arriostrado con diagonales38",1,null,"4.0CP Porticos de concreto armado con placas",9,"4.0CP Porticos de concreto armado con placas9",1,"4.0CP Porticos de concreto armado con placas","Hospedaje Y Hoteles","4.0CP Porticos de concreto armado con placasHospedaje Y Hoteles",1]
[39,null,null,39,{"$nulls":14},"1.0AC Portico de acero arriostrado con diagonales",39,"1.0AC Portico de acero arriostrado con diagonales39",1,null,"4.0CP Porticos de concreto armado con placas",10,"4.0CP Porticos de concreto armado con placas10",1,"4.0CP Porticos de concreto armado con placas","Actividades Recreacionales/de culto","4.0CP Porticos de concreto armado con placasActividades Recreacionales/de culto",1]
[40,null,null,40,{"$nulls":14},"1.0AC Portico de acero arriostrado con diagonales",40,"1.0AC Portico de acero arriostrado con diagonales40",1,null,"4.0CP Porticos de concreto armado con placas",11,"4.0CP Porticos de concreto armado con placas11",1,"4.0CP Porticos de concreto armado con placas","Gasolineras","4.0CP Porticos de concreto armado con placasGasolineras",1]
[41,null,null,41,{"$nulls":14},"1.0AC Portico de acero arriostrado con diagonales",41,"1.0AC Portico de acero arriostrado con diagonales41",1,null,"4.0CP Porticos de concreto armado con placas",12,"4.0CP Porticos de concreto armado con placas12",1,"5.0DL Muros de concreto armado de ductibilidad limitada","Vivienda","5.0DL Muros de concreto armado de ductibilidad limitadaVivienda",1]
[42,null,null,42,{"$nulls":14},"1.0AC Portico de acero arriostrado con diagonales",42,"1.0AC Portico de acero arriostrado con diagonales42",1,null,"4.0CP Porticos de concreto armado con placas",13,"4.0CP Porticos de concreto armado con placas13",1,"5.0DL Muros de concreto armado de ductibilidad limitada","Oficina","5.0DL Muros de concreto armado de ductibilidad limitadaOficina",1]
[43,null,null,43,{"$nulls":14},"1.0AC Portico de acero arriostrado con diagonales",43,"1.0AC Portico de acero arriostrado con diagonales43",1,null,"4.0CP Porticos de concreto armado con placas",14,"4.0CP Porticos de concreto armado con placas14",1,"5.0DL Muros de concreto armado de ductibilidad limitada","Centro Educativo","5.0DL Muros de concreto armado de ductibilidad limitadaCentro Educativo",1]
[44,null,null,44,{"$nulls":14},"1.0AC Portico de acero arriostrado con diagonales",44,"1.0AC Portico de acero arriostrado con diagonales44",1,null,"4.0CP Porticos de concreto armado con placas",15,"4.0CP Porticos de concreto armado con placas15",1,"5.0DL Muros de concreto armado de ductibilidad limitada","Centro De Salud","5.0DL Muros de concreto armado de ductibilidad limitadaCentro De Salud",1]
[45,null,null,45,{"$nulls":14},"1.0AC Portico de acero arriostrado con diagonales",45,"1.0AC Portico de acero arriostrado con diagonales45",1,null,"5.0DL Muros de concreto armado de ductibilidad limitada",0,"5.0DL Muros de concreto armado de ductibilidad limitada0",1,"5.0DL Muros de concreto armado de ductibilidad limitada","Taller","5.0DL Muros de concreto armado de ductibilidad limitadaTaller",1]
[46,null,null,46,{"$nulls":14},"1.0AC Portico de acero arriostrado con diagonales",46,"1.0AC Portico de acero arriostrado con diagonales46",1,null,"6.0EM Entramados de madera",0,"6.0EM Entramados de madera0",1,"5.0DL Muros de concreto armado de ductibilidad limitada","Comercio","5.0DL Muros de concreto armado de ductibilidad limitadaComercio",1]
[47,null,null,47,{"$nulls":14},"1.0AC Portico de acero arriostrado con diagonales",47,"1.0AC Portico de acero arriostrado con diagonales47",1,null,"7.0M1 Mamposteria De Arcilla Sin Refuerzo",0,"7.0M1 Mamposteria De Arcilla Sin Refuerzo0",1,"5.0DL Muros de concreto armado de ductibilidad limitada","Nave Industrial O Grandes Almacenes","5.0DL Muros de concreto armado de ductibilidad limitadaNave Industrial O Grandes Almacenes",1]
[48,null,null,48,{"$nulls":14},"1.0AC Portico de acero arriostrado con diagonales",48,"1.0AC Portico de acero arriostrado con diagonales48",1,null,"8.0M2R Mamposteria de arcilla o confinada con diafragmas rígidos",0,{"$f":"X49&Y49","v":"8.0M2R Mamposteria de arcilla o confinada con diafragmas rígidos0"},1,"5.0DL Muros de concreto armado de ductibilidad limitada","Hospedaje Y Hoteles",{"$f":"AB49&AC49","v":"5.0DL Muros de concreto armado de ductibilidad limitadaHospedaje Y Hoteles"},1]
[49,null,null,49,{"$nulls":14},"1.0AC Portico de acero arriostrado con diagonales",49,"1.0AC Portico de acero arriostrado con diagonales49",1,null,"8.0M2R Mamposteria de arcilla o confinada con diafragmas rígidos",1,"8.0M2R Mamposteria de arcilla o confinada con diafragmas rígidos1",1,"5.0DL Muros de concreto armado de ductibilidad limitada","Actividades Recreacionales/de culto","5.0DL Muros de concreto armado de ductibilidad limitadaActividades Recreacionales/de culto",1]
[50,null,null,50,{"$nulls":14},"1.0AC Portico de acero arriostrado con diagonales",50,"1.0AC Portico de acero arriostrado con diagonales50",1,null,"9.0M2F Mamposteria de arcilla o confinada con diafragmas flexibles",0,"9.0M2F Mamposteria de arcilla o confinada con diafragmas flexibles0",1,"5.0DL Muros de concreto armado de ductibilidad limitada","Gasolineras","5.0DL Muros de concreto armado de ductibilidad limitadaGasolineras",1]
[{"$nulls":18},"2.0AQ Adobe y quincha",1,{"$f":"S52&T52","v":"2.0AQ Adobe y quincha1"},1,null,"9.0M2F Mamposteria de arcilla o confinada con diafragmas flexibles",1,"9.0M2F Mamposteria de arcilla o confinada con diafragmas flexibles1",1,"6.0EM Entramados de madera","Vivienda","6.0EM Entramados de maderaVivienda",1]
["1.0AC_sotano","2.0AQ_sotano","3.0CA_sotano","4.0CP_sotano","5.0DL_sotano","6.0EM_sotano","7.0M1_sotano","8.0M2R_sotano","9.0M2F_sotano","10.0M3_sotano","11.0IC_sotano","12.0EE_sotano",{"$nulls":6},"2.0AQ Adobe y quincha",2,{"$f":"S53&T53","v":"2.0AQ Adobe y quincha2"},1,null,"10.0M3 Construccion informal en albañileria",0,"10.0M3 Construccion informal en albañileria0",1,"6.0EM Entramados de madera","Oficina","6.0EM Entramados de maderaOficina",1]
[0,0,0,0,0,0,0,0,0,0,0,0,{"$nulls":6},"2.0AQ Adobe y quincha",3,{"$f":"S54&T54","v":"2.0AQ Adobe y quincha3"},1,null,"11.0IC Estructuras industriales / comerciales",0,"11.0IC Estructuras industriales / comerciales0",1,"6.0EM Entramados de madera","Centro Educativo","6.0EM Entramados de maderaCentro Educativo",1]
[1,null,1,1,{"$nulls":3},1,1,null,null,1,{"$nulls":6},"3.0CA Porticos de concreto armado",1,{"$f":"S55&T55","v":"3.0CA Porticos de concreto armado1"},1,null,"12.0EE Estructuras especiales",0,"12.0EE Estructuras especiales0",1,"6.0EM Entramados de madera","Centro De Salud","6.0EM Entramados de maderaCentro De Salud",1]
[2,null,2,2,{"$nulls":7},2,{"$nulls":6},"3.0CA Porticos de concreto armado",2,"3.0CA Porticos de concreto armado2",1,null,"12.0EE Estructuras especiales",1,"12.0EE Estructuras especiales1",1,"6.0EM Entramados de madera","Taller","6.0EM Entramados de maderaTaller",1]
[3,null,3,3,{"$nulls":7},3,{"$nulls":6},"3.0CA Porticos de concreto armado",3,"3.0CA Porticos de concreto armado3",1,null,"12.0EE Estructuras especiales",2,"12.0EE Estructuras especiales2",1,"6.0EM Entramados de madera","Comercio","6.0EM Entramados de maderaComercio",1]
[4,null,4,4,{"$nulls":14},"3.0CA Porticos de concreto armado",4,"3.0CA Porticos de concreto armado4",1,null,"12.0EE Estructuras especiales",3,"12.0EE Estructuras especiales3",1,"6.0EM Entramados de madera","Nave Industrial O Grandes Almacenes","6.0EM Entramados de maderaNave Industrial O Grandes Almacenes",1]
[5,null,5,5,{"$nulls":14},"3.0CA Porticos de concreto armado",5,"3.0CA Porticos de concreto armado5",1,{"$nulls":5},"6.0EM Entramados de madera","Hospedaje Y Hoteles","6.0EM Entramados de maderaHospedaje Y Hoteles",1]
[6,null,6,6,{"$nulls":14},"3.0CA Porticos de concreto armado",6,"3.0CA Porticos de concreto armado6",1,{"$nulls":5},"6.0EM Entramados de madera","Actividades Recreacionales/de culto","6.0EM Entramados de maderaActividades Recreacionales/de culto",1]
[7,null,7,7,{"$nulls":14},"3.0CA Porticos de concreto armado",7,"3.0CA Porticos de concreto armado7",1,{"$nulls":5},"6.0EM Entramados de madera","Gasolineras","6.0EM Entramados de maderaGasolineras",1]
[8,null,8,8,{"$nulls":14},"3.0CA Porticos de concreto armado",8,"3.0CA Porticos de concreto armado8",1,{"$nulls":5},"7.0M1 Mamposteria De Arcilla Sin Refuerzo","Vivienda","7.0M1 Mamposteria De Arcilla Sin RefuerzoVivienda",1]
[9,null,9,9,{"$nulls":14},"3.0CA Porticos de concreto armado",9,"3.0CA Porticos de concreto armado9",1,{"$nulls":5},"7.0M1 Mamposteria De Arcilla Sin Refuerzo","Oficina","7.0M1 Mamposteria De Arcilla Sin RefuerzoOficina",1]
[10,null,10,10,{"$nulls":14},"3.0CA Porticos de concreto armado",10,"3.0CA Porticos de concreto armado10",1,{"$nulls":5},"7.0M1 Mamposteria De Arcilla Sin Refuerzo","Centro Educativo","7.0M1 Mamposteria De Arcilla Sin RefuerzoCentro Educativo",1]
[11,null,11,11,{"$nulls":14},"3.0CA Porticos de concreto armado",11,{"$f":"S65&T65","v":"3.0CA Porticos de concreto armado11"},1,{"$nulls":5},"7.0M1 Mamposteria De Arcilla Sin Refuerzo","Centro De Salud","7.0M1 Mamposteria De Arcilla Sin RefuerzoCentro De Salud",1]
[12,null,12,12,{"$nulls":14},"3.0CA Porticos de concreto armado",12,"3.0CA Porticos de concreto armado12",1,{"$nulls":5},"7.0M1 Mamposteria De Arcilla Sin Refuerzo","Taller","7.0M1 Mamposteria De Arcilla Sin RefuerzoTaller",1]
[13,null,13,13,{"$nulls":14},"3.0CA Porticos de concreto armado",13,"3.0CA Porticos de concreto armado13",1,{"$nulls":5},"7.0M1 Mamposteria De Arcilla Sin Refuerzo","Comercio",{"$f":"AB67&AC67","v":"7.0M1 Mamposteria De Arcilla Sin RefuerzoComercio"},1]
[14,null,14,14,{"$nulls":14},"3.0CA Porticos de concreto armado",14,"3.0CA Porticos de concreto armado14",1,{"$nulls":5},"7.0M1 Mamposteria De Arcilla Sin Refuerzo","Nave Industrial O Grandes Almacenes","7.0M1 Mamposteria De Arcilla Sin RefuerzoNave Industrial O Grandes Almacenes",1]
[15,null,15,15,{"$nulls":14},"3.0CA Porticos de concreto armado",15,"3.0CA Porticos de concreto armado15",1,{"$nulls":5},"7.0M1 Mamposteria De Arcilla Sin Refuerzo","Hospedaje Y Hoteles","7.0M1 Mamposteria De Arcilla Sin RefuerzoHospedaje Y Hoteles",1]
[{"$nulls":18},"3.0CA Porticos de concreto armado",16,"3.0CA Porticos de concreto armado16",1,{"$nulls":5},"7.0M1 Mamposteria De Arcilla Sin Refuerzo","Actividades Recreacionales/de culto","7.0M1 Mamposteria De Arcilla Sin RefuerzoActividades Recreacionales/de culto",1]
[{"$nulls":18},"3.0CA Porticos de concreto armado",17,"3.0CA Porticos de concreto armado17",1,{"$nulls":5},"7.0M1 Mamposteria De Arcilla Sin Refuerzo","Gasolineras","7.0M1 Mamposteria De Arcilla Sin RefuerzoGasolineras",1]
[{"$nulls":18},"3.0CA Porticos de concreto armado",18,"3.0CA Porticos de concreto armado18",1,{"$nulls":5},"8.0M2R Mamposteria de arcilla o confinada con diafragmas rígidos","Vivienda","8.0M2R Mamposteria de arcilla o confinada con diafragmas rígidosVivienda",1]
[{"$nulls":18},"3.0CA Porticos de concreto armado",19,"3.0CA Porticos de concreto armado19",1,{"$nulls":5},"8.0M2R Mamposteria de arcilla o confinada con diafragmas rígidos","Oficina","8.0M2R Mamposteria de arcilla o confinada con diafragmas rígidosOficina",1]
[{"$nulls":18},"3.0CA Porticos de concreto armado",20,"3.0CA Porticos de concreto armado20",1,{"$nulls":5},"8.0M2R Mamposteria de arcilla o confinada con diafragmas rígidos","Centro Educativo","8.0M2R Mamposteria de arcilla o confinada con diafragmas rígidosCentro Educativo",1]
[{"$nulls":18},"4.0CP Porticos de concreto armado con placas",1,{"$f":"S75&T75","v":"4.0CP Porticos de concreto armado con placas1"},1,{"$nulls":5},"8.0M2R Mamposteria de arcilla o confinada con diafragmas rígidos","Centro De Salud","8.0M2R Mamposteria de arcilla o confinada con diafragmas rígidosCentro De Salud",1]
[{"$nulls":18},"4.0CP Porticos de concreto armado con placas",2,"4.0CP Porticos de concreto armado con placas2",1,{"$nulls":5},"8.0M2R Mamposteria de arcilla o confinada con diafragmas rígidos","Taller","8.0M2R Mamposteria de arcilla o confinada con diafragmas rígidosTaller",1]
[{"$nulls":18},"4.0CP Porticos de concreto armado con placas",3,"4.0CP Porticos de concreto armado con placas3",1,{"$nulls":5},"8.0M2R Mamposteria de arcilla o confinada con diafragmas rígidos","Comercio","8.0M2R Mamposteria de arcilla o confinada con diafragmas rígidosComercio",1]
[{"$nulls":18},"4.0CP Porticos de concreto armado con placas",4,"4.0CP Porticos de concreto armado con placas4",1,{"$nulls":5},"8.0M2R Mamposteria de arcilla o confinada con diafragmas rígidos","Nave Industrial O Grandes Almacenes","8.0M2R Mamposteria de arcilla o confinada con diafragmas rígidosNave Industrial O Grandes Almacenes",1]
[{"$nulls":18},"4.0CP Porticos de concreto armado con placas",5,"4.0CP Porticos de concreto armado con placas5",1,{"$nulls":5},"8.0M2R Mamposteria de arcilla o confinada con diafragmas rígidos","Hospedaje Y Hoteles","8.0M2R Mamposteria de arcilla o confinada con diafragmas rígidosHospedaje Y Hoteles",1]
[{"$nulls":18},"4.0CP Porticos de concreto armado con placas",6,"4.0CP Porticos de concreto armado con placas6",1,{"$nulls":5},"8.0M2R Mamposteria de arcilla o confinada con diafragmas rígidos","Actividades Recreacionales/de culto","8.0M2R Mamposteria de arcilla o confinada con diafragmas rígidosActividades Recreacionales/de culto",1]
[{"$nulls":18},"4.0CP Porticos de concreto armado con placas",7,"4.0CP Porticos de concreto armado con placas7",1,{"$nulls":5},"8.0M2R Mamposteria de arcilla o confinada con diafragmas rígidos","Gasolineras","8.0M2R Mamposteria de arcilla o confinada con diafragmas rígidosGasolineras",1]
[{"$nulls":18},"4.0CP Porticos de concreto armado con placas",8,"4.0CP Porticos de concreto armado con placas8",1,{"$nulls":5},"9.0M2F Mamposteria de arcilla o confinada con diafragmas flexibles","Vivienda","9.0M2F Mamposteria de arcilla o confinada con diafragmas flexiblesVivienda",1]
[{"$nulls":18},"4.0CP Porticos de concreto armado con placas",9,"4.0CP Porticos de concreto armado con placas9",1,{"$nulls":5},"9.0M2F Mamposteria de arcilla o confinada con diafragmas flexibles","Oficina","9.0M2F Mamposteria de arcilla o confinada con diafragmas flexiblesOficina",1]
[{"$nulls":18},"4.0CP Porticos de concreto armado con placas",10,"4.0CP Porticos de concreto armado con placas10",1,{"$nulls":5},"9.0M2F Mamposteria de arcilla o confinada con diafragmas flexibles","Centro Educativo","9.0M2F Mamposteria de arcilla o confinada con diafragmas flexiblesCentro Educativo",1]
[{"$nulls":18},"4.0CP Porticos de concreto armado con placas",11,"4.0CP Porticos de concreto armado con placas11",1,{"$nulls":5},"9.0M2F Mamposteria de arcilla o confinada con diafragmas flexibles","Centro De Salud","9.0M2F Mamposteria de arcilla o confinada con diafragmas flexiblesCentro De Salud",1]
[{"$nulls":18},"4.0CP Porticos de concreto armado con placas",12,"4.0CP Porticos de concreto armado con placas12",1,{"$nulls":5},"9.0M2F Mamposteria de arcilla o confinada con diafragmas flexibles","Taller","9.0M2F Mamposteria de arcilla o confinada con diafragmas flexiblesTaller",1]
[{"$nulls":18},"4.0CP Porticos de concreto armado con placas",13,"4.0CP Porticos de concreto armado con placas13",1,{"$nulls":5},"9.0M2F Mamposteria de arcilla o confinada con diafragmas flexibles","Comercio","9.0M2F Mamposteria de arcilla o confinada con diafragmas flexiblesComercio",1]
[{"$nulls":18},"4.0CP Porticos de concreto armado con placas",14,{"$f":"S88&T88","v":"4.0CP Porticos de concreto armado con placas14"},1,{"$nulls":5},"9.0M2F Mamposteria de arcilla o confinada con diafragmas flexibles","Nave Industrial O Grandes Almacenes","9.0M2F Mamposteria de arcilla o confinada con diafragmas flexiblesNave Industrial O Grandes Almacenes",1]
[{"$nulls":18},"4.0CP Porticos de concreto armado con placas",15,"4.0CP Porticos de concreto armado con placas15",1,{"$nulls":5},"9.0M2F Mamposteria de arcilla o confinada con diafragmas flexibles","Hospedaje Y Hoteles","9.0M2F Mamposteria de arcilla o confinada con diafragmas flexiblesHospedaje Y Hoteles",1]
[{"$nulls":18},"4.0CP Porticos de concreto armado con placas",16,"4.0CP Porticos de concreto armado con placas16",1,{"$nulls":5},"9.0M2F Mamposteria de arcilla o confinada con diafragmas flexibles","Actividades Recreacionales/de culto","9.0M2F Mamposteria de arcilla o confinada con diafragmas flexiblesActividades Recreacionales/de culto",1]
[{"$nulls":18},"4.0CP Porticos de concreto armado con placas",17,"4.0CP Porticos de concreto armado con placas17",1,{"$nulls":5},"9.0M2F Mamposteria de arcilla o confinada con diafragmas flexibles","Gasolineras","9.0M2F Mamposteria de arcilla o confinada con diafragmas flexiblesGasolineras",1]
[{"$nulls":18},"4.0CP Porticos de concreto armado con placas",18,"4.0CP Porticos de concreto armado con placas18",1,{"$nulls":5},"10.0M3 Construccion informal en albañileria","Vivienda","10.0M3 Construccion informal en albañileriaVivienda",1]
[{"$nulls":18},"4.0CP Porticos de concreto armado con placas",19,"4.0CP Porticos de concreto armado con placas19",1,{"$nulls":5},"10.0M3 Construccion informal en albañileria","Oficina","10.0M3 Construccion informal en albañileriaOficina",1]
[{"$nulls":18},"4.0CP Porticos de concreto armado con placas",20,"4.0CP Porticos de concreto armado con placas20",1,{"$nulls":5},"10.0M3 Construccion informal en albañileria","Centro Educativo","10.0M3 Construccion informal en albañileriaCentro Educativo",1]
[{"$nulls":18},"4.0CP Porticos de concreto armado con placas",21,"4.0CP Porticos de concreto armado con placas21",1,{"$nulls":5},"10.0M3 Construccion informal en albañileria","Centro De Salud","10.0M3 Construccion informal en albañileriaCentro De Salud",1]
[{"$nulls":18},"4.0CP Porticos de concreto armado con placas",22,"4.0CP Porticos de concreto armado con placas22",1,{"$nulls":5},"10.0M3 Construccion informal en albañileria","Taller","10.0M3 Construccion informal en albañileriaTaller",1]
[{"$nulls":18},"4.0CP Porticos de concreto armado con placas",23,"4.0CP Porticos de concreto armado con placas23",1,{"$nulls":5},"10.0M3 Construccion informal en albañileria","Comercio","10.0M3 Construccion informal en albañileriaComercio",1]
[{"$nulls":18},"4.0CP Porticos de concreto armado con placas",24,"4.0CP Porticos de concreto armado con placas24",1,{"$nulls":5},"10.0M3 Construccion informal en albañileria","Nave Industrial O Grandes Almacenes","10.0M3 Construccion informal en albañileriaNave Industrial O Grandes Almacenes",1]
[{"$nulls":18},"4.0CP Porticos de concreto armado con placas",25,"4.0CP Porticos de concreto armado con placas25",1,{"$nulls":5},"10.0M3 Construccion informal en albañileria","Hospedaje Y Hoteles","10.0M3 Construccion informal en albañileriaHospedaje Y Hoteles",1]
[{"$nulls":18},"4.0CP Porticos de concreto armado con placas",26,"4.0CP Porticos de concreto armado con placas26",1,{"$nulls":5},"10.0M3 Construccion informal en albañileria","Actividades Recreacionales/de culto","10.0M3 Construccion informal en albañileriaActividades Recreacionales/de culto",1]
[{"$nulls":18},"4.0CP Porticos de concreto armado con placas",27,"4.0CP Porticos de concreto armado con placas27",1,{"$nulls":5},"10.0M3 Construccion informal en albañileria","Gasolineras","10.0M3 Construccion informal en albañileriaGasolineras",1]
[{"$nulls":18},"4.0CP Porticos de concreto armado con placas",28,"4.0CP Porticos de concreto armado con placas28",1,{"$nulls":5},"11.0IC Estructuras industriales / comerciales","Vivienda","11.0IC Estructuras industriales / comercialesVivienda",1]
[{"$nulls":18},"4.0CP Porticos de concreto armado con placas",29,"4.0CP Porticos de concreto armado con placas29",1,{"$nulls":5},"11.0IC Estructuras industriales / comerciales","Oficina","11.0IC Estructuras industriales / comercialesOficina",1]
[{"$nulls":18},"4.0CP Porticos de concreto armado con placas",30,"4.0CP Porticos de concreto armado con placas30",1,{"$nulls":5},"11.0IC Estructuras industriales / comerciales","Centro Educativo","11.0IC Estructuras industriales / comercialesCentro Educativo",1]
[{"$nulls":18},"4.0CP Porticos de concreto armado con placas",31,"4.0CP Porticos de concreto armado con placas31",1,{"$nulls":5},"11.0IC Estructuras industriales / comerciales","Centro De Salud","11.0IC Estructuras industriales / comercialesCentro De Salud",1]
[{"$nulls":18},"4.0CP Porticos de concreto armado con placas",32,"4.0CP Porticos de concreto armado con placas32",1,{"$nulls":5},"11.0IC Estructuras industriales / comerciales","Taller","11.0IC Estructuras industriales / comercialesTaller",1]
[{"$nulls":18},"4.0CP Porticos de concreto armado con placas",33,"4.0CP Porticos de concreto armado con placas33",1,{"$nulls":5},"11.0IC Estructuras industriales / comerciales","Comercio","11.0IC Estructuras industriales / comercialesComercio",1]
[{"$nulls":18},"4.0CP Porticos de concreto armado con placas",34,"4.0CP Porticos de concreto armado con placas34",1,{"$nulls":5},"11.0IC Estructuras industriales / comerciales","Nave Industrial O Grandes Almacenes","11.0IC Estructuras industriales / comercialesNave Industrial O Grandes Almacenes",1]
[{"$nulls":18},"4.0CP Porticos de concreto armado con placas",35,"4.0CP Porticos de concreto armado con placas35",1,{"$nulls":5},"11.0IC Estructuras industriales / comerciales","Hospedaje Y Hoteles","11.0IC Estructuras industriales / comercialesHospedaje Y Hoteles",1]
[{"$nulls":18},"4.0CP Porticos de concreto armado con placas",36,"4.0CP Porticos de concreto armado con placas36",1,{"$nulls":5},"11.0IC Estructuras industriales / comerciales","Actividades Recreacionales/de culto","11.0IC Estructuras industriales / comercialesActividades Recreacionales/de culto",1]
[{"$nulls":18},"4.0CP Porticos de concreto armado con placas",37,"4.0CP Porticos de concreto armado con placas37",1,{"$nulls":5},"11.0IC Estructuras industriales / comerciales","Gasolineras","11.0IC Estructuras industriales / comercialesGasolineras",1]
[{"$nulls":18},"4.0CP Porticos de concreto armado con placas",38,"4.0CP Porticos de concreto armado con placas38",1,{"$nulls":5},"12.0EE Estructuras especiales","EE Minas","12.0EE Estructuras especialesEE Minas",1]
[{"$nulls":18},"4.0CP Porticos de concreto armado con placas",39,"4.0CP Porticos de concreto armado con placas39",1,{"$nulls":5},"12.0EE Estructuras especiales","EE Carreteras","12.0EE Estructuras especialesEE Carreteras",1]
[{"$nulls":18},"4.0CP Porticos de concreto armado con placas",40,"4.0CP Porticos de concreto armado con placas40",1,{"$nulls":5},"12.0EE Estructuras especiales","EE Puentes","12.0EE Estructuras especialesEE Puentes",1]
[{"$nulls":18},"4.0CP Porticos de concreto armado con placas",41,{"$f":"S115&T115","v":"4.0CP Porticos de concreto armado con placas41"},1,{"$nulls":5},"12.0EE Estructuras especiales","EE Reservorios","12.0EE Estructuras especialesEE Reservorios",1]
[{"$nulls":18},"4.0CP Porticos de concreto armado con placas",42,"4.0CP Porticos de concreto armado con placas42",1,{"$nulls":5},"12.0EE Estructuras especiales","EE Tanques De Agua","12.0EE Estructuras especialesEE Tanques De Agua",1]
[{"$nulls":18},"4.0CP Porticos de concreto armado con placas",43,"4.0CP Porticos de concreto armado con placas43",1,{"$nulls":5},"12.0EE Estructuras especiales","EE Silos","12.0EE Estructuras especialesEE Silos",1]
[{"$nulls":18},"4.0CP Porticos de concreto armado con placas",44,"4.0CP Porticos de concreto armado con placas44",1,{"$nulls":5},"12.0EE Estructuras especiales","EE Vías Férreas","12.0EE Estructuras especialesEE Vías Férreas",1]
[{"$nulls":18},"4.0CP Porticos de concreto armado con placas",45,"4.0CP Porticos de concreto armado con placas45",1,{"$nulls":5},"12.0EE Estructuras especiales","EE Torres De Transmisión","12.0EE Estructuras especialesEE Torres De Transmisión",1]
[{"$nulls":18},"4.0CP Porticos de concreto armado con placas",46,"4.0CP Porticos de concreto armado con placas46",1,{"$nulls":5},"12.0EE Estructuras especiales","EE Instalaciones Sanitarias","12.0EE Estructuras especialesEE Instalaciones Sanitarias",1]
[{"$nulls":18},"4.0CP Porticos de concreto armado con placas",47,"4.0CP Porticos de concreto armado con placas47",1,{"$nulls":5},"12.0EE Estructuras especiales","EE Instalaciones Eléctricas","12.0EE Estructuras especialesEE Instalaciones Eléctricas",1]
[{"$nulls":18},"4.0CP Porticos de concreto armado con placas",48,"4.0CP Porticos de concreto armado con placas48",1,{"$nulls":5},"12.0EE Estructuras especiales","EE Tuberías Enterradas","12.0EE Estructuras especialesEE Tuberías Enterradas",1]
[{"$nulls":18},"4.0CP Porticos de concreto armado con placas",49,"4.0CP Porticos de concreto armado con placas49",1,{"$nulls":5},"12.0EE Estructuras especiales","EE Muelles o Puertos","12.0EE Estructuras especialesEE Muelles o Puertos",1]
[{"$nulls":18},"4.0CP Porticos de concreto armado con placas",50,"4.0CP Porticos de concreto armado con placas50",1,{"$nulls":5},"12.0EE Estructuras especiales","EE Estructuras Hidráulicas","12.0EE Estructuras especialesEE Estructuras Hidráulicas",1]
[{"$nulls":18},"5.0DL Muros de concreto armado de ductibilidad limitada",1,{"$f":"S125&T125","v":"5.0DL Muros de concreto armado de ductibilidad limitada1"},1,{"$nulls":5},"12.0EE Estructuras especiales","EE Sist. De Drenaje, Riego o Alcantarillado","12.0EE Estructuras especialesEE Sist. De Drenaje, Riego o Alcantarillado",1]
[{"$nulls":18},"5.0DL Muros de concreto armado de ductibilidad limitada",2,"5.0DL Muros de concreto armado de ductibilidad limitada2",1,{"$nulls":5},"12.0EE Estructuras especiales","EE Represas de Agua","12.0EE Estructuras especialesEE Represas de Agua",1]
[{"$nulls":18},"5.0DL Muros de concreto armado de ductibilidad limitada",3,"5.0DL Muros de concreto armado de ductibilidad limitada3",1,{"$nulls":5},"12.0EE Estructuras especiales","EE Aeropuertos","12.0EE Estructuras especialesEE Aeropuertos",1]
[{"$nulls":18},"5.0DL Muros de concreto armado de ductibilidad limitada",4,"5.0DL Muros de concreto armado de ductibilidad limitada4",1,{"$nulls":5},"12.0EE Estructuras especiales","EE Sistemas De Gas Natural","12.0EE Estructuras especialesEE Sistemas De Gas Natural",1]
[{"$nulls":18},"5.0DL Muros de concreto armado de ductibilidad limitada",5,"5.0DL Muros de concreto armado de ductibilidad limitada5",1,{"$nulls":5},"12.0EE Estructuras especiales","EE Sist De Instalaciones Petroleras Y Petroquímicas","12.0EE Estructuras especialesEE Sist De Instalaciones Petroleras Y Petroquímicas",1]
[{"$nulls":18},"5.0DL Muros de concreto armado de ductibilidad limitada",6,"5.0DL Muros de concreto armado de ductibilidad limitada6",1,{"$nulls":5},"12.0EE Estructuras especiales","EE Plantas De Tratamiento De Agua","12.0EE Estructuras especialesEE Plantas De Tratamiento De Agua",1]
[{"$nulls":18},"5.0DL Muros de concreto armado de ductibilidad limitada",7,"5.0DL Muros de concreto armado de ductibilidad limitada7",1,{"$nulls":5},"12.0EE Estructuras especiales","EE Centrales Eléctricas o Hidroeléctricas",{"$f":"AB131&AC131","v":"12.0EE Estructuras especialesEE Centrales Eléctricas o Hidroeléctricas"},1]
[{"$nulls":18},"5.0DL Muros de concreto armado de ductibilidad limitada",8,"5.0DL Muros de concreto armado de ductibilidad limitada8",1,{"$nulls":5},"12.0EE Estructuras especiales","EE Estaciones Telemétricas",{"$f":"AB132&AC132","v":"12.0EE Estructuras especialesEE Estaciones Telemétricas"},1]
[{"$nulls":18},"5.0DL Muros de concreto armado de ductibilidad limitada",9,{"$f":"S133&T133","v":"5.0DL Muros de concreto armado de ductibilidad limitada9"},1,{"$nulls":5},"12.0EE Estructuras especiales","EE Estaciones De Tren",{"$f":"AB133&AC133","v":"12.0EE Estructuras especialesEE Estaciones De Tren"},1]
[{"$nulls":18},"5.0DL Muros de concreto armado de ductibilidad limitada",10,"5.0DL Muros de concreto armado de ductibilidad limitada10",1,{"$nulls":5},"12.0EE Estructuras especiales","EE Estructuras Especiales (Otros)",{"$f":"AB134&AC134","v":"12.0EE Estructuras especialesEE Estructuras Especiales (Otros)"},1]
[{"$nulls":18},"5.0DL Muros de concreto armado de ductibilidad limitada",11,"5.0DL Muros de concreto armado de ductibilidad limitada11",1]
[{"$nulls":18},"5.0DL Muros de concreto armado de ductibilidad limitada",12,"5.0DL Muros de concreto armado de ductibilidad limitada12",1]
[{"$nulls":18},"5.0DL Muros de concreto armado de ductibilidad limitada",13,"5.0DL Muros de concreto armado de ductibilidad limitada13",1]
[{"$nulls":18},"5.0DL Muros de concreto armado de ductibilidad limitada",14,"5.0DL Muros de concreto armado de ductibilidad limitada14",1]
[{"$nulls":18},"5.0DL Muros de concreto armado de ductibilidad limitada",15,"5.0DL Muros de concreto armado de ductibilidad limitada15",1]
[{"$nulls":18},"5.0DL Muros de concreto armado de ductibilidad limitada",16,"5.0DL Muros de concreto armado de ductibilidad limitada16",1]
[{"$nulls":18},"5.0DL Muros de concreto armado de ductibilidad limitada",17,"5.0DL Muros de concreto armado de ductibilidad limitada17",1]
[{"$nulls":18},"5.0DL Muros de concreto armado de ductibilidad limitada",18,"5.0DL Muros de concreto armado de ductibilidad limitada18",1]
[{"$nulls":18},"5.0DL Muros de concreto armado de ductibilidad limitada",19,"5.0DL Muros de concreto armado de ductibilidad limitada19",1]
[{"$nulls":18},"5.0DL Muros de concreto armado de ductibilidad limitada",20,"5.0DL Muros de concreto armado de ductibilidad limitada20",1]
[{"$nulls":18},"6.0EM Entramados de madera",1,{"$f":"S145&T145","v":"6.0EM Entramados de madera1"},1]
[{"$nulls":18},"6.0EM Entramados de madera",2,"6.0EM Entramados de madera2",1]
[{"$nulls":18},"6.0EM Entramados de madera",3,"6.0EM Entramados de madera3",1]
[{"$nulls":18},"7.0M1 Mamposteria De Arcilla Sin Refuerzo",1,"7.0M1 Mamposteria De Arcilla Sin Refuerzo1",1]
[{"$nulls":18},"7.0M1 Mamposteria De Arcilla Sin Refuerzo",2,"7.0M1 Mamposteria De Arcilla Sin Refuerzo2",1]
[{"$nulls":18},"7.0M1 Mamposteria De Arcilla Sin Refuerzo",3,"7.0M1 Mamposteria De Arcilla Sin Refuerzo3",1]
[{"$nulls":18},"7.0M1 Mamposteria De Arcilla Sin Refuerzo",4,"7.0M1 Mamposteria De Arcilla Sin Refuerzo4",1]
[{"$nulls":18},"7.0M1 Mamposteria De Arcilla Sin Refuerzo",5,"7.0M1 Mamposteria De Arcilla Sin Refuerzo5",1]
[{"$nulls":18},"7.0M1 Mamposteria De Arcilla Sin Refuerzo",6,"7.0M1 Mamposteria De Arcilla Sin Refuerzo6",1]
[{"$nulls":18},"8.0M2R Mamposteria de arcilla o confinada con diafragmas rígidos",1,"8.0M2R Mamposteria de arcilla o confinada con diafragmas rígidos1",1]
[{"$nulls":18},"8.0M2R Mamposteria de arcilla o confinada con diafragmas rígidos",2,"8.0M2R Mamposteria de arcilla o confinada con diafragmas rígidos2",1]
[{"$nulls":18},"8.0M2R Mamposteria de arcilla o confinada con diafragmas rígidos",3,"8.0M2R Mamposteria de arcilla o confinada con diafragmas rígidos3",1]
[{"$nulls":18},"8.0M2R Mamposteria de arcilla o confinada con diafragmas rígidos",4,"8.0M2R Mamposteria de arcilla o confinada con diafragmas rígidos4",1]
[{"$nulls":18},"8.0M2R Mamposteria de arcilla o confinada con diafragmas rígidos",5,"8.0M2R Mamposteria de arcilla o confinada con diafragmas rígidos5",1]
[{"$nulls":18},"8.0M2R Mamposteria de arcilla o confinada con diafragmas rígidos",6,"8.0M2R Mamposteria de arcilla o confinada con diafragmas rígidos6",1]
[{"$nulls":18},"9.0M2F Mamposteria de arcilla o confinada con diafragmas flexibles",1,"9.0M2F Mamposteria de arcilla o confinada con diafragmas flexibles1",1]
[{"$nulls":18},"9.0M2F Mamposteria de arcilla o confinada con diafragmas flexibles",2,"9.0M2F Mamposteria de arcilla o confinada con diafragmas flexibles2",1]
[{"$nulls":18},"9.0M2F Mamposteria de arcilla o confinada con diafragmas flexibles",3,"9.0M2F Mamposteria de arcilla o confinada con diafragmas flexibles3",1]
[{"$nulls":18},"9.0M2F Mamposteria de arcilla o confinada con diafragmas flexibles",4,"9.0M2F Mamposteria de arcilla o confinada con diafragmas flexibles4",1]
[{"$nulls":18},"9.0M2F Mamposteria de arcilla o confinada con diafragmas flexibles",5,"9.0M2F Mamposteria de arcilla o confinada con diafragmas flexibles5",1]
[{"$nulls":18},"9.0M2F Mamposteria de arcilla o confinada con diafragmas flexibles",6,"9.0M2F Mamposteria de arcilla o confinada con diafragmas flexibles6",1]
[{"$nulls":18},"10.0M3 Construccion informal en albañileria",1,"10.0M3 Construccion informal en albañileria1",1]
[{"$nulls":18},"10.0M3 Construccion informal en albañileria",2,"10.0M3 Construccion informal en albañileria2",1]
[{"$nulls":18},"10.0M3 Construccion informal en albañileria",3,"10.0M3 Construccion informal en albañileria3",1]
[{"$nulls":18},"11.0IC Estructuras industriales / comerciales",1,"11.0IC Estructuras industriales / comerciales1",1]
[{"$nulls":18},"11.0IC Estructuras industriales / comerciales",2,"11.0IC Estructuras industriales / comerciales2",1]
[{"$nulls":18},"11.0IC Estructuras industriales / comerciales",3,"11.0IC Estructuras industriales / comerciales3",1]
[{"$nulls":18},"11.0IC Estructuras industriales / comerciales",4,"11.0IC Estructuras industriales / comerciales4",1]
[{"$nulls":18},"11.0IC Estructuras industriales / comerciales",5,"11.0IC Estructuras industriales / comerciales5",1]
[{"$nulls":18},"12.0EE Estructuras especiales",1,{"$f":"S174&T174","v":"12.0EE Estructuras especiales1"},1]
[{"$nulls":18},"12.0EE Estructuras especiales",2,"12.0EE Estructuras especiales2",1]
[{"$nulls":18},"12.0EE Estructuras especiales",3,"12.0EE Estructuras especiales3",1]
[{"$nulls":18},"12.0EE Estructuras especiales",4,"12.0EE Estructuras especiales4",1]
[{"$nulls":18},"12.0EE Estructuras especiales",5,"12.0EE Estructuras especiales5",1]
[{"$nulls":18},"12.0EE Estructuras especiales",6,"12.0EE Estructuras especiales6",1]
[{"$nulls":18},"12.0EE Estructuras especiales",7,"12.0EE Estructuras especiales7",1]
[{"$nulls":18},"12.0EE Estructuras especiales",8,"12.0EE Estructuras especiales8",1]
[{"$nulls":18},"12.0EE Estructuras especiales",9,"12.0EE Estructuras especiales9",1]
[{"$nulls":18},"12.0EE Estructuras especiales",10,"12.0EE Estructuras especiales10",1]
[{"$nulls":18},"12.0EE Estructuras especiales",11,{"$f":"S184&T184","v":"12.0EE Estructuras especiales11"},1]
[{"$nulls":18},"12.0EE Estructuras especiales",12,{"$f":"S185&T185","v":"12.0EE Estructuras especiales12"},1]
[{"$nulls":18},"12.0EE Estructuras especiales",13,{"$f":"S186&T186","v":"12.0EE Estructuras especiales13"},1]
[{"$nulls":18},"12.0EE Estructuras especiales",14,{"$f":"S187&T187","v":"12.0EE Estructuras especiales14"},1]
[{"$nulls":18},"12.0EE Estructuras especiales",15,{"$f":"S188&T188","v":"12.0EE Estructuras especiales15"},1]

{"sheet":"Lista","index":11,"n_rows":608,"n_cols":16381,"rows_kept":608,"hidden":true}
["VIA","INTERIOR","URB","SUB_URB","PAIS","PERU - DEPARTAMENTO","OTROS","CIIU Rev.4","DESCRIPCION","PISO","SOTANO","AÑO","MAT_CONS","USOS","EE","TIPO","Moneda","RUC","GIROS","GIRO DE NEGOCIO","OCUPACIÓN","Uso Actual",{"$nulls":16358},"ABARROTES - DEPOSITO (ALMACEN)"]
["Alameda","Departamento","Agrupacion","Bloque","PERU","AMAZONAS","Otros",111,"Cultivo De Cereales (Excepto Arroz), Legumbres Y Semillas Oleaginosas",1,1,{"$f":"YEAR(TODAY())","v":2025},"1.0AC Portico de acero arriostrado con diagonales","01 Vivienda","No aplica","Privado","Soles","RUC N°","ABARROTES\\COMERCIO (VENTA)","ABARROTES","COMERCIO (VENTA)","06",{"$nulls":16358},"ABARROTES - COMERCIO (VENTA)"]
["Avenida","Interior","Asentamiento Humano","Etapa","AFGANISTAN","ANCASH",null,112,"Cultivo De Arroz",2,2,null,"2.0AQ Adobe y quincha","02 Oficina","No aplica","Estatal","Dólares","DNI N°","ABARROTES\\DEPÓSITO (ALMACÉN)","ABARROTES","DEPÓSITO (ALMACÉN)","06",{"$nulls":16358},"ABARROTES - OFICINA"]
["Boulevard","Oficina ","Asoc. De Vivienda","Grupo","ALBANIA","APURIMAC",null,113,"Cultivo De Hortalizas Y Melones, Raices Y Tuberculos.",3,3,null,"3.0CA Porticos de concreto armado","03 Centro Educativo","No aplica",{"$nulls":3},"ABARROTES\\OFICINA","ABARROTES","OFICINA","02",{"$nulls":16358},"ACEITE - DEPOSITO (ALMACEN)"]
["Calle","Piso","Asociacion","Sector","ALEMANIA","AREQUIPA",null,114,"Cultivo De Caña De Azúcar",4,4,null,"4.0CP Porticos de concreto armado con placas","04 Centro De Salud","No aplica",{"$nulls":3},"ACEITE\\COMERCIO (VENTA)","ACEITE","COMERCIO (VENTA)","06",{"$nulls":16358},"ACEITE - COMERCIO (VENTA)"]
["Carretera","Tienda","Barrio","Zona","ANDORRA","AYACUCHO",null,115,"Cultivo De Tabaco",5,5,null,"5.0DL Muros de concreto armado de ductibilidad limitada","05 Taller","No aplica",{"$nulls":3},"ACEITE\\DEPÓSITO (ALMACÉN)","ACEITE","DEPÓSITO (ALMACÉN)","06",{"$nulls":16358},"ACEITE - OFICINA"]
["Jiron",null,"Barrio Fiscal",null,"ANGOLA","CAJAMARCA",null,116,"Cultivo De Plantas De Fibra",6,6,null,"6.0EM Entramados de madera","06 Comercio","No aplica",{"$nulls":3},"ACEITE\\INDUSTRIA (FÁBRICA)","ACEITE","INDUSTRIA (FÁBRICA)","07",{"$nulls":16358},"ACEITE - INDUSTRIA (FABRICA)"]
["Malecon",null,"Bloque",null,"ANTIGUA BARBUDA","CALLAO",null,119,"Cultivo De Otras Plantas No Perennes",7,7,null,"7.0M1 Mamposteria de arcilla sin refuerzo","07 Nave Industrial O Grandes Almacenes","No aplica",{"$nulls":3},"ACEITE\\OFICINA","ACEITE","OFICINA","02",{"$nulls":16358},"ACERO - DEPOSITO (ALMACEN)"]
["Ovalo",null,"Caserio",null,"ANTILLAS HOLANDESAS","CUSCO",null,121,"Cultivo De Uva",8,8,null,"8.0M2R Mamposteria de arcilla o confinada con diafragmas rígidos","08 Hospedaje Y Hoteles","No aplica",{"$nulls":3},"ACERO\\COMERCIO (VENTA)","ACERO","COMERCIO (VENTA)","06",{"$nulls":16358},"ACERO - COMERCIO (VENTA)"]
["Parque",null,"Centro Poblado",null,"ARABIA SAUDITA","HUANCAVELICA",null,122,"Cultivo De Frutas Tropicales Y Subtropicales",9,9,null,"9.0M2F Mamposteria de arcilla o confinada con diafragmas flexibles","09 Gasolineras","No aplica",{"$nulls":3},"ACERO\\DEPÓSITO (ALMACÉN)","ACERO","DEPÓSITO (ALMACÉN)","07",{"$nulls":16358},"ACERO - FUNDICION Y/O LAMINACION"]
["Pasaje",null,"Ciudad Satelite",null,"ARGELIA","HUANUCO",null,123,"Cultivo De  Citricos",10,10,null,"10.0M3 Construccion informal en albañileria","10 Actividades Recreacionales/de culto","No aplica",{"$nulls":3},"ACERO\\FUNDICIÓN Y/O LAMINACIÓN","ACERO","FUNDICIÓN Y/O LAMINACIÓN","07",{"$nulls":16358},"ACUEDUCTOS Y/O CANALES DE RIEGO - OFICINA"]
["Paseo",null,"Ciudad Universitaria",null,"ARGENTINA","ICA",null,124,"Cultivo De Frutas De Pepita Y De Hueso",11,11,null,"11.0IC Estructuras industriales / comerciales","11 EE Estructuras Especiales (Otros)","01 Minas",{"$nulls":3},"ACUEDUCTOS Y/O CANALES DE RIEGO\\OFICINA","ACUEDUCTOS Y/O CANALES DE RIEGO","OFICINA","02",{"$nulls":16358},"ACUEDUCTOS Y/O CANALES DE RIEGO - SISTEMA DE CANALES"]
["Plaza",null,"Ciudadela",null,"ARMENIA","JUNIN",null,125,"Cultivo De Otros Frutos Y Nueces De Árboles Y Arbustos ",12,12,null,"12.0EE Estructuras especiales","12 EE Estructuras Especiales (Otros)","02 Carreteras",{"$nulls":3},"ACUEDUCTOS Y/O CANALES DE RIEGO\\SISTEMA DE CANALES","ACUEDUCTOS Y/O CANALES DE RIEGO","SISTEMA DE CANALES","11",{"$nulls":16358},"ADMINISTRADORA DE FONDOS DE PENSIONES - AFP - ADMINISTRADORA DE FONDOS DE PENSIONES - AFP"]
["Prolongacion",null,"Comite",null,"ARUBA","LA LIBERTAD",null,126,"Cultivo De Frutos Oleaginosos",13,13,null,null,"13 EE Estructuras Especiales (Otros)","03 Puentes",{"$nulls":3},"ADMINISTRADORA DE FONDOS DE PENSIONES - AFP\\ADMINISTRADORA DE FONDOS DE PENSIONES - AFP","ADMINISTRADORA DE FONDOS DE PENSIONES - AFP","ADMINISTRADORA DE FONDOS DE PENSIONES - AFP","02",{"$nulls":16358},"AEROLINEA - COUNTER"]
["Puente",null,"Condominio",null,"AUSTRALIA","LAMBAYEQUE",null,127,"Cultivo De Plantas Con Las Que Se Preparan Bebidas",14,14,null,null,"14 EE Estructuras Especiales (Otros)","04 Reservorios",{"$nulls":3},"AEROLINEA\\COUNTER","AEROLINEA","COUNTER","02",{"$nulls":16358},"AEROLINEA - OFICINA"]
["Sin tipo",null,"Conjunto De Vivienda",null,"AUSTRIA","LIMA",null,128,"Cultivo De Especias Y De Plantas Aromáticas, Medicinales Y Farmaceuticas",15,15,null,null,"15 EE Estructuras Especiales (Otros)","05 Tanques De Agua",{"$nulls":3},"AEROLINEA\\HANGAR","AEROLINEA","HANGAR","07",{"$nulls":16358},"AEROLINEA - HANGAR"]
[null,null,"Conjunto Habitacional",null,"AZERBAIYAN","LORETO",null,129,"Cultivo De Otras Plantas No Perennes",16,{"$nulls":3},"16 EE Estructuras Especiales (Otros)","06 Silos",{"$nulls":3},"AEROLINEA\\OFICINA","AEROLINEA","OFICINA","02",{"$nulls":16358},"AEROPUERTO - AEROPUERTO"]
[null,null,"Cooperativa De Vivienda",null,"BAHAMAS","MADRE DE DIOS",null,130,"Propagación De Plantas",17,{"$nulls":3},"17 EE Estructuras Especiales (Otros)","07 Vias Ferreas",{"$nulls":3},"AEROPUERTO\\AEROPUERTO","AEROPUERTO","AEROPUERTO","11",{"$nulls":16358},"AEROSOLES - DEPOSITO (ALMACEN)"]
[null,null,"Etapa",null,"BAHERIN","MOQUEGUA",null,141,"Cria De Ganado Bovino Y Búfalos",18,{"$nulls":3},"18 EE Estructuras Especiales (Otros)","08 Torres De Transmisión",{"$nulls":3},"AEROSOLES\\COMERCIO (VENTA)","AEROSOLES","COMERCIO (VENTA)","06",{"$nulls":16358},"AEROSOLES - COMERCIO (VENTA)"]
[null,null,"Fundo",null,"BAHREIN","PASCO",null,142,"Cria De Caballos Y Otros Equinos",19,{"$nulls":3},"19 EE Estructuras Especiales (Otros)","09 Instalaciones Sanitarias",{"$nulls":3},"AEROSOLES\\DEPÓSITO (ALMACÉN)","AEROSOLES","DEPÓSITO (ALMACÉN)","06",{"$nulls":16358},"AEROSOLES - OFICINA"]
[null,null,"Hacienda ",null,"BANGLADESH","PIURA",null,143,"Cria De Camellos Y Otros Camelidos",20,{"$nulls":3},"20 EE Estructuras Especiales (Otros)","10 Instalaciones Electricas",{"$nulls":3},"AEROSOLES\\INDUSTRIA (FÁBRICA)","AEROSOLES","INDUSTRIA (FÁBRICA)","07",{"$nulls":16358},"AEROSOLES - INDUSTRIA (FABRICA)"]
[null,null,"Habilitacion Urbana",null,"BARBADOS","PUNO",null,144,"Cria De Ovejas Y Cabras",21,{"$nulls":3},"21 EE Estructuras Especiales (Otros)","11 Tuberias Enterradas",{"$nulls":3},"AEROSOLES\\OFICINA","AEROSOLES","OFICINA","02",{"$nulls":16358},"AGENCIA DE ADUANAS - DEPOSITO (ALMACEN)"]
[null,null,"Lotizacion Semi",null,"BELARUS","SAN MARTIN",null,145,"Cria De Cerdos",22,{"$nulls":3},"22 EE Estructuras Especiales (Otros)","12 Muelles o Puertos",{"$nulls":3},"AGENCIA DE ADUANAS\\DEPÓSITO (ALMACÉN)","AGENCIA DE ADUANAS","DEPÓSITO (ALMACÉN)","06",{"$nulls":16358},"AGENCIA DE BOLSA - AGENCIA DE BOLSA"]
[null,null,"Nucleo Urbano",null,"BELGICA","TACNA",null,146,"Cria De Aves De Corral",23,{"$nulls":3},"23 EE Estructuras Especiales (Otros)","13 Estructuras Hidráulicas",{"$nulls":3},"AGENCIA DE BOLSA\\AGENCIA DE BOLSA","AGENCIA DE BOLSA","AGENCIA DE BOLSA","02",{"$nulls":16358},"AGENCIA DE CARGA Y/U OPERADOR LOGiSTICO - DEPOSITO (ALMACEN)"]
[null,null,"Parcela ",null,"BELICE","TUMBES",null,149,"Cria De Otros Animales",24,{"$nulls":3},"24 EE Estructuras Especiales (Otros)","14 Sistemas De Drenaje, Riego o Alcantarillado",{"$nulls":3},"AGENCIA DE CARGA Y/U OPERADOR LOGÍSTICO\\DEPÓSITO (ALMACÉN)","AGENCIA DE CARGA Y/U OPERADOR LOGÍSTICO","DEPÓSITO (ALMACÉN)","06",{"$nulls":16358},"AGENCIA DE CARGA Y/U OPERADOR LOGiSTICO - OFICINA"]
[null,null,"Pueblo Joven ",null,"BENIN","UCAYALI",null,150,"Cultivo De Productos Agricolas En Combinación Con La Cria De Animales",25,{"$nulls":3},"25 EE Estructuras Especiales (Otros)","15 Represas de Agua",{"$nulls":3},"AGENCIA DE CARGA Y/U OPERADOR LOGÍSTICO\\OFICINA","AGENCIA DE CARGA Y/U OPERADOR LOGÍSTICO","OFICINA","02",{"$nulls":16358},"AGENCIA DE EMPLEOS - OFICINA"]
[null,null,"Residencial",null,"BERMUDA",null,null,161,"Actividades De Apoyo A La Agricultura",26,{"$nulls":3},"26 EE Estructuras Especiales (Otros)","16 Aeropuertos",{"$nulls":3},"AGENCIA DE EMPLEOS\\OFICINA","AGENCIA DE EMPLEOS","OFICINA","02",{"$nulls":16358},"AGENCIA DE PUBLICIDAD - OFICINA"]
[null,null,"Sector ",null,"BHUTAN",null,null,162,"Actividades De Apoyo A La Ganaderia",27,{"$nulls":3},"27 EE Estructuras Especiales (Otros)","17 Sistemas De Gas Natural",{"$nulls":3},"AGENCIA DE PUBLICIDAD\\OFICINA","AGENCIA DE PUBLICIDAD","OFICINA","02",{"$nulls":16358},"AGENCIA DE VIAJES Y/O TURISMO - AGENCIA DE VIAJES Y/O TURISMO"]
[null,null,"Unidad Vecinal",null,"BOLIVIA",null,null,163,"Actividades Postcosecha",28,{"$nulls":3},"28 EE Estructuras Especiales (Otros)","18 Sistemas De Instalaciones Petroleras Y Petroquimicas",{"$nulls":3},"AGENCIA DE VIAJES Y/O TURISMO\\AGENCIA DE VIAJES Y/O TURISMO","AGENCIA DE VIAJES Y/O TURISMO","AGENCIA DE VIAJES Y/O TURISMO","02",{"$nulls":16358},"AGENCIA DE VIAJES Y/O TURISMO - COUNTER"]
[null,null,"Urb.",null,"BOSNIA-HERZEGOVINA",null,null,164,"Tratamiento De Semillas Para Propagación",29,{"$nulls":3},"29 EE Estructuras Especiales (Otros)","19 Plantas De Tratamiento De Agua",{"$nulls":3},"AGENCIA DE VIAJES Y/O TURISMO\\COUNTER","AGENCIA DE VIAJES Y/O TURISMO","COUNTER","02",{"$nulls":16358},"AGENCIA NAVIERA - DEPOSITO (ALMACEN)"]
[null,null,"Urb. Industrial",null,"BOTSWANA",null,null,170,"Caza Ordinaria Y Mediante Trampas Y Actividades De Servicios Conexas",30,{"$nulls":3},"30 EE Estructuras Especiales (Otros)","20 Centrales Electricas o Hidroelectricas",{"$nulls":3},"AGENCIA NAVIERA\\DEPÓSITO (ALMACÉN)","AGENCIA NAVIERA","DEPÓSITO (ALMACÉN)","06",{"$nulls":16358},"AGUA - AGUA POTABLE, ALCANTARILLADO"]
[null,null,"Urb. Popular",null,"BRASIL",null,null,210,"Silvicultura Y Otras Actividades Forestales",31,{"$nulls":3},"31 EE Estructuras Especiales (Otros)","21 Estaciones Telemetricas",{"$nulls":3},"AGUA\\AGUA POTABLE, ALCANTARILLADO","AGUA","AGUA POTABLE, ALCANTARILLADO","11",{"$nulls":16358},"AGUA - PLANTA DE TRATAMIENTO"]
[null,null,"Urb. Residencial",null,"BRUNEI",null,null,220,"Extracción De Madera",32,{"$nulls":3},"32 EE Estructuras Especiales (Otros)","22 Estaciones De Tren",{"$nulls":3},"AGUA\\PLANTA DE DISTRIBUCION","AGUA","PLANTA DE DISTRIBUCION","11",{"$nulls":16358},"AGUA - PLANTA DE DISTRIBUCION"]
[null,null,"Villa Militar",null,"BULGARIA",null,null,230,"Recolección De Productos Forestales Distintos De La Madera",33,{"$nulls":3},"33 EE Estructuras Especiales (Otros)","23 Otros",{"$nulls":3},"AGUA\\PLANTA DE TRATAMIENTO","AGUA","PLANTA DE TRATAMIENTO","11",{"$nulls":16358},"AGUA - RESERVORIOS"]
[{"$nulls":4},"BURKINA FASO",null,null,240,"Servicios De Apoyo A La Silvicultura",34,{"$nulls":8},"AGUA\\RESERVORIOS","AGUA","RESERVORIOS","11",{"$nulls":16358},"ALAMBRES, CABLES Y CONDUCTORES ELÈCTRICOS - DEPOSITO (ALMACEN)"]
[{"$nulls":4},"BURUNDI",null,null,311,"Pesca Maritima",35,{"$nulls":8},"ALAMBRES, CABLES Y CONDUCTORES ELÈCTRICOS\\COMERCIO (VENTA)","ALAMBRES, CABLES Y CONDUCTORES ELÈCTRICOS","COMERCIO (VENTA)","06",{"$nulls":16358},"ALAMBRES, CABLES Y CONDUCTORES ELÈCTRICOS - COMERCIO (VENTA)"]
[{"$nulls":4},"CABO VERDE",null,null,312,"Pesca De Agua Dulce",36,{"$nulls":8},"ALAMBRES, CABLES Y CONDUCTORES ELÈCTRICOS\\DEPÓSITO (ALMACÉN)","ALAMBRES, CABLES Y CONDUCTORES ELÈCTRICOS","DEPÓSITO (ALMACÉN)","06",{"$nulls":16358},"ALAMBRES, CABLES Y CONDUCTORES ELÈCTRICOS - OFICINA"]
[{"$nulls":4},"CAMBOYA",null,null,321,"Acuicultura Maritima",37,{"$nulls":8},"ALAMBRES, CABLES Y CONDUCTORES ELÈCTRICOS\\INDUSTRIA (FÁBRICA)","ALAMBRES, CABLES Y CONDUCTORES ELÈCTRICOS","INDUSTRIA (FÁBRICA)","07",{"$nulls":16358},"ALAMBRES, CABLES Y CONDUCTORES ELÈCTRICOS - INDUSTRIA (FABRICA)"]
[{"$nulls":4},"CAMERUN",null,null,322,"Acuicultura De Agua Dulce",38,{"$nulls":8},"ALAMBRES, CABLES Y CONDUCTORES ELÈCTRICOS\\OFICINA","ALAMBRES, CABLES Y CONDUCTORES ELÈCTRICOS","OFICINA","02",{"$nulls":16358},"ALCOHOL - DEPOSITO (ALMACEN)"]
[{"$nulls":4},"CANADA",null,null,510,"Extracción De Carbón De Piedra",39,{"$nulls":8},"ALCOHOL\\COMERCIO (VENTA)","ALCOHOL","COMERCIO (VENTA)","06",{"$nulls":16358},"ALCOHOL - COMERCIO (VENTA)"]
[{"$nulls":4},"CHAD",null,null,520,"Extracción De Lignito",40,{"$nulls":8},"ALCOHOL\\DEPÓSITO (ALMACÉN)","ALCOHOL","DEPÓSITO (ALMACÉN)","06",{"$nulls":16358},"ALCOHOL - OFICINA"]
[{"$nulls":4},"CHILE",null,null,610,"Extracción De Petróleo Crudo",41,{"$nulls":8},"ALCOHOL\\INDUSTRIA (FÁBRICA)","ALCOHOL","INDUSTRIA (FÁBRICA)","07",{"$nulls":16358},"ALCOHOL - INDUSTRIA (FABRICA)"]
[{"$nulls":4},"CHIPRE",null,null,620,"Extracción De Gas Natural",42,{"$nulls":8},"ALCOHOL\\OFICINA","ALCOHOL","OFICINA","02",{"$nulls":16358},"ALFOMBRAS Y/O TAPICES - DEPOSITO (ALMACEN)"]
[{"$nulls":4},"COLOMBIA",null,null,710,"Extracción De Minerales De Hierro",43,{"$nulls":8},"ALFOMBRAS Y/O TAPICES\\COMERCIO (VENTA)","ALFOMBRAS Y/O TAPICES","COMERCIO (VENTA)","06",{"$nulls":16358},"ALFOMBRAS Y/O TAPICES - COMERCIO (VENTA)"]
[{"$nulls":4},"COMORES",null,null,721,"Extracción De Minerales De Uranio Y Torio",44,{"$nulls":8},"ALFOMBRAS Y/O TAPICES\\DEPÓSITO (ALMACÉN)","ALFOMBRAS Y/O TAPICES","DEPÓSITO (ALMACÉN)","06",{"$nulls":16358},"ALFOMBRAS Y/O TAPICES - OFICINA"]
[{"$nulls":4},"CONGO REP.POPULAR DEL",null,null,729,"Extracción De Otros Minerales Metaliferos No Ferrosos",45,{"$nulls":8},"ALFOMBRAS Y/O TAPICES\\INDUSTRIA (FÁBRICA)","ALFOMBRAS Y/O TAPICES","INDUSTRIA (FÁBRICA)","07",{"$nulls":16358},"ALFOMBRAS Y/O TAPICES - INDUSTRIA (FABRICA)"]
[{"$nulls":4},"COREA REP.DEM.POP.DE",null,null,810,"Extracción De Piedra, Arena Y Arcilla",46,{"$nulls":8},"ALFOMBRAS Y/O TAPICES\\OFICINA","ALFOMBRAS Y/O TAPICES","OFICINA","02",{"$nulls":16358},"ALGODÓN - DEPOSITO (ALMACEN)"]
[{"$nulls":4},"COREA REPUBLICA DE",null,null,891,"Extracción De Minerales Para La Fabricación De Abonos Y Productos Quimicos",47,{"$nulls":8},"ALGODÓN\\DEPÓSITO (ALMACÉN)","ALGODÓN","DEPÓSITO (ALMACÉN)","06",{"$nulls":16358},"ALGODÓN - OFICINA"]
[{"$nulls":4},"COSTA DE MARFIL",null,null,892,"Extracción De Turba",48,{"$nulls":8},"ALGODÓN\\DESMOTADORA","ALGODÓN","DESMOTADORA","07",{"$nulls":16358},"ALGODÓN - DESMOTADORA"]
[{"$nulls":4},"COSTA RICA",null,null,893,"Extracción De Sal",49,{"$nulls":8},"ALGODÓN\\OFICINA","ALGODÓN","OFICINA","02",{"$nulls":16358},"ALIMENTOS - DEPOSITO (ALMACEN)"]
[{"$nulls":4},"CROACIA",null,null,899,"Explotación De Otras Minas Y Canteras N.C.P.",50,{"$nulls":8},"ALIMENTOS\\DEPÓSITO (ALMACÉN)","ALIMENTOS","DEPÓSITO (ALMACÉN)","06",{"$nulls":16358},"ALIMENTOS - OFICINA"]
[{"$nulls":4},"CUBA",null,null,910,"Actividades De Apoyo Para La Extracción De Petróleo Y Gas Natural",{"$nulls":9},"ALIMENTOS\\INDUSTRIA/FABRICA/PLANTA PROCESADORA","ALIMENTOS","INDUSTRIA/FABRICA/PLANTA PROCESADORA","07",{"$nulls":16358},"ALIMENTOS - LIOFILIZADORA"]
[{"$nulls":4},"CURAZAO",null,null,990,"Actividades De Apoyo Para Otras Actividades De Explotación De Minas Y Canteras",{"$nulls":9},"ALIMENTOS\\LIOFILIZADORA","ALIMENTOS","LIOFILIZADORA","07",{"$nulls":16358},"ALIMENTOS - INDUSTRIA/FABRICA/PLANTA PROCESADORA"]
[{"$nulls":4},"DINAMARCA",null,null,1010,"Elaboración Y Conservación De Carne",{"$nulls":9},"ALIMENTOS\\OFICINA","ALIMENTOS","OFICINA","02",{"$nulls":16358},"ALMACENES GENERALES - DEPOSITO (ALMACEN)"]
[{"$nulls":4},"DJIBOUTI",null,null,1020,"Elaboración Y Conservación De Pescados, Crustáceos Y Moluscos",{"$nulls":9},"ALMACENES GENERALES\\DEPÓSITO (ALMACÉN)","ALMACENES GENERALES","DEPÓSITO (ALMACÉN)","07",{"$nulls":16358},"ALMACENES GENERALES - OFICINA"]
[{"$nulls":4},"DOMINICA",null,null,1030,"Elaboración Y Conservación De Frutas, Legumbres Y Hortalizas",{"$nulls":9},"ALMACENES GENERALES\\OFICINA","ALMACENES GENERALES","OFICINA","02",{"$nulls":16358},"ALOJAMIENTO - HOSTAL"]
[{"$nulls":4},"ECUADOR",null,null,1040,"Elaboración De Aceites Y Grasas De Origen Vegetal Y Animal",{"$nulls":9},"ALOJAMIENTO\\HOSPEDAJE","ALOJAMIENTO","HOSPEDAJE","08",{"$nulls":16358},"ALOJAMIENTO - HOSPEDAJE"]
[{"$nulls":4},"EGIPTO ",null,null,1050,"Elaboración De Productos Lácteos",{"$nulls":9},"ALOJAMIENTO\\HOSTAL","ALOJAMIENTO","HOSTAL","08",{"$nulls":16358},"ALOJAMIENTO - HOTEL"]
[{"$nulls":4},"EL SALVADOR",null,null,1061,"Elaboración De Productos De Molineria.",{"$nulls":9},"ALOJAMIENTO\\HOTEL","ALOJAMIENTO","HOTEL","08",{"$nulls":16358},"ANTIGÜEDADES Y/U OBJETOS DE ARTE, MUSEO - GALERIAS DE ARTE"]
[{"$nulls":4},"EMIRATOS ARABES UNIDOS",null,null,1062,"Elaboración De Almidones Y Productos Derivados Del Almidón.",{"$nulls":9},"ANTIGÜEDADES Y/U OBJETOS DE ARTE, MUSEO\\COMERCIO (VENTA)","ANTIGÜEDADES Y/U OBJETOS DE ARTE, MUSEO","COMERCIO (VENTA)","06",{"$nulls":16358},"ANTIGÜEDADES Y/U OBJETOS DE ARTE, MUSEO - COMERCIO (VENTA)"]
[{"$nulls":4},"ESLOVAQUIA",null,null,1071,"Elaboración De Productos De Panaderia",{"$nulls":9},"ANTIGÜEDADES Y/U OBJETOS DE ARTE, MUSEO\\GALERÍAS DE ARTE","ANTIGÜEDADES Y/U OBJETOS DE ARTE, MUSEO","GALERÍAS DE ARTE","06",{"$nulls":16358},"ANTIGÜEDADES Y/U OBJETOS DE ARTE, MUSEO - MUSEO"]
[{"$nulls":4},"ESLOVENIA",null,null,1072,"Elaboración De Azúcar",{"$nulls":9},"ANTIGÜEDADES Y/U OBJETOS DE ARTE, MUSEO\\MUSEO","ANTIGÜEDADES Y/U OBJETOS DE ARTE, MUSEO","MUSEO","03",{"$nulls":16358},"ARMAS DE FUEGO Y/O MUNICIONES - DEPOSITO (ALMACEN)"]
[{"$nulls":4},"ESPAÑA",null,null,1073,"Elaboración De Cacao Y Chocolate Y De Productos De Confiteria",{"$nulls":9},"ARMAS DE FUEGO Y/O MUNICIONES\\COMERCIO (VENTA)","ARMAS DE FUEGO Y/O MUNICIONES","COMERCIO (VENTA)","06",{"$nulls":16358},"ARMAS DE FUEGO Y/O MUNICIONES - COMERCIO (VENTA)"]
[{"$nulls":4},"ESTADOS UNIDOS DE NORTE AMERICA",null,null,1074,"Elaboración De Macarrones, Fideos, Alcuzcuz Y Productos Farináceos Similares",{"$nulls":9},"ARMAS DE FUEGO Y/O MUNICIONES\\DEPÓSITO (ALMACÉN)","ARMAS DE FUEGO Y/O MUNICIONES","DEPÓSITO (ALMACÉN)","06",{"$nulls":16358},"ARMAS DE FUEGO Y/O MUNICIONES - OFICINA"]
[{"$nulls":4},"ESTONIA",null,null,1075,"Elaboración De Comidas Y Platos Preparados",{"$nulls":9},"ARMAS DE FUEGO Y/O MUNICIONES\\INDUSTRIA (FÁBRICA)","ARMAS DE FUEGO Y/O MUNICIONES","INDUSTRIA (FÁBRICA)","07",{"$nulls":16358},"ARMAS DE FUEGO Y/O MUNICIONES - INDUSTRIA (FABRICA)"]
[{"$nulls":4},"ETIOPIA",null,null,1079,"Elaboración De Otros Productos Alimenticios N.C.P.",{"$nulls":9},"ARMAS DE FUEGO Y/O MUNICIONES\\OFICINA","ARMAS DE FUEGO Y/O MUNICIONES","OFICINA","02",{"$nulls":16358},"ARTESANiAS (EXCLUYENDO PLATERIA) - COMERCIO (VENTA)"]
[{"$nulls":4},"FIJI",null,null,1080,"Elaboración De Piensos Preparados Para Animales",{"$nulls":9},"ARTESANÍAS (EXCLUYENDO PLATERIA)\\COMERCIO (VENTA)","ARTESANÍAS (EXCLUYENDO PLATERIA)","COMERCIO (VENTA)","06",{"$nulls":16358},"ARTESANiAS (EXCLUYENDO PLATERIA) - DEPOSITO (ALMACEN)"]
[{"$nulls":4},"FILIPINAS ",null,null,1101,"Destilación, Rectificación Y Mezcla De Bebidas Alcohólicas",{"$nulls":9},"ARTESANÍAS (EXCLUYENDO PLATERIA)\\DEPÓSITO (ALMACÉN)","ARTESANÍAS (EXCLUYENDO PLATERIA)","DEPÓSITO (ALMACÉN)","06",{"$nulls":16358},"ARTiCULOS DE LIMPIEZA E HIGIENE - DEPOSITO (ALMACEN)"]
[{"$nulls":4},"FINLANDIA",null,null,1102,"Elaboración De Vinos",{"$nulls":9},"ARTÍCULOS DE LIMPIEZA E HIGIENE\\COMERCIO (VENTA)","ARTÍCULOS DE LIMPIEZA E HIGIENE","COMERCIO (VENTA)","06",{"$nulls":16358},"ARTiCULOS DE LIMPIEZA E HIGIENE - COMERCIO (VENTA)"]
[{"$nulls":4},"FRANCIA",null,null,1103,"Elaboración De Bebidas Malteadas Y De Malta",{"$nulls":9},"ARTÍCULOS DE LIMPIEZA E HIGIENE\\DEPÓSITO (ALMACÉN)","ARTÍCULOS DE LIMPIEZA E HIGIENE","DEPÓSITO (ALMACÉN)","06",{"$nulls":16358},"ARTiCULOS DE LIMPIEZA E HIGIENE - OFICINA"]
[{"$nulls":4},"GABON",null,null,1104,"Elaboración De Bebidas No Alcohólicas; Producción De Aguas Minerales Y Otras Aguas Embotelladas",{"$nulls":9},"ARTÍCULOS DE LIMPIEZA E HIGIENE\\INDUSTRIA (FÁBRICA)","ARTÍCULOS DE LIMPIEZA E HIGIENE","INDUSTRIA (FÁBRICA)","07",{"$nulls":16358},"ARTiCULOS DE LIMPIEZA E HIGIENE - INDUSTRIA (FABRICA)"]
[{"$nulls":4},"GAMBIA",null,null,1200,"Elaboración De Productos De Tabaco",{"$nulls":9},"ARTÍCULOS DE LIMPIEZA E HIGIENE\\OFICINA","ARTÍCULOS DE LIMPIEZA E HIGIENE","OFICINA","02",{"$nulls":16358},"ARTiCULOS DE METAL - DEPOSITO (ALMACEN)"]
[{"$nulls":4},"GEORGIA",null,null,1311,"Preparación E Hilatura De Fibras Textiles",{"$nulls":9},"ARTÍCULOS DE METAL\\COMERCIO (VENTA)","ARTÍCULOS DE METAL","COMERCIO (VENTA)","06",{"$nulls":16358},"ARTiCULOS DE METAL - COMERCIO (VENTA)"]
[{"$nulls":4},"GHANA",null,null,1312,"Tejedura De Productos Textiles",{"$nulls":9},"ARTÍCULOS DE METAL\\DEPÓSITO (ALMACÉN)","ARTÍCULOS DE METAL","DEPÓSITO (ALMACÉN)","06",{"$nulls":16358},"ARTiCULOS DE METAL - OFICINA"]
[{"$nulls":4},"GRANADA",null,null,1313,"Acabado De Productos Textiles",{"$nulls":9},"ARTÍCULOS DE METAL\\INDUSTRIA (FÁBRICA)","ARTÍCULOS DE METAL","INDUSTRIA (FÁBRICA)","07",{"$nulls":16358},"ARTiCULOS DE METAL - INDUSTRIA (FABRICA)"]
[{"$nulls":4},"GRECIA",null,null,1391,"Fabricación De Tejidos De Punto Y Ganchillo",{"$nulls":9},"ARTÍCULOS DE METAL\\OFICINA","ARTÍCULOS DE METAL","OFICINA","02",{"$nulls":16358},"ARTiCULOS DEPORTIVOS - DEPOSITO (ALMACEN)"]
[{"$nulls":4},"GUATEMALA",null,null,1392,"Fabricación De Articulos Confeccionados De Materiales Textiles, Excepto Prendas De Vestir",{"$nulls":9},"ARTÍCULOS DEPORTIVOS\\COMERCIO (VENTA)","ARTÍCULOS DEPORTIVOS","COMERCIO (VENTA)","06",{"$nulls":16358},"ARTiCULOS DEPORTIVOS - COMERCIO (VENTA)"]
[{"$nulls":4},"GUAYANA FRANCESA",null,null,1393,"Fabricación De Tapices Y Alfombras",{"$nulls":9},"ARTÍCULOS DEPORTIVOS\\DEPÓSITO (ALMACÉN)","ARTÍCULOS DEPORTIVOS","DEPÓSITO (ALMACÉN)","06",{"$nulls":16358},"ARTiCULOS ELECTRODOMeSTICOS - COMERCIO (VENTA)"]
[{"$nulls":4},"GUERNSEY",null,null,1394,"Fabricación De Cuerdas, Cordeles, Bramantes Y Redes",{"$nulls":9},"ARTÍCULOS ELECTRODOMÉSTICOS\\COMERCIO (VENTA)","ARTÍCULOS ELECTRODOMÉSTICOS","COMERCIO (VENTA)","06",{"$nulls":16358},"ARTiCULOS ELECTRODOMeSTICOS - DEPOSITO (ALMACEN)"]
[{"$nulls":4},"GUINEA",null,null,1399,"Fabricación De Otros Productos Textiles N.C.P.",{"$nulls":9},"ARTÍCULOS ELECTRODOMÉSTICOS\\DEPÓSITO (ALMACÉN)","ARTÍCULOS ELECTRODOMÉSTICOS","DEPÓSITO (ALMACÉN)","06",{"$nulls":16358},"ARTiCULOS ELECTRODOMeSTICOS - OFICINA"]
[{"$nulls":4},"GUINEA BISSAU",null,null,1410,"Fabricación De Prendas De Vestir, Excepto Prendas De Piel",{"$nulls":9},"ARTÍCULOS ELECTRODOMÉSTICOS\\INDUSTRIA (FÁBRICA)","ARTÍCULOS ELECTRODOMÉSTICOS","INDUSTRIA (FÁBRICA)","07",{"$nulls":16358},"ARTiCULOS ELECTRODOMeSTICOS - INDUSTRIA (FABRICA)"]
[{"$nulls":4},"GUINEA ECUATORIAL",null,null,1420,"Fabricación De Articulos De Piel",{"$nulls":9},"ARTÍCULOS ELECTRODOMÉSTICOS\\OFICINA","ARTÍCULOS ELECTRODOMÉSTICOS","OFICINA","02",{"$nulls":16358},"ARTiCULOS FOTOGRÁFICOS - COMERCIO (VENTA)"]
[{"$nulls":4},"GUYANA",null,null,1430,"Fabricación De Articulos De Punto Y Ganchillo",{"$nulls":9},"ARTÍCULOS FOTOGRÁFICOS\\COMERCIO (VENTA)","ARTÍCULOS FOTOGRÁFICOS","COMERCIO (VENTA)","06",{"$nulls":16358},"ARTiCULOS Y ÚTILES DE OFICINA - DEPOSITO (ALMACEN)"]
[{"$nulls":4},"HAITI",null,null,1511,"Curtido Y Adobo De Cueros; Adobo Y Teñido De Pieles",{"$nulls":9},"ARTÍCULOS Y ÚTILES DE OFICINA\\COMERCIO (VENTA)","ARTÍCULOS Y ÚTILES DE OFICINA","COMERCIO (VENTA)","06",{"$nulls":16358},"ARTiCULOS Y ÚTILES DE OFICINA - COMERCIO (VENTA)"]
[{"$nulls":4},"HOLANDA",null,null,1512,"Fabricación De Maletas, Bolsos De Mano, Y Articulos Similares, Y De Articulos De Talabarteria Y Guarnicioneria",{"$nulls":9},"ARTÍCULOS Y ÚTILES DE OFICINA\\DEPÓSITO (ALMACÉN)","ARTÍCULOS Y ÚTILES DE OFICINA","DEPÓSITO (ALMACÉN)","06",{"$nulls":16358},"ASBESTO - OFICINA"]
[{"$nulls":4},"HONDURAS",null,null,1520,"Fabricación De Calzado",{"$nulls":9},"ASBESTO\\INDUSTRIA (FÁBRICA)","ASBESTO","INDUSTRIA (FÁBRICA)","07",{"$nulls":16358},"ASBESTO - INDUSTRIA (FABRICA)"]
[{"$nulls":4},"HUNGRIA",null,null,1610,"Aserrados Y Acepilladura De Madera",{"$nulls":9},"ASBESTO\\OFICINA","ASBESTO","OFICINA","02",{"$nulls":16358},"ASCENSORES - TALLER DE MANTENIMIENTO Y/O REPARACIÓN"]
[{"$nulls":4},"INDIA",null,null,1621,"Fabricación De Hojas De Madera Para Enchapado Y Tableros A Base De Madera",{"$nulls":9},"ASCENSORES\\INDUSTRIA (FÁBRICA)","ASCENSORES","INDUSTRIA (FÁBRICA)","07",{"$nulls":16358},"ASCENSORES - OFICINA"]
[{"$nulls":4},"INDONESIA",null,null,1622,"Fabricación De Partes Y Piezas De Carpinteria Para Edificios Y Construcciones",{"$nulls":9},"ASCENSORES\\OFICINA","ASCENSORES","OFICINA","02",{"$nulls":16358},"ASCENSORES - INDUSTRIA (FABRICA)"]
[{"$nulls":4},"IRAN",null,null,1623,"Fabricación De Recipientes De Madera",{"$nulls":9},"ASCENSORES\\TALLER DE MANTENIMIENTO Y/O REPARACIÓN","ASCENSORES","TALLER DE MANTENIMIENTO Y/O REPARACIÓN","05",{"$nulls":16358},"ASTILLEROS - TALLERES DE REPARACION"]
[{"$nulls":4},"IRAQ",null,null,1629,"Fabricación De Otros Productos De Madera; Fabricación De Articulos De Corcho, Paja Y Materiales Trenzables.",{"$nulls":9},"ASTILLEROS\\OFICINA","ASTILLEROS","OFICINA","02",{"$nulls":16358},"ASTILLEROS - OFICINA"]
[{"$nulls":4},"IRLANDA",null,null,1701,"Fabricación De Pasta De Madera, Papel Y Cartón",{"$nulls":9},"ASTILLEROS\\TALLER DE REPARACION","ASTILLEROS","TALLER DE REPARACION","05",{"$nulls":16358},"AUDITORIO, TEATRO - TEATRO"]
[{"$nulls":4},"ISLANDIA",null,null,1702,"Fabricación Del Papel Y Cartón Ondulado Y De Envases De Papel Y Cartón",{"$nulls":9},"AUDITORIO, TEATRO\\AUDITORIO","AUDITORIO, TEATRO","AUDITORIO","10",{"$nulls":16358},"AUDITORIO, TEATRO - AUDITORIO"]
[{"$nulls":4},"ISLAS CAYMAN",null,null,1709,"Fabricación De Otros Articulos Del Papel Y Cartón",{"$nulls":9},"AUDITORIO, TEATRO\\TEATRO","AUDITORIO, TEATRO","TEATRO","10",{"$nulls":16358},"AUTOMOTORES, PLANTA DE ENSAMBLAJE - OFICINA"]
[{"$nulls":4},"ISLAS COOK",null,null,1811,"Impresión",{"$nulls":9},"AUTOMOTORES, PLANTA DE ENSAMBLAJE\\OFICINA","AUTOMOTORES, PLANTA DE ENSAMBLAJE","OFICINA","02",{"$nulls":16358},"BAÑOS TURCOS Y/O  SAUNAS Y/O SPA - BAÑOS TURCOS Y/O  SAUNAS Y/O SPA"]
[{"$nulls":4},"ISLAS MARSHALL",null,null,1812,"Actividades De Servicios Relacionadas Con La Impresión",{"$nulls":9},"BAÑOS TURCOS Y/O  SAUNAS Y/O SPA\\BAÑOS TURCOS Y/O  SAUNAS Y/O SPA","BAÑOS TURCOS Y/O  SAUNAS Y/O SPA","BAÑOS TURCOS Y/O  SAUNAS Y/O SPA","06",{"$nulls":16358},"BARES Y/O CANTINAS Y/O PUBS - BARES Y/O CANTINAS Y/O PUBS"]
[{"$nulls":4},"ISLAS SALOMON",null,null,1820,"Reproducción De Grabaciones",{"$nulls":9},"BARES Y/O CANTINAS Y/O PUBS\\BARES Y/O CANTINAS Y/O PUBS","BARES Y/O CANTINAS Y/O PUBS","BARES Y/O CANTINAS Y/O PUBS","06",{"$nulls":16358},"BARNICES Y/O SOLVENTES - DEPOSITO (ALMACEN)"]
[{"$nulls":4},"ISLAS VÍRGENES BRITÁNICAS",null,null,1910,"Fabricación De Productos De Hornos De Coque",{"$nulls":9},"BARNICES Y/O SOLVENTES\\COMERCIO (VENTA)","BARNICES Y/O SOLVENTES","COMERCIO (VENTA)","06",{"$nulls":16358},"BARNICES Y/O SOLVENTES - COMERCIO (VENTA)"]
[{"$nulls":4},"ISRAEL",null,null,1920,"Fabricación De Productos De La Refinación Del Petróleo",{"$nulls":9},"BARNICES Y/O SOLVENTES\\DEPÓSITO (ALMACÉN)","BARNICES Y/O SOLVENTES","DEPÓSITO (ALMACÉN)","06",{"$nulls":16358},"BARNICES Y/O SOLVENTES - OFICINA"]
[{"$nulls":4},"ITALIA",null,null,2011,"Fabricación De Sustancias Quimicas Básicas",{"$nulls":9},"BARNICES Y/O SOLVENTES\\INDUSTRIA (FÁBRICA)","BARNICES Y/O SOLVENTES","INDUSTRIA (FÁBRICA)","07",{"$nulls":16358},"BARNICES Y/O SOLVENTES - INDUSTRIA (FABRICA)"]
[{"$nulls":4},"JA LIBIA",null,null,2012,"Fabricación Abonos Y Compuestos De Nitrógeno",{"$nulls":9},"BARNICES Y/O SOLVENTES\\OFICINA","BARNICES Y/O SOLVENTES","OFICINA","02",{"$nulls":16358},"BATERiAS - DEPOSITO (ALMACEN)"]
[{"$nulls":4},"JAMAICA",null,null,2013,"Fabricación De Plásticos Y De Caucho Sintetico En Formas Primarias",{"$nulls":9},"BATERÍAS\\COMERCIO (VENTA)","BATERÍAS","COMERCIO (VENTA)","06",{"$nulls":16358},"BATERiAS - COMERCIO (VENTA)"]
[{"$nulls":4},"JAPON",null,null,2021,"Fabricación De Plaguicidas Y Otros Productos Quimicos De Uso Agropecuario",{"$nulls":9},"BATERÍAS\\DEPÓSITO (ALMACÉN)","BATERÍAS","DEPÓSITO (ALMACÉN)","06",{"$nulls":16358},"BATERiAS - OFICINA"]
[{"$nulls":4},"JORDANIA",null,null,2022,"Fabricación De Pinturas, Barnices Y Productos De Revestimiento Similares, Tintas De Imprenta Y Masillas",{"$nulls":9},"BATERÍAS\\INDUSTRIA (FÁBRICA)","BATERÍAS","INDUSTRIA (FÁBRICA)","07",{"$nulls":16358},"BATERiAS - INDUSTRIA (FABRICA)"]
[{"$nulls":4},"KAZAHAJSTAN",null,null,2023,"Fabricación De Jabones Y Detergentes, Preparados Para Limpiar Y Pulir, Perfumes Y Preparados De Tocador.",{"$nulls":9},"BATERÍAS\\OFICINA","BATERÍAS","OFICINA","02",{"$nulls":16358},"BAZAR - BAZAR"]
[{"$nulls":4},"KAZAJSTAN",null,null,2029,"Fabricación De Otros Productos Quimicos N.C.P.",{"$nulls":9},"BAZAR\\BAZAR","BAZAR","BAZAR","06",{"$nulls":16358},"BEBIDAS (NO ALCÓHOLICAS, GASIFICADAS) - DEPOSITO (ALMACEN)"]
[{"$nulls":4},"KENYA",null,null,2030,"Fabricación De Fibras Artificiales",{"$nulls":9},"BEBIDAS (NO ALCOHÓLICAS, GASIFICADAS)\\COMERCIO (VENTA)","BEBIDAS (NO ALCOHÓLICAS, GASIFICADAS)","COMERCIO (VENTA)","06",{"$nulls":16358},"BEBIDAS (NO ALCÓHOLICAS, GASIFICADAS) - COMERCIO (VENTA)"]
[{"$nulls":4},"KIRGUISTAN",null,null,2100,"Fabricación De Productos Farmaceuticos, Sustancias Quimicas Medicinales Y Productos Botánicos De Uso Farmaceutico",{"$nulls":9},"BEBIDAS (NO ALCOHÓLICAS, GASIFICADAS)\\DEPÓSITO (ALMACÉN)","BEBIDAS (NO ALCOHÓLICAS, GASIFICADAS)","DEPÓSITO (ALMACÉN)","06",{"$nulls":16358},"BEBIDAS (NO ALCÓHOLICAS, GASIFICADAS) - OFICINA"]
[{"$nulls":4},"KIRIBATI",null,null,2211,"Fabricación De Cubiertas Y Cámaras De Caucho; Recauchutado Y Renovación De Cubiertas De Caucho",{"$nulls":9},"BEBIDAS (NO ALCOHÓLICAS, GASIFICADAS)\\INDUSTRIA (FÁBRICA)","BEBIDAS (NO ALCOHÓLICAS, GASIFICADAS)","INDUSTRIA (FÁBRICA)","07",{"$nulls":16358},"BEBIDAS (NO ALCÓHOLICAS, GASIFICADAS) - INDUSTRIA (FABRICA)"]
[{"$nulls":4},"KUWAIT",null,null,2219,"Fabricación De Otros Productos De Caucho",{"$nulls":9},"BEBIDAS (NO ALCOHÓLICAS, GASIFICADAS)\\OFICINA","BEBIDAS (NO ALCOHÓLICAS, GASIFICADAS)","OFICINA","02",{"$nulls":16358},"BIBLIOTECA - BIBLIOTECA"]
[{"$nulls":4},"LAO REPUBLICA DEM. POP. DE",null,null,2220,"Fabricación De Productos De Plástico",{"$nulls":9},"BIBLIOTECA\\BIBLIOTECA","BIBLIOTECA","BIBLIOTECA","03",{"$nulls":16358},"BICICLETAS - DEPOSITO (ALMACEN)"]
[{"$nulls":4},"LATVIA",null,null,2310,"Fabricación De Vidrio Y De Productos De Vidrio",{"$nulls":9},"BICICLETAS\\COMERCIO (VENTA)","BICICLETAS","COMERCIO (VENTA)","06",{"$nulls":16358},"BICICLETAS - COMERCIO (VENTA)"]
[{"$nulls":4},"LESOTHO",null,null,2391,"Fabricación De Productos Refractarios",{"$nulls":9},"BICICLETAS\\DEPÓSITO (ALMACÉN)","BICICLETAS","DEPÓSITO (ALMACÉN)","06",{"$nulls":16358},"BICICLETAS - OFICINA"]
[{"$nulls":4},"LETONIA",null,null,2392,"Fabricación De Materiales De Construcción De Arcilla",{"$nulls":9},"BICICLETAS\\OFICINA","BICICLETAS","OFICINA","02",{"$nulls":16358},"BIOCOMBUSTIBLE - DEPOSITO (ALMACEN)"]
[{"$nulls":4},"LIBANO",null,null,2393,"Fabricación De Otros Productos De Porcelana Y De Cerámica",{"$nulls":9},"BIOCOMBUSTIBLE\\COMERCIO (VENTA)","BIOCOMBUSTIBLE","COMERCIO (VENTA)","06",{"$nulls":16358},"BIOCOMBUSTIBLE - COMERCIO (VENTA)"]
[{"$nulls":4},"LIBERIA",null,null,2394,"Fabricación De Cemento, Cal Y Yeso",{"$nulls":9},"BIOCOMBUSTIBLE\\DEPÓSITO (ALMACÉN)","BIOCOMBUSTIBLE","DEPÓSITO (ALMACÉN)","07",{"$nulls":16358},"BIOCOMBUSTIBLE - OFICINA"]
[{"$nulls":4},"LIBIA",null,null,2395,"Fabricación De Articulos De Hormigón, De Cemento Y De Yeso",{"$nulls":9},"BIOCOMBUSTIBLE\\INDUSTRIA (FÁBRICA)","BIOCOMBUSTIBLE","INDUSTRIA (FÁBRICA)","07",{"$nulls":16358},"BIOCOMBUSTIBLE - INDUSTRIA (FABRICA)"]
[{"$nulls":4},"LIECHTENSTEIN",null,null,2396,"Corte, Talla Y Acabado De La Piedra",{"$nulls":9},"BIOCOMBUSTIBLE\\OFICINA","BIOCOMBUSTIBLE","OFICINA","02",{"$nulls":16358},"BISUTERIA - DEPOSITO (ALMACEN)"]
[{"$nulls":4},"LITUANIA",null,null,2399,"Fabricación De Otros Productos Minerales No Metálicos N.C.P.",{"$nulls":9},"BISUTERIA\\COMERCIO (VENTA)","BISUTERIA","COMERCIO (VENTA)","06",{"$nulls":16358},"BISUTERIA - COMERCIO (VENTA)"]
[{"$nulls":4},"LUXEMBURGO",null,null,2410,"Industrias Básicas De Hierro Y Acero ",{"$nulls":9},"BISUTERIA\\DEPÓSITO (ALMACÉN)","BISUTERIA","DEPÓSITO (ALMACÉN)","06",{"$nulls":16358},"BISUTERIA - OFICINA"]
[{"$nulls":4},"MACEDONIA REPUBLICA DE",null,null,2420,"Fabricación De Productos Primarios De Metales Preciosos Y Otros Metales No Ferrosos",{"$nulls":9},"BISUTERIA\\INDUSTRIA (FÁBRICA)","BISUTERIA","INDUSTRIA (FÁBRICA)","07",{"$nulls":16358},"BISUTERIA - INDUSTRIA (FABRICA)"]
[{"$nulls":4},"MADAGASCAR",null,null,2431,"Fundición De Hierro Y Acero",{"$nulls":9},"BISUTERIA\\OFICINA","BISUTERIA","OFICINA","02",{"$nulls":16358},"BODEGA - MINIMARKET - BODEGA - MINIMARKET"]
[{"$nulls":4},"MALASIA FEDERACION DE",null,null,2432,"Fundición De Metales No Ferrosos",{"$nulls":9},"BODEGA - MINIMARKET\\BODEGA - MINIMARKET","BODEGA - MINIMARKET","BODEGA - MINIMARKET","06",{"$nulls":16358},"BOWLING Y/O BILLAR - BOWLING Y/O BILLAR"]
[{"$nulls":4},"MALAWI",null,null,2511,"Fabricación De Productos Metálicos Para Uso Estructural",{"$nulls":9},"BOWLING Y/O BILLAR\\BOWLING Y/O BILLAR","BOWLING Y/O BILLAR","BOWLING Y/O BILLAR","06",{"$nulls":16358},"CABINAS INTERNET - CABINAS INTERNET"]
[{"$nulls":4},"MALDIVAS",null,null,2512,"Fabricación De Tanques, Depósitos Y Recipientes De Metal",{"$nulls":9},"CABINAS INTERNET\\CABINAS INTERNET","CABINAS INTERNET","CABINAS INTERNET","06",{"$nulls":16358},"CABLES ELECTRICOS - DEPOSITO (ALMACEN)"]
[{"$nulls":4},"MALI",null,null,2513,"Fabricación De Los Generadores Del Vapor, Excepto Calderas De Agua Caliente Para Calefacción Central",{"$nulls":9},"CABLES ELECTRICOS\\DEPÓSITO (ALMACÉN)","CABLES ELECTRICOS","DEPÓSITO (ALMACÉN)","06",{"$nulls":16358},"CABLES ELeCTRICOS - INDUSTRIA (FABRICA)"]
[{"$nulls":4},"MALTA",null,null,2520,"Fabricación De Armas Y Municiones",{"$nulls":9},"CABLES ELÉCTRICOS\\INDUSTRIA (FÁBRICA)","CABLES ELÉCTRICOS","INDUSTRIA (FÁBRICA)","07",{"$nulls":16358},"CAFe Y DERIVADOS DEL CACAO - DEPOSITO (ALMACEN)"]
[{"$nulls":4},"MARRUECOS",null,null,2591,"Forja, Prensado, Estampado Y Laminado De Metales; Pulvimetalurgia",{"$nulls":9},"CAFÉ Y DERIVADOS DEL CACAO\\DEPÓSITO (ALMACÉN)","CAFÉ Y DERIVADOS DEL CACAO","DEPÓSITO (ALMACÉN)","06",{"$nulls":16358},"CAFe Y DERIVADOS DEL CACAO - OFICINA"]
[{"$nulls":4},"MAURITANIA",null,null,2592,"Tratamiento Y Revestimiento De Metales; Maquinado",{"$nulls":9},"CAFÉ Y DERIVADOS DEL CACAO\\INDUSTRIA (FÁBRICA)","CAFÉ Y DERIVADOS DEL CACAO","INDUSTRIA (FÁBRICA)","07",{"$nulls":16358},"CAFe Y DERIVADOS DEL CACAO - INDUSTRIA (FABRICA)"]
[{"$nulls":4},"MEXICO",null,null,2593,"Fabricación De Articulos De Cuchilleria, Herramientas De Mano Y Articulos De Ferreteria",{"$nulls":9},"CAFÉ Y DERIVADOS DEL CACAO\\OFICINA","CAFÉ Y DERIVADOS DEL CACAO","OFICINA","02",{"$nulls":16358},"CAFETERiA - CAFETERIA"]
[{"$nulls":4},"MICRONESIA EST.FEDERADOS DE",null,null,2599,"Fabricación De Otros Productos Elaborados De Metal N.C.P.",{"$nulls":9},"CAFETERÍA\\CAFETERÍA","CAFETERÍA","CAFETERÍA","06",{"$nulls":16358},"CALZADO, ZAPATOS , ZAPATILLAS - DEPOSITO (ALMACEN)"]
[{"$nulls":4},"MOLDOVA",null,null,2610,"Fabricación De Componentes Y Tableros Electrónicos",{"$nulls":9},"CALZADO, ZAPATOS , ZAPATILLAS\\COMERCIO (VENTA)","CALZADO, ZAPATOS , ZAPATILLAS","COMERCIO (VENTA)","06",{"$nulls":16358},"CALZADO, ZAPATOS , ZAPATILLAS - COMERCIO (VENTA)"]
[{"$nulls":4},"MONACO PRINCIPADO DE",null,null,2620,"Fabricación De Ordenadores Y Equipo Periferico",{"$nulls":9},"CALZADO, ZAPATOS , ZAPATILLAS\\DEPÓSITO (ALMACÉN)","CALZADO, ZAPATOS , ZAPATILLAS","DEPÓSITO (ALMACÉN)","06",{"$nulls":16358},"CALZADO, ZAPATOS , ZAPATILLAS - OFICINA"]
[{"$nulls":4},"MONGOLIA",null,null,2630,"Fabricación De Equipos De Comunicaciones",{"$nulls":9},"CALZADO, ZAPATOS , ZAPATILLAS\\INDUSTRIA (FÁBRICA)","CALZADO, ZAPATOS , ZAPATILLAS","INDUSTRIA (FÁBRICA)","07",{"$nulls":16358},"CALZADO, ZAPATOS , ZAPATILLAS - INDUSTRIA (FABRICA)"]
[{"$nulls":4},"MONTENEGRO",null,null,2640,"Fabricación De Aparatos Electrónicos De Consumo",{"$nulls":9},"CALZADO, ZAPATOS , ZAPATILLAS\\OFICINA","CALZADO, ZAPATOS , ZAPATILLAS","OFICINA","02",{"$nulls":16358},"CAMAL - CAMAL"]
[{"$nulls":4},"MOZAMBIQUE",null,null,2651,"Fabricación De Equipo De Medición, Prueba, Navegación Y Control",{"$nulls":9},"CAMAL\\CAMAL","CAMAL","CAMAL","05",{"$nulls":16358},"CARBÓN Y NEGRO DE HUMO - COMERCIO (VENTA)"]
[{"$nulls":4},"MYANMAR",null,null,2652,"Fabricación De Relojes",{"$nulls":9},"CARBÓN Y NEGRO DE HUMO\\COMERCIO (VENTA)","CARBÓN Y NEGRO DE HUMO","COMERCIO (VENTA)","06",{"$nulls":16358},"CARBÓN Y NEGRO DE HUMO - DEPOSITO (ALMACEN)"]
[{"$nulls":4},"NAMIBIA",null,null,2660,"Fabricación De Equipo De Irradiación Y Equipo Electrónico De Uso Medico Y Terapeutico",{"$nulls":9},"CARBÓN Y NEGRO DE HUMO\\DEPÓSITO (ALMACÉN)","CARBÓN Y NEGRO DE HUMO","DEPÓSITO (ALMACÉN)","07",{"$nulls":16358},"CARBÓN Y NEGRO DE HUMO - OFICINA"]
[{"$nulls":4},"NAURU",null,null,2670,"Fabricación De Instrumentos Ópticos Y Equipo Fotográfico",{"$nulls":9},"CARBÓN Y NEGRO DE HUMO\\INDUSTRIA (FÁBRICA)","CARBÓN Y NEGRO DE HUMO","INDUSTRIA (FÁBRICA)","11",{"$nulls":16358},"CARBÓN Y NEGRO DE HUMO - INDUSTRIA (FABRICA)"]
[{"$nulls":4},"NEPAL",null,null,2680,"Fabricación De Soportes Magneticos Y Ópticos",{"$nulls":9},"CARBÓN Y NEGRO DE HUMO\\OFICINA","CARBÓN Y NEGRO DE HUMO","OFICINA","02",{"$nulls":16358},"CÁRCEL - CARCEL"]
[{"$nulls":4},"NICARAGUA",null,null,2710,"Fabricación De Motores, Generadores Y Transformadores Electricos Y Aparatos De Distribución Y Control De La Energia Electrica",{"$nulls":9},"CÁRCEL\\CÁRCEL","CÁRCEL","CÁRCEL","01",{"$nulls":16358},"CARNICERiAS - CARNICERIAS"]
[{"$nulls":4},"NIGER",null,null,2720,"Fabricación De Pilas, Baterias Y Acumuladores",{"$nulls":9},"CARNICERÍAS\\CARNICERÍAS","CARNICERÍAS","CARNICERÍAS","06",{"$nulls":16358},"CASA DE CAMBIO - CASA DE CAMBIO"]
[{"$nulls":4},"NIGERIA",null,null,2731,"Fabricación De Cables De Fibra Óptica",{"$nulls":9},"CASA DE CAMBIO\\CASA DE CAMBIO","CASA DE CAMBIO","CASA DE CAMBIO","06",{"$nulls":16358},"CASA DE CAMPO - CASA DE CAMPO"]
[{"$nulls":4},"NIUE",null,null,2732,"Fabricación De Otros Hilos Y Cables Electricos",{"$nulls":9},"CASA DE CAMPO\\CASA DE CAMPO","CASA DE CAMPO","CASA DE CAMPO","01",{"$nulls":16358},"CASA DE EMPEÑO - CASA DE EMPEÑO"]
[{"$nulls":4},"NO DETERMINADO",null,null,2733,"Fabricación De Dispositivos De Cableado",{"$nulls":9},"CASA DE EMPEÑO\\CASA DE EMPEÑO","CASA DE EMPEÑO","CASA DE EMPEÑO","06",{"$nulls":16358},"CASA DE PLAYA - CASA DE PLAYA"]
[{"$nulls":4},"NORUEGA",null,null,2740,"Fabricación De Equipo Electrico De Iluminación",{"$nulls":9},"CASA DE PLAYA\\CASA DE PLAYA","CASA DE PLAYA","CASA DE PLAYA","01",{"$nulls":16358},"CASA HABITACIÓN - CASA HABITACION"]
[{"$nulls":4},"NUEVA ZELANDIA",null,null,2750,"Fabricación De Aparatos De Uso Domestico",{"$nulls":9},"CASA HABITACIÓN\\CASA HABITACIÓN","CASA HABITACIÓN","CASA HABITACIÓN","01",{"$nulls":16358},"SALONES DE JUEGO, APUESTAS - CASINO"]
[{"$nulls":4},"OMAN",null,null,2790,"Fabricación De Otros Tipos De Equipo Electrico",{"$nulls":9},"CAUCHO\\COMERCIO (VENTA)","CAUCHO","COMERCIO (VENTA)","06",{"$nulls":16358},"CAUCHO - DEPOSITO (ALMACEN)"]
[{"$nulls":4},"PAKISTAN",null,null,2811,"Fabricación De Motores Y Turbinas, Excepto Motores Para Aeronaves, Vehiculos Automotores Y Motocicletas",{"$nulls":9},"CAUCHO\\DEPÓSITO (ALMACÉN)","CAUCHO","DEPÓSITO (ALMACÉN)","06",{"$nulls":16358},"CAUCHO - COMERCIO (VENTA)"]
[{"$nulls":4},"PALAOS",null,null,2812,"Fabricación De Equipo De Propulsión De Fluidos",{"$nulls":9},"CAUCHO\\INDUSTRIA (FÁBRICA)","CAUCHO","INDUSTRIA (FÁBRICA)","07",{"$nulls":16358},"CAUCHO - OFICINA"]
[{"$nulls":4},"PANAMA",null,null,2813,"Fabricación De Bombas, Compresores, Grifos Y Válvulas",{"$nulls":9},"CAUCHO\\OFICINA","CAUCHO","OFICINA","02",{"$nulls":16358},"CAUCHO - INDUSTRIA (FABRICA)"]
[{"$nulls":4},"PAPUA NUEVA GUINEA",null,null,2814,"Fabricación De Cojinetes, Engranajes, Trenes De Engranajes Y Piezas De Transmisión",{"$nulls":9},"CEMENTO, CONCRETO Y SIMILARES\\COMERCIO (VENTA)","CEMENTO, CONCRETO Y SIMILARES","COMERCIO (VENTA)","06",{"$nulls":16358},"CEMENTO, CONCRETO Y SIMILARES - DEPOSITO (ALMACEN)"]
[{"$nulls":4},"PARAGUAY",null,null,2815,"Fabricación De Hornos, Hogares Y Quemadores",{"$nulls":9},"CEMENTO, CONCRETO Y SIMILARES\\DEPÓSITO (ALMACÉN)","CEMENTO, CONCRETO Y SIMILARES","DEPÓSITO (ALMACÉN)","06",{"$nulls":16358},"CEMENTO, CONCRETO Y SIMILARES - COMERCIO (VENTA)"]
[{"$nulls":4},"PHILIPPINES",null,null,2816,"Fabricación De Equipo De Elevación Y Manipulación",{"$nulls":9},"CEMENTO, CONCRETO Y SIMILARES\\INDUSTRIA (FÁBRICA)","CEMENTO, CONCRETO Y SIMILARES","INDUSTRIA (FÁBRICA)","11",{"$nulls":16358},"CEMENTO, CONCRETO Y SIMILARES - OFICINA"]
[{"$nulls":4},"POLINESIA FRANCESA",null,null,2817,"Fabricación De Maquinaria Y Equipo De Oficina (Excepto Ordenadores Y Equipo Periferico)",{"$nulls":9},"CEMENTO, CONCRETO Y SIMILARES\\OFICINA","CEMENTO, CONCRETO Y SIMILARES","OFICINA","02",{"$nulls":16358},"CEMENTO, CONCRETO Y SIMILARES - INDUSTRIA (FABRICA)"]
[{"$nulls":4},"POLONIA",null,null,2818,"Fabricación De Herramientas De Mano Motorizadas",{"$nulls":9},"CENTRO COMERCIAL\\CENTRO COMERCIAL","CENTRO COMERCIAL","CENTRO COMERCIAL","06",{"$nulls":16358},"CENTRO COMERCIAL - CENTRO COMERCIAL"]
[{"$nulls":4},"PORTUGAL",null,null,2819,"Fabricación De Otros Tipos De Maquinaria De Uso General",{"$nulls":9},"CENTROS DE EDUCACIÓN\\ACADEMIAS","CENTROS DE EDUCACIÓN","ACADEMIAS","03",{"$nulls":16358},"CENTROS DE EDUCACIÓN - OFICINA"]
[{"$nulls":4},"PUERTO RICO",null,null,2821,"Fabricación De Maquinaria Agropecuaria Y Forestal",{"$nulls":9},"CENTROS DE EDUCACIÓN\\COLEGIOS","CENTROS DE EDUCACIÓN","COLEGIOS","03",{"$nulls":16358},"CENTROS DE EDUCACIÓN - UNIVERSIDADES"]
[{"$nulls":4},"QATAR",null,null,2822,"Fabricación De Maquinaria Para La Conformación De Metales Y De Máquinas Herramienta",{"$nulls":9},"CENTROS DE EDUCACIÓN\\INSTITUTOS","CENTROS DE EDUCACIÓN","INSTITUTOS","03",{"$nulls":16358},"CENTROS DE EDUCACIÓN - INSTITUTOS"]
[{"$nulls":4},"REINO UNIDO",null,null,2823,"Fabricación De Maquinaria Metalúrgica",{"$nulls":9},"CENTROS DE EDUCACIÓN\\OFICINA","CENTROS DE EDUCACIÓN","OFICINA","02",{"$nulls":16358},"CENTROS DE EDUCACIÓN - ACADEMIAS"]
[{"$nulls":4},"REP. CENTROAFRICANA",null,null,2824,"Fabricación De Maquinaria Para Explotación De Minas Y Canteras Y Para Obras De Construcción",{"$nulls":9},"CENTROS DE EDUCACIÓN\\UNIVERSIDADES","CENTROS DE EDUCACIÓN","UNIVERSIDADES","03",{"$nulls":16358},"CENTROS DE EDUCACIÓN - COLEGIOS"]
[{"$nulls":4},"REPÚBLICA CHECA",null,null,2825,"Fabricación De Maquinaria Para La Elaboración De Alimentos, Bebidas Y Tabaco",{"$nulls":9},"CERÁMICOS,PORCELANAS Y SIMILARES\\COMERCIO (VENTA)","CERÁMICOS,PORCELANAS Y SIMILARES","COMERCIO (VENTA)","06",{"$nulls":16358},"CERÁMICOS,PORCELANAS Y SIMILARES - COMERCIO (VENTA)"]
[{"$nulls":4},"REPÚBLICA DE MAURICIO",null,null,2826,"Fabricación De Maquinaria Para La Elaboración De Productos Textiles, Prendas De Vestir Y Cueros",{"$nulls":9},"CERÁMICOS,PORCELANAS Y SIMILARES\\DEPÓSITO (ALMACÉN)","CERÁMICOS,PORCELANAS Y SIMILARES","DEPÓSITO (ALMACÉN)","06",{"$nulls":16358},"CERÁMICOS,PORCELANAS Y SIMILARES - DEPOSITO (ALMACEN)"]
[{"$nulls":4},"REPUBLICA DOMINICANA",null,null,2829,"Fabricación De Otros Tipos De Maquinaria De Uso Especial",{"$nulls":9},"CERÁMICOS,PORCELANAS Y SIMILARES\\INDUSTRIA (FÁBRICA)","CERÁMICOS,PORCELANAS Y SIMILARES","INDUSTRIA (FÁBRICA)","07",{"$nulls":16358},"CERÁMICOS,PORCELANAS Y SIMILARES - OFICINA"]
[{"$nulls":4},"REPUBLICA POPULAR CHINA",null,null,2910,"Fabricación De Vehiculos Automotores",{"$nulls":9},"CERÁMICOS,PORCELANAS Y SIMILARES\\OFICINA","CERÁMICOS,PORCELANAS Y SIMILARES","OFICINA","02",{"$nulls":16358},"CERÁMICOS,PORCELANAS Y SIMILARES - INDUSTRIA (FABRICA)"]
[{"$nulls":4},"RUMANIA",null,null,2920,"Fabricación De Carrocerias Para Vehiculos Automotores; Fabricación De Remolques Y Semirremolques",{"$nulls":9},"CERVECERÍAS Y/O MALTERÍAS\\COMERCIO (VENTA)","CERVECERÍAS Y/O MALTERÍAS","COMERCIO (VENTA)","06",{"$nulls":16358},"CERVECERiAS Y/O MALTERiAS - DEPOSITO (ALMACEN)"]
[{"$nulls":4},"RUSIA FEDERACION DE",null,null,2930,"Fabricación De Partes, Piezas Y Accesorios Para Vehiculos De Automotores",{"$nulls":9},"CERVECERÍAS Y/O MALTERÍAS\\DEPÓSITO (ALMACÉN)","CERVECERÍAS Y/O MALTERÍAS","DEPÓSITO (ALMACÉN)","07",{"$nulls":16358},"CERVECERiAS Y/O MALTERiAS - COMERCIO (VENTA)"]
[{"$nulls":4},"RWANDA",null,null,3011,"Construcción De Buques Y Estructuras Flotantes",{"$nulls":9},"CERVECERÍAS Y/O MALTERÍAS\\INDUSTRIA (FÁBRICA)","CERVECERÍAS Y/O MALTERÍAS","INDUSTRIA (FÁBRICA)","07",{"$nulls":16358},"CERVECERiAS Y/O MALTERiAS - OFICINA"]
[{"$nulls":4},"SAMOA OCCIDENTAL",null,null,3012,"Construcción De Embarcaciones De Recreo Y Deporte",{"$nulls":9},"CERVECERÍAS Y/O MALTERÍAS\\OFICINA","CERVECERÍAS Y/O MALTERÍAS","OFICINA","02",{"$nulls":16358},"CERVECERiAS Y/O MALTERiAS - INDUSTRIA (FABRICA)"]
[{"$nulls":4},"SAN CRISTOBAL Y NEVIS",null,null,3020,"Fabricación De Locomotoras Y De Material Rodante",{"$nulls":9},"CHANCADORA DE PIEDRAS\\CHANCADORA DE PIEDRAS","CHANCADORA DE PIEDRAS","CHANCADORA DE PIEDRAS","07",{"$nulls":16358},"CHANCADORA DE PIEDRAS - CHANCADORA DE PIEDRAS"]
[{"$nulls":4},"SAN MARINO",null,null,3030,"Fabricación De Aeronaves Y  Naves Espaciales Y Maquinaria Conexa",{"$nulls":9},"CINES\\CINES","CINES","CINES","06",{"$nulls":16358},"CINES - CINES"]
[{"$nulls":4},"SAN VICENTE Y LAS GRANADINAS",null,null,3040,"Fabricación De Vehiculos Militares De Combate",{"$nulls":9},"CINTAS ADHESIVAS Y/O ETIQUETAS AUTOADHESIVAS\\DEPÓSITO (ALMACÉN)","CINTAS ADHESIVAS Y/O ETIQUETAS AUTOADHESIVAS","DEPÓSITO (ALMACÉN)","06",{"$nulls":16358},"CINTAS ADHESIVAS Y/O ETIQUETAS AUTOADHESIVAS - DEPOSITO (ALMACEN)"]
[{"$nulls":4},"SANTA LUCIA",null,null,3091,"Fabricación De Motocicletas",{"$nulls":9},"CINTAS ADHESIVAS Y/O ETIQUETAS AUTOADHESIVAS\\INDUSTRIA (FÁBRICA)","CINTAS ADHESIVAS Y/O ETIQUETAS AUTOADHESIVAS","INDUSTRIA (FÁBRICA)","07",{"$nulls":16358},"CINTAS ADHESIVAS Y/O ETIQUETAS AUTOADHESIVAS - OFICINA"]
[{"$nulls":4},"SANTA SEDE (VATICANO)",null,null,3092,"Fabricación De Bicicletas Y De Sillones De Ruedas Para Inválidos",{"$nulls":9},"CINTAS ADHESIVAS Y/O ETIQUETAS AUTOADHESIVAS\\OFICINA","CINTAS ADHESIVAS Y/O ETIQUETAS AUTOADHESIVAS","OFICINA","02",{"$nulls":16358},"CINTAS ADHESIVAS Y/O ETIQUETAS AUTOADHESIVAS - INDUSTRIA (FABRICA)"]
[{"$nulls":4},"SANTO TOME Y PRINCIPE",null,null,3099,"Fabricación De Otros Tipos De Equipo De Transporte N.C.P.",{"$nulls":9},"CLUBES Y/O CENTROS DE ESPARCIMIENTO\\CLUBES Y/O CENTROS DE ESPARCIMIENTO Y/O SIMILARES","CLUBES Y/O CENTROS DE ESPARCIMIENTO","CLUBES Y/O CENTROS DE ESPARCIMIENTO Y/O SIMILARES","10",{"$nulls":16358},"CLUBES Y/O CENTROS DE ESPARCIMIENTO - OFICINA"]
[{"$nulls":4},"SENEGAL",null,null,3100,"Fabricación De Muebles",{"$nulls":9},"CLUBES Y/O CENTROS DE ESPARCIMIENTO\\OFICINA","CLUBES Y/O CENTROS DE ESPARCIMIENTO","OFICINA","02",{"$nulls":16358},"CLUBES Y/O CENTROS DE ESPARCIMIENTO - CLUBES Y/O CENTROS DE ESPARCIMIENTO"]
[{"$nulls":4},"SERBIA",null,null,3211,"Fabricación De Joyas Y Articulos Conexos",{"$nulls":9},"COLCHONES, ESPUMAS, ALMOHADAS Y AFINES\\COMERCIO (VENTA)","COLCHONES, ESPUMAS, ALMOHADAS Y AFINES","COMERCIO (VENTA)","06",{"$nulls":16358},"COLCHONES, ESPUMAS, ALMOHADAS Y AFINES - DEPOSITO (ALMACEN)"]
[{"$nulls":4},"SEYCHELLES",null,null,3212,"Fabricación De Bisuteria Y Articulos Conexos",{"$nulls":9},"COLCHONES, ESPUMAS, ALMOHADAS Y AFINES\\DEPÓSITO (ALMACÉN)","COLCHONES, ESPUMAS, ALMOHADAS Y AFINES","DEPÓSITO (ALMACÉN)","06",{"$nulls":16358},"COLCHONES, ESPUMAS, ALMOHADAS Y AFINES - COMERCIO (VENTA)"]
[{"$nulls":4},"SIERRA LEONA",null,null,3220,"Fabricación De Instrumentos De Música",{"$nulls":9},"COLCHONES, ESPUMAS, ALMOHADAS Y AFINES\\INDUSTRIA (FÁBRICA)","COLCHONES, ESPUMAS, ALMOHADAS Y AFINES","INDUSTRIA (FÁBRICA)","07",{"$nulls":16358},"COLCHONES, ESPUMAS, ALMOHADAS Y AFINES - OFICINA"]
[{"$nulls":4},"SINGAPUR",null,null,3230,"Fabricación De Articulos De Deporte",{"$nulls":9},"COLCHONES, ESPUMAS, ALMOHADAS Y AFINES\\OFICINA","COLCHONES, ESPUMAS, ALMOHADAS Y AFINES","OFICINA","02",{"$nulls":16358},"COLCHONES, ESPUMAS, ALMOHADAS Y AFINES - INDUSTRIA (FABRICA)"]
[{"$nulls":4},"SIRIA",null,null,3240,"Fabricación De Juegos Y Juguetes",{"$nulls":9},"COMPUTADORAS (EQUIPOS Y/O SUMINISTRO)\\COMERCIO (VENTA)","COMPUTADORAS (EQUIPOS Y/O SUMINISTRO)","COMERCIO (VENTA)","06",{"$nulls":16358},"COMPUTADORAS (EQUIPOS Y/O SUMINISTRO) - DEPOSITO (ALMACEN)"]
[{"$nulls":4},"SOMALIA",null,null,3250,"Fabricación De Instrumentos Y Materiales Medicos Y Odontológicos",{"$nulls":9},"COMPUTADORAS (EQUIPOS Y/O SUMINISTRO)\\DEPÓSITO (ALMACÉN)","COMPUTADORAS (EQUIPOS Y/O SUMINISTRO)","DEPÓSITO (ALMACÉN)","06",{"$nulls":16358},"COMPUTADORAS (EQUIPOS Y/O SUMINISTRO) - COMERCIO (VENTA)"]
[{"$nulls":4},"SRI LANKA(CEILAN)",null,null,3290,"Otras Industrias Manufactureras N.C.P.",{"$nulls":9},"COMPUTADORAS (EQUIPOS Y/O SUMINISTRO)\\INDUSTRIA (FÁBRICA)","COMPUTADORAS (EQUIPOS Y/O SUMINISTRO)","INDUSTRIA (FÁBRICA)","07",{"$nulls":16358},"COMPUTADORAS (EQUIPOS Y/O SUMINISTRO) - TALLER"]
[{"$nulls":4},"SUDAFRICA",null,null,3311,"Reparación De Productos Elaborados De Metal",{"$nulls":9},"COMPUTADORAS (EQUIPOS Y/O SUMINISTRO)\\OFICINA","COMPUTADORAS (EQUIPOS Y/O SUMINISTRO)","OFICINA","02",{"$nulls":16358},"COMPUTADORAS (EQUIPOS Y/O SUMINISTRO) - OFICINA"]
[{"$nulls":4},"SUDAN",null,null,3312,"Reparación De Maquinaria",{"$nulls":9},"COMPUTADORAS (EQUIPOS Y/O SUMINISTRO)\\TALLER","COMPUTADORAS (EQUIPOS Y/O SUMINISTRO)","TALLER","05",{"$nulls":16358},"COMPUTADORAS (EQUIPOS Y/O SUMINISTRO) - INDUSTRIA (FABRICA)"]
[{"$nulls":4},"SUDAN DEL SUR",null,null,3313,"Reparación De Equipo Electrónico Y Óptico",{"$nulls":9},"CONCESIONARIA DE LA RED VIAL\\CONCESIONARIA DE LA RED VIAL","CONCESIONARIA DE LA RED VIAL","CONCESIONARIA DE LA RED VIAL","11",{"$nulls":16358},"CONCESIONARIA DE LA RED VIAL - CONCESIONARIA DE LA RED VIAL"]
[{"$nulls":4},"SUECIA",null,null,3314,"Reparación De Equipo Electrico",{"$nulls":9},"CONSULTORIA Y ASESORAMIENTO\\OFICINA","CONSULTORIA Y ASESORAMIENTO","OFICINA","02",{"$nulls":16358},"CONSULTORIA Y ASESORAMIENTO - OFICINA"]
[{"$nulls":4},"SUIZA",null,null,3315,"Reparación De Equipo De Transporte, Excepto Vehiculos Automotores",{"$nulls":9},"CONTRATISTA CONSTRUCTOR\\CONSTRUCCION","CONTRATISTA CONSTRUCTOR","CONSTRUCCION","07",{"$nulls":16358},"CONTRATISTA CONSTRUCTOR - DEPOSITO (ALMACEN)"]
[{"$nulls":4},"SURINAME",null,null,3319,"Reparación De Otros Tipos De Equipo",{"$nulls":9},"CONTRATISTA CONSTRUCTOR\\DEPÓSITO (ALMACÉN)","CONTRATISTA CONSTRUCTOR","DEPÓSITO (ALMACÉN)","06",{"$nulls":16358},"CONTRATISTA CONSTRUCTOR - CONSTRUCCION"]
[{"$nulls":4},"SWAZILANDIA",null,null,3320,"Instalación De Maquinaria Y Equipo Industriales",{"$nulls":9},"CONTRATISTA CONSTRUCTOR\\MAQUINARIA EN OBRA","CONTRATISTA CONSTRUCTOR","MAQUINARIA EN OBRA","05",{"$nulls":16358},"CONTRATISTA CONSTRUCTOR - TALLER DE MANTENIMIENTO"]
[{"$nulls":4},"TAILANDIA",null,null,3510,"Generación, Transmisión Y Distribución De Energia Electrica",{"$nulls":9},"CONTRATISTA CONSTRUCTOR\\OFICINA","CONTRATISTA CONSTRUCTOR","OFICINA","02",{"$nulls":16358},"CONTRATISTA CONSTRUCTOR - OFICINA"]
[{"$nulls":4},"TAIWAN",null,null,3520,"Fabricación Del Gas; Distribución De Combustibles Gaseosos Por Tuberias",{"$nulls":9},"CONTRATISTA CONSTRUCTOR\\TALLER DE MANTENIMIENTO","CONTRATISTA CONSTRUCTOR","TALLER DE MANTENIMIENTO","05",{"$nulls":16358},"CONTRATISTA CONSTRUCTOR - MAQUINARIA EN OBRA"]
[{"$nulls":4},"TANZANIA",null,null,3530,"Suministro De Vapor Y Aire Acondicionado",{"$nulls":9},"CONTRATISTA MINERO\\DEPÓSITO (ALMACÉN)","CONTRATISTA MINERO","DEPÓSITO (ALMACÉN)","07",{"$nulls":16358},"CONTRATISTA MINERO - DEPOSITO (ALMACEN)"]
[{"$nulls":4},"TAYISKISTAN",null,null,3600,"Captación, Tratamiento Y Distribución De Agua",{"$nulls":9},"CONTRATISTA MINERO\\MAQUINARIA EN OBRA","CONTRATISTA MINERO","MAQUINARIA EN OBRA","05",{"$nulls":16358},"CONTRATISTA MINERO - TALLER DE MANTENIMIENTO"]
[{"$nulls":4},"TIMOR ORIENTAL",null,null,3700,"Evacuación De Aguas Residuales",{"$nulls":9},"CONTRATISTA MINERO\\OFICINA","CONTRATISTA MINERO","OFICINA","02",{"$nulls":16358},"CONTRATISTA MINERO - OFICINA"]
[{"$nulls":4},"TOGO",null,null,3811,"Recogida De Desechos No Peligrosos",{"$nulls":9},"CONTRATISTA MINERO\\TALLER DE MANTENIMIENTO","CONTRATISTA MINERO","TALLER DE MANTENIMIENTO","05",{"$nulls":16358},"CONTRATISTA MINERO - MAQUINARIA EN OBRA"]
[{"$nulls":4},"TONGA",null,null,3812,"Recogida De Desechos Peligrosos",{"$nulls":9},"COOP. DE AHORRO Y CREDITO\\ENTIDADES FINANCIERAS","COOP. DE AHORRO Y CREDITO","ENTIDADES FINANCIERAS","02",{"$nulls":16358},"COOP. DE AHORRO Y CREDITO - ENTIDADES FINANCIERAS"]
[{"$nulls":4},"TRINIDAD Y TOBAGO",null,null,3821,"Tratamiento Y Eliminación De Desechos No Peligrosos",{"$nulls":9},"COOPERATIVA DE TRABAJO\\ENTIDADES FINANCIERAS","COOPERATIVA DE TRABAJO","ENTIDADES FINANCIERAS","02",{"$nulls":16358},"COOPERATIVA DE TRABAJO - ENTIDADES FINANCIERAS"]
[{"$nulls":4},"TUNEZ",null,null,3822,"Tratamiento Y Eliminación De Desechos Peligrosos",{"$nulls":9},"CORREO - SERVICIO POSTAL\\COMUNICACIÓN Y CORREO","CORREO - SERVICIO POSTAL","COMUNICACIÓN Y CORREO","02",{"$nulls":16358},"CORREO - SERVICIO POSTAL - DEPOSITO (ALMACEN)"]
[{"$nulls":4},"TURKMENISTAN",null,null,3830,"Recuperación De Materiales",{"$nulls":9},"CORREO - SERVICIO POSTAL\\DEPÓSITO (ALMACÉN)","CORREO - SERVICIO POSTAL","DEPÓSITO (ALMACÉN)","06",{"$nulls":16358},"CORREO - SERVICIO POSTAL - OFICINA"]
[{"$nulls":4},"TURQUIA",null,null,3900,"Actividades De Descontaminación Y Otros Servicios De Gestión De Desechos",{"$nulls":9},"CORREO - SERVICIO POSTAL\\OFICINA","CORREO - SERVICIO POSTAL","OFICINA","02",{"$nulls":16358},"CORREO - SERVICIO POSTAL - COMUNICACION Y CORREO"]
[{"$nulls":4},"TUVALU",null,null,4100,"Construcción De Edificios",{"$nulls":9},"COSMÉTICOS Y PRODUCTOS DE BELLEZA\\COMERCIO (VENTA)","COSMÉTICOS Y PRODUCTOS DE BELLEZA","COMERCIO (VENTA)","06",{"$nulls":16358},"COSMeTICOS Y PRODUCTOS DE BELLEZA - DEPOSITO (ALMACEN)"]
[{"$nulls":4},"UCRANIA",null,null,4210,"Construcción De Carreteras Y Lineas De Ferrocarril",{"$nulls":9},"COSMÉTICOS Y PRODUCTOS DE BELLEZA\\DEPÓSITO (ALMACÉN)","COSMÉTICOS Y PRODUCTOS DE BELLEZA","DEPÓSITO (ALMACÉN)","06",{"$nulls":16358},"COSMeTICOS Y PRODUCTOS DE BELLEZA - COMERCIO (VENTA)"]
[{"$nulls":4},"UGANDA",null,null,4220,"Construcción De Proyectos De Servicio Público",{"$nulls":9},"COSMÉTICOS Y PRODUCTOS DE BELLEZA\\INDUSTRIA (FÁBRICA)","COSMÉTICOS Y PRODUCTOS DE BELLEZA","INDUSTRIA (FÁBRICA)","07",{"$nulls":16358},"COSMeTICOS Y PRODUCTOS DE BELLEZA - OFICINA"]
[{"$nulls":4},"URUGUAY",null,null,4290,"Construcción De Otras Obras De Ingenieria Civil",{"$nulls":9},"COSMÉTICOS Y PRODUCTOS DE BELLEZA\\OFICINA","COSMÉTICOS Y PRODUCTOS DE BELLEZA","OFICINA","02",{"$nulls":16358},"COSMeTICOS Y PRODUCTOS DE BELLEZA - INDUSTRIA (FABRICA)"]
[{"$nulls":4},"UZBEKISTAN",null,null,4311,"Demolición",{"$nulls":9},"COURIER - SERVICIO DE MENSAJERIA\\COURIER","COURIER - SERVICIO DE MENSAJERIA","COURIER","06",{"$nulls":16358},"COURIER - SERVICIO DE MENSAJERIA - DEPOSITO (ALMACEN)"]
[{"$nulls":4},"VANUATU",null,null,4312,"Preparación Del Terreno",{"$nulls":9},"COURIER - SERVICIO DE MENSAJERIA\\DEPÓSITO (ALMACÉN)","COURIER - SERVICIO DE MENSAJERIA","DEPÓSITO (ALMACÉN)","06",{"$nulls":16358},"COURIER - SERVICIO DE MENSAJERIA - COURRIER"]
[{"$nulls":4},"VENEZUELA",null,null,4321,"Instalaciones Electricas",{"$nulls":9},"CRISTAL Y VIDRIO\\COMERCIO (VENTA)","CRISTAL Y VIDRIO","COMERCIO (VENTA)","06",{"$nulls":16358},"CRISTAL Y VIDRIO - DEPOSITO (ALMACEN)"]
[{"$nulls":4},"VIET NAM",null,null,4322,"Instalaciones De Fontaneria, Calefacción Y Aire Acondicionado",{"$nulls":9},"CRISTAL Y VIDRIO\\DEPÓSITO (ALMACÉN)","CRISTAL Y VIDRIO","DEPÓSITO (ALMACÉN)","06",{"$nulls":16358},"CRISTAL Y VIDRIO - COMERCIO (VENTA)"]
[{"$nulls":4},"YEMEN REPUBLICA DE",null,null,4329,"Otras Instalaciones Para Obras De Construcción",{"$nulls":9},"CRISTAL Y VIDRIO\\INDUSTRIA (FÁBRICA)","CRISTAL Y VIDRIO","INDUSTRIA (FÁBRICA)","07",{"$nulls":16358},"CRISTAL Y VIDRIO - OFICINA"]
[{"$nulls":4},"YUGOSLAVIA REP.FEDERAL DE",null,null,4330,"Terminación Y Acabado De Edificios",{"$nulls":9},"CRISTAL Y VIDRIO\\OFICINA","CRISTAL Y VIDRIO","OFICINA","02",{"$nulls":16358},"CRISTAL Y VIDRIO - INDUSTRIA (FABRICA)"]
[{"$nulls":4},"ZAIRE",null,null,4390,"Otras Actividades Especializadas De La Construcción",{"$nulls":9},"CUERDAS, LANAS E HILOS\\COMERCIO (VENTA)","CUERDAS, LANAS E HILOS","COMERCIO (VENTA)","06",{"$nulls":16358},"CUERDAS, LANAS E HILOS - DEPOSITO (ALMACEN)"]
[{"$nulls":4},"ZAMBIA",null,null,4510,"Venta De Vehiculos Automotores",{"$nulls":9},"CUERDAS, LANAS E HILOS\\DEPÓSITO (ALMACÉN)","CUERDAS, LANAS E HILOS","DEPÓSITO (ALMACÉN)","06",{"$nulls":16358},"CUERDAS, LANAS E HILOS - COMERCIO (VENTA)"]
[{"$nulls":4},"ZIMBABWE",null,null,4520,"Mantenimiento Y Reparación De Vehiculos Automotores",{"$nulls":9},"CUERDAS, LANAS E HILOS\\INDUSTRIA (FÁBRICA)","CUERDAS, LANAS E HILOS","INDUSTRIA (FÁBRICA)","07",{"$nulls":16358},"CUERDAS, LANAS E HILOS - INDUSTRIA (FABRICA)"]
[{"$nulls":7},4530,"Ventas De Partes, Piezas Y Accesorios Para Vehiculos Automotores",{"$nulls":9},"CUERO, CURTIEMBRE, CURTIDURÍA\\COMERCIO (VENTA)","CUERO, CURTIEMBRE, CURTIDURÍA","COMERCIO (VENTA)","06",{"$nulls":16358},"CUERO Y ARTICULOS DE - OFICINA"]
[{"$nulls":7},4540,"Venta, Mantenimiento Y Reparación De Motocicletas Y De Sus Partes, Piezas Y Accesorios.",{"$nulls":9},"CUERO, CURTIEMBRE, CURTIDURÍA\\DEPÓSITO (ALMACÉN)","CUERO, CURTIEMBRE, CURTIDURÍA","DEPÓSITO (ALMACÉN)","06",{"$nulls":16358},"CUERO Y ARTICULOS DE - INDUSTRIA (FABRICA)"]
[{"$nulls":7},4610,"Venta Al Por Mayor A Cambio De Una Retribución O Por Contrata",{"$nulls":9},"CUERO, CURTIEMBRE, CURTIDURÍA\\INDUSTRIA (FÁBRICA)","CUERO, CURTIEMBRE, CURTIDURÍA","INDUSTRIA (FÁBRICA)","07",{"$nulls":16358},"CUERO Y ARTICULOS DE - COMERCIO (VENTA)"]
[{"$nulls":7},4620,"Venta Al Por Mayor De Materias Primas Agropecuarias Y Animales Vivos.",{"$nulls":9},"CUERO, CURTIEMBRE, CURTIDURÍA\\OFICINA","CUERO, CURTIEMBRE, CURTIDURÍA","OFICINA","02",{"$nulls":16358},"CUERO Y ARTiCULOS DE - DEPOSITO (ALMACEN)"]
[{"$nulls":7},4630,"Venta Al Por Mayor De Alimentos, Bebidas Y Tabaco.",{"$nulls":9},"CUERO Y ARTICULOS DE\\COMERCIO (VENTA)","CUERO Y ARTICULOS DE","COMERCIO (VENTA)","06",{"$nulls":16358},"CUERO, CURTIEMBRE, CURTIDURiA - DEPOSITO (ALMACEN)"]
[{"$nulls":7},4641,"Venta Al Por Mayor De Productos Textiles, Prendas De Vestir Y Calzado",{"$nulls":9},"CUERO Y ARTÍCULOS DE\\DEPÓSITO (ALMACÉN)","CUERO Y ARTÍCULOS DE","DEPÓSITO (ALMACÉN)","06",{"$nulls":16358},"CUERO, CURTIEMBRE, CURTIDURiA - COMERCIO (VENTA)"]
[{"$nulls":7},4649,"Venta Al Por Mayor De Otros Enseres Domesticos",{"$nulls":9},"CUERO Y ARTICULOS DE\\INDUSTRIA (FÁBRICA)","CUERO Y ARTICULOS DE","INDUSTRIA (FÁBRICA)","07",{"$nulls":16358},"CUERO, CURTIEMBRE, CURTIDURiA - OFICINA"]
[{"$nulls":7},4651,"Venta Al Por Mayor De Ordenadores, Equipo Periferico Y Programas De Informática",{"$nulls":9},"CUERO Y ARTICULOS DE\\OFICINA","CUERO Y ARTICULOS DE","OFICINA","02",{"$nulls":16358},"CUERO, CURTIEMBRE, CURTIDURiA - INDUSTRIA (FABRICA)"]
[{"$nulls":7},4652,"Venta Al Por Mayor De Equipo, Partes Y Piezas Electrónicos Y De Telecomunicaciones",{"$nulls":9},"CULTIVOS, COSECHAS\\CULTIVOS, COSECHAS","CULTIVOS, COSECHAS","CULTIVOS, COSECHAS","11",{"$nulls":16358},"CULTIVOS, COSECHAS - CULTIVOS, COSECHAS"]
[{"$nulls":7},4653,"Venta Al Por Mayor De Maquinaria, Equipo Y Materiales Agropecuarios ",{"$nulls":9},"DECORACIÓN\\COMERCIO (VENTA)","DECORACIÓN","COMERCIO (VENTA)","06",{"$nulls":16358},"DECORACIÓN - COMERCIO (VENTA)"]
[{"$nulls":7},4659,"Venta Al Por Mayor De Otros Tipos De Maquinaria Y Equipo",{"$nulls":9},"DEPENDENCIAS GUBERNAMENTALES\\OFICINA","DEPENDENCIAS GUBERNAMENTALES","OFICINA","02",{"$nulls":16358},"DEPENDENCIAS GUBERNAMENTALES - OFICINA"]
[{"$nulls":7},4661,"Venta Al Por Mayor De Combustibles Sólidos, Liquidos Y Gaseosos Y  Productos Conexos",{"$nulls":9},"DESALINIZACIÓN\\OFICINA","DESALINIZACIÓN","OFICINA","02",{"$nulls":16358},"DESALINIZACIÓN - OFICINA"]
[{"$nulls":7},4662,"Venta Al Por Mayor De Metales Y Minerales Metaliferos",{"$nulls":9},"DESTILERÍA\\COMERCIO (VENTA)","DESTILERÍA","COMERCIO (VENTA)","06",{"$nulls":16358},"DESTILERiA - COMERCIO (VENTA)"]
[{"$nulls":7},4663,"Venta Al Por Mayor De Materiales De Construcción, Articulos De Ferreteria Y Equipo Y Materiales De Fontaneria Y Calefacción.",{"$nulls":9},"DESTILERÍA\\DEPÓSITO (ALMACÉN)","DESTILERÍA","DEPÓSITO (ALMACÉN)","06",{"$nulls":16358},"DESTILERiA - DEPOSITO (ALMACEN)"]
[{"$nulls":7},4669,"Venta Al Por Mayor De Desperdicios, Desechos, Chatarra Y Otros Productos N.C.P ",{"$nulls":9},"DESTILERÍA\\INDUSTRIA (FÁBRICA)","DESTILERÍA","INDUSTRIA (FÁBRICA)","07",{"$nulls":16358},"DESTILERiA - OFICINA"]
[{"$nulls":7},4690,"Venta Al Por Mayor No Especializada ",{"$nulls":9},"DESTILERÍA\\OFICINA","DESTILERÍA","OFICINA","02",{"$nulls":16358},"DESTILERiA - INDUSTRIA (FABRICA)"]
[{"$nulls":7},4711,"Venta Al Por Menor En Comercios No Especializados Con Predominio De La Venta De Alimentos, Bebidas O Tabaco",{"$nulls":9},"DETERGENTES\\COMERCIO (VENTA)","DETERGENTES","COMERCIO (VENTA)","06",{"$nulls":16358},"DETERGENTES - DEPOSITO (ALMACEN)"]
[{"$nulls":7},4719,"Otras Actividades De Venta Al Por Menor En Comercios No Especializados",{"$nulls":9},"DETERGENTES\\DEPÓSITO (ALMACÉN)","DETERGENTES","DEPÓSITO (ALMACÉN)","06",{"$nulls":16358},"DETERGENTES - DEPOSITO (ALMACEN)"]
[{"$nulls":7},4721,"Venta Al Por Menor De Alimentos En Comercios Especializados",{"$nulls":9},"DETERGENTES\\INDUSTRIA (FÁBRICA)","DETERGENTES","INDUSTRIA (FÁBRICA)","07",{"$nulls":16358},"DETERGENTES - COMERCIO (VENTA)"]
[{"$nulls":7},4722,"Venta Al Por Menor De Bebidas En Comercios Especializados",{"$nulls":9},"DETERGENTES\\OFICINA","DETERGENTES","OFICINA","02",{"$nulls":16358},"DETERGENTES - OFICINA"]
[{"$nulls":7},4723,"Venta Al Por Menor De Productos De Tabaco En Comercios Especializados",{"$nulls":9},"DISCOS Y/O CINTAS Y/O CASSETTES Y/O AFINES\\COMERCIO (VENTA)","DISCOS Y/O CINTAS Y/O CASSETTES Y/O AFINES","COMERCIO (VENTA)","06",{"$nulls":16358},"DISCOS Y/O CINTAS Y/O CASSETTES Y/O AFINES - INDUSTRIA (FABRICA)"]
[{"$nulls":7},4730,"Venta Al Por Menor De Combustibles Para Vehiculos Automotores En Comercios Especializados",{"$nulls":9},"DISCOS Y/O CINTAS Y/O CASSETTES Y/O AFINES\\OFICINA","DISCOS Y/O CINTAS Y/O CASSETTES Y/O AFINES","OFICINA","02",{"$nulls":16358},"DISCOS Y/O CINTAS Y/O CASSETTES Y/O AFINES - COMERCIO (VENTA)"]
[{"$nulls":7},4741,"Venta Al Por Menor De Ordenadores, Equipo Periferico, Programas Informáticos Y Equipo De Telecomunicaciones En Comercios Especializados",{"$nulls":9},"DISCOTECAS,CLUBES NOCTURNOS,SALONES DE BAILE\\DISCOTECAS O CLUBES NOCTURNOS O SALONES DE BAILE","DISCOTECAS,CLUBES NOCTURNOS,SALONES DE BAILE","DISCOTECAS O CLUBES NOCTURNOS O SALONES DE BAILE","10",{"$nulls":16358},"DISCOTECAS,CLUBES NOCTURNOS,SALONES DE BAILE - OFICINA"]
[{"$nulls":7},4742,"Venta Al Por Menor De Equipo De Sonido Y De Video En Comercios Especializados",{"$nulls":9},"DULCES Y/O GOLOSINAS Y/O CONFITERÍA\\DEPÓSITO (ALMACÉN)","DULCES Y/O GOLOSINAS Y/O CONFITERÍA","DEPÓSITO (ALMACÉN)","06",{"$nulls":16358},"DULCES Y/O GOLOSINAS Y/O CONFITERiA - DISCOTECAS,CLUBES NOCTURNOS,SA"]
[{"$nulls":7},4751,"Venta Al Por Menor De Productos Textiles En Comercios Especializados",{"$nulls":9},"DULCES Y/O GOLOSINAS Y/O CONFITERÍA\\INDUSTRIA (FÁBRICA)","DULCES Y/O GOLOSINAS Y/O CONFITERÍA","INDUSTRIA (FÁBRICA)","07",{"$nulls":16358},"DULCES Y/O GOLOSINAS Y/O CONFITERiA - DEPOSITO (ALMACEN)"]
[{"$nulls":7},4752,"Venta Al Por Menor De Articulos De Ferreteria, Pinturas Y Productos De Vidrio En Comercios Especializados",{"$nulls":9},"DULCES Y/O GOLOSINAS Y/O CONFITERÍA\\OFICINA","DULCES Y/O GOLOSINAS Y/O CONFITERÍA","OFICINA","02",{"$nulls":16358},"DULCES Y/O GOLOSINAS Y/O CONFITERiA - OFICINA"]
[{"$nulls":7},4753,"Venta Al Por Menor De Tapices, Alfombras Y Cubrimientos Para Paredes Y Pisos En Comercios Especializados",{"$nulls":9},"EDITORAS, DIARIOS Y REVISTAS\\DISTRIBUIDORA","EDITORAS, DIARIOS Y REVISTAS","DISTRIBUIDORA","06",{"$nulls":16358},"EDITORAS, DIARIOS Y REVISTAS - INDUSTRIA (FABRICA)"]
[{"$nulls":7},4759,"Venta Al Por Menor De Aparatos Electricos De Uso Domestico,  Muebles, Equipo De Iluminación Y Otros Enseres Domesticos En Comercios Especializados",{"$nulls":9},"EDITORAS, DIARIOS Y REVISTAS\\EDITORA","EDITORAS, DIARIOS Y REVISTAS","EDITORA","02",{"$nulls":16358},"EDITORAS, DIARIOS Y REVISTAS - DISTRIBUIDORA"]
[{"$nulls":7},4761,"Venta Al Por Menor De Libros, Periódicos Y Articulos De Papeleria En Comercios Especializados",{"$nulls":9},"EDITORAS, DIARIOS Y REVISTAS\\OFICINA","EDITORAS, DIARIOS Y REVISTAS","OFICINA","02",{"$nulls":16358},"EDITORAS, DIARIOS Y REVISTAS - OFICINA"]
[{"$nulls":7},4762,"Venta Al Por Menor De Grabaciones De Música Y De Video En Comercios Especializados",{"$nulls":9},"EMBARCACIONES\\COMERCIO (VENTA)","EMBARCACIONES","COMERCIO (VENTA)","06",{"$nulls":16358},"EMBARCACIONES - EDITORA"]
[{"$nulls":7},4763,"Venta Al Por Menor De Equipo De Deporte En Comercios Especializados",{"$nulls":9},"EMBARCACIONES\\DEPÓSITO (ALMACÉN)","EMBARCACIONES","DEPÓSITO (ALMACÉN)","07",{"$nulls":16358},"EMBARCACIONES - DEPOSITO (ALMACEN)"]
[{"$nulls":7},4764,"Venta Al Por Menor De Juegos Y  Juguetes En Comercios Especializados",{"$nulls":9},"EMBOTELLADORA\\INDUSTRIA (FÁBRICA)","EMBOTELLADORA","INDUSTRIA (FÁBRICA)","07",{"$nulls":16358},"EMBOTELLADORA - COMERCIO (VENTA)"]
[{"$nulls":7},4771,"Venta Al Por Menor De Prendas De Vestir, Calzado Y Articulos De Cuero En Comercios Especializados",{"$nulls":9},"EMPRESA  FERROVIARIA\\TRANSPORTES","EMPRESA  FERROVIARIA","TRANSPORTES","06",{"$nulls":16358},"EMPRESA  FERROVIARIA - INDUSTRIA (FABRICA)"]
[{"$nulls":7},4772,"Venta Al Por Menor De Productos Farmaceuticos Y Medicinales, Cosmeticos Y Articulos De Tocador En Comercios Especializados   ",{"$nulls":9},"EMPRESA DE COBRANZA\\EMPRESA DE COBRANZA","EMPRESA DE COBRANZA","EMPRESA DE COBRANZA","02",{"$nulls":16358},"EMPRESA DE COBRANZA - TRANSPORTES"]
[{"$nulls":7},4773,"Venta Al Por Menor De Otros Productos Nuevos En Comercios Especializados",{"$nulls":9},"EMPRESA DE LIMPIEZA Y MANTENIMIENTO\\DEPÓSITO (ALMACÉN)","EMPRESA DE LIMPIEZA Y MANTENIMIENTO","DEPÓSITO (ALMACÉN)","06",{"$nulls":16358},"EMPRESA DE LIMPIEZA Y MANTENIMIENTO - EMPRESA DE COBRANZA"]
[{"$nulls":7},4774,"Venta Al Por Menor De Articulos De Segunda Mano",{"$nulls":9},"EMPRESA DE LIMPIEZA Y MANTENIMIENTO\\OFICINA","EMPRESA DE LIMPIEZA Y MANTENIMIENTO","OFICINA","02",{"$nulls":16358},"EMPRESA DE LIMPIEZA Y MANTENIMIENTO - DEPOSITO (ALMACEN)"]
[{"$nulls":7},4781,"Venta Al Por Menor De Alimentos, Bebidas Y Tabaco En Puestos De Venta Y Mercados ",{"$nulls":9},"EMPRESA DE VIGILANCIA Y SEGURIDAD\\OFICINA","EMPRESA DE VIGILANCIA Y SEGURIDAD","OFICINA","02",{"$nulls":16358},"EMPRESA DE VIGILANCIA Y SEGURIDAD - OFICINA"]
[{"$nulls":7},4782,"Venta Al Por Menor De Productos Textiles, Prendas De Vestir Y Calzado En Puestos De Venta Y Mercados",{"$nulls":9},"ENERGÍA\\CENTRAL TÉRMICA","ENERGÍA","CENTRAL TÉRMICA","11",{"$nulls":16358},"ENERGiA - OFICINA"]
[{"$nulls":7},4789,"Venta Al Por Menor De Otros Productos En Puestos De Venta Y Mercados",{"$nulls":9},"ENERGÍA\\CENTRALES COMBINADAS","ENERGÍA","CENTRALES COMBINADAS","11",{"$nulls":16358},"ENERGiA - OFICINA"]
[{"$nulls":7},4791,"Venta Al Por Menor Por Correo Y Por Internet",{"$nulls":9},"ENERGÍA\\CH - GENERACIÓN","ENERGÍA","CH - GENERACIÓN","11",{"$nulls":16358},"ENERGiA - CH - GENERACION - DISTRIBUCION"]
[{"$nulls":7},4799,"Otras Actividades De Venta Al Por Menor No Realizadas En Comercios, Puestos De Venta O Mercados",{"$nulls":9},"ENERGÍA\\CH - GENERACIÓN - DISTRIBUCIÓN","ENERGÍA","CH - GENERACIÓN - DISTRIBUCIÓN","11",{"$nulls":16358},"ENERGiA - CH - GENERACION"]
[{"$nulls":7},4911,"Transporte Interurbano De Pasajeros Por Ferrocarril",{"$nulls":9},"ENERGÍA\\LÍNEAS DE TRANSMISIÓN","ENERGÍA","LÍNEAS DE TRANSMISIÓN","11",{"$nulls":16358},"ENERGiA - CENTRALES COMBINADAS"]
[{"$nulls":7},4912,"Transporte De Carga Por Ferrocarril",{"$nulls":9},"ENERGÍA\\OFICINA","ENERGÍA","OFICINA","02",{"$nulls":16358},"ENERGiA - CENTRAL TERMICA"]
[{"$nulls":7},4921,"Transporte Urbano Y Suburbano De Pasajeros Por Via Terrestre ",{"$nulls":9},"ENERGÍA\\PROCESADORA DE RESIDUOS","ENERGÍA","PROCESADORA DE RESIDUOS","11",{"$nulls":16358},"ENERGiA - PROCESADORA DE RESIDUOS"]
[{"$nulls":7},4922,"Otras Actividades De Transporte Por Via Terrestre",{"$nulls":9},"ENERGÍA\\SUB ESTACIONES","ENERGÍA","SUB ESTACIONES","11",{"$nulls":16358},"ENERGiA - SUB ESTACIONES"]
[{"$nulls":7},4923,"Transporte De Carga Por Carretera",{"$nulls":9},"ENVASADORA, CONSERVADORA\\DEPÓSITO (ALMACÉN)","ENVASADORA, CONSERVADORA","DEPÓSITO (ALMACÉN)","06",{"$nulls":16358},"ENERGiA - LINEAS DE TRANSMISION"]
[{"$nulls":7},4930,"Transporte Por Tuberias",{"$nulls":9},"ENVASADORA, CONSERVADORA\\INDUSTRIA (FÁBRICA)","ENVASADORA, CONSERVADORA","INDUSTRIA (FÁBRICA)","07",{"$nulls":16358},"ENVASADORA, CONSERVADORA - REACTOR NUCLEAR"]
[{"$nulls":7},5011,"Transporte De Pasajeros Maritimo Y De Cabotaje",{"$nulls":9},"ENVASADORA, CONSERVADORA\\OFICINA","ENVASADORA, CONSERVADORA","OFICINA","02",{"$nulls":16358},"ENVASADORA, CONSERVADORA - DEPOSITO (ALMACEN)"]
[{"$nulls":7},5012,"Transporte De Carga Maritimo Y De Cabotaje",{"$nulls":9},"EQUIPO MÉDICO\\COMERCIO (VENTA)","EQUIPO MÉDICO","COMERCIO (VENTA)","06",{"$nulls":16358},"ENVASADORA, CONSERVADORA - OFICINA"]
[{"$nulls":7},5021,"Transporte De Pasajeros Por Vias De Navegación Interiores",{"$nulls":9},"EQUIPO MÉDICO\\DEPÓSITO (ALMACÉN)","EQUIPO MÉDICO","DEPÓSITO (ALMACÉN)","06",{"$nulls":16358},"EQUIPO MeDICO - INDUSTRIA (FABRICA)"]
[{"$nulls":7},5022,"Transporte De Carga, Por Vias De Navegación Interiores",{"$nulls":9},"EQUIPO MÉDICO\\OFICINA","EQUIPO MÉDICO","OFICINA","02",{"$nulls":16358},"EQUIPO MeDICO - DEPOSITO (ALMACEN)"]
[{"$nulls":7},5110,"Transporte De Pasajeros Por Via Aerea",{"$nulls":9},"EQUIPOS DE COMUNICACIÓN, TELÉFONOS, RADIO, CELULAR\\COMERCIO (VENTA)","EQUIPOS DE COMUNICACIÓN, TELÉFONOS, RADIO, CELULAR","COMERCIO (VENTA)","06",{"$nulls":16358},"EQUIPO MeDICO - COMERCIO (VENTA)"]
[{"$nulls":7},5120,"Transporte De Carga Por Via Aerea",{"$nulls":9},"EQUIPOS DE COMUNICACIÓN, TELÉFONOS, RADIO, CELULAR\\DEPÓSITO (ALMACÉN)","EQUIPOS DE COMUNICACIÓN, TELÉFONOS, RADIO, CELULAR","DEPÓSITO (ALMACÉN)","06",{"$nulls":16358},"EQUIPOS DE COMUNICACIÓN, TELeFONOS, RADIO, CELULAR - OFICINA"]
[{"$nulls":7},5210,"Almacenamiento Y Depósito",{"$nulls":9},"EQUIPOS DE COMUNICACIÓN, TELÉFONOS, RADIO, CELULAR\\INDUSTRIA (FÁBRICA)","EQUIPOS DE COMUNICACIÓN, TELÉFONOS, RADIO, CELULAR","INDUSTRIA (FÁBRICA)","07",{"$nulls":16358},"EQUIPOS DE COMUNICACIÓN, TELeFONOS, RADIO, CELULAR - DEPOSITO (ALMACEN)"]
[{"$nulls":7},5221,"Actividades De Servicios Vinculadas Al Transporte Terrestre",{"$nulls":9},"EQUIPOS ELECTRÓNICOS\\COMERCIO (VENTA)","EQUIPOS ELECTRÓNICOS","COMERCIO (VENTA)","06",{"$nulls":16358},"EQUIPOS DE COMUNICACIÓN, TELeFONOS, RADIO, CELULAR - COMERCIO (VENTA)"]
[{"$nulls":7},5222,"Actividades De Servicios Vinculadas Al Transporte Acuático",{"$nulls":9},"EQUIPOS ELECTRÓNICOS\\DEPÓSITO (ALMACÉN)","EQUIPOS ELECTRÓNICOS","DEPÓSITO (ALMACÉN)","06",{"$nulls":16358},"EQUIPOS ELECTRÓNICOS - INDUSTRIA (FABRICA)"]
[{"$nulls":7},5223,"Actividades De Servicios Vinculadas Al Transporte Aereo",{"$nulls":9},"EQUIPOS ELECTRÓNICOS\\INDUSTRIA (FÁBRICA)","EQUIPOS ELECTRÓNICOS","INDUSTRIA (FÁBRICA)","07",{"$nulls":16358},"EQUIPOS ELECTRÓNICOS - COMERCIO (VENTA)"]
[{"$nulls":7},5224,"Manipulación De Carga",{"$nulls":9},"EQUIPOS ELECTRÓNICOS\\OFICINA","EQUIPOS ELECTRÓNICOS","OFICINA","02",{"$nulls":16358},"EQUIPOS ELECTRÓNICOS - DEPOSITO (ALMACEN)"]
[{"$nulls":7},5229,"Otras Actividades De Apoyo Al Transporte",{"$nulls":9},"ESTACIONES DE PESADO\\ESTACIONES DE PESADO","ESTACIONES DE PESADO","ESTACIONES DE PESADO","05",{"$nulls":16358},"EQUIPOS ELECTRÓNICOS - OFICINA"]
[{"$nulls":7},5310,"Actividades Postales",{"$nulls":9},"ESTACIONES DE SERVICIO (GRIFOS) , SERVICIO MECÁNIC\\ESTACIONES DE SERVICIO (GRIFOS) , SERVICIO MECÁNIC","ESTACIONES DE SERVICIO (GRIFOS) , SERVICIO MECÁNIC","ESTACIONES DE SERVICIO (GRIFOS) , SERVICIO MECÁNIC","09",{"$nulls":16358},"ESTACIONES DE PESADO - INDUSTRIA (FABRICA)"]
[{"$nulls":7},5320,"Actividades De Mensajeria",{"$nulls":9},"ESTACIONES METEREOLÓGICAS\\ESTACIONES METEREOLÓGICAS","ESTACIONES METEREOLÓGICAS","ESTACIONES METEREOLÓGICAS","11",{"$nulls":16358},"ESTACIONES DE SERVICIO (GRIFOS) , SERVICIO MECÁNIC - ESTACIONES DE PESADO"]
[{"$nulls":7},5510,"Actividades De Alojamiento Para Estancias Cortas",{"$nulls":9},"ESTUDIO DE GRABACIÓN\\ESTUDIO DE GRABACIÓN","ESTUDIO DE GRABACIÓN","ESTUDIO DE GRABACIÓN","05",{"$nulls":16358},"ESTACIONES METEREOLÓGICAS - ESTACION DE SERVICIOS (GRIFO)"]
[{"$nulls":7},5520,"Actividades De Campamentos, Parques De Vehiculos Recreativos Y Parques De Caravanas",{"$nulls":9},"ESTUDIO FOTOGRÁFICO\\DEPÓSITO (ALMACÉN)","ESTUDIO FOTOGRÁFICO","DEPÓSITO (ALMACÉN)","06",{"$nulls":16358},"ESTUDIO DE GRABACIÓN - ESTACIONES METEREOLOGICAS"]
[{"$nulls":7},5590,"Otras Actividades De Alojamiento",{"$nulls":9},"ESTUDIO FOTOGRAFICO\\ESTUDIO FOTOGRAFICO","ESTUDIO FOTOGRAFICO","ESTUDIO FOTOGRAFICO","05",{"$nulls":16358},"ESTUDIO FOTOGRAFICO - ESTUDIO DE GRABACION"]
[{"$nulls":7},5610,"Actividades De Restaurantes Y De Servicio Móvil De Comidas",{"$nulls":9},"ESTUDIO FOTOGRAFICO\\OFICINA","ESTUDIO FOTOGRAFICO","OFICINA","02",{"$nulls":16358},"ESTUDIO FOTOGRAFICO - ESTUDIO DE FOTOGRAFICO"]
[{"$nulls":7},5621,"Suministro De Comidas Por Encargo",{"$nulls":9},"ESTUDIOS JURÍDICOS, ABOGADOS\\OFICINA","ESTUDIOS JURÍDICOS, ABOGADOS","OFICINA","02",{"$nulls":16358},"ESTUDIO FOTOGRÁFICO - OFICINA"]
[{"$nulls":7},5629,"Otras Actividades De Servicio De Comidas",{"$nulls":9},"EXPLOSIVOS\\COMERCIO (VENTA)","EXPLOSIVOS","COMERCIO (VENTA)","06",{"$nulls":16358},"ESTUDIOS JURiDICOS, ABOGADOS - DEPOSITO (ALMACEN)"]
[{"$nulls":7},5630,"Actividades De Servicio De Bebidas",{"$nulls":9},"EXPLOSIVOS\\DEPÓSITO (ALMACÉN)","EXPLOSIVOS","DEPÓSITO (ALMACÉN)","06",{"$nulls":16358},"EXPLOSIVOS - OFICINA"]
[{"$nulls":7},5811,"Edición De Libros",{"$nulls":9},"EXPLOSIVOS\\INDUSTRIA (FÁBRICA)","EXPLOSIVOS","INDUSTRIA (FÁBRICA)","07",{"$nulls":16358},"EXPLOSIVOS - DEPOSITO (ALMACEN)"]
[{"$nulls":7},5812,"Edición De Directorios Y Listas De Correo",{"$nulls":9},"EXPLOSIVOS\\OFICINA","EXPLOSIVOS","OFICINA","02",{"$nulls":16358},"EXPLOSIVOS - COMERCIO (VENTA)"]
[{"$nulls":7},5813,"Edición De Periódicos, Revistas Y Otras Publicaciones Periódicas",{"$nulls":9},"FARMACIAS Y/O BOTICAS\\DEPÓSITO (ALMACÉN)","FARMACIAS Y/O BOTICAS","DEPÓSITO (ALMACÉN)","06",{"$nulls":16358},"EXPLOSIVOS - OFICINA"]
[{"$nulls":7},5819,"Otras Actividades De Edición",{"$nulls":9},"FARMACIAS Y/O BOTICAS\\FARMACIAS Y/O BOTICAS","FARMACIAS Y/O BOTICAS","FARMACIAS Y/O BOTICAS","06",{"$nulls":16358},"FARMACIAS Y/O BOTICAS - INDUSTRIA (FABRICA)"]
[{"$nulls":7},5820,"Edición De Programas De Informáticos",{"$nulls":9},"FARMACIAS Y/O BOTICAS\\OFICINA","FARMACIAS Y/O BOTICAS","OFICINA","02",{"$nulls":16358},"FARMACIAS Y/O BOTICAS - FARMACIAS Y/O BOTICAS"]
[{"$nulls":7},5911,"Actividades De Producción De Peliculas Cinematográficas, Videos Y Programas De Televisión",{"$nulls":9},"FERIAS\\FERIAS","FERIAS","FERIAS","06",{"$nulls":16358},"FARMACIAS Y/O BOTICAS - DEPOSITO (ALMACEN)"]
[{"$nulls":7},5912,"Actividades De Postproducción De Peliculas Cinematográficas, Videos Y Programas De Televisión",{"$nulls":9},"FERRETERÍA\\COMERCIO (VENTA)","FERRETERÍA","COMERCIO (VENTA)","06",{"$nulls":16358},"FERIAS - OFICINA"]
[{"$nulls":7},5913,"Actividades De Distribución De Peliculas Cinematográficas, Videos Y Programas De Televisión",{"$nulls":9},"FERRETERÍA\\CON ALMACENAMIENTO DE INFLAMABLES","FERRETERÍA","CON ALMACENAMIENTO DE INFLAMABLES","05",{"$nulls":16358},"FERRETERiA - FERIAS"]
[{"$nulls":7},5914,"Actividades De Exhibición De Peliculas Cinematográficas Y Cintas De Video ",{"$nulls":9},"FERRETERÍA\\OFICINA","FERRETERÍA","OFICINA","02",{"$nulls":16358},"FERRETERiA - COMERCIO (VENTA)"]
[{"$nulls":7},5920,"Actividades De Grabación De Sonido Y Edición De Música",{"$nulls":9},"FERRETERÍA\\SIN ALMACENAMIENTO DE INFLAMABLES","FERRETERÍA","SIN ALMACENAMIENTO DE INFLAMABLES","05",{"$nulls":16358},"FERRETERiA - CON ALMACENAMIENTO DE INFLAMABLES"]
[{"$nulls":7},6010,"Transmisiones De Radio",{"$nulls":9},"FERTILIZANTES\\COMERCIO (VENTA)","FERTILIZANTES","COMERCIO (VENTA)","06",{"$nulls":16358},"FERRETERiA - SIN ALMACENAMIENTO DE INFLAMABLES"]
[{"$nulls":7},6020,"Programación Y Transmisiones De Televisión",{"$nulls":9},"FERTILIZANTES\\DEPÓSITO (ALMACÉN)","FERTILIZANTES","DEPÓSITO (ALMACÉN)","06",{"$nulls":16358},"FERTILIZANTES - OFICINA"]
[{"$nulls":7},6110,"Actividades De Telecomunicaciones Alámbricas",{"$nulls":9},"FERTILIZANTES\\INDUSTRIA (FÁBRICA)","FERTILIZANTES","INDUSTRIA (FÁBRICA)","07",{"$nulls":16358},"FERTILIZANTES - DEPOSITO (ALMACEN)"]
[{"$nulls":7},6120,"Actividades De Telecomunicaciones Inalámbricas",{"$nulls":9},"FERTILIZANTES\\OFICINA","FERTILIZANTES","OFICINA","02",{"$nulls":16358},"FERTILIZANTES - COMERCIO (VENTA)"]
[{"$nulls":7},6130,"Actividades De Telecomunicaciones Por Satelite.",{"$nulls":9},"FINANCIERAS\\BANCO","FINANCIERAS","BANCO","02",{"$nulls":16358},"FERTILIZANTES - OFICINA"]
[{"$nulls":7},6190,"Otras Actividades De Telecomunicación.",{"$nulls":9},"FINANCIERAS\\BOLSA DE VALORES","FINANCIERAS","BOLSA DE VALORES","02",{"$nulls":16358},"FINANCIERAS - INDUSTRIA (FABRICA)"]
[{"$nulls":7},6201,"Programación Informática",{"$nulls":9},"FINANCIERAS\\CAJAS DE AHORRO Y PRESTAMO","FINANCIERAS","CAJAS DE AHORRO Y PRESTAMO","02",{"$nulls":16358},"FINANCIERAS - ENTIDADES FINANCIERAS"]
[{"$nulls":7},6202,"Consultoria De Informática Y De Gestión De Instalaciones Informáticas",{"$nulls":9},"FINANCIERAS\\CAJAS RURALES","FINANCIERAS","CAJAS RURALES","02",{"$nulls":16358},"FINANCIERAS - BANCO"]
[{"$nulls":7},6209,"Otras Actividades De Tecnologia De La Información Y De Servicios Informáticos",{"$nulls":9},"FINANCIERAS\\COOPERATIVAS","FINANCIERAS","COOPERATIVAS","02",{"$nulls":16358},"FINANCIERAS - EDPYMES"]
[{"$nulls":7},6311,"Procesamiento De Datos, Hospedaje Y Actividades Conexas",{"$nulls":9},"FINANCIERAS\\EDPYMES","FINANCIERAS","EDPYMES","02",{"$nulls":16358},"FINANCIERAS - CAJAS DE AHORRO Y PRESTAMO"]
[{"$nulls":7},6312,"Portales Web",{"$nulls":9},"FINANCIERAS\\ENTIDADES FINANCIERAS","FINANCIERAS","ENTIDADES FINANCIERAS","02",{"$nulls":16358},"FINANCIERAS - COOPERATIVAS"]
[{"$nulls":7},6391,"Actividades De Agencias De Noticias",{"$nulls":9},"FINANCIERAS\\MUTUALES/PRESTAMISTAS","FINANCIERAS","MUTUALES/PRESTAMISTAS","02",{"$nulls":16358},"FINANCIERAS - MUTUALES/PRESTAMISTAS"]
[{"$nulls":7},6399,"Otras Actividades De Servicios De Información N.C.P.",{"$nulls":9},"FLORERÍA\\FLORERÍA","FLORERÍA","FLORERÍA","06",{"$nulls":16358},"FINANCIERAS - CAJAS RURALES"]
[{"$nulls":7},6411,"Banca Central",{"$nulls":9},"FOSFORERÍA\\COMERCIO (VENTA)","FOSFORERÍA","COMERCIO (VENTA)","06",{"$nulls":16358},"FLORERiA - BOLSA DE VALORES"]
[{"$nulls":7},6419,"Otros Tipos De Intermediación Monetaria.",{"$nulls":9},"FOSFORERÍA\\DEPÓSITO (ALMACÉN)","FOSFORERÍA","DEPÓSITO (ALMACÉN)","06",{"$nulls":16358},"FOSFORERIA - FLORERIA"]
[{"$nulls":7},6420,"Actividades De Sociedades De Cartera",{"$nulls":9},"FOSFORERIA\\OFICINA","FOSFORERIA","OFICINA","02",{"$nulls":16358},"FOSFORERiA - OFICINA"]
[{"$nulls":7},6430,"Fondos Y Sociedades De Inversión Y Entidades Financieras Similares",{"$nulls":9},"FOTOCOPIADORAS\\CENTRO DE COPIAS","FOTOCOPIADORAS","CENTRO DE COPIAS","06",{"$nulls":16358},"FOSFORERiA - DEPOSITO (ALMACEN)"]
[{"$nulls":7},6491,"Arrendamiento Financiero",{"$nulls":9},"FOTOCOPIADORAS\\DEPÓSITO (ALMACÉN)","FOTOCOPIADORAS","DEPÓSITO (ALMACÉN)","06",{"$nulls":16358},"FOTOCOPIADORAS - COMERCIO (VENTA)"]
[{"$nulls":7},6492,"Otras Actividades De Concesión De Credito",{"$nulls":9},"FOTOCOPIADORAS\\OFICINA","FOTOCOPIADORAS","OFICINA","02",{"$nulls":16358},"FOTOCOPIADORAS - DEPOSITO (ALMACEN)"]
[{"$nulls":7},6499,"Otras Actividades De Servicios Financieros, Excepto Las De Seguros Y Fondos De Pensiones, N.C.P.",{"$nulls":9},"FOTOCOPIADORAS\\TALLER Y/O  ENSAMBLADORA","FOTOCOPIADORAS","TALLER Y/O  ENSAMBLADORA","05",{"$nulls":16358},"FOTOCOPIADORAS - TALLER Y/O  ENSAMBLADORA"]
[{"$nulls":7},6511,"Seguros De Vida",{"$nulls":9},"FRIGORÍFICO\\DEPÓSITO (ALMACÉN)","FRIGORÍFICO","DEPÓSITO (ALMACÉN)","06",{"$nulls":16358},"FOTOCOPIADORAS - CENTRO DE COPIAS"]
[{"$nulls":7},6512,"Seguros Generales",{"$nulls":9},"FRIGORÍFICO\\INDUSTRIA (FÁBRICA)","FRIGORÍFICO","INDUSTRIA (FÁBRICA)","07",{"$nulls":16358},"FRIGORiFICO - OFICINA"]
[{"$nulls":7},6520,"Reaseguros",{"$nulls":9},"FRIGORÍFICO\\OFICINA","FRIGORÍFICO","OFICINA","02",{"$nulls":16358},"FRIGORiFICO - DEPOSITO (ALMACEN)"]
[{"$nulls":7},6530,"Fondos De Pensiones",{"$nulls":9},"FUEGOS ARTIFICIALES Y ARTEFACTOS PIROTÉCNICOS\\COMERCIO (VENTA)","FUEGOS ARTIFICIALES Y ARTEFACTOS PIROTÉCNICOS","COMERCIO (VENTA)","06",{"$nulls":16358},"FRIGORiFICO - OFICINA"]
[{"$nulls":7},6611,"Administración De Mercados Financieros",{"$nulls":9},"FUEGOS ARTIFICIALES Y ARTEFACTOS PIROTÉCNICOS\\DEPÓSITO (ALMACÉN)","FUEGOS ARTIFICIALES Y ARTEFACTOS PIROTÉCNICOS","DEPÓSITO (ALMACÉN)","06",{"$nulls":16358},"FUEGOS ARTIFICIALES Y ARTEFACTOS PIROTeCNICOS - INDUSTRIA (FABRICA)"]
[{"$nulls":7},6612,"Corretaje De Valores Y De Contratos De Productos Básicos",{"$nulls":9},"FUEGOS ARTIFICIALES Y ARTEFACTOS PIROTÉCNICOS\\INDUSTRIA (FÁBRICA)","FUEGOS ARTIFICIALES Y ARTEFACTOS PIROTÉCNICOS","INDUSTRIA (FÁBRICA)","07",{"$nulls":16358},"FUEGOS ARTIFICIALES Y ARTEFACTOS PIROTeCNICOS - DEPOSITO (ALMACEN)"]
[{"$nulls":7},6619,"Otras Actividades Auxiliares De Las Actividades De Servicios Financieros",{"$nulls":9},"FUEGOS ARTIFICIALES Y ARTEFACTOS PIROTÉCNICOS\\OFICINA","FUEGOS ARTIFICIALES Y ARTEFACTOS PIROTÉCNICOS","OFICINA","02",{"$nulls":16358},"FUEGOS ARTIFICIALES Y ARTEFACTOS PIROTeCNICOS - COMERCIO (VENTA)"]
[{"$nulls":7},6621,"Evaluación De Riesgos Y Daños",{"$nulls":9},"FUMIGACIÓN\\DEPÓSITO (ALMACÉN)","FUMIGACIÓN","DEPÓSITO (ALMACÉN)","06",{"$nulls":16358},"FUEGOS ARTIFICIALES Y ARTEFACTOS PIROTeCNICOS - OFICINA"]
[{"$nulls":7},6622,"Actividades De Agentes Y Corredores De Seguros",{"$nulls":9},"FUMIGACIÓN\\OFICINA","FUMIGACIÓN","OFICINA","02",{"$nulls":16358},"FUMIGACIÓN - INDUSTRIA (FABRICA)"]
[{"$nulls":7},6629,"Otras Actividades Auxiliares De Las Actividades De Seguros Y Fondos De Pensiones",{"$nulls":9},"FUNDICIÓN DE METAL\\INDUSTRIA (FÁBRICA)","FUNDICIÓN DE METAL","INDUSTRIA (FÁBRICA)","07",{"$nulls":16358},"FUMIGACIÓN - DEPOSITO (ALMACEN)"]
[{"$nulls":7},6630,"Actividades De Gestión De Fondos",{"$nulls":9},"FUNDO AGRÍCOLA, HACIENDAS\\FUNDO","FUNDO AGRÍCOLA, HACIENDAS","FUNDO","11",{"$nulls":16358},"FUNDICIÓN DE METAL - OFICINA"]
[{"$nulls":7},6810,"Actividades Inmobiliarias Realizadas Con Bienes Propios O Arrendados",{"$nulls":9},"FUNDO AGRÍCOLA, HACIENDAS\\HACIENDA","FUNDO AGRÍCOLA, HACIENDAS","HACIENDA","06",{"$nulls":16358},"FUNDO AGRiCOLA, HACIENDAS - INDUSTRIA (FABRICA)"]
[{"$nulls":7},6820,"Actividades Inmobiliarias Realizadas A Cambio De Una Retribución O Por Contrata",{"$nulls":9},"FUNDO AGRÍCOLA, HACIENDAS\\OFICINA","FUNDO AGRÍCOLA, HACIENDAS","OFICINA","02",{"$nulls":16358},"FUNDO AGRiCOLA, HACIENDAS - OFICINA"]
[{"$nulls":7},6910,"Actividades Juridicas",{"$nulls":9},"FUNGICIDAS,INSECTICIDAS,HERBICIDAS,PESTICIDAS\\COMERCIO (VENTA)","FUNGICIDAS,INSECTICIDAS,HERBICIDAS,PESTICIDAS","COMERCIO (VENTA)","06",{"$nulls":16358},"FUNDO AGRiCOLA, HACIENDAS - FUNDO"]
[{"$nulls":7},6920,"Actividades De Contabilidad, Teneduria De Libros Y Auditoria; Consultoria Fiscal",{"$nulls":9},"FUNGICIDAS,INSECTICIDAS,HERBICIDAS,PESTICIDAS\\DEPÓSITO (ALMACÉN)","FUNGICIDAS,INSECTICIDAS,HERBICIDAS,PESTICIDAS","DEPÓSITO (ALMACÉN)","06",{"$nulls":16358},"FUNGICIDAS,INSECTICIDAS,HERBICIDAS,PESTICIDAS - HACIENDA"]
[{"$nulls":7},7010,"Actividades De Oficinas Centrales",{"$nulls":9},"FUNGICIDAS,INSECTICIDAS,HERBICIDAS,PESTICIDAS\\INDUSTRIA (FÁBRICA)","FUNGICIDAS,INSECTICIDAS,HERBICIDAS,PESTICIDAS","INDUSTRIA (FÁBRICA)","07",{"$nulls":16358},"FUNGICIDAS,INSECTICIDAS,HERBICIDAS,PESTICIDAS - COMERCIO (VENTA)"]
[{"$nulls":7},7020,"Actividades De Consultoria De Gestión",{"$nulls":9},"FUNGICIDAS,INSECTICIDAS,HERBICIDAS,PESTICIDAS\\OFICINA","FUNGICIDAS,INSECTICIDAS,HERBICIDAS,PESTICIDAS","OFICINA","02",{"$nulls":16358},"FUNGICIDAS,INSECTICIDAS,HERBICIDAS,PESTICIDAS - DEPOSITO (ALMACEN)"]
[{"$nulls":7},7110,"Actividades De Arquitectura E Ingenieria Y Actividades Conexas De Consultoria Tecnica",{"$nulls":9},"FUNICULAR\\TRANSPORTES","FUNICULAR","TRANSPORTES","06",{"$nulls":16358},"FUNGICIDAS,INSECTICIDAS,HERBICIDAS,PESTICIDAS - OFICINA"]
[{"$nulls":7},7120,"Ensayos Y Análisis Tecnicos",{"$nulls":9},"GALERIAS COMERCIALES\\COMERCIO (VENTA)","GALERIAS COMERCIALES","COMERCIO (VENTA)","06",{"$nulls":16358},"FUNICULAR - INDUSTRIA (FABRICA)"]
[{"$nulls":7},7210,"Investigación Y Desarrollo Experimental En El Campo De Las Ciencias Naturales Y La Ingenieria",{"$nulls":9},"GAS LÍCUADO DE PETRÓLEO\\COMERCIO (VENTA)","GAS LÍCUADO DE PETRÓLEO","COMERCIO (VENTA)","06",{"$nulls":16358},"GALERIAS COMERCIALES - TRANSPORTES"]
[{"$nulls":7},7220,"Investigación Y Desarrollo Experimental En El Campo De Las Ciencias Sociales Y Las Humanidades",{"$nulls":9},"GAS LÍCUADO DE PETRÓLEO\\DEPÓSITO (ALMACÉN)","GAS LÍCUADO DE PETRÓLEO","DEPÓSITO (ALMACÉN)","11",{"$nulls":16358},"GAS LICUADO DE PETRÓLEO - COMERCIO (VENTA)"]
[{"$nulls":7},7310,"Publicidad",{"$nulls":9},"GAS LÍCUADO DE PETRÓLEO\\ENVASADORA","GAS LÍCUADO DE PETRÓLEO","ENVASADORA","07",{"$nulls":16358},"GAS LICUADO DE PETRÓLEO - TRANSPORTES"]
[{"$nulls":7},7320,"Estudios De Mercado Y Encuestas De Opinión Pública",{"$nulls":9},"GAS LÍCUADO DE PETRÓLEO\\OFICINA","GAS LÍCUADO DE PETRÓLEO","OFICINA","02",{"$nulls":16358},"GAS LICUADO DE PETRÓLEO - ENVASADORA"]
[{"$nulls":7},7410,"Actividades Especializadas De Diseño",{"$nulls":9},"GAS LÍCUADO DE PETRÓLEO\\TRANSPORTES","GAS LÍCUADO DE PETRÓLEO","TRANSPORTES","11",{"$nulls":16358},"GAS LICUADO DE PETRÓLEO - DEPOSITO (ALMACEN)"]
[{"$nulls":7},7420,"Actividades De Fotografia",{"$nulls":9},"GAS NATURAL\\EXPLORACIÓN","GAS NATURAL","EXPLORACIÓN","11",{"$nulls":16358},"GAS LICUADO DE PETRÓLEO - COMERCIO (VENTA)"]
[{"$nulls":7},7490,"Otras Actividades Profesionales, Cientificas Y Tecnicas N.C.P.",{"$nulls":9},"GAS NATURAL\\EXPLOTACIÓN","GAS NATURAL","EXPLOTACIÓN","11",{"$nulls":16358},"GAS NATURAL - OFICINA"]
[{"$nulls":7},7500,"Actividades Veterinarias",{"$nulls":9},"GAS NATURAL\\GASODUCTO","GAS NATURAL","GASODUCTO","11",{"$nulls":16358},"GAS NATURAL - TRANSPORTES"]
[{"$nulls":7},7710,"Alquiler Y Arrendamiento De Vehiculos Automotores",{"$nulls":9},"GAS NATURAL\\OFICINA","GAS NATURAL","OFICINA","02",{"$nulls":16358},"GAS NATURAL - OFICINA"]
[{"$nulls":7},7721,"Alquiler Y Arrendamiento De Equipo Recreativo Y Deportivo",{"$nulls":9},"GAS NATURAL\\PRODUCCIÓN","GAS NATURAL","PRODUCCIÓN","11",{"$nulls":16358},"GAS NATURAL - EXPLORACION"]
[{"$nulls":7},7722,"Alquiler De Cintas De Video Y Discos",{"$nulls":9},"GAS NATURAL\\TRANSPORTES","GAS NATURAL","TRANSPORTES","11",{"$nulls":16358},"GAS NATURAL - EXPLOTACION"]
[{"$nulls":7},7729,"Alquiler Y Arrendamiento De Otros Efectos Personales Y Enseres Domesticos ",{"$nulls":9},"GASES INDUSTRIALES\\COMERCIO (VENTA)","GASES INDUSTRIALES","COMERCIO (VENTA)","06",{"$nulls":16358},"GAS NATURAL - GASODUCTO"]
[{"$nulls":7},7730,"Alquiler Y Arrendamiento De Otros Tipos De Maquinaria, Equipo Y Bienes Tangibles",{"$nulls":9},"GASES INDUSTRIALES\\DEPÓSITO (ALMACÉN)","GASES INDUSTRIALES","DEPÓSITO (ALMACÉN)","06",{"$nulls":16358},"GASES INDUSTRIALES - PRODUCCION"]
[{"$nulls":7},7740,"Arrendamiento De Propiedad Intelectual Y Productos Similares, Excepto Obras Protegidas  Por Derechos De Autor",{"$nulls":9},"GASES INDUSTRIALES\\INDUSTRIA (FÁBRICA)","GASES INDUSTRIALES","INDUSTRIA (FÁBRICA)","07",{"$nulls":16358},"GASES INDUSTRIALES - DEPOSITO (ALMACEN)"]
[{"$nulls":7},7810,"Actividades De Agencias De Empleo",{"$nulls":9},"GASES INDUSTRIALES\\OFICINA","GASES INDUSTRIALES","OFICINA","02",{"$nulls":16358},"GASES INDUSTRIALES - COMERCIO (VENTA)"]
[{"$nulls":7},7820,"Actividades De Agencias De Empleo Temporal",{"$nulls":9},"GIMNASIO\\GIMNASIO","GIMNASIO","GIMNASIO","06",{"$nulls":16358},"GASES INDUSTRIALES - OFICINA"]
[{"$nulls":7},7830,"Otras Actividades De Dotación De Recursos Humanos",{"$nulls":9},"GRANJAS Y/O AVÍCOLAS Y/O ESTABLOS\\AVES","GRANJAS Y/O AVÍCOLAS Y/O ESTABLOS","AVES","05",{"$nulls":16358},"GIMNASIO - INDUSTRIA (FABRICA)"]
[{"$nulls":7},7911,"Actividades De Agencias De Viajes",{"$nulls":9},"GRANJAS Y/O AVÍCOLAS Y/O ESTABLOS\\GANADO OVINO","GRANJAS Y/O AVÍCOLAS Y/O ESTABLOS","GANADO OVINO","05",{"$nulls":16358},"GRANJAS Y/O AViCOLAS Y/O ESTABLOS - GIMNASIO"]
[{"$nulls":7},7912,"Actividades De Operadores Turisticos",{"$nulls":9},"GRANJAS Y/O AVÍCOLAS Y/O ESTABLOS\\GANADO PORCINO","GRANJAS Y/O AVÍCOLAS Y/O ESTABLOS","GANADO PORCINO","05",{"$nulls":16358},"GRANJAS Y/O AViCOLAS Y/O ESTABLOS - OFICINA"]
[{"$nulls":7},7990,"Otros Servicios De Reservas Y Actividades Conexas",{"$nulls":9},"GRANJAS Y/O AVÍCOLAS Y/O ESTABLOS\\GANADO VACUNO","GRANJAS Y/O AVÍCOLAS Y/O ESTABLOS","GANADO VACUNO","05",{"$nulls":16358},"GRANJAS Y/O AViCOLAS Y/O ESTABLOS - AVES"]
[{"$nulls":7},8010,"Actividades De Seguridad Privada",{"$nulls":9},"GRANJAS Y/O AVÍCOLAS Y/O ESTABLOS\\OFICINA","GRANJAS Y/O AVÍCOLAS Y/O ESTABLOS","OFICINA","02",{"$nulls":16358},"GRANJAS Y/O AViCOLAS Y/O ESTABLOS - GANADO VACUNO"]
[{"$nulls":7},8020,"Actividades De Servicio De Sistemas De Seguridad",{"$nulls":9},"GRANOS\\DEPÓSITO (ALMACÉN)","GRANOS","DEPÓSITO (ALMACÉN)","07",{"$nulls":16358},"GRANJAS Y/O AViCOLAS Y/O ESTABLOS - GANADO OVINO"]
[{"$nulls":7},8030,"Actividades De Investigación",{"$nulls":9},"GRANOS\\INDUSTRIA/PROCESADORA/ENSACADORA","GRANOS","INDUSTRIA/PROCESADORA/ENSACADORA","07",{"$nulls":16358},"GRANOS - GANADO PORCINO"]
[{"$nulls":7},8110,"Actividades Combinadas De Apoyo A Instalaciones",{"$nulls":9},"GRANOS\\OFICINA","GRANOS","OFICINA","02",{"$nulls":16358},"GRANOS - DEPOSITO (ALMACEN)"]
[{"$nulls":7},8121,"Limpieza General De Edificios",{"$nulls":9},"HARINA Y/O ACEITE DE PESCADO\\DEPÓSITO (ALMACÉN)","HARINA Y/O ACEITE DE PESCADO","DEPÓSITO (ALMACÉN)","06",{"$nulls":16358},"GRANOS - OFICINA"]
[{"$nulls":7},8129,"Otras Actividades De Limpieza De Edificios E Instalaciones Industriales",{"$nulls":9},"HARINA Y/O ACEITE DE PESCADO\\INDUSTRIA (FÁBRICA)","HARINA Y/O ACEITE DE PESCADO","INDUSTRIA (FÁBRICA)","07",{"$nulls":16358},"HARINA Y/O ACEITE DE PESCADO - INDUSTRIA/PROCESADORA/ENSACADORA/PLANTA DE"]
[{"$nulls":7},8130,"Actividades De Paisajismo Y Servicios De Mantenimiento Conexos",{"$nulls":9},"HARINA Y/O ACEITE DE PESCADO\\OFICINA","HARINA Y/O ACEITE DE PESCADO","OFICINA","02",{"$nulls":16358},"HARINA Y/O ACEITE DE PESCADO - DEPOSITO (ALMACEN)"]
[{"$nulls":7},8211,"Actividades Combinadas De Servicios Administrativos De Oficina",{"$nulls":9},"HELADOS\\DEPÓSITO (ALMACÉN)","HELADOS","DEPÓSITO (ALMACÉN)","06",{"$nulls":16358},"HARINA Y/O ACEITE DE PESCADO - OFICINA"]
[{"$nulls":7},8219,"Fotocopiado, Preparación De Documentos Y Otras Actividades Especializadas De Apoyo De Oficina",{"$nulls":9},"HELADOS\\INDUSTRIA (FÁBRICA)","HELADOS","INDUSTRIA (FÁBRICA)","07",{"$nulls":16358},"HELADOS - INDUSTRIA (FABRICA)"]
[{"$nulls":7},8220,"Actividades De Centros De Llamadas",{"$nulls":9},"HELADOS\\OFICINA","HELADOS","OFICINA","02",{"$nulls":16358},"HELADOS - DEPOSITO (ALMACEN)"]
[{"$nulls":7},8230,"Organización De Convenciones Y Exposiciones Comerciales",{"$nulls":9},"HIELO\\DEPÓSITO (ALMACÉN)","HIELO","DEPÓSITO (ALMACÉN)","06",{"$nulls":16358},"HELADOS - OFICINA"]
[{"$nulls":7},8291,"Actividades De Agencias De Cobro Y Agencias De Calificación Crediticia",{"$nulls":9},"HIELO\\INDUSTRIA (FÁBRICA)","HIELO","INDUSTRIA (FÁBRICA)","07",{"$nulls":16358},"HIELO - INDUSTRIA (FABRICA)"]
[{"$nulls":7},8292,"Actividades De Envasado Y Empaquetado",{"$nulls":9},"HIELO\\OFICINA","HIELO","OFICINA","02",{"$nulls":16358},"HIELO - DEPOSITO (ALMACEN)"]
[{"$nulls":7},8299,"Otras Actividades De Servicios De Apoyo A Las Empresas N.C.P",{"$nulls":9},"HORTALIZAS Y FRUTAS\\COMERCIO (VENTA)","HORTALIZAS Y FRUTAS","COMERCIO (VENTA)","06",{"$nulls":16358},"HIELO - OFICINA"]
[{"$nulls":7},8411,"Actividades De La Administración Pública En General",{"$nulls":9},"HORTALIZAS Y FRUTAS\\DEPÓSITO (ALMACÉN)","HORTALIZAS Y FRUTAS","DEPÓSITO (ALMACÉN)","06",{"$nulls":16358},"HORTALIZAS Y FRUTAS - INDUSTRIA (FABRICA)"]
[{"$nulls":7},8412,"Regulación De Las Actividades De Organismos Que Prestan Servicios Sanitarios, Educativos, Culturales Y Otros Servicios Sociales, Excepto Servicios De Seguridad Social",{"$nulls":9},"HORTALIZAS Y FRUTAS\\OFICINA","HORTALIZAS Y FRUTAS","OFICINA","02",{"$nulls":16358},"HORTALIZAS Y FRUTAS - DEPOSITO (ALMACEN)"]
[{"$nulls":7},8413,"Regulación Y Facilitación De La Actividad Económica",{"$nulls":9},"INDUSTRIA GRÁFICA, IMPRENTA\\COMERCIO (VENTA)","INDUSTRIA GRÁFICA, IMPRENTA","COMERCIO (VENTA)","06",{"$nulls":16358},"HORTALIZAS Y FRUTAS - COMERCIO (VENTA)"]
[{"$nulls":7},8421,"Relaciones Exteriores",{"$nulls":9},"INDUSTRIA GRÁFICA, IMPRENTA\\DEPÓSITO (ALMACÉN)","INDUSTRIA GRÁFICA, IMPRENTA","DEPÓSITO (ALMACÉN)","06",{"$nulls":16358},"INDUSTRIA GRÁFICA, IMPRENTA - OFICINA"]
[{"$nulls":7},8422,"Actividades De Defensa",{"$nulls":9},"INDUSTRIA GRÁFICA, IMPRENTA\\INDUSTRIA (FÁBRICA)","INDUSTRIA GRÁFICA, IMPRENTA","INDUSTRIA (FÁBRICA)","07",{"$nulls":16358},"INDUSTRIA GRÁFICA, IMPRENTA - DEPOSITO (ALMACEN)"]
[{"$nulls":7},8423,"Actividades De Mantenimiento Del Orden Público Y De Seguridad",{"$nulls":9},"INDUSTRIA GRÁFICA, IMPRENTA\\OFICINA","INDUSTRIA GRÁFICA, IMPRENTA","OFICINA","02",{"$nulls":16358},"INDUSTRIA GRÁFICA, IMPRENTA - COMERCIO (VENTA)"]
[{"$nulls":7},8430,"Actividades De Planes De Seguridad Social De Afiliación Obligatoria",{"$nulls":9},"INGENIO AZUCARERO\\COMERCIO (VENTA)","INGENIO AZUCARERO","COMERCIO (VENTA)","06",{"$nulls":16358},"INDUSTRIA GRÁFICA, IMPRENTA - OFICINA"]
[{"$nulls":7},8510,"Enseñanza Preescolar Y Primaria",{"$nulls":9},"INGENIO AZUCARERO\\DEPÓSITO (ALMACÉN)","INGENIO AZUCARERO","DEPÓSITO (ALMACÉN)","07",{"$nulls":16358},"INGENIO AZUCARERO - INDUSTRIA (FABRICA)"]
[{"$nulls":7},8521,"Enseñanza Secundaria De Formación General",{"$nulls":9},"INGENIO AZUCARERO\\INDUSTRIA (FÁBRICA)","INGENIO AZUCARERO","INDUSTRIA (FÁBRICA)","07",{"$nulls":16358},"INGENIO AZUCARERO - DEPOSITO (ALMACEN)"]
[{"$nulls":7},8522,"Enseñanza Secundaria De Formación Tecnica Y Profesional",{"$nulls":9},"INGENIO AZUCARERO\\OFICINA","INGENIO AZUCARERO","OFICINA","02",{"$nulls":16358},"INGENIO AZUCARERO - COMERCIO (VENTA)"]
[{"$nulls":7},8530,"Enseñanza Superior",{"$nulls":9},"INMOBILIARIA\\OFICINA","INMOBILIARIA","OFICINA","02",{"$nulls":16358},"INGENIO AZUCARERO - OFICINA"]
[{"$nulls":7},8541,"Educación Deportiva Y Recreativa",{"$nulls":9},"INSTITUCIONES RELIGIOSAS\\CONVENTOS","INSTITUCIONES RELIGIOSAS","CONVENTOS","06",{"$nulls":16358},"INMOBILIARIA - INDUSTRIA (FABRICA)"]
[{"$nulls":7},8542,"Enseñanza Cultural",{"$nulls":9},"INSTITUCIONES RELIGIOSAS\\IGLESIAS","INSTITUCIONES RELIGIOSAS","IGLESIAS","10",{"$nulls":16358},"INSTITUCIONES RELIGIOSAS - OFICINA"]
[{"$nulls":7},8549,"Otros Tipos De Enseñanza N.C.P.",{"$nulls":9},"INSTRUMENTOS MUSICALES\\COMERCIO (VENTA)","INSTRUMENTOS MUSICALES","COMERCIO (VENTA)","06",{"$nulls":16358},"INSTITUCIONES RELIGIOSAS - CONVENTOS"]
[{"$nulls":7},8550,"Actividades De Apoyo A La Enseñanza",{"$nulls":9},"JOYERÍA\\JOYERÍA","JOYERÍA","JOYERÍA","06",{"$nulls":16358},"INSTRUMENTOS MUSICALES - IGLESIAS"]
[{"$nulls":7},8610,"Actividades De Hospitales",{"$nulls":9},"JOYERÍA\\OFICINA","JOYERÍA","OFICINA","02",{"$nulls":16358},"JOYERiA - COMERCIO (VENTA)"]
[{"$nulls":7},8620,"Actividades De Medicos Y Odontólogos",{"$nulls":9},"JUGUETERÍA\\COMERCIO (VENTA)","JUGUETERÍA","COMERCIO (VENTA)","06",{"$nulls":16358},"JOYERiA - JOYERIA"]
[{"$nulls":7},8690,"Otras Actividades De Atención De La Salud Humana",{"$nulls":9},"JUGUETERÍA\\DEPÓSITO (ALMACÉN)","JUGUETERÍA","DEPÓSITO (ALMACÉN)","06",{"$nulls":16358},"JUGUETERiA - OFICINA"]
[{"$nulls":7},8710,"Actividades De Atención De Enfermeria En Instituciones",{"$nulls":9},"JUGUETERÍA\\OFICINA","JUGUETERÍA","OFICINA","02",{"$nulls":16358},"JUGUETERiA - COMERCIO (VENTA)"]
[{"$nulls":7},8720,"Actividades De Atención En Instituciones Para Personas Con Retraso Mental, Enfermos Mentales Y Toxicómanos",{"$nulls":9},"LABORATORIO\\ANÁLISIS CLÍNICO","LABORATORIO","ANÁLISIS CLÍNICO","05",{"$nulls":16358},"JUGUETERiA - DEPOSITO (ALMACEN)"]
[{"$nulls":7},8730,"Actividades De Atención En Instituciones Para Personas De Edad Personas Con Discapacidad",{"$nulls":9},"LABORATORIO\\FARMACÉUTICOS","LABORATORIO","FARMACÉUTICOS","06",{"$nulls":16358},"LABORATORIO - OFICINA"]
[{"$nulls":7},8790,"Otras Actividades De Atención En Instituciones",{"$nulls":9},"LABORATORIO\\OFICINA","LABORATORIO","OFICINA","02",{"$nulls":16358},"LABORATORIO - OFICINA"]
[{"$nulls":7},8810,"Actividades De Asistencia Social Sin Alojamiento Para Personas De Edad Y Personas Con Discapacidad",{"$nulls":9},"LABORATORIO\\QUÍMICO","LABORATORIO","QUÍMICO","11",{"$nulls":16358},"LABORATORIO - ANALISIS CLINICO"]
[{"$nulls":7},8890,"Otras Actividades De Asistencia Social Sin Alojamiento",{"$nulls":9},"LÁCTEOS\\DEPÓSITO (ALMACÉN)","LÁCTEOS","DEPÓSITO (ALMACÉN)","06",{"$nulls":16358},"LABORATORIO - FARMACEUTICOS"]
[{"$nulls":7},9000,"Actividades Creativas, Artisticas Y De Entretenimiento",{"$nulls":9},"LÁCTEOS\\INDUSTRIA (FÁBRICA)","LÁCTEOS","INDUSTRIA (FÁBRICA)","07",{"$nulls":16358},"LÁCTEOS - QUIMICOS"]
[{"$nulls":7},9101,"Actividades De Bibliotecas Y Archivos",{"$nulls":9},"LÁCTEOS\\OFICINA","LÁCTEOS","OFICINA","02",{"$nulls":16358},"LÁCTEOS - DEPOSITO (ALMACEN)"]
[{"$nulls":7},9102,"Actividades De Museos Y Gestión De Lugares Y Edificios Históricos",{"$nulls":9},"LADRILLOS\\COMERCIO (VENTA)","LADRILLOS","COMERCIO (VENTA)","06",{"$nulls":16358},"LÁCTEOS - OFICINA"]
[{"$nulls":7},9103,"Actividades De Jardines Botánicos Y Zoológicos Y Reservas Naturales",{"$nulls":9},"LADRILLOS\\DEPÓSITO (ALMACÉN)","LADRILLOS","DEPÓSITO (ALMACÉN)","07",{"$nulls":16358},"LADRILLOS - INDUSTRIA (FABRICA)"]
[{"$nulls":7},9200,"Actividades De Juegos De Azar Y Apuestas",{"$nulls":9},"LADRILLOS\\INDUSTRIA (FÁBRICA)","LADRILLOS","INDUSTRIA (FÁBRICA)","07",{"$nulls":16358},"LADRILLOS - DEPOSITO (ALMACEN)"]
[{"$nulls":7},9311,"Gestión De Instalaciones Deportivas",{"$nulls":9},"LADRILLOS\\OFICINA","LADRILLOS","OFICINA","02",{"$nulls":16358},"LADRILLOS - COMERCIO (VENTA)"]
[{"$nulls":7},9312,"Actividades De Clubes Deportivos",{"$nulls":9},"LANGOSTINERAS / CRIADERO DE LANGOSTINOS\\LANGOSTINERAS","LANGOSTINERAS / CRIADERO DE LANGOSTINOS","LANGOSTINERAS","05",{"$nulls":16358},"LADRILLOS - OFICINA"]
[{"$nulls":7},9319,"Otras Actividades Deportivas",{"$nulls":9},"LANGOSTINERAS / CRIADERO DE LANGOSTINOS\\OFICINA","LANGOSTINERAS / CRIADERO DE LANGOSTINOS","OFICINA","02",{"$nulls":16358},"LANGOSTINERAS / CRIADERO DE LANGOSTINOS - INDUSTRIA (FABRICA)"]
[{"$nulls":7},9321,"Actividades De Parques De Atracciones Y Parques Temáticos",{"$nulls":9},"LAVANDERIA\\LAVANDERIA","LAVANDERIA","LAVANDERIA","06",{"$nulls":16358},"LANGOSTINERAS / CRIADERO DE LANGOSTINOS - OFICINA"]
[{"$nulls":7},9329,"Otras Actividades De Esparcimiento Y Recreativas N.C.P.",{"$nulls":9},"LEVADURA\\OFICINA","LEVADURA","OFICINA","02",{"$nulls":16358},"LAVANDERIA - LANGOSTINERAS"]
[{"$nulls":7},9411,"Actividades De Asociaciones Empresariales Y De Empleadores",{"$nulls":9},"LIBRERÍA (SÓLO LIBROS, REVISTAS)\\DEPÓSITO (ALMACÉN)","LIBRERÍA (SÓLO LIBROS, REVISTAS)","DEPÓSITO (ALMACÉN)","06",{"$nulls":16358},"LEVADURA - LAVANDERIA"]
[{"$nulls":7},9412,"Actividades De Asociaciones Profesionales",{"$nulls":9},"LIBRERÍA (SÓLO LIBROS, REVISTAS)\\LIBROS Y REVISTAS","LIBRERÍA (SÓLO LIBROS, REVISTAS)","LIBROS Y REVISTAS","06",{"$nulls":16358},"LIBRERiA (SÓLO LIBROS, REVISTAS) - OFICINA"]
[{"$nulls":7},9420,"Actividades De Sindicatos",{"$nulls":9},"LIBRERÍA (SÓLO LIBROS, REVISTAS)\\OFICINA","LIBRERÍA (SÓLO LIBROS, REVISTAS)","OFICINA","02",{"$nulls":16358},"LIBRERiA (SÓLO LIBROS, REVISTAS) - LIBROS Y REVISTAS"]
[{"$nulls":7},9491,"Actividades De Organizaciones Religiosas",{"$nulls":9},"LICORERÍA\\COMERCIO (VENTA)","LICORERÍA","COMERCIO (VENTA)","06",{"$nulls":16358},"LIBRERiA (SÓLO LIBROS, REVISTAS) - DEPOSITO (ALMACEN)"]
[{"$nulls":7},9492,"Actividades De Organizaciones Politicas",{"$nulls":9},"LICORERÍA\\DEPÓSITO (ALMACÉN)","LICORERÍA","DEPÓSITO (ALMACÉN)","06",{"$nulls":16358},"LICORERiA - OFICINA"]
[{"$nulls":7},9499,"Actividades De Otras Asociaciones N.C.P.",{"$nulls":9},"LICORERÍA\\INDUSTRIA (FÁBRICA)","LICORERÍA","INDUSTRIA (FÁBRICA)","07",{"$nulls":16358},"LICORERiA - DEPOSITO (ALMACEN)"]
[{"$nulls":7},9511,"Reparación De Ordenadores Y Equipo Periferico",{"$nulls":9},"LICORERÍA\\OFICINA","LICORERÍA","OFICINA","02",{"$nulls":16358},"LICORERiA - COMERCIO (VENTA)"]
[{"$nulls":7},9512,"Reparación De Equipos Comunicacionales",{"$nulls":9},"LLANTAS\\COMERCIO (VENTA)","LLANTAS","COMERCIO (VENTA)","06",{"$nulls":16358},"LICORERiA - OFICINA"]
[{"$nulls":7},9521,"Reparación De Aparatos Electrónicos De Consumo",{"$nulls":9},"LLANTAS\\DEPÓSITO (ALMACÉN)","LLANTAS","DEPÓSITO (ALMACÉN)","06",{"$nulls":16358},"LLANTAS - INDUSTRIA (FABRICA)"]
[{"$nulls":7},9522,"Reparación De Aparatos De Uso Domestico Y Equipo Domestico Y De Jardineria",{"$nulls":9},"LLANTAS\\INDUSTRIA (FÁBRICA)","LLANTAS","INDUSTRIA (FÁBRICA)","07",{"$nulls":16358},"LLANTAS - DEPOSITO (ALMACEN)"]
[{"$nulls":7},9523,"Reparación De Calzado Y Articulos De Cuero",{"$nulls":9},"LLANTAS\\OFICINA","LLANTAS","OFICINA","02",{"$nulls":16358},"LLANTAS - COMERCIO (VENTA)"]
[{"$nulls":7},9524,"Reparación De Muebles Y Accesorios Domesticos",{"$nulls":9},"LOCAL DESOCUPADO\\LOCAL DESOCUPADO","LOCAL DESOCUPADO","LOCAL DESOCUPADO","06",{"$nulls":16358},"LLANTAS - OFICINA"]
[{"$nulls":7},9529,"Reparación De Otros Efectos Personales Y Enseres Domesticos",{"$nulls":9},"LUBRICANTES\\COMERCIO (VENTA)","LUBRICANTES","COMERCIO (VENTA)","06",{"$nulls":16358},"LOCAL DESOCUPADO - INDUSTRIA (FABRICA)"]
[{"$nulls":7},9601,"Lavado Y Limpieza, Incluida La Limpieza En Seco, De Productos Textiles Y De Piel",{"$nulls":9},"LUBRICANTES\\DEPÓSITO (ALMACÉN)","LUBRICANTES","DEPÓSITO (ALMACÉN)","06",{"$nulls":16358},"SALONES DE JUEGO, APUESTAS - LOCAL DESOCUPADO"]
[{"$nulls":7},9602,"Peluqueria Y Otros Tratamientos De Belleza",{"$nulls":9},"LUBRICANTES\\OFICINA","LUBRICANTES","OFICINA","02",{"$nulls":16358},"LUBRICANTES - LOTERIA"]
[{"$nulls":7},9603,"Pompas Fúnebres Y Actividades Conexas",{"$nulls":9},"MADERA Y/O AGLOMERADOS Y/O SIMILARES\\ASERRADERO","MADERA Y/O AGLOMERADOS Y/O SIMILARES","ASERRADERO","07",{"$nulls":16358},"LUBRICANTES - DEPOSITO (ALMACEN)"]
[{"$nulls":7},9609,"Otras Actividades De Servicios Personales N.C.P.",{"$nulls":9},"MADERA Y/O AGLOMERADOS Y/O SIMILARES\\CARPINTERÍA","MADERA Y/O AGLOMERADOS Y/O SIMILARES","CARPINTERÍA","05",{"$nulls":16358},"LUBRICANTES - COMERCIO (VENTA)"]
[{"$nulls":7},9700,"Actividades De Los Hogares Como Empleadores De Personal Domestico",{"$nulls":9},"MADERA Y/O AGLOMERADOS Y/O SIMILARES\\COMERCIO (VENTA)","MADERA Y/O AGLOMERADOS Y/O SIMILARES","COMERCIO (VENTA)","06",{"$nulls":16358},"MADERA Y/O AGLOMERADOS Y/O SIMILARES - OFICINA"]
[{"$nulls":7},9900,"Actividades De Organizaciones Y Órganos Extraterritoriales",{"$nulls":9},"MADERA Y/O AGLOMERADOS Y/O SIMILARES\\DEPÓSITO (ALMACÉN)","MADERA Y/O AGLOMERADOS Y/O SIMILARES","DEPÓSITO (ALMACÉN)","06",{"$nulls":16358},"MADERA Y/O AGLOMERADOS Y/O SIMILARES - DEPOSITO (ALMACEN)"]
[{"$nulls":18},"MADERA Y/O AGLOMERADOS Y/O SIMILARES\\MUEBLERIA/EBANISTERIA","MADERA Y/O AGLOMERADOS Y/O SIMILARES","MUEBLERIA/EBANISTERIA","05",{"$nulls":16358},"MADERA Y/O AGLOMERADOS Y/O SIMILARES - COMERCIO (VENTA)"]
[{"$nulls":18},"MADERA Y/O AGLOMERADOS Y/O SIMILARES\\OFICINA","MADERA Y/O AGLOMERADOS Y/O SIMILARES","OFICINA","02",{"$nulls":16358},"MADERA Y/O AGLOMERADOS Y/O SIMILARES - OFICINA"]
[{"$nulls":18},"MAQUINARIA, EQUIPOS, REPUESTOS\\COMERCIO (VENTA)","MAQUINARIA, EQUIPOS, REPUESTOS","COMERCIO (VENTA)","06",{"$nulls":16358},"MADERA Y/O AGLOMERADOS Y/O SIMILARES - ASERRADERO"]
[{"$nulls":18},"MAQUINARIA, EQUIPOS, REPUESTOS\\DEPÓSITO (ALMACÉN)","MAQUINARIA, EQUIPOS, REPUESTOS","DEPÓSITO (ALMACÉN)","06",{"$nulls":16358},"MADERA Y/O AGLOMERADOS Y/O SIMILARES - CARPINTERIA"]
[{"$nulls":18},"MAQUINARIA, EQUIPOS, REPUESTOS\\INDUSTRIA (FÁBRICA)","MAQUINARIA, EQUIPOS, REPUESTOS","INDUSTRIA (FÁBRICA)","07",{"$nulls":16358},"MAQUINARIA, EQUIPOS, REPUESTOS - MUEBLERIA/EBANISTERIA"]
[{"$nulls":18},"MAQUINARIA, EQUIPOS, REPUESTOS\\OFICINA","MAQUINARIA, EQUIPOS, REPUESTOS","OFICINA","02",{"$nulls":16358},"MAQUINARIA, EQUIPOS, REPUESTOS - DEPOSITO (ALMACEN)"]
[{"$nulls":18},"MAQUINARIA, EQUIPOS, REPUESTOS\\TALLER Y/O  ENSAMBLADORA","MAQUINARIA, EQUIPOS, REPUESTOS","TALLER Y/O  ENSAMBLADORA","05",{"$nulls":16358},"MAQUINARIA, EQUIPOS, REPUESTOS - COMERCIO (VENTA)"]
[{"$nulls":18},"MATERIALES DE CONSTRUCCIÓN\\COMERCIO (VENTA)","MATERIALES DE CONSTRUCCIÓN","COMERCIO (VENTA)","06",{"$nulls":16358},"MAQUINARIA, EQUIPOS, REPUESTOS - TALLER Y/O  ENSAMBLADORA"]
[{"$nulls":18},"MATERIALES DE CONSTRUCCIÓN\\DEPÓSITO (ALMACÉN)","MATERIALES DE CONSTRUCCIÓN","DEPÓSITO (ALMACÉN)","06",{"$nulls":16358},"MAQUINARIA, EQUIPOS, REPUESTOS - OFICINA"]
[{"$nulls":18},"MATERIALES DE CONSTRUCCIÓN\\OFICINA","MATERIALES DE CONSTRUCCIÓN","OFICINA","02",{"$nulls":16358},"MATERIALES DE CONSTRUCCIÓN - INDUSTRIA (FABRICA)"]
[{"$nulls":18},"MECHAS\\OFICINA","MECHAS","OFICINA","02",{"$nulls":16358},"MATERIALES DE CONSTRUCCIÓN - DEPOSITO (ALMACEN)"]
[{"$nulls":18},"MERCADOS, SUPERMERCADOS E HIPERMERCADOS\\MERCADOS, SUPERMERCADOS E HIPERMERCADOS","MERCADOS, SUPERMERCADOS E HIPERMERCADOS","MERCADOS, SUPERMERCADOS E HIPERMERCADOS","06",{"$nulls":16358},"MATERIALES DE CONSTRUCCIÓN - COMERCIO (VENTA)"]
[{"$nulls":18},"METALMECÁNICA\\DEPÓSITO (ALMACÉN)","METALMECÁNICA","DEPÓSITO (ALMACÉN)","06",{"$nulls":16358},"MECHAS - OFICINA"]
[{"$nulls":18},"METALMECÁNICA\\METALMECÁNICA","METALMECÁNICA","METALMECÁNICA","07",{"$nulls":16358},"MERCADOS, SUPERMERCADOS E HIPERMERCADOS - OFICINA"]
[{"$nulls":18},"METALMECÁNICA\\OFICINA","METALMECÁNICA","OFICINA","02",{"$nulls":16358},"METALMECÁNICA - MERCADOS, SUPERMERCADOS E HIPERMERCADOS"]
[{"$nulls":18},"MINERÍA\\CAMPAMENTO MINERO","MINERÍA","CAMPAMENTO MINERO","01",{"$nulls":16358},"METALMECÁNICA - DEPOSITO (ALMACEN)"]
[{"$nulls":18},"MINERÍA\\DEPÓSITO (ALMACÉN)","MINERÍA","DEPÓSITO (ALMACÉN)","06",{"$nulls":16358},"METALMECÁNICA - OFICINA"]
[{"$nulls":18},"MINERÍA\\MINA SOCAVÓN","MINERÍA","MINA SOCAVÓN","11",{"$nulls":16358},"MINERiA - METALMECANICA"]
[{"$nulls":18},"MINERÍA\\MINA TAJO ABIERTO","MINERÍA","MINA TAJO ABIERTO","11",{"$nulls":16358},"MINERiA - DEPOSITO (ALMACEN)"]
[{"$nulls":18},"MINERÍA\\MINA TAJO ABIERTO-SOCAVÓN","MINERÍA","MINA TAJO ABIERTO-SOCAVÓN","11",{"$nulls":16358},"MINERiA - OFICINA"]
[{"$nulls":18},"MINERÍA\\OFICINA","MINERÍA","OFICINA","02",{"$nulls":16358},"MINERiA - PLANTA CONCENTRADORA"]
[{"$nulls":18},"MINERÍA\\PLANTA CONCENTRADORA","MINERÍA","PLANTA CONCENTRADORA","11",{"$nulls":16358},"MINERiA - CAMPAMENTO MINERO"]
[{"$nulls":18},"MOLINERA\\DEPÓSITO (ALMACÉN)","MOLINERA","DEPÓSITO (ALMACÉN)","06",{"$nulls":16358},"MINERiA - MINA TAJO ABIERTO-SOCAVON"]
[{"$nulls":18},"MOLINERA\\OFICINA","MOLINERA","OFICINA","02",{"$nulls":16358},"MINERiA - MINA SOCAVON"]
[{"$nulls":18},"MOLINERA\\PLANTA DE MOLIENDA","MOLINERA","PLANTA DE MOLIENDA","07",{"$nulls":16358},"MOLINERA - MINA TAJO ABIERTO"]
[{"$nulls":18},"MUEBLES, PARA EL HOGAR, METÁLICOS SIN TAPIZADO\\COMERCIO (VENTA)","MUEBLES, PARA EL HOGAR, METÁLICOS SIN TAPIZADO","COMERCIO (VENTA)","06",{"$nulls":16358},"MOLINERA - DEPOSITO (ALMACEN)"]
[{"$nulls":18},"MUELLES Y DESEMBARCADEROS\\MUELLES Y DESEMBARCADEROS","MUELLES Y DESEMBARCADEROS","MUELLES Y DESEMBARCADEROS","11",{"$nulls":16358},"MOLINERA - OFICINA"]
[{"$nulls":18},"NITROCELULOSA\\COMERCIO (VENTA)","NITROCELULOSA","COMERCIO (VENTA)","06",{"$nulls":16358},"MUEBLES, PARA EL HOGAR, METÁLICOS SIN TAPIZADO - PLANTA DE MOLIENDA"]
[{"$nulls":18},"NITROCELULOSA\\DEPÓSITO (ALMACÉN)","NITROCELULOSA","DEPÓSITO (ALMACÉN)","06",{"$nulls":16358},"MUELLES Y DESEMBARCADEROS - COMERCIO (VENTA)"]
[{"$nulls":18},"NITROCELULOSA\\INDUSTRIA (FÁBRICA)","NITROCELULOSA","INDUSTRIA (FÁBRICA)","07",{"$nulls":16358},"NITROCELULOSA - MUELLES Y DESEMBARCADEROS"]
[{"$nulls":18},"NITROCELULOSA\\OFICINA","NITROCELULOSA","OFICINA","02",{"$nulls":16358},"NITROCELULOSA - DEPOSITO (ALMACEN)"]
[{"$nulls":18},"NOTARÍA\\OFICINA","NOTARÍA","OFICINA","02",{"$nulls":16358},"NITROCELULOSA - COMERCIO (VENTA)"]
[{"$nulls":18},"OPTICAS\\OPTICAS","OPTICAS","OPTICAS","06",{"$nulls":16358},"NITROCELULOSA - OFICINA"]
[{"$nulls":18},"ORFEBRERÍA (JOYAS, PLATERÍA)\\COMERCIO (VENTA)","ORFEBRERÍA (JOYAS, PLATERÍA)","COMERCIO (VENTA)","06",{"$nulls":16358},"NOTARiA - INDUSTRIA (FABRICA)"]
[{"$nulls":18},"ORFEBRERÍA (JOYAS, PLATERÍA)\\DEPÓSITO (ALMACÉN)","ORFEBRERÍA (JOYAS, PLATERÍA)","DEPÓSITO (ALMACÉN)","06",{"$nulls":16358},"OPTICAS - OFICINA"]
[{"$nulls":18},"ORFEBRERÍA (JOYAS, PLATERÍA)\\INDUSTRIA (FÁBRICA)","ORFEBRERÍA (JOYAS, PLATERÍA)","INDUSTRIA (FÁBRICA)","07",{"$nulls":16358},"ORFEBRERiA (JOYAS, PLATERiA) - OPTICAS"]
[{"$nulls":18},"ORFEBRERÍA (JOYAS, PLATERÍA)\\OFICINA","ORFEBRERÍA (JOYAS, PLATERÍA)","OFICINA","02",{"$nulls":16358},"ORFEBRERiA (JOYAS, PLATERiA) - DEPOSITO (ALMACEN)"]
[{"$nulls":18},"ORGANISMO NO GUBERNAMENTAL\\OFICINA","ORGANISMO NO GUBERNAMENTAL","OFICINA","02",{"$nulls":16358},"ORFEBRERiA (JOYAS, PLATERiA) - COMERCIO (VENTA)"]
[{"$nulls":18},"ORTOPEDIA\\ORTOPEDIA","ORTOPEDIA","ORTOPEDIA","05",{"$nulls":16358},"ORFEBRERiA (JOYAS, PLATERiA) - OFICINA"]
[{"$nulls":18},"OSMOSIS, PLANTAS DE INVERSIÒN\\COMERCIO (VENTA)","OSMOSIS, PLANTAS DE INVERSIÒN","COMERCIO (VENTA)","06",{"$nulls":16358},"ORGANISMO NO GUBERNAMENTAL - INDUSTRIA (FABRICA)"]
[{"$nulls":18},"OSMOSIS, PLANTAS DE INVERSIÒN\\DEPÓSITO (ALMACÉN)","OSMOSIS, PLANTAS DE INVERSIÒN","DEPÓSITO (ALMACÉN)","06",{"$nulls":16358},"ORTOPEDIA - OFICINA"]
[{"$nulls":18},"OSMOSIS, PLANTAS DE INVERSIÒN\\INDUSTRIA (FÁBRICA)","OSMOSIS, PLANTAS DE INVERSIÒN","INDUSTRIA (FÁBRICA)","07",{"$nulls":16358},"OSMOSIS, PLANTAS DE INVERSIÒN - ORTOPEDIA"]
[{"$nulls":18},"OSMOSIS, PLANTAS DE INVERSIÒN\\OFICINA","OSMOSIS, PLANTAS DE INVERSIÒN","OFICINA","02",{"$nulls":16358},"OSMOSIS, PLANTAS DE INVERSIÒN - DEPOSITO (ALMACEN)"]
[{"$nulls":18},"PANADERÍA\\PANADERÍA","PANADERÍA","PANADERÍA","05",{"$nulls":16358},"OSMOSIS, PLANTAS DE INVERSIÒN - COMERCIO (VENTA)"]
[{"$nulls":18},"PANIFICACIÓN\\DEPÓSITO (ALMACÉN)","PANIFICACIÓN","DEPÓSITO (ALMACÉN)","06",{"$nulls":16358},"OSMOSIS, PLANTAS DE INVERSIÒN - OFICINA"]
[{"$nulls":18},"PANIFICACIÓN\\INDUSTRIA (FÁBRICA)","PANIFICACIÓN","INDUSTRIA (FÁBRICA)","07",{"$nulls":16358},"PANADERiA - INDUSTRIA (FABRICA)"]
[{"$nulls":18},"PANIFICACIÓN\\OFICINA","PANIFICACIÓN","OFICINA","02",{"$nulls":16358},"PANIFICACIÓN - PANADERIA"]
[{"$nulls":18},"PAPEL Y CARTÓN\\COMERCIO (VENTA)","PAPEL Y CARTÓN","COMERCIO (VENTA)","06",{"$nulls":16358},"PANIFICACIÓN - DEPOSITO (ALMACEN)"]
[{"$nulls":18},"PAPEL Y CARTÓN\\DEPÓSITO (ALMACÉN)","PAPEL Y CARTÓN","DEPÓSITO (ALMACÉN)","06",{"$nulls":16358},"PANIFICACIÓN - OFICINA"]
[{"$nulls":18},"PAPEL Y CARTÓN\\INDUSTRIA (FÁBRICA)","PAPEL Y CARTÓN","INDUSTRIA (FÁBRICA)","07",{"$nulls":16358},"PAPEL Y CARTÓN - INDUSTRIA (FABRICA)"]
[{"$nulls":18},"PAPEL Y CARTÓN\\OFICINA","PAPEL Y CARTÓN","OFICINA","02",{"$nulls":16358},"PAPEL Y CARTÓN - DEPOSITO (ALMACEN)"]
[{"$nulls":18},"PAPEL Y CARTÓN\\RECICLAJE","PAPEL Y CARTÓN","RECICLAJE","11",{"$nulls":16358},"PAPEL Y CARTÓN - COMERCIO (VENTA)"]
[{"$nulls":18},"PARQUES DE DIVERSIONES\\OFICINA","PARQUES DE DIVERSIONES","OFICINA","02",{"$nulls":16358},"PAPEL Y CARTÓN - OFICINA"]
[{"$nulls":18},"PARQUES DE DIVERSIONES\\PARQUES DE DIVERSIONES","PARQUES DE DIVERSIONES","PARQUES DE DIVERSIONES","10",{"$nulls":16358},"PAPEL Y CARTÓN - INDUSTRIA (FABRICA)"]
[{"$nulls":18},"PASAMANERÍA - AVIOS TEXTILES\\COMERCIO (VENTA)","PASAMANERÍA - AVIOS TEXTILES","COMERCIO (VENTA)","06",{"$nulls":16358},"PARQUES DE DIVERSIONES - RECICLAJE"]
[{"$nulls":18},"PASAMANERÍA - AVIOS TEXTILES\\INDUSTRIA (FÁBRICA)","PASAMANERÍA - AVIOS TEXTILES","INDUSTRIA (FÁBRICA)","07",{"$nulls":16358},"PARQUES DE DIVERSIONES - OFICINA"]
[{"$nulls":18},"PEGAMENTOS\\DEPÓSITO (ALMACÉN)","PEGAMENTOS","DEPÓSITO (ALMACÉN)","06",{"$nulls":16358},"PASAMANERiA - AVIOS TEXTILES - PARQUES DE DIVERSIONES"]
[{"$nulls":18},"PEGAMENTOS\\INDUSTRIA (FÁBRICA)","PEGAMENTOS","INDUSTRIA (FÁBRICA)","07",{"$nulls":16358},"PASAMANERiA - AVIOS TEXTILES - COMERCIO (VENTA)"]
[{"$nulls":18},"PEGAMENTOS\\OFICINA","PEGAMENTOS","OFICINA","02",{"$nulls":16358},"PEGAMENTOS - INDUSTRIA (FABRICA)"]
[{"$nulls":18},"PELETERIAS (CONFECCIÓN PRENDAS EN CUERO)\\COMERCIO (VENTA)","PELETERIAS (CONFECCIÓN PRENDAS EN CUERO)","COMERCIO (VENTA)","06",{"$nulls":16358},"PEGAMENTOS - DEPOSITO (ALMACEN)"]
[{"$nulls":18},"PELETERIAS (CONFECCIÓN PRENDAS EN CUERO)\\DEPÓSITO (ALMACÉN)","PELETERIAS (CONFECCIÓN PRENDAS EN CUERO)","DEPÓSITO (ALMACÉN)","06",{"$nulls":16358},"PEGAMENTOS - OFICINA"]
[{"$nulls":18},"PELETERÍAS (CONFECCIÓN PRENDAS EN CUERO)\\INDUSTRIA (FÁBRICA)","PELETERÍAS (CONFECCIÓN PRENDAS EN CUERO)","INDUSTRIA (FÁBRICA)","07",{"$nulls":16358},"PELETERIAS (CONFECCIÓN PRENDAS EN CUERO) - INDUSTRIA (FABRICA)"]
[{"$nulls":18},"PELETERIAS (CONFECCIÓN PRENDAS EN CUERO)\\OFICINA","PELETERIAS (CONFECCIÓN PRENDAS EN CUERO)","OFICINA","02",{"$nulls":16358},"PELETERIAS (CONFECCIÓN PRENDAS EN CUERO) - COMERCIO (VENTA)"]
[{"$nulls":18},"PELÍCULAS (EXCLUYENDO NITRATO DE CELULOSA)\\OFICINA","PELÍCULAS (EXCLUYENDO NITRATO DE CELULOSA)","OFICINA","02",{"$nulls":16358},"PELETERIAS (CONFECCIÓN PRENDAS EN CUERO) - DEPOSITO (ALMACEN)"]
[{"$nulls":18},"PELUQUERIA\\BELLEZA","PELUQUERIA","BELLEZA","06",{"$nulls":16358},"PELETERiAS (CONFECCIÓN PRENDAS EN CUERO) - OFICINA"]
[{"$nulls":18},"PETRÓLEO Y SUS DERIVADOS\\COMERCIO (VENTA)","PETRÓLEO Y SUS DERIVADOS","COMERCIO (VENTA)","06",{"$nulls":16358},"PELiCULAS (EXCLUYENDO NITRATO DE CELULOSA) - INDUSTRIA (FABRICA)"]
[{"$nulls":18},"PETRÓLEO Y SUS DERIVADOS\\DEPÓSITO (ALMACÉN)","PETRÓLEO Y SUS DERIVADOS","DEPÓSITO (ALMACÉN)","11",{"$nulls":16358},"PELUQUERIA - OFICINA"]
[{"$nulls":18},"PETRÓLEO Y SUS DERIVADOS\\EXPLORACIÓN","PETRÓLEO Y SUS DERIVADOS","EXPLORACIÓN","11",{"$nulls":16358},"PETRÓLEO Y SUS DERIVADOS - BELLEZA"]
[{"$nulls":18},"PETRÓLEO Y SUS DERIVADOS\\FRACCIONAMIENTO GLP","PETRÓLEO Y SUS DERIVADOS","FRACCIONAMIENTO GLP","11",{"$nulls":16358},"PETRÓLEO Y SUS DERIVADOS - DEPOSITO (ALMACEN)"]
[{"$nulls":18},"PETRÓLEO Y SUS DERIVADOS\\OFICINA","PETRÓLEO Y SUS DERIVADOS","OFICINA","02",{"$nulls":16358},"PETRÓLEO Y SUS DERIVADOS - COMERCIO (VENTA)"]
[{"$nulls":18},"PETRÓLEO Y SUS DERIVADOS\\OLEODUCTO","PETRÓLEO Y SUS DERIVADOS","OLEODUCTO","11",{"$nulls":16358},"PETRÓLEO Y SUS DERIVADOS - OFICINA"]
[{"$nulls":18},"PETRÓLEO Y SUS DERIVADOS\\POZO, EXTRACCIÓN","PETRÓLEO Y SUS DERIVADOS","POZO, EXTRACCIÓN","11",{"$nulls":16358},"PETRÓLEO Y SUS DERIVADOS - EXPLORACION"]
[{"$nulls":18},"PETRÓLEO Y SUS DERIVADOS\\REFINERÍA","PETRÓLEO Y SUS DERIVADOS","REFINERÍA","11",{"$nulls":16358},"PETRÓLEO Y SUS DERIVADOS - POZO, EXTRACCION"]
[{"$nulls":18},"PINTURAS Y/O TINTES AL AGUA Y/O NATURALES\\COMERCIO (VENTA)","PINTURAS Y/O TINTES AL AGUA Y/O NATURALES","COMERCIO (VENTA)","06",{"$nulls":16358},"PETRÓLEO Y SUS DERIVADOS - FRACCIONAMIENTO GLP"]
[{"$nulls":18},"PINTURAS Y/O TINTES AL AGUA Y/O NATURALES\\DEPÓSITO (ALMACÉN)","PINTURAS Y/O TINTES AL AGUA Y/O NATURALES","DEPÓSITO (ALMACÉN)","06",{"$nulls":16358},"PETRÓLEO Y SUS DERIVADOS - OLEODUCTO"]
[{"$nulls":18},"PINTURAS Y/O TINTES AL AGUA Y/O NATURALES\\INDUSTRIA (FÁBRICA)","PINTURAS Y/O TINTES AL AGUA Y/O NATURALES","INDUSTRIA (FÁBRICA)","07",{"$nulls":16358},"PINTURAS Y/O TINTES AL AGUA Y/O NATURALES - REFINERIA"]
[{"$nulls":18},"PINTURAS Y/O TINTES AL AGUA Y/O NATURALES\\OFICINA","PINTURAS Y/O TINTES AL AGUA Y/O NATURALES","OFICINA","02",{"$nulls":16358},"PINTURAS Y/O TINTES AL AGUA Y/O NATURALES - DEPOSITO (ALMACEN)"]
[{"$nulls":18},"PINTURAS Y/O TINTES COMBUSTIBLES / INFLAMABLES\\COMERCIO (VENTA)","PINTURAS Y/O TINTES COMBUSTIBLES / INFLAMABLES","COMERCIO (VENTA)","06",{"$nulls":16358},"PINTURAS Y/O TINTES AL AGUA Y/O NATURALES - COMERCIO (VENTA)"]
[{"$nulls":18},"PINTURAS Y/O TINTES COMBUSTIBLES / INFLAMABLES\\DEPÓSITO (ALMACÉN)","PINTURAS Y/O TINTES COMBUSTIBLES / INFLAMABLES","DEPÓSITO (ALMACÉN)","06",{"$nulls":16358},"PINTURAS Y/O TINTES AL AGUA Y/O NATURALES - OFICINA"]
[{"$nulls":18},"PINTURAS Y/O TINTES COMBUSTIBLES / INFLAMABLES\\INDUSTRIA (FÁBRICA)","PINTURAS Y/O TINTES COMBUSTIBLES / INFLAMABLES","INDUSTRIA (FÁBRICA)","07",{"$nulls":16358},"PINTURAS Y/O TINTES COMBUSTIBLES / INFLAMABLES - INDUSTRIA (FABRICA)"]
[{"$nulls":18},"PINTURAS Y/O TINTES COMBUSTIBLES / INFLAMABLES\\OFICINA","PINTURAS Y/O TINTES COMBUSTIBLES / INFLAMABLES","OFICINA","02",{"$nulls":16358},"PINTURAS Y/O TINTES COMBUSTIBLES / INFLAMABLES - DEPOSITO (ALMACEN)"]
[{"$nulls":18},"PISCIGRANJAS / CRIADERO DE PECES\\OFICINA","PISCIGRANJAS / CRIADERO DE PECES","OFICINA","02",{"$nulls":16358},"PINTURAS Y/O TINTES COMBUSTIBLES / INFLAMABLES - COMERCIO (VENTA)"]
[{"$nulls":18},"PISCIGRANJAS / CRIADERO DE PECES\\PISCIGRANJAS","PISCIGRANJAS / CRIADERO DE PECES","PISCIGRANJAS","05",{"$nulls":16358},"PINTURAS Y/O TINTES COMBUSTIBLES / INFLAMABLES - OFICINA"]
[{"$nulls":18},"PLÁSTICOS, MATERIALES SINTETICOS, JEBES\\COMERCIO (VENTA)","PLÁSTICOS, MATERIALES SINTETICOS, JEBES","COMERCIO (VENTA)","06",{"$nulls":16358},"PISCIGRANJAS / CRIADERO DE PECES - INDUSTRIA (FABRICA)"]
[{"$nulls":18},"PLÁSTICOS, MATERIALES SINTETICOS, JEBES\\DEPÓSITO (ALMACÉN)","PLÁSTICOS, MATERIALES SINTETICOS, JEBES","DEPÓSITO (ALMACÉN)","06",{"$nulls":16358},"PISCIGRANJAS / CRIADERO DE PECES - OFICINA"]
[{"$nulls":18},"PLÁSTICOS, MATERIALES SINTETICOS, JEBES\\FABRICACIÓN POR EXTRUSIÓN","PLÁSTICOS, MATERIALES SINTETICOS, JEBES","FABRICACIÓN POR EXTRUSIÓN","07",{"$nulls":16358},"PLÁSTICOS, MATERIALES SINTETICOS, JEBES - PISCIGRANJAS"]
[{"$nulls":18},"PLÁSTICOS, MATERIALES SINTETICOS, JEBES\\FABRICACIÓN POR INYECCIÓN","PLÁSTICOS, MATERIALES SINTETICOS, JEBES","FABRICACIÓN POR INYECCIÓN","07",{"$nulls":16358},"PLÁSTICOS, MATERIALES SINTETICOS, JEBES - DEPOSITO (ALMACEN)"]
[{"$nulls":18},"PLÁSTICOS, MATERIALES SINTETICOS, JEBES\\FABRICACIÓN POR MOLDEO","PLÁSTICOS, MATERIALES SINTETICOS, JEBES","FABRICACIÓN POR MOLDEO","07",{"$nulls":16358},"PLÁSTICOS, MATERIALES SINTETICOS, JEBES - COMERCIO (VENTA)"]
[{"$nulls":18},"PLÁSTICOS, MATERIALES SINTETICOS, JEBES\\OFICINA","PLÁSTICOS, MATERIALES SINTETICOS, JEBES","OFICINA","02",{"$nulls":16358},"PLÁSTICOS, MATERIALES SINTETICOS, JEBES - OFICINA"]
[{"$nulls":18},"PLÁSTICOS, MATERIALES SINTETICOS, JEBES\\RECICLAJE","PLÁSTICOS, MATERIALES SINTETICOS, JEBES","RECICLAJE","07",{"$nulls":16358},"PLÁSTICOS, MATERIALES SINTETICOS, JEBES - FABRICACION POR EXTRUSION"]
[{"$nulls":18},"PLAYA DE ESTACIONAMIENTO\\PLAYA DE ESTACIONAMIENTO","PLAYA DE ESTACIONAMIENTO","PLAYA DE ESTACIONAMIENTO","06",{"$nulls":16358},"PLÁSTICOS, MATERIALES SINTETICOS, JEBES - FABRICACION POR INYECCION"]
[{"$nulls":18},"PRENDAS DE VESTIR - BOUTIQUE\\PRENDAS DE VESTIR - BOUTIQUE","PRENDAS DE VESTIR - BOUTIQUE","PRENDAS DE VESTIR - BOUTIQUE","06",{"$nulls":16358},"PLÁSTICOS, MATERIALES SINTETICOS, JEBES - FABRICACION POR MOLDEO"]
[{"$nulls":18},"PRODUCTOS FARMACÉUTICOS\\COMERCIO (VENTA)","PRODUCTOS FARMACÉUTICOS","COMERCIO (VENTA)","06",{"$nulls":16358},"PLAYA DE ESTACIONAMIENTO - RECICLAJE"]
[{"$nulls":18},"PRODUCTOS FARMACÉUTICOS\\DEPÓSITO (ALMACÉN)","PRODUCTOS FARMACÉUTICOS","DEPÓSITO (ALMACÉN)","06",{"$nulls":16358},"PRENDAS DE VESTIR - BOUTIQUE - PLAYA DE ESTACIONAMIENTO"]
[{"$nulls":18},"PRODUCTOS FARMACÉUTICOS\\OFICINA","PRODUCTOS FARMACÉUTICOS","OFICINA","02",{"$nulls":16358},"PRODUCTOS FARMACeUTICOS - PRENDAS DE VESTIR - BOUTIQUE"]
[{"$nulls":18},"PRODUCTOS/INSUMOS QUÍMICOS PARA LA INDUSTRIA\\COMERCIO (VENTA)","PRODUCTOS/INSUMOS QUÍMICOS PARA LA INDUSTRIA","COMERCIO (VENTA)","06",{"$nulls":16358},"PRODUCTOS FARMACeUTICOS - COMERCIO (VENTA)"]
[{"$nulls":18},"PRODUCTOS/INSUMOS QUÍMICOS PARA LA INDUSTRIA\\DEPÓSITO (ALMACÉN)","PRODUCTOS/INSUMOS QUÍMICOS PARA LA INDUSTRIA","DEPÓSITO (ALMACÉN)","06",{"$nulls":16358},"PRODUCTOS FARMACeUTICOS - DEPOSITO (ALMACEN)"]
[{"$nulls":18},"PRODUCTOS/INSUMOS QUÍMICOS PARA LA INDUSTRIA\\INDUSTRIA (FÁBRICA)","PRODUCTOS/INSUMOS QUÍMICOS PARA LA INDUSTRIA","INDUSTRIA (FÁBRICA)","07",{"$nulls":16358},"PRODUCTOS/INSUMOS QUiMICOS PARA LA INDUSTRIA - OFICINA"]
[{"$nulls":18},"PRODUCTOS/INSUMOS QUÍMICOS PARA LA INDUSTRIA\\OFICINA","PRODUCTOS/INSUMOS QUÍMICOS PARA LA INDUSTRIA","OFICINA","02",{"$nulls":16358},"PRODUCTOS/INSUMOS QUiMICOS PARA LA INDUSTRIA - DEPOSITO (ALMACEN)"]
[{"$nulls":18},"PUERTOS\\PUERTOS","PUERTOS","PUERTOS","11",{"$nulls":16358},"PRODUCTOS/INSUMOS QUiMICOS PARA LA INDUSTRIA - COMERCIO (VENTA)"]
[{"$nulls":18},"REDES DE PESCA\\COMERCIO (VENTA)","REDES DE PESCA","COMERCIO (VENTA)","06",{"$nulls":16358},"PRODUCTOS/INSUMOS QUiMICOS PARA LA INDUSTRIA - OFICINA"]
[{"$nulls":18},"REDES DE PESCA\\DEPÓSITO (ALMACÉN)","REDES DE PESCA","DEPÓSITO (ALMACÉN)","06",{"$nulls":16358},"PUERTOS - INDUSTRIA (FABRICA)"]
[{"$nulls":18},"REDES DE PESCA\\INDUSTRIA (FÁBRICA)","REDES DE PESCA","INDUSTRIA (FÁBRICA)","07",{"$nulls":16358},"REDES DE PESCA - PUERTOS"]
[{"$nulls":18},"REDES DE PESCA\\OFICINA","REDES DE PESCA","OFICINA","02",{"$nulls":16358},"REDES DE PESCA - DEPOSITO (ALMACEN)"]
[{"$nulls":18},"RELOJERÍAS\\COMERCIO (VENTA)","RELOJERÍAS","COMERCIO (VENTA)","06",{"$nulls":16358},"REDES DE PESCA - COMERCIO (VENTA)"]
[{"$nulls":18},"RELOJERÍAS\\DEPÓSITO (ALMACÉN)","RELOJERÍAS","DEPÓSITO (ALMACÉN)","06",{"$nulls":16358},"REDES DE PESCA - OFICINA"]
[{"$nulls":18},"RESIDUOS / DESECHOS\\DEPÓSITO (ALMACÉN)","RESIDUOS / DESECHOS","DEPÓSITO (ALMACÉN)","06",{"$nulls":16358},"RELOJERiAS - INDUSTRIA (FABRICA)"]
[{"$nulls":18},"RESIDUOS / DESECHOS\\OFICINA","RESIDUOS / DESECHOS","OFICINA","02",{"$nulls":16358},"RELOJERiAS - COMERCIO (VENTA)"]
[{"$nulls":18},"RESTAURANTE\\RESTAURANTE","RESTAURANTE","RESTAURANTE","06",{"$nulls":16358},"RESIDUOS / DESECHOS - DEPOSITO (ALMACEN)"]
[{"$nulls":18},"SALÓN DE BELLEZA Y/O PELUQUERIA\\BELLEZA","SALÓN DE BELLEZA Y/O PELUQUERIA","BELLEZA","06",{"$nulls":16358},"RESIDUOS / DESECHOS - DEPOSITO (ALMACEN)"]
[{"$nulls":18},"SALÓN DE JUEGOS ELECTRÓNICOS\\SALÓN DE JUEGOS ELECTRÓNICOS","SALÓN DE JUEGOS ELECTRÓNICOS","SALÓN DE JUEGOS ELECTRÓNICOS","06",{"$nulls":16358},"RESTAURANTE - OFICINA"]
[{"$nulls":18},"SALONES DE JUEGO, APUESTAS\\CASINO","SALONES DE JUEGO, APUESTAS","CASINO","06",{"$nulls":16358},"SALÓN DE BELLEZA Y/O PELUQUERIA - RESTAURANTE"]
[{"$nulls":18},"SALONES DE JUEGO, APUESTAS\\LOTERIA","SALONES DE JUEGO, APUESTAS","LOTERIA","06",{"$nulls":16358},"SALÓN DE JUEGOS ELECTRÓNICOS - BELLEZA"]
[{"$nulls":18},"SALONES DE JUEGO, APUESTAS\\TRAGAMONEDAS","SALONES DE JUEGO, APUESTAS","TRAGAMONEDAS","06",{"$nulls":16358},"SALUD - SALON DE JUEGOS ELECTRONICOS"]
[{"$nulls":18},"SALUD\\CENTROS MÉDICOS","SALUD","CENTROS MÉDICOS","04",{"$nulls":16358},"SALUD - HOSPITALES"]
[{"$nulls":18},"SALUD\\CLÍNICAS","SALUD","CLÍNICAS","04",{"$nulls":16358},"SALUD - CLINICAS"]
[{"$nulls":18},"SALUD\\CONSULTORIOS","SALUD","CONSULTORIOS","04",{"$nulls":16358},"SALUD - POSTAS MEDICAS"]
[{"$nulls":18},"SALUD\\HOSPITALES","SALUD","HOSPITALES","04",{"$nulls":16358},"SALUD - CENTROS MEDICOS"]
[{"$nulls":18},"SALUD\\POSTAS MÉDICAS","SALUD","POSTAS MÉDICAS","04",{"$nulls":16358},"SANITARIO, MÁRMOL Y LAJA - CONSULTORIOS"]
[{"$nulls":18},"SANITARIO, MÁRMOL Y LAJA\\COMERCIO (VENTA)","SANITARIO, MÁRMOL Y LAJA","COMERCIO (VENTA)","06",{"$nulls":16358},"SANITARIO, MÁRMOL Y LAJA - DEPOSITO (ALMACEN)"]
[{"$nulls":18},"SANITARIO, MÁRMOL Y LAJA\\DEPÓSITO (ALMACÉN)","SANITARIO, MÁRMOL Y LAJA","DEPÓSITO (ALMACÉN)","06",{"$nulls":16358},"SANITARIO, MÁRMOL Y LAJA - COMERCIO (VENTA)"]
[{"$nulls":18},"SANITARIO, MÁRMOL Y LAJA\\INDUSTRIA (FÁBRICA)","SANITARIO, MÁRMOL Y LAJA","INDUSTRIA (FÁBRICA)","07",{"$nulls":16358},"SANITARIO, MÁRMOL Y LAJA - OFICINA"]
[{"$nulls":18},"SANITARIO, MÁRMOL Y LAJA\\OFICINA","SANITARIO, MÁRMOL Y LAJA","OFICINA","02",{"$nulls":16358},"SEGUROS - INDUSTRIA (FABRICA)"]
[{"$nulls":18},"SEGUROS\\AJUSTADOR DE SEGUROS","SEGUROS","AJUSTADOR DE SEGUROS","02",{"$nulls":16358},"SEGUROS - EMPRESA DE SEGUROS"]
[{"$nulls":18},"SEGUROS\\CORREDOR DE REASEGUROS","SEGUROS","CORREDOR DE REASEGUROS","02",{"$nulls":16358},"SEGUROS - CORREDOR DE SEGUROS"]
[{"$nulls":18},"SEGUROS\\CORREDOR DE SEGUROS","SEGUROS","CORREDOR DE SEGUROS","02",{"$nulls":16358},"SEGUROS - CORREDOR DE REASEGUROS"]
[{"$nulls":18},"SEGUROS\\EMPRESA DE SEGUROS","SEGUROS","EMPRESA DE SEGUROS","02",{"$nulls":16358},"SERVICIO DE TELECOMUNICACIÓN - AJUSTADOR DE SEGUROS"]
[{"$nulls":18},"SERVICIO DE TELECOMUNICACIÓN\\ANTENA","SERVICIO DE TELECOMUNICACIÓN","ANTENA","07",{"$nulls":16358},"SERVICIO DE TELECOMUNICACIÓN - DISTRIBUCION Y TRANSMISION DE DATOS"]
[{"$nulls":18},"SERVICIO DE TELECOMUNICACIÓN\\CENTRALES","SERVICIO DE TELECOMUNICACIÓN","CENTRALES","07",{"$nulls":16358},"SERVICIO DE TELECOMUNICACIÓN - DEPOSITO (ALMACEN)"]
[{"$nulls":18},"SERVICIO DE TELECOMUNICACIÓN\\DEPÓSITO (ALMACÉN)","SERVICIO DE TELECOMUNICACIÓN","DEPÓSITO (ALMACÉN)","06",{"$nulls":16358},"SERVICIO DE TELECOMUNICACIÓN - TALLER"]
[{"$nulls":18},"SERVICIO DE TELECOMUNICACIÓN\\DISTRIBUCIÓN Y TRANSMISIÓN DE DATOS","SERVICIO DE TELECOMUNICACIÓN","DISTRIBUCIÓN Y TRANSMISIÓN DE DATOS","07",{"$nulls":16358},"SERVICIO DE TELECOMUNICACIÓN - OFICINA"]
[{"$nulls":18},"SERVICIO DE TELECOMUNICACIÓN\\ESTACIÓN/ESTUDIO","SERVICIO DE TELECOMUNICACIÓN","ESTACIÓN/ESTUDIO","05",{"$nulls":16358},"SERVICIO DE TELECOMUNICACIÓN - CENTRALES"]
[{"$nulls":18},"SERVICIO DE TELECOMUNICACIÓN\\OFICINA","SERVICIO DE TELECOMUNICACIÓN","OFICINA","02",{"$nulls":16358},"SERVICIO DE TELECOMUNICACIÓN - ESTACION/ESTUDIO"]
[{"$nulls":18},"SERVICIO DE TELECOMUNICACIÓN\\TALLER","SERVICIO DE TELECOMUNICACIÓN","TALLER","05",{"$nulls":16358},"SERVICIO DE TELECOMUNICACIÓN - TRANSMISOR"]
[{"$nulls":18},"SERVICIO DE TELECOMUNICACIÓN\\TRANSMISOR","SERVICIO DE TELECOMUNICACIÓN","TRANSMISOR","07",{"$nulls":16358},"SERVICIOS FUNERARIOS - ANTENA"]
[{"$nulls":18},"SERVICIOS FUNERARIOS\\CEMENTERIO","SERVICIOS FUNERARIOS","CEMENTERIO","06",{"$nulls":16358},"SERVICIOS FUNERARIOS - FUNERARIA"]
[{"$nulls":18},"SERVICIOS FUNERARIOS\\FUNERARIA","SERVICIOS FUNERARIOS","FUNERARIA","06",{"$nulls":16358},"TABACO - CEMENTERIO"]
[{"$nulls":18},"TABACO\\COMERCIO (VENTA)","TABACO","COMERCIO (VENTA)","06",{"$nulls":16358},"TABACO - DEPOSITO (ALMACEN)"]
[{"$nulls":18},"TABACO\\DEPÓSITO (ALMACÉN)","TABACO","DEPÓSITO (ALMACÉN)","06",{"$nulls":16358},"TABACO - COMERCIO (VENTA)"]
[{"$nulls":18},"TABACO\\INDUSTRIA (FÁBRICA)","TABACO","INDUSTRIA (FÁBRICA)","07",{"$nulls":16358},"TABACO - OFICINA"]
[{"$nulls":18},"TABACO\\OFICINA","TABACO","OFICINA","02",{"$nulls":16358},"TAPICERiA EN GENERAL - INDUSTRIA (FABRICA)"]
[{"$nulls":18},"TAPICERÍA EN GENERAL\\TAPICERÍA","TAPICERÍA EN GENERAL","TAPICERÍA","05",{"$nulls":16358},"TELAS - TAPICERIA"]
[{"$nulls":18},"TELAS\\COMERCIO (VENTA)","TELAS","COMERCIO (VENTA)","06",{"$nulls":16358},"TELAS - DEPOSITO (ALMACEN)"]
[{"$nulls":18},"TELAS\\DEPÓSITO (ALMACÉN)","TELAS","DEPÓSITO (ALMACÉN)","06",{"$nulls":16358},"TELAS - COMERCIO (VENTA)"]
[{"$nulls":18},"TELAS\\OFICINA","TELAS","OFICINA","02",{"$nulls":16358},"TELEFONiA MÓVIL (CELULARES) - OFICINA"]
[{"$nulls":18},"TELEFONÍA MÓVIL (CELULARES)\\COMERCIO (VENTA)","TELEFONÍA MÓVIL (CELULARES)","COMERCIO (VENTA)","06",{"$nulls":16358},"TELEFONiA MÓVIL (CELULARES) - COMERCIO (VENTA)"]
[{"$nulls":18},"TELEFONÍA MÓVIL (CELULARES)\\DEPÓSITO (ALMACÉN)","TELEFONÍA MÓVIL (CELULARES)","DEPÓSITO (ALMACÉN)","06",{"$nulls":16358},"TELEFONiA MÓVIL (CELULARES) - DEPOSITO (ALMACEN)"]
[{"$nulls":18},"TELEFONÍA MÓVIL (CELULARES)\\OFICINA","TELEFONÍA MÓVIL (CELULARES)","OFICINA","02",{"$nulls":16358},"TELEFONiA MÓVIL (CELULARES) - TALLER"]
[{"$nulls":18},"TELEFONÍA MÓVIL (CELULARES)\\TALLER","TELEFONÍA MÓVIL (CELULARES)","TALLER","05",{"$nulls":16358},"TEXTIL - OFICINA"]
[{"$nulls":18},"TEXTIL\\COMERCIO (VENTA)","TEXTIL","COMERCIO (VENTA)","06",{"$nulls":16358},"TEXTIL - COMERCIO (VENTA)"]
[{"$nulls":18},"TEXTIL\\CONFECCIONES","TEXTIL","CONFECCIONES","06",{"$nulls":16358},"TEXTIL - DEPOSITO (ALMACEN)"]
[{"$nulls":18},"TEXTIL\\DEPÓSITO (ALMACÉN)","TEXTIL","DEPÓSITO (ALMACÉN)","06",{"$nulls":16358},"TEXTIL - TINTORERIA Y/O LAVANDERIA"]
[{"$nulls":18},"TEXTIL\\HILANDERÍA","TEXTIL","HILANDERÍA","07",{"$nulls":16358},"TEXTIL - OFICINA"]
[{"$nulls":18},"TEXTIL\\OFICINA","TEXTIL","OFICINA","02",{"$nulls":16358},"TEXTIL - CONFECCIONES"]
[{"$nulls":18},"TEXTIL\\TEJEDURÍA","TEXTIL","TEJEDURÍA","07",{"$nulls":16358},"TEXTIL - HILANDERIA"]
[{"$nulls":18},"TEXTIL\\TINTORERIA Y/O LAVANDERIA","TEXTIL","TINTORERIA Y/O LAVANDERIA","06",{"$nulls":16358},"TIENDAS POR DEPARTAMENTO - TEJEDURIA"]
[{"$nulls":18},"TIENDAS POR DEPARTAMENTO\\TIENDAS POR DEPARTAMENTO","TIENDAS POR DEPARTAMENTO","TIENDAS POR DEPARTAMENTO","06",{"$nulls":16358},"TINTA A BASE DE SOLVENTES O INFLAMABLES - TIENDAS POR DEPARTAMENTO"]
[{"$nulls":18},"TINTA A BASE DE SOLVENTES O INFLAMABLES\\COMERCIO (VENTA)","TINTA A BASE DE SOLVENTES O INFLAMABLES","COMERCIO (VENTA)","06",{"$nulls":16358},"TINTA A BASE DE SOLVENTES O INFLAMABLES - COMERCIO (VENTA)"]
[{"$nulls":18},"TINTA A BASE DE SOLVENTES O INFLAMABLES\\INDUSTRIA (FÁBRICA)","TINTA A BASE DE SOLVENTES O INFLAMABLES","INDUSTRIA (FÁBRICA)","07",{"$nulls":16358},"TINTA A BASE DE SOLVENTES O INFLAMABLES - OFICINA"]
[{"$nulls":18},"TINTA A BASE DE SOLVENTES O INFLAMABLES\\OFICINA","TINTA A BASE DE SOLVENTES O INFLAMABLES","OFICINA","02",{"$nulls":16358},"SALONES DE JUEGO, APUESTAS - INDUSTRIA (FABRICA)"]
[{"$nulls":18},"TRANSPORTE DE CARGA\\OFICINA","TRANSPORTE DE CARGA","OFICINA","02",{"$nulls":16358},"TRANSPORTE DE CARGA - TRAGAMONEDAS"]
[{"$nulls":18},"TRANSPORTE DE CARGA\\TERMINAL TERRESTRE","TRANSPORTE DE CARGA","TERMINAL TERRESTRE","06",{"$nulls":16358},"TRANSPORTE DE CARGA - OFICINA"]
[{"$nulls":18},"TRANSPORTE DE VALORES (CUSTODIA)\\OFICINA","TRANSPORTE DE VALORES (CUSTODIA)","OFICINA","02",{"$nulls":16358},"TRANSPORTE DE VALORES (CUSTODIA) - TERMINAL TERRESTRE"]
[{"$nulls":18},"TRANSPORTE DE VALORES (CUSTODIA)\\TRANSPORTE DE VALORES (CUSTODIA)","TRANSPORTE DE VALORES (CUSTODIA)","TRANSPORTE DE VALORES (CUSTODIA)","06",{"$nulls":16358},"TRANSPORTE DE VALORES (CUSTODIA) - TRANSPORTE DE VALORES (CUSTODIA)"]
[{"$nulls":18},"TRANSPORTE PÚBLICO Y PRIVADO DE PASAJEROS\\OFICINA","TRANSPORTE PÚBLICO Y PRIVADO DE PASAJEROS","OFICINA","02",{"$nulls":16358},"TRANSPORTE PÚBLICO Y PRIVADO DE PASAJEROS - OFICINA"]
[{"$nulls":18},"TRANSPORTE PÚBLICO Y PRIVADO DE PASAJEROS\\TERMINAL TERRESTRE","TRANSPORTE PÚBLICO Y PRIVADO DE PASAJEROS","TERMINAL TERRESTRE","06",{"$nulls":16358},"TRANSPORTE PÚBLICO Y PRIVADO DE PASAJEROS - OFICINA"]
[{"$nulls":18},"VALE PARKING\\VALE PARKING","VALE PARKING","VALE PARKING","06",{"$nulls":16358},"VALE PARKING - TERMINAL TERRESTRE"]
[{"$nulls":18},"VEHÍCULOS Y/O AUTOMÓVILES\\AUTOBOUTIQUE, REPUESTOS Y/O ACCESORIOS","VEHÍCULOS Y/O AUTOMÓVILES","AUTOBOUTIQUE, REPUESTOS Y/O ACCESORIOS","05",{"$nulls":16358},"VEHiCULOS Y/O AUTOMÓVILES - VALE PARKING"]
[{"$nulls":18},"VEHÍCULOS Y/O AUTOMÓVILES\\DEPÓSITO (ALMACÉN)","VEHÍCULOS Y/O AUTOMÓVILES","DEPÓSITO (ALMACÉN)","06",{"$nulls":16358},"VEHiCULOS Y/O AUTOMÓVILES - TALLER"]
[{"$nulls":18},"VEHÍCULOS Y/O AUTOMÓVILES\\TALLER","VEHÍCULOS Y/O AUTOMÓVILES","TALLER","05",{"$nulls":16358},"VEHiCULOS Y/O AUTOMÓVILES - AUTOBOUTIQUE, REPUESTOS Y/O ACCESORIOS"]
[{"$nulls":18},"VELAS\\COMERCIO (VENTA)","VELAS","COMERCIO (VENTA)","06",{"$nulls":16358},"VELAS - DEPOSITO (ALMACEN)"]
[{"$nulls":18},"VELAS\\DEPÓSITO (ALMACÉN)","VELAS","DEPÓSITO (ALMACÉN)","06",{"$nulls":16358},"VELAS - DEPOSITO (ALMACEN)"]
[{"$nulls":18},"VELAS\\INDUSTRIA (FÁBRICA)","VELAS","INDUSTRIA (FÁBRICA)","07",{"$nulls":16358},"VELAS - COMERCIO (VENTA)"]
[{"$nulls":18},"VELAS\\OFICINA","VELAS","OFICINA","02",{"$nulls":16358},"VELAS - OFICINA"]
[{"$nulls":18},"VENTA DE VEHÍCULOS, CONCESIONARIO\\CONCESIONARIO","VENTA DE VEHÍCULOS, CONCESIONARIO","CONCESIONARIO","06",{"$nulls":16358},"VENTA DE VEHiCULOS, CONCESIONARIO - INDUSTRIA (FABRICA)"]
[{"$nulls":18},"VENTA DE VEHÍCULOS, CONCESIONARIO\\OFICINA","VENTA DE VEHÍCULOS, CONCESIONARIO","OFICINA","02",{"$nulls":16358},"VENTA DE VEHiCULOS, CONCESIONARIO - CONCESIONARIO"]
[{"$nulls":18},"VENTA DE VEHÍCULOS, CONCESIONARIO\\TALLER","VENTA DE VEHÍCULOS, CONCESIONARIO","TALLER","05",{"$nulls":16358},"VENTA DE VEHiCULOS, CONCESIONARIO - TALLER"]
[{"$nulls":18},"VETERINARIA\\VETERINARIA","VETERINARIA","VETERINARIA","06",{"$nulls":16358},"VETERINARIA - OFICINA"]
[{"$nulls":18},"VÍAS, MEDIOS DE COMUNICACIÓN\\CARRETERAS","VÍAS, MEDIOS DE COMUNICACIÓN","CARRETERAS","11",{"$nulls":16358},"ViAS, MEDIOS DE COMUNICACIÓN - VETERINARIA"]
[{"$nulls":18},"VÍAS, MEDIOS DE COMUNICACIÓN\\FERROCARRILES","VÍAS, MEDIOS DE COMUNICACIÓN","FERROCARRILES","11",{"$nulls":16358},"ViAS, MEDIOS DE COMUNICACIÓN - OFICINA"]
[{"$nulls":18},"VÍAS, MEDIOS DE COMUNICACIÓN\\FUNICULAR","VÍAS, MEDIOS DE COMUNICACIÓN","FUNICULAR","11",{"$nulls":16358},"ViAS, MEDIOS DE COMUNICACIÓN - FUNICULAR"]
[{"$nulls":18},"VÍAS, MEDIOS DE COMUNICACIÓN\\OFICINA","VÍAS, MEDIOS DE COMUNICACIÓN","OFICINA","02",{"$nulls":16358},"ViAS, MEDIOS DE COMUNICACIÓN - CARRETERAS"]
[{"$nulls":18},"VÍAS, MEDIOS DE COMUNICACIÓN\\PUENTES","VÍAS, MEDIOS DE COMUNICACIÓN","PUENTES","11",{"$nulls":16358},"ViAS, MEDIOS DE COMUNICACIÓN - PUENTES"]
[{"$nulls":18},"VÍAS, MEDIOS DE COMUNICACIÓN\\RED FERROVIARIA","VÍAS, MEDIOS DE COMUNICACIÓN","RED FERROVIARIA","11",{"$nulls":16358},"ViAS, MEDIOS DE COMUNICACIÓN - TUNELES"]
[{"$nulls":18},"VÍAS, MEDIOS DE COMUNICACIÓN\\TÚNELES","VÍAS, MEDIOS DE COMUNICACIÓN","TÚNELES","11",{"$nulls":16358},"ViAS, MEDIOS DE COMUNICACIÓN - RED FERROVIARIA"]
[{"$nulls":18},"VIVERO\\VIVERO","VIVERO","VIVERO","07",{"$nulls":16358},"VIVERO - FERROCARRILES"]
[{"$nulls":18},"YESO, CAL\\COMERCIO (VENTA)","YESO, CAL","COMERCIO (VENTA)","06",{"$nulls":16358},"YESO, CAL - VIVERO"]
[{"$nulls":18},"YESO, CAL\\DEPÓSITO (ALMACÉN)","YESO, CAL","DEPÓSITO (ALMACÉN)","06",{"$nulls":16358},"YESO, CAL - COMERCIO (VENTA)"]
[{"$nulls":18},"YESO, CAL\\INDUSTRIA (FÁBRICA)","YESO, CAL","INDUSTRIA (FÁBRICA)","07",{"$nulls":16358},"YESO, CAL - DEPOSITO (ALMACEN)"]
[{"$nulls":18},"YESO, CAL\\OFICINA","YESO, CAL","OFICINA","02",{"$nulls":16358},"YESO, CAL - OFICINA"]

{"sheet":"DatosInfo","index":12,"n_rows":237,"n_cols":1,"rows_kept":237,"hidden":true}
["ABARROTES\\OFICINA"]
["ACEITE\\OFICINA"]
["ACUEDUCTOS Y/O CANALES DE RIEGO\\OFICINA"]
["ADMINISTRADORA DE FONDOS DE PENSIONES - AFP\\ADMINISTRADORA DE FONDOS DE PENSIONES - AFP"]
["AEROLINEA\\COUNTER"]
["AEROLINEA\\OFICINA"]
["AEROSOLES\\OFICINA"]
["AGENCIA DE BOLSA\\AGENCIA DE BOLSA"]
["AGENCIA DE CARGA Y/U OPERADOR LOGÍSTICO\\OFICINA"]
["AGENCIA DE EMPLEOS\\OFICINA"]
["AGENCIA DE PUBLICIDAD\\OFICINA"]
["AGENCIA DE VIAJES Y/O TURISMO\\AGENCIA DE VIAJES Y/O TURISMO"]
["AGENCIA DE VIAJES Y/O TURISMO\\COUNTER"]
["ALAMBRES, CABLES Y CONDUCTORES ELÈCTRICOS\\OFICINA"]
["ALCOHOL\\OFICINA"]
["ALFOMBRAS Y/O TAPICES\\OFICINA"]
["ALGODÓN\\OFICINA"]
["ALIMENTOS\\OFICINA"]
["ALMACENES GENERALES\\OFICINA"]
["ARMAS DE FUEGO Y/O MUNICIONES\\OFICINA"]
["ARTÍCULOS DE LIMPIEZA E HIGIENE\\OFICINA"]
["ARTÍCULOS DE METAL\\OFICINA"]
["ARTÍCULOS ELECTRODOMÉSTICOS\\OFICINA"]
["ASBESTO\\OFICINA"]
["ASCENSORES\\OFICINA"]
["ASTILLEROS\\OFICINA"]
["AUTOMOTORES, PLANTA DE ENSAMBLAJE\\OFICINA"]
["BARNICES Y/O SOLVENTES\\OFICINA"]
["BATERÍAS\\OFICINA"]
["BEBIDAS (NO ALCOHÓLICAS, GASIFICADAS)\\OFICINA"]
["BICICLETAS\\OFICINA"]
["BIOCOMBUSTIBLE\\OFICINA"]
["BISUTERIA\\OFICINA"]
["CAFÉ Y DERIVADOS DEL CACAO\\OFICINA"]
["CALZADO, ZAPATOS , ZAPATILLAS\\OFICINA"]
["CARBÓN Y NEGRO DE HUMO\\OFICINA"]
["CAUCHO\\OFICINA"]
["CEMENTO, CONCRETO Y SIMILARES\\OFICINA"]
["CENTROS DE EDUCACIÓN\\OFICINA"]
["CERÁMICOS,PORCELANAS Y SIMILARES\\OFICINA"]
["CERVECERÍAS Y/O MALTERÍAS\\OFICINA"]
["CINTAS ADHESIVAS Y/O ETIQUETAS AUTOADHESIVAS\\OFICINA"]
["CLUBES Y/O CENTROS DE ESPARCIMIENTO\\OFICINA"]
["COLCHONES, ESPUMAS, ALMOHADAS Y AFINES\\OFICINA"]
["COMPUTADORAS (EQUIPOS Y/O SUMINISTRO)\\OFICINA"]
["CONSULTORIA Y ASESORAMIENTO\\OFICINA"]
["CONTRATISTA CONSTRUCTOR\\OFICINA"]
["CONTRATISTA MINERO\\OFICINA"]
["COOP. DE AHORRO Y CREDITO\\ENTIDADES FINANCIERAS"]
["COOPERATIVA DE TRABAJO\\ENTIDADES FINANCIERAS"]
["CORREO - SERVICIO POSTAL\\COMUNICACIÓN Y CORREO"]
["CORREO - SERVICIO POSTAL\\OFICINA"]
["COSMÉTICOS Y PRODUCTOS DE BELLEZA\\OFICINA"]
["CRISTAL Y VIDRIO\\OFICINA"]
["CUERO, CURTIEMBRE, CURTIDURÍA\\OFICINA"]
["CUERO Y ARTICULOS DE\\OFICINA"]
["DEPENDENCIAS GUBERNAMENTALES\\OFICINA"]
["DESALINIZACIÓN\\OFICINA"]
["DESTILERÍA\\OFICINA"]
["DETERGENTES\\OFICINA"]
["DISCOS Y/O CINTAS Y/O CASSETTES Y/O AFINES\\OFICINA"]
["DULCES Y/O GOLOSINAS Y/O CONFITERÍA\\OFICINA"]
["EDITORAS, DIARIOS Y REVISTAS\\EDITORA"]
["EDITORAS, DIARIOS Y REVISTAS\\OFICINA"]
["EMPRESA DE COBRANZA\\EMPRESA DE COBRANZA"]
["EMPRESA DE LIMPIEZA Y MANTENIMIENTO\\OFICINA"]
["EMPRESA DE VIGILANCIA Y SEGURIDAD\\OFICINA"]
["ENERGÍA\\OFICINA"]
["ENVASADORA, CONSERVADORA\\OFICINA"]
["EQUIPO MÉDICO\\OFICINA"]
["EQUIPOS ELECTRÓNICOS\\OFICINA"]
["ESTUDIO FOTOGRAFICO\\OFICINA"]
["ESTUDIOS JURÍDICOS, ABOGADOS\\OFICINA"]
["EXPLOSIVOS\\OFICINA"]
["FARMACIAS Y/O BOTICAS\\OFICINA"]
["FERRETERÍA\\OFICINA"]
["FERTILIZANTES\\OFICINA"]
["FINANCIERAS\\BANCO"]
["FINANCIERAS\\BOLSA DE VALORES"]
["FINANCIERAS\\CAJAS DE AHORRO Y PRESTAMO"]
["FINANCIERAS\\CAJAS RURALES"]
["FINANCIERAS\\COOPERATIVAS"]
["FINANCIERAS\\EDPYMES"]
["FINANCIERAS\\ENTIDADES FINANCIERAS"]
["FINANCIERAS\\MUTUALES/PRESTAMISTAS"]
["FOSFORERIA\\OFICINA"]
["FOTOCOPIADORAS\\OFICINA"]
["FRIGORÍFICO\\OFICINA"]
["FUEGOS ARTIFICIALES Y ARTEFACTOS PIROTÉCNICOS\\OFICINA"]
["FUMIGACIÓN\\OFICINA"]
["FUNDO AGRÍCOLA, HACIENDAS\\OFICINA"]
["FUNGICIDAS,INSECTICIDAS,HERBICIDAS,PESTICIDAS\\OFICINA"]
["GAS LÍCUADO DE PETRÓLEO\\OFICINA"]
["GAS NATURAL\\OFICINA"]
["GASES INDUSTRIALES\\OFICINA"]
["GRANJAS Y/O AVÍCOLAS Y/O ESTABLOS\\OFICINA"]
["GRANOS\\OFICINA"]
["HARINA Y/O ACEITE DE PESCADO\\OFICINA"]
["HELADOS\\OFICINA"]
["HIELO\\OFICINA"]
["HORTALIZAS Y FRUTAS\\OFICINA"]
["INDUSTRIA GRÁFICA, IMPRENTA\\OFICINA"]
["INGENIO AZUCARERO\\OFICINA"]
["INMOBILIARIA\\OFICINA"]
["JOYERÍA\\OFICINA"]
["JUGUETERÍA\\OFICINA"]
["LABORATORIO\\OFICINA"]
["LÁCTEOS\\OFICINA"]
["LADRILLOS\\OFICINA"]
["LANGOSTINERAS / CRIADERO DE LANGOSTINOS\\OFICINA"]
["LEVADURA\\OFICINA"]
["LIBRERÍA (SÓLO LIBROS, REVISTAS)\\OFICINA"]
["LICORERÍA\\OFICINA"]
["LLANTAS\\OFICINA"]
["LUBRICANTES\\OFICINA"]
["MADERA Y/O AGLOMERADOS Y/O SIMILARES\\OFICINA"]
["MAQUINARIA, EQUIPOS, REPUESTOS\\OFICINA"]
["MATERIALES DE CONSTRUCCIÓN\\OFICINA"]
["MECHAS\\OFICINA"]
["METALMECÁNICA\\OFICINA"]
["MINERÍA\\OFICINA"]
["MOLINERA\\OFICINA"]
["NITROCELULOSA\\OFICINA"]
["NOTARÍA\\OFICINA"]
["ORFEBRERÍA (JOYAS, PLATERÍA)\\OFICINA"]
["ORGANISMO NO GUBERNAMENTAL\\OFICINA"]
["OSMOSIS, PLANTAS DE INVERSIÒN\\OFICINA"]
["PANIFICACIÓN\\OFICINA"]
["PAPEL Y CARTÓN\\OFICINA"]
["PARQUES DE DIVERSIONES\\OFICINA"]
["PEGAMENTOS\\OFICINA"]
["PELETERIAS (CONFECCIÓN PRENDAS EN CUERO)\\OFICINA"]
["PELÍCULAS (EXCLUYENDO NITRATO DE CELULOSA)\\OFICINA"]
["PETRÓLEO Y SUS DERIVADOS\\OFICINA"]
["PINTURAS Y/O TINTES AL AGUA Y/O NATURALES\\OFICINA"]
["PINTURAS Y/O TINTES COMBUSTIBLES / INFLAMABLES\\OFICINA"]
["PISCIGRANJAS / CRIADERO DE PECES\\OFICINA"]
["PLÁSTICOS, MATERIALES SINTETICOS, JEBES\\OFICINA"]
["PRODUCTOS FARMACÉUTICOS\\OFICINA"]
["PRODUCTOS/INSUMOS QUÍMICOS PARA LA INDUSTRIA\\OFICINA"]
["REDES DE PESCA\\OFICINA"]
["RESIDUOS / DESECHOS\\OFICINA"]
["SANITARIO, MÁRMOL Y LAJA\\OFICINA"]
["SEGUROS\\AJUSTADOR DE SEGUROS"]
["SEGUROS\\CORREDOR DE REASEGUROS"]
["SEGUROS\\CORREDOR DE SEGUROS"]
["SEGUROS\\EMPRESA DE SEGUROS"]
["SERVICIO DE TELECOMUNICACIÓN\\OFICINA"]
["TABACO\\OFICINA"]
["TELAS\\OFICINA"]
["TELEFONÍA MÓVIL (CELULARES)\\OFICINA"]
["TEXTIL\\OFICINA"]
["TINTA A BASE DE SOLVENTES O INFLAMABLES\\OFICINA"]
["TRANSPORTE DE CARGA\\OFICINA"]
["TRANSPORTE DE VALORES (CUSTODIA)\\OFICINA"]
["TRANSPORTE PÚBLICO Y PRIVADO DE PASAJEROS\\OFICINA"]
["VELAS\\OFICINA"]
["VENTA DE VEHÍCULOS, CONCESIONARIO\\OFICINA"]
["VÍAS, MEDIOS DE COMUNICACIÓN\\OFICINA"]
["YESO, CAL\\OFICINA"]
["MADERA Y/O AGLOMERADOS Y/O SIMILARES\\DEPÓSITO (ALMACÉN)"]
["MAQUINARIA, EQUIPOS, REPUESTOS\\COMERCIO (VENTA)"]
["MAQUINARIA, EQUIPOS, REPUESTOS\\DEPÓSITO (ALMACÉN)"]
["MATERIALES DE CONSTRUCCIÓN\\COMERCIO (VENTA)"]
["MATERIALES DE CONSTRUCCIÓN\\DEPÓSITO (ALMACÉN)"]
["MERCADOS, SUPERMERCADOS E HIPERMERCADOS\\MERCADOS, SUPERMERCADOS E HIPERMERCADOS"]
["METALMECÁNICA\\DEPÓSITO (ALMACÉN)"]
["MINERÍA\\DEPÓSITO (ALMACÉN)"]
["MOLINERA\\DEPÓSITO (ALMACÉN)"]
["MUEBLES, PARA EL HOGAR, METÁLICOS SIN TAPIZADO\\COMERCIO (VENTA)"]
["NITROCELULOSA\\COMERCIO (VENTA)"]
["NITROCELULOSA\\DEPÓSITO (ALMACÉN)"]
["OPTICAS\\OPTICAS"]
["ORFEBRERÍA (JOYAS, PLATERÍA)\\COMERCIO (VENTA)"]
["ORFEBRERÍA (JOYAS, PLATERÍA)\\DEPÓSITO (ALMACÉN)"]
["OSMOSIS, PLANTAS DE INVERSIÒN\\COMERCIO (VENTA)"]
["OSMOSIS, PLANTAS DE INVERSIÒN\\DEPÓSITO (ALMACÉN)"]
["PANIFICACIÓN\\DEPÓSITO (ALMACÉN)"]
["PAPEL Y CARTÓN\\COMERCIO (VENTA)"]
["PAPEL Y CARTÓN\\DEPÓSITO (ALMACÉN)"]
["PASAMANERÍA - AVIOS TEXTILES\\COMERCIO (VENTA)"]
["PEGAMENTOS\\DEPÓSITO (ALMACÉN)"]
["PELETERIAS (CONFECCIÓN PRENDAS EN CUERO)\\COMERCIO (VENTA)"]
["PELETERIAS (CONFECCIÓN PRENDAS EN CUERO)\\DEPÓSITO (ALMACÉN)"]
["PELUQUERIA\\BELLEZA"]
["PETRÓLEO Y SUS DERIVADOS\\COMERCIO (VENTA)"]
["PINTURAS Y/O TINTES AL AGUA Y/O NATURALES\\COMERCIO (VENTA)"]
["PINTURAS Y/O TINTES AL AGUA Y/O NATURALES\\DEPÓSITO (ALMACÉN)"]
["PINTURAS Y/O TINTES COMBUSTIBLES / INFLAMABLES\\COMERCIO (VENTA)"]
["PINTURAS Y/O TINTES COMBUSTIBLES / INFLAMABLES\\DEPÓSITO (ALMACÉN)"]
["PLÁSTICOS, MATERIALES SINTETICOS, JEBES\\COMERCIO (VENTA)"]
["PLÁSTICOS, MATERIALES SINTETICOS, JEBES\\DEPÓSITO (ALMACÉN)"]
["PLAYA DE ESTACIONAMIENTO\\PLAYA DE ESTACIONAMIENTO"]
["PRENDAS DE VESTIR - BOUTIQUE\\PRENDAS DE VESTIR - BOUTIQUE"]
["PRODUCTOS FARMACÉUTICOS\\COMERCIO (VENTA)"]
["PRODUCTOS FARMACÉUTICOS\\DEPÓSITO (ALMACÉN)"]
["PRODUCTOS/INSUMOS QUÍMICOS PARA LA INDUSTRIA\\COMERCIO (VENTA)"]
["PRODUCTOS/INSUMOS QUÍMICOS PARA LA INDUSTRIA\\DEPÓSITO (ALMACÉN)"]
["REDES DE PESCA\\COMERCIO (VENTA)"]
["REDES DE PESCA\\DEPÓSITO (ALMACÉN)"]
["RELOJERÍAS\\COMERCIO (VENTA)"]
["RELOJERÍAS\\DEPÓSITO (ALMACÉN)"]
["RESIDUOS / DESECHOS\\DEPÓSITO (ALMACÉN)"]
["RESTAURANTE\\RESTAURANTE"]
["SALÓN DE BELLEZA Y/O PELUQUERIA\\BELLEZA"]
["SALÓN DE JUEGOS ELECTRÓNICOS\\SALÓN DE JUEGOS ELECTRÓNICOS"]
["SALONES DE JUEGO, APUESTAS\\CASINO"]
["SALONES DE JUEGO, APUESTAS\\LOTERIA"]
["SALONES DE JUEGO, APUESTAS\\TRAGAMONEDAS"]
["SANITARIO, MÁRMOL Y LAJA\\COMERCIO (VENTA)"]
["SANITARIO, MÁRMOL Y LAJA\\DEPÓSITO (ALMACÉN)"]
["SERVICIO DE TELECOMUNICACIÓN\\DEPÓSITO (ALMACÉN)"]
["SERVICIOS FUNERARIOS\\CEMENTERIO"]
["SERVICIOS FUNERARIOS\\FUNERARIA"]
["TABACO\\COMERCIO (VENTA)"]
["TABACO\\DEPÓSITO (ALMACÉN)"]
["TELAS\\COMERCIO (VENTA)"]
["TELAS\\DEPÓSITO (ALMACÉN)"]
["TELEFONÍA MÓVIL (CELULARES)\\COMERCIO (VENTA)"]
["TELEFONÍA MÓVIL (CELULARES)\\DEPÓSITO (ALMACÉN)"]
["TEXTIL\\COMERCIO (VENTA)"]
["TEXTIL\\CONFECCIONES"]
["TEXTIL\\DEPÓSITO (ALMACÉN)"]
["TEXTIL\\TINTORERIA Y/O LAVANDERIA"]
["TIENDAS POR DEPARTAMENTO\\TIENDAS POR DEPARTAMENTO"]
["TINTA A BASE DE SOLVENTES O INFLAMABLES\\COMERCIO (VENTA)"]
["TRANSPORTE DE CARGA\\TERMINAL TERRESTRE"]
["TRANSPORTE DE VALORES (CUSTODIA)\\TRANSPORTE DE VALORES (CUSTODIA)"]
["TRANSPORTE PÚBLICO Y PRIVADO DE PASAJEROS\\TERMINAL TERRESTRE"]
["VALE PARKING\\VALE PARKING"]
["VEHÍCULOS Y/O AUTOMÓVILES\\DEPÓSITO (ALMACÉN)"]
["VELAS\\COMERCIO (VENTA)"]
["VELAS\\DEPÓSITO (ALMACÉN)"]
["VENTA DE VEHÍCULOS, CONCESIONARIO\\CONCESIONARIO"]
["VETERINARIA\\VETERINARIA"]
["YESO, CAL\\COMERCIO (VENTA)"]
["YESO, CAL\\DEPÓSITO (ALMACÉN)"]